{"text_format":"1","workbook":"xlsx","n_sheets":9,"sheets":["Brief","Sklep - szczegóły","Istotne dane","Dostępy i kody","Dodatkowe usługi","Harmonogram","Kalkulacja","Podświetlanie modułów","Kalendarz"],"not_rendered":{"charts":0,"images":3,"macros":1,"external_links":0,"defined_names":1,"comments":1,"pivot_tables":0},"unopened":[],"bounds":{"document_bytes":16777216,"sheet_cells":100000,"rows_first":2000,"rows_last":500,"rows_between":2000,"halvings":0,"cell_chars":16384,"cell_head_chars":4096},"cells_cut":0,"cells_raw":0,"read":"whole","date_system":"1900"}

{"sheet":"Brief","index":0,"n_rows":528,"n_cols":33,"rows_kept":528,"cut":false,"hidden":false,"merged":[[483,6,483,7],[249,6,249,7],[101,6,101,10],[103,6,103,10],[105,6,105,10],[107,6,107,10],[109,6,109,10],[140,6,140,10],[144,6,144,10],[148,6,148,10],[152,6,152,10],[158,6,158,10],[160,6,160,10],[162,6,162,10],[164,6,164,10],[166,6,166,10],[168,6,168,10],[170,6,170,10],[172,6,172,10],[174,6,174,10],[176,6,176,10],[178,6,178,10],[142,6,142,10],[146,6,146,10],[523,1,523,3],[523,8,523,10],[522,1,522,3],[526,1,526,3],[526,8,526,10],[527,1,527,3],[527,8,527,10],[524,1,524,3],[524,8,524,10],[525,1,525,3],[525,8,525,10],[523,4,523,7],[524,4,524,7],[525,4,525,7],[527,4,527,7],[526,4,526,7],[518,1,518,3],[518,4,518,10],[519,1,519,10],[520,1,520,3],[520,4,520,10],[521,1,521,3],[521,4,521,10],[522,8,522,10],[522,4,522,7],[2,1,2,10],[3,1,3,3],[4,1,4,3],[3,4,3,10],[4,4,4,10],[12,4,12,10],[10,4,10,10],[516,1,516,10],[517,1,517,3],[517,4,517,10],[30,1,32,3],[513,1,514,6],[83,4,83,8],[82,1,82,10],[14,7,14,9],[15,7,15,9],[16,7,16,9],[17,7,17,9],[18,7,18,9],[19,7,19,9],[20,7,20,9],[9,4,9,10],[13,1,13,10],[9,1,9,3],[21,7,21,9],[22,7,22,9],[23,7,23,9],[24,7,24,9],[25,7,25,9],[10,1,10,3],[11,1,11,10],[12,1,12,3],[5,1,5,10],[6,1,6,3],[7,1,7,3],[8,1,8,10],[6,4,6,10],[7,4,7,10],[31,7,31,9],[32,7,32,9],[33,7,33,9],[34,7,34,9],[35,7,35,9],[26,7,26,9],[27,7,27,9],[28,7,28,9],[29,7,29,9],[30,7,30,9],[41,7,41,9],[42,7,42,9],[43,7,43,9],[44,7,44,9],[45,7,45,9],[36,7,36,9],[37,7,37,9],[38,7,38,9],[39,7,39,9],[40,7,40,9],[51,7,51,9],[52,7,52,9],[53,7,53,9],[54,7,54,9],[55,7,55,9],[46,7,46,9],[47,7,47,9],[48,7,48,9],[49,7,49,9],[50,7,50,9],[61,7,61,9],[62,7,62,9],[63,7,63,9],[64,7,64,9],[65,7,65,9],[56,7,56,9],[57,7,57,9],[58,7,58,9],[59,7,59,9],[60,7,60,9],[71,7,71,9],[72,7,72,9],[73,7,73,9],[74,7,74,9],[75,7,75,9],[66,7,66,9],[67,7,67,9],[68,7,68,9],[69,7,69,9],[70,7,70,9],[150,6,150,10],[154,6,154,10],[156,6,156,10],[81,7,81,9],[76,7,76,9],[77,7,77,9],[78,7,78,9],[79,7,79,9],[80,7,80,9]]}
[null,null,"   Brief",null,null,null,"   Strona internetowa"]
[]
[null,"Działalność firmy"]
[null,"Opisz krótko charakterystykę  firmy. "]
[null,"Co oferujecie klientom?"]
[null,"Grupa docelowa"]
[null,"Kto jest docelowym odbiorcą usług/produktów?"]
[null,"Co jest najważniejsze dla Twoich klientów?"]
[null,"Konkurencja"]
[null,"Kto jest Twoją konkurencją? "]
[null,"Czy czymś się wyróżniacie? (klienci Was chwalą za coś?)\nCzym chcecie się wyróżnić?"]
[null,"Strona www"]
[null,"Czy na kimś mamy się wzorować? Podaj przykłady firm i strony www."]
[null,"Struktura stron",null,null,null,null,null,null,null,null,null,null,"Wartość checkboxa","Wartość liczbowa checkboxa"]
[null,null,null,null,null,null,"Strona główna","notatka",null,null,null,null,false,{"$f":"M15*1","v":0}]
[null,null,null,null,null,null,"O nas",null,null,null,null,null,false,{"$f":"M16*1","v":0}]
[null,null,null,null,null,null,"Historia",null,null,null,null,null,false,0]
[null,null,null,null,null,null,"Zespół",null,null,null,null,null,false,0]
[null,null,null,null,null,null,"Współpraca",null,null,null,null,null,false,0]
[null,null,null,null,null,null,"Misja",null,null,null,null,null,false,0]
[null,null,null,null,null,null,"Wartości",null,null,null,null,null,false,0]
[null,null,null,null,null,null,"Aktualności",null,null,null,null,null,false,0]
[null,null,null,null,null,null,"Blog",null,null,null,null,null,false,0]
[null,null,null,null,null,null,"Porady",null,null,null,null,null,false,0]
[null,null,null,null,null,null,"Przepisy",null,null,null,null,null,false,0]
[null,null,null,null,null,null,"Akademia",null,null,null,null,null,false,0]
[null,null,null,null,null,null,"Publikacje",null,null,null,null,null,false,0]
[null,null,null,null,null,null,"Oferta",null,null,null,null,null,false,0]
[null,null,null,null,null,null,"Produkty",null,null,null,null,null,false,0]
[null,null,null,null,null,null,"Usługi",null,null,null,null,null,false,0]
[null,"Wpisz listę zakładek (podstron), które chcesz mieć?",null,null,null,null,"Cennik",null,null,null,null,null,false,0]
[null,null,null,null,null,null,"Gdzie kupię",null,null,null,null,null,false,0]
[null,null,null,null,null,null,"Serwis",null,null,null,null,null,false,0]
[null,null,null,null,null,null,"Gwarancja",null,null,null,null,null,false,0]
[null,null,null,null,null,null,"Galeria",null,null,null,null,null,false,0]
[null,null,null,null,null,null,"Realizacje",null,null,null,null,null,false,0]
[null,null,null,null,null,null,"Case study",null,null,null,null,null,false,0]
[null,null,null,null,null,null,"Inspiracje",null,null,null,null,null,false,0]
[null,null,null,null,null,null,"Projekty",null,null,null,null,null,false,0]
[null,null,null,null,null,null,"Technologie",null,null,null,null,null,false,0]
[null,null,null,null,null,null,"Opinie / Referencje",null,null,null,null,null,false,0]
[null,null,null,null,null,null,"Do pobrania",null,null,null,null,null,false,0]
[null,null,null,null,null,null,"Kariera / Oferty pracy",null,null,null,null,null,false,0]
[null,null,null,null,null,null,"Kontakt",null,null,null,null,null,false,0]
[null,null,null,null,null,{"$f":"IF(ISBLANK(G45),\" Uzupełnij samodzielnie\",\"\")","v":" Uzupełnij samodzielnie"},null,null,null,null,null,null,{"$f":"ISBLANK(G45)","v":true},{"$f":"IF(M45*1=1,0,1)","v":0}]
[null,null,null,null,null,{"$f":"IF(ISBLANK(G46),\" Uzupełnij samodzielnie\",\"\")","v":" Uzupełnij samodzielnie"},null,null,null,null,null,null,true,{"$f":"IF(M46*1=1,0,1)","v":0}]
[null,null,null,null,null,{"$f":"IF(ISBLANK(G47),\" Uzupełnij samodzielnie\",\"\")","v":" Uzupełnij samodzielnie"},null,null,null,null,null,null,true,{"$f":"IF(M47*1=1,0,1)","v":0}]
[null,null,null,null,null,{"$f":"IF(ISBLANK(G48),\" Uzupełnij samodzielnie\",\"\")","v":" Uzupełnij samodzielnie"},null,null,null,null,null,null,true,{"$f":"IF(M48*1=1,0,1)","v":0}]
[null,null,null,null,null,{"$f":"IF(ISBLANK(G49),\" Uzupełnij samodzielnie\",\"\")","v":" Uzupełnij samodzielnie"},null,null,null,null,null,null,true,{"$f":"IF(M49*1=1,0,1)","v":0}]
[null,null,null,null,null,{"$f":"IF(ISBLANK(G50),\" Uzupełnij samodzielnie\",\"\")","v":" Uzupełnij samodzielnie"},null,null,null,null,null,null,true,{"$f":"IF(M50*1=1,0,1)","v":0}]
[null,null,null,null,null," Uzupełnij samodzielnie",null,null,null,null,null,null,true,0]
[null,null,null,null,null," Uzupełnij samodzielnie",null,null,null,null,null,null,true,0]
[null,null,null,null,null," Uzupełnij samodzielnie",null,null,null,null,null,null,true,0]
[null,null,null,null,null," Uzupełnij samodzielnie",null,null,null,null,null,null,true,0]
[null,null,null,null,null," Uzupełnij samodzielnie",null,null,null,null,null,null,true,0]
[null,null,null,null,null," Uzupełnij samodzielnie",null,null,null,null,null,null,true,0]
[null,null,null,null,null," Uzupełnij samodzielnie",null,null,null,null,null,null,true,0]
[null,null,null,null,null," Uzupełnij samodzielnie",null,null,null,null,null,null,true,0]
[null,null,null,null,null," Uzupełnij samodzielnie",null,null,null,null,null,null,true,0]
[null,null,null,null,null," Uzupełnij samodzielnie",null,null,null,null,null,null,true,0]
[null,null,null,null,null," Uzupełnij samodzielnie",null,null,null,null,null,null,true,0]
[null,null,null,null,null," Uzupełnij samodzielnie",null,null,null,null,null,null,true,0]
[null,null,null,null,null," Uzupełnij samodzielnie",null,null,null,null,null,null,true,0]
[null,null,null,null,null," Uzupełnij samodzielnie",null,null,null,null,null,null,true,0]
[null,null,null,null,null," Uzupełnij samodzielnie",null,null,null,null,null,null,true,0]
[null,null,null,null,null," Uzupełnij samodzielnie",null,null,null,null,null,null,true,0]
[null,null,null,null,null," Uzupełnij samodzielnie",null,null,null,null,null,null,true,0]
[null,null,null,null,null," Uzupełnij samodzielnie",null,null,null,null,null,null,true,0]
[null,null,null,null,null," Uzupełnij samodzielnie",null,null,null,null,null,null,true,0]
[null,null,null,null,null," Uzupełnij samodzielnie",null,null,null,null,null,null,true,0]
[null,null,null,null,null," Uzupełnij samodzielnie",null,null,null,null,null,null,true,0]
[null,null,null,null,null," Uzupełnij samodzielnie",null,null,null,null,null,null,true,0]
[null,null,null,null,null," Uzupełnij samodzielnie",null,null,null,null,null,null,true,0]
[null,null,null,null,null," Uzupełnij samodzielnie",null,null,null,null,null,null,true,0]
[null,null,null,null,null," Uzupełnij samodzielnie",null,null,null,null,null,null,true,0]
[null,null,null,null,null," Uzupełnij samodzielnie",null,null,null,null,null,null,true,0]
[null,null,null,null,null," Uzupełnij samodzielnie",null,null,null,null,null,null,true,0]
[null,null,null,null,null," Uzupełnij samodzielnie",null,null,null,null,null,null,true,0]
[null,null,null,null,null," Uzupełnij samodzielnie",null,null,null,null,null,null,true,0]
[null,null,null,null,null," Uzupełnij samodzielnie",null,null,null,null,null,null,true,0]
[null,null,null,null,null," Uzupełnij samodzielnie",null,null,null,null,null,null,true,0]
[null,null,null,null,null," Uzupełnij samodzielnie",null,null,null,null,null,null,true,0]
[null,"Funkcjonalności",null,null,null,null,null,null,null,null,null,null,null,null,null,null,null,null,null,null,null,null,null,null,null,null,null,null,null,null,null,"podświetlenie podstawy"]
[null,"Wybierz moduły:",null,null,"Nazwa modułu lub usługi",null,null,null,null,"Ilość",{"$f":"IF(Kalkulacja!$F$2=\"x\",\"Cena\",\"\")","v":""},null,"Wartość checkboxa","Powiązanie z podstronami","Wyświetlanie","Makro","Pozycja",null,null,"Drop-down menu","Preferowana opcja","Podświetlenie podstawy",null,null,null,null,null,null,null,null,null,"wszystkie moduły","ukryte moduły"]
[null,null,null,null,{"$f":"Kalkulacja!H3","v":"Materiały"},null,null,null,null,null,null,null,null,null,{"$f":"IF(COUNTIF(O86:O98,\"x\")>0,\"x\",0)","v":0},{"$f":"IF(O85=\"x\",\"TRUE\",\"FALSE\")","v":"FALSE"},{"$f":"MATCH(E85,Kalkulacja!$H$1:$H$459,0)","v":3},null,null,{"$f":"U85","v":0},null,{"$f":"AG85","v":0},null,null,null,null,{"$f":"G85","v":0},null,null,null,null,{"$f":"IFERROR(INDEX(Kalkulacja!Q:Q,Q85),0)","v":0},0]
[null,null,null,{"$f":"IFERROR(IF(N86>0,\"SUGEROWANE\",IF((INDEX(Kalkulacja!B:B,MATCH(G86,Kalkulacja!H:H,0)))=\"x\",\"USŁUGA\",\"\")),\"\")","v":"USŁUGA"},"i",null,{"$f":"Kalkulacja!H4","v":"Napisanie tekstu 1000 zzs (ok. 1/3 strony A4)"},null,null,{"$f":"M86*1","v":0},{"$f":"IFERROR(IF(Kalkulacja!$F$2=\"x\",INDEX(Kalkulacja!$R$1:$R$459,Q86),\"\"),\"\")","v":""},null,false,{"$f":"IFERROR(INDEX('Podświetlanie modułów'!H:H,MATCH(G86,'Podświetlanie modułów'!F:F,0)),0)","v":0},{"$f":"IF(M86*1>0,\"x\",IF(INDEX(Kalkulacja!A:A,Q86)=\"x\",\"x\",0))","v":0},{"$f":"IF(O86=\"x\",\"TRUE\",\"FALSE\")","v":"FALSE"},{"$f":"MATCH(G86,Kalkulacja!$H$1:$H$459,0)","v":4},null,null,{"$f":"U86","v":0},null,{"$f":"AG86","v":0},null,null,null,null,{"$f":"G86","v":"Napisanie tekstu 1000 zzs (ok. 1/3 strony A4)"},null,null,null,null,{"$f":"IFERROR(INDEX(Kalkulacja!Q:Q,Q86),0)","v":0},0]
[null,null,null,{"$f":"IFERROR(IF(N87>0,\"SUGEROWANE\",IF((INDEX(Kalkulacja!B:B,MATCH(G87,Kalkulacja!H:H,0)))=\"x\",\"USŁUGA\",\"\")),\"\")","v":"USŁUGA"},"i",null,{"$f":"Kalkulacja!H5","v":"Przepisywanie tekstu 1000 zzs"},null,null,{"$f":"M87*1","v":0},{"$f":"IFERROR(IF(Kalkulacja!$F$2=\"x\",INDEX(Kalkulacja!$R$1:$R$459,Q87),\"\"),\"\")","v":""},null,false,{"$f":"IFERROR(INDEX('Podświetlanie modułów'!H:H,MATCH(G87,'Podświetlanie modułów'!F:F,0)),0)","v":0},{"$f":"IF(M87*1>0,\"x\",IF(INDEX(Kalkulacja!A:A,Q87)=\"x\",\"x\",0))","v":0},"FALSE",{"$f":"MATCH(G87,Kalkulacja!$H$1:$H$459,0)","v":5},null,null,0,null,0,null,null,null,null,"Przepisywanie tekstu 1000 zzs",null,null,null,null,{"$f":"IFERROR(INDEX(Kalkulacja!Q:Q,Q87),0)","v":0},0]
[null,null,null,{"$f":"IFERROR(IF(N88>0,\"SUGEROWANE\",IF((INDEX(Kalkulacja!B:B,MATCH(G88,Kalkulacja!H:H,0)))=\"x\",\"USŁUGA\",\"\")),\"\")","v":"USŁUGA"},"i",null,{"$f":"Kalkulacja!H6","v":"Korekta błędów ortograficznych 1000 zzs"},null,null,0,{"$f":"IFERROR(IF(Kalkulacja!$F$2=\"x\",INDEX(Kalkulacja!$R$1:$R$459,Q88),\"\"),\"\")","v":""},null,false,{"$f":"IFERROR(INDEX('Podświetlanie modułów'!H:H,MATCH(G88,'Podświetlanie modułów'!F:F,0)),0)","v":0},{"$f":"IF(M88*1>0,\"x\",IF(INDEX(Kalkulacja!A:A,Q88)=\"x\",\"x\",0))","v":0},"FALSE",{"$f":"MATCH(G88,Kalkulacja!$H$1:$H$459,0)","v":6},null,null,0,null,0,null,null,null,null,"Korekta błędów ortograficznych 1000 zzs",null,null,null,null,{"$f":"IFERROR(INDEX(Kalkulacja!Q:Q,Q88),0)","v":0},0]
[null,null,null,{"$f":"IFERROR(IF(N89>0,\"SUGEROWANE\",IF((INDEX(Kalkulacja!B:B,MATCH(G89,Kalkulacja!H:H,0)))=\"x\",\"USŁUGA\",\"\")),\"\")","v":"USŁUGA"},"i",null,{"$f":"Kalkulacja!H7","v":"Obróbka 1 zdjęcia (kadrowanie, kolory)"},null,null,0,{"$f":"IFERROR(IF(Kalkulacja!$F$2=\"x\",INDEX(Kalkulacja!$R$1:$R$459,Q89),\"\"),\"\")","v":""},null,false,{"$f":"IFERROR(INDEX('Podświetlanie modułów'!H:H,MATCH(G89,'Podświetlanie modułów'!F:F,0)),0)","v":0},{"$f":"IF(M89*1>0,\"x\",IF(INDEX(Kalkulacja!A:A,Q89)=\"x\",\"x\",0))","v":0},"FALSE",{"$f":"MATCH(G89,Kalkulacja!$H$1:$H$459,0)","v":7},null,null,0,null,0,null,null,null,null,"Obróbka 1 zdjęcia (kadrowanie, kolory)",null,null,null,null,{"$f":"IFERROR(INDEX(Kalkulacja!Q:Q,Q89),0)","v":0},0]
[null,null,null,{"$f":"IFERROR(IF(N90>0,\"SUGEROWANE\",IF((INDEX(Kalkulacja!B:B,MATCH(G90,Kalkulacja!H:H,0)))=\"x\",\"USŁUGA\",\"\")),\"\")","v":"USŁUGA"},"i",null,{"$f":"Kalkulacja!H8","v":"Fotografia 1 szt z banku zdjęć"},null,null,0,{"$f":"IFERROR(IF(Kalkulacja!$F$2=\"x\",INDEX(Kalkulacja!$R$1:$R$459,Q90),\"\"),\"\")","v":""},null,false,{"$f":"IFERROR(INDEX('Podświetlanie modułów'!H:H,MATCH(G90,'Podświetlanie modułów'!F:F,0)),0)","v":0},{"$f":"IF(M90*1>0,\"x\",IF(INDEX(Kalkulacja!A:A,Q90)=\"x\",\"x\",0))","v":0},"FALSE",{"$f":"MATCH(G90,Kalkulacja!$H$1:$H$459,0)","v":8},null,null,0,null,0,null,null,null,null,"Fotografia 1 szt z banku zdjęć",null,null,null,null,{"$f":"IFERROR(INDEX(Kalkulacja!Q:Q,Q90),0)","v":0},0]
[null,null,null,{"$f":"IFERROR(IF(N91>0,\"SUGEROWANE\",IF((INDEX(Kalkulacja!B:B,MATCH(G91,Kalkulacja!H:H,0)))=\"x\",\"USŁUGA\",\"\")),\"\")","v":"USŁUGA"},"i",null,{"$f":"Kalkulacja!H9","v":"Fotomontaż ze zdjęć 1 szt"},null,null,0,{"$f":"IFERROR(IF(Kalkulacja!$F$2=\"x\",INDEX(Kalkulacja!$R$1:$R$459,Q91),\"\"),\"\")","v":""},null,false,{"$f":"IFERROR(INDEX('Podświetlanie modułów'!H:H,MATCH(G91,'Podświetlanie modułów'!F:F,0)),0)","v":0},{"$f":"IF(M91*1>0,\"x\",IF(INDEX(Kalkulacja!A:A,Q91)=\"x\",\"x\",0))","v":0},"FALSE",{"$f":"MATCH(G91,Kalkulacja!$H$1:$H$459,0)","v":9},null,null,0,null,0,null,null,null,null,"Fotomontaż ze zdjęć 1 szt",null,null,null,null,{"$f":"IFERROR(INDEX(Kalkulacja!Q:Q,Q91),0)","v":0},0]
[null,null,null,{"$f":"IFERROR(IF(N92>0,\"SUGEROWANE\",IF((INDEX(Kalkulacja!B:B,MATCH(G92,Kalkulacja!H:H,0)))=\"x\",\"USŁUGA\",\"\")),\"\")","v":"USŁUGA"},"i",null,{"$f":"Kalkulacja!H10","v":"Odrysowanie logo"},null,null,0,{"$f":"IFERROR(IF(Kalkulacja!$F$2=\"x\",INDEX(Kalkulacja!$R$1:$R$459,Q92),\"\"),\"\")","v":""},null,false,{"$f":"IFERROR(INDEX('Podświetlanie modułów'!H:H,MATCH(G92,'Podświetlanie modułów'!F:F,0)),0)","v":0},{"$f":"IF(M92*1>0,\"x\",IF(INDEX(Kalkulacja!A:A,Q92)=\"x\",\"x\",0))","v":0},"FALSE",{"$f":"MATCH(G92,Kalkulacja!$H$1:$H$459,0)","v":10},null,null,0,null,0,null,null,null,null,"Odrysowanie logo",null,null,null,null,{"$f":"IFERROR(INDEX(Kalkulacja!Q:Q,Q92),0)","v":0},0]
[null,null,null,{"$f":"IFERROR(IF(N93>0,\"SUGEROWANE\",IF((INDEX(Kalkulacja!B:B,MATCH(G93,Kalkulacja!H:H,0)))=\"x\",\"USŁUGA\",\"\")),\"\")","v":"USŁUGA"},"i",null,{"$f":"Kalkulacja!H11","v":"Projekt nowego logo"},null,null,0,{"$f":"IFERROR(IF(Kalkulacja!$F$2=\"x\",INDEX(Kalkulacja!$R$1:$R$459,Q93),\"\"),\"\")","v":""},null,false,{"$f":"IFERROR(INDEX('Podświetlanie modułów'!H:H,MATCH(G93,'Podświetlanie modułów'!F:F,0)),0)","v":0},{"$f":"IF(M93*1>0,\"x\",IF(INDEX(Kalkulacja!A:A,Q93)=\"x\",\"x\",0))","v":0},"FALSE",{"$f":"MATCH(G93,Kalkulacja!$H$1:$H$459,0)","v":11},null,null,0,null,0,null,null,null,null,"Projekt nowego logo",null,null,null,null,{"$f":"IFERROR(INDEX(Kalkulacja!Q:Q,Q93),0)","v":0},0]
[null,null,null,{"$f":"IFERROR(IF(N94>0,\"SUGEROWANE\",IF((INDEX(Kalkulacja!B:B,MATCH(G94,Kalkulacja!H:H,0)))=\"x\",\"USŁUGA\",\"\")),\"\")","v":""},"i",null,{"$f":"Kalkulacja!H12","v":"Dodatkowy moduł 1"},null,null,0,{"$f":"IFERROR(IF(Kalkulacja!$F$2=\"x\",INDEX(Kalkulacja!$R$1:$R$459,Q94),\"\"),\"\")","v":""},null,false,{"$f":"IFERROR(INDEX('Podświetlanie modułów'!H:H,MATCH(G94,'Podświetlanie modułów'!F:F,0)),0)","v":0},{"$f":"IF(M94*1>0,\"x\",IF(INDEX(Kalkulacja!A:A,Q94)=\"x\",\"x\",0))","v":0},"FALSE",{"$f":"MATCH(G94,Kalkulacja!$H$1:$H$459,0)","v":12},null,null,0,null,0,null,null,null,null,"Dodatkowy moduł 1",null,null,null,null,{"$f":"IFERROR(INDEX(Kalkulacja!Q:Q,Q94),0)","v":0},0]
[null,null,null,{"$f":"IFERROR(IF(N95>0,\"SUGEROWANE\",IF((INDEX(Kalkulacja!B:B,MATCH(G95,Kalkulacja!H:H,0)))=\"x\",\"USŁUGA\",\"\")),\"\")","v":""},"i",null,{"$f":"Kalkulacja!H13","v":"Dodatkowy moduł 2"},null,null,0,{"$f":"IFERROR(IF(Kalkulacja!$F$2=\"x\",INDEX(Kalkulacja!$R$1:$R$459,Q95),\"\"),\"\")","v":""},null,false,{"$f":"IFERROR(INDEX('Podświetlanie modułów'!H:H,MATCH(G95,'Podświetlanie modułów'!F:F,0)),0)","v":0},{"$f":"IF(M95*1>0,\"x\",IF(INDEX(Kalkulacja!A:A,Q95)=\"x\",\"x\",0))","v":0},"FALSE",{"$f":"MATCH(G95,Kalkulacja!$H$1:$H$459,0)","v":13},null,null,0,null,0,null,null,null,null,"Dodatkowy moduł 2",null,null,null,null,{"$f":"IFERROR(INDEX(Kalkulacja!Q:Q,Q95),0)","v":0},0]
[null,null,null,{"$f":"IFERROR(IF(N96>0,\"SUGEROWANE\",IF((INDEX(Kalkulacja!B:B,MATCH(G96,Kalkulacja!H:H,0)))=\"x\",\"USŁUGA\",\"\")),\"\")","v":""},"i",null,{"$f":"Kalkulacja!H14","v":"Dodatkowy moduł 3"},null,null,0,{"$f":"IFERROR(IF(Kalkulacja!$F$2=\"x\",INDEX(Kalkulacja!$R$1:$R$459,Q96),\"\"),\"\")","v":""},null,false,{"$f":"IFERROR(INDEX('Podświetlanie modułów'!H:H,MATCH(G96,'Podświetlanie modułów'!F:F,0)),0)","v":0},{"$f":"IF(M96*1>0,\"x\",IF(INDEX(Kalkulacja!A:A,Q96)=\"x\",\"x\",0))","v":0},"FALSE",{"$f":"MATCH(G96,Kalkulacja!$H$1:$H$459,0)","v":14},null,null,0,null,0,null,null,null,null,"Dodatkowy moduł 3",null,null,null,null,{"$f":"IFERROR(INDEX(Kalkulacja!Q:Q,Q96),0)","v":0},0]
[null,null,null,{"$f":"IFERROR(IF(N97>0,\"SUGEROWANE\",IF((INDEX(Kalkulacja!B:B,MATCH(G97,Kalkulacja!H:H,0)))=\"x\",\"USŁUGA\",\"\")),\"\")","v":""},"i",null,{"$f":"Kalkulacja!H15","v":"Dodatkowy moduł 4"},null,null,0,{"$f":"IFERROR(IF(Kalkulacja!$F$2=\"x\",INDEX(Kalkulacja!$R$1:$R$459,Q97),\"\"),\"\")","v":""},null,false,{"$f":"IFERROR(INDEX('Podświetlanie modułów'!H:H,MATCH(G97,'Podświetlanie modułów'!F:F,0)),0)","v":0},{"$f":"IF(M97*1>0,\"x\",IF(INDEX(Kalkulacja!A:A,Q97)=\"x\",\"x\",0))","v":0},"FALSE",{"$f":"MATCH(G97,Kalkulacja!$H$1:$H$459,0)","v":15},null,null,0,null,0,null,null,null,null,"Dodatkowy moduł 4",null,null,null,null,{"$f":"IFERROR(INDEX(Kalkulacja!Q:Q,Q97),0)","v":0},0]
[null,null,null,{"$f":"IFERROR(IF(N98>0,\"SUGEROWANE\",IF((INDEX(Kalkulacja!B:B,MATCH(G98,Kalkulacja!H:H,0)))=\"x\",\"USŁUGA\",\"\")),\"\")","v":""},"i",null,{"$f":"Kalkulacja!H16","v":"Dodatkowy moduł 5"},null,null,0,{"$f":"IFERROR(IF(Kalkulacja!$F$2=\"x\",INDEX(Kalkulacja!$R$1:$R$459,Q98),\"\"),\"\")","v":""},null,false,{"$f":"IFERROR(INDEX('Podświetlanie modułów'!H:H,MATCH(G98,'Podświetlanie modułów'!F:F,0)),0)","v":0},{"$f":"IF(M98*1>0,\"x\",IF(INDEX(Kalkulacja!A:A,Q98)=\"x\",\"x\",0))","v":0},"FALSE",{"$f":"MATCH(G98,Kalkulacja!$H$1:$H$459,0)","v":16},null,null,0,null,0,null,null,null,null,"Dodatkowy moduł 5",null,null,null,null,{"$f":"IFERROR(INDEX(Kalkulacja!Q:Q,Q98),0)","v":0},0]
[null,null,null,{"$f":"IFERROR(IF(N99>0,\"SUGEROWANE\",IF((INDEX(Kalkulacja!B:B,MATCH(G99,Kalkulacja!H:H,0)))=\"x\",\"USŁUGA\",\"\")),\"\")","v":""},{"$f":"Kalkulacja!H17","v":"Tylko Projekt graficzny www"},null,null,null,null,null,null,null,null,{"$f":"IFERROR(INDEX('Podświetlanie modułów'!H:H,MATCH(G99,'Podświetlanie modułów'!F:F,0)),0)","v":0},{"$f":"IF(COUNTIF(O100:O114,\"x\")>0,\"x\",0)","v":0},"FALSE",{"$f":"MATCH(E99,Kalkulacja!$H$1:$H$459,0)","v":17},null,null,0,null,0,null,null,null,null,0,null,null,null,null,{"$f":"IFERROR(INDEX(Kalkulacja!Q:Q,Q99),0)","v":0},0]
[null,null,null,{"$f":"IFERROR(IF(N100>0,\"SUGEROWANE\",IF((INDEX(Kalkulacja!B:B,MATCH(G100,Kalkulacja!H:H,0)))=\"x\",\"USŁUGA\",\"\")),\"\")","v":""},"i",null,{"$f":"INDEX(X100:$X$104,MATCH($T$100,$Y$100:$Y$104,0))","v":"Projekt strony głównej 3 sekcje"},null,null,0,{"$f":"IFERROR(IF(Kalkulacja!$F$2=\"x\",INDEX(Kalkulacja!$R$1:$R$459,Q100),\"\"),\"\")","v":""},null,false,{"$f":"IFERROR(INDEX('Podświetlanie modułów'!H:H,MATCH(G100,'Podświetlanie modułów'!F:F,0)),0)","v":0},{"$f":"IF(M100*1>0,\"x\",IF(COUNTIF(Kalkulacja!$A$18:$A$22,\"x\")>0,\"x\",0))","v":0},"FALSE",{"$f":"MATCH(G100,Kalkulacja!$H$1:$H$459,0)","v":18},null,null,1,{"$f":"IFERROR(INDEX($Y$100:$Y$104,MATCH(\"x\",$Z$100:$Z$104,0)),1)","v":1},0,null,{"$f":"Kalkulacja!H18","v":"Projekt strony głównej 3 sekcje"},1,{"$f":"INDEX(Kalkulacja!$C$18:$C$22,MATCH(X100,Kalkulacja!$H$18:$H$22,0))","v":0},"Projekt strony głównej 3 sekcje",null,null,null,null,{"$f":"IFERROR(INDEX(Kalkulacja!Q:Q,Q100),0)","v":0},0]
[null,null,null,{"$f":"IFERROR(IF(N101>0,\"SUGEROWANE\",IF((INDEX(Kalkulacja!B:B,MATCH(G101,Kalkulacja!H:H,0)))=\"x\",\"USŁUGA\",\"\")),\"\")","v":""},"i",null,{"$f":"Kalkulacja!H23","v":"Strona 1 sekcja"},null,null,0,{"$f":"IFERROR(IF(Kalkulacja!$F$2=\"x\",INDEX(Kalkulacja!$R$1:$R$459,Q101),\"\"),\"\")","v":""},null,false,{"$f":"IFERROR(INDEX('Podświetlanie modułów'!H:H,MATCH(G101,'Podświetlanie modułów'!F:F,0)),0)","v":0},{"$f":"IF(M101*1>0,\"x\",IF(INDEX(Kalkulacja!A:A,Q101)=\"x\",\"x\",0))","v":0},"FALSE",{"$f":"MATCH(G101,Kalkulacja!$H$1:$H$459,0)","v":23},null,null,0,null,0,null,{"$f":"Kalkulacja!H19","v":"Projekt strony głównej 5 sekcji"},2,{"$f":"INDEX(Kalkulacja!$C$18:$C$22,MATCH(X101,Kalkulacja!$H$18:$H$22,0))","v":0},"Strona 1 sekcja",null,null,null,null,{"$f":"IFERROR(INDEX(Kalkulacja!Q:Q,Q101),0)","v":0},0]
[null,null,null,{"$f":"IFERROR(IF(N102>0,\"SUGEROWANE\",IF((INDEX(Kalkulacja!B:B,MATCH(G102,Kalkulacja!H:H,0)))=\"x\",\"USŁUGA\",\"\")),\"\")","v":""},"i",{"$f":"IF(ISBLANK(G102),\" Podaj szczegóły sekcji\",\"\")","v":" Podaj szczegóły sekcji"},null,null,null,null,null,null,{"$f":"S102","v":0},{"$f":"IFERROR(INDEX('Podświetlanie modułów'!H:H,MATCH(G102,'Podświetlanie modułów'!F:F,0)),0)","v":0},{"$f":"IF(O101=\"x\",\"x\",0)","v":0},"FALSE",{"$f":"MATCH(G102,Kalkulacja!$H$1:$H$459,0)","v":{"$error":"#N/A"}},null,null,0,null,0,null,{"$f":"Kalkulacja!H20","v":"Projekt strony głównej 7 sekcji"},3,{"$f":"INDEX(Kalkulacja!$C$18:$C$22,MATCH(X102,Kalkulacja!$H$18:$H$22,0))","v":0},0,null,null,null,null,{"$f":"IFERROR(INDEX(Kalkulacja!Q:Q,Q102),0)","v":0},0]
[null,null,null,{"$f":"IFERROR(IF(N103>0,\"SUGEROWANE\",IF((INDEX(Kalkulacja!B:B,MATCH(G103,Kalkulacja!H:H,0)))=\"x\",\"USŁUGA\",\"\")),\"\")","v":""},"i",null,{"$f":"Kalkulacja!H25","v":"Strona 3 sekcje"},null,null,0,{"$f":"IFERROR(IF(Kalkulacja!$F$2=\"x\",INDEX(Kalkulacja!$R$1:$R$459,Q103),\"\"),\"\")","v":""},null,false,{"$f":"IFERROR(INDEX('Podświetlanie modułów'!H:H,MATCH(G103,'Podświetlanie modułów'!F:F,0)),0)","v":0},{"$f":"IF(M103*1>0,\"x\",IF(INDEX(Kalkulacja!A:A,Q103)=\"x\",\"x\",0))","v":0},"FALSE",{"$f":"MATCH(G103,Kalkulacja!$H$1:$H$459,0)","v":25},null,null,0,null,0,null,{"$f":"Kalkulacja!H21","v":"Projekt strony głównej 10 sekcji"},4,{"$f":"INDEX(Kalkulacja!$C$18:$C$22,MATCH(X103,Kalkulacja!$H$18:$H$22,0))","v":0},"Strona 3 sekcje",null,null,null,null,{"$f":"IFERROR(INDEX(Kalkulacja!Q:Q,Q103),0)","v":0},0]
[null,null,null,{"$f":"IFERROR(IF(N104>0,\"SUGEROWANE\",IF((INDEX(Kalkulacja!B:B,MATCH(G104,Kalkulacja!H:H,0)))=\"x\",\"USŁUGA\",\"\")),\"\")","v":""},"i",{"$f":"IF(ISBLANK(G104),\" Podaj szczegóły sekcji\",\"\")","v":" Podaj szczegóły sekcji"},null,null,null,null,null,null,0,{"$f":"IFERROR(INDEX('Podświetlanie modułów'!H:H,MATCH(G104,'Podświetlanie modułów'!F:F,0)),0)","v":0},{"$f":"IF(O103=\"x\",\"x\",0)","v":0},"FALSE",{"$f":"MATCH(G104,Kalkulacja!$H$1:$H$459,0)","v":{"$error":"#N/A"}},null,null,0,null,0,null,{"$f":"Kalkulacja!H22","v":"Projekt strony głównej 15 sekcji"},5,{"$f":"INDEX(Kalkulacja!$C$18:$C$22,MATCH(X104,Kalkulacja!$H$18:$H$22,0))","v":0},0,null,null,null,null,{"$f":"IFERROR(INDEX(Kalkulacja!Q:Q,Q104),0)","v":0},0]
[null,null,null,{"$f":"IFERROR(IF(N105>0,\"SUGEROWANE\",IF((INDEX(Kalkulacja!B:B,MATCH(G105,Kalkulacja!H:H,0)))=\"x\",\"USŁUGA\",\"\")),\"\")","v":""},"i",null,{"$f":"Kalkulacja!H27","v":"Strona 5 sekcji"},null,null,0,{"$f":"IFERROR(IF(Kalkulacja!$F$2=\"x\",INDEX(Kalkulacja!$R$1:$R$459,Q105),\"\"),\"\")","v":""},null,false,{"$f":"IFERROR(INDEX('Podświetlanie modułów'!H:H,MATCH(G105,'Podświetlanie modułów'!F:F,0)),0)","v":0},{"$f":"IF(M105*1>0,\"x\",IF(INDEX(Kalkulacja!A:A,Q105)=\"x\",\"x\",0))","v":0},"FALSE",{"$f":"MATCH(G105,Kalkulacja!$H$1:$H$459,0)","v":27},null,null,0,null,0,null,null,null,null,"Strona 5 sekcji",null,null,null,null,{"$f":"IFERROR(INDEX(Kalkulacja!Q:Q,Q105),0)","v":0},0]
[null,null,null,{"$f":"IFERROR(IF(N106>0,\"SUGEROWANE\",IF((INDEX(Kalkulacja!B:B,MATCH(G106,Kalkulacja!H:H,0)))=\"x\",\"USŁUGA\",\"\")),\"\")","v":""},"i",{"$f":"IF(ISBLANK(G106),\" Podaj szczegóły sekcji\",\"\")","v":" Podaj szczegóły sekcji"},null,null,null,null,null,null,0,{"$f":"IFERROR(INDEX('Podświetlanie modułów'!H:H,MATCH(G106,'Podświetlanie modułów'!F:F,0)),0)","v":0},{"$f":"IF(O105=\"x\",\"x\",0)","v":0},"FALSE",{"$f":"MATCH(G106,Kalkulacja!$H$1:$H$459,0)","v":{"$error":"#N/A"}},null,null,0,null,0,null,null,null,null,0,null,null,null,null,{"$f":"IFERROR(INDEX(Kalkulacja!Q:Q,Q106),0)","v":0},0]
[null,null,null,{"$f":"IFERROR(IF(N107>0,\"SUGEROWANE\",IF((INDEX(Kalkulacja!B:B,MATCH(G107,Kalkulacja!H:H,0)))=\"x\",\"USŁUGA\",\"\")),\"\")","v":""},"i",null,{"$f":"Kalkulacja!H29","v":"Strona 7 sekcji"},null,null,0,{"$f":"IFERROR(IF(Kalkulacja!$F$2=\"x\",INDEX(Kalkulacja!$R$1:$R$459,Q107),\"\"),\"\")","v":""},null,false,{"$f":"IFERROR(INDEX('Podświetlanie modułów'!H:H,MATCH(G107,'Podświetlanie modułów'!F:F,0)),0)","v":0},{"$f":"IF(M107*1>0,\"x\",IF(INDEX(Kalkulacja!A:A,Q107)=\"x\",\"x\",0))","v":0},"FALSE",{"$f":"MATCH(G107,Kalkulacja!$H$1:$H$459,0)","v":29},null,null,0,null,0,null,null,null,null,"Strona 7 sekcji",null,null,null,null,{"$f":"IFERROR(INDEX(Kalkulacja!Q:Q,Q107),0)","v":0},0]
[null,null,null,{"$f":"IFERROR(IF(N108>0,\"SUGEROWANE\",IF((INDEX(Kalkulacja!B:B,MATCH(G108,Kalkulacja!H:H,0)))=\"x\",\"USŁUGA\",\"\")),\"\")","v":""},"i",{"$f":"IF(ISBLANK(G108),\" Podaj szczegóły sekcji\",\"\")","v":" Podaj szczegóły sekcji"},null,null,null,null,null,null,0,{"$f":"IFERROR(INDEX('Podświetlanie modułów'!H:H,MATCH(G108,'Podświetlanie modułów'!F:F,0)),0)","v":0},{"$f":"IF(O107=\"x\",\"x\",0)","v":0},"FALSE",{"$f":"MATCH(G108,Kalkulacja!$H$1:$H$459,0)","v":{"$error":"#N/A"}},null,null,0,null,0,null,null,null,null,0,null,null,null,null,{"$f":"IFERROR(INDEX(Kalkulacja!Q:Q,Q108),0)","v":0},0]
[null,null,null,{"$f":"IFERROR(IF(N109>0,\"SUGEROWANE\",IF((INDEX(Kalkulacja!B:B,MATCH(G109,Kalkulacja!H:H,0)))=\"x\",\"USŁUGA\",\"\")),\"\")","v":""},"i",null,{"$f":"Kalkulacja!H31","v":"Strona 10 sekcji"},null,null,0,{"$f":"IFERROR(IF(Kalkulacja!$F$2=\"x\",INDEX(Kalkulacja!$R$1:$R$459,Q109),\"\"),\"\")","v":""},null,false,{"$f":"IFERROR(INDEX('Podświetlanie modułów'!H:H,MATCH(G109,'Podświetlanie modułów'!F:F,0)),0)","v":0},{"$f":"IF(M109*1>0,\"x\",IF(INDEX(Kalkulacja!A:A,Q109)=\"x\",\"x\",0))","v":0},"FALSE",{"$f":"MATCH(G109,Kalkulacja!$H$1:$H$459,0)","v":31},null,null,0,null,0,null,null,null,null,"Strona 10 sekcji",null,null,null,null,{"$f":"IFERROR(INDEX(Kalkulacja!Q:Q,Q109),0)","v":0},0]
[null,null,null,{"$f":"IFERROR(IF(N110>0,\"SUGEROWANE\",IF((INDEX(Kalkulacja!B:B,MATCH(G110,Kalkulacja!H:H,0)))=\"x\",\"USŁUGA\",\"\")),\"\")","v":""},"i",{"$f":"IF(ISBLANK(G110),\" Podaj szczegóły sekcji\",\"\")","v":" Podaj szczegóły sekcji"},null,null,null,null,null,null,0,{"$f":"IFERROR(INDEX('Podświetlanie modułów'!H:H,MATCH(G110,'Podświetlanie modułów'!F:F,0)),0)","v":0},{"$f":"IF(O109=\"x\",\"x\",0)","v":0},"FALSE",{"$f":"MATCH(G110,Kalkulacja!$H$1:$H$459,0)","v":{"$error":"#N/A"}},null,null,0,null,0,null,null,null,null,0,null,null,null,null,{"$f":"IFERROR(INDEX(Kalkulacja!Q:Q,Q110),0)","v":0},0]
[null,null,null,{"$f":"IFERROR(IF(N111>0,\"SUGEROWANE\",IF((INDEX(Kalkulacja!B:B,MATCH(G111,Kalkulacja!H:H,0)))=\"x\",\"USŁUGA\",\"\")),\"\")","v":""},"i",null,{"$f":"Kalkulacja!H33","v":"Dodatkowy moduł 6"},null,null,0,{"$f":"IFERROR(IF(Kalkulacja!$F$2=\"x\",INDEX(Kalkulacja!$R$1:$R$459,Q111),\"\"),\"\")","v":""},null,false,{"$f":"IFERROR(INDEX('Podświetlanie modułów'!H:H,MATCH(G111,'Podświetlanie modułów'!F:F,0)),0)","v":0},{"$f":"IF(M111*1>0,\"x\",IF(INDEX(Kalkulacja!A:A,Q111)=\"x\",\"x\",0))","v":0},"FALSE",{"$f":"MATCH(G111,Kalkulacja!$H$1:$H$459,0)","v":33},null,null,0,null,0,null,null,null,null,"Dodatkowy moduł 6",null,null,null,null,{"$f":"IFERROR(INDEX(Kalkulacja!Q:Q,Q111),0)","v":0},0]
[null,null,null,{"$f":"IFERROR(IF(N112>0,\"SUGEROWANE\",IF((INDEX(Kalkulacja!B:B,MATCH(G112,Kalkulacja!H:H,0)))=\"x\",\"USŁUGA\",\"\")),\"\")","v":""},"i",null,{"$f":"Kalkulacja!H34","v":"Dodatkowy moduł 7"},null,null,0,{"$f":"IFERROR(IF(Kalkulacja!$F$2=\"x\",INDEX(Kalkulacja!$R$1:$R$459,MATCH(G112,Kalkulacja!$H$1:$H$459,0)),\"\"),\"\")","v":""},null,false,{"$f":"IFERROR(INDEX('Podświetlanie modułów'!H:H,MATCH(G112,'Podświetlanie modułów'!F:F,0)),0)","v":0},{"$f":"IF(M112*1>0,\"x\",IF(INDEX(Kalkulacja!A:A,Q112)=\"x\",\"x\",0))","v":0},"FALSE",{"$f":"MATCH(G112,Kalkulacja!$H$1:$H$459,0)","v":34},null,null,0,null,0,null,null,null,null,"Dodatkowy moduł 7",null,null,null,null,{"$f":"IFERROR(INDEX(Kalkulacja!Q:Q,Q112),0)","v":0},0]
[null,null,null,{"$f":"IFERROR(IF(N113>0,\"SUGEROWANE\",IF((INDEX(Kalkulacja!B:B,MATCH(G113,Kalkulacja!H:H,0)))=\"x\",\"USŁUGA\",\"\")),\"\")","v":""},"i",null,{"$f":"Kalkulacja!H35","v":"Dodatkowy moduł 8"},null,null,0,{"$f":"IFERROR(IF(Kalkulacja!$F$2=\"x\",INDEX(Kalkulacja!$R$1:$R$459,MATCH(G113,Kalkulacja!$H$1:$H$459,0)),\"\"),\"\")","v":""},null,false,{"$f":"IFERROR(INDEX('Podświetlanie modułów'!H:H,MATCH(G113,'Podświetlanie modułów'!F:F,0)),0)","v":0},{"$f":"IF(M113*1>0,\"x\",IF(INDEX(Kalkulacja!A:A,Q113)=\"x\",\"x\",0))","v":0},"FALSE",{"$f":"MATCH(G113,Kalkulacja!$H$1:$H$459,0)","v":35},null,null,0,null,0,null,{"$f":"Kalkulacja!H38","v":"Lista wpisów prosta"},1,{"$f":"INDEX(Kalkulacja!$C$38:$C$39,MATCH(X113,Kalkulacja!$H$38:$H$39,0))","v":0},"Dodatkowy moduł 8",null,null,null,null,{"$f":"IFERROR(INDEX(Kalkulacja!Q:Q,Q113),0)","v":0},0]
[null,null,null,{"$f":"IFERROR(IF(N114>0,\"SUGEROWANE\",IF((INDEX(Kalkulacja!B:B,MATCH(G114,Kalkulacja!H:H,0)))=\"x\",\"USŁUGA\",\"\")),\"\")","v":""},"i",null,{"$f":"Kalkulacja!H36","v":"Dodatkowy moduł 9"},null,null,0,{"$f":"IFERROR(IF(Kalkulacja!$F$2=\"x\",INDEX(Kalkulacja!$R$1:$R$459,MATCH(G114,Kalkulacja!$H$1:$H$459,0)),\"\"),\"\")","v":""},null,false,{"$f":"IFERROR(INDEX('Podświetlanie modułów'!H:H,MATCH(G114,'Podświetlanie modułów'!F:F,0)),0)","v":0},{"$f":"IF(M114*1>0,\"x\",IF(INDEX(Kalkulacja!A:A,Q114)=\"x\",\"x\",0))","v":0},"FALSE",{"$f":"MATCH(G114,Kalkulacja!$H$1:$H$459,0)","v":36},null,null,0,null,0,null,{"$f":"Kalkulacja!H39","v":"Lista wpisów rozbudowana"},2,{"$f":"INDEX(Kalkulacja!$C$38:$C$39,MATCH(X114,Kalkulacja!$H$38:$H$39,0))","v":"x"},"Dodatkowy moduł 9",null,null,null,null,{"$f":"IFERROR(INDEX(Kalkulacja!Q:Q,Q114),0)","v":0},0]
[null,null,null,{"$f":"IFERROR(IF(N115>0,\"SUGEROWANE\",IF((INDEX(Kalkulacja!B:B,MATCH(G115,Kalkulacja!H:H,0)))=\"x\",\"USŁUGA\",\"\")),\"\")","v":""},{"$f":"Kalkulacja!H37","v":"Projekt bloga"},null,null,null,null,null,null,null,null,{"$f":"IFERROR(INDEX('Podświetlanie modułów'!H:H,MATCH(G115,'Podświetlanie modułów'!F:F,0)),0)","v":0},{"$f":"IF(COUNTIF(O116:O123,\"x\")>0,\"x\",0)","v":0},"FALSE",{"$f":"MATCH(E115,Kalkulacja!$H$1:$H$459,0)","v":37},null,null,0,null,0,null,null,null,null,0,null,null,null,null,{"$f":"IFERROR(INDEX(Kalkulacja!Q:Q,Q115),0)","v":0},0]
[null,null,null,{"$f":"IFERROR(IF(N116>0,\"SUGEROWANE\",IF((INDEX(Kalkulacja!B:B,MATCH(G116,Kalkulacja!H:H,0)))=\"x\",\"USŁUGA\",\"\")),\"\")","v":""},"i",{"$f":"IF(ISBLANK(G116),\" Wybierz rodzaj listy wpisów\",\"\")","v":""},{"$f":"INDEX(X$113:$X114,MATCH($T$116,$Y$113:$Y$114,0))","v":"Lista wpisów rozbudowana"},null,null,0,{"$f":"IFERROR(IF(Kalkulacja!$F$2=\"x\",INDEX(Kalkulacja!$R$1:$R$459,Q116),\"\"),\"\")","v":""},null,false,{"$f":"IFERROR(INDEX('Podświetlanie modułów'!H:H,MATCH(G116,'Podświetlanie modułów'!F:F,0)),0)","v":0},{"$f":"IF(M116*1>0,\"x\",IF(COUNTIF(Kalkulacja!$A$38:$A$39,\"x\")>0,\"x\",0))","v":0},"FALSE",{"$f":"MATCH(G116,Kalkulacja!$H$1:$H$459,0)","v":39},null,null,2,{"$f":"IFERROR(INDEX($Y$113:$Y$114,MATCH(\"x\",$Z$113:$Z$114,0)),1)","v":2},0,null,null,null,null,"Lista wpisów rozbudowana",null,null,null,null,{"$f":"IFERROR(INDEX(Kalkulacja!Q:Q,Q116),0)","v":0},0]
[null,null,null,{"$f":"IFERROR(IF(N117>0,\"SUGEROWANE\",IF((INDEX(Kalkulacja!B:B,MATCH(G117,Kalkulacja!H:H,0)))=\"x\",\"USŁUGA\",\"\")),\"\")","v":""},"i",{"$f":"IF(ISBLANK(G117),\" Wybierz typ wpisów\",\"\")","v":""},{"$f":"INDEX(X$117:$X119,MATCH($T$117,$Y$117:$Y$119,0))","v":"Wpis złożony"},null,null,0,{"$f":"IFERROR(IF(Kalkulacja!$F$2=\"x\",INDEX(Kalkulacja!$R$1:$R$459,Q117),\"\"),\"\")","v":""},null,false,{"$f":"IFERROR(INDEX('Podświetlanie modułów'!H:H,MATCH(G117,'Podświetlanie modułów'!F:F,0)),0)","v":0},{"$f":"IF(M117*1>0,\"x\",IF(COUNTIF(Kalkulacja!$A$40:$A$42,\"x\")>0,\"x\",0))","v":0},"FALSE",{"$f":"MATCH(G117,Kalkulacja!$H$1:$H$459,0)","v":41},null,null,2,{"$f":"IFERROR(INDEX($Y$117:$Y$119,MATCH(\"x\",$Z$117:$Z$119,0)),1)","v":2},0,null,{"$f":"Kalkulacja!H40","v":"Wpis podstawowy"},1,{"$f":"INDEX(Kalkulacja!$C$40:$C$42,MATCH(X117,Kalkulacja!$H$40:$H$42,0))","v":0},"Wpis złożony",null,null,null,null,{"$f":"IFERROR(INDEX(Kalkulacja!Q:Q,Q117),0)","v":0},0]
[null,null,null,{"$f":"IFERROR(IF(N118>0,\"SUGEROWANE\",IF((INDEX(Kalkulacja!B:B,MATCH(G118,Kalkulacja!H:H,0)))=\"x\",\"USŁUGA\",\"\")),\"\")","v":""},"i",null,{"$f":"Kalkulacja!H43","v":"Obrazek do popup (tylko grafika)"},null,null,0,{"$f":"IFERROR(IF(Kalkulacja!$F$2=\"x\",INDEX(Kalkulacja!$R$1:$R$459,Q118),\"\"),\"\")","v":""},null,false,{"$f":"IFERROR(INDEX('Podświetlanie modułów'!H:H,MATCH(G118,'Podświetlanie modułów'!F:F,0)),0)","v":0},{"$f":"IF(M118*1>0,\"x\",IF(INDEX(Kalkulacja!A:A,Q118)=\"x\",\"x\",0))","v":0},"FALSE",{"$f":"MATCH(G118,Kalkulacja!$H$1:$H$459,0)","v":43},null,null,0,null,0,null,{"$f":"Kalkulacja!H41","v":"Wpis złożony"},2,{"$f":"INDEX(Kalkulacja!$C$40:$C$42,MATCH(X118,Kalkulacja!$H$40:$H$42,0))","v":"x"},"Obrazek do popup (tylko grafika)",null,null,null,null,{"$f":"IFERROR(INDEX(Kalkulacja!Q:Q,Q118),0)","v":0},0]
[null,null,null,{"$f":"IFERROR(IF(N119>0,\"SUGEROWANE\",IF((INDEX(Kalkulacja!B:B,MATCH(G119,Kalkulacja!H:H,0)))=\"x\",\"USŁUGA\",\"\")),\"\")","v":""},"i",null,{"$f":"Kalkulacja!H44","v":"Dodatkowy moduł 10"},null,null,0,{"$f":"IFERROR(IF(Kalkulacja!$F$2=\"x\",INDEX(Kalkulacja!$R$1:$R$459,Q119),\"\"),\"\")","v":""},null,0,{"$f":"IFERROR(INDEX('Podświetlanie modułów'!H:H,MATCH(G119,'Podświetlanie modułów'!F:F,0)),0)","v":0},{"$f":"IF(M119*1>0,\"x\",IF(INDEX(Kalkulacja!A:A,Q119)=\"x\",\"x\",0))","v":0},"FALSE",{"$f":"MATCH(G119,Kalkulacja!$H$1:$H$459,0)","v":44},null,null,0,null,0,null,{"$f":"Kalkulacja!H42","v":"Wpis rozbudowany"},3,{"$f":"INDEX(Kalkulacja!$C$40:$C$42,MATCH(X119,Kalkulacja!$H$40:$H$42,0))","v":0},"Dodatkowy moduł 10",null,null,null,null,{"$f":"IFERROR(INDEX(Kalkulacja!Q:Q,Q119),0)","v":0},0]
[null,null,null,{"$f":"IFERROR(IF(N120>0,\"SUGEROWANE\",IF((INDEX(Kalkulacja!B:B,MATCH(G120,Kalkulacja!H:H,0)))=\"x\",\"USŁUGA\",\"\")),\"\")","v":""},"i",null,{"$f":"Kalkulacja!H45","v":"Dodatkowy moduł 11"},null,null,0,{"$f":"IFERROR(IF(Kalkulacja!$F$2=\"x\",INDEX(Kalkulacja!$R$1:$R$459,Q120),\"\"),\"\")","v":""},null,0,{"$f":"IFERROR(INDEX('Podświetlanie modułów'!H:H,MATCH(G120,'Podświetlanie modułów'!F:F,0)),0)","v":0},{"$f":"IF(M120*1>0,\"x\",IF(INDEX(Kalkulacja!A:A,Q120)=\"x\",\"x\",0))","v":0},"FALSE",{"$f":"MATCH(G120,Kalkulacja!$H$1:$H$459,0)","v":45},null,null,0,null,0,null,null,null,null,"Dodatkowy moduł 11",null,null,null,null,{"$f":"IFERROR(INDEX(Kalkulacja!Q:Q,Q120),0)","v":0},0]
[null,null,null,{"$f":"IFERROR(IF(N121>0,\"SUGEROWANE\",IF((INDEX(Kalkulacja!B:B,MATCH(G121,Kalkulacja!H:H,0)))=\"x\",\"USŁUGA\",\"\")),\"\")","v":""},"i",null,{"$f":"Kalkulacja!H46","v":"Dodatkowy moduł 12"},null,null,0,{"$f":"IFERROR(IF(Kalkulacja!$F$2=\"x\",INDEX(Kalkulacja!$R$1:$R$459,Q121),\"\"),\"\")","v":""},null,0,{"$f":"IFERROR(INDEX('Podświetlanie modułów'!H:H,MATCH(G121,'Podświetlanie modułów'!F:F,0)),0)","v":0},{"$f":"IF(M121*1>0,\"x\",IF(INDEX(Kalkulacja!A:A,Q121)=\"x\",\"x\",0))","v":0},"FALSE",{"$f":"MATCH(G121,Kalkulacja!$H$1:$H$459,0)","v":46},null,null,0,null,0,null,null,null,null,"Dodatkowy moduł 12",null,null,null,null,{"$f":"IFERROR(INDEX(Kalkulacja!Q:Q,Q121),0)","v":0},0]
[null,null,null,{"$f":"IFERROR(IF(N122>0,\"SUGEROWANE\",IF((INDEX(Kalkulacja!B:B,MATCH(G122,Kalkulacja!H:H,0)))=\"x\",\"USŁUGA\",\"\")),\"\")","v":""},"i",null,{"$f":"Kalkulacja!H47","v":"Dodatkowy moduł 13"},null,null,0,{"$f":"IFERROR(IF(Kalkulacja!$F$2=\"x\",INDEX(Kalkulacja!$R$1:$R$459,Q122),\"\"),\"\")","v":""},null,0,{"$f":"IFERROR(INDEX('Podświetlanie modułów'!H:H,MATCH(G122,'Podświetlanie modułów'!F:F,0)),0)","v":0},{"$f":"IF(M122*1>0,\"x\",IF(INDEX(Kalkulacja!A:A,Q122)=\"x\",\"x\",0))","v":0},"FALSE",{"$f":"MATCH(G122,Kalkulacja!$H$1:$H$459,0)","v":47},null,null,0,null,0,null,null,null,null,"Dodatkowy moduł 13",null,null,null,null,{"$f":"IFERROR(INDEX(Kalkulacja!Q:Q,Q122),0)","v":0},0]
[null,null,null,{"$f":"IFERROR(IF(N123>0,\"SUGEROWANE\",IF((INDEX(Kalkulacja!B:B,MATCH(G123,Kalkulacja!H:H,0)))=\"x\",\"USŁUGA\",\"\")),\"\")","v":""},"i",null,{"$f":"Kalkulacja!H48","v":"Dodatkowy moduł 14"},null,null,0,{"$f":"IFERROR(IF(Kalkulacja!$F$2=\"x\",INDEX(Kalkulacja!$R$1:$R$459,Q123),\"\"),\"\")","v":""},null,0,{"$f":"IFERROR(INDEX('Podświetlanie modułów'!H:H,MATCH(G123,'Podświetlanie modułów'!F:F,0)),0)","v":0},{"$f":"IF(M123*1>0,\"x\",IF(INDEX(Kalkulacja!A:A,Q123)=\"x\",\"x\",0))","v":0},"FALSE",{"$f":"MATCH(G123,Kalkulacja!$H$1:$H$459,0)","v":48},null,null,0,null,0,null,null,null,null,"Dodatkowy moduł 14",null,null,null,null,{"$f":"IFERROR(INDEX(Kalkulacja!Q:Q,Q123),0)","v":0},0]
[null,null,null,{"$f":"IFERROR(IF(N124>0,\"SUGEROWANE\",IF((INDEX(Kalkulacja!B:B,MATCH(G124,Kalkulacja!H:H,0)))=\"x\",\"USŁUGA\",\"\")),\"\")","v":""},{"$f":"Kalkulacja!H49","v":"Projekt sklepu"},null,null,null,null,null,null,null,null,{"$f":"IFERROR(INDEX('Podświetlanie modułów'!H:H,MATCH(G124,'Podświetlanie modułów'!F:F,0)),0)","v":0},{"$f":"IF(COUNTIF(O125:O135,\"x\")>0,\"x\",0)","v":0},"FALSE",{"$f":"MATCH(E124,Kalkulacja!$H$1:$H$459,0)","v":49},null,null,0,null,0,null,null,null,null,0,null,null,null,null,{"$f":"IFERROR(INDEX(Kalkulacja!Q:Q,Q124),0)","v":0},0]
[null,null,null,{"$f":"IFERROR(IF(N125>0,\"SUGEROWANE\",IF((INDEX(Kalkulacja!B:B,MATCH(G125,Kalkulacja!H:H,0)))=\"x\",\"USŁUGA\",\"\")),\"\")","v":""},"i",{"$f":"IF(ISBLANK(G125),\" Wybierz typ strony\",\"\")","v":""},{"$f":"INDEX(X$125:$X127,MATCH($T$125,$Y$125:$Y$127,0))","v":"Strona produkt + 6 sekcji"},null,null,0,{"$f":"IFERROR(IF(Kalkulacja!$F$2=\"x\",INDEX(Kalkulacja!$R$1:$R$459,Q125),\"\"),\"\")","v":""},null,false,{"$f":"IFERROR(INDEX('Podświetlanie modułów'!H:H,MATCH(G125,'Podświetlanie modułów'!F:F,0)),0)","v":0},{"$f":"IF(M125*1>0,\"x\",IF(COUNTIF(Kalkulacja!$A$50:$A$52,\"x\")>0,\"x\",0))","v":0},"FALSE",{"$f":"MATCH(G125,Kalkulacja!$H$1:$H$459,0)","v":52},null,null,3,{"$f":"IFERROR(INDEX($Y$125:$Y$127,MATCH(\"x\",$Z$125:$Z$127,0)),1)","v":3},0,null,{"$f":"Kalkulacja!H50","v":"Strona produkt prosty"},1,{"$f":"INDEX(Kalkulacja!$C$50:$C$52,MATCH(X125,Kalkulacja!$H$50:$H$52,0))","v":0},"Strona produkt + 6 sekcji",null,null,null,null,{"$f":"IFERROR(INDEX(Kalkulacja!Q:Q,Q125),0)","v":0},0]
[null,null,null,{"$f":"IFERROR(IF(N126>0,\"SUGEROWANE\",IF((INDEX(Kalkulacja!B:B,MATCH(G126,Kalkulacja!H:H,0)))=\"x\",\"USŁUGA\",\"\")),\"\")","v":""},"i",null,{"$f":"Kalkulacja!H53","v":"Kategoria produktów prosta"},null,null,0,{"$f":"IFERROR(IF(Kalkulacja!$F$2=\"x\",INDEX(Kalkulacja!$R$1:$R$459,Q126),\"\"),\"\")","v":""},null,false,{"$f":"IFERROR(INDEX('Podświetlanie modułów'!H:H,MATCH(G126,'Podświetlanie modułów'!F:F,0)),0)","v":0},{"$f":"IF(M126*1>0,\"x\",IF(INDEX(Kalkulacja!A:A,Q126)=\"x\",\"x\",0))","v":0},"FALSE",{"$f":"MATCH(G126,Kalkulacja!$H$1:$H$459,0)","v":53},null,null,0,null,0,null,{"$f":"Kalkulacja!H51","v":"Strona produkt + 3 sekcje"},2,{"$f":"INDEX(Kalkulacja!$C$50:$C$52,MATCH(X126,Kalkulacja!$H$50:$H$52,0))","v":0},"Kategoria produktów prosta",null,null,null,null,{"$f":"IFERROR(INDEX(Kalkulacja!Q:Q,Q126),0)","v":0},0]
[null,null,null,{"$f":"IFERROR(IF(N127>0,\"SUGEROWANE\",IF((INDEX(Kalkulacja!B:B,MATCH(G127,Kalkulacja!H:H,0)))=\"x\",\"USŁUGA\",\"\")),\"\")","v":""},"i",null,{"$f":"Kalkulacja!H54","v":"Kategoria produktów rozbudowana"},null,null,0,{"$f":"IFERROR(IF(Kalkulacja!$F$2=\"x\",INDEX(Kalkulacja!$R$1:$R$459,Q127),\"\"),\"\")","v":""},null,false,{"$f":"IFERROR(INDEX('Podświetlanie modułów'!H:H,MATCH(G127,'Podświetlanie modułów'!F:F,0)),0)","v":0},{"$f":"IF(M127*1>0,\"x\",IF(INDEX(Kalkulacja!A:A,Q127)=\"x\",\"x\",0))","v":0},"FALSE",{"$f":"MATCH(G127,Kalkulacja!$H$1:$H$459,0)","v":54},null,null,0,null,0,null,{"$f":"Kalkulacja!H52","v":"Strona produkt + 6 sekcji"},3,{"$f":"INDEX(Kalkulacja!$C$50:$C$52,MATCH(X127,Kalkulacja!$H$50:$H$52,0))","v":"x"},"Kategoria produktów rozbudowana",null,null,null,null,{"$f":"IFERROR(INDEX(Kalkulacja!Q:Q,Q127),0)","v":0},0]
[null,null,null,{"$f":"IFERROR(IF(N128>0,\"SUGEROWANE\",IF((INDEX(Kalkulacja!B:B,MATCH(G128,Kalkulacja!H:H,0)))=\"x\",\"USŁUGA\",\"\")),\"\")","v":""},"i",null,{"$f":"Kalkulacja!H55","v":"Koszyk"},null,null,0,{"$f":"IFERROR(IF(Kalkulacja!$F$2=\"x\",INDEX(Kalkulacja!$R$1:$R$459,Q128),\"\"),\"\")","v":""},null,false,{"$f":"IFERROR(INDEX('Podświetlanie modułów'!H:H,MATCH(G128,'Podświetlanie modułów'!F:F,0)),0)","v":0},{"$f":"IF(M128*1>0,\"x\",IF(INDEX(Kalkulacja!A:A,Q128)=\"x\",\"x\",0))","v":0},"FALSE",{"$f":"MATCH(G128,Kalkulacja!$H$1:$H$459,0)","v":55},null,null,0,null,0,null,null,null,null,"Koszyk",null,null,null,null,{"$f":"IFERROR(INDEX(Kalkulacja!Q:Q,Q128),0)","v":0},0]
[null,null,null,{"$f":"IFERROR(IF(N129>0,\"SUGEROWANE\",IF((INDEX(Kalkulacja!B:B,MATCH(G129,Kalkulacja!H:H,0)))=\"x\",\"USŁUGA\",\"\")),\"\")","v":""},"i",null,{"$f":"Kalkulacja!H56","v":"Zamówienie"},null,null,0,{"$f":"IFERROR(IF(Kalkulacja!$F$2=\"x\",INDEX(Kalkulacja!$R$1:$R$459,Q129),\"\"),\"\")","v":""},null,false,{"$f":"IFERROR(INDEX('Podświetlanie modułów'!H:H,MATCH(G129,'Podświetlanie modułów'!F:F,0)),0)","v":0},{"$f":"IF(M129*1>0,\"x\",IF(INDEX(Kalkulacja!A:A,Q129)=\"x\",\"x\",0))","v":0},"FALSE",{"$f":"MATCH(G129,Kalkulacja!$H$1:$H$459,0)","v":56},null,null,0,null,0,null,null,null,null,"Zamówienie",null,null,null,null,{"$f":"IFERROR(INDEX(Kalkulacja!Q:Q,Q129),0)","v":0},0]
[null,null,null,{"$f":"IFERROR(IF(N130>0,\"SUGEROWANE\",IF((INDEX(Kalkulacja!B:B,MATCH(G130,Kalkulacja!H:H,0)))=\"x\",\"USŁUGA\",\"\")),\"\")","v":""},"i",null,{"$f":"Kalkulacja!H57","v":"Podsumowanie"},null,null,0,{"$f":"IFERROR(IF(Kalkulacja!$F$2=\"x\",INDEX(Kalkulacja!$R$1:$R$459,Q130),\"\"),\"\")","v":""},null,false,{"$f":"IFERROR(INDEX('Podświetlanie modułów'!H:H,MATCH(G130,'Podświetlanie modułów'!F:F,0)),0)","v":0},{"$f":"IF(M130*1>0,\"x\",IF(INDEX(Kalkulacja!A:A,Q130)=\"x\",\"x\",0))","v":0},"FALSE",{"$f":"MATCH(G130,Kalkulacja!$H$1:$H$459,0)","v":57},null,null,0,null,0,null,null,null,null,"Podsumowanie",null,null,null,null,{"$f":"IFERROR(INDEX(Kalkulacja!Q:Q,Q130),0)","v":0},0]
[null,null,null,{"$f":"IFERROR(IF(N131>0,\"SUGEROWANE\",IF((INDEX(Kalkulacja!B:B,MATCH(G131,Kalkulacja!H:H,0)))=\"x\",\"USŁUGA\",\"\")),\"\")","v":""},"i",null,{"$f":"Kalkulacja!H58","v":"Dodatkowy moduł 15"},null,null,0,{"$f":"IFERROR(IF(Kalkulacja!$F$2=\"x\",INDEX(Kalkulacja!$R$1:$R$459,Q131),\"\"),\"\")","v":""},null,0,{"$f":"IFERROR(INDEX('Podświetlanie modułów'!H:H,MATCH(G131,'Podświetlanie modułów'!F:F,0)),0)","v":0},{"$f":"IF(M131*1>0,\"x\",IF(INDEX(Kalkulacja!A:A,Q131)=\"x\",\"x\",0))","v":0},"FALSE",{"$f":"MATCH(G131,Kalkulacja!$H$1:$H$459,0)","v":58},null,null,0,null,0,null,null,null,null,"Dodatkowy moduł 15",null,null,null,null,{"$f":"IFERROR(INDEX(Kalkulacja!Q:Q,Q131),0)","v":0},0]
[null,null,null,{"$f":"IFERROR(IF(N132>0,\"SUGEROWANE\",IF((INDEX(Kalkulacja!B:B,MATCH(G132,Kalkulacja!H:H,0)))=\"x\",\"USŁUGA\",\"\")),\"\")","v":""},"i",null,{"$f":"Kalkulacja!H59","v":"Dodatkowy moduł 16"},null,null,0,{"$f":"IFERROR(IF(Kalkulacja!$F$2=\"x\",INDEX(Kalkulacja!$R$1:$R$459,Q132),\"\"),\"\")","v":""},null,0,{"$f":"IFERROR(INDEX('Podświetlanie modułów'!H:H,MATCH(G132,'Podświetlanie modułów'!F:F,0)),0)","v":0},{"$f":"IF(M132*1>0,\"x\",IF(INDEX(Kalkulacja!A:A,Q132)=\"x\",\"x\",0))","v":0},"FALSE",{"$f":"MATCH(G132,Kalkulacja!$H$1:$H$459,0)","v":59},null,null,0,null,0,null,null,null,null,"Dodatkowy moduł 16",null,null,null,null,{"$f":"IFERROR(INDEX(Kalkulacja!Q:Q,Q132),0)","v":0},0]
[null,null,null,{"$f":"IFERROR(IF(N133>0,\"SUGEROWANE\",IF((INDEX(Kalkulacja!B:B,MATCH(G133,Kalkulacja!H:H,0)))=\"x\",\"USŁUGA\",\"\")),\"\")","v":""},"i",null,{"$f":"Kalkulacja!H60","v":"Dodatkowy moduł 17"},null,null,0,{"$f":"IFERROR(IF(Kalkulacja!$F$2=\"x\",INDEX(Kalkulacja!$R$1:$R$459,Q133),\"\"),\"\")","v":""},null,0,{"$f":"IFERROR(INDEX('Podświetlanie modułów'!H:H,MATCH(G133,'Podświetlanie modułów'!F:F,0)),0)","v":0},{"$f":"IF(M133*1>0,\"x\",IF(INDEX(Kalkulacja!A:A,Q133)=\"x\",\"x\",0))","v":0},"FALSE",{"$f":"MATCH(G133,Kalkulacja!$H$1:$H$459,0)","v":60},null,null,0,null,0,null,null,null,null,"Dodatkowy moduł 17",null,null,null,null,{"$f":"IFERROR(INDEX(Kalkulacja!Q:Q,Q133),0)","v":0},0]
[null,null,null,{"$f":"IFERROR(IF(N134>0,\"SUGEROWANE\",IF((INDEX(Kalkulacja!B:B,MATCH(G134,Kalkulacja!H:H,0)))=\"x\",\"USŁUGA\",\"\")),\"\")","v":""},"i",null,{"$f":"Kalkulacja!H61","v":"Dodatkowy moduł 18"},null,null,0,{"$f":"IFERROR(IF(Kalkulacja!$F$2=\"x\",INDEX(Kalkulacja!$R$1:$R$459,Q134),\"\"),\"\")","v":""},null,0,{"$f":"IFERROR(INDEX('Podświetlanie modułów'!H:H,MATCH(G134,'Podświetlanie modułów'!F:F,0)),0)","v":0},{"$f":"IF(M134*1>0,\"x\",IF(INDEX(Kalkulacja!A:A,Q134)=\"x\",\"x\",0))","v":0},"FALSE",{"$f":"MATCH(G134,Kalkulacja!$H$1:$H$459,0)","v":61},null,null,0,null,0,null,null,null,null,"Dodatkowy moduł 18",null,null,null,null,{"$f":"IFERROR(INDEX(Kalkulacja!Q:Q,Q134),0)","v":0},0]
[null,null,null,{"$f":"IFERROR(IF(N135>0,\"SUGEROWANE\",IF((INDEX(Kalkulacja!B:B,MATCH(G135,Kalkulacja!H:H,0)))=\"x\",\"USŁUGA\",\"\")),\"\")","v":""},"i",null,{"$f":"Kalkulacja!H62","v":"Dodatkowy moduł 19"},null,null,0,{"$f":"IFERROR(IF(Kalkulacja!$F$2=\"x\",INDEX(Kalkulacja!$R$1:$R$459,Q135),\"\"),\"\")","v":""},null,0,{"$f":"IFERROR(INDEX('Podświetlanie modułów'!H:H,MATCH(G135,'Podświetlanie modułów'!F:F,0)),0)","v":0},{"$f":"IF(M135*1>0,\"x\",IF(INDEX(Kalkulacja!A:A,Q135)=\"x\",\"x\",0))","v":0},"FALSE",{"$f":"MATCH(G135,Kalkulacja!$H$1:$H$459,0)","v":62},null,null,0,null,0,null,null,null,null,"Dodatkowy moduł 19",null,null,null,null,{"$f":"IFERROR(INDEX(Kalkulacja!Q:Q,Q135),0)","v":0},0]
[null,null,null,{"$f":"IFERROR(IF(N136>0,\"SUGEROWANE\",IF((INDEX(Kalkulacja!B:B,MATCH(G136,Kalkulacja!H:H,0)))=\"x\",\"USŁUGA\",\"\")),\"\")","v":""},{"$f":"Kalkulacja!H63","v":"Moduły i usługi strony www"},null,null,null,null,null,null,null,null,{"$f":"IFERROR(INDEX('Podświetlanie modułów'!H:H,MATCH(G136,'Podświetlanie modułów'!F:F,0)),0)","v":0},{"$f":"IF(COUNTIF(O137:O247,\"x\")>0,\"x\",0)","v":"x"},"TRUE",{"$f":"MATCH(E136,Kalkulacja!$H$1:$H$459,0)","v":63},null,null,0,null,0,null,null,null,null,0,null,null,null,null,{"$f":"IFERROR(INDEX(Kalkulacja!Q:Q,Q136),0)","v":0},0]
[null,null,null,{"$f":"IFERROR(IF(N137>0,\"SUGEROWANE\",IF((INDEX(Kalkulacja!B:B,MATCH(G137,Kalkulacja!H:H,0)))=\"x\",\"USŁUGA\",\"\")),\"\")","v":""},{"$f":"Kalkulacja!H64","v":"Moduły podstawowe"},null,null,null,null,null,null,null,null,{"$f":"IFERROR(INDEX('Podświetlanie modułów'!H:H,MATCH(G137,'Podświetlanie modułów'!F:F,0)),0)","v":0},{"$f":"IF(COUNTIF(O138:O202,\"x\")>0,\"x\",0)","v":"x"},"TRUE",{"$f":"MATCH(E137,Kalkulacja!$H$1:$H$459,0)","v":64},null,null,0,null,0,null,null,null,null,0,null,null,null,null,{"$f":"IFERROR(INDEX(Kalkulacja!Q:Q,Q137),0)","v":0},0]
[null,null,null,{"$f":"IFERROR(IF(N138>0,\"SUGEROWANE\",IF((INDEX(Kalkulacja!B:B,MATCH(G138,Kalkulacja!H:H,0)))=\"x\",\"USŁUGA\",\"\")),\"\")","v":""},"i",null,{"$f":"Kalkulacja!H65","v":"Edytor Elementor (Drag & Drop)"},null,null,{"$f":"M138*1","v":0},{"$f":"IFERROR(IF(Kalkulacja!$F$2=\"x\",INDEX(Kalkulacja!$R$1:$R$459,Q138),\"\"),\"\")","v":""},null,false,{"$f":"IFERROR(INDEX('Podświetlanie modułów'!H:H,MATCH(G138,'Podświetlanie modułów'!F:F,0)),0)","v":0},{"$f":"IF(M138*1>0,\"x\",IF(INDEX(Kalkulacja!A:A,Q138)=\"x\",\"x\",0))","v":0},"FALSE",{"$f":"MATCH(G138,Kalkulacja!$H$1:$H$459,0)","v":65},null,null,0,null,0,null,null,null,null,"Edytor Elementor (Drag & Drop)",null,null,null,null,{"$f":"IFERROR(INDEX(Kalkulacja!Q:Q,Q138),0)","v":0},0]
[null,null,null,{"$f":"IFERROR(IF(N139>0,\"SUGEROWANE\",IF((INDEX(Kalkulacja!B:B,MATCH(G139,Kalkulacja!H:H,0)))=\"x\",\"USŁUGA\",\"\")),\"\")","v":""},"i",{"$f":"IF(ISBLANK(G139),\" Wybierz liczbę sekcji strony głównej\",\"\")","v":""},{"$f":"INDEX(X$139:$X143,MATCH($T$139,$Y$139:$Y$143,0))","v":"Strona główna 3 sekcje (projekt + kodowanie)"},null,null,0,{"$f":"IFERROR(IF(Kalkulacja!$F$2=\"x\",INDEX(Kalkulacja!$R$1:$R$459,Q139),\"\"),\"\")","v":""},null,false,{"$f":"IFERROR(INDEX('Podświetlanie modułów'!H:H,MATCH(G139,'Podświetlanie modułów'!F:F,0)),0)","v":0},{"$f":"IF(M139*1>0,\"x\",IF(COUNTIF(Kalkulacja!$A$66:$A$70,\"x\")>0,\"x\",0))","v":"x"},"TRUE",{"$f":"MATCH(G139,Kalkulacja!$H$1:$H$459,0)","v":66},null,null,1,{"$f":"IFERROR(INDEX($Y$139:$Y$143,MATCH(\"x\",$Z$139:$Z$143,0)),1)","v":1},0,null,{"$f":"Kalkulacja!H66","v":"Strona główna 3 sekcje (projekt + kodowanie)"},1,{"$f":"INDEX(Kalkulacja!$C$66:$C$70,MATCH(X139,Kalkulacja!$H$66:$H$70,0))","v":0},"Strona główna 3 sekcje (projekt + kodowanie)",null,null,null,null,{"$f":"IFERROR(INDEX(Kalkulacja!Q:Q,Q139),0)","v":"x"},0]
[null,null,null,{"$f":"IFERROR(IF(N140>0,\"SUGEROWANE\",IF((INDEX(Kalkulacja!B:B,MATCH(G140,Kalkulacja!H:H,0)))=\"x\",\"USŁUGA\",\"\")),\"\")","v":""},"i",{"$f":"IF(ISBLANK(G140),\" Wybierz liczbę sekcji strony\",\"\")","v":""},{"$f":"Kalkulacja!H71","v":"Strona 1 sekcja (projekt + kodowanie)"},null,null,0,{"$f":"IFERROR(IF(Kalkulacja!$F$2=\"x\",INDEX(Kalkulacja!$R$1:$R$459,Q140),\"\"),\"\")","v":""},null,false,{"$f":"IFERROR(INDEX('Podświetlanie modułów'!H:H,MATCH(G140,'Podświetlanie modułów'!F:F,0)),0)","v":0},{"$f":"IF(M140*1>0,\"x\",IF(INDEX(Kalkulacja!A:A,Q140)=\"x\",\"x\",0))","v":0},"FALSE",{"$f":"MATCH(G140,Kalkulacja!$H$1:$H$459,0)","v":71},null,null,0,null,0,null,{"$f":"Kalkulacja!H67","v":"Strona główna 5 sekcji (projekt + kodowanie)"},2,{"$f":"INDEX(Kalkulacja!$C$66:$C$70,MATCH(X140,Kalkulacja!$H$66:$H$70,0))","v":0},"Strona 1 sekcja (projekt + kodowanie)",null,null,null,null,{"$f":"IFERROR(INDEX(Kalkulacja!Q:Q,Q140),0)","v":0},0]
[null,null,null,{"$f":"IFERROR(IF(N141>0,\"SUGEROWANE\",IF((INDEX(Kalkulacja!B:B,MATCH(G141,Kalkulacja!H:H,0)))=\"x\",\"USŁUGA\",\"\")),\"\")","v":""},"i",{"$f":"IF(ISBLANK(#REF!),\" Podaj szczegóły sekcji\",\"\")","v":""},null,null,null,null,null,null,0,{"$f":"IFERROR(INDEX('Podświetlanie modułów'!H:H,MATCH(G141,'Podświetlanie modułów'!F:F,0)),0)","v":0},{"$f":"IF(O140=\"x\",\"x\",0)","v":0},"FALSE",{"$f":"MATCH(G141,Kalkulacja!$H$1:$H$459,0)","v":{"$error":"#N/A"}},null,null,0,null,0,null,{"$f":"Kalkulacja!H68","v":"Strona główna 7 sekcji (projekt + kodowanie)"},3,{"$f":"INDEX(Kalkulacja!$C$66:$C$70,MATCH(X141,Kalkulacja!$H$66:$H$70,0))","v":0},0,null,null,null,null,{"$f":"IFERROR(INDEX(Kalkulacja!Q:Q,Q141),0)","v":0},0]
[null,null,null,{"$f":"IFERROR(IF(N142>0,\"SUGEROWANE\",IF((INDEX(Kalkulacja!B:B,MATCH(G142,Kalkulacja!H:H,0)))=\"x\",\"USŁUGA\",\"\")),\"\")","v":""},"i",null,{"$f":"Kalkulacja!H73","v":"Strona 2 sekcje (projekt + kodowanie)"},null,null,{"$f":"M142*1","v":0},{"$f":"IFERROR(IF(Kalkulacja!$F$2=\"x\",INDEX(Kalkulacja!$R$1:$R$459,Q142),\"\"),\"\")","v":""},null,false,{"$f":"IFERROR(INDEX('Podświetlanie modułów'!H:H,MATCH(G142,'Podświetlanie modułów'!F:F,0)),0)","v":0},{"$f":"IF(M142*1>0,\"x\",IF(INDEX(Kalkulacja!A:A,Q142)=\"x\",\"x\",0))","v":0},"FALSE",{"$f":"MATCH(G142,Kalkulacja!$H$1:$H$459,0)","v":73},null,null,0,null,0,null,{"$f":"Kalkulacja!H69","v":"Strona główna 10 sekcji (projekt + kodowanie)"},4,{"$f":"INDEX(Kalkulacja!$C$66:$C$70,MATCH(X142,Kalkulacja!$H$66:$H$70,0))","v":0},"Strona 2 sekcje (projekt + kodowanie)",null,null,null,null,{"$f":"IFERROR(INDEX(Kalkulacja!Q:Q,Q142),0)","v":0},0]
[null,null,null,{"$f":"IFERROR(IF(N143>0,\"SUGEROWANE\",IF((INDEX(Kalkulacja!B:B,MATCH(G143,Kalkulacja!H:H,0)))=\"x\",\"USŁUGA\",\"\")),\"\")","v":""},"i",null,null,null,null,null,null,null,0,{"$f":"IFERROR(INDEX('Podświetlanie modułów'!H:H,MATCH(G143,'Podświetlanie modułów'!F:F,0)),0)","v":0},{"$f":"IF(O142=\"x\",\"x\",0)","v":0},"FALSE",{"$f":"MATCH(G143,Kalkulacja!$H$1:$H$459,0)","v":{"$error":"#N/A"}},null,null,0,null,0,null,{"$f":"Kalkulacja!H70","v":"Strona główna 15 sekcji (projekt + kodowanie)"},5,{"$f":"INDEX(Kalkulacja!$C$66:$C$70,MATCH(X143,Kalkulacja!$H$66:$H$70,0))","v":0},0,null,null,null,null,{"$f":"IFERROR(INDEX(Kalkulacja!Q:Q,Q143),0)","v":0},0]
[null,null,null,{"$f":"IFERROR(IF(N144>0,\"SUGEROWANE\",IF((INDEX(Kalkulacja!B:B,MATCH(G144,Kalkulacja!H:H,0)))=\"x\",\"USŁUGA\",\"\")),\"\")","v":""},"i",null,{"$f":"Kalkulacja!H75","v":"Strona 3 sekcje (projekt + kodowanie)"},null,null,{"$f":"M144*1","v":0},{"$f":"IFERROR(IF(Kalkulacja!$F$2=\"x\",INDEX(Kalkulacja!$R$1:$R$459,Q144),\"\"),\"\")","v":""},null,false,{"$f":"IFERROR(INDEX('Podświetlanie modułów'!H:H,MATCH(G144,'Podświetlanie modułów'!F:F,0)),0)","v":0},{"$f":"IF(M144*1>0,\"x\",IF(INDEX(Kalkulacja!A:A,Q144)=\"x\",\"x\",0))","v":0},"FALSE",{"$f":"MATCH(G144,Kalkulacja!$H$1:$H$459,0)","v":75},null,null,0,null,0,null,null,null,null,"Strona 3 sekcje (projekt + kodowanie)",null,null,null,null,{"$f":"IFERROR(INDEX(Kalkulacja!Q:Q,Q144),0)","v":0},0]
[null,null,null,{"$f":"IFERROR(IF(N145>0,\"SUGEROWANE\",IF((INDEX(Kalkulacja!B:B,MATCH(G145,Kalkulacja!H:H,0)))=\"x\",\"USŁUGA\",\"\")),\"\")","v":""},"i",{"$f":"IF(ISBLANK(#REF!),\" Podaj szczegóły sekcji\",\"\")","v":""},null,null,null,null,null,null,0,{"$f":"IFERROR(INDEX('Podświetlanie modułów'!H:H,MATCH(G145,'Podświetlanie modułów'!F:F,0)),0)","v":0},{"$f":"IF(O144=\"x\",\"x\",0)","v":0},"FALSE",{"$f":"MATCH(G145,Kalkulacja!$H$1:$H$459,0)","v":{"$error":"#N/A"}},null,null,0,null,0,null,null,null,null,0,null,null,null,null,{"$f":"IFERROR(INDEX(Kalkulacja!Q:Q,Q145),0)","v":0},0]
[null,null,null,{"$f":"IFERROR(IF(N146>0,\"SUGEROWANE\",IF((INDEX(Kalkulacja!B:B,MATCH(G146,Kalkulacja!H:H,0)))=\"x\",\"USŁUGA\",\"\")),\"\")","v":""},"i",null,{"$f":"Kalkulacja!H77","v":"Strona 4 sekcje (projekt + kodowanie)"},null,null,{"$f":"M146*1","v":0},{"$f":"IFERROR(IF(Kalkulacja!$F$2=\"x\",INDEX(Kalkulacja!$R$1:$R$459,Q146),\"\"),\"\")","v":""},null,false,{"$f":"IFERROR(INDEX('Podświetlanie modułów'!H:H,MATCH(G146,'Podświetlanie modułów'!F:F,0)),0)","v":0},{"$f":"IF(M146*1>0,\"x\",IF(INDEX(Kalkulacja!A:A,Q146)=\"x\",\"x\",0))","v":0},"FALSE",{"$f":"MATCH(G146,Kalkulacja!$H$1:$H$459,0)","v":77},null,null,0,null,0,null,null,null,null,"Strona 4 sekcje (projekt + kodowanie)",null,null,null,null,{"$f":"IFERROR(INDEX(Kalkulacja!Q:Q,Q146),0)","v":0},0]
[null,null,null,{"$f":"IFERROR(IF(N147>0,\"SUGEROWANE\",IF((INDEX(Kalkulacja!B:B,MATCH(G147,Kalkulacja!H:H,0)))=\"x\",\"USŁUGA\",\"\")),\"\")","v":""},"i",null,null,null,null,null,null,null,0,{"$f":"IFERROR(INDEX('Podświetlanie modułów'!H:H,MATCH(G147,'Podświetlanie modułów'!F:F,0)),0)","v":0},{"$f":"IF(O146=\"x\",\"x\",0)","v":0},"FALSE",{"$f":"MATCH(G147,Kalkulacja!$H$1:$H$459,0)","v":{"$error":"#N/A"}},null,null,0,null,0,null,null,null,null,0,null,null,null,null,{"$f":"IFERROR(INDEX(Kalkulacja!Q:Q,Q147),0)","v":0},0]
[null,null,null,{"$f":"IFERROR(IF(N148>0,\"SUGEROWANE\",IF((INDEX(Kalkulacja!B:B,MATCH(G148,Kalkulacja!H:H,0)))=\"x\",\"USŁUGA\",\"\")),\"\")","v":""},"i",null,{"$f":"Kalkulacja!H79","v":"Strona 5 sekcji  (projekt + kodowanie)"},null,null,{"$f":"M148*1","v":0},{"$f":"IFERROR(IF(Kalkulacja!$F$2=\"x\",INDEX(Kalkulacja!$R$1:$R$459,Q148),\"\"),\"\")","v":""},null,false,{"$f":"IFERROR(INDEX('Podświetlanie modułów'!H:H,MATCH(G148,'Podświetlanie modułów'!F:F,0)),0)","v":0},{"$f":"IF(M148*1>0,\"x\",IF(INDEX(Kalkulacja!A:A,Q148)=\"x\",\"x\",0))","v":0},"FALSE",{"$f":"MATCH(G148,Kalkulacja!$H$1:$H$459,0)","v":79},null,null,0,null,0,null,null,null,null,"Strona 5 sekcji  (projekt + kodowanie)",null,null,null,null,{"$f":"IFERROR(INDEX(Kalkulacja!Q:Q,Q148),0)","v":0},0]
[null,null,null,{"$f":"IFERROR(IF(N149>0,\"SUGEROWANE\",IF((INDEX(Kalkulacja!B:B,MATCH(G149,Kalkulacja!H:H,0)))=\"x\",\"USŁUGA\",\"\")),\"\")","v":""},"i",{"$f":"IF(ISBLANK(#REF!),\" Podaj szczegóły sekcji\",\"\")","v":""},null,null,null,null,null,null,0,{"$f":"IFERROR(INDEX('Podświetlanie modułów'!H:H,MATCH(G149,'Podświetlanie modułów'!F:F,0)),0)","v":0},{"$f":"IF(O148=\"x\",\"x\",0)","v":0},"FALSE",{"$f":"MATCH(G149,Kalkulacja!$H$1:$H$459,0)","v":{"$error":"#N/A"}},null,null,0,null,0,null,null,null,null,0,null,null,null,null,{"$f":"IFERROR(INDEX(Kalkulacja!Q:Q,Q149),0)","v":0},0]
[null,null,null,{"$f":"IFERROR(IF(N150>0,\"SUGEROWANE\",IF((INDEX(Kalkulacja!B:B,MATCH(G150,Kalkulacja!H:H,0)))=\"x\",\"USŁUGA\",\"\")),\"\")","v":""},"i",null,{"$f":"Kalkulacja!H81","v":"Strona 6 sekcji (projekt + kodowanie)"},null,null,{"$f":"M150*1","v":0},{"$f":"IFERROR(IF(Kalkulacja!$F$2=\"x\",INDEX(Kalkulacja!$R$1:$R$459,Q150),\"\"),\"\")","v":""},null,false,{"$f":"IFERROR(INDEX('Podświetlanie modułów'!H:H,MATCH(G150,'Podświetlanie modułów'!F:F,0)),0)","v":0},{"$f":"IF(M150*1>0,\"x\",IF(INDEX(Kalkulacja!A:A,Q150)=\"x\",\"x\",0))","v":0},"FALSE",{"$f":"MATCH(G150,Kalkulacja!$H$1:$H$459,0)","v":81},null,null,{"$f":"U150","v":0},null,{"$f":"AG150","v":0},null,null,null,null,{"$f":"G150","v":"Strona 6 sekcji (projekt + kodowanie)"},null,null,null,null,{"$f":"IFERROR(INDEX(Kalkulacja!Q:Q,Q150),0)","v":0},0]
[null,null,null,{"$f":"IFERROR(IF(N151>0,\"SUGEROWANE\",IF((INDEX(Kalkulacja!B:B,MATCH(G151,Kalkulacja!H:H,0)))=\"x\",\"USŁUGA\",\"\")),\"\")","v":""},"i",null,null,null,null,null,null,null,0,{"$f":"IFERROR(INDEX('Podświetlanie modułów'!H:H,MATCH(G151,'Podświetlanie modułów'!F:F,0)),0)","v":0},{"$f":"IF(O150=\"x\",\"x\",0)","v":0},"FALSE",{"$f":"MATCH(G151,Kalkulacja!$H$1:$H$459,0)","v":{"$error":"#N/A"}},null,null,0,null,0,null,null,null,null,0,null,null,null,null,{"$f":"IFERROR(INDEX(Kalkulacja!Q:Q,Q151),0)","v":0},0]
[null,null,null,{"$f":"IFERROR(IF(N152>0,\"SUGEROWANE\",IF((INDEX(Kalkulacja!B:B,MATCH(G152,Kalkulacja!H:H,0)))=\"x\",\"USŁUGA\",\"\")),\"\")","v":""},"i",null,{"$f":"Kalkulacja!H83","v":"Strona 7 sekcji (projekt + kodowanie)"},null,null,{"$f":"M152*1","v":0},{"$f":"IFERROR(IF(Kalkulacja!$F$2=\"x\",INDEX(Kalkulacja!$R$1:$R$459,Q152),\"\"),\"\")","v":""},null,false,{"$f":"IFERROR(INDEX('Podświetlanie modułów'!H:H,MATCH(G152,'Podświetlanie modułów'!F:F,0)),0)","v":0},{"$f":"IF(M152*1>0,\"x\",IF(INDEX(Kalkulacja!A:A,Q152)=\"x\",\"x\",0))","v":0},"FALSE",{"$f":"MATCH(G152,Kalkulacja!$H$1:$H$459,0)","v":83},null,null,0,null,0,null,null,null,null,"Strona 7 sekcji (projekt + kodowanie)",null,null,null,null,{"$f":"IFERROR(INDEX(Kalkulacja!Q:Q,Q152),0)","v":0},0]
[null,null,null,{"$f":"IFERROR(IF(N153>0,\"SUGEROWANE\",IF((INDEX(Kalkulacja!B:B,MATCH(G153,Kalkulacja!H:H,0)))=\"x\",\"USŁUGA\",\"\")),\"\")","v":""},"i",{"$f":"IF(ISBLANK(#REF!),\" Podaj szczegóły sekcji\",\"\")","v":""},null,null,null,null,null,null,0,{"$f":"IFERROR(INDEX('Podświetlanie modułów'!H:H,MATCH(G153,'Podświetlanie modułów'!F:F,0)),0)","v":0},{"$f":"IF(O152=\"x\",\"x\",0)","v":0},"FALSE",{"$f":"MATCH(G153,Kalkulacja!$H$1:$H$459,0)","v":{"$error":"#N/A"}},null,null,0,null,0,null,null,null,null,0,null,null,null,null,{"$f":"IFERROR(INDEX(Kalkulacja!Q:Q,Q153),0)","v":0},0]
[null,null,null,{"$f":"IFERROR(IF(N154>0,\"SUGEROWANE\",IF((INDEX(Kalkulacja!B:B,MATCH(G154,Kalkulacja!H:H,0)))=\"x\",\"USŁUGA\",\"\")),\"\")","v":""},"i",null,{"$f":"Kalkulacja!H85","v":"Strona 8 sekcji (projekt + kodowanie)"},null,null,{"$f":"M154*1","v":0},{"$f":"IFERROR(IF(Kalkulacja!$F$2=\"x\",INDEX(Kalkulacja!$R$1:$R$459,Q154),\"\"),\"\")","v":""},null,false,{"$f":"IFERROR(INDEX('Podświetlanie modułów'!H:H,MATCH(G154,'Podświetlanie modułów'!F:F,0)),0)","v":0},{"$f":"IF(M154*1>0,\"x\",IF(INDEX(Kalkulacja!A:A,Q154)=\"x\",\"x\",0))","v":0},"FALSE",{"$f":"MATCH(G154,Kalkulacja!$H$1:$H$459,0)","v":85},null,null,0,null,0,null,null,null,null,"Strona 8 sekcji (projekt + kodowanie)",null,null,null,null,{"$f":"IFERROR(INDEX(Kalkulacja!Q:Q,Q154),0)","v":0},0]
[null,null,null,{"$f":"IFERROR(IF(N155>0,\"SUGEROWANE\",IF((INDEX(Kalkulacja!B:B,MATCH(G155,Kalkulacja!H:H,0)))=\"x\",\"USŁUGA\",\"\")),\"\")","v":""},"i",null,null,null,null,null,null,null,0,{"$f":"IFERROR(INDEX('Podświetlanie modułów'!H:H,MATCH(G155,'Podświetlanie modułów'!F:F,0)),0)","v":0},{"$f":"IF(O154=\"x\",\"x\",0)","v":0},"FALSE",{"$f":"MATCH(G155,Kalkulacja!$H$1:$H$459,0)","v":{"$error":"#N/A"}},null,null,0,null,0,null,null,null,null,0,null,null,null,null,{"$f":"IFERROR(INDEX(Kalkulacja!Q:Q,Q155),0)","v":0},0]
[null,null,null,{"$f":"IFERROR(IF(N156>0,\"SUGEROWANE\",IF((INDEX(Kalkulacja!B:B,MATCH(G156,Kalkulacja!H:H,0)))=\"x\",\"USŁUGA\",\"\")),\"\")","v":""},"i",null,{"$f":"Kalkulacja!H87","v":"Strona 9 sekcji (projekt + kodowanie)"},null,null,{"$f":"M156*1","v":0},{"$f":"IFERROR(IF(Kalkulacja!$F$2=\"x\",INDEX(Kalkulacja!$R$1:$R$459,Q156),\"\"),\"\")","v":""},null,false,{"$f":"IFERROR(INDEX('Podświetlanie modułów'!H:H,MATCH(G156,'Podświetlanie modułów'!F:F,0)),0)","v":0},{"$f":"IF(M156*1>0,\"x\",IF(INDEX(Kalkulacja!A:A,Q156)=\"x\",\"x\",0))","v":0},"FALSE",{"$f":"MATCH(G156,Kalkulacja!$H$1:$H$459,0)","v":87},null,null,0,null,0,null,null,null,null,"Strona 9 sekcji (projekt + kodowanie)",null,null,null,null,{"$f":"IFERROR(INDEX(Kalkulacja!Q:Q,Q156),0)","v":0},0]
[null,null,null,{"$f":"IFERROR(IF(N157>0,\"SUGEROWANE\",IF((INDEX(Kalkulacja!B:B,MATCH(G157,Kalkulacja!H:H,0)))=\"x\",\"USŁUGA\",\"\")),\"\")","v":""},"i",null,null,null,null,null,null,null,0,{"$f":"IFERROR(INDEX('Podświetlanie modułów'!H:H,MATCH(G157,'Podświetlanie modułów'!F:F,0)),0)","v":0},{"$f":"IF(O156=\"x\",\"x\",0)","v":0},"FALSE",{"$f":"MATCH(G157,Kalkulacja!$H$1:$H$459,0)","v":{"$error":"#N/A"}},null,null,0,null,0,null,null,null,null,0,null,null,null,null,{"$f":"IFERROR(INDEX(Kalkulacja!Q:Q,Q157),0)","v":0},0]
[null,null,null,{"$f":"IFERROR(IF(N158>0,\"SUGEROWANE\",IF((INDEX(Kalkulacja!B:B,MATCH(G158,Kalkulacja!H:H,0)))=\"x\",\"USŁUGA\",\"\")),\"\")","v":""},"i",null,{"$f":"Kalkulacja!H89","v":"Strona 10 sekcji (projekt + kodowanie)"},null,null,{"$f":"M158*1","v":0},{"$f":"IFERROR(IF(Kalkulacja!$F$2=\"x\",INDEX(Kalkulacja!$R$1:$R$459,Q158),\"\"),\"\")","v":""},null,false,{"$f":"IFERROR(INDEX('Podświetlanie modułów'!H:H,MATCH(G158,'Podświetlanie modułów'!F:F,0)),0)","v":0},{"$f":"IF(M158*1>0,\"x\",IF(INDEX(Kalkulacja!A:A,Q158)=\"x\",\"x\",0))","v":0},"FALSE",{"$f":"MATCH(G158,Kalkulacja!$H$1:$H$459,0)","v":89},null,null,0,null,0,null,null,null,null,"Strona 10 sekcji (projekt + kodowanie)",null,null,null,null,{"$f":"IFERROR(INDEX(Kalkulacja!Q:Q,Q158),0)","v":0},0]
[null,null,null,{"$f":"IFERROR(IF(N159>0,\"SUGEROWANE\",IF((INDEX(Kalkulacja!B:B,MATCH(G159,Kalkulacja!H:H,0)))=\"x\",\"USŁUGA\",\"\")),\"\")","v":""},"i",{"$f":"IF(ISBLANK(#REF!),\" Podaj szczegóły sekcji\",\"\")","v":""},null,null,null,null,null,null,0,{"$f":"IFERROR(INDEX('Podświetlanie modułów'!H:H,MATCH(G159,'Podświetlanie modułów'!F:F,0)),0)","v":0},{"$f":"IF(O158=\"x\",\"x\",0)","v":0},"FALSE",{"$f":"MATCH(G159,Kalkulacja!$H$1:$H$459,0)","v":{"$error":"#N/A"}},null,null,0,null,0,null,null,null,null,0,null,null,null,null,{"$f":"IFERROR(INDEX(Kalkulacja!Q:Q,Q159),0)","v":0},0]
[null,null,null,{"$f":"IFERROR(IF(N160>0,\"SUGEROWANE\",IF((INDEX(Kalkulacja!B:B,MATCH(G160,Kalkulacja!H:H,0)))=\"x\",\"USŁUGA\",\"\")),\"\")","v":""},"i",{"$f":"IF(ISBLANK(G160),\" Wybierz liczbę sekcji strony\",\"\")","v":""},{"$f":"Kalkulacja!H91","v":"Strona 1 sekcja (utworzenie i uzupełnianie)"},null,null,{"$f":"M160*1","v":0},{"$f":"IFERROR(IF(Kalkulacja!$F$2=\"x\",INDEX(Kalkulacja!$R$1:$R$459,Q160),\"\"),\"\")","v":""},null,false,{"$f":"IFERROR(INDEX('Podświetlanie modułów'!H:H,MATCH(G160,'Podświetlanie modułów'!F:F,0)),0)","v":0},{"$f":"IF(M160*1>0,\"x\",IF(COUNTIF(Kalkulacja!$A$91:$A$109,\"x\")>0,\"x\",0))","v":0},{"$f":"IF(O160=\"x\",\"TRUE\",\"FALSE\")","v":"FALSE"},{"$f":"MATCH(G160,Kalkulacja!$H$1:$H$459,0)","v":91},null,null,1,{"$f":"IFERROR(INDEX($Y$160:$Y$182,MATCH(\"x\",$Z$160:$Z$182,0)),1)","v":1},0,null,null,null,null,"Strona 1 sekcja (utworzenie i uzupełnianie)",null,null,null,null,{"$f":"IFERROR(INDEX(Kalkulacja!Q:Q,Q160),0)","v":0},0]
[null,null,null,{"$f":"IFERROR(IF(N161>0,\"SUGEROWANE\",IF((INDEX(Kalkulacja!B:B,MATCH(G161,Kalkulacja!H:H,0)))=\"x\",\"USŁUGA\",\"\")),\"\")","v":""},"i",{"$f":"IF(ISBLANK(#REF!),\" Podaj szczegóły sekcji\",\"\")","v":""},null,null,null,null,null,null,{"$f":"S161","v":0},{"$f":"IFERROR(INDEX('Podświetlanie modułów'!H:H,MATCH(G161,'Podświetlanie modułów'!F:F,0)),0)","v":0},{"$f":"IF(O160=\"x\",\"x\",0)","v":0},"FALSE",{"$f":"MATCH(G161,Kalkulacja!$H$1:$H$459,0)","v":{"$error":"#N/A"}},null,null,0,null,0,null,null,null,null,0,null,null,null,null,{"$f":"IFERROR(INDEX(Kalkulacja!Q:Q,Q161),0)","v":0},0]
[null,null,null,{"$f":"IFERROR(IF(N162>0,\"SUGEROWANE\",IF((INDEX(Kalkulacja!B:B,MATCH(G162,Kalkulacja!H:H,0)))=\"x\",\"USŁUGA\",\"\")),\"\")","v":""},"i",{"$f":"IF(ISBLANK(G162),\" Wybierz liczbę sekcji strony\",\"\")","v":""},{"$f":"Kalkulacja!H93","v":"Strona 2 sekcje (utworzenie i uzupełnianie)"},null,null,{"$f":"M162*1","v":0},{"$f":"IFERROR(IF(Kalkulacja!$F$2=\"x\",INDEX(Kalkulacja!$R$1:$R$459,Q162),\"\"),\"\")","v":""},null,false,{"$f":"IFERROR(INDEX('Podświetlanie modułów'!H:H,MATCH(G162,'Podświetlanie modułów'!F:F,0)),0)","v":0},{"$f":"IF(M162*1>0,\"x\",IF(INDEX(Kalkulacja!A:A,Q162)=\"x\",\"x\",0))","v":0},"FALSE",{"$f":"MATCH(G162,Kalkulacja!$H$1:$H$459,0)","v":93},null,null,0,null,0,null,null,null,null,"Strona 2 sekcje (utworzenie i uzupełnianie)",null,null,null,null,{"$f":"IFERROR(INDEX(Kalkulacja!Q:Q,Q162),0)","v":0},0]
[null,null,null,{"$f":"IFERROR(IF(N163>0,\"SUGEROWANE\",IF((INDEX(Kalkulacja!B:B,MATCH(G163,Kalkulacja!H:H,0)))=\"x\",\"USŁUGA\",\"\")),\"\")","v":""},"i",null,null,null,null,null,null,null,0,{"$f":"IFERROR(INDEX('Podświetlanie modułów'!H:H,MATCH(G163,'Podświetlanie modułów'!F:F,0)),0)","v":0},{"$f":"IF(O162=\"x\",\"x\",0)","v":0},"FALSE",{"$f":"MATCH(G163,Kalkulacja!$H$1:$H$459,0)","v":{"$error":"#N/A"}},null,null,0,null,0,null,null,null,null,0,null,null,null,null,{"$f":"IFERROR(INDEX(Kalkulacja!Q:Q,Q163),0)","v":0},0]
[null,null,null,{"$f":"IFERROR(IF(N164>0,\"SUGEROWANE\",IF((INDEX(Kalkulacja!B:B,MATCH(G164,Kalkulacja!H:H,0)))=\"x\",\"USŁUGA\",\"\")),\"\")","v":""},"i",{"$f":"IF(ISBLANK(G164),\" Wybierz liczbę sekcji strony\",\"\")","v":""},{"$f":"Kalkulacja!H95","v":"Strona 3 sekcje (utworzenie i uzupełnianie)"},null,null,{"$f":"M164*1","v":0},{"$f":"IFERROR(IF(Kalkulacja!$F$2=\"x\",INDEX(Kalkulacja!$R$1:$R$459,Q164),\"\"),\"\")","v":""},null,false,{"$f":"IFERROR(INDEX('Podświetlanie modułów'!H:H,MATCH(G164,'Podświetlanie modułów'!F:F,0)),0)","v":0},{"$f":"IF(M164*1>0,\"x\",IF(INDEX(Kalkulacja!A:A,Q164)=\"x\",\"x\",0))","v":0},{"$f":"IF(O164=\"x\",\"TRUE\",\"FALSE\")","v":"FALSE"},{"$f":"MATCH(G164,Kalkulacja!$H$1:$H$459,0)","v":95},null,null,0,null,0,null,null,null,null,"Strona 3 sekcje (utworzenie i uzupełnianie)",null,null,null,null,{"$f":"IFERROR(INDEX(Kalkulacja!Q:Q,Q164),0)","v":0},0]
[null,null,null,{"$f":"IFERROR(IF(N165>0,\"SUGEROWANE\",IF((INDEX(Kalkulacja!B:B,MATCH(G165,Kalkulacja!H:H,0)))=\"x\",\"USŁUGA\",\"\")),\"\")","v":""},"i",null,null,null,null,null,null,null,0,{"$f":"IFERROR(INDEX('Podświetlanie modułów'!H:H,MATCH(G165,'Podświetlanie modułów'!F:F,0)),0)","v":0},{"$f":"IF(O164=\"x\",\"x\",0)","v":0},"FALSE",{"$f":"MATCH(G165,Kalkulacja!$H$1:$H$459,0)","v":{"$error":"#N/A"}},null,null,0,null,0,null,null,null,null,0,null,null,null,null,{"$f":"IFERROR(INDEX(Kalkulacja!Q:Q,Q165),0)","v":0},0]
[null,null,null,{"$f":"IFERROR(IF(N166>0,\"SUGEROWANE\",IF((INDEX(Kalkulacja!B:B,MATCH(G166,Kalkulacja!H:H,0)))=\"x\",\"USŁUGA\",\"\")),\"\")","v":""},"i",{"$f":"IF(ISBLANK(G166),\" Wybierz liczbę sekcji strony\",\"\")","v":""},{"$f":"Kalkulacja!H97","v":"Strona 4 sekcje (utworzenie i uzupełnianie)"},null,null,{"$f":"M166*1","v":0},{"$f":"IFERROR(IF(Kalkulacja!$F$2=\"x\",INDEX(Kalkulacja!$R$1:$R$459,Q166),\"\"),\"\")","v":""},null,false,{"$f":"IFERROR(INDEX('Podświetlanie modułów'!H:H,MATCH(G166,'Podświetlanie modułów'!F:F,0)),0)","v":0},{"$f":"IF(M166*1>0,\"x\",IF(INDEX(Kalkulacja!A:A,Q166)=\"x\",\"x\",0))","v":0},"FALSE",{"$f":"MATCH(G166,Kalkulacja!$H$1:$H$459,0)","v":97},null,null,0,null,0,null,null,null,null,"Strona 4 sekcje (utworzenie i uzupełnianie)",null,null,null,null,{"$f":"IFERROR(INDEX(Kalkulacja!Q:Q,Q166),0)","v":0},0]
[null,null,null,{"$f":"IFERROR(IF(N167>0,\"SUGEROWANE\",IF((INDEX(Kalkulacja!B:B,MATCH(G167,Kalkulacja!H:H,0)))=\"x\",\"USŁUGA\",\"\")),\"\")","v":""},"i",null,null,null,null,null,null,null,0,{"$f":"IFERROR(INDEX('Podświetlanie modułów'!H:H,MATCH(G167,'Podświetlanie modułów'!F:F,0)),0)","v":0},{"$f":"IF(O166=\"x\",\"x\",0)","v":0},"FALSE",{"$f":"MATCH(G167,Kalkulacja!$H$1:$H$459,0)","v":{"$error":"#N/A"}},null,null,0,null,0,null,null,null,null,0,null,null,null,null,{"$f":"IFERROR(INDEX(Kalkulacja!Q:Q,Q167),0)","v":0},0]
[null,null,null,{"$f":"IFERROR(IF(N168>0,\"SUGEROWANE\",IF((INDEX(Kalkulacja!B:B,MATCH(G168,Kalkulacja!H:H,0)))=\"x\",\"USŁUGA\",\"\")),\"\")","v":""},"i",{"$f":"IF(ISBLANK(G168),\" Wybierz liczbę sekcji strony\",\"\")","v":""},{"$f":"Kalkulacja!H99","v":"Strona 5 sekcji (utworzenie i uzupełnianie)"},null,null,{"$f":"M168*1","v":0},{"$f":"IFERROR(IF(Kalkulacja!$F$2=\"x\",INDEX(Kalkulacja!$R$1:$R$459,Q168),\"\"),\"\")","v":""},null,false,{"$f":"IFERROR(INDEX('Podświetlanie modułów'!H:H,MATCH(G168,'Podświetlanie modułów'!F:F,0)),0)","v":0},{"$f":"IF(M168*1>0,\"x\",IF(INDEX(Kalkulacja!A:A,Q168)=\"x\",\"x\",0))","v":0},"FALSE",{"$f":"MATCH(G168,Kalkulacja!$H$1:$H$459,0)","v":99},null,null,0,null,0,null,null,null,null,"Strona 5 sekcji (utworzenie i uzupełnianie)",null,null,null,null,{"$f":"IFERROR(INDEX(Kalkulacja!Q:Q,Q168),0)","v":0},0]
[null,null,null,{"$f":"IFERROR(IF(N169>0,\"SUGEROWANE\",IF((INDEX(Kalkulacja!B:B,MATCH(G169,Kalkulacja!H:H,0)))=\"x\",\"USŁUGA\",\"\")),\"\")","v":""},"i",null,null,null,null,null,null,null,0,{"$f":"IFERROR(INDEX('Podświetlanie modułów'!H:H,MATCH(G169,'Podświetlanie modułów'!F:F,0)),0)","v":0},{"$f":"IF(O168=\"x\",\"x\",0)","v":0},"FALSE",{"$f":"MATCH(G169,Kalkulacja!$H$1:$H$459,0)","v":{"$error":"#N/A"}},null,null,0,null,0,null,null,null,null,0,null,null,null,null,{"$f":"IFERROR(INDEX(Kalkulacja!Q:Q,Q169),0)","v":0},0]
[null,null,null,{"$f":"IFERROR(IF(N170>0,\"SUGEROWANE\",IF((INDEX(Kalkulacja!B:B,MATCH(G170,Kalkulacja!H:H,0)))=\"x\",\"USŁUGA\",\"\")),\"\")","v":""},"i",{"$f":"IF(ISBLANK(G170),\" Wybierz liczbę sekcji strony\",\"\")","v":""},{"$f":"Kalkulacja!H101","v":"Strona 6 sekcji (utworzenie i uzupełnianie)"},null,null,{"$f":"M170*1","v":0},{"$f":"IFERROR(IF(Kalkulacja!$F$2=\"x\",INDEX(Kalkulacja!$R$1:$R$459,Q170),\"\"),\"\")","v":""},null,false,{"$f":"IFERROR(INDEX('Podświetlanie modułów'!H:H,MATCH(G170,'Podświetlanie modułów'!F:F,0)),0)","v":0},{"$f":"IF(M170*1>0,\"x\",IF(INDEX(Kalkulacja!A:A,Q170)=\"x\",\"x\",0))","v":0},"FALSE",{"$f":"MATCH(G170,Kalkulacja!$H$1:$H$459,0)","v":101},null,null,0,null,0,null,null,null,null,"Strona 6 sekcji (utworzenie i uzupełnianie)",null,null,null,null,{"$f":"IFERROR(INDEX(Kalkulacja!Q:Q,Q170),0)","v":0},0]
[null,null,null,{"$f":"IFERROR(IF(N171>0,\"SUGEROWANE\",IF((INDEX(Kalkulacja!B:B,MATCH(G171,Kalkulacja!H:H,0)))=\"x\",\"USŁUGA\",\"\")),\"\")","v":""},"i",null,null,null,null,null,null,null,0,{"$f":"IFERROR(INDEX('Podświetlanie modułów'!H:H,MATCH(G171,'Podświetlanie modułów'!F:F,0)),0)","v":0},{"$f":"IF(O170=\"x\",\"x\",0)","v":0},"FALSE",{"$f":"MATCH(G171,Kalkulacja!$H$1:$H$459,0)","v":{"$error":"#N/A"}},null,null,0,null,0,null,null,null,null,0,null,null,null,null,{"$f":"IFERROR(INDEX(Kalkulacja!Q:Q,Q171),0)","v":0},0]
[null,null,null,{"$f":"IFERROR(IF(N172>0,\"SUGEROWANE\",IF((INDEX(Kalkulacja!B:B,MATCH(G172,Kalkulacja!H:H,0)))=\"x\",\"USŁUGA\",\"\")),\"\")","v":""},"i",{"$f":"IF(ISBLANK(G172),\" Wybierz liczbę sekcji strony\",\"\")","v":""},{"$f":"Kalkulacja!H103","v":"Strona 7 sekcji (utworzenie i uzupełnianie)"},null,null,{"$f":"M172*1","v":0},{"$f":"IFERROR(IF(Kalkulacja!$F$2=\"x\",INDEX(Kalkulacja!$R$1:$R$459,Q172),\"\"),\"\")","v":""},null,false,{"$f":"IFERROR(INDEX('Podświetlanie modułów'!H:H,MATCH(G172,'Podświetlanie modułów'!F:F,0)),0)","v":0},{"$f":"IF(M172*1>0,\"x\",IF(INDEX(Kalkulacja!A:A,Q172)=\"x\",\"x\",0))","v":0},"FALSE",{"$f":"MATCH(G172,Kalkulacja!$H$1:$H$459,0)","v":103},null,null,0,null,0,null,null,null,null,"Strona 7 sekcji (utworzenie i uzupełnianie)",null,null,null,null,{"$f":"IFERROR(INDEX(Kalkulacja!Q:Q,Q172),0)","v":0},0]
[null,null,null,{"$f":"IFERROR(IF(N173>0,\"SUGEROWANE\",IF((INDEX(Kalkulacja!B:B,MATCH(G173,Kalkulacja!H:H,0)))=\"x\",\"USŁUGA\",\"\")),\"\")","v":""},"i",null,null,null,null,null,null,null,0,{"$f":"IFERROR(INDEX('Podświetlanie modułów'!H:H,MATCH(G173,'Podświetlanie modułów'!F:F,0)),0)","v":0},{"$f":"IF(O172=\"x\",\"x\",0)","v":0},"FALSE",{"$f":"MATCH(G173,Kalkulacja!$H$1:$H$459,0)","v":{"$error":"#N/A"}},null,null,0,null,0,null,null,null,null,0,null,null,null,null,{"$f":"IFERROR(INDEX(Kalkulacja!Q:Q,Q173),0)","v":0},0]
[null,null,null,{"$f":"IFERROR(IF(N174>0,\"SUGEROWANE\",IF((INDEX(Kalkulacja!B:B,MATCH(G174,Kalkulacja!H:H,0)))=\"x\",\"USŁUGA\",\"\")),\"\")","v":""},"i",{"$f":"IF(ISBLANK(G174),\" Wybierz liczbę sekcji strony\",\"\")","v":""},{"$f":"Kalkulacja!H105","v":"Strona 8 sekcji (utworzenie i uzupełnianie)"},null,null,{"$f":"M174*1","v":0},{"$f":"IFERROR(IF(Kalkulacja!$F$2=\"x\",INDEX(Kalkulacja!$R$1:$R$459,Q174),\"\"),\"\")","v":""},null,false,{"$f":"IFERROR(INDEX('Podświetlanie modułów'!H:H,MATCH(G174,'Podświetlanie modułów'!F:F,0)),0)","v":0},{"$f":"IF(M174*1>0,\"x\",IF(INDEX(Kalkulacja!A:A,Q174)=\"x\",\"x\",0))","v":0},"FALSE",{"$f":"MATCH(G174,Kalkulacja!$H$1:$H$459,0)","v":105},null,null,0,null,0,null,null,null,null,"Strona 8 sekcji (utworzenie i uzupełnianie)",null,null,null,null,{"$f":"IFERROR(INDEX(Kalkulacja!Q:Q,Q174),0)","v":0},0]
[null,null,null,{"$f":"IFERROR(IF(N175>0,\"SUGEROWANE\",IF((INDEX(Kalkulacja!B:B,MATCH(G175,Kalkulacja!H:H,0)))=\"x\",\"USŁUGA\",\"\")),\"\")","v":""},"i",null,null,null,null,null,null,null,0,{"$f":"IFERROR(INDEX('Podświetlanie modułów'!H:H,MATCH(G175,'Podświetlanie modułów'!F:F,0)),0)","v":0},{"$f":"IF(O174=\"x\",\"x\",0)","v":0},"FALSE",{"$f":"MATCH(G175,Kalkulacja!$H$1:$H$459,0)","v":{"$error":"#N/A"}},null,null,0,null,0,null,null,null,null,0,null,null,null,null,{"$f":"IFERROR(INDEX(Kalkulacja!Q:Q,Q175),0)","v":0},0]
[null,null,null,{"$f":"IFERROR(IF(N176>0,\"SUGEROWANE\",IF((INDEX(Kalkulacja!B:B,MATCH(G176,Kalkulacja!H:H,0)))=\"x\",\"USŁUGA\",\"\")),\"\")","v":""},"i",{"$f":"IF(ISBLANK(G176),\" Wybierz liczbę sekcji strony\",\"\")","v":""},{"$f":"Kalkulacja!H107","v":"Strona 9 sekcji (utworzenie i uzupełnianie)"},null,null,{"$f":"M176*1","v":0},{"$f":"IFERROR(IF(Kalkulacja!$F$2=\"x\",INDEX(Kalkulacja!$R$1:$R$459,Q176),\"\"),\"\")","v":""},null,false,{"$f":"IFERROR(INDEX('Podświetlanie modułów'!H:H,MATCH(G176,'Podświetlanie modułów'!F:F,0)),0)","v":0},{"$f":"IF(M176*1>0,\"x\",IF(INDEX(Kalkulacja!A:A,Q176)=\"x\",\"x\",0))","v":0},"FALSE",{"$f":"MATCH(G176,Kalkulacja!$H$1:$H$459,0)","v":107},null,null,0,null,0,null,null,null,null,"Strona 9 sekcji (utworzenie i uzupełnianie)",null,null,null,null,{"$f":"IFERROR(INDEX(Kalkulacja!Q:Q,Q176),0)","v":0},0]
[null,null,null,{"$f":"IFERROR(IF(N177>0,\"SUGEROWANE\",IF((INDEX(Kalkulacja!B:B,MATCH(G177,Kalkulacja!H:H,0)))=\"x\",\"USŁUGA\",\"\")),\"\")","v":""},"i",null,null,null,null,null,null,null,0,{"$f":"IFERROR(INDEX('Podświetlanie modułów'!H:H,MATCH(G177,'Podświetlanie modułów'!F:F,0)),0)","v":0},{"$f":"IF(O176=\"x\",\"x\",0)","v":0},"FALSE",{"$f":"MATCH(G177,Kalkulacja!$H$1:$H$459,0)","v":{"$error":"#N/A"}},null,null,0,null,0,null,null,null,null,0,null,null,null,null,{"$f":"IFERROR(INDEX(Kalkulacja!Q:Q,Q177),0)","v":0},0]
[null,null,null,{"$f":"IFERROR(IF(N178>0,\"SUGEROWANE\",IF((INDEX(Kalkulacja!B:B,MATCH(G178,Kalkulacja!H:H,0)))=\"x\",\"USŁUGA\",\"\")),\"\")","v":""},"i",{"$f":"IF(ISBLANK(G178),\" Wybierz liczbę sekcji strony\",\"\")","v":""},{"$f":"Kalkulacja!H109","v":"Strona 10 sekcji (utworzenie i uzupełnianie)"},null,null,{"$f":"M178*1","v":0},{"$f":"IFERROR(IF(Kalkulacja!$F$2=\"x\",INDEX(Kalkulacja!$R$1:$R$459,Q178),\"\"),\"\")","v":""},null,false,{"$f":"IFERROR(INDEX('Podświetlanie modułów'!H:H,MATCH(G178,'Podświetlanie modułów'!F:F,0)),0)","v":0},{"$f":"IF(M178*1>0,\"x\",IF(INDEX(Kalkulacja!A:A,Q178)=\"x\",\"x\",0))","v":0},"FALSE",{"$f":"MATCH(G178,Kalkulacja!$H$1:$H$459,0)","v":109},null,null,0,null,0,null,null,null,null,"Strona 10 sekcji (utworzenie i uzupełnianie)",null,null,null,null,{"$f":"IFERROR(INDEX(Kalkulacja!Q:Q,Q178),0)","v":0},0]
[null,null,null,{"$f":"IFERROR(IF(N179>0,\"SUGEROWANE\",IF((INDEX(Kalkulacja!B:B,MATCH(G179,Kalkulacja!H:H,0)))=\"x\",\"USŁUGA\",\"\")),\"\")","v":""},"i",null,null,null,null,null,null,null,0,{"$f":"IFERROR(INDEX('Podświetlanie modułów'!H:H,MATCH(G179,'Podświetlanie modułów'!F:F,0)),0)","v":0},{"$f":"IF(O178=\"x\",\"x\",0)","v":0},"FALSE",{"$f":"MATCH(G179,Kalkulacja!$H$1:$H$459,0)","v":{"$error":"#N/A"}},null,null,0,null,0,null,null,null,null,0,null,null,null,null,{"$f":"IFERROR(INDEX(Kalkulacja!Q:Q,Q179),0)","v":0},0]
[null,null,null,{"$f":"IFERROR(IF(N180>0,\"SUGEROWANE\",IF((INDEX(Kalkulacja!B:B,MATCH(G180,Kalkulacja!H:H,0)))=\"x\",\"USŁUGA\",\"\")),\"\")","v":""},"i",{"$f":"IF(ISBLANK(G180),\" Wybierz rodzaj menu\",\"\")","v":""},{"$f":"INDEX(X$187:$X189,MATCH($T$180,$Y$187:$Y$189,0))","v":"Menu nawigacyjne proste"},null,null,{"$f":"M180*1","v":0},{"$f":"IFERROR(IF(Kalkulacja!$F$2=\"x\",INDEX(Kalkulacja!$R$1:$R$459,Q180),\"\"),\"\")","v":""},null,false,{"$f":"IFERROR(INDEX('Podświetlanie modułów'!H:H,MATCH(G180,'Podświetlanie modułów'!F:F,0)),0)","v":0},{"$f":"IF(M180*1>0,\"x\",IF(COUNTIF(Kalkulacja!$A$111:$A$113,\"x\")>0,\"x\",0))","v":"x"},"TRUE",{"$f":"MATCH(G180,Kalkulacja!$H$1:$H$459,0)","v":111},null,null,1,{"$f":"IFERROR(INDEX($Y$187:$Y$189,MATCH(\"x\",$Z$187:$Z$189,0)),1)","v":1},0,null,null,null,null,"Menu nawigacyjne proste",null,null,null,null,{"$f":"IFERROR(INDEX(Kalkulacja!Q:Q,Q180),0)","v":"x"},0]
[null,null,null,{"$f":"IFERROR(IF(N181>0,\"SUGEROWANE\",IF((INDEX(Kalkulacja!B:B,MATCH(G181,Kalkulacja!H:H,0)))=\"x\",\"USŁUGA\",\"\")),\"\")","v":""},"i",null,{"$f":"Kalkulacja!H114","v":"Submenu OnePage do wybranej podstrony"},null,null,0,{"$f":"IFERROR(IF(Kalkulacja!$F$2=\"x\",INDEX(Kalkulacja!$R$1:$R$459,Q181),\"\"),\"\")","v":""},null,false,{"$f":"IFERROR(INDEX('Podświetlanie modułów'!H:H,MATCH(G181,'Podświetlanie modułów'!F:F,0)),0)","v":0},{"$f":"IF(M181*1>0,\"x\",IF(INDEX(Kalkulacja!A:A,Q181)=\"x\",\"x\",0))","v":0},"FALSE",{"$f":"MATCH(G181,Kalkulacja!$H$1:$H$459,0)","v":114},null,null,0,null,0,null,null,null,null,"Submenu OnePage do wybranej podstrony",null,null,null,null,{"$f":"IFERROR(INDEX(Kalkulacja!Q:Q,Q181),0)","v":0},0]
[null,null,null,{"$f":"IFERROR(IF(N182>0,\"SUGEROWANE\",IF((INDEX(Kalkulacja!B:B,MATCH(G182,Kalkulacja!H:H,0)))=\"x\",\"USŁUGA\",\"\")),\"\")","v":""},"i",null,{"$f":"Kalkulacja!H115","v":"Baner/wideo na stronie głównej (bez zmiany slajdów)"},null,null,0,{"$f":"IFERROR(IF(Kalkulacja!$F$2=\"x\",INDEX(Kalkulacja!$R$1:$R$459,Q182),\"\"),\"\")","v":""},null,false,{"$f":"IFERROR(INDEX('Podświetlanie modułów'!H:H,MATCH(G182,'Podświetlanie modułów'!F:F,0)),0)","v":0},{"$f":"IF(M182*1>0,\"x\",IF(INDEX(Kalkulacja!A:A,Q182)=\"x\",\"x\",0))","v":"x"},"TRUE",{"$f":"MATCH(G182,Kalkulacja!$H$1:$H$459,0)","v":115},null,null,0,null,0,null,null,null,null,"Baner/wideo na stronie głównej (bez zmiany slajdów)",null,null,null,null,{"$f":"IFERROR(INDEX(Kalkulacja!Q:Q,Q182),0)","v":"x"},0]
[null,null,null,{"$f":"IFERROR(IF(N183>0,\"SUGEROWANE\",IF((INDEX(Kalkulacja!B:B,MATCH(G183,Kalkulacja!H:H,0)))=\"x\",\"USŁUGA\",\"\")),\"\")","v":""},"i",null,{"$f":"Kalkulacja!H116","v":"Domyślny slider na stronie głównej (1 szt)"},null,null,0,{"$f":"IFERROR(IF(Kalkulacja!$F$2=\"x\",INDEX(Kalkulacja!$R$1:$R$459,Q183),\"\"),\"\")","v":""},null,false,{"$f":"IFERROR(INDEX('Podświetlanie modułów'!H:H,MATCH(G183,'Podświetlanie modułów'!F:F,0)),0)","v":0},{"$f":"IF(M183*1>0,\"x\",IF(INDEX(Kalkulacja!A:A,Q183)=\"x\",\"x\",0))","v":"x"},"TRUE",{"$f":"MATCH(G183,Kalkulacja!$H$1:$H$459,0)","v":116},null,null,0,null,0,null,null,null,null,"Domyślny slider na stronie głównej (1 szt)",null,null,null,null,{"$f":"IFERROR(INDEX(Kalkulacja!Q:Q,Q183),0)","v":"x"},0]
[null,null,null,{"$f":"IFERROR(IF(N184>0,\"SUGEROWANE\",IF((INDEX(Kalkulacja!B:B,MATCH(G184,Kalkulacja!H:H,0)))=\"x\",\"USŁUGA\",\"\")),\"\")","v":"USŁUGA"},"i",null,{"$f":"Kalkulacja!H117","v":"Utworzenie kolejnego slajdu na slider (1 szt)"},null,null,0,{"$f":"IFERROR(IF(Kalkulacja!$F$2=\"x\",INDEX(Kalkulacja!$R$1:$R$459,Q184),\"\"),\"\")","v":""},null,false,{"$f":"IFERROR(INDEX('Podświetlanie modułów'!H:H,MATCH(G184,'Podświetlanie modułów'!F:F,0)),0)","v":0},{"$f":"IF(M184*1>0,\"x\",IF(INDEX(Kalkulacja!A:A,Q184)=\"x\",\"x\",0))","v":"x"},"TRUE",{"$f":"MATCH(G184,Kalkulacja!$H$1:$H$459,0)","v":117},null,null,0,null,0,null,null,null,null,"Utworzenie kolejnego slajdu na slider (1 szt)",null,null,null,null,{"$f":"IFERROR(INDEX(Kalkulacja!Q:Q,Q184),0)","v":"x"},0]
[null,null,null,{"$f":"IFERROR(IF(N185>0,\"SUGEROWANE\",IF((INDEX(Kalkulacja!B:B,MATCH(G185,Kalkulacja!H:H,0)))=\"x\",\"USŁUGA\",\"\")),\"\")","v":""},"i",null,{"$f":"Kalkulacja!H118","v":"Slider szyty na miarę"},null,null,0,{"$f":"IFERROR(IF(Kalkulacja!$F$2=\"x\",INDEX(Kalkulacja!$R$1:$R$459,Q185),\"\"),\"\")","v":""},null,false,{"$f":"IFERROR(INDEX('Podświetlanie modułów'!H:H,MATCH(G185,'Podświetlanie modułów'!F:F,0)),0)","v":0},{"$f":"IF(M185*1>0,\"x\",IF(INDEX(Kalkulacja!A:A,Q185)=\"x\",\"x\",0))","v":"x"},"TRUE",{"$f":"MATCH(G185,Kalkulacja!$H$1:$H$459,0)","v":118},null,null,0,null,0,null,null,null,null,"Slider szyty na miarę",null,null,null,null,{"$f":"IFERROR(INDEX(Kalkulacja!Q:Q,Q185),0)","v":0},0]
[null,null,null,{"$f":"IFERROR(IF(N186>0,\"SUGEROWANE\",IF((INDEX(Kalkulacja!B:B,MATCH(G186,Kalkulacja!H:H,0)))=\"x\",\"USŁUGA\",\"\")),\"\")","v":""},"i",null,{"$f":"Kalkulacja!H119","v":"Slider w treści (Elementor)"},null,null,0,{"$f":"IFERROR(IF(Kalkulacja!$F$2=\"x\",INDEX(Kalkulacja!$R$1:$R$459,Q186),\"\"),\"\")","v":""},null,0,{"$f":"IFERROR(INDEX('Podświetlanie modułów'!H:H,MATCH(G186,'Podświetlanie modułów'!F:F,0)),0)","v":0},{"$f":"IF(M186*1>0,\"x\",IF(INDEX(Kalkulacja!A:A,Q186)=\"x\",\"x\",0))","v":0},"FALSE",{"$f":"MATCH(G186,Kalkulacja!$H$1:$H$459,0)","v":119},null,null,0,null,0,null,null,null,null,"Slider w treści (Elementor)",null,null,null,null,{"$f":"IFERROR(INDEX(Kalkulacja!Q:Q,Q186),0)","v":0},0]
[null,null,null,{"$f":"IFERROR(IF(N187>0,\"SUGEROWANE\",IF((INDEX(Kalkulacja!B:B,MATCH(G187,Kalkulacja!H:H,0)))=\"x\",\"USŁUGA\",\"\")),\"\")","v":""},"i",null,{"$f":"Kalkulacja!H120","v":"Galeria zdjęć (podstawowa w WordPress)"},null,null,0,{"$f":"IFERROR(IF(Kalkulacja!$F$2=\"x\",INDEX(Kalkulacja!$R$1:$R$459,Q187),\"\"),\"\")","v":""},null,false,{"$f":"IFERROR(INDEX('Podświetlanie modułów'!H:H,MATCH(G187,'Podświetlanie modułów'!F:F,0)),0)","v":0},{"$f":"IF(M187*1>0,\"x\",IF(INDEX(Kalkulacja!A:A,Q187)=\"x\",\"x\",0))","v":"x"},"TRUE",{"$f":"MATCH(G187,Kalkulacja!$H$1:$H$459,0)","v":120},null,null,0,null,0,null,{"$f":"Kalkulacja!H111","v":"Menu nawigacyjne proste"},1,{"$f":"INDEX(Kalkulacja!$C$111:$C$113,MATCH(X187,Kalkulacja!$H$111:$H$113,0))","v":"x"},"Galeria zdjęć (podstawowa w WordPress)",null,null,null,null,{"$f":"IFERROR(INDEX(Kalkulacja!Q:Q,Q187),0)","v":"x"},0]
[null,null,null,{"$f":"IFERROR(IF(N188>0,\"SUGEROWANE\",IF((INDEX(Kalkulacja!B:B,MATCH(G188,Kalkulacja!H:H,0)))=\"x\",\"USŁUGA\",\"\")),\"\")","v":""},"i",null,{"$f":"Kalkulacja!H121","v":"Galeria zdjęć (Elementor)"},null,null,0,{"$f":"IFERROR(IF(Kalkulacja!$F$2=\"x\",INDEX(Kalkulacja!$R$1:$R$459,Q188),\"\"),\"\")","v":""},null,false,{"$f":"IFERROR(INDEX('Podświetlanie modułów'!H:H,MATCH(G188,'Podświetlanie modułów'!F:F,0)),0)","v":0},{"$f":"IF(M188*1>0,\"x\",IF(INDEX(Kalkulacja!A:A,Q188)=\"x\",\"x\",0))","v":"x"},"TRUE",{"$f":"MATCH(G188,Kalkulacja!$H$1:$H$459,0)","v":121},null,null,0,null,0,null,{"$f":"Kalkulacja!H112","v":"Menu nawigacyjne 2 poziomowe"},2,{"$f":"INDEX(Kalkulacja!$C$111:$C$113,MATCH(X188,Kalkulacja!$H$111:$H$113,0))","v":0},"Galeria zdjęć (Elementor)",null,null,null,null,{"$f":"IFERROR(INDEX(Kalkulacja!Q:Q,Q188),0)","v":0},0]
[null,null,null,{"$f":"IFERROR(IF(N189>0,\"SUGEROWANE\",IF((INDEX(Kalkulacja!B:B,MATCH(G189,Kalkulacja!H:H,0)))=\"x\",\"USŁUGA\",\"\")),\"\")","v":""},"i",null,{"$f":"Kalkulacja!H122","v":"Galeria zdjęć ACF (nietypowy układ, karuzela)"},null,null,0,{"$f":"IFERROR(IF(Kalkulacja!$F$2=\"x\",INDEX(Kalkulacja!$R$1:$R$459,Q189),\"\"),\"\")","v":""},null,0,{"$f":"IFERROR(INDEX('Podświetlanie modułów'!H:H,MATCH(G189,'Podświetlanie modułów'!F:F,0)),0)","v":0},{"$f":"IF(M189*1>0,\"x\",IF(INDEX(Kalkulacja!A:A,Q189)=\"x\",\"x\",0))","v":0},"FALSE",{"$f":"MATCH(G189,Kalkulacja!$H$1:$H$459,0)","v":122},null,null,0,null,0,null,{"$f":"Kalkulacja!H113","v":"Mega nawigacyjne 3 poziomowe"},3,{"$f":"INDEX(Kalkulacja!$C$111:$C$113,MATCH(X189,Kalkulacja!$H$111:$H$113,0))","v":0},"Galeria zdjęć ACF (nietypowy układ, karuzela)",null,null,null,null,{"$f":"IFERROR(INDEX(Kalkulacja!Q:Q,Q189),0)","v":0},0]
[null,null,null,{"$f":"IFERROR(IF(N190>0,\"SUGEROWANE\",IF((INDEX(Kalkulacja!B:B,MATCH(G190,Kalkulacja!H:H,0)))=\"x\",\"USŁUGA\",\"\")),\"\")","v":""},"i",null,{"$f":"Kalkulacja!H123","v":"Biblioteka mediów"},null,null,0,{"$f":"IFERROR(IF(Kalkulacja!$F$2=\"x\",INDEX(Kalkulacja!$R$1:$R$459,Q190),\"\"),\"\")","v":""},null,false,{"$f":"IFERROR(INDEX('Podświetlanie modułów'!H:H,MATCH(G190,'Podświetlanie modułów'!F:F,0)),0)","v":0},{"$f":"IF(M190*1>0,\"x\",IF(INDEX(Kalkulacja!A:A,Q190)=\"x\",\"x\",0))","v":"x"},"TRUE",{"$f":"MATCH(G190,Kalkulacja!$H$1:$H$459,0)","v":123},null,null,0,null,0,null,null,null,null,"Biblioteka mediów",null,null,null,null,{"$f":"IFERROR(INDEX(Kalkulacja!Q:Q,Q190),0)","v":"x"},0]
[null,null,null,{"$f":"IFERROR(IF(N191>0,\"SUGEROWANE\",IF((INDEX(Kalkulacja!B:B,MATCH(G191,Kalkulacja!H:H,0)))=\"x\",\"USŁUGA\",\"\")),\"\")","v":""},"i",null,{"$f":"Kalkulacja!H124","v":"Foldery w bibliotece mediów"},null,null,0,{"$f":"IFERROR(IF(Kalkulacja!$F$2=\"x\",INDEX(Kalkulacja!$R$1:$R$459,Q191),\"\"),\"\")","v":""},null,0,{"$f":"IFERROR(INDEX('Podświetlanie modułów'!H:H,MATCH(G191,'Podświetlanie modułów'!F:F,0)),0)","v":0},{"$f":"IF(M191*1>0,\"x\",IF(INDEX(Kalkulacja!A:A,Q191)=\"x\",\"x\",0))","v":0},"FALSE",{"$f":"MATCH(G191,Kalkulacja!$H$1:$H$459,0)","v":124},null,null,0,null,0,null,null,null,null,"Foldery w bibliotece mediów",null,null,null,null,{"$f":"IFERROR(INDEX(Kalkulacja!Q:Q,Q191),0)","v":0},0]
[null,null,null,{"$f":"IFERROR(IF(N192>0,\"SUGEROWANE\",IF((INDEX(Kalkulacja!B:B,MATCH(G192,Kalkulacja!H:H,0)))=\"x\",\"USŁUGA\",\"\")),\"\")","v":""},"i",{"$f":"IF(ISBLANK(G192),\" Wybierz rodzaj mapy\",\"\")","v":""},{"$f":"INDEX(X$192:$X196,MATCH($T$192,$Y$192:$Y$196,0))","v":"Mapa prosta Google Mapy"},null,null,0,{"$f":"IFERROR(IF(Kalkulacja!$F$2=\"x\",INDEX(Kalkulacja!$R$1:$R$459,Q192),\"\"),\"\")","v":""},null,false,{"$f":"IFERROR(INDEX('Podświetlanie modułów'!H:H,MATCH(G192,'Podświetlanie modułów'!F:F,0)),0)","v":0},{"$f":"IF(M192*1>0,\"x\",IF(COUNTIF(Kalkulacja!$A$125:$A$129,\"x\")>0,\"x\",0))","v":"x"},"TRUE",{"$f":"MATCH(G192,Kalkulacja!$H$1:$H$459,0)","v":126},null,null,2,{"$f":"IFERROR(INDEX($Y$192:$Y$196,MATCH(\"x\",$Z$192:$Z$196,0)),1)","v":2},0,null,{"$f":"Kalkulacja!H125","v":"Mapa jako obrazek z Google Mapy (bez interaktywności)"},1,{"$f":"INDEX(Kalkulacja!$C$125:$C$129,MATCH(X192,Kalkulacja!$H$125:$H$129,0))","v":0},"Mapa prosta Google Mapy",null,null,null,null,{"$f":"IFERROR(INDEX(Kalkulacja!Q:Q,Q192),0)","v":"x"},0]
[null,null,null,{"$f":"IFERROR(IF(N193>0,\"SUGEROWANE\",IF((INDEX(Kalkulacja!B:B,MATCH(G193,Kalkulacja!H:H,0)))=\"x\",\"USŁUGA\",\"\")),\"\")","v":""},"i",{"$f":"IF(ISBLANK(G193),\" Wybierz rodzaj wyszukiwarki\",\"\")","v":""},{"$f":"INDEX(X$198:$X200,MATCH($T$193,$Y$198:$Y$200,0))","v":"Wyszukiwarka podstawowa z obrazkami"},null,null,0,{"$f":"IFERROR(IF(Kalkulacja!$F$2=\"x\",INDEX(Kalkulacja!$R$1:$R$459,Q193),\"\"),\"\")","v":""},null,false,{"$f":"IFERROR(INDEX('Podświetlanie modułów'!H:H,MATCH(G193,'Podświetlanie modułów'!F:F,0)),0)","v":0},{"$f":"IF(M193*1>0,\"x\",IF(COUNTIF(Kalkulacja!$A$130:$A$132,\"x\")>0,\"x\",0))","v":"x"},"TRUE",{"$f":"MATCH(G193,Kalkulacja!$H$1:$H$459,0)","v":131},null,null,2,{"$f":"IFERROR(INDEX($Y$198:$Y$200,MATCH(\"x\",$Z$198:$Z$200,0)),1)","v":2},0,null,{"$f":"Kalkulacja!H126","v":"Mapa prosta Google Mapy"},2,{"$f":"INDEX(Kalkulacja!$C$125:$C$129,MATCH(X193,Kalkulacja!$H$125:$H$129,0))","v":"x"},"Wyszukiwarka podstawowa z obrazkami",null,null,null,null,{"$f":"IFERROR(INDEX(Kalkulacja!Q:Q,Q193),0)","v":"x"},0]
[null,null,null,{"$f":"IFERROR(IF(N194>0,\"SUGEROWANE\",IF((INDEX(Kalkulacja!B:B,MATCH(G194,Kalkulacja!H:H,0)))=\"x\",\"USŁUGA\",\"\")),\"\")","v":""},"i",null,{"$f":"Kalkulacja!H133","v":"Formularz kontaktowy (5 pól)"},null,null,0,{"$f":"IFERROR(IF(Kalkulacja!$F$2=\"x\",INDEX(Kalkulacja!$R$1:$R$459,Q194),\"\"),\"\")","v":""},null,false,{"$f":"IFERROR(INDEX('Podświetlanie modułów'!H:H,MATCH(G194,'Podświetlanie modułów'!F:F,0)),0)","v":0},{"$f":"IF(M194*1>0,\"x\",IF(INDEX(Kalkulacja!A:A,Q194)=\"x\",\"x\",0))","v":"x"},"TRUE",{"$f":"MATCH(G194,Kalkulacja!$H$1:$H$459,0)","v":133},null,null,0,null,0,null,{"$f":"Kalkulacja!H127","v":"Mapa interaktywna z autorskimi kolorami Google Mapy (API)"},3,{"$f":"INDEX(Kalkulacja!$C$125:$C$129,MATCH(X194,Kalkulacja!$H$125:$H$129,0))","v":0},"Formularz kontaktowy (5 pól)",null,null,null,null,{"$f":"IFERROR(INDEX(Kalkulacja!Q:Q,Q194),0)","v":"x"},0]
[null,null,null,{"$f":"IFERROR(IF(N195>0,\"SUGEROWANE\",IF((INDEX(Kalkulacja!B:B,MATCH(G195,Kalkulacja!H:H,0)))=\"x\",\"USŁUGA\",\"\")),\"\")","v":""},"i",null,{"$f":"Kalkulacja!H134","v":"Formularz kontaktowy (10 pól)"},null,null,0,{"$f":"IFERROR(IF(Kalkulacja!$F$2=\"x\",INDEX(Kalkulacja!$R$1:$R$459,Q195),\"\"),\"\")","v":""},null,0,{"$f":"IFERROR(INDEX('Podświetlanie modułów'!H:H,MATCH(G195,'Podświetlanie modułów'!F:F,0)),0)","v":0},{"$f":"IF(M195*1>0,\"x\",IF(INDEX(Kalkulacja!A:A,Q195)=\"x\",\"x\",0))","v":0},"FALSE",{"$f":"MATCH(G195,Kalkulacja!$H$1:$H$459,0)","v":134},null,null,0,null,0,null,{"$f":"Kalkulacja!H128","v":"Mapa graficzna (sytuacjna)"},4,{"$f":"INDEX(Kalkulacja!$C$125:$C$129,MATCH(X195,Kalkulacja!$H$125:$H$129,0))","v":0},"Formularz kontaktowy (10 pól)",null,null,null,null,{"$f":"IFERROR(INDEX(Kalkulacja!Q:Q,Q195),0)","v":0},0]
[null,null,null,{"$f":"IFERROR(IF(N196>0,\"SUGEROWANE\",IF((INDEX(Kalkulacja!B:B,MATCH(G196,Kalkulacja!H:H,0)))=\"x\",\"USŁUGA\",\"\")),\"\")","v":""},"i",null,{"$f":"Kalkulacja!H135","v":"Formularz kontaktowy (15 pól)"},null,null,0,{"$f":"IFERROR(IF(Kalkulacja!$F$2=\"x\",INDEX(Kalkulacja!$R$1:$R$459,Q196),\"\"),\"\")","v":""},null,0,{"$f":"IFERROR(INDEX('Podświetlanie modułów'!H:H,MATCH(G196,'Podświetlanie modułów'!F:F,0)),0)","v":0},{"$f":"IF(M196*1>0,\"x\",IF(INDEX(Kalkulacja!A:A,Q196)=\"x\",\"x\",0))","v":0},"FALSE",{"$f":"MATCH(G196,Kalkulacja!$H$1:$H$459,0)","v":135},null,null,0,null,0,null,{"$f":"Kalkulacja!H129","v":"Mapa graficzna (sytuacyjna) + interaktywność"},5,{"$f":"INDEX(Kalkulacja!$C$125:$C$129,MATCH(X196,Kalkulacja!$H$125:$H$129,0))","v":0},"Formularz kontaktowy (15 pól)",null,null,null,null,{"$f":"IFERROR(INDEX(Kalkulacja!Q:Q,Q196),0)","v":0},0]
[null,null,null,{"$f":"IFERROR(IF(N197>0,\"SUGEROWANE\",IF((INDEX(Kalkulacja!B:B,MATCH(G197,Kalkulacja!H:H,0)))=\"x\",\"USŁUGA\",\"\")),\"\")","v":""},"i",null,{"$f":"Kalkulacja!H136","v":"Formularz z załącznikami (5-15 pól)"},null,null,0,{"$f":"IFERROR(IF(Kalkulacja!$F$2=\"x\",INDEX(Kalkulacja!$R$1:$R$459,Q197),\"\"),\"\")","v":""},null,0,{"$f":"IFERROR(INDEX('Podświetlanie modułów'!H:H,MATCH(G197,'Podświetlanie modułów'!F:F,0)),0)","v":0},{"$f":"IF(M197*1>0,\"x\",IF(INDEX(Kalkulacja!A:A,Q197)=\"x\",\"x\",0))","v":0},"FALSE",{"$f":"MATCH(G197,Kalkulacja!$H$1:$H$459,0)","v":136},null,null,0,null,0,null,null,null,null,"Formularz z załącznikami (5-15 pól)",null,null,null,null,{"$f":"IFERROR(INDEX(Kalkulacja!Q:Q,Q197),0)","v":0},0]
[null,null,null,{"$f":"IFERROR(IF(N198>0,\"SUGEROWANE\",IF((INDEX(Kalkulacja!B:B,MATCH(G198,Kalkulacja!H:H,0)))=\"x\",\"USŁUGA\",\"\")),\"\")","v":"USŁUGA"},"i",null,{"$f":"Kalkulacja!H137","v":"Logotypy - rotator (do 10 szt)"},null,null,0,{"$f":"IFERROR(IF(Kalkulacja!$F$2=\"x\",INDEX(Kalkulacja!$R$1:$R$459,Q198),\"\"),\"\")","v":""},null,0,{"$f":"IFERROR(INDEX('Podświetlanie modułów'!H:H,MATCH(G198,'Podświetlanie modułów'!F:F,0)),0)","v":0},{"$f":"IF(M198*1>0,\"x\",IF(INDEX(Kalkulacja!A:A,Q198)=\"x\",\"x\",0))","v":"x"},"TRUE",{"$f":"MATCH(G198,Kalkulacja!$H$1:$H$459,0)","v":137},null,null,0,null,0,null,{"$f":"Kalkulacja!H130","v":"Wyszukiwarka podstawowa z wynikami tekstowymi"},1,{"$f":"INDEX(Kalkulacja!$C$130:$C$132,MATCH(X198,Kalkulacja!$H$130:$H$132,0))","v":0},"Logotypy - rotator (do 10 szt)",null,null,null,null,{"$f":"IFERROR(INDEX(Kalkulacja!Q:Q,Q198),0)","v":0},0]
[null,null,null,{"$f":"IFERROR(IF(N199>0,\"SUGEROWANE\",IF((INDEX(Kalkulacja!B:B,MATCH(G199,Kalkulacja!H:H,0)))=\"x\",\"USŁUGA\",\"\")),\"\")","v":""},"i",null,{"$f":"Kalkulacja!H138","v":"Dodatkowy moduł 20"},null,null,0,{"$f":"IFERROR(IF(Kalkulacja!$F$2=\"x\",INDEX(Kalkulacja!$R$1:$R$459,Q199),\"\"),\"\")","v":""},null,0,{"$f":"IFERROR(INDEX('Podświetlanie modułów'!H:H,MATCH(G199,'Podświetlanie modułów'!F:F,0)),0)","v":0},{"$f":"IF(M199*1>0,\"x\",IF(INDEX(Kalkulacja!A:A,Q199)=\"x\",\"x\",0))","v":0},"FALSE",{"$f":"MATCH(G199,Kalkulacja!$H$1:$H$459,0)","v":138},null,null,0,null,0,null,{"$f":"Kalkulacja!H131","v":"Wyszukiwarka podstawowa z obrazkami"},2,{"$f":"INDEX(Kalkulacja!$C$130:$C$132,MATCH(X199,Kalkulacja!$H$130:$H$132,0))","v":"x"},"Dodatkowy moduł 20",null,null,null,null,{"$f":"IFERROR(INDEX(Kalkulacja!Q:Q,Q199),0)","v":0},0]
[null,null,null,{"$f":"IFERROR(IF(N200>0,\"SUGEROWANE\",IF((INDEX(Kalkulacja!B:B,MATCH(G200,Kalkulacja!H:H,0)))=\"x\",\"USŁUGA\",\"\")),\"\")","v":""},"i",null,{"$f":"Kalkulacja!H139","v":"Dodatkowy moduł 21"},null,null,0,{"$f":"IFERROR(IF(Kalkulacja!$F$2=\"x\",INDEX(Kalkulacja!$R$1:$R$459,Q200),\"\"),\"\")","v":""},null,0,{"$f":"IFERROR(INDEX('Podświetlanie modułów'!H:H,MATCH(G200,'Podświetlanie modułów'!F:F,0)),0)","v":0},{"$f":"IF(M200*1>0,\"x\",IF(INDEX(Kalkulacja!A:A,Q200)=\"x\",\"x\",0))","v":0},"FALSE",{"$f":"MATCH(G200,Kalkulacja!$H$1:$H$459,0)","v":139},null,null,0,null,0,null,{"$f":"Kalkulacja!H132","v":"Wyszukiwarka z wynikami dynamicznymi"},3,{"$f":"INDEX(Kalkulacja!$C$130:$C$132,MATCH(X200,Kalkulacja!$H$130:$H$132,0))","v":0},"Dodatkowy moduł 21",null,null,null,null,{"$f":"IFERROR(INDEX(Kalkulacja!Q:Q,Q200),0)","v":0},0]
[null,null,null,{"$f":"IFERROR(IF(N201>0,\"SUGEROWANE\",IF((INDEX(Kalkulacja!B:B,MATCH(G201,Kalkulacja!H:H,0)))=\"x\",\"USŁUGA\",\"\")),\"\")","v":""},"i",null,{"$f":"Kalkulacja!H140","v":"Dodatkowy moduł 22"},null,null,0,{"$f":"IFERROR(IF(Kalkulacja!$F$2=\"x\",INDEX(Kalkulacja!$R$1:$R$459,Q201),\"\"),\"\")","v":""},null,0,{"$f":"IFERROR(INDEX('Podświetlanie modułów'!H:H,MATCH(G201,'Podświetlanie modułów'!F:F,0)),0)","v":0},{"$f":"IF(M201*1>0,\"x\",IF(INDEX(Kalkulacja!A:A,Q201)=\"x\",\"x\",0))","v":0},"FALSE",{"$f":"MATCH(G201,Kalkulacja!$H$1:$H$459,0)","v":140},null,null,0,null,0,null,null,null,null,"Dodatkowy moduł 22",null,null,null,null,{"$f":"IFERROR(INDEX(Kalkulacja!Q:Q,Q201),0)","v":0},0]
[null,null,null,{"$f":"IFERROR(IF(N202>0,\"SUGEROWANE\",IF((INDEX(Kalkulacja!B:B,MATCH(G202,Kalkulacja!H:H,0)))=\"x\",\"USŁUGA\",\"\")),\"\")","v":""},"i",null,{"$f":"Kalkulacja!H141","v":"Dodatkowy moduł 23"},null,null,0,{"$f":"IFERROR(IF(Kalkulacja!$F$2=\"x\",INDEX(Kalkulacja!$R$1:$R$459,Q202),\"\"),\"\")","v":""},null,0,{"$f":"IFERROR(INDEX('Podświetlanie modułów'!H:H,MATCH(G202,'Podświetlanie modułów'!F:F,0)),0)","v":0},{"$f":"IF(M202*1>0,\"x\",IF(INDEX(Kalkulacja!A:A,Q202)=\"x\",\"x\",0))","v":0},"FALSE",{"$f":"MATCH(G202,Kalkulacja!$H$1:$H$459,0)","v":141},null,null,0,null,0,null,null,null,null,"Dodatkowy moduł 23",null,null,null,null,{"$f":"IFERROR(INDEX(Kalkulacja!Q:Q,Q202),0)","v":0},0]
[null,null,null,{"$f":"IFERROR(IF(N203>0,\"SUGEROWANE\",IF((INDEX(Kalkulacja!B:B,MATCH(G203,Kalkulacja!H:H,0)))=\"x\",\"USŁUGA\",\"\")),\"\")","v":""},{"$f":"Kalkulacja!H142","v":"Pliki do pobrania"},null,null,null,null,null,null,null,null,{"$f":"IFERROR(INDEX('Podświetlanie modułów'!H:H,MATCH(G203,'Podświetlanie modułów'!F:F,0)),0)","v":0},{"$f":"IF(COUNTIF(O204:O208,\"x\")>0,\"x\",0)","v":"x"},"TRUE",{"$f":"MATCH(E203,Kalkulacja!$H$1:$H$459,0)","v":142},null,null,0,null,0,null,null,null,null,0,null,null,null,null,{"$f":"IFERROR(INDEX(Kalkulacja!Q:Q,Q203),0)","v":0},0]
[null,null,null,{"$f":"IFERROR(IF(N204>0,\"SUGEROWANE\",IF((INDEX(Kalkulacja!B:B,MATCH(G204,Kalkulacja!H:H,0)))=\"x\",\"USŁUGA\",\"\")),\"\")","v":""},"i",null,{"$f":"Kalkulacja!H143","v":"Dostęp do tajnych treści "},null,null,{"$f":"M204*1","v":0},{"$f":"IFERROR(IF(Kalkulacja!$F$2=\"x\",INDEX(Kalkulacja!$R$1:$R$459,Q204),\"\"),\"\")","v":""},null,false,{"$f":"IFERROR(INDEX('Podświetlanie modułów'!H:H,MATCH(G204,'Podświetlanie modułów'!F:F,0)),0)","v":0},{"$f":"IF(M204*1>0,\"x\",IF(INDEX(Kalkulacja!A:A,Q204)=\"x\",\"x\",0))","v":0},"FALSE",{"$f":"MATCH(G204,Kalkulacja!$H$1:$H$459,0)","v":143},null,null,0,null,0,null,null,null,null,"Dostęp do tajnych treści ",null,null,null,null,{"$f":"IFERROR(INDEX(Kalkulacja!Q:Q,Q204),0)","v":0},0]
[null,null,null,{"$f":"IFERROR(IF(N205>0,\"SUGEROWANE\",IF((INDEX(Kalkulacja!B:B,MATCH(G205,Kalkulacja!H:H,0)))=\"x\",\"USŁUGA\",\"\")),\"\")","v":""},"i",null,{"$f":"Kalkulacja!H144","v":"Załączniki i pliki do pobrania (w treści)"},null,null,0,{"$f":"IFERROR(IF(Kalkulacja!$F$2=\"x\",INDEX(Kalkulacja!$R$1:$R$459,Q205),\"\"),\"\")","v":""},null,false,{"$f":"IFERROR(INDEX('Podświetlanie modułów'!H:H,MATCH(G205,'Podświetlanie modułów'!F:F,0)),0)","v":0},{"$f":"IF(M205*1>0,\"x\",IF(INDEX(Kalkulacja!A:A,Q205)=\"x\",\"x\",0))","v":"x"},"TRUE",{"$f":"MATCH(G205,Kalkulacja!$H$1:$H$459,0)","v":144},null,null,0,null,0,null,null,null,null,"Załączniki i pliki do pobrania (w treści)",null,null,null,null,{"$f":"IFERROR(INDEX(Kalkulacja!Q:Q,Q205),0)","v":"x"},0]
[null,null,null,{"$f":"IFERROR(IF(N206>0,\"SUGEROWANE\",IF((INDEX(Kalkulacja!B:B,MATCH(G206,Kalkulacja!H:H,0)))=\"x\",\"USŁUGA\",\"\")),\"\")","v":""},"i",null,{"$f":"Kalkulacja!H145","v":"Załączniki i pliki do pobrania (osobny moduł)"},null,null,0,{"$f":"IFERROR(IF(Kalkulacja!$F$2=\"x\",INDEX(Kalkulacja!$R$1:$R$459,Q206),\"\"),\"\")","v":""},null,0,{"$f":"IFERROR(INDEX('Podświetlanie modułów'!H:H,MATCH(G206,'Podświetlanie modułów'!F:F,0)),0)","v":0},{"$f":"IF(M206*1>0,\"x\",IF(INDEX(Kalkulacja!A:A,Q206)=\"x\",\"x\",0))","v":0},"FALSE",{"$f":"MATCH(G206,Kalkulacja!$H$1:$H$459,0)","v":145},null,null,0,null,0,null,null,null,null,"Załączniki i pliki do pobrania (osobny moduł)",null,null,null,null,{"$f":"IFERROR(INDEX(Kalkulacja!Q:Q,Q206),0)","v":0},0]
[null,null,null,{"$f":"IFERROR(IF(N207>0,\"SUGEROWANE\",IF((INDEX(Kalkulacja!B:B,MATCH(G207,Kalkulacja!H:H,0)))=\"x\",\"USŁUGA\",\"\")),\"\")","v":""},"i",null,{"$f":"Kalkulacja!H146","v":"Dodatkowy moduł 24"},null,null,0,{"$f":"IFERROR(IF(Kalkulacja!$F$2=\"x\",INDEX(Kalkulacja!$R$1:$R$459,Q207),\"\"),\"\")","v":""},null,false,{"$f":"IFERROR(INDEX('Podświetlanie modułów'!H:H,MATCH(G207,'Podświetlanie modułów'!F:F,0)),0)","v":0},{"$f":"IF(M207*1>0,\"x\",IF(INDEX(Kalkulacja!A:A,Q207)=\"x\",\"x\",0))","v":0},"FALSE",{"$f":"MATCH(G207,Kalkulacja!$H$1:$H$459,0)","v":146},null,null,0,null,0,null,null,null,null,"Dodatkowy moduł 24",null,null,null,null,{"$f":"IFERROR(INDEX(Kalkulacja!Q:Q,Q207),0)","v":0},0]
[null,null,null,{"$f":"IFERROR(IF(N208>0,\"SUGEROWANE\",IF((INDEX(Kalkulacja!B:B,MATCH(G208,Kalkulacja!H:H,0)))=\"x\",\"USŁUGA\",\"\")),\"\")","v":""},"i",null,{"$f":"Kalkulacja!H147","v":"Dodatkowy moduł 25"},null,null,0,{"$f":"IFERROR(IF(Kalkulacja!$F$2=\"x\",INDEX(Kalkulacja!$R$1:$R$459,Q208),\"\"),\"\")","v":""},null,0,{"$f":"IFERROR(INDEX('Podświetlanie modułów'!H:H,MATCH(G208,'Podświetlanie modułów'!F:F,0)),0)","v":0},{"$f":"IF(M208*1>0,\"x\",IF(INDEX(Kalkulacja!A:A,Q208)=\"x\",\"x\",0))","v":0},"FALSE",{"$f":"MATCH(G208,Kalkulacja!$H$1:$H$459,0)","v":147},null,null,0,null,0,null,null,null,null,"Dodatkowy moduł 25",null,null,null,null,{"$f":"IFERROR(INDEX(Kalkulacja!Q:Q,Q208),0)","v":0},0]
[null,null,null,{"$f":"IFERROR(IF(N209>0,\"SUGEROWANE\",IF((INDEX(Kalkulacja!B:B,MATCH(G209,Kalkulacja!H:H,0)))=\"x\",\"USŁUGA\",\"\")),\"\")","v":""},{"$f":"Kalkulacja!H148","v":"Marketing"},null,null,null,null,null,null,null,null,{"$f":"IFERROR(INDEX('Podświetlanie modułów'!H:H,MATCH(G209,'Podświetlanie modułów'!F:F,0)),0)","v":0},{"$f":"IF(COUNTIF(O210:O220,\"x\")>0,\"x\",0)","v":"x"},"TRUE",{"$f":"MATCH(E209,Kalkulacja!$H$1:$H$459,0)","v":148},null,null,0,null,0,null,null,null,null,0,null,null,null,null,{"$f":"IFERROR(INDEX(Kalkulacja!Q:Q,Q209),0)","v":0},0]
[null,null,null,{"$f":"IFERROR(IF(N210>0,\"SUGEROWANE\",IF((INDEX(Kalkulacja!B:B,MATCH(G210,Kalkulacja!H:H,0)))=\"x\",\"USŁUGA\",\"\")),\"\")","v":""},"i",null,{"$f":"Kalkulacja!H149","v":"Box Facebooka na stronie"},null,null,{"$f":"M210*1","v":0},{"$f":"IFERROR(IF(Kalkulacja!$F$2=\"x\",INDEX(Kalkulacja!$R$1:$R$459,Q210),\"\"),\"\")","v":""},null,false,{"$f":"IFERROR(INDEX('Podświetlanie modułów'!H:H,MATCH(G210,'Podświetlanie modułów'!F:F,0)),0)","v":0},{"$f":"IF(M210*1>0,\"x\",IF(INDEX(Kalkulacja!A:A,Q210)=\"x\",\"x\",0))","v":0},"FALSE",{"$f":"MATCH(G210,Kalkulacja!$H$1:$H$459,0)","v":149},null,null,0,null,0,null,null,null,null,"Box Facebooka na stronie",null,null,null,null,{"$f":"IFERROR(INDEX(Kalkulacja!Q:Q,Q210),0)","v":0},0]
[null,null,null,{"$f":"IFERROR(IF(N211>0,\"SUGEROWANE\",IF((INDEX(Kalkulacja!B:B,MATCH(G211,Kalkulacja!H:H,0)))=\"x\",\"USŁUGA\",\"\")),\"\")","v":""},"i",null,{"$f":"Kalkulacja!H150","v":"Box Facebooka przyklejony do przeglądarki"},null,null,0,{"$f":"IFERROR(IF(Kalkulacja!$F$2=\"x\",INDEX(Kalkulacja!$R$1:$R$459,Q211),\"\"),\"\")","v":""},null,false,{"$f":"IFERROR(INDEX('Podświetlanie modułów'!H:H,MATCH(G211,'Podświetlanie modułów'!F:F,0)),0)","v":0},{"$f":"IF(M211*1>0,\"x\",IF(INDEX(Kalkulacja!A:A,Q211)=\"x\",\"x\",0))","v":0},"FALSE",{"$f":"MATCH(G211,Kalkulacja!$H$1:$H$459,0)","v":150},null,null,0,null,0,null,null,null,null,"Box Facebooka przyklejony do przeglądarki",null,null,null,null,{"$f":"IFERROR(INDEX(Kalkulacja!Q:Q,Q211),0)","v":0},0]
[null,null,null,{"$f":"IFERROR(IF(N212>0,\"SUGEROWANE\",IF((INDEX(Kalkulacja!B:B,MATCH(G212,Kalkulacja!H:H,0)))=\"x\",\"USŁUGA\",\"\")),\"\")","v":""},"i",null,{"$f":"Kalkulacja!H151","v":"Linki do Twoich social media"},null,null,0,{"$f":"IFERROR(IF(Kalkulacja!$F$2=\"x\",INDEX(Kalkulacja!$R$1:$R$459,Q212),\"\"),\"\")","v":""},null,false,{"$f":"IFERROR(INDEX('Podświetlanie modułów'!H:H,MATCH(G212,'Podświetlanie modułów'!F:F,0)),0)","v":0},{"$f":"IF(M212*1>0,\"x\",IF(INDEX(Kalkulacja!A:A,Q212)=\"x\",\"x\",0))","v":"x"},"TRUE",{"$f":"MATCH(G212,Kalkulacja!$H$1:$H$459,0)","v":151},null,null,0,null,0,null,null,null,null,"Linki do Twoich social media",null,null,null,null,{"$f":"IFERROR(INDEX(Kalkulacja!Q:Q,Q212),0)","v":"x"},0]
[null,null,null,{"$f":"IFERROR(IF(N213>0,\"SUGEROWANE\",IF((INDEX(Kalkulacja!B:B,MATCH(G213,Kalkulacja!H:H,0)))=\"x\",\"USŁUGA\",\"\")),\"\")","v":""},"i",null,{"$f":"Kalkulacja!H152","v":"Przyciski: Lubię to, Udostępnij, Tweetnij"},null,null,0,{"$f":"IFERROR(IF(Kalkulacja!$F$2=\"x\",INDEX(Kalkulacja!$R$1:$R$459,Q213),\"\"),\"\")","v":""},null,false,{"$f":"IFERROR(INDEX('Podświetlanie modułów'!H:H,MATCH(G213,'Podświetlanie modułów'!F:F,0)),0)","v":0},{"$f":"IF(M213*1>0,\"x\",IF(INDEX(Kalkulacja!A:A,Q213)=\"x\",\"x\",0))","v":0},"FALSE",{"$f":"MATCH(G213,Kalkulacja!$H$1:$H$459,0)","v":152},null,null,0,null,0,null,null,null,null,"Przyciski: Lubię to, Udostępnij, Tweetnij",null,null,null,null,{"$f":"IFERROR(INDEX(Kalkulacja!Q:Q,Q213),0)","v":0},0]
[null,null,null,{"$f":"IFERROR(IF(N214>0,\"SUGEROWANE\",IF((INDEX(Kalkulacja!B:B,MATCH(G214,Kalkulacja!H:H,0)))=\"x\",\"USŁUGA\",\"\")),\"\")","v":""},"i",null,{"$f":"Kalkulacja!H153","v":"Newsletter (integracja formularza)"},null,null,0,{"$f":"IFERROR(IF(Kalkulacja!$F$2=\"x\",INDEX(Kalkulacja!$R$1:$R$459,Q214),\"\"),\"\")","v":""},null,false,{"$f":"IFERROR(INDEX('Podświetlanie modułów'!H:H,MATCH(G214,'Podświetlanie modułów'!F:F,0)),0)","v":0},{"$f":"IF(M214*1>0,\"x\",IF(INDEX(Kalkulacja!A:A,Q214)=\"x\",\"x\",0))","v":"x"},"TRUE",{"$f":"MATCH(G214,Kalkulacja!$H$1:$H$459,0)","v":153},null,null,{"$f":"U214","v":0},null,{"$f":"AG214","v":0},null,null,null,null,{"$f":"G214","v":"Newsletter (integracja formularza)"},null,null,null,null,{"$f":"IFERROR(INDEX(Kalkulacja!Q:Q,Q214),0)","v":0},0]
[null,null,null,{"$f":"IFERROR(IF(N215>0,\"SUGEROWANE\",IF((INDEX(Kalkulacja!B:B,MATCH(G215,Kalkulacja!H:H,0)))=\"x\",\"USŁUGA\",\"\")),\"\")","v":""},"i",null,{"$f":"Kalkulacja!H154","v":"PopUp (promocja lub informacja)"},null,null,0,{"$f":"IFERROR(IF(Kalkulacja!$F$2=\"x\",INDEX(Kalkulacja!$R$1:$R$459,Q215),\"\"),\"\")","v":""},null,false,{"$f":"IFERROR(INDEX('Podświetlanie modułów'!H:H,MATCH(G215,'Podświetlanie modułów'!F:F,0)),0)","v":0},{"$f":"IF(M215*1>0,\"x\",IF(INDEX(Kalkulacja!A:A,Q215)=\"x\",\"x\",0))","v":"x"},"TRUE",{"$f":"MATCH(G215,Kalkulacja!$H$1:$H$459,0)","v":154},null,null,0,null,0,null,null,null,null,"PopUp (promocja lub informacja)",null,null,null,null,{"$f":"IFERROR(INDEX(Kalkulacja!Q:Q,Q215),0)","v":0},0]
[null,null,null,{"$f":"IFERROR(IF(N216>0,\"SUGEROWANE\",IF((INDEX(Kalkulacja!B:B,MATCH(G216,Kalkulacja!H:H,0)))=\"x\",\"USŁUGA\",\"\")),\"\")","v":""},"i",null,{"$f":"Kalkulacja!H155","v":"PopUp (newsletter)"},null,null,0,{"$f":"IFERROR(IF(Kalkulacja!$F$2=\"x\",INDEX(Kalkulacja!$R$1:$R$459,Q216),\"\"),\"\")","v":""},null,0,{"$f":"IFERROR(INDEX('Podświetlanie modułów'!H:H,MATCH(G216,'Podświetlanie modułów'!F:F,0)),0)","v":0},{"$f":"IF(M216*1>0,\"x\",IF(INDEX(Kalkulacja!A:A,Q216)=\"x\",\"x\",0))","v":"x"},"TRUE",{"$f":"MATCH(G216,Kalkulacja!$H$1:$H$459,0)","v":155},null,null,0,null,0,null,null,null,null,"PopUp (newsletter)",null,null,null,null,{"$f":"IFERROR(INDEX(Kalkulacja!Q:Q,Q216),0)","v":0},0]
[null,null,null,{"$f":"IFERROR(IF(N217>0,\"SUGEROWANE\",IF((INDEX(Kalkulacja!B:B,MATCH(G217,Kalkulacja!H:H,0)))=\"x\",\"USŁUGA\",\"\")),\"\")","v":"USŁUGA"},"i",null,{"$f":"Kalkulacja!H156","v":"Utworzenie kolejny - popup (grafika + treść)"},null,null,0,{"$f":"IFERROR(IF(Kalkulacja!$F$2=\"x\",INDEX(Kalkulacja!$R$1:$R$459,Q217),\"\"),\"\")","v":""},null,0,{"$f":"IFERROR(INDEX('Podświetlanie modułów'!H:H,MATCH(G217,'Podświetlanie modułów'!F:F,0)),0)","v":0},{"$f":"IF(M217*1>0,\"x\",IF(INDEX(Kalkulacja!A:A,Q217)=\"x\",\"x\",0))","v":0},"FALSE",{"$f":"MATCH(G217,Kalkulacja!$H$1:$H$459,0)","v":156},null,null,0,null,0,null,null,null,null,"Utworzenie kolejny - popup (grafika + treść)",null,null,null,null,{"$f":"IFERROR(INDEX(Kalkulacja!Q:Q,Q217),0)","v":0},0]
[null,null,null,{"$f":"IFERROR(IF(N218>0,\"SUGEROWANE\",IF((INDEX(Kalkulacja!B:B,MATCH(G218,Kalkulacja!H:H,0)))=\"x\",\"USŁUGA\",\"\")),\"\")","v":""},"i",null,{"$f":"Kalkulacja!H157","v":"Dodatkowy moduł 26"},null,null,0,{"$f":"IFERROR(IF(Kalkulacja!$F$2=\"x\",INDEX(Kalkulacja!$R$1:$R$459,Q218),\"\"),\"\")","v":""},null,0,{"$f":"IFERROR(INDEX('Podświetlanie modułów'!H:H,MATCH(G218,'Podświetlanie modułów'!F:F,0)),0)","v":0},{"$f":"IF(M218*1>0,\"x\",IF(INDEX(Kalkulacja!A:A,Q218)=\"x\",\"x\",0))","v":0},"FALSE",{"$f":"MATCH(G218,Kalkulacja!$H$1:$H$459,0)","v":157},null,null,0,null,0,null,null,null,null,"Dodatkowy moduł 26",null,null,null,null,{"$f":"IFERROR(INDEX(Kalkulacja!Q:Q,Q218),0)","v":0},0]
[null,null,null,{"$f":"IFERROR(IF(N219>0,\"SUGEROWANE\",IF((INDEX(Kalkulacja!B:B,MATCH(G219,Kalkulacja!H:H,0)))=\"x\",\"USŁUGA\",\"\")),\"\")","v":""},"i",null,{"$f":"Kalkulacja!H158","v":"Dodatkowy moduł 27"},null,null,0,{"$f":"IFERROR(IF(Kalkulacja!$F$2=\"x\",INDEX(Kalkulacja!$R$1:$R$459,Q219),\"\"),\"\")","v":""},null,false,{"$f":"IFERROR(INDEX('Podświetlanie modułów'!H:H,MATCH(G219,'Podświetlanie modułów'!F:F,0)),0)","v":0},{"$f":"IF(M219*1>0,\"x\",IF(INDEX(Kalkulacja!A:A,Q219)=\"x\",\"x\",0))","v":0},"FALSE",{"$f":"MATCH(G219,Kalkulacja!$H$1:$H$459,0)","v":158},null,null,0,null,0,null,null,null,null,"Dodatkowy moduł 27",null,null,null,null,{"$f":"IFERROR(INDEX(Kalkulacja!Q:Q,Q219),0)","v":0},0]
[null,null,null,{"$f":"IFERROR(IF(N220>0,\"SUGEROWANE\",IF((INDEX(Kalkulacja!B:B,MATCH(G220,Kalkulacja!H:H,0)))=\"x\",\"USŁUGA\",\"\")),\"\")","v":""},"i",null,{"$f":"Kalkulacja!H159","v":"Dodatkowy moduł 28"},null,null,0,{"$f":"IFERROR(IF(Kalkulacja!$F$2=\"x\",INDEX(Kalkulacja!$R$1:$R$459,Q220),\"\"),\"\")","v":""},null,0,{"$f":"IFERROR(INDEX('Podświetlanie modułów'!H:H,MATCH(G220,'Podświetlanie modułów'!F:F,0)),0)","v":0},{"$f":"IF(M220*1>0,\"x\",IF(INDEX(Kalkulacja!A:A,Q220)=\"x\",\"x\",0))","v":0},"FALSE",{"$f":"MATCH(G220,Kalkulacja!$H$1:$H$459,0)","v":159},null,null,0,null,0,null,null,null,null,"Dodatkowy moduł 28",null,null,null,null,{"$f":"IFERROR(INDEX(Kalkulacja!Q:Q,Q220),0)","v":0},0]
[null,null,null,{"$f":"IFERROR(IF(N221>0,\"SUGEROWANE\",IF((INDEX(Kalkulacja!B:B,MATCH(G221,Kalkulacja!H:H,0)))=\"x\",\"USŁUGA\",\"\")),\"\")","v":""},{"$f":"Kalkulacja!H160","v":"Optymalizacja pod Google"},null,null,null,null,null,null,null,null,{"$f":"IFERROR(INDEX('Podświetlanie modułów'!H:H,MATCH(G221,'Podświetlanie modułów'!F:F,0)),0)","v":0},{"$f":"IF(COUNTIF(O222:O237,\"x\")>0,\"x\",0)","v":"x"},"TRUE",{"$f":"MATCH(E221,Kalkulacja!$H$1:$H$459,0)","v":160},null,null,0,null,0,null,null,null,null,0,null,null,null,null,{"$f":"IFERROR(INDEX(Kalkulacja!Q:Q,Q221),0)","v":0},0]
[null,null,null,{"$f":"IFERROR(IF(N222>0,\"SUGEROWANE\",IF((INDEX(Kalkulacja!B:B,MATCH(G222,Kalkulacja!H:H,0)))=\"x\",\"USŁUGA\",\"\")),\"\")","v":""},"i",null,{"$f":"Kalkulacja!H161","v":"SEO ustawienia (Yoast SEO)"},null,null,{"$f":"M222*1","v":0},{"$f":"IFERROR(IF(Kalkulacja!$F$2=\"x\",INDEX(Kalkulacja!$R$1:$R$459,Q222),\"\"),\"\")","v":""},null,false,{"$f":"IFERROR(INDEX('Podświetlanie modułów'!H:H,MATCH(G222,'Podświetlanie modułów'!F:F,0)),0)","v":0},{"$f":"IF(M222*1>0,\"x\",IF(INDEX(Kalkulacja!A:A,Q222)=\"x\",\"x\",0))","v":"x"},"TRUE",{"$f":"MATCH(G222,Kalkulacja!$H$1:$H$459,0)","v":161},null,null,0,null,0,null,null,null,null,"SEO ustawienia (Yoast SEO)",null,null,null,null,{"$f":"IFERROR(INDEX(Kalkulacja!Q:Q,Q222),0)","v":"x"},0]
[null,null,null,{"$f":"IFERROR(IF(N223>0,\"SUGEROWANE\",IF((INDEX(Kalkulacja!B:B,MATCH(G223,Kalkulacja!H:H,0)))=\"x\",\"USŁUGA\",\"\")),\"\")","v":"USŁUGA"},"i",null,{"$f":"Kalkulacja!H162","v":"Optymalizacja SEO - Tylko Strona główna "},null,null,0,{"$f":"IFERROR(IF(Kalkulacja!$F$2=\"x\",INDEX(Kalkulacja!$R$1:$R$459,Q223),\"\"),\"\")","v":""},null,false,{"$f":"IFERROR(INDEX('Podświetlanie modułów'!H:H,MATCH(G223,'Podświetlanie modułów'!F:F,0)),0)","v":0},{"$f":"IF(M223*1>0,\"x\",IF(INDEX(Kalkulacja!A:A,Q223)=\"x\",\"x\",0))","v":"x"},"TRUE",{"$f":"MATCH(G223,Kalkulacja!$H$1:$H$459,0)","v":162},null,null,0,null,0,null,null,null,null,"Optymalizacja SEO - Tylko Strona główna ",null,null,null,null,{"$f":"IFERROR(INDEX(Kalkulacja!Q:Q,Q223),0)","v":"x"},0]
[null,null,null,{"$f":"IFERROR(IF(N224>0,\"SUGEROWANE\",IF((INDEX(Kalkulacja!B:B,MATCH(G224,Kalkulacja!H:H,0)))=\"x\",\"USŁUGA\",\"\")),\"\")","v":"USŁUGA"},"i",null,{"$f":"Kalkulacja!H163","v":"Optymalizacja SEO - Meta dane + H1 (1 strona)"},null,null,0,{"$f":"IFERROR(IF(Kalkulacja!$F$2=\"x\",INDEX(Kalkulacja!$R$1:$R$459,Q224),\"\"),\"\")","v":""},null,0,{"$f":"IFERROR(INDEX('Podświetlanie modułów'!H:H,MATCH(G224,'Podświetlanie modułów'!F:F,0)),0)","v":0},{"$f":"IF(M224*1>0,\"x\",IF(INDEX(Kalkulacja!A:A,Q224)=\"x\",\"x\",0))","v":"x"},"TRUE",{"$f":"MATCH(G224,Kalkulacja!$H$1:$H$459,0)","v":163},null,null,0,null,0,null,null,null,null,"Optymalizacja SEO - Meta dane + H1 (1 strona)",null,null,null,null,{"$f":"IFERROR(INDEX(Kalkulacja!Q:Q,Q224),0)","v":0},0]
[null,null,null,{"$f":"IFERROR(IF(N225>0,\"SUGEROWANE\",IF((INDEX(Kalkulacja!B:B,MATCH(G225,Kalkulacja!H:H,0)))=\"x\",\"USŁUGA\",\"\")),\"\")","v":"USŁUGA"},"i",null,{"$f":"Kalkulacja!H164","v":"Optymalizacja SEO - Kompleksowa (1 strona)"},null,null,0,{"$f":"IFERROR(IF(Kalkulacja!$F$2=\"x\",INDEX(Kalkulacja!$R$1:$R$459,Q225),\"\"),\"\")","v":""},null,false,{"$f":"IFERROR(INDEX('Podświetlanie modułów'!H:H,MATCH(G225,'Podświetlanie modułów'!F:F,0)),0)","v":0},{"$f":"IF(M225*1>0,\"x\",IF(INDEX(Kalkulacja!A:A,Q225)=\"x\",\"x\",0))","v":"x"},"TRUE",{"$f":"MATCH(G225,Kalkulacja!$H$1:$H$459,0)","v":164},null,null,0,null,0,null,null,null,null,"Optymalizacja SEO - Kompleksowa (1 strona)",null,null,null,null,{"$f":"IFERROR(INDEX(Kalkulacja!Q:Q,Q225),0)","v":0},0]
[null,null,null,{"$f":"IFERROR(IF(N226>0,\"SUGEROWANE\",IF((INDEX(Kalkulacja!B:B,MATCH(G226,Kalkulacja!H:H,0)))=\"x\",\"USŁUGA\",\"\")),\"\")","v":""},"i",null,{"$f":"Kalkulacja!H165","v":"Przekierowania"},null,null,0,{"$f":"IFERROR(IF(Kalkulacja!$F$2=\"x\",INDEX(Kalkulacja!$R$1:$R$459,Q226),\"\"),\"\")","v":""},null,false,{"$f":"IFERROR(INDEX('Podświetlanie modułów'!H:H,MATCH(G226,'Podświetlanie modułów'!F:F,0)),0)","v":0},{"$f":"IF(M226*1>0,\"x\",IF(INDEX(Kalkulacja!A:A,Q226)=\"x\",\"x\",0))","v":0},"FALSE",{"$f":"MATCH(G226,Kalkulacja!$H$1:$H$459,0)","v":165},null,null,0,null,0,null,null,null,null,"Przekierowania",null,null,null,null,{"$f":"IFERROR(INDEX(Kalkulacja!Q:Q,Q226),0)","v":0},0]
[null,null,null,{"$f":"IFERROR(IF(N227>0,\"SUGEROWANE\",IF((INDEX(Kalkulacja!B:B,MATCH(G227,Kalkulacja!H:H,0)))=\"x\",\"USŁUGA\",\"\")),\"\")","v":"USŁUGA"},"i",null,{"$f":"Kalkulacja!H166","v":"Konfiguracja przekierowania (1 szt)"},null,null,0,{"$f":"IFERROR(IF(Kalkulacja!$F$2=\"x\",INDEX(Kalkulacja!$R$1:$R$459,Q227),\"\"),\"\")","v":""},null,0,{"$f":"IFERROR(INDEX('Podświetlanie modułów'!H:H,MATCH(G227,'Podświetlanie modułów'!F:F,0)),0)","v":0},{"$f":"IF(M227*1>0,\"x\",IF(INDEX(Kalkulacja!A:A,Q227)=\"x\",\"x\",0))","v":0},"FALSE",{"$f":"MATCH(G227,Kalkulacja!$H$1:$H$459,0)","v":166},null,null,0,null,0,null,null,null,null,"Konfiguracja przekierowania (1 szt)",null,null,null,null,{"$f":"IFERROR(INDEX(Kalkulacja!Q:Q,Q227),0)","v":0},0]
[null,null,null,{"$f":"IFERROR(IF(N228>0,\"SUGEROWANE\",IF((INDEX(Kalkulacja!B:B,MATCH(G228,Kalkulacja!H:H,0)))=\"x\",\"USŁUGA\",\"\")),\"\")","v":"USŁUGA"},"i",null,{"$f":"Kalkulacja!H167","v":"Konfiguracja Certyfikat SSL na hostingu serwerkreacja"},null,null,0,{"$f":"IFERROR(IF(Kalkulacja!$F$2=\"x\",INDEX(Kalkulacja!$R$1:$R$459,Q228),\"\"),\"\")","v":""},null,false,{"$f":"IFERROR(INDEX('Podświetlanie modułów'!H:H,MATCH(G228,'Podświetlanie modułów'!F:F,0)),0)","v":0},{"$f":"IF(M228*1>0,\"x\",IF(INDEX(Kalkulacja!A:A,Q228)=\"x\",\"x\",0))","v":0},"FALSE",{"$f":"MATCH(G228,Kalkulacja!$H$1:$H$459,0)","v":167},null,null,0,null,0,null,null,null,null,"Konfiguracja Certyfikat SSL na hostingu serwerkreacja",null,null,null,null,{"$f":"IFERROR(INDEX(Kalkulacja!Q:Q,Q228),0)","v":"x"},0]
[null,null,null,{"$f":"IFERROR(IF(N229>0,\"SUGEROWANE\",IF((INDEX(Kalkulacja!B:B,MATCH(G229,Kalkulacja!H:H,0)))=\"x\",\"USŁUGA\",\"\")),\"\")","v":"USŁUGA"},"i",null,{"$f":"Kalkulacja!H168","v":"Konfiguracja Certyfikat SSL na hostingu zewnętrznym"},null,null,0,{"$f":"IFERROR(IF(Kalkulacja!$F$2=\"x\",INDEX(Kalkulacja!$R$1:$R$459,Q229),\"\"),\"\")","v":""},null,0,{"$f":"IFERROR(INDEX('Podświetlanie modułów'!H:H,MATCH(G229,'Podświetlanie modułów'!F:F,0)),0)","v":0},{"$f":"IF(M229*1>0,\"x\",IF(INDEX(Kalkulacja!A:A,Q229)=\"x\",\"x\",0))","v":0},"FALSE",{"$f":"MATCH(G229,Kalkulacja!$H$1:$H$459,0)","v":168},null,null,0,null,0,null,null,null,null,"Konfiguracja Certyfikat SSL na hostingu zewnętrznym",null,null,null,null,{"$f":"IFERROR(INDEX(Kalkulacja!Q:Q,Q229),0)","v":0},0]
[null,null,null,{"$f":"IFERROR(IF(N230>0,\"SUGEROWANE\",IF((INDEX(Kalkulacja!B:B,MATCH(G230,Kalkulacja!H:H,0)))=\"x\",\"USŁUGA\",\"\")),\"\")","v":"USŁUGA"},"i",null,{"$f":"Kalkulacja!H169","v":"Optymalizacja szybkości"},null,null,0,{"$f":"IFERROR(IF(Kalkulacja!$F$2=\"x\",INDEX(Kalkulacja!$R$1:$R$459,Q230),\"\"),\"\")","v":""},null,0,{"$f":"IFERROR(INDEX('Podświetlanie modułów'!H:H,MATCH(G230,'Podświetlanie modułów'!F:F,0)),0)","v":0},{"$f":"IF(M230*1>0,\"x\",IF(INDEX(Kalkulacja!A:A,Q230)=\"x\",\"x\",0))","v":0},"FALSE",{"$f":"MATCH(G230,Kalkulacja!$H$1:$H$459,0)","v":169},null,null,0,null,0,null,null,null,null,"Optymalizacja szybkości",null,null,null,null,{"$f":"IFERROR(INDEX(Kalkulacja!Q:Q,Q230),0)","v":0},0]
[null,null,null,{"$f":"IFERROR(IF(N231>0,\"SUGEROWANE\",IF((INDEX(Kalkulacja!B:B,MATCH(G231,Kalkulacja!H:H,0)))=\"x\",\"USŁUGA\",\"\")),\"\")","v":""},"i",null,{"$f":"Kalkulacja!H170","v":"Statystyki Google Analytics"},null,null,0,{"$f":"IFERROR(IF(Kalkulacja!$F$2=\"x\",INDEX(Kalkulacja!$R$1:$R$459,Q231),\"\"),\"\")","v":""},null,false,{"$f":"IFERROR(INDEX('Podświetlanie modułów'!H:H,MATCH(G231,'Podświetlanie modułów'!F:F,0)),0)","v":0},{"$f":"IF(M231*1>0,\"x\",IF(INDEX(Kalkulacja!A:A,Q231)=\"x\",\"x\",0))","v":"x"},"TRUE",{"$f":"MATCH(G231,Kalkulacja!$H$1:$H$459,0)","v":170},null,null,0,null,0,null,null,null,null,"Statystyki Google Analytics",null,null,null,null,{"$f":"IFERROR(INDEX(Kalkulacja!Q:Q,Q231),0)","v":"x"},0]
[null,null,null,{"$f":"IFERROR(IF(N232>0,\"SUGEROWANE\",IF((INDEX(Kalkulacja!B:B,MATCH(G232,Kalkulacja!H:H,0)))=\"x\",\"USŁUGA\",\"\")),\"\")","v":""},"i",null,{"$f":"Kalkulacja!H171","v":"Statystyki Google Analytics - strony zewnętrzne"},null,null,0,{"$f":"IFERROR(IF(Kalkulacja!$F$2=\"x\",INDEX(Kalkulacja!$R$1:$R$459,Q232),\"\"),\"\")","v":""},null,0,{"$f":"IFERROR(INDEX('Podświetlanie modułów'!H:H,MATCH(G232,'Podświetlanie modułów'!F:F,0)),0)","v":0},{"$f":"IF(M232*1>0,\"x\",IF(INDEX(Kalkulacja!A:A,Q232)=\"x\",\"x\",0))","v":0},"FALSE",{"$f":"MATCH(G232,Kalkulacja!$H$1:$H$459,0)","v":171},null,null,0,null,0,null,null,null,null,"Statystyki Google Analytics - strony zewnętrzne",null,null,null,null,{"$f":"IFERROR(INDEX(Kalkulacja!Q:Q,Q232),0)","v":0},0]
[null,null,null,{"$f":"IFERROR(IF(N233>0,\"SUGEROWANE\",IF((INDEX(Kalkulacja!B:B,MATCH(G233,Kalkulacja!H:H,0)))=\"x\",\"USŁUGA\",\"\")),\"\")","v":""},"i",null,{"$f":"Kalkulacja!H172","v":"Dodatkowy moduł 29"},null,null,0,{"$f":"IFERROR(IF(Kalkulacja!$F$2=\"x\",INDEX(Kalkulacja!$R$1:$R$459,Q233),\"\"),\"\")","v":""},null,0,{"$f":"IFERROR(INDEX('Podświetlanie modułów'!H:H,MATCH(G233,'Podświetlanie modułów'!F:F,0)),0)","v":0},{"$f":"IF(M233*1>0,\"x\",IF(INDEX(Kalkulacja!A:A,Q233)=\"x\",\"x\",0))","v":0},"FALSE",{"$f":"MATCH(G233,Kalkulacja!$H$1:$H$459,0)","v":172},null,null,0,null,0,null,null,null,null,"Dodatkowy moduł 29",null,null,null,null,{"$f":"IFERROR(INDEX(Kalkulacja!Q:Q,Q233),0)","v":0},0]
[null,null,null,{"$f":"IFERROR(IF(N234>0,\"SUGEROWANE\",IF((INDEX(Kalkulacja!B:B,MATCH(G234,Kalkulacja!H:H,0)))=\"x\",\"USŁUGA\",\"\")),\"\")","v":""},"i",null,{"$f":"Kalkulacja!H173","v":"Dodatkowy moduł 30"},null,null,0,{"$f":"IFERROR(IF(Kalkulacja!$F$2=\"x\",INDEX(Kalkulacja!$R$1:$R$459,Q234),\"\"),\"\")","v":""},null,0,{"$f":"IFERROR(INDEX('Podświetlanie modułów'!H:H,MATCH(G234,'Podświetlanie modułów'!F:F,0)),0)","v":0},{"$f":"IF(M234*1>0,\"x\",IF(INDEX(Kalkulacja!A:A,Q234)=\"x\",\"x\",0))","v":0},"FALSE",{"$f":"MATCH(G234,Kalkulacja!$H$1:$H$459,0)","v":173},null,null,0,null,0,null,null,null,null,"Dodatkowy moduł 30",null,null,null,null,{"$f":"IFERROR(INDEX(Kalkulacja!Q:Q,Q234),0)","v":0},0]
[null,null,null,{"$f":"IFERROR(IF(N235>0,\"SUGEROWANE\",IF((INDEX(Kalkulacja!B:B,MATCH(G235,Kalkulacja!H:H,0)))=\"x\",\"USŁUGA\",\"\")),\"\")","v":""},"i",null,{"$f":"Kalkulacja!H174","v":"Dodatkowy moduł 31"},null,null,0,{"$f":"IFERROR(IF(Kalkulacja!$F$2=\"x\",INDEX(Kalkulacja!$R$1:$R$459,Q235),\"\"),\"\")","v":""},null,0,{"$f":"IFERROR(INDEX('Podświetlanie modułów'!H:H,MATCH(G235,'Podświetlanie modułów'!F:F,0)),0)","v":0},{"$f":"IF(M235*1>0,\"x\",IF(INDEX(Kalkulacja!A:A,Q235)=\"x\",\"x\",0))","v":0},"FALSE",{"$f":"MATCH(G235,Kalkulacja!$H$1:$H$459,0)","v":174},null,null,0,null,0,null,null,null,null,"Dodatkowy moduł 31",null,null,null,null,{"$f":"IFERROR(INDEX(Kalkulacja!Q:Q,Q235),0)","v":0},0]
[null,null,null,{"$f":"IFERROR(IF(N236>0,\"SUGEROWANE\",IF((INDEX(Kalkulacja!B:B,MATCH(G236,Kalkulacja!H:H,0)))=\"x\",\"USŁUGA\",\"\")),\"\")","v":""},"i",null,{"$f":"Kalkulacja!H175","v":"Dodatkowy moduł 32"},null,null,0,{"$f":"IFERROR(IF(Kalkulacja!$F$2=\"x\",INDEX(Kalkulacja!$R$1:$R$459,Q236),\"\"),\"\")","v":""},null,0,{"$f":"IFERROR(INDEX('Podświetlanie modułów'!H:H,MATCH(G236,'Podświetlanie modułów'!F:F,0)),0)","v":0},{"$f":"IF(M236*1>0,\"x\",IF(INDEX(Kalkulacja!A:A,Q236)=\"x\",\"x\",0))","v":0},"FALSE",{"$f":"MATCH(G236,Kalkulacja!$H$1:$H$459,0)","v":175},null,null,0,null,0,null,null,null,null,"Dodatkowy moduł 32",null,null,null,null,{"$f":"IFERROR(INDEX(Kalkulacja!Q:Q,Q236),0)","v":0},0]
[null,null,null,{"$f":"IFERROR(IF(N237>0,\"SUGEROWANE\",IF((INDEX(Kalkulacja!B:B,MATCH(G237,Kalkulacja!H:H,0)))=\"x\",\"USŁUGA\",\"\")),\"\")","v":""},"i",null,{"$f":"Kalkulacja!H176","v":"Dodatkowy moduł 33"},null,null,0,{"$f":"IFERROR(IF(Kalkulacja!$F$2=\"x\",INDEX(Kalkulacja!$R$1:$R$459,Q237),\"\"),\"\")","v":""},null,0,{"$f":"IFERROR(INDEX('Podświetlanie modułów'!H:H,MATCH(G237,'Podświetlanie modułów'!F:F,0)),0)","v":0},{"$f":"IF(M237*1>0,\"x\",IF(INDEX(Kalkulacja!A:A,Q237)=\"x\",\"x\",0))","v":0},"FALSE",{"$f":"MATCH(G237,Kalkulacja!$H$1:$H$459,0)","v":176},null,null,0,null,0,null,null,null,null,"Dodatkowy moduł 33",null,null,null,null,{"$f":"IFERROR(INDEX(Kalkulacja!Q:Q,Q237),0)","v":0},0]
[null,null,null,{"$f":"IFERROR(IF(N238>0,\"SUGEROWANE\",IF((INDEX(Kalkulacja!B:B,MATCH(G238,Kalkulacja!H:H,0)))=\"x\",\"USŁUGA\",\"\")),\"\")","v":""},{"$f":"Kalkulacja!H177","v":"Dodatkowe moduły"},null,null,null,null,null,null,null,null,{"$f":"IFERROR(INDEX('Podświetlanie modułów'!H:H,MATCH(G238,'Podświetlanie modułów'!F:F,0)),0)","v":0},{"$f":"IF(COUNTIF(O239:O247,\"x\")>0,\"x\",0)","v":"x"},"TRUE",{"$f":"MATCH(E238,Kalkulacja!$H$1:$H$459,0)","v":177},null,null,0,null,0,null,null,null,null,0,null,null,null,null,{"$f":"IFERROR(INDEX(Kalkulacja!Q:Q,Q238),0)","v":0},0]
[null,null,null,{"$f":"IFERROR(IF(N239>0,\"SUGEROWANE\",IF((INDEX(Kalkulacja!B:B,MATCH(G239,Kalkulacja!H:H,0)))=\"x\",\"USŁUGA\",\"\")),\"\")","v":""},"i",null,{"$f":"Kalkulacja!H178","v":"Polityka prywatności i Cookies + komunikat - domyślny"},null,null,{"$f":"M239*1","v":0},{"$f":"IFERROR(IF(Kalkulacja!$F$2=\"x\",INDEX(Kalkulacja!$R$1:$R$459,Q239),\"\"),\"\")","v":""},null,false,{"$f":"IFERROR(INDEX('Podświetlanie modułów'!H:H,MATCH(G239,'Podświetlanie modułów'!F:F,0)),0)","v":0},{"$f":"IF(M239*1>0,\"x\",IF(INDEX(Kalkulacja!A:A,Q239)=\"x\",\"x\",0))","v":"x"},"TRUE",{"$f":"MATCH(G239,Kalkulacja!$H$1:$H$459,0)","v":178},null,null,0,null,0,null,null,null,null,"Polityka prywatności i Cookies + komunikat - domyślny",null,null,null,null,{"$f":"IFERROR(INDEX(Kalkulacja!Q:Q,Q239),0)","v":"x"},0]
[null,null,null,{"$f":"IFERROR(IF(N240>0,\"SUGEROWANE\",IF((INDEX(Kalkulacja!B:B,MATCH(G240,Kalkulacja!H:H,0)))=\"x\",\"USŁUGA\",\"\")),\"\")","v":""},"i",null,{"$f":"Kalkulacja!H179","v":"Polityka prywatności i Cookies + komunikat - personalizowany"},null,null,0,{"$f":"IFERROR(IF(Kalkulacja!$F$2=\"x\",INDEX(Kalkulacja!$R$1:$R$459,Q240),\"\"),\"\")","v":""},null,false,{"$f":"IFERROR(INDEX('Podświetlanie modułów'!H:H,MATCH(G240,'Podświetlanie modułów'!F:F,0)),0)","v":0},{"$f":"IF(M240*1>0,\"x\",IF(INDEX(Kalkulacja!A:A,Q240)=\"x\",\"x\",0))","v":0},"FALSE",{"$f":"MATCH(G240,Kalkulacja!$H$1:$H$459,0)","v":179},null,null,0,null,0,null,null,null,null,"Polityka prywatności i Cookies + komunikat - personalizowany",null,null,null,null,{"$f":"IFERROR(INDEX(Kalkulacja!Q:Q,Q240),0)","v":0},0]
[null,null,null,{"$f":"IFERROR(IF(N241>0,\"SUGEROWANE\",IF((INDEX(Kalkulacja!B:B,MATCH(G241,Kalkulacja!H:H,0)))=\"x\",\"USŁUGA\",\"\")),\"\")","v":""},"i",null,{"$f":"Kalkulacja!H180","v":"Favicon - domyślny (sygnet lub litera z nazwy)"},null,null,0,{"$f":"IFERROR(IF(Kalkulacja!$F$2=\"x\",INDEX(Kalkulacja!$R$1:$R$459,Q241),\"\"),\"\")","v":""},null,false,{"$f":"IFERROR(INDEX('Podświetlanie modułów'!H:H,MATCH(G241,'Podświetlanie modułów'!F:F,0)),0)","v":0},{"$f":"IF(M241*1>0,\"x\",IF(INDEX(Kalkulacja!A:A,Q241)=\"x\",\"x\",0))","v":"x"},"TRUE",{"$f":"MATCH(G241,Kalkulacja!$H$1:$H$459,0)","v":180},null,null,0,null,0,null,null,null,null,"Favicon - domyślny (sygnet lub litera z nazwy)",null,null,null,null,{"$f":"IFERROR(INDEX(Kalkulacja!Q:Q,Q241),0)","v":"x"},0]
[null,null,null,{"$f":"IFERROR(IF(N242>0,\"SUGEROWANE\",IF((INDEX(Kalkulacja!B:B,MATCH(G242,Kalkulacja!H:H,0)))=\"x\",\"USŁUGA\",\"\")),\"\")","v":""},"i",null,{"$f":"Kalkulacja!H181","v":"Favicon - personalizowany"},null,null,0,{"$f":"IFERROR(IF(Kalkulacja!$F$2=\"x\",INDEX(Kalkulacja!$R$1:$R$459,Q242),\"\"),\"\")","v":""},null,{"$f":"S242","v":0},{"$f":"IFERROR(INDEX('Podświetlanie modułów'!H:H,MATCH(G242,'Podświetlanie modułów'!F:F,0)),0)","v":0},{"$f":"IF(M242*1>0,\"x\",IF(INDEX(Kalkulacja!A:A,Q242)=\"x\",\"x\",0))","v":0},{"$f":"IF(O242=\"x\",\"TRUE\",\"FALSE\")","v":"FALSE"},{"$f":"MATCH(G242,Kalkulacja!$H$1:$H$459,0)","v":181},null,null,0,null,0,null,null,null,null,"Favicon - personalizowany",null,null,null,null,{"$f":"IFERROR(INDEX(Kalkulacja!Q:Q,Q242),0)","v":0},0]
[null,null,null,{"$f":"IFERROR(IF(N243>0,\"SUGEROWANE\",IF((INDEX(Kalkulacja!B:B,MATCH(G243,Kalkulacja!H:H,0)))=\"x\",\"USŁUGA\",\"\")),\"\")","v":""},"i",null,{"$f":"Kalkulacja!H182","v":"Dodatkowy moduł 34"},null,null,0,{"$f":"IFERROR(IF(Kalkulacja!$F$2=\"x\",INDEX(Kalkulacja!$R$1:$R$459,Q243),\"\"),\"\")","v":""},null,0,{"$f":"IFERROR(INDEX('Podświetlanie modułów'!H:H,MATCH(G243,'Podświetlanie modułów'!F:F,0)),0)","v":0},{"$f":"IF(M243*1>0,\"x\",IF(INDEX(Kalkulacja!A:A,Q243)=\"x\",\"x\",0))","v":0},"FALSE",{"$f":"MATCH(G243,Kalkulacja!$H$1:$H$459,0)","v":182},null,null,0,null,0,null,null,null,null,"Dodatkowy moduł 34",null,null,null,null,{"$f":"IFERROR(INDEX(Kalkulacja!Q:Q,Q243),0)","v":0},0]
[null,null,null,{"$f":"IFERROR(IF(N244>0,\"SUGEROWANE\",IF((INDEX(Kalkulacja!B:B,MATCH(G244,Kalkulacja!H:H,0)))=\"x\",\"USŁUGA\",\"\")),\"\")","v":""},"i",null,{"$f":"Kalkulacja!H183","v":"Dodatkowy moduł 35"},null,null,0,{"$f":"IFERROR(IF(Kalkulacja!$F$2=\"x\",INDEX(Kalkulacja!$R$1:$R$459,Q244),\"\"),\"\")","v":""},null,0,{"$f":"IFERROR(INDEX('Podświetlanie modułów'!H:H,MATCH(G244,'Podświetlanie modułów'!F:F,0)),0)","v":0},{"$f":"IF(M244*1>0,\"x\",IF(INDEX(Kalkulacja!A:A,Q244)=\"x\",\"x\",0))","v":0},"FALSE",{"$f":"MATCH(G244,Kalkulacja!$H$1:$H$459,0)","v":183},null,null,0,null,0,null,null,null,null,"Dodatkowy moduł 35",null,null,null,null,{"$f":"IFERROR(INDEX(Kalkulacja!Q:Q,Q244),0)","v":0},0]
[null,null,null,{"$f":"IFERROR(IF(N245>0,\"SUGEROWANE\",IF((INDEX(Kalkulacja!B:B,MATCH(G245,Kalkulacja!H:H,0)))=\"x\",\"USŁUGA\",\"\")),\"\")","v":""},"i",null,{"$f":"Kalkulacja!H184","v":"Dodatkowy moduł 36"},null,null,0,{"$f":"IFERROR(IF(Kalkulacja!$F$2=\"x\",INDEX(Kalkulacja!$R$1:$R$459,Q245),\"\"),\"\")","v":""},null,0,{"$f":"IFERROR(INDEX('Podświetlanie modułów'!H:H,MATCH(G245,'Podświetlanie modułów'!F:F,0)),0)","v":0},{"$f":"IF(M245*1>0,\"x\",IF(INDEX(Kalkulacja!A:A,Q245)=\"x\",\"x\",0))","v":0},"FALSE",{"$f":"MATCH(G245,Kalkulacja!$H$1:$H$459,0)","v":184},null,null,0,null,0,null,null,null,null,"Dodatkowy moduł 36",null,null,null,null,{"$f":"IFERROR(INDEX(Kalkulacja!Q:Q,Q245),0)","v":0},0]
[null,null,null,{"$f":"IFERROR(IF(N246>0,\"SUGEROWANE\",IF((INDEX(Kalkulacja!B:B,MATCH(G246,Kalkulacja!H:H,0)))=\"x\",\"USŁUGA\",\"\")),\"\")","v":""},"i",null,{"$f":"Kalkulacja!H185","v":"Dodatkowy moduł 37"},null,null,0,{"$f":"IFERROR(IF(Kalkulacja!$F$2=\"x\",INDEX(Kalkulacja!$R$1:$R$459,Q246),\"\"),\"\")","v":""},null,0,{"$f":"IFERROR(INDEX('Podświetlanie modułów'!H:H,MATCH(G246,'Podświetlanie modułów'!F:F,0)),0)","v":0},{"$f":"IF(M246*1>0,\"x\",IF(INDEX(Kalkulacja!A:A,Q246)=\"x\",\"x\",0))","v":0},"FALSE",{"$f":"MATCH(G246,Kalkulacja!$H$1:$H$459,0)","v":185},null,null,0,null,0,null,null,null,null,"Dodatkowy moduł 37",null,null,null,null,{"$f":"IFERROR(INDEX(Kalkulacja!Q:Q,Q246),0)","v":0},0]
[null,null,null,{"$f":"IFERROR(IF(N247>0,\"SUGEROWANE\",IF((INDEX(Kalkulacja!B:B,MATCH(G247,Kalkulacja!H:H,0)))=\"x\",\"USŁUGA\",\"\")),\"\")","v":""},"i",null,{"$f":"Kalkulacja!H186","v":"Dodatkowy moduł 38"},null,null,0,{"$f":"IFERROR(IF(Kalkulacja!$F$2=\"x\",INDEX(Kalkulacja!$R$1:$R$459,Q247),\"\"),\"\")","v":""},null,0,{"$f":"IFERROR(INDEX('Podświetlanie modułów'!H:H,MATCH(G247,'Podświetlanie modułów'!F:F,0)),0)","v":0},{"$f":"IF(M247*1>0,\"x\",IF(INDEX(Kalkulacja!A:A,Q247)=\"x\",\"x\",0))","v":0},"FALSE",{"$f":"MATCH(G247,Kalkulacja!$H$1:$H$459,0)","v":186},null,null,0,null,0,null,null,null,null,"Dodatkowy moduł 38",null,null,null,null,{"$f":"IFERROR(INDEX(Kalkulacja!Q:Q,Q247),0)","v":0},0]
[null,null,null,{"$f":"IFERROR(IF(N248>0,\"SUGEROWANE\",IF((INDEX(Kalkulacja!B:B,MATCH(G248,Kalkulacja!H:H,0)))=\"x\",\"USŁUGA\",\"\")),\"\")","v":""},{"$f":"Kalkulacja!H187","v":"Moduły Zaawansowane - dla Serwisu Korporacyjnego"},null,null,null,null,null,null,null,null,{"$f":"IFERROR(INDEX('Podświetlanie modułów'!H:H,MATCH(G248,'Podświetlanie modułów'!F:F,0)),0)","v":0},{"$f":"IF(COUNTIF(O249:O306,\"x\")>0,\"x\",0)","v":"x"},"TRUE",{"$f":"MATCH(E248,Kalkulacja!$H$1:$H$459,0)","v":187},null,null,0,null,0,null,null,null,null,0,null,null,null,null,{"$f":"IFERROR(INDEX(Kalkulacja!Q:Q,Q248),0)","v":0},0]
[null,null,null,{"$f":"IFERROR(IF(N249>0,\"SUGEROWANE\",IF((INDEX(Kalkulacja!B:B,MATCH(G249,Kalkulacja!H:H,0)))=\"x\",\"USŁUGA\",\"\")),\"\")","v":""},{"$f":"Kalkulacja!H188","v":"Oferta firmy"},null,null,null,null,null,null,null,null,{"$f":"IFERROR(INDEX('Podświetlanie modułów'!H:H,MATCH(G249,'Podświetlanie modułów'!F:F,0)),0)","v":0},{"$f":"IF(COUNTIF(O250:O264,\"x\")>0,\"x\",0)","v":"x"},"TRUE",{"$f":"MATCH(E249,Kalkulacja!$H$1:$H$459,0)","v":188},null,null,0,null,0,null,null,null,null,0,null,null,null,null,{"$f":"IFERROR(INDEX(Kalkulacja!Q:Q,Q249),0)","v":0},0]
[null,null,null,{"$f":"IFERROR(IF(N250>0,\"SUGEROWANE\",IF((INDEX(Kalkulacja!B:B,MATCH(G250,Kalkulacja!H:H,0)))=\"x\",\"USŁUGA\",\"\")),\"\")","v":""},"i",null,{"$f":"Kalkulacja!H189","v":"Katalog produktów (bez opcji sklepu) producenci, serie, linie, typy, grupy, kategorie itp."},null,null,{"$f":"M250*1","v":0},{"$f":"IFERROR(IF(Kalkulacja!$F$2=\"x\",INDEX(Kalkulacja!$R$1:$R$459,Q250),\"\"),\"\")","v":""},null,false,{"$f":"IFERROR(INDEX('Podświetlanie modułów'!H:H,MATCH(G250,'Podświetlanie modułów'!F:F,0)),0)","v":0},{"$f":"IF(M250*1>0,\"x\",IF(INDEX(Kalkulacja!A:A,Q250)=\"x\",\"x\",0))","v":"x"},"TRUE",{"$f":"MATCH(G250,Kalkulacja!$H$1:$H$459,0)","v":189},null,null,0,null,0,null,null,null,null,"Katalog produktów (bez opcji sklepu) producenci, serie, linie, typy, grupy, kategorie itp.",null,null,null,null,{"$f":"IFERROR(INDEX(Kalkulacja!Q:Q,Q250),0)","v":0},0]
[null,null,null,{"$f":"IFERROR(IF(N251>0,\"SUGEROWANE\",IF((INDEX(Kalkulacja!B:B,MATCH(G251,Kalkulacja!H:H,0)))=\"x\",\"USŁUGA\",\"\")),\"\")","v":"USŁUGA"},"i",null,{"$f":"Kalkulacja!H190","v":"Dodanie 1 produktu"},null,null,0,{"$f":"IFERROR(IF(Kalkulacja!$F$2=\"x\",INDEX(Kalkulacja!$R$1:$R$459,Q251),\"\"),\"\")","v":""},null,false,{"$f":"IFERROR(INDEX('Podświetlanie modułów'!H:H,MATCH(G251,'Podświetlanie modułów'!F:F,0)),0)","v":0},{"$f":"IF(M251*1>0,\"x\",IF(INDEX(Kalkulacja!A:A,Q251)=\"x\",\"x\",0))","v":0},"FALSE",{"$f":"MATCH(G251,Kalkulacja!$H$1:$H$459,0)","v":190},null,null,0,null,0,null,null,null,null,"Dodanie 1 produktu",null,null,null,null,{"$f":"IFERROR(INDEX(Kalkulacja!Q:Q,Q251),0)","v":0},0]
[null,null,null,{"$f":"IFERROR(IF(N252>0,\"SUGEROWANE\",IF((INDEX(Kalkulacja!B:B,MATCH(G252,Kalkulacja!H:H,0)))=\"x\",\"USŁUGA\",\"\")),\"\")","v":""},"i",null,{"$f":"Kalkulacja!H191","v":"Filtry"},null,null,0,{"$f":"IFERROR(IF(Kalkulacja!$F$2=\"x\",INDEX(Kalkulacja!$R$1:$R$459,Q252),\"\"),\"\")","v":""},null,0,{"$f":"IFERROR(INDEX('Podświetlanie modułów'!H:H,MATCH(G252,'Podświetlanie modułów'!F:F,0)),0)","v":0},{"$f":"IF(M252*1>0,\"x\",IF(INDEX(Kalkulacja!A:A,Q252)=\"x\",\"x\",0))","v":0},"FALSE",{"$f":"MATCH(G252,Kalkulacja!$H$1:$H$459,0)","v":191},null,null,0,null,0,null,null,null,null,"Filtry",null,null,null,null,{"$f":"IFERROR(INDEX(Kalkulacja!Q:Q,Q252),0)","v":0},0]
[null,null,null,{"$f":"IFERROR(IF(N253>0,\"SUGEROWANE\",IF((INDEX(Kalkulacja!B:B,MATCH(G253,Kalkulacja!H:H,0)))=\"x\",\"USŁUGA\",\"\")),\"\")","v":""},"i",null,{"$f":"Kalkulacja!H192","v":"Sortowanie"},null,null,0,{"$f":"IFERROR(IF(Kalkulacja!$F$2=\"x\",INDEX(Kalkulacja!$R$1:$R$459,Q253),\"\"),\"\")","v":""},null,false,{"$f":"IFERROR(INDEX('Podświetlanie modułów'!H:H,MATCH(G253,'Podświetlanie modułów'!F:F,0)),0)","v":0},{"$f":"IF(M253*1>0,\"x\",IF(INDEX(Kalkulacja!A:A,Q253)=\"x\",\"x\",0))","v":0},"FALSE",{"$f":"MATCH(G253,Kalkulacja!$H$1:$H$459,0)","v":192},null,null,0,null,0,null,null,null,null,"Sortowanie",null,null,null,null,{"$f":"IFERROR(INDEX(Kalkulacja!Q:Q,Q253),0)","v":0},0]
[null,null,null,{"$f":"IFERROR(IF(N254>0,\"SUGEROWANE\",IF((INDEX(Kalkulacja!B:B,MATCH(G254,Kalkulacja!H:H,0)))=\"x\",\"USŁUGA\",\"\")),\"\")","v":""},"i",null,{"$f":"Kalkulacja!H193","v":"Porównywarka produktów"},null,null,0,{"$f":"IFERROR(IF(Kalkulacja!$F$2=\"x\",INDEX(Kalkulacja!$R$1:$R$459,Q254),\"\"),\"\")","v":""},null,0,{"$f":"IFERROR(INDEX('Podświetlanie modułów'!H:H,MATCH(G254,'Podświetlanie modułów'!F:F,0)),0)","v":0},{"$f":"IF(M254*1>0,\"x\",IF(INDEX(Kalkulacja!A:A,Q254)=\"x\",\"x\",0))","v":0},"FALSE",{"$f":"MATCH(G254,Kalkulacja!$H$1:$H$459,0)","v":193},null,null,0,null,0,null,null,null,null,"Porównywarka produktów",null,null,null,null,{"$f":"IFERROR(INDEX(Kalkulacja!Q:Q,Q254),0)","v":0},0]
[null,null,null,{"$f":"IFERROR(IF(N255>0,\"SUGEROWANE\",IF((INDEX(Kalkulacja!B:B,MATCH(G255,Kalkulacja!H:H,0)))=\"x\",\"USŁUGA\",\"\")),\"\")","v":""},"i",null,{"$f":"Kalkulacja!H194","v":"Cenniki zaawansowane + popup z opisem"},null,null,0,{"$f":"IFERROR(IF(Kalkulacja!$F$2=\"x\",INDEX(Kalkulacja!$R$1:$R$459,Q255),\"\"),\"\")","v":""},null,0,{"$f":"IFERROR(INDEX('Podświetlanie modułów'!H:H,MATCH(G255,'Podświetlanie modułów'!F:F,0)),0)","v":0},{"$f":"IF(M255*1>0,\"x\",IF(INDEX(Kalkulacja!A:A,Q255)=\"x\",\"x\",0))","v":"x"},"TRUE",{"$f":"MATCH(G255,Kalkulacja!$H$1:$H$459,0)","v":194},null,null,0,null,0,null,null,null,null,"Cenniki zaawansowane + popup z opisem",null,null,null,null,{"$f":"IFERROR(INDEX(Kalkulacja!Q:Q,Q255),0)","v":0},0]
[null,null,null,{"$f":"IFERROR(IF(N256>0,\"SUGEROWANE\",IF((INDEX(Kalkulacja!B:B,MATCH(G256,Kalkulacja!H:H,0)))=\"x\",\"USŁUGA\",\"\")),\"\")","v":""},"i",null,{"$f":"Kalkulacja!H195","v":"Menu dla gastronomii "},null,null,0,{"$f":"IFERROR(IF(Kalkulacja!$F$2=\"x\",INDEX(Kalkulacja!$R$1:$R$459,Q256),\"\"),\"\")","v":""},null,false,{"$f":"IFERROR(INDEX('Podświetlanie modułów'!H:H,MATCH(G256,'Podświetlanie modułów'!F:F,0)),0)","v":0},{"$f":"IF(M256*1>0,\"x\",IF(INDEX(Kalkulacja!A:A,Q256)=\"x\",\"x\",0))","v":0},"FALSE",{"$f":"MATCH(G256,Kalkulacja!$H$1:$H$459,0)","v":195},null,null,0,null,0,null,null,null,null,"Menu dla gastronomii ",null,null,null,null,{"$f":"IFERROR(INDEX(Kalkulacja!Q:Q,Q256),0)","v":0},0]
[null,null,null,{"$f":"IFERROR(IF(N257>0,\"SUGEROWANE\",IF((INDEX(Kalkulacja!B:B,MATCH(G257,Kalkulacja!H:H,0)))=\"x\",\"USŁUGA\",\"\")),\"\")","v":""},"i",null,{"$f":"Kalkulacja!H196","v":"Kalkulator zapytania"},null,null,0,{"$f":"IFERROR(IF(Kalkulacja!$F$2=\"x\",INDEX(Kalkulacja!$R$1:$R$459,Q257),\"\"),\"\")","v":""},null,0,{"$f":"IFERROR(INDEX('Podświetlanie modułów'!H:H,MATCH(G257,'Podświetlanie modułów'!F:F,0)),0)","v":0},{"$f":"IF(M257*1>0,\"x\",IF(INDEX(Kalkulacja!A:A,Q257)=\"x\",\"x\",0))","v":0},"FALSE",{"$f":"MATCH(G257,Kalkulacja!$H$1:$H$459,0)","v":196},null,null,0,null,0,null,null,null,null,"Kalkulator zapytania",null,null,null,null,{"$f":"IFERROR(INDEX(Kalkulacja!Q:Q,Q257),0)","v":0},0]
[null,null,null,{"$f":"IFERROR(IF(N258>0,\"SUGEROWANE\",IF((INDEX(Kalkulacja!B:B,MATCH(G258,Kalkulacja!H:H,0)))=\"x\",\"USŁUGA\",\"\")),\"\")","v":""},"i",null,{"$f":"Kalkulacja!H197","v":"Rozbudowane formularze zapytania"},null,null,0,{"$f":"IFERROR(IF(Kalkulacja!$F$2=\"x\",INDEX(Kalkulacja!$R$1:$R$459,Q258),\"\"),\"\")","v":""},null,0,{"$f":"IFERROR(INDEX('Podświetlanie modułów'!H:H,MATCH(G258,'Podświetlanie modułów'!F:F,0)),0)","v":0},{"$f":"IF(M258*1>0,\"x\",IF(INDEX(Kalkulacja!A:A,Q258)=\"x\",\"x\",0))","v":0},"FALSE",{"$f":"MATCH(G258,Kalkulacja!$H$1:$H$459,0)","v":197},null,null,0,null,0,null,null,null,null,"Rozbudowane formularze zapytania",null,null,null,null,{"$f":"IFERROR(INDEX(Kalkulacja!Q:Q,Q258),0)","v":0},0]
[null,null,null,{"$f":"IFERROR(IF(N259>0,\"SUGEROWANE\",IF((INDEX(Kalkulacja!B:B,MATCH(G259,Kalkulacja!H:H,0)))=\"x\",\"USŁUGA\",\"\")),\"\")","v":""},"i",null,{"$f":"Kalkulacja!H198","v":"Konfigurator ofert PDF z panelem zarządzania"},null,null,0,{"$f":"IFERROR(IF(Kalkulacja!$F$2=\"x\",INDEX(Kalkulacja!$R$1:$R$459,Q259),\"\"),\"\")","v":""},null,0,{"$f":"IFERROR(INDEX('Podświetlanie modułów'!H:H,MATCH(G259,'Podświetlanie modułów'!F:F,0)),0)","v":0},{"$f":"IF(M259*1>0,\"x\",IF(INDEX(Kalkulacja!A:A,Q259)=\"x\",\"x\",0))","v":0},"FALSE",{"$f":"MATCH(G259,Kalkulacja!$H$1:$H$459,0)","v":198},null,null,0,null,0,null,null,null,null,"Konfigurator ofert PDF z panelem zarządzania",null,null,null,null,{"$f":"IFERROR(INDEX(Kalkulacja!Q:Q,Q259),0)","v":0},0]
[null,null,null,{"$f":"IFERROR(IF(N260>0,\"SUGEROWANE\",IF((INDEX(Kalkulacja!B:B,MATCH(G260,Kalkulacja!H:H,0)))=\"x\",\"USŁUGA\",\"\")),\"\")","v":""},"i",null,{"$f":"Kalkulacja!H199","v":"Dodatkowy moduł 39"},null,null,0,{"$f":"IFERROR(IF(Kalkulacja!$F$2=\"x\",INDEX(Kalkulacja!$R$1:$R$459,Q260),\"\"),\"\")","v":""},null,0,{"$f":"IFERROR(INDEX('Podświetlanie modułów'!H:H,MATCH(G260,'Podświetlanie modułów'!F:F,0)),0)","v":0},{"$f":"IF(M260*1>0,\"x\",IF(INDEX(Kalkulacja!A:A,Q260)=\"x\",\"x\",0))","v":0},"FALSE",{"$f":"MATCH(G260,Kalkulacja!$H$1:$H$459,0)","v":199},null,null,0,null,0,null,null,null,null,"Dodatkowy moduł 39",null,null,null,null,{"$f":"IFERROR(INDEX(Kalkulacja!Q:Q,Q260),0)","v":0},0]
[null,null,null,{"$f":"IFERROR(IF(N261>0,\"SUGEROWANE\",IF((INDEX(Kalkulacja!B:B,MATCH(G261,Kalkulacja!H:H,0)))=\"x\",\"USŁUGA\",\"\")),\"\")","v":""},"i",null,{"$f":"Kalkulacja!H200","v":"Dodatkowy moduł 40"},null,null,0,{"$f":"IFERROR(IF(Kalkulacja!$F$2=\"x\",INDEX(Kalkulacja!$R$1:$R$459,Q261),\"\"),\"\")","v":""},null,0,{"$f":"IFERROR(INDEX('Podświetlanie modułów'!H:H,MATCH(G261,'Podświetlanie modułów'!F:F,0)),0)","v":0},{"$f":"IF(M261*1>0,\"x\",IF(INDEX(Kalkulacja!A:A,Q261)=\"x\",\"x\",0))","v":0},"FALSE",{"$f":"MATCH(G261,Kalkulacja!$H$1:$H$459,0)","v":200},null,null,0,null,0,null,null,null,null,"Dodatkowy moduł 40",null,null,null,null,{"$f":"IFERROR(INDEX(Kalkulacja!Q:Q,Q261),0)","v":0},0]
[null,null,null,{"$f":"IFERROR(IF(N262>0,\"SUGEROWANE\",IF((INDEX(Kalkulacja!B:B,MATCH(G262,Kalkulacja!H:H,0)))=\"x\",\"USŁUGA\",\"\")),\"\")","v":""},"i",null,{"$f":"Kalkulacja!H201","v":"Dodatkowy moduł 41"},null,null,0,{"$f":"IFERROR(IF(Kalkulacja!$F$2=\"x\",INDEX(Kalkulacja!$R$1:$R$459,Q262),\"\"),\"\")","v":""},null,0,{"$f":"IFERROR(INDEX('Podświetlanie modułów'!H:H,MATCH(G262,'Podświetlanie modułów'!F:F,0)),0)","v":0},{"$f":"IF(M262*1>0,\"x\",IF(INDEX(Kalkulacja!A:A,Q262)=\"x\",\"x\",0))","v":0},"FALSE",{"$f":"MATCH(G262,Kalkulacja!$H$1:$H$459,0)","v":201},null,null,0,null,0,null,null,null,null,"Dodatkowy moduł 41",null,null,null,null,{"$f":"IFERROR(INDEX(Kalkulacja!Q:Q,Q262),0)","v":0},0]
[null,null,null,{"$f":"IFERROR(IF(N263>0,\"SUGEROWANE\",IF((INDEX(Kalkulacja!B:B,MATCH(G263,Kalkulacja!H:H,0)))=\"x\",\"USŁUGA\",\"\")),\"\")","v":""},"i",null,{"$f":"Kalkulacja!H202","v":"Dodatkowy moduł 42"},null,null,0,{"$f":"IFERROR(IF(Kalkulacja!$F$2=\"x\",INDEX(Kalkulacja!$R$1:$R$459,Q263),\"\"),\"\")","v":""},null,0,{"$f":"IFERROR(INDEX('Podświetlanie modułów'!H:H,MATCH(G263,'Podświetlanie modułów'!F:F,0)),0)","v":0},{"$f":"IF(M263*1>0,\"x\",IF(INDEX(Kalkulacja!A:A,Q263)=\"x\",\"x\",0))","v":0},"FALSE",{"$f":"MATCH(G263,Kalkulacja!$H$1:$H$459,0)","v":202},null,null,0,null,0,null,null,null,null,"Dodatkowy moduł 42",null,null,null,null,{"$f":"IFERROR(INDEX(Kalkulacja!Q:Q,Q263),0)","v":0},0]
[null,null,null,{"$f":"IFERROR(IF(N264>0,\"SUGEROWANE\",IF((INDEX(Kalkulacja!B:B,MATCH(G264,Kalkulacja!H:H,0)))=\"x\",\"USŁUGA\",\"\")),\"\")","v":""},"i",null,{"$f":"Kalkulacja!H203","v":"Dodatkowy moduł 43"},null,null,0,{"$f":"IFERROR(IF(Kalkulacja!$F$2=\"x\",INDEX(Kalkulacja!$R$1:$R$459,Q264),\"\"),\"\")","v":""},null,0,{"$f":"IFERROR(INDEX('Podświetlanie modułów'!H:H,MATCH(G264,'Podświetlanie modułów'!F:F,0)),0)","v":0},{"$f":"IF(M264*1>0,\"x\",IF(INDEX(Kalkulacja!A:A,Q264)=\"x\",\"x\",0))","v":0},"FALSE",{"$f":"MATCH(G264,Kalkulacja!$H$1:$H$459,0)","v":203},null,null,0,null,0,null,null,null,null,"Dodatkowy moduł 43",null,null,null,null,{"$f":"IFERROR(INDEX(Kalkulacja!Q:Q,Q264),0)","v":0},0]
[null,null,null,{"$f":"IFERROR(IF(N265>0,\"SUGEROWANE\",IF((INDEX(Kalkulacja!B:B,MATCH(G265,Kalkulacja!H:H,0)))=\"x\",\"USŁUGA\",\"\")),\"\")","v":""},{"$f":"Kalkulacja!H204","v":"Realizacje & Wydarzenia"},null,null,null,null,null,null,null,null,{"$f":"IFERROR(INDEX('Podświetlanie modułów'!H:H,MATCH(G265,'Podświetlanie modułów'!F:F,0)),0)","v":0},{"$f":"IF(COUNTIF(O266:O272,\"x\")>0,\"x\",0)","v":"x"},"TRUE",{"$f":"MATCH(E265,Kalkulacja!$H$1:$H$459,0)","v":204},null,null,0,null,0,null,null,null,null,0,null,null,null,null,{"$f":"IFERROR(INDEX(Kalkulacja!Q:Q,Q265),0)","v":0},0]
[null,null,null,{"$f":"IFERROR(IF(N266>0,\"SUGEROWANE\",IF((INDEX(Kalkulacja!B:B,MATCH(G266,Kalkulacja!H:H,0)))=\"x\",\"USŁUGA\",\"\")),\"\")","v":""},"i",null,{"$f":"Kalkulacja!H205","v":"Dedykowane wpisy np. poradnik, przepisy kulinarne, case study, realizacje, projekty, portfolio itp."},null,null,{"$f":"M266*1","v":0},{"$f":"IFERROR(IF(Kalkulacja!$F$2=\"x\",INDEX(Kalkulacja!$R$1:$R$459,Q266),\"\"),\"\")","v":""},null,false,{"$f":"IFERROR(INDEX('Podświetlanie modułów'!H:H,MATCH(G266,'Podświetlanie modułów'!F:F,0)),0)","v":0},{"$f":"IF(M266*1>0,\"x\",IF(INDEX(Kalkulacja!A:A,Q266)=\"x\",\"x\",0))","v":"x"},"TRUE",{"$f":"MATCH(G266,Kalkulacja!$H$1:$H$459,0)","v":205},null,null,0,null,0,null,null,null,null,"Dedykowane wpisy np. poradnik, przepisy kulinarne, case study, realizacje, projekty, portfolio itp.",null,null,null,null,{"$f":"IFERROR(INDEX(Kalkulacja!Q:Q,Q266),0)","v":0},0]
[null,null,null,{"$f":"IFERROR(IF(N267>0,\"SUGEROWANE\",IF((INDEX(Kalkulacja!B:B,MATCH(G267,Kalkulacja!H:H,0)))=\"x\",\"USŁUGA\",\"\")),\"\")","v":""},"i",null,{"$f":"Kalkulacja!H206","v":"Realizacje na mapie Google "},null,null,0,{"$f":"IFERROR(IF(Kalkulacja!$F$2=\"x\",INDEX(Kalkulacja!$R$1:$R$459,Q267),\"\"),\"\")","v":""},null,false,{"$f":"IFERROR(INDEX('Podświetlanie modułów'!H:H,MATCH(G267,'Podświetlanie modułów'!F:F,0)),0)","v":0},{"$f":"IF(M267*1>0,\"x\",IF(INDEX(Kalkulacja!A:A,Q267)=\"x\",\"x\",0))","v":"x"},"TRUE",{"$f":"MATCH(G267,Kalkulacja!$H$1:$H$459,0)","v":206},null,null,0,null,0,null,null,null,null,"Realizacje na mapie Google ",null,null,null,null,{"$f":"IFERROR(INDEX(Kalkulacja!Q:Q,Q267),0)","v":0},0]
[null,null,null,{"$f":"IFERROR(IF(N268>0,\"SUGEROWANE\",IF((INDEX(Kalkulacja!B:B,MATCH(G268,Kalkulacja!H:H,0)))=\"x\",\"USŁUGA\",\"\")),\"\")","v":""},"i",null,{"$f":"Kalkulacja!H207","v":"Autorski player audio"},null,null,0,{"$f":"IFERROR(IF(Kalkulacja!$F$2=\"x\",INDEX(Kalkulacja!$R$1:$R$459,Q268),\"\"),\"\")","v":""},null,0,{"$f":"IFERROR(INDEX('Podświetlanie modułów'!H:H,MATCH(G268,'Podświetlanie modułów'!F:F,0)),0)","v":0},{"$f":"IF(M268*1>0,\"x\",IF(INDEX(Kalkulacja!A:A,Q268)=\"x\",\"x\",0))","v":0},"FALSE",{"$f":"MATCH(G268,Kalkulacja!$H$1:$H$459,0)","v":207},null,null,0,null,0,null,null,null,null,"Autorski player audio",null,null,null,null,{"$f":"IFERROR(INDEX(Kalkulacja!Q:Q,Q268),0)","v":0},0]
[null,null,null,{"$f":"IFERROR(IF(N269>0,\"SUGEROWANE\",IF((INDEX(Kalkulacja!B:B,MATCH(G269,Kalkulacja!H:H,0)))=\"x\",\"USŁUGA\",\"\")),\"\")","v":""},"i",null,{"$f":"Kalkulacja!H208","v":"Wydarzenia i kalendarium"},null,null,0,{"$f":"IFERROR(IF(Kalkulacja!$F$2=\"x\",INDEX(Kalkulacja!$R$1:$R$459,Q269),\"\"),\"\")","v":""},null,false,{"$f":"IFERROR(INDEX('Podświetlanie modułów'!H:H,MATCH(G269,'Podświetlanie modułów'!F:F,0)),0)","v":0},{"$f":"IF(M269*1>0,\"x\",IF(INDEX(Kalkulacja!A:A,Q269)=\"x\",\"x\",0))","v":0},"FALSE",{"$f":"MATCH(G269,Kalkulacja!$H$1:$H$459,0)","v":208},null,null,0,null,0,null,null,null,null,"Wydarzenia i kalendarium",null,null,null,null,{"$f":"IFERROR(INDEX(Kalkulacja!Q:Q,Q269),0)","v":0},0]
[null,null,null,{"$f":"IFERROR(IF(N270>0,\"SUGEROWANE\",IF((INDEX(Kalkulacja!B:B,MATCH(G270,Kalkulacja!H:H,0)))=\"x\",\"USŁUGA\",\"\")),\"\")","v":""},"i",null,{"$f":"Kalkulacja!H209","v":"Dodatkowy moduł 44"},null,null,0,{"$f":"IFERROR(IF(Kalkulacja!$F$2=\"x\",INDEX(Kalkulacja!$R$1:$R$459,Q270),\"\"),\"\")","v":""},null,0,{"$f":"IFERROR(INDEX('Podświetlanie modułów'!H:H,MATCH(G270,'Podświetlanie modułów'!F:F,0)),0)","v":0},{"$f":"IF(M270*1>0,\"x\",IF(INDEX(Kalkulacja!A:A,Q270)=\"x\",\"x\",0))","v":0},"FALSE",{"$f":"MATCH(G270,Kalkulacja!$H$1:$H$459,0)","v":209},null,null,0,null,0,null,null,null,null,"Dodatkowy moduł 44",null,null,null,null,{"$f":"IFERROR(INDEX(Kalkulacja!Q:Q,Q270),0)","v":0},0]
[null,null,null,{"$f":"IFERROR(IF(N271>0,\"SUGEROWANE\",IF((INDEX(Kalkulacja!B:B,MATCH(G271,Kalkulacja!H:H,0)))=\"x\",\"USŁUGA\",\"\")),\"\")","v":""},"i",null,{"$f":"Kalkulacja!H210","v":"Dodatkowy moduł 45"},null,null,0,{"$f":"IFERROR(IF(Kalkulacja!$F$2=\"x\",INDEX(Kalkulacja!$R$1:$R$459,Q271),\"\"),\"\")","v":""},null,0,{"$f":"IFERROR(INDEX('Podświetlanie modułów'!H:H,MATCH(G271,'Podświetlanie modułów'!F:F,0)),0)","v":0},{"$f":"IF(M271*1>0,\"x\",IF(INDEX(Kalkulacja!A:A,Q271)=\"x\",\"x\",0))","v":0},"FALSE",{"$f":"MATCH(G271,Kalkulacja!$H$1:$H$459,0)","v":210},null,null,0,null,0,null,null,null,null,"Dodatkowy moduł 45",null,null,null,null,{"$f":"IFERROR(INDEX(Kalkulacja!Q:Q,Q271),0)","v":0},0]
[null,null,null,{"$f":"IFERROR(IF(N272>0,\"SUGEROWANE\",IF((INDEX(Kalkulacja!B:B,MATCH(G272,Kalkulacja!H:H,0)))=\"x\",\"USŁUGA\",\"\")),\"\")","v":""},"i",null,{"$f":"Kalkulacja!H211","v":"Dodatkowy moduł 46"},null,null,0,{"$f":"IFERROR(IF(Kalkulacja!$F$2=\"x\",INDEX(Kalkulacja!$R$1:$R$459,Q272),\"\"),\"\")","v":""},null,0,{"$f":"IFERROR(INDEX('Podświetlanie modułów'!H:H,MATCH(G272,'Podświetlanie modułów'!F:F,0)),0)","v":0},{"$f":"IF(M272*1>0,\"x\",IF(INDEX(Kalkulacja!A:A,Q272)=\"x\",\"x\",0))","v":0},"FALSE",{"$f":"MATCH(G272,Kalkulacja!$H$1:$H$459,0)","v":211},null,null,0,null,0,null,null,null,null,"Dodatkowy moduł 46",null,null,null,null,{"$f":"IFERROR(INDEX(Kalkulacja!Q:Q,Q272),0)","v":0},0]
[null,null,null,{"$f":"IFERROR(IF(N273>0,\"SUGEROWANE\",IF((INDEX(Kalkulacja!B:B,MATCH(G273,Kalkulacja!H:H,0)))=\"x\",\"USŁUGA\",\"\")),\"\")","v":""},{"$f":"Kalkulacja!H212","v":"Rozszerzone informacje firmowe"},null,null,null,null,null,null,null,null,{"$f":"IFERROR(INDEX('Podświetlanie modułów'!H:H,MATCH(G273,'Podświetlanie modułów'!F:F,0)),0)","v":0},{"$f":"IF(COUNTIF(O274:O282,\"x\")>0,\"x\",0)","v":"x"},"TRUE",{"$f":"MATCH(E273,Kalkulacja!$H$1:$H$459,0)","v":212},null,null,0,null,0,null,null,null,null,0,null,null,null,null,{"$f":"IFERROR(INDEX(Kalkulacja!Q:Q,Q273),0)","v":0},0]
[null,null,null,{"$f":"IFERROR(IF(N274>0,\"SUGEROWANE\",IF((INDEX(Kalkulacja!B:B,MATCH(G274,Kalkulacja!H:H,0)))=\"x\",\"USŁUGA\",\"\")),\"\")","v":""},"i",null,{"$f":"Kalkulacja!H213","v":"Linia czasu (historia)"},null,null,{"$f":"M274*1","v":0},{"$f":"IFERROR(IF(Kalkulacja!$F$2=\"x\",INDEX(Kalkulacja!$R$1:$R$459,Q274),\"\"),\"\")","v":""},null,false,{"$f":"IFERROR(INDEX('Podświetlanie modułów'!H:H,MATCH(G274,'Podświetlanie modułów'!F:F,0)),0)","v":0},{"$f":"IF(M274*1>0,\"x\",IF(INDEX(Kalkulacja!A:A,Q274)=\"x\",\"x\",0))","v":"x"},"TRUE",{"$f":"MATCH(G274,Kalkulacja!$H$1:$H$459,0)","v":213},null,null,0,null,0,null,null,null,null,"Linia czasu (historia)",null,null,null,null,{"$f":"IFERROR(INDEX(Kalkulacja!Q:Q,Q274),0)","v":0},0]
[null,null,null,{"$f":"IFERROR(IF(N275>0,\"SUGEROWANE\",IF((INDEX(Kalkulacja!B:B,MATCH(G275,Kalkulacja!H:H,0)))=\"x\",\"USŁUGA\",\"\")),\"\")","v":""},"i",null,{"$f":"Kalkulacja!H214","v":"Lista pracowników + strona o pracowniku"},null,null,0,{"$f":"IFERROR(IF(Kalkulacja!$F$2=\"x\",INDEX(Kalkulacja!$R$1:$R$459,Q275),\"\"),\"\")","v":""},null,0,{"$f":"IFERROR(INDEX('Podświetlanie modułów'!H:H,MATCH(G275,'Podświetlanie modułów'!F:F,0)),0)","v":0},{"$f":"IF(M275*1>0,\"x\",IF(INDEX(Kalkulacja!A:A,Q275)=\"x\",\"x\",0))","v":"x"},"TRUE",{"$f":"MATCH(G275,Kalkulacja!$H$1:$H$459,0)","v":214},null,null,0,null,0,null,null,null,null,"Lista pracowników + strona o pracowniku",null,null,null,null,{"$f":"IFERROR(INDEX(Kalkulacja!Q:Q,Q275),0)","v":0},0]
[null,null,null,{"$f":"IFERROR(IF(N276>0,\"SUGEROWANE\",IF((INDEX(Kalkulacja!B:B,MATCH(G276,Kalkulacja!H:H,0)))=\"x\",\"USŁUGA\",\"\")),\"\")","v":""},"i",null,{"$f":"Kalkulacja!H215","v":"Mapa lokalizacji sklepów / oddziałów / punktów"},null,null,0,{"$f":"IFERROR(IF(Kalkulacja!$F$2=\"x\",INDEX(Kalkulacja!$R$1:$R$459,Q276),\"\"),\"\")","v":""},null,false,{"$f":"IFERROR(INDEX('Podświetlanie modułów'!H:H,MATCH(G276,'Podświetlanie modułów'!F:F,0)),0)","v":0},{"$f":"IF(M276*1>0,\"x\",IF(INDEX(Kalkulacja!A:A,Q276)=\"x\",\"x\",0))","v":"x"},"TRUE",{"$f":"MATCH(G276,Kalkulacja!$H$1:$H$459,0)","v":215},null,null,0,null,0,null,null,null,null,"Mapa lokalizacji sklepów / oddziałów / punktów",null,null,null,null,{"$f":"IFERROR(INDEX(Kalkulacja!Q:Q,Q276),0)","v":0},0]
[null,null,null,{"$f":"IFERROR(IF(N277>0,\"SUGEROWANE\",IF((INDEX(Kalkulacja!B:B,MATCH(G277,Kalkulacja!H:H,0)))=\"x\",\"USŁUGA\",\"\")),\"\")","v":""},"i",null,{"$f":"Kalkulacja!H216","v":"Moduł opinii"},null,null,0,{"$f":"IFERROR(IF(Kalkulacja!$F$2=\"x\",INDEX(Kalkulacja!$R$1:$R$459,Q277),\"\"),\"\")","v":""},null,false,{"$f":"IFERROR(INDEX('Podświetlanie modułów'!H:H,MATCH(G277,'Podświetlanie modułów'!F:F,0)),0)","v":0},{"$f":"IF(M277*1>0,\"x\",IF(INDEX(Kalkulacja!A:A,Q277)=\"x\",\"x\",0))","v":"x"},"TRUE",{"$f":"MATCH(G277,Kalkulacja!$H$1:$H$459,0)","v":216},null,null,0,null,0,null,null,null,null,"Moduł opinii",null,null,null,null,{"$f":"IFERROR(INDEX(Kalkulacja!Q:Q,Q277),0)","v":0},0]
[null,null,null,{"$f":"IFERROR(IF(N278>0,\"SUGEROWANE\",IF((INDEX(Kalkulacja!B:B,MATCH(G278,Kalkulacja!H:H,0)))=\"x\",\"USŁUGA\",\"\")),\"\")","v":""},"i",null,{"$f":"Kalkulacja!H217","v":"Oferty pracy + formularz aplikacji"},null,null,0,{"$f":"IFERROR(IF(Kalkulacja!$F$2=\"x\",INDEX(Kalkulacja!$R$1:$R$459,Q278),\"\"),\"\")","v":""},null,0,{"$f":"IFERROR(INDEX('Podświetlanie modułów'!H:H,MATCH(G278,'Podświetlanie modułów'!F:F,0)),0)","v":0},{"$f":"IF(M278*1>0,\"x\",IF(INDEX(Kalkulacja!A:A,Q278)=\"x\",\"x\",0))","v":"x"},"TRUE",{"$f":"MATCH(G278,Kalkulacja!$H$1:$H$459,0)","v":217},null,null,{"$f":"U278","v":0},null,{"$f":"AG278","v":0},null,null,null,null,{"$f":"G278","v":"Oferty pracy + formularz aplikacji"},null,null,null,null,{"$f":"IFERROR(INDEX(Kalkulacja!Q:Q,Q278),0)","v":0},0]
[null,null,null,{"$f":"IFERROR(IF(N279>0,\"SUGEROWANE\",IF((INDEX(Kalkulacja!B:B,MATCH(G279,Kalkulacja!H:H,0)))=\"x\",\"USŁUGA\",\"\")),\"\")","v":""},"i",null,{"$f":"Kalkulacja!H218","v":"Przetargi"},null,null,0,{"$f":"IFERROR(IF(Kalkulacja!$F$2=\"x\",INDEX(Kalkulacja!$R$1:$R$459,Q279),\"\"),\"\")","v":""},null,0,{"$f":"IFERROR(INDEX('Podświetlanie modułów'!H:H,MATCH(G279,'Podświetlanie modułów'!F:F,0)),0)","v":0},{"$f":"IF(M279*1>0,\"x\",IF(INDEX(Kalkulacja!A:A,Q279)=\"x\",\"x\",0))","v":0},"FALSE",{"$f":"MATCH(G279,Kalkulacja!$H$1:$H$459,0)","v":218},null,null,0,null,0,null,null,null,null,"Przetargi",null,null,null,null,{"$f":"IFERROR(INDEX(Kalkulacja!Q:Q,Q279),0)","v":0},0]
[null,null,null,{"$f":"IFERROR(IF(N280>0,\"SUGEROWANE\",IF((INDEX(Kalkulacja!B:B,MATCH(G280,Kalkulacja!H:H,0)))=\"x\",\"USŁUGA\",\"\")),\"\")","v":""},"i",null,{"$f":"Kalkulacja!H219","v":"Dodatkowy moduł 47"},null,null,0,{"$f":"IFERROR(IF(Kalkulacja!$F$2=\"x\",INDEX(Kalkulacja!$R$1:$R$459,Q280),\"\"),\"\")","v":""},null,0,{"$f":"IFERROR(INDEX('Podświetlanie modułów'!H:H,MATCH(G280,'Podświetlanie modułów'!F:F,0)),0)","v":0},{"$f":"IF(M280*1>0,\"x\",IF(INDEX(Kalkulacja!A:A,Q280)=\"x\",\"x\",0))","v":0},"FALSE",{"$f":"MATCH(G280,Kalkulacja!$H$1:$H$459,0)","v":219},null,null,0,null,0,null,null,null,null,"Dodatkowy moduł 47",null,null,null,null,{"$f":"IFERROR(INDEX(Kalkulacja!Q:Q,Q280),0)","v":0},0]
[null,null,null,{"$f":"IFERROR(IF(N281>0,\"SUGEROWANE\",IF((INDEX(Kalkulacja!B:B,MATCH(G281,Kalkulacja!H:H,0)))=\"x\",\"USŁUGA\",\"\")),\"\")","v":""},"i",null,{"$f":"Kalkulacja!H220","v":"Dodatkowy moduł 48"},null,null,0,{"$f":"IFERROR(IF(Kalkulacja!$F$2=\"x\",INDEX(Kalkulacja!$R$1:$R$459,Q281),\"\"),\"\")","v":""},null,0,{"$f":"IFERROR(INDEX('Podświetlanie modułów'!H:H,MATCH(G281,'Podświetlanie modułów'!F:F,0)),0)","v":0},{"$f":"IF(M281*1>0,\"x\",IF(INDEX(Kalkulacja!A:A,Q281)=\"x\",\"x\",0))","v":0},"FALSE",{"$f":"MATCH(G281,Kalkulacja!$H$1:$H$459,0)","v":220},null,null,0,null,0,null,null,null,null,"Dodatkowy moduł 48",null,null,null,null,{"$f":"IFERROR(INDEX(Kalkulacja!Q:Q,Q281),0)","v":0},0]
[null,null,null,{"$f":"IFERROR(IF(N282>0,\"SUGEROWANE\",IF((INDEX(Kalkulacja!B:B,MATCH(G282,Kalkulacja!H:H,0)))=\"x\",\"USŁUGA\",\"\")),\"\")","v":""},"i",null,{"$f":"Kalkulacja!H221","v":"Dodatkowy moduł 49"},null,null,0,{"$f":"IFERROR(IF(Kalkulacja!$F$2=\"x\",INDEX(Kalkulacja!$R$1:$R$459,Q282),\"\"),\"\")","v":""},null,0,{"$f":"IFERROR(INDEX('Podświetlanie modułów'!H:H,MATCH(G282,'Podświetlanie modułów'!F:F,0)),0)","v":0},{"$f":"IF(M282*1>0,\"x\",IF(INDEX(Kalkulacja!A:A,Q282)=\"x\",\"x\",0))","v":0},"FALSE",{"$f":"MATCH(G282,Kalkulacja!$H$1:$H$459,0)","v":221},null,null,0,null,0,null,null,null,null,"Dodatkowy moduł 49",null,null,null,null,{"$f":"IFERROR(INDEX(Kalkulacja!Q:Q,Q282),0)","v":0},0]
[null,null,null,{"$f":"IFERROR(IF(N283>0,\"SUGEROWANE\",IF((INDEX(Kalkulacja!B:B,MATCH(G283,Kalkulacja!H:H,0)))=\"x\",\"USŁUGA\",\"\")),\"\")","v":""},{"$f":"Kalkulacja!H222","v":"Powiadomienia i chat"},null,null,null,null,null,null,null,null,{"$f":"IFERROR(INDEX('Podświetlanie modułów'!H:H,MATCH(G283,'Podświetlanie modułów'!F:F,0)),0)","v":0},{"$f":"IF(COUNTIF(O284:O289,\"x\")>0,\"x\",0)","v":"x"},"TRUE",{"$f":"MATCH(E283,Kalkulacja!$H$1:$H$459,0)","v":222},null,null,0,null,0,null,null,null,null,0,null,null,null,null,{"$f":"IFERROR(INDEX(Kalkulacja!Q:Q,Q283),0)","v":0},0]
[null,null,null,{"$f":"IFERROR(IF(N284>0,\"SUGEROWANE\",IF((INDEX(Kalkulacja!B:B,MATCH(G284,Kalkulacja!H:H,0)))=\"x\",\"USŁUGA\",\"\")),\"\")","v":""},"i",null,{"$f":"Kalkulacja!H223","v":"Powiadomienia Web Push np..gravitec (implementacja)"},null,null,{"$f":"M284*1","v":0},{"$f":"IFERROR(IF(Kalkulacja!$F$2=\"x\",INDEX(Kalkulacja!$R$1:$R$459,Q284),\"\"),\"\")","v":""},null,0,{"$f":"IFERROR(INDEX('Podświetlanie modułów'!H:H,MATCH(G284,'Podświetlanie modułów'!F:F,0)),0)","v":0},{"$f":"IF(M284*1>0,\"x\",IF(INDEX(Kalkulacja!A:A,Q284)=\"x\",\"x\",0))","v":0},"FALSE",{"$f":"MATCH(G284,Kalkulacja!$H$1:$H$459,0)","v":223},null,null,0,null,0,null,null,null,null,"Powiadomienia Web Push np..gravitec (implementacja)",null,null,null,null,{"$f":"IFERROR(INDEX(Kalkulacja!Q:Q,Q284),0)","v":0},0]
[null,null,null,{"$f":"IFERROR(IF(N285>0,\"SUGEROWANE\",IF((INDEX(Kalkulacja!B:B,MATCH(G285,Kalkulacja!H:H,0)))=\"x\",\"USŁUGA\",\"\")),\"\")","v":""},"i",null,{"$f":"Kalkulacja!H224","v":"Chat na stronie np.czater  (implementacja)"},null,null,0,{"$f":"IFERROR(IF(Kalkulacja!$F$2=\"x\",INDEX(Kalkulacja!$R$1:$R$459,Q285),\"\"),\"\")","v":""},null,false,{"$f":"IFERROR(INDEX('Podświetlanie modułów'!H:H,MATCH(G285,'Podświetlanie modułów'!F:F,0)),0)","v":0},{"$f":"IF(M285*1>0,\"x\",IF(INDEX(Kalkulacja!A:A,Q285)=\"x\",\"x\",0))","v":"x"},"TRUE",{"$f":"MATCH(G285,Kalkulacja!$H$1:$H$459,0)","v":224},null,null,0,null,0,null,null,null,null,"Chat na stronie np.czater  (implementacja)",null,null,null,null,{"$f":"IFERROR(INDEX(Kalkulacja!Q:Q,Q285),0)","v":0},0]
[null,null,null,{"$f":"IFERROR(IF(N286>0,\"SUGEROWANE\",IF((INDEX(Kalkulacja!B:B,MATCH(G286,Kalkulacja!H:H,0)))=\"x\",\"USŁUGA\",\"\")),\"\")","v":""},"i",null,{"$f":"Kalkulacja!H225","v":"Messenger na stronie (implementacja)"},null,null,0,{"$f":"IFERROR(IF(Kalkulacja!$F$2=\"x\",INDEX(Kalkulacja!$R$1:$R$459,Q286),\"\"),\"\")","v":""},null,false,{"$f":"IFERROR(INDEX('Podświetlanie modułów'!H:H,MATCH(G286,'Podświetlanie modułów'!F:F,0)),0)","v":0},{"$f":"IF(M286*1>0,\"x\",IF(INDEX(Kalkulacja!A:A,Q286)=\"x\",\"x\",0))","v":"x"},"TRUE",{"$f":"MATCH(G286,Kalkulacja!$H$1:$H$459,0)","v":225},null,null,0,null,0,null,null,null,null,"Messenger na stronie (implementacja)",null,null,null,null,{"$f":"IFERROR(INDEX(Kalkulacja!Q:Q,Q286),0)","v":0},0]
[null,null,null,{"$f":"IFERROR(IF(N287>0,\"SUGEROWANE\",IF((INDEX(Kalkulacja!B:B,MATCH(G287,Kalkulacja!H:H,0)))=\"x\",\"USŁUGA\",\"\")),\"\")","v":""},"i",null,{"$f":"Kalkulacja!H226","v":"Dodatkowy moduł 50"},null,null,0,{"$f":"IFERROR(IF(Kalkulacja!$F$2=\"x\",INDEX(Kalkulacja!$R$1:$R$459,Q287),\"\"),\"\")","v":""},null,0,{"$f":"IFERROR(INDEX('Podświetlanie modułów'!H:H,MATCH(G287,'Podświetlanie modułów'!F:F,0)),0)","v":0},{"$f":"IF(M287*1>0,\"x\",IF(INDEX(Kalkulacja!A:A,Q287)=\"x\",\"x\",0))","v":0},"FALSE",{"$f":"MATCH(G287,Kalkulacja!$H$1:$H$459,0)","v":226},null,null,0,null,0,null,null,null,null,"Dodatkowy moduł 50",null,null,null,null,{"$f":"IFERROR(INDEX(Kalkulacja!Q:Q,Q287),0)","v":0},0]
[null,null,null,{"$f":"IFERROR(IF(N288>0,\"SUGEROWANE\",IF((INDEX(Kalkulacja!B:B,MATCH(G288,Kalkulacja!H:H,0)))=\"x\",\"USŁUGA\",\"\")),\"\")","v":""},"i",null,{"$f":"Kalkulacja!H227","v":"Dodatkowy moduł 51"},null,null,0,{"$f":"IFERROR(IF(Kalkulacja!$F$2=\"x\",INDEX(Kalkulacja!$R$1:$R$459,Q288),\"\"),\"\")","v":""},null,0,{"$f":"IFERROR(INDEX('Podświetlanie modułów'!H:H,MATCH(G288,'Podświetlanie modułów'!F:F,0)),0)","v":0},{"$f":"IF(M288*1>0,\"x\",IF(INDEX(Kalkulacja!A:A,Q288)=\"x\",\"x\",0))","v":0},"FALSE",{"$f":"MATCH(G288,Kalkulacja!$H$1:$H$459,0)","v":227},null,null,0,null,0,null,null,null,null,"Dodatkowy moduł 51",null,null,null,null,{"$f":"IFERROR(INDEX(Kalkulacja!Q:Q,Q288),0)","v":0},0]
[null,null,null,{"$f":"IFERROR(IF(N289>0,\"SUGEROWANE\",IF((INDEX(Kalkulacja!B:B,MATCH(G289,Kalkulacja!H:H,0)))=\"x\",\"USŁUGA\",\"\")),\"\")","v":""},"i",null,{"$f":"Kalkulacja!H228","v":"Dodatkowy moduł 52"},null,null,0,{"$f":"IFERROR(IF(Kalkulacja!$F$2=\"x\",INDEX(Kalkulacja!$R$1:$R$459,Q289),\"\"),\"\")","v":""},null,0,{"$f":"IFERROR(INDEX('Podświetlanie modułów'!H:H,MATCH(G289,'Podświetlanie modułów'!F:F,0)),0)","v":0},{"$f":"IF(M289*1>0,\"x\",IF(INDEX(Kalkulacja!A:A,Q289)=\"x\",\"x\",0))","v":0},"FALSE",{"$f":"MATCH(G289,Kalkulacja!$H$1:$H$459,0)","v":228},null,null,0,null,0,null,null,null,null,"Dodatkowy moduł 52",null,null,null,null,{"$f":"IFERROR(INDEX(Kalkulacja!Q:Q,Q289),0)","v":0},0]
[null,null,null,{"$f":"IFERROR(IF(N290>0,\"SUGEROWANE\",IF((INDEX(Kalkulacja!B:B,MATCH(G290,Kalkulacja!H:H,0)))=\"x\",\"USŁUGA\",\"\")),\"\")","v":""},{"$f":"Kalkulacja!H229","v":"Dodatkowe opcje"},null,null,null,null,null,null,null,null,{"$f":"IFERROR(INDEX('Podświetlanie modułów'!H:H,MATCH(G290,'Podświetlanie modułów'!F:F,0)),0)","v":0},{"$f":"IF(COUNTIF(O291:O296,\"x\")>0,\"x\",0)","v":0},"FALSE",{"$f":"MATCH(E290,Kalkulacja!$H$1:$H$459,0)","v":229},null,null,0,null,0,null,null,null,null,0,null,null,null,null,{"$f":"IFERROR(INDEX(Kalkulacja!Q:Q,Q290),0)","v":0},0]
[null,null,null,{"$f":"IFERROR(IF(N291>0,\"SUGEROWANE\",IF((INDEX(Kalkulacja!B:B,MATCH(G291,Kalkulacja!H:H,0)))=\"x\",\"USŁUGA\",\"\")),\"\")","v":""},"i",null,{"$f":"Kalkulacja!H230","v":"Wersje językowe Google Translator"},null,null,{"$f":"M291*1","v":0},{"$f":"IFERROR(IF(Kalkulacja!$F$2=\"x\",INDEX(Kalkulacja!$R$1:$R$459,Q291),\"\"),\"\")","v":""},null,false,{"$f":"IFERROR(INDEX('Podświetlanie modułów'!H:H,MATCH(G291,'Podświetlanie modułów'!F:F,0)),0)","v":0},{"$f":"IF(M291*1>0,\"x\",IF(INDEX(Kalkulacja!A:A,Q291)=\"x\",\"x\",0))","v":0},"FALSE",{"$f":"MATCH(G291,Kalkulacja!$H$1:$H$459,0)","v":230},null,null,0,null,0,null,null,null,null,"Wersje językowe Google Translator",null,null,null,null,{"$f":"IFERROR(INDEX(Kalkulacja!Q:Q,Q291),0)","v":0},0]
[null,null,null,{"$f":"IFERROR(IF(N292>0,\"SUGEROWANE\",IF((INDEX(Kalkulacja!B:B,MATCH(G292,Kalkulacja!H:H,0)))=\"x\",\"USŁUGA\",\"\")),\"\")","v":""},"i",null,{"$f":"Kalkulacja!H231","v":"Tryby w header \"Klient indywidualny\", \"Klient biznesowy\""},null,null,0,{"$f":"IFERROR(IF(Kalkulacja!$F$2=\"x\",INDEX(Kalkulacja!$R$1:$R$459,Q292),\"\"),\"\")","v":""},null,false,{"$f":"IFERROR(INDEX('Podświetlanie modułów'!H:H,MATCH(G292,'Podświetlanie modułów'!F:F,0)),0)","v":0},{"$f":"IF(M292*1>0,\"x\",IF(INDEX(Kalkulacja!A:A,Q292)=\"x\",\"x\",0))","v":0},"FALSE",{"$f":"MATCH(G292,Kalkulacja!$H$1:$H$459,0)","v":231},null,null,0,null,0,null,null,null,null,"Tryby w header \"Klient indywidualny\", \"Klient biznesowy\"",null,null,null,null,{"$f":"IFERROR(INDEX(Kalkulacja!Q:Q,Q292),0)","v":0},0]
[null,null,null,{"$f":"IFERROR(IF(N293>0,\"SUGEROWANE\",IF((INDEX(Kalkulacja!B:B,MATCH(G293,Kalkulacja!H:H,0)))=\"x\",\"USŁUGA\",\"\")),\"\")","v":""},"i",null,{"$f":"Kalkulacja!H232","v":"Powiększ litery, kontrast"},null,null,0,{"$f":"IFERROR(IF(Kalkulacja!$F$2=\"x\",INDEX(Kalkulacja!$R$1:$R$459,Q293),\"\"),\"\")","v":""},null,false,{"$f":"IFERROR(INDEX('Podświetlanie modułów'!H:H,MATCH(G293,'Podświetlanie modułów'!F:F,0)),0)","v":0},{"$f":"IF(M293*1>0,\"x\",IF(INDEX(Kalkulacja!A:A,Q293)=\"x\",\"x\",0))","v":0},"FALSE",{"$f":"MATCH(G293,Kalkulacja!$H$1:$H$459,0)","v":232},null,null,0,null,0,null,null,null,null,"Powiększ litery, kontrast",null,null,null,null,{"$f":"IFERROR(INDEX(Kalkulacja!Q:Q,Q293),0)","v":0},0]
[null,null,null,{"$f":"IFERROR(IF(N294>0,\"SUGEROWANE\",IF((INDEX(Kalkulacja!B:B,MATCH(G294,Kalkulacja!H:H,0)))=\"x\",\"USŁUGA\",\"\")),\"\")","v":""},"i",null,{"$f":"Kalkulacja!H233","v":"Dodatkowy moduł 53"},null,null,0,{"$f":"IFERROR(IF(Kalkulacja!$F$2=\"x\",INDEX(Kalkulacja!$R$1:$R$459,Q294),\"\"),\"\")","v":""},null,0,{"$f":"IFERROR(INDEX('Podświetlanie modułów'!H:H,MATCH(G294,'Podświetlanie modułów'!F:F,0)),0)","v":0},{"$f":"IF(M294*1>0,\"x\",IF(INDEX(Kalkulacja!A:A,Q294)=\"x\",\"x\",0))","v":0},"FALSE",{"$f":"MATCH(G294,Kalkulacja!$H$1:$H$459,0)","v":233},null,null,0,null,0,null,null,null,null,"Dodatkowy moduł 53",null,null,null,null,{"$f":"IFERROR(INDEX(Kalkulacja!Q:Q,Q294),0)","v":0},0]
[null,null,null,{"$f":"IFERROR(IF(N295>0,\"SUGEROWANE\",IF((INDEX(Kalkulacja!B:B,MATCH(G295,Kalkulacja!H:H,0)))=\"x\",\"USŁUGA\",\"\")),\"\")","v":""},"i",null,{"$f":"Kalkulacja!H234","v":"Dodatkowy moduł 54"},null,null,0,{"$f":"IFERROR(IF(Kalkulacja!$F$2=\"x\",INDEX(Kalkulacja!$R$1:$R$459,Q295),\"\"),\"\")","v":""},null,0,{"$f":"IFERROR(INDEX('Podświetlanie modułów'!H:H,MATCH(G295,'Podświetlanie modułów'!F:F,0)),0)","v":0},{"$f":"IF(M295*1>0,\"x\",IF(INDEX(Kalkulacja!A:A,Q295)=\"x\",\"x\",0))","v":0},"FALSE",{"$f":"MATCH(G295,Kalkulacja!$H$1:$H$459,0)","v":234},null,null,0,null,0,null,null,null,null,"Dodatkowy moduł 54",null,null,null,null,{"$f":"IFERROR(INDEX(Kalkulacja!Q:Q,Q295),0)","v":0},0]
[null,null,null,{"$f":"IFERROR(IF(N296>0,\"SUGEROWANE\",IF((INDEX(Kalkulacja!B:B,MATCH(G296,Kalkulacja!H:H,0)))=\"x\",\"USŁUGA\",\"\")),\"\")","v":""},"i",null,{"$f":"Kalkulacja!H235","v":"Dodatkowy moduł 55"},null,null,0,{"$f":"IFERROR(IF(Kalkulacja!$F$2=\"x\",INDEX(Kalkulacja!$R$1:$R$459,Q296),\"\"),\"\")","v":""},null,0,{"$f":"IFERROR(INDEX('Podświetlanie modułów'!H:H,MATCH(G296,'Podświetlanie modułów'!F:F,0)),0)","v":0},{"$f":"IF(M296*1>0,\"x\",IF(INDEX(Kalkulacja!A:A,Q296)=\"x\",\"x\",0))","v":0},"FALSE",{"$f":"MATCH(G296,Kalkulacja!$H$1:$H$459,0)","v":235},null,null,0,null,0,null,null,null,null,"Dodatkowy moduł 55",null,null,null,null,{"$f":"IFERROR(INDEX(Kalkulacja!Q:Q,Q296),0)","v":0},0]
[null,null,null,{"$f":"IFERROR(IF(N297>0,\"SUGEROWANE\",IF((INDEX(Kalkulacja!B:B,MATCH(G297,Kalkulacja!H:H,0)))=\"x\",\"USŁUGA\",\"\")),\"\")","v":""},{"$f":"Kalkulacja!H236","v":"Strefa dla klienta"},null,null,null,null,null,null,null,null,{"$f":"IFERROR(INDEX('Podświetlanie modułów'!H:H,MATCH(G297,'Podświetlanie modułów'!F:F,0)),0)","v":0},{"$f":"IF(COUNTIF(O298:O301,\"x\")>0,\"x\",0)","v":0},"FALSE",{"$f":"MATCH(E297,Kalkulacja!$H$1:$H$459,0)","v":236},null,null,0,null,0,null,null,null,null,0,null,null,null,null,{"$f":"IFERROR(INDEX(Kalkulacja!Q:Q,Q297),0)","v":0},0]
[null,null,null,{"$f":"IFERROR(IF(N298>0,\"SUGEROWANE\",IF((INDEX(Kalkulacja!B:B,MATCH(G298,Kalkulacja!H:H,0)))=\"x\",\"USŁUGA\",\"\")),\"\")","v":""},"i",null,{"$f":"Kalkulacja!H237","v":"Repozytorium plików dla zalogowanych"},null,null,{"$f":"M298*1","v":0},{"$f":"IFERROR(IF(Kalkulacja!$F$2=\"x\",INDEX(Kalkulacja!$R$1:$R$459,Q298),\"\"),\"\")","v":""},null,false,{"$f":"IFERROR(INDEX('Podświetlanie modułów'!H:H,MATCH(G298,'Podświetlanie modułów'!F:F,0)),0)","v":0},{"$f":"IF(M298*1>0,\"x\",IF(INDEX(Kalkulacja!A:A,Q298)=\"x\",\"x\",0))","v":0},"FALSE",{"$f":"MATCH(G298,Kalkulacja!$H$1:$H$459,0)","v":237},null,null,0,null,0,null,null,null,null,"Repozytorium plików dla zalogowanych",null,null,null,null,{"$f":"IFERROR(INDEX(Kalkulacja!Q:Q,Q298),0)","v":0},0]
[null,null,null,{"$f":"IFERROR(IF(N299>0,\"SUGEROWANE\",IF((INDEX(Kalkulacja!B:B,MATCH(G299,Kalkulacja!H:H,0)))=\"x\",\"USŁUGA\",\"\")),\"\")","v":""},"i",null,{"$f":"Kalkulacja!H238","v":"Panel logowania dla klientów"},null,null,0,{"$f":"IFERROR(IF(Kalkulacja!$F$2=\"x\",INDEX(Kalkulacja!$R$1:$R$459,Q299),\"\"),\"\")","v":""},null,false,{"$f":"IFERROR(INDEX('Podświetlanie modułów'!H:H,MATCH(G299,'Podświetlanie modułów'!F:F,0)),0)","v":0},{"$f":"IF(M299*1>0,\"x\",IF(INDEX(Kalkulacja!A:A,Q299)=\"x\",\"x\",0))","v":0},"FALSE",{"$f":"MATCH(G299,Kalkulacja!$H$1:$H$459,0)","v":238},null,null,0,null,0,null,null,null,null,"Panel logowania dla klientów",null,null,null,null,{"$f":"IFERROR(INDEX(Kalkulacja!Q:Q,Q299),0)","v":0},0]
[null,null,null,{"$f":"IFERROR(IF(N300>0,\"SUGEROWANE\",IF((INDEX(Kalkulacja!B:B,MATCH(G300,Kalkulacja!H:H,0)))=\"x\",\"USŁUGA\",\"\")),\"\")","v":""},"i",null,{"$f":"Kalkulacja!H239","v":"Dodatkowy moduł 56"},null,null,0,{"$f":"IFERROR(IF(Kalkulacja!$F$2=\"x\",INDEX(Kalkulacja!$R$1:$R$459,Q300),\"\"),\"\")","v":""},null,0,{"$f":"IFERROR(INDEX('Podświetlanie modułów'!H:H,MATCH(G300,'Podświetlanie modułów'!F:F,0)),0)","v":0},{"$f":"IF(M300*1>0,\"x\",IF(INDEX(Kalkulacja!A:A,Q300)=\"x\",\"x\",0))","v":0},"FALSE",{"$f":"MATCH(G300,Kalkulacja!$H$1:$H$459,0)","v":239},null,null,0,null,0,null,null,null,null,"Dodatkowy moduł 56",null,null,null,null,{"$f":"IFERROR(INDEX(Kalkulacja!Q:Q,Q300),0)","v":0},0]
[null,null,null,{"$f":"IFERROR(IF(N301>0,\"SUGEROWANE\",IF((INDEX(Kalkulacja!B:B,MATCH(G301,Kalkulacja!H:H,0)))=\"x\",\"USŁUGA\",\"\")),\"\")","v":""},"i",null,{"$f":"Kalkulacja!H240","v":"Dodatkowy moduł 57"},null,null,0,{"$f":"IFERROR(IF(Kalkulacja!$F$2=\"x\",INDEX(Kalkulacja!$R$1:$R$459,Q301),\"\"),\"\")","v":""},null,0,{"$f":"IFERROR(INDEX('Podświetlanie modułów'!H:H,MATCH(G301,'Podświetlanie modułów'!F:F,0)),0)","v":0},{"$f":"IF(M301*1>0,\"x\",IF(INDEX(Kalkulacja!A:A,Q301)=\"x\",\"x\",0))","v":0},"FALSE",{"$f":"MATCH(G301,Kalkulacja!$H$1:$H$459,0)","v":240},null,null,0,null,0,null,null,null,null,"Dodatkowy moduł 57",null,null,null,null,{"$f":"IFERROR(INDEX(Kalkulacja!Q:Q,Q301),0)","v":0},0]
[null,null,null,{"$f":"IFERROR(IF(N302>0,\"SUGEROWANE\",IF((INDEX(Kalkulacja!B:B,MATCH(G302,Kalkulacja!H:H,0)))=\"x\",\"USŁUGA\",\"\")),\"\")","v":""},{"$f":"Kalkulacja!H241","v":"Płatności"},null,null,null,null,null,null,null,null,{"$f":"IFERROR(INDEX('Podświetlanie modułów'!H:H,MATCH(G302,'Podświetlanie modułów'!F:F,0)),0)","v":0},{"$f":"IF(COUNTIF(O303:O306,\"x\")>0,\"x\",0)","v":0},"FALSE",{"$f":"MATCH(E302,Kalkulacja!$H$1:$H$459,0)","v":241},null,null,0,null,0,null,null,null,null,0,null,null,null,null,{"$f":"IFERROR(INDEX(Kalkulacja!Q:Q,Q302),0)","v":0},0]
[null,null,null,{"$f":"IFERROR(IF(N303>0,\"SUGEROWANE\",IF((INDEX(Kalkulacja!B:B,MATCH(G303,Kalkulacja!H:H,0)))=\"x\",\"USŁUGA\",\"\")),\"\")","v":""},"i",null,{"$f":"Kalkulacja!H242","v":"Szybka płatność (przelewy24)"},null,null,{"$f":"M303*1","v":0},{"$f":"IFERROR(IF(Kalkulacja!$F$2=\"x\",INDEX(Kalkulacja!$R$1:$R$459,Q303),\"\"),\"\")","v":""},null,false,{"$f":"IFERROR(INDEX('Podświetlanie modułów'!H:H,MATCH(G303,'Podświetlanie modułów'!F:F,0)),0)","v":0},{"$f":"IF(M303*1>0,\"x\",IF(INDEX(Kalkulacja!A:A,Q303)=\"x\",\"x\",0))","v":0},"FALSE",{"$f":"MATCH(G303,Kalkulacja!$H$1:$H$459,0)","v":242},null,null,0,null,0,null,null,null,null,"Szybka płatność (przelewy24)",null,null,null,null,{"$f":"IFERROR(INDEX(Kalkulacja!Q:Q,Q303),0)","v":0},0]
[null,null,null,{"$f":"IFERROR(IF(N304>0,\"SUGEROWANE\",IF((INDEX(Kalkulacja!B:B,MATCH(G304,Kalkulacja!H:H,0)))=\"x\",\"USŁUGA\",\"\")),\"\")","v":""},"i",null,{"$f":"Kalkulacja!H243","v":"Przelew darowizny "},null,null,0,{"$f":"IFERROR(IF(Kalkulacja!$F$2=\"x\",INDEX(Kalkulacja!$R$1:$R$459,Q304),\"\"),\"\")","v":""},null,false,{"$f":"IFERROR(INDEX('Podświetlanie modułów'!H:H,MATCH(G304,'Podświetlanie modułów'!F:F,0)),0)","v":0},{"$f":"IF(M304*1>0,\"x\",IF(INDEX(Kalkulacja!A:A,Q304)=\"x\",\"x\",0))","v":0},"FALSE",{"$f":"MATCH(G304,Kalkulacja!$H$1:$H$459,0)","v":243},null,null,0,null,0,null,null,null,null,"Przelew darowizny ",null,null,null,null,{"$f":"IFERROR(INDEX(Kalkulacja!Q:Q,Q304),0)","v":0},0]
[null,null,null,{"$f":"IFERROR(IF(N305>0,\"SUGEROWANE\",IF((INDEX(Kalkulacja!B:B,MATCH(G305,Kalkulacja!H:H,0)))=\"x\",\"USŁUGA\",\"\")),\"\")","v":""},"i",null,{"$f":"Kalkulacja!H244","v":"Dodatkowy moduł 58"},null,null,0,{"$f":"IFERROR(IF(Kalkulacja!$F$2=\"x\",INDEX(Kalkulacja!$R$1:$R$459,Q305),\"\"),\"\")","v":""},null,0,{"$f":"IFERROR(INDEX('Podświetlanie modułów'!H:H,MATCH(G305,'Podświetlanie modułów'!F:F,0)),0)","v":0},{"$f":"IF(M305*1>0,\"x\",IF(INDEX(Kalkulacja!A:A,Q305)=\"x\",\"x\",0))","v":0},"FALSE",{"$f":"MATCH(G305,Kalkulacja!$H$1:$H$459,0)","v":244},null,null,0,null,0,null,null,null,null,"Dodatkowy moduł 58",null,null,null,null,{"$f":"IFERROR(INDEX(Kalkulacja!Q:Q,Q305),0)","v":0},0]
[null,null,null,{"$f":"IFERROR(IF(N306>0,\"SUGEROWANE\",IF((INDEX(Kalkulacja!B:B,MATCH(G306,Kalkulacja!H:H,0)))=\"x\",\"USŁUGA\",\"\")),\"\")","v":""},"i",null,{"$f":"Kalkulacja!H245","v":"Dodatkowy moduł 59"},null,null,0,{"$f":"IFERROR(IF(Kalkulacja!$F$2=\"x\",INDEX(Kalkulacja!$R$1:$R$459,Q306),\"\"),\"\")","v":""},null,{"$f":"S306","v":0},{"$f":"IFERROR(INDEX('Podświetlanie modułów'!H:H,MATCH(G306,'Podświetlanie modułów'!F:F,0)),0)","v":0},{"$f":"IF(M306*1>0,\"x\",IF(INDEX(Kalkulacja!A:A,Q306)=\"x\",\"x\",0))","v":0},{"$f":"IF(O306=\"x\",\"TRUE\",\"FALSE\")","v":"FALSE"},{"$f":"MATCH(G306,Kalkulacja!$H$1:$H$459,0)","v":245},null,null,0,null,0,null,null,null,null,"Dodatkowy moduł 59",null,null,null,null,{"$f":"IFERROR(INDEX(Kalkulacja!Q:Q,Q306),0)","v":0},0]
[null,null,null,{"$f":"IFERROR(IF(N307>0,\"SUGEROWANE\",IF((INDEX(Kalkulacja!B:B,MATCH(G307,Kalkulacja!H:H,0)))=\"x\",\"USŁUGA\",\"\")),\"\")","v":""},{"$f":"Kalkulacja!H246","v":"Efekty specjalne"},null,null,null,null,null,null,null,null,{"$f":"IFERROR(INDEX('Podświetlanie modułów'!H:H,MATCH(G307,'Podświetlanie modułów'!F:F,0)),0)","v":0},{"$f":"IF(COUNTIF(O308:O325,\"x\")>0,\"x\",0)","v":"x"},"TRUE",{"$f":"MATCH(E307,Kalkulacja!$H$1:$H$459,0)","v":246},null,null,0,null,0,null,null,null,null,0,null,null,null,null,{"$f":"IFERROR(INDEX(Kalkulacja!Q:Q,Q307),0)","v":0},0]
[null,null,null,{"$f":"IFERROR(IF(N308>0,\"SUGEROWANE\",IF((INDEX(Kalkulacja!B:B,MATCH(G308,Kalkulacja!H:H,0)))=\"x\",\"USŁUGA\",\"\")),\"\")","v":""},"i",null,{"$f":"Kalkulacja!H247","v":"Dynamiczny popup całej podstrony"},null,null,{"$f":"M308*1","v":0},{"$f":"IFERROR(IF(Kalkulacja!$F$2=\"x\",INDEX(Kalkulacja!$R$1:$R$459,Q308),\"\"),\"\")","v":""},null,0,{"$f":"IFERROR(INDEX('Podświetlanie modułów'!H:H,MATCH(G308,'Podświetlanie modułów'!F:F,0)),0)","v":0},{"$f":"IF(M308*1>0,\"x\",IF(INDEX(Kalkulacja!A:A,Q308)=\"x\",\"x\",0))","v":0},"FALSE",{"$f":"MATCH(G308,Kalkulacja!$H$1:$H$459,0)","v":247},null,null,0,null,0,null,null,null,null,"Dynamiczny popup całej podstrony",null,null,null,null,{"$f":"IFERROR(INDEX(Kalkulacja!Q:Q,Q308),0)","v":0},0]
[null,null,null,{"$f":"IFERROR(IF(N309>0,\"SUGEROWANE\",IF((INDEX(Kalkulacja!B:B,MATCH(G309,Kalkulacja!H:H,0)))=\"x\",\"USŁUGA\",\"\")),\"\")","v":""},"i",null,{"$f":"Kalkulacja!H248","v":"Obrazki z pinezkami (Elementor)"},null,null,0,{"$f":"IFERROR(IF(Kalkulacja!$F$2=\"x\",INDEX(Kalkulacja!$R$1:$R$459,Q309),\"\"),\"\")","v":""},null,false,{"$f":"IFERROR(INDEX('Podświetlanie modułów'!H:H,MATCH(G309,'Podświetlanie modułów'!F:F,0)),0)","v":0},{"$f":"IF(M309*1>0,\"x\",IF(INDEX(Kalkulacja!A:A,Q309)=\"x\",\"x\",0))","v":"x"},"TRUE",{"$f":"MATCH(G309,Kalkulacja!$H$1:$H$459,0)","v":248},null,null,0,null,0,null,null,null,null,"Obrazki z pinezkami (Elementor)",null,null,null,null,{"$f":"IFERROR(INDEX(Kalkulacja!Q:Q,Q309),0)","v":0},0]
[null,null,null,{"$f":"IFERROR(IF(N310>0,\"SUGEROWANE\",IF((INDEX(Kalkulacja!B:B,MATCH(G310,Kalkulacja!H:H,0)))=\"x\",\"USŁUGA\",\"\")),\"\")","v":""},"i",null,{"$f":"Kalkulacja!H249","v":"Foto przed i po"},null,null,0,{"$f":"IFERROR(IF(Kalkulacja!$F$2=\"x\",INDEX(Kalkulacja!$R$1:$R$459,Q310),\"\"),\"\")","v":""},null,false,{"$f":"IFERROR(INDEX('Podświetlanie modułów'!H:H,MATCH(G310,'Podświetlanie modułów'!F:F,0)),0)","v":0},{"$f":"IF(M310*1>0,\"x\",IF(INDEX(Kalkulacja!A:A,Q310)=\"x\",\"x\",0))","v":"x"},"TRUE",{"$f":"MATCH(G310,Kalkulacja!$H$1:$H$459,0)","v":249},null,null,0,null,0,null,null,null,null,"Foto przed i po",null,null,null,null,{"$f":"IFERROR(INDEX(Kalkulacja!Q:Q,Q310),0)","v":0},0]
[null,null,null,{"$f":"IFERROR(IF(N311>0,\"SUGEROWANE\",IF((INDEX(Kalkulacja!B:B,MATCH(G311,Kalkulacja!H:H,0)))=\"x\",\"USŁUGA\",\"\")),\"\")","v":""},"i",null,{"$f":"Kalkulacja!H250","v":"Animacje elementów (Elementor)"},null,null,0,{"$f":"IFERROR(IF(Kalkulacja!$F$2=\"x\",INDEX(Kalkulacja!$R$1:$R$459,Q311),\"\"),\"\")","v":""},null,false,{"$f":"IFERROR(INDEX('Podświetlanie modułów'!H:H,MATCH(G311,'Podświetlanie modułów'!F:F,0)),0)","v":0},{"$f":"IF(M311*1>0,\"x\",IF(INDEX(Kalkulacja!A:A,Q311)=\"x\",\"x\",0))","v":"x"},"TRUE",{"$f":"MATCH(G311,Kalkulacja!$H$1:$H$459,0)","v":250},null,null,0,null,0,null,null,null,null,"Animacje elementów (Elementor)",null,null,null,null,{"$f":"IFERROR(INDEX(Kalkulacja!Q:Q,Q311),0)","v":0},0]
[null,null,null,{"$f":"IFERROR(IF(N312>0,\"SUGEROWANE\",IF((INDEX(Kalkulacja!B:B,MATCH(G312,Kalkulacja!H:H,0)))=\"x\",\"USŁUGA\",\"\")),\"\")","v":""},"i",null,{"$f":"Kalkulacja!H251","v":"Animacje elementów (autorskie)"},null,null,0,{"$f":"IFERROR(IF(Kalkulacja!$F$2=\"x\",INDEX(Kalkulacja!$R$1:$R$459,Q312),\"\"),\"\")","v":""},null,false,{"$f":"IFERROR(INDEX('Podświetlanie modułów'!H:H,MATCH(G312,'Podświetlanie modułów'!F:F,0)),0)","v":0},{"$f":"IF(M312*1>0,\"x\",IF(INDEX(Kalkulacja!A:A,Q312)=\"x\",\"x\",0))","v":"x"},"TRUE",{"$f":"MATCH(G312,Kalkulacja!$H$1:$H$459,0)","v":251},null,null,0,null,0,null,null,null,null,"Animacje elementów (autorskie)",null,null,null,null,{"$f":"IFERROR(INDEX(Kalkulacja!Q:Q,Q312),0)","v":0},0]
[null,null,null,{"$f":"IFERROR(IF(N313>0,\"SUGEROWANE\",IF((INDEX(Kalkulacja!B:B,MATCH(G313,Kalkulacja!H:H,0)))=\"x\",\"USŁUGA\",\"\")),\"\")","v":""},"i",null,{"$f":"Kalkulacja!H252","v":"Tło wideo"},null,null,0,{"$f":"IFERROR(IF(Kalkulacja!$F$2=\"x\",INDEX(Kalkulacja!$R$1:$R$459,Q313),\"\"),\"\")","v":""},null,0,{"$f":"IFERROR(INDEX('Podświetlanie modułów'!H:H,MATCH(G313,'Podświetlanie modułów'!F:F,0)),0)","v":0},{"$f":"IF(M313*1>0,\"x\",IF(INDEX(Kalkulacja!A:A,Q313)=\"x\",\"x\",0))","v":"x"},"TRUE",{"$f":"MATCH(G313,Kalkulacja!$H$1:$H$459,0)","v":252},null,null,0,null,0,null,null,null,null,"Tło wideo",null,null,null,null,{"$f":"IFERROR(INDEX(Kalkulacja!Q:Q,Q313),0)","v":0},0]
[null,null,null,{"$f":"IFERROR(IF(N314>0,\"SUGEROWANE\",IF((INDEX(Kalkulacja!B:B,MATCH(G314,Kalkulacja!H:H,0)))=\"x\",\"USŁUGA\",\"\")),\"\")","v":""},"i",null,{"$f":"Kalkulacja!H253","v":"Tło reagujące na kursor"},null,null,0,{"$f":"IFERROR(IF(Kalkulacja!$F$2=\"x\",INDEX(Kalkulacja!$R$1:$R$459,Q314),\"\"),\"\")","v":""},null,0,{"$f":"IFERROR(INDEX('Podświetlanie modułów'!H:H,MATCH(G314,'Podświetlanie modułów'!F:F,0)),0)","v":0},{"$f":"IF(M314*1>0,\"x\",IF(INDEX(Kalkulacja!A:A,Q314)=\"x\",\"x\",0))","v":"x"},"TRUE",{"$f":"MATCH(G314,Kalkulacja!$H$1:$H$459,0)","v":253},null,null,0,null,0,null,null,null,null,"Tło reagujące na kursor",null,null,null,null,{"$f":"IFERROR(INDEX(Kalkulacja!Q:Q,Q314),0)","v":0},0]
[null,null,null,{"$f":"IFERROR(IF(N315>0,\"SUGEROWANE\",IF((INDEX(Kalkulacja!B:B,MATCH(G315,Kalkulacja!H:H,0)))=\"x\",\"USŁUGA\",\"\")),\"\")","v":""},"i",null,{"$f":"Kalkulacja!H254","v":"Tło parallax"},null,null,0,{"$f":"IFERROR(IF(Kalkulacja!$F$2=\"x\",INDEX(Kalkulacja!$R$1:$R$459,Q315),\"\"),\"\")","v":""},null,0,{"$f":"IFERROR(INDEX('Podświetlanie modułów'!H:H,MATCH(G315,'Podświetlanie modułów'!F:F,0)),0)","v":0},{"$f":"IF(M315*1>0,\"x\",IF(INDEX(Kalkulacja!A:A,Q315)=\"x\",\"x\",0))","v":"x"},"TRUE",{"$f":"MATCH(G315,Kalkulacja!$H$1:$H$459,0)","v":254},null,null,0,null,0,null,null,null,null,"Tło parallax",null,null,null,null,{"$f":"IFERROR(INDEX(Kalkulacja!Q:Q,Q315),0)","v":0},0]
[null,null,null,{"$f":"IFERROR(IF(N316>0,\"SUGEROWANE\",IF((INDEX(Kalkulacja!B:B,MATCH(G316,Kalkulacja!H:H,0)))=\"x\",\"USŁUGA\",\"\")),\"\")","v":""},"i",null,{"$f":"Kalkulacja!H255","v":"Produkt 3D"},null,null,0,{"$f":"IFERROR(IF(Kalkulacja!$F$2=\"x\",INDEX(Kalkulacja!$R$1:$R$459,Q316),\"\"),\"\")","v":""},null,0,{"$f":"IFERROR(INDEX('Podświetlanie modułów'!H:H,MATCH(G316,'Podświetlanie modułów'!F:F,0)),0)","v":0},{"$f":"IF(M316*1>0,\"x\",IF(INDEX(Kalkulacja!A:A,Q316)=\"x\",\"x\",0))","v":"x"},"TRUE",{"$f":"MATCH(G316,Kalkulacja!$H$1:$H$459,0)","v":255},null,null,0,null,0,null,null,null,null,"Produkt 3D",null,null,null,null,{"$f":"IFERROR(INDEX(Kalkulacja!Q:Q,Q316),0)","v":0},0]
[null,null,null,{"$f":"IFERROR(IF(N317>0,\"SUGEROWANE\",IF((INDEX(Kalkulacja!B:B,MATCH(G317,Kalkulacja!H:H,0)))=\"x\",\"USŁUGA\",\"\")),\"\")","v":""},"i",null,{"$f":"Kalkulacja!H256","v":"Produkt 360"},null,null,0,{"$f":"IFERROR(IF(Kalkulacja!$F$2=\"x\",INDEX(Kalkulacja!$R$1:$R$459,Q317),\"\"),\"\")","v":""},null,0,{"$f":"IFERROR(INDEX('Podświetlanie modułów'!H:H,MATCH(G317,'Podświetlanie modułów'!F:F,0)),0)","v":0},{"$f":"IF(M317*1>0,\"x\",IF(INDEX(Kalkulacja!A:A,Q317)=\"x\",\"x\",0))","v":"x"},"TRUE",{"$f":"MATCH(G317,Kalkulacja!$H$1:$H$459,0)","v":256},null,null,0,null,0,null,null,null,null,"Produkt 360",null,null,null,null,{"$f":"IFERROR(INDEX(Kalkulacja!Q:Q,Q317),0)","v":0},0]
[null,null,null,{"$f":"IFERROR(IF(N318>0,\"SUGEROWANE\",IF((INDEX(Kalkulacja!B:B,MATCH(G318,Kalkulacja!H:H,0)))=\"x\",\"USŁUGA\",\"\")),\"\")","v":""},"i",null,{"$f":"Kalkulacja!H257","v":"Przestrzeń z kamery 360"},null,null,0,{"$f":"IFERROR(IF(Kalkulacja!$F$2=\"x\",INDEX(Kalkulacja!$R$1:$R$459,Q318),\"\"),\"\")","v":""},null,0,{"$f":"IFERROR(INDEX('Podświetlanie modułów'!H:H,MATCH(G318,'Podświetlanie modułów'!F:F,0)),0)","v":0},{"$f":"IF(M318*1>0,\"x\",IF(INDEX(Kalkulacja!A:A,Q318)=\"x\",\"x\",0))","v":"x"},"TRUE",{"$f":"MATCH(G318,Kalkulacja!$H$1:$H$459,0)","v":257},null,null,0,null,0,null,null,null,null,"Przestrzeń z kamery 360",null,null,null,null,{"$f":"IFERROR(INDEX(Kalkulacja!Q:Q,Q318),0)","v":0},0]
[null,null,null,{"$f":"IFERROR(IF(N319>0,\"SUGEROWANE\",IF((INDEX(Kalkulacja!B:B,MATCH(G319,Kalkulacja!H:H,0)))=\"x\",\"USŁUGA\",\"\")),\"\")","v":""},"i",null,{"$f":"Kalkulacja!H258","v":"Flipbook / Interaktywna książka"},null,null,0,{"$f":"IFERROR(IF(Kalkulacja!$F$2=\"x\",INDEX(Kalkulacja!$R$1:$R$459,Q319),\"\"),\"\")","v":""},null,0,{"$f":"IFERROR(INDEX('Podświetlanie modułów'!H:H,MATCH(G319,'Podświetlanie modułów'!F:F,0)),0)","v":0},{"$f":"IF(M319*1>0,\"x\",IF(INDEX(Kalkulacja!A:A,Q319)=\"x\",\"x\",0))","v":"x"},"TRUE",{"$f":"MATCH(G319,Kalkulacja!$H$1:$H$459,0)","v":258},null,null,0,null,0,null,null,null,null,"Flipbook / Interaktywna książka",null,null,null,null,{"$f":"IFERROR(INDEX(Kalkulacja!Q:Q,Q319),0)","v":0},0]
[null,null,null,{"$f":"IFERROR(IF(N320>0,\"SUGEROWANE\",IF((INDEX(Kalkulacja!B:B,MATCH(G320,Kalkulacja!H:H,0)))=\"x\",\"USŁUGA\",\"\")),\"\")","v":""},"i",null,{"$f":"Kalkulacja!H259","v":"Spacer Google "},null,null,0,{"$f":"IFERROR(IF(Kalkulacja!$F$2=\"x\",INDEX(Kalkulacja!$R$1:$R$459,Q320),\"\"),\"\")","v":""},null,0,{"$f":"IFERROR(INDEX('Podświetlanie modułów'!H:H,MATCH(G320,'Podświetlanie modułów'!F:F,0)),0)","v":0},{"$f":"IF(M320*1>0,\"x\",IF(INDEX(Kalkulacja!A:A,Q320)=\"x\",\"x\",0))","v":"x"},"TRUE",{"$f":"MATCH(G320,Kalkulacja!$H$1:$H$459,0)","v":259},null,null,0,null,0,null,null,null,null,"Spacer Google ",null,null,null,null,{"$f":"IFERROR(INDEX(Kalkulacja!Q:Q,Q320),0)","v":0},0]
[null,null,null,{"$f":"IFERROR(IF(N321>0,\"SUGEROWANE\",IF((INDEX(Kalkulacja!B:B,MATCH(G321,Kalkulacja!H:H,0)))=\"x\",\"USŁUGA\",\"\")),\"\")","v":""},"i",null,{"$f":"Kalkulacja!H260","v":"Dodatkowy moduł 60"},null,null,0,{"$f":"IFERROR(IF(Kalkulacja!$F$2=\"x\",INDEX(Kalkulacja!$R$1:$R$459,Q321),\"\"),\"\")","v":""},null,0,{"$f":"IFERROR(INDEX('Podświetlanie modułów'!H:H,MATCH(G321,'Podświetlanie modułów'!F:F,0)),0)","v":0},{"$f":"IF(M321*1>0,\"x\",IF(INDEX(Kalkulacja!A:A,Q321)=\"x\",\"x\",0))","v":0},"FALSE",{"$f":"MATCH(G321,Kalkulacja!$H$1:$H$459,0)","v":260},null,null,0,null,0,null,null,null,null,"Dodatkowy moduł 60",null,null,null,null,{"$f":"IFERROR(INDEX(Kalkulacja!Q:Q,Q321),0)","v":0},0]
[null,null,null,{"$f":"IFERROR(IF(N322>0,\"SUGEROWANE\",IF((INDEX(Kalkulacja!B:B,MATCH(G322,Kalkulacja!H:H,0)))=\"x\",\"USŁUGA\",\"\")),\"\")","v":""},"i",null,{"$f":"Kalkulacja!H261","v":"Dodatkowy moduł 61"},null,null,0,{"$f":"IFERROR(IF(Kalkulacja!$F$2=\"x\",INDEX(Kalkulacja!$R$1:$R$459,Q322),\"\"),\"\")","v":""},null,0,{"$f":"IFERROR(INDEX('Podświetlanie modułów'!H:H,MATCH(G322,'Podświetlanie modułów'!F:F,0)),0)","v":0},{"$f":"IF(M322*1>0,\"x\",IF(INDEX(Kalkulacja!A:A,Q322)=\"x\",\"x\",0))","v":0},"FALSE",{"$f":"MATCH(G322,Kalkulacja!$H$1:$H$459,0)","v":261},null,null,0,null,0,null,null,null,null,"Dodatkowy moduł 61",null,null,null,null,{"$f":"IFERROR(INDEX(Kalkulacja!Q:Q,Q322),0)","v":0},0]
[null,null,null,{"$f":"IFERROR(IF(N323>0,\"SUGEROWANE\",IF((INDEX(Kalkulacja!B:B,MATCH(G323,Kalkulacja!H:H,0)))=\"x\",\"USŁUGA\",\"\")),\"\")","v":""},"i",null,{"$f":"Kalkulacja!H262","v":"Dodatkowy moduł 62"},null,null,0,{"$f":"IFERROR(IF(Kalkulacja!$F$2=\"x\",INDEX(Kalkulacja!$R$1:$R$459,Q323),\"\"),\"\")","v":""},null,0,{"$f":"IFERROR(INDEX('Podświetlanie modułów'!H:H,MATCH(G323,'Podświetlanie modułów'!F:F,0)),0)","v":0},{"$f":"IF(M323*1>0,\"x\",IF(INDEX(Kalkulacja!A:A,Q323)=\"x\",\"x\",0))","v":0},"FALSE",{"$f":"MATCH(G323,Kalkulacja!$H$1:$H$459,0)","v":262},null,null,0,null,0,null,null,null,null,"Dodatkowy moduł 62",null,null,null,null,{"$f":"IFERROR(INDEX(Kalkulacja!Q:Q,Q323),0)","v":0},0]
[null,null,null,{"$f":"IFERROR(IF(N324>0,\"SUGEROWANE\",IF((INDEX(Kalkulacja!B:B,MATCH(G324,Kalkulacja!H:H,0)))=\"x\",\"USŁUGA\",\"\")),\"\")","v":""},"i",null,{"$f":"Kalkulacja!H263","v":"Dodatkowy moduł 63"},null,null,0,{"$f":"IFERROR(IF(Kalkulacja!$F$2=\"x\",INDEX(Kalkulacja!$R$1:$R$459,Q324),\"\"),\"\")","v":""},null,0,{"$f":"IFERROR(INDEX('Podświetlanie modułów'!H:H,MATCH(G324,'Podświetlanie modułów'!F:F,0)),0)","v":0},{"$f":"IF(M324*1>0,\"x\",IF(INDEX(Kalkulacja!A:A,Q324)=\"x\",\"x\",0))","v":0},"FALSE",{"$f":"MATCH(G324,Kalkulacja!$H$1:$H$459,0)","v":263},null,null,0,null,0,null,null,null,null,"Dodatkowy moduł 63",null,null,null,null,{"$f":"IFERROR(INDEX(Kalkulacja!Q:Q,Q324),0)","v":0},0]
[null,null,null,{"$f":"IFERROR(IF(N325>0,\"SUGEROWANE\",IF((INDEX(Kalkulacja!B:B,MATCH(G325,Kalkulacja!H:H,0)))=\"x\",\"USŁUGA\",\"\")),\"\")","v":""},"i",null,{"$f":"Kalkulacja!H264","v":"Dodatkowy moduł 64"},null,null,0,{"$f":"IFERROR(IF(Kalkulacja!$F$2=\"x\",INDEX(Kalkulacja!$R$1:$R$459,Q325),\"\"),\"\")","v":""},null,0,{"$f":"IFERROR(INDEX('Podświetlanie modułów'!H:H,MATCH(G325,'Podświetlanie modułów'!F:F,0)),0)","v":0},{"$f":"IF(M325*1>0,\"x\",IF(INDEX(Kalkulacja!A:A,Q325)=\"x\",\"x\",0))","v":0},"FALSE",{"$f":"MATCH(G325,Kalkulacja!$H$1:$H$459,0)","v":264},null,null,0,null,0,null,null,null,null,"Dodatkowy moduł 64",null,null,null,null,{"$f":"IFERROR(INDEX(Kalkulacja!Q:Q,Q325),0)","v":0},0]
[null,null,null,{"$f":"IFERROR(IF(N326>0,\"SUGEROWANE\",IF((INDEX(Kalkulacja!B:B,MATCH(G326,Kalkulacja!H:H,0)))=\"x\",\"USŁUGA\",\"\")),\"\")","v":""},{"$f":"Kalkulacja!H265","v":"Moduły aktualności / blog"},null,null,null,null,null,null,null,null,{"$f":"IFERROR(INDEX('Podświetlanie modułów'!H:H,MATCH(G326,'Podświetlanie modułów'!F:F,0)),0)","v":0},{"$f":"IF(COUNTIF(O327:O349,\"x\")>0,\"x\",0)","v":"x"},"TRUE",{"$f":"MATCH(E326,Kalkulacja!$H$1:$H$459,0)","v":265},null,null,0,null,0,null,null,null,null,0,null,null,null,null,{"$f":"IFERROR(INDEX(Kalkulacja!Q:Q,Q326),0)","v":0},0]
[null,null,null,{"$f":"IFERROR(IF(N327>0,\"SUGEROWANE\",IF((INDEX(Kalkulacja!B:B,MATCH(G327,Kalkulacja!H:H,0)))=\"x\",\"USŁUGA\",\"\")),\"\")","v":""},"i",{"$f":"IF(ISBLANK(G327),\" Wybierz rodzaj mapy\",\"\")","v":""},{"$f":"Kalkulacja!H266","v":"Wpisy"},null,null,0,{"$f":"IFERROR(IF(Kalkulacja!$F$2=\"x\",INDEX(Kalkulacja!$R$1:$R$459,Q327),\"\"),\"\")","v":""},null,false,{"$f":"IFERROR(INDEX('Podświetlanie modułów'!H:H,MATCH(G327,'Podświetlanie modułów'!F:F,0)),0)","v":0},{"$f":"IF(M327*1>0,\"x\",IF(INDEX(Kalkulacja!A:A,Q327)=\"x\",\"x\",0))","v":0},"FALSE",{"$f":"MATCH(G327,Kalkulacja!$H$1:$H$459,0)","v":266},null,null,0,null,0,null,null,null,null,"Wpisy",null,null,null,null,{"$f":"IFERROR(INDEX(Kalkulacja!Q:Q,Q327),0)","v":0},0]
[null,null,null,{"$f":"IFERROR(IF(N328>0,\"SUGEROWANE\",IF((INDEX(Kalkulacja!B:B,MATCH(G328,Kalkulacja!H:H,0)))=\"x\",\"USŁUGA\",\"\")),\"\")","v":""},"i",{"$f":"IF(ISBLANK(G328),\" Wybierz typ wpisu\",\"\")","v":""},{"$f":"INDEX(X$328:$X330,MATCH($T$328,$Y$328:$Y$330,0))","v":"Artykuł - Wpis STANDARD"},null,null,0,{"$f":"IFERROR(IF(Kalkulacja!$F$2=\"x\",INDEX(Kalkulacja!$R$1:$R$459,Q328),\"\"),\"\")","v":""},null,false,{"$f":"IFERROR(INDEX('Podświetlanie modułów'!H:H,MATCH(G328,'Podświetlanie modułów'!F:F,0)),0)","v":0},{"$f":"IF(M328*1>0,\"x\",IF(COUNTIF(Kalkulacja!$A$267:$A$269,\"x\")>0,\"x\",0))","v":"x"},"TRUE",{"$f":"MATCH(G328,Kalkulacja!$H$1:$H$459,0)","v":268},null,null,2,{"$f":"IFERROR(INDEX($Y$328:$Y$330,MATCH(\"x\",Z328:Z330,0)),1)","v":2},0,null,{"$f":"Kalkulacja!H267","v":"Artkuł - Wpis BASIC"},1,{"$f":"INDEX(Kalkulacja!$C$267:$C$269,MATCH(X328,Kalkulacja!$H$267:$H$269,0))","v":0},"Artykuł - Wpis STANDARD",null,null,null,null,{"$f":"IFERROR(INDEX(Kalkulacja!Q:Q,Q328),0)","v":"x"},0]
[null,null,null,{"$f":"IFERROR(IF(N329>0,\"SUGEROWANE\",IF((INDEX(Kalkulacja!B:B,MATCH(G329,Kalkulacja!H:H,0)))=\"x\",\"USŁUGA\",\"\")),\"\")","v":"USŁUGA"},"i",null,{"$f":"Kalkulacja!H270","v":"Dodanie 1 artykułu"},null,null,0,{"$f":"IFERROR(IF(Kalkulacja!$F$2=\"x\",INDEX(Kalkulacja!$R$1:$R$459,Q329),\"\"),\"\")","v":""},null,false,{"$f":"IFERROR(INDEX('Podświetlanie modułów'!H:H,MATCH(G329,'Podświetlanie modułów'!F:F,0)),0)","v":0},{"$f":"IF(M329*1>0,\"x\",IF(INDEX(Kalkulacja!A:A,Q329)=\"x\",\"x\",0))","v":0},"FALSE",{"$f":"MATCH(G329,Kalkulacja!$H$1:$H$459,0)","v":270},null,null,0,null,0,null,{"$f":"Kalkulacja!H268","v":"Artykuł - Wpis STANDARD"},2,{"$f":"INDEX(Kalkulacja!$C$267:$C$269,MATCH(X329,Kalkulacja!$H$267:$H$269,0))","v":"x"},"Dodanie 1 artykułu",null,null,null,null,{"$f":"IFERROR(INDEX(Kalkulacja!Q:Q,Q329),0)","v":0},0]
[null,null,null,{"$f":"IFERROR(IF(N330>0,\"SUGEROWANE\",IF((INDEX(Kalkulacja!B:B,MATCH(G330,Kalkulacja!H:H,0)))=\"x\",\"USŁUGA\",\"\")),\"\")","v":""},"i",null,{"$f":"Kalkulacja!H271","v":"Kategorie"},null,null,0,{"$f":"IFERROR(IF(Kalkulacja!$F$2=\"x\",INDEX(Kalkulacja!$R$1:$R$459,Q330),\"\"),\"\")","v":""},null,false,{"$f":"IFERROR(INDEX('Podświetlanie modułów'!H:H,MATCH(G330,'Podświetlanie modułów'!F:F,0)),0)","v":0},{"$f":"IF(M330*1>0,\"x\",IF(INDEX(Kalkulacja!A:A,Q330)=\"x\",\"x\",0))","v":"x"},"TRUE",{"$f":"MATCH(G330,Kalkulacja!$H$1:$H$459,0)","v":271},null,null,0,null,0,null,{"$f":"Kalkulacja!H269","v":"Artykuł - Wpis PLUS"},3,{"$f":"INDEX(Kalkulacja!$C$267:$C$269,MATCH(X330,Kalkulacja!$H$267:$H$269,0))","v":0},"Kategorie",null,null,null,null,{"$f":"IFERROR(INDEX(Kalkulacja!Q:Q,Q330),0)","v":"x"},0]
[null,null,null,{"$f":"IFERROR(IF(N331>0,\"SUGEROWANE\",IF((INDEX(Kalkulacja!B:B,MATCH(G331,Kalkulacja!H:H,0)))=\"x\",\"USŁUGA\",\"\")),\"\")","v":""},"i",null,{"$f":"Kalkulacja!H272","v":"Tagi"},null,null,0,{"$f":"IFERROR(IF(Kalkulacja!$F$2=\"x\",INDEX(Kalkulacja!$R$1:$R$459,Q331),\"\"),\"\")","v":""},null,false,{"$f":"IFERROR(INDEX('Podświetlanie modułów'!H:H,MATCH(G331,'Podświetlanie modułów'!F:F,0)),0)","v":0},{"$f":"IF(M331*1>0,\"x\",IF(INDEX(Kalkulacja!A:A,Q331)=\"x\",\"x\",0))","v":"x"},"TRUE",{"$f":"MATCH(G331,Kalkulacja!$H$1:$H$459,0)","v":272},null,null,0,null,0,null,null,null,null,"Tagi",null,null,null,null,{"$f":"IFERROR(INDEX(Kalkulacja!Q:Q,Q331),0)","v":0},0]
[null,null,null,{"$f":"IFERROR(IF(N332>0,\"SUGEROWANE\",IF((INDEX(Kalkulacja!B:B,MATCH(G332,Kalkulacja!H:H,0)))=\"x\",\"USŁUGA\",\"\")),\"\")","v":""},"i",{"$f":"IF(ISBLANK(G332),\" Wybierz typ listy wpisów\",\"\")","v":""},{"$f":"INDEX(X$332:$X335,MATCH($T$332,$Y$332:$Y$335,0))","v":"Lista wpisów Kafelki"},null,null,0,{"$f":"IFERROR(IF(Kalkulacja!$F$2=\"x\",INDEX(Kalkulacja!$R$1:$R$459,Q332),\"\"),\"\")","v":""},null,false,{"$f":"IFERROR(INDEX('Podświetlanie modułów'!H:H,MATCH(G332,'Podświetlanie modułów'!F:F,0)),0)","v":0},{"$f":"IF(M332*1>0,\"x\",IF(COUNTIF(Kalkulacja!$A$273:$A$276,\"x\")>0,\"x\",0))","v":"x"},"TRUE",{"$f":"MATCH(G332,Kalkulacja!$H$1:$H$459,0)","v":274},null,null,2,{"$f":"IFERROR(INDEX($Y$332:$Y$335,MATCH(\"x\",Z332:Z335,0)),1)","v":2},0,null,{"$f":"Kalkulacja!H273","v":"Lista wpisów Klasyczna"},1,{"$f":"INDEX(Kalkulacja!$C$273:$C$276,MATCH(X332,Kalkulacja!$H$273:$H$276,0))","v":0},"Lista wpisów Kafelki",null,null,null,null,{"$f":"IFERROR(INDEX(Kalkulacja!Q:Q,Q332),0)","v":"x"},0]
[null,null,null,{"$f":"IFERROR(IF(N333>0,\"SUGEROWANE\",IF((INDEX(Kalkulacja!B:B,MATCH(G333,Kalkulacja!H:H,0)))=\"x\",\"USŁUGA\",\"\")),\"\")","v":""},"i",null,{"$f":"Kalkulacja!H277","v":"Czas czytania wpisu"},null,null,0,{"$f":"IFERROR(IF(Kalkulacja!$F$2=\"x\",INDEX(Kalkulacja!$R$1:$R$459,Q333),\"\"),\"\")","v":""},null,false,{"$f":"IFERROR(INDEX('Podświetlanie modułów'!H:H,MATCH(G333,'Podświetlanie modułów'!F:F,0)),0)","v":0},{"$f":"IF(M333*1>0,\"x\",IF(INDEX(Kalkulacja!A:A,Q333)=\"x\",\"x\",0))","v":0},"FALSE",{"$f":"MATCH(G333,Kalkulacja!$H$1:$H$459,0)","v":277},null,null,0,null,0,null,{"$f":"Kalkulacja!H274","v":"Lista wpisów Kafelki"},2,{"$f":"INDEX(Kalkulacja!$C$273:$C$276,MATCH(X333,Kalkulacja!$H$273:$H$276,0))","v":"x"},"Czas czytania wpisu",null,null,null,null,{"$f":"IFERROR(INDEX(Kalkulacja!Q:Q,Q333),0)","v":0},0]
[null,null,null,{"$f":"IFERROR(IF(N334>0,\"SUGEROWANE\",IF((INDEX(Kalkulacja!B:B,MATCH(G334,Kalkulacja!H:H,0)))=\"x\",\"USŁUGA\",\"\")),\"\")","v":""},"i",null,{"$f":"Kalkulacja!H278","v":"Pasek postępu czytania"},null,null,0,{"$f":"IFERROR(IF(Kalkulacja!$F$2=\"x\",INDEX(Kalkulacja!$R$1:$R$459,Q334),\"\"),\"\")","v":""},null,false,{"$f":"IFERROR(INDEX('Podświetlanie modułów'!H:H,MATCH(G334,'Podświetlanie modułów'!F:F,0)),0)","v":0},{"$f":"IF(M334*1>0,\"x\",IF(INDEX(Kalkulacja!A:A,Q334)=\"x\",\"x\",0))","v":"x"},"TRUE",{"$f":"MATCH(G334,Kalkulacja!$H$1:$H$459,0)","v":278},null,null,0,null,0,null,{"$f":"Kalkulacja!H275","v":"Lista wpisów Poziome kafelki"},3,{"$f":"INDEX(Kalkulacja!$C$273:$C$276,MATCH(X334,Kalkulacja!$H$273:$H$276,0))","v":0},"Pasek postępu czytania",null,null,null,null,{"$f":"IFERROR(INDEX(Kalkulacja!Q:Q,Q334),0)","v":0},0]
[null,null,null,{"$f":"IFERROR(IF(N335>0,\"SUGEROWANE\",IF((INDEX(Kalkulacja!B:B,MATCH(G335,Kalkulacja!H:H,0)))=\"x\",\"USŁUGA\",\"\")),\"\")","v":""},"i",null,{"$f":"Kalkulacja!H279","v":"Doładowywanie kolejnych 2 wpisów"},null,null,0,{"$f":"IFERROR(IF(Kalkulacja!$F$2=\"x\",INDEX(Kalkulacja!$R$1:$R$459,Q335),\"\"),\"\")","v":""},null,false,{"$f":"IFERROR(INDEX('Podświetlanie modułów'!H:H,MATCH(G335,'Podświetlanie modułów'!F:F,0)),0)","v":0},{"$f":"IF(M335*1>0,\"x\",IF(INDEX(Kalkulacja!A:A,Q335)=\"x\",\"x\",0))","v":0},"FALSE",{"$f":"MATCH(G335,Kalkulacja!$H$1:$H$459,0)","v":279},null,null,0,null,0,null,{"$f":"Kalkulacja!H276","v":"Lista wpisów Nieregularna"},4,{"$f":"INDEX(Kalkulacja!$C$273:$C$276,MATCH(X335,Kalkulacja!$H$273:$H$276,0))","v":0},"Doładowywanie kolejnych 2 wpisów",null,null,null,null,{"$f":"IFERROR(INDEX(Kalkulacja!Q:Q,Q335),0)","v":0},0]
[null,null,null,{"$f":"IFERROR(IF(N336>0,\"SUGEROWANE\",IF((INDEX(Kalkulacja!B:B,MATCH(G336,Kalkulacja!H:H,0)))=\"x\",\"USŁUGA\",\"\")),\"\")","v":""},"i",null,{"$f":"Kalkulacja!H280","v":"Playlisty wpisów"},null,null,0,{"$f":"IFERROR(IF(Kalkulacja!$F$2=\"x\",INDEX(Kalkulacja!$R$1:$R$459,Q336),\"\"),\"\")","v":""},null,false,{"$f":"IFERROR(INDEX('Podświetlanie modułów'!H:H,MATCH(G336,'Podświetlanie modułów'!F:F,0)),0)","v":0},{"$f":"IF(M336*1>0,\"x\",IF(INDEX(Kalkulacja!A:A,Q336)=\"x\",\"x\",0))","v":0},"FALSE",{"$f":"MATCH(G336,Kalkulacja!$H$1:$H$459,0)","v":280},null,null,0,null,0,null,null,null,null,"Playlisty wpisów",null,null,null,null,{"$f":"IFERROR(INDEX(Kalkulacja!Q:Q,Q336),0)","v":0},0]
[null,null,null,{"$f":"IFERROR(IF(N337>0,\"SUGEROWANE\",IF((INDEX(Kalkulacja!B:B,MATCH(G337,Kalkulacja!H:H,0)))=\"x\",\"USŁUGA\",\"\")),\"\")","v":""},"i",null,{"$f":"Kalkulacja!H281","v":"Podobne wpisy"},null,null,0,{"$f":"IFERROR(IF(Kalkulacja!$F$2=\"x\",INDEX(Kalkulacja!$R$1:$R$459,Q337),\"\"),\"\")","v":""},null,false,{"$f":"IFERROR(INDEX('Podświetlanie modułów'!H:H,MATCH(G337,'Podświetlanie modułów'!F:F,0)),0)","v":0},{"$f":"IF(M337*1>0,\"x\",IF(INDEX(Kalkulacja!A:A,Q337)=\"x\",\"x\",0))","v":"x"},"TRUE",{"$f":"MATCH(G337,Kalkulacja!$H$1:$H$459,0)","v":281},null,null,0,null,0,null,null,null,null,"Podobne wpisy",null,null,null,null,{"$f":"IFERROR(INDEX(Kalkulacja!Q:Q,Q337),0)","v":0},0]
[null,null,null,{"$f":"IFERROR(IF(N338>0,\"SUGEROWANE\",IF((INDEX(Kalkulacja!B:B,MATCH(G338,Kalkulacja!H:H,0)))=\"x\",\"USŁUGA\",\"\")),\"\")","v":""},"i",null,{"$f":"Kalkulacja!H282","v":"Komentarze Disqus"},null,null,0,{"$f":"IFERROR(IF(Kalkulacja!$F$2=\"x\",INDEX(Kalkulacja!$R$1:$R$459,Q338),\"\"),\"\")","v":""},null,false,{"$f":"IFERROR(INDEX('Podświetlanie modułów'!H:H,MATCH(G338,'Podświetlanie modułów'!F:F,0)),0)","v":0},{"$f":"IF(M338*1>0,\"x\",IF(INDEX(Kalkulacja!A:A,Q338)=\"x\",\"x\",0))","v":0},"FALSE",{"$f":"MATCH(G338,Kalkulacja!$H$1:$H$459,0)","v":282},null,null,0,null,0,null,null,null,null,"Komentarze Disqus",null,null,null,null,{"$f":"IFERROR(INDEX(Kalkulacja!Q:Q,Q338),0)","v":0},0]
[null,null,null,{"$f":"IFERROR(IF(N339>0,\"SUGEROWANE\",IF((INDEX(Kalkulacja!B:B,MATCH(G339,Kalkulacja!H:H,0)))=\"x\",\"USŁUGA\",\"\")),\"\")","v":""},"i",null,{"$f":"Kalkulacja!H283","v":"Komentarze Facebook"},null,null,0,{"$f":"IFERROR(IF(Kalkulacja!$F$2=\"x\",INDEX(Kalkulacja!$R$1:$R$459,Q339),\"\"),\"\")","v":""},null,false,{"$f":"IFERROR(INDEX('Podświetlanie modułów'!H:H,MATCH(G339,'Podświetlanie modułów'!F:F,0)),0)","v":0},{"$f":"IF(M339*1>0,\"x\",IF(INDEX(Kalkulacja!A:A,Q339)=\"x\",\"x\",0))","v":0},"FALSE",{"$f":"MATCH(G339,Kalkulacja!$H$1:$H$459,0)","v":283},null,null,0,null,0,null,null,null,null,"Komentarze Facebook",null,null,null,null,{"$f":"IFERROR(INDEX(Kalkulacja!Q:Q,Q339),0)","v":0},0]
[null,null,null,{"$f":"IFERROR(IF(N340>0,\"SUGEROWANE\",IF((INDEX(Kalkulacja!B:B,MATCH(G340,Kalkulacja!H:H,0)))=\"x\",\"USŁUGA\",\"\")),\"\")","v":""},"i",null,{"$f":"Kalkulacja!H284","v":"Ocena artykułu"},null,null,0,{"$f":"IFERROR(IF(Kalkulacja!$F$2=\"x\",INDEX(Kalkulacja!$R$1:$R$459,Q340),\"\"),\"\")","v":""},null,false,{"$f":"IFERROR(INDEX('Podświetlanie modułów'!H:H,MATCH(G340,'Podświetlanie modułów'!F:F,0)),0)","v":0},{"$f":"IF(M340*1>0,\"x\",IF(INDEX(Kalkulacja!A:A,Q340)=\"x\",\"x\",0))","v":0},"FALSE",{"$f":"MATCH(G340,Kalkulacja!$H$1:$H$459,0)","v":284},null,null,0,null,0,null,null,null,null,"Ocena artykułu",null,null,null,null,{"$f":"IFERROR(INDEX(Kalkulacja!Q:Q,Q340),0)","v":0},0]
[null,null,null,{"$f":"IFERROR(IF(N341>0,\"SUGEROWANE\",IF((INDEX(Kalkulacja!B:B,MATCH(G341,Kalkulacja!H:H,0)))=\"x\",\"USŁUGA\",\"\")),\"\")","v":""},"i",null,{"$f":"Kalkulacja!H285","v":"Notka biograficzna autora"},null,null,0,{"$f":"IFERROR(IF(Kalkulacja!$F$2=\"x\",INDEX(Kalkulacja!$R$1:$R$459,Q341),\"\"),\"\")","v":""},null,false,{"$f":"IFERROR(INDEX('Podświetlanie modułów'!H:H,MATCH(G341,'Podświetlanie modułów'!F:F,0)),0)","v":0},{"$f":"IF(M341*1>0,\"x\",IF(INDEX(Kalkulacja!A:A,Q341)=\"x\",\"x\",0))","v":0},"FALSE",{"$f":"MATCH(G341,Kalkulacja!$H$1:$H$459,0)","v":285},null,null,0,null,0,null,null,null,null,"Notka biograficzna autora",null,null,null,null,{"$f":"IFERROR(INDEX(Kalkulacja!Q:Q,Q341),0)","v":0},0]
[null,null,null,{"$f":"IFERROR(IF(N342>0,\"SUGEROWANE\",IF((INDEX(Kalkulacja!B:B,MATCH(G342,Kalkulacja!H:H,0)))=\"x\",\"USŁUGA\",\"\")),\"\")","v":""},"i",null,{"$f":"Kalkulacja!H286","v":"Zapis do newslettera"},null,null,0,{"$f":"IFERROR(IF(Kalkulacja!$F$2=\"x\",INDEX(Kalkulacja!$R$1:$R$459,Q342),\"\"),\"\")","v":""},null,false,{"$f":"IFERROR(INDEX('Podświetlanie modułów'!H:H,MATCH(G342,'Podświetlanie modułów'!F:F,0)),0)","v":0},{"$f":"IF(M342*1>0,\"x\",IF(INDEX(Kalkulacja!A:A,Q342)=\"x\",\"x\",0))","v":0},"FALSE",{"$f":"MATCH(G342,Kalkulacja!$H$1:$H$459,0)","v":286},null,null,{"$f":"U342","v":0},null,{"$f":"AG342","v":0},null,null,null,null,{"$f":"G342","v":"Zapis do newslettera"},null,null,null,null,{"$f":"IFERROR(INDEX(Kalkulacja!Q:Q,Q342),0)","v":0},0]
[null,null,null,{"$f":"IFERROR(IF(N343>0,\"SUGEROWANE\",IF((INDEX(Kalkulacja!B:B,MATCH(G343,Kalkulacja!H:H,0)))=\"x\",\"USŁUGA\",\"\")),\"\")","v":""},"i",null,{"$f":"Kalkulacja!H287","v":"Zapis na ebook/newsletter wewnątrz treści"},null,null,0,{"$f":"IFERROR(IF(Kalkulacja!$F$2=\"x\",INDEX(Kalkulacja!$R$1:$R$459,Q343),\"\"),\"\")","v":""},null,0,{"$f":"IFERROR(INDEX('Podświetlanie modułów'!H:H,MATCH(G343,'Podświetlanie modułów'!F:F,0)),0)","v":0},{"$f":"IF(M343*1>0,\"x\",IF(INDEX(Kalkulacja!A:A,Q343)=\"x\",\"x\",0))","v":0},"FALSE",{"$f":"MATCH(G343,Kalkulacja!$H$1:$H$459,0)","v":287},null,null,0,null,0,null,null,null,null,"Zapis na ebook/newsletter wewnątrz treści",null,null,null,null,{"$f":"IFERROR(INDEX(Kalkulacja!Q:Q,Q343),0)","v":0},0]
[null,null,null,{"$f":"IFERROR(IF(N344>0,\"SUGEROWANE\",IF((INDEX(Kalkulacja!B:B,MATCH(G344,Kalkulacja!H:H,0)))=\"x\",\"USŁUGA\",\"\")),\"\")","v":""},"i",null,{"$f":"Kalkulacja!H288","v":"TOP3 lub TOP5 artykułów"},null,null,0,{"$f":"IFERROR(IF(Kalkulacja!$F$2=\"x\",INDEX(Kalkulacja!$R$1:$R$459,Q344),\"\"),\"\")","v":""},null,0,{"$f":"IFERROR(INDEX('Podświetlanie modułów'!H:H,MATCH(G344,'Podświetlanie modułów'!F:F,0)),0)","v":0},{"$f":"IF(M344*1>0,\"x\",IF(INDEX(Kalkulacja!A:A,Q344)=\"x\",\"x\",0))","v":0},"FALSE",{"$f":"MATCH(G344,Kalkulacja!$H$1:$H$459,0)","v":288},null,null,0,null,0,null,null,null,null,"TOP3 lub TOP5 artykułów",null,null,null,null,{"$f":"IFERROR(INDEX(Kalkulacja!Q:Q,Q344),0)","v":0},0]
[null,null,null,{"$f":"IFERROR(IF(N345>0,\"SUGEROWANE\",IF((INDEX(Kalkulacja!B:B,MATCH(G345,Kalkulacja!H:H,0)))=\"x\",\"USŁUGA\",\"\")),\"\")","v":""},"i",null,{"$f":"Kalkulacja!H289","v":"Dodatkowy moduł 65"},null,null,0,{"$f":"IFERROR(IF(Kalkulacja!$F$2=\"x\",INDEX(Kalkulacja!$R$1:$R$459,Q345),\"\"),\"\")","v":""},null,0,{"$f":"IFERROR(INDEX('Podświetlanie modułów'!H:H,MATCH(G345,'Podświetlanie modułów'!F:F,0)),0)","v":0},{"$f":"IF(M345*1>0,\"x\",IF(INDEX(Kalkulacja!A:A,Q345)=\"x\",\"x\",0))","v":0},"FALSE",{"$f":"MATCH(G345,Kalkulacja!$H$1:$H$459,0)","v":289},null,null,0,null,0,null,null,null,null,"Dodatkowy moduł 65",null,null,null,null,{"$f":"IFERROR(INDEX(Kalkulacja!Q:Q,Q345),0)","v":0},0]
[null,null,null,{"$f":"IFERROR(IF(N346>0,\"SUGEROWANE\",IF((INDEX(Kalkulacja!B:B,MATCH(G346,Kalkulacja!H:H,0)))=\"x\",\"USŁUGA\",\"\")),\"\")","v":""},"i",null,{"$f":"Kalkulacja!H290","v":"Dodatkowy moduł 66"},null,null,0,{"$f":"IFERROR(IF(Kalkulacja!$F$2=\"x\",INDEX(Kalkulacja!$R$1:$R$459,Q346),\"\"),\"\")","v":""},null,0,{"$f":"IFERROR(INDEX('Podświetlanie modułów'!H:H,MATCH(G346,'Podświetlanie modułów'!F:F,0)),0)","v":0},{"$f":"IF(M346*1>0,\"x\",IF(INDEX(Kalkulacja!A:A,Q346)=\"x\",\"x\",0))","v":0},"FALSE",{"$f":"MATCH(G346,Kalkulacja!$H$1:$H$459,0)","v":290},null,null,0,null,0,null,null,null,null,"Dodatkowy moduł 66",null,null,null,null,{"$f":"IFERROR(INDEX(Kalkulacja!Q:Q,Q346),0)","v":0},0]
[null,null,null,{"$f":"IFERROR(IF(N347>0,\"SUGEROWANE\",IF((INDEX(Kalkulacja!B:B,MATCH(G347,Kalkulacja!H:H,0)))=\"x\",\"USŁUGA\",\"\")),\"\")","v":""},"i",null,{"$f":"Kalkulacja!H291","v":"Dodatkowy moduł 67"},null,null,0,{"$f":"IFERROR(IF(Kalkulacja!$F$2=\"x\",INDEX(Kalkulacja!$R$1:$R$459,Q347),\"\"),\"\")","v":""},null,0,{"$f":"IFERROR(INDEX('Podświetlanie modułów'!H:H,MATCH(G347,'Podświetlanie modułów'!F:F,0)),0)","v":0},{"$f":"IF(M347*1>0,\"x\",IF(INDEX(Kalkulacja!A:A,Q347)=\"x\",\"x\",0))","v":0},"FALSE",{"$f":"MATCH(G347,Kalkulacja!$H$1:$H$459,0)","v":291},null,null,0,null,0,null,null,null,null,"Dodatkowy moduł 67",null,null,null,null,{"$f":"IFERROR(INDEX(Kalkulacja!Q:Q,Q347),0)","v":0},0]
[null,null,null,{"$f":"IFERROR(IF(N348>0,\"SUGEROWANE\",IF((INDEX(Kalkulacja!B:B,MATCH(G348,Kalkulacja!H:H,0)))=\"x\",\"USŁUGA\",\"\")),\"\")","v":""},"i",null,{"$f":"Kalkulacja!H292","v":"Dodatkowy moduł 68"},null,null,0,{"$f":"IFERROR(IF(Kalkulacja!$F$2=\"x\",INDEX(Kalkulacja!$R$1:$R$459,Q348),\"\"),\"\")","v":""},null,0,{"$f":"IFERROR(INDEX('Podświetlanie modułów'!H:H,MATCH(G348,'Podświetlanie modułów'!F:F,0)),0)","v":0},{"$f":"IF(M348*1>0,\"x\",IF(INDEX(Kalkulacja!A:A,Q348)=\"x\",\"x\",0))","v":0},"FALSE",{"$f":"MATCH(G348,Kalkulacja!$H$1:$H$459,0)","v":292},null,null,0,null,0,null,null,null,null,"Dodatkowy moduł 68",null,null,null,null,{"$f":"IFERROR(INDEX(Kalkulacja!Q:Q,Q348),0)","v":0},0]
[null,null,null,{"$f":"IFERROR(IF(N349>0,\"SUGEROWANE\",IF((INDEX(Kalkulacja!B:B,MATCH(G349,Kalkulacja!H:H,0)))=\"x\",\"USŁUGA\",\"\")),\"\")","v":""},"i",null,{"$f":"Kalkulacja!H293","v":"Dodatkowy moduł 69"},null,null,0,{"$f":"IFERROR(IF(Kalkulacja!$F$2=\"x\",INDEX(Kalkulacja!$R$1:$R$459,Q349),\"\"),\"\")","v":""},null,0,{"$f":"IFERROR(INDEX('Podświetlanie modułów'!H:H,MATCH(G349,'Podświetlanie modułów'!F:F,0)),0)","v":0},{"$f":"IF(M349*1>0,\"x\",IF(INDEX(Kalkulacja!A:A,Q349)=\"x\",\"x\",0))","v":0},"FALSE",{"$f":"MATCH(G349,Kalkulacja!$H$1:$H$459,0)","v":293},null,null,0,null,0,null,null,null,null,"Dodatkowy moduł 69",null,null,null,null,{"$f":"IFERROR(INDEX(Kalkulacja!Q:Q,Q349),0)","v":0},0]
[null,null,null,{"$f":"IFERROR(IF(N350>0,\"SUGEROWANE\",IF((INDEX(Kalkulacja!B:B,MATCH(G350,Kalkulacja!H:H,0)))=\"x\",\"USŁUGA\",\"\")),\"\")","v":""},{"$f":"Kalkulacja!H294","v":"Serwis informacyjny"},null,null,null,null,null,null,null,null,{"$f":"IFERROR(INDEX('Podświetlanie modułów'!H:H,MATCH(G350,'Podświetlanie modułów'!F:F,0)),0)","v":0},{"$f":"IF(COUNTIF(O351:O353,\"x\")>0,\"x\",0)","v":0},"FALSE",{"$f":"MATCH(E350,Kalkulacja!$H$1:$H$459,0)","v":294},null,null,0,null,0,null,null,null,null,0,null,null,null,null,{"$f":"IFERROR(INDEX(Kalkulacja!Q:Q,Q350),0)","v":0},0]
[null,null,null,{"$f":"IFERROR(IF(N351>0,\"SUGEROWANE\",IF((INDEX(Kalkulacja!B:B,MATCH(G351,Kalkulacja!H:H,0)))=\"x\",\"USŁUGA\",\"\")),\"\")","v":""},"i",null,{"$f":"Kalkulacja!H295","v":"WCAG dostosowanie"},null,null,0,{"$f":"IFERROR(IF(Kalkulacja!$F$2=\"x\",INDEX(Kalkulacja!$R$1:$R$459,Q351),\"\"),\"\")","v":""},null,false,{"$f":"IFERROR(INDEX('Podświetlanie modułów'!H:H,MATCH(G351,'Podświetlanie modułów'!F:F,0)),0)","v":0},{"$f":"IF(M351*1>0,\"x\",IF(INDEX(Kalkulacja!A:A,Q351)=\"x\",\"x\",0))","v":0},"FALSE",{"$f":"MATCH(G351,Kalkulacja!$H$1:$H$459,0)","v":295},null,null,0,null,0,null,null,null,null,"WCAG dostosowanie",null,null,null,null,{"$f":"IFERROR(INDEX(Kalkulacja!Q:Q,Q351),0)","v":0},0]
[null,null,null,{"$f":"IFERROR(IF(N352>0,\"SUGEROWANE\",IF((INDEX(Kalkulacja!B:B,MATCH(G352,Kalkulacja!H:H,0)))=\"x\",\"USŁUGA\",\"\")),\"\")","v":""},"i",null,{"$f":"Kalkulacja!H296","v":"Dodatkowy moduł 70"},null,null,0,{"$f":"IFERROR(IF(Kalkulacja!$F$2=\"x\",INDEX(Kalkulacja!$R$1:$R$459,Q352),\"\"),\"\")","v":""},null,false,{"$f":"IFERROR(INDEX('Podświetlanie modułów'!H:H,MATCH(G352,'Podświetlanie modułów'!F:F,0)),0)","v":0},{"$f":"IF(M352*1>0,\"x\",IF(INDEX(Kalkulacja!A:A,Q352)=\"x\",\"x\",0))","v":0},"FALSE",{"$f":"MATCH(G352,Kalkulacja!$H$1:$H$459,0)","v":296},null,null,0,null,0,null,null,null,null,"Dodatkowy moduł 70",null,null,null,null,{"$f":"IFERROR(INDEX(Kalkulacja!Q:Q,Q352),0)","v":0},0]
[null,null,null,{"$f":"IFERROR(IF(N353>0,\"SUGEROWANE\",IF((INDEX(Kalkulacja!B:B,MATCH(G353,Kalkulacja!H:H,0)))=\"x\",\"USŁUGA\",\"\")),\"\")","v":""},"i",null,{"$f":"Kalkulacja!H297","v":"Dodatkowy moduł 71"},null,null,0,{"$f":"IFERROR(IF(Kalkulacja!$F$2=\"x\",INDEX(Kalkulacja!$R$1:$R$459,Q353),\"\"),\"\")","v":""},null,false,{"$f":"IFERROR(INDEX('Podświetlanie modułów'!H:H,MATCH(G353,'Podświetlanie modułów'!F:F,0)),0)","v":0},{"$f":"IF(M353*1>0,\"x\",IF(INDEX(Kalkulacja!A:A,Q353)=\"x\",\"x\",0))","v":0},"FALSE",{"$f":"MATCH(G353,Kalkulacja!$H$1:$H$459,0)","v":297},null,null,0,null,0,null,null,null,null,"Dodatkowy moduł 71",null,null,null,null,{"$f":"IFERROR(INDEX(Kalkulacja!Q:Q,Q353),0)","v":0},0]
[null,null,null,{"$f":"IFERROR(IF(N354>0,\"SUGEROWANE\",IF((INDEX(Kalkulacja!B:B,MATCH(G354,Kalkulacja!H:H,0)))=\"x\",\"USŁUGA\",\"\")),\"\")","v":""},{"$f":"Kalkulacja!H298","v":"Moduły Deweloper"},null,null,null,null,null,null,null,null,{"$f":"IFERROR(INDEX('Podświetlanie modułów'!H:H,MATCH(G354,'Podświetlanie modułów'!F:F,0)),0)","v":0},{"$f":"IF(COUNTIF(O355:O368,\"x\")>0,\"x\",0)","v":0},"FALSE",{"$f":"MATCH(E354,Kalkulacja!$H$1:$H$459,0)","v":298},null,null,0,null,0,null,null,null,null,0,null,null,null,null,{"$f":"IFERROR(INDEX(Kalkulacja!Q:Q,Q354),0)","v":0},0]
[null,null,null,{"$f":"IFERROR(IF(N355>0,\"SUGEROWANE\",IF((INDEX(Kalkulacja!B:B,MATCH(G355,Kalkulacja!H:H,0)))=\"x\",\"USŁUGA\",\"\")),\"\")","v":""},"i",null,{"$f":"Kalkulacja!H299","v":"Interaktywne budynki"},null,null,0,{"$f":"IFERROR(IF(Kalkulacja!$F$2=\"x\",INDEX(Kalkulacja!$R$1:$R$459,Q355),\"\"),\"\")","v":""},null,false,{"$f":"IFERROR(INDEX('Podświetlanie modułów'!H:H,MATCH(G355,'Podświetlanie modułów'!F:F,0)),0)","v":0},{"$f":"IF(M355*1>0,\"x\",IF(INDEX(Kalkulacja!A:A,Q355)=\"x\",\"x\",0))","v":0},"FALSE",{"$f":"MATCH(G355,Kalkulacja!$H$1:$H$459,0)","v":299},null,null,0,null,0,null,null,null,null,"Interaktywne budynki",null,null,null,null,{"$f":"IFERROR(INDEX(Kalkulacja!Q:Q,Q355),0)","v":0},0]
[null,null,null,{"$f":"IFERROR(IF(N356>0,\"SUGEROWANE\",IF((INDEX(Kalkulacja!B:B,MATCH(G356,Kalkulacja!H:H,0)))=\"x\",\"USŁUGA\",\"\")),\"\")","v":""},"i",null,{"$f":"Kalkulacja!H300","v":"Wybór piętra w budynku (1 kondygnacja)"},null,null,0,{"$f":"IFERROR(IF(Kalkulacja!$F$2=\"x\",INDEX(Kalkulacja!$R$1:$R$459,Q356),\"\"),\"\")","v":""},null,false,{"$f":"IFERROR(INDEX('Podświetlanie modułów'!H:H,MATCH(G356,'Podświetlanie modułów'!F:F,0)),0)","v":0},{"$f":"IF(M356*1>0,\"x\",IF(INDEX(Kalkulacja!A:A,Q356)=\"x\",\"x\",0))","v":0},"FALSE",{"$f":"MATCH(G356,Kalkulacja!$H$1:$H$459,0)","v":300},null,null,0,null,0,null,null,null,null,"Wybór piętra w budynku (1 kondygnacja)",null,null,null,null,{"$f":"IFERROR(INDEX(Kalkulacja!Q:Q,Q356),0)","v":0},0]
[null,null,null,{"$f":"IFERROR(IF(N357>0,\"SUGEROWANE\",IF((INDEX(Kalkulacja!B:B,MATCH(G357,Kalkulacja!H:H,0)))=\"x\",\"USŁUGA\",\"\")),\"\")","v":""},"i",null,{"$f":"Kalkulacja!H301","v":"Rzut kondygnacji + lista mieszkań z dostępnością"},null,null,0,{"$f":"IFERROR(IF(Kalkulacja!$F$2=\"x\",INDEX(Kalkulacja!$R$1:$R$459,Q357),\"\"),\"\")","v":""},null,false,{"$f":"IFERROR(INDEX('Podświetlanie modułów'!H:H,MATCH(G357,'Podświetlanie modułów'!F:F,0)),0)","v":0},{"$f":"IF(M357*1>0,\"x\",IF(INDEX(Kalkulacja!A:A,Q357)=\"x\",\"x\",0))","v":0},"FALSE",{"$f":"MATCH(G357,Kalkulacja!$H$1:$H$459,0)","v":301},null,null,0,null,0,null,null,null,null,"Rzut kondygnacji + lista mieszkań z dostępnością",null,null,null,null,{"$f":"IFERROR(INDEX(Kalkulacja!Q:Q,Q357),0)","v":0},0]
[null,null,null,{"$f":"IFERROR(IF(N358>0,\"SUGEROWANE\",IF((INDEX(Kalkulacja!B:B,MATCH(G358,Kalkulacja!H:H,0)))=\"x\",\"USŁUGA\",\"\")),\"\")","v":""},"i",null,{"$f":"Kalkulacja!H302","v":"Plan mieszkania + karta do pobrania"},null,null,0,{"$f":"IFERROR(IF(Kalkulacja!$F$2=\"x\",INDEX(Kalkulacja!$R$1:$R$459,Q358),\"\"),\"\")","v":""},null,false,{"$f":"IFERROR(INDEX('Podświetlanie modułów'!H:H,MATCH(G358,'Podświetlanie modułów'!F:F,0)),0)","v":0},{"$f":"IF(M358*1>0,\"x\",IF(INDEX(Kalkulacja!A:A,Q358)=\"x\",\"x\",0))","v":0},"FALSE",{"$f":"MATCH(G358,Kalkulacja!$H$1:$H$459,0)","v":302},null,null,0,null,0,null,null,null,null,"Plan mieszkania + karta do pobrania",null,null,null,null,{"$f":"IFERROR(INDEX(Kalkulacja!Q:Q,Q358),0)","v":0},0]
[null,null,null,{"$f":"IFERROR(IF(N359>0,\"SUGEROWANE\",IF((INDEX(Kalkulacja!B:B,MATCH(G359,Kalkulacja!H:H,0)))=\"x\",\"USŁUGA\",\"\")),\"\")","v":"USŁUGA"},"i",null,{"$f":"Kalkulacja!H303","v":"Dodanie lokalu z parametrami"},null,null,0,{"$f":"IFERROR(IF(Kalkulacja!$F$2=\"x\",INDEX(Kalkulacja!$R$1:$R$459,Q359),\"\"),\"\")","v":""},null,false,{"$f":"IFERROR(INDEX('Podświetlanie modułów'!H:H,MATCH(G359,'Podświetlanie modułów'!F:F,0)),0)","v":0},{"$f":"IF(M359*1>0,\"x\",IF(INDEX(Kalkulacja!A:A,Q359)=\"x\",\"x\",0))","v":0},"FALSE",{"$f":"MATCH(G359,Kalkulacja!$H$1:$H$459,0)","v":303},null,null,0,null,0,null,null,null,null,"Dodanie lokalu z parametrami",null,null,null,null,{"$f":"IFERROR(INDEX(Kalkulacja!Q:Q,Q359),0)","v":0},0]
[null,null,null,{"$f":"IFERROR(IF(N360>0,\"SUGEROWANE\",IF((INDEX(Kalkulacja!B:B,MATCH(G360,Kalkulacja!H:H,0)))=\"x\",\"USŁUGA\",\"\")),\"\")","v":"USŁUGA"},"i",null,{"$f":"Kalkulacja!H304","v":"Dodanie lokalu bez parametrów"},null,null,0,{"$f":"IFERROR(IF(Kalkulacja!$F$2=\"x\",INDEX(Kalkulacja!$R$1:$R$459,Q360),\"\"),\"\")","v":""},null,false,{"$f":"IFERROR(INDEX('Podświetlanie modułów'!H:H,MATCH(G360,'Podświetlanie modułów'!F:F,0)),0)","v":0},{"$f":"IF(M360*1>0,\"x\",IF(INDEX(Kalkulacja!A:A,Q360)=\"x\",\"x\",0))","v":0},"FALSE",{"$f":"MATCH(G360,Kalkulacja!$H$1:$H$459,0)","v":304},null,null,0,null,0,null,null,null,null,"Dodanie lokalu bez parametrów",null,null,null,null,{"$f":"IFERROR(INDEX(Kalkulacja!Q:Q,Q360),0)","v":0},0]
[null,null,null,{"$f":"IFERROR(IF(N361>0,\"SUGEROWANE\",IF((INDEX(Kalkulacja!B:B,MATCH(G361,Kalkulacja!H:H,0)))=\"x\",\"USŁUGA\",\"\")),\"\")","v":""},"i",null,{"$f":"Kalkulacja!H305","v":"Wyszukiwarka mieszkań"},null,null,0,{"$f":"IFERROR(IF(Kalkulacja!$F$2=\"x\",INDEX(Kalkulacja!$R$1:$R$459,Q361),\"\"),\"\")","v":""},null,0,{"$f":"IFERROR(INDEX('Podświetlanie modułów'!H:H,MATCH(G361,'Podświetlanie modułów'!F:F,0)),0)","v":0},{"$f":"IF(M361*1>0,\"x\",IF(INDEX(Kalkulacja!A:A,Q361)=\"x\",\"x\",0))","v":0},"FALSE",{"$f":"MATCH(G361,Kalkulacja!$H$1:$H$459,0)","v":305},null,null,0,null,0,null,null,null,null,"Wyszukiwarka mieszkań",null,null,null,null,{"$f":"IFERROR(INDEX(Kalkulacja!Q:Q,Q361),0)","v":0},0]
[null,null,null,{"$f":"IFERROR(IF(N362>0,\"SUGEROWANE\",IF((INDEX(Kalkulacja!B:B,MATCH(G362,Kalkulacja!H:H,0)))=\"x\",\"USŁUGA\",\"\")),\"\")","v":""},"i",null,{"$f":"Kalkulacja!H306","v":"Formularz zapytania (popup)"},null,null,0,{"$f":"IFERROR(IF(Kalkulacja!$F$2=\"x\",INDEX(Kalkulacja!$R$1:$R$459,Q362),\"\"),\"\")","v":""},null,0,{"$f":"IFERROR(INDEX('Podświetlanie modułów'!H:H,MATCH(G362,'Podświetlanie modułów'!F:F,0)),0)","v":0},{"$f":"IF(M362*1>0,\"x\",IF(INDEX(Kalkulacja!A:A,Q362)=\"x\",\"x\",0))","v":0},"FALSE",{"$f":"MATCH(G362,Kalkulacja!$H$1:$H$459,0)","v":306},null,null,0,null,0,null,null,null,null,"Formularz zapytania (popup)",null,null,null,null,{"$f":"IFERROR(INDEX(Kalkulacja!Q:Q,Q362),0)","v":0},0]
[null,null,null,{"$f":"IFERROR(IF(N363>0,\"SUGEROWANE\",IF((INDEX(Kalkulacja!B:B,MATCH(G363,Kalkulacja!H:H,0)))=\"x\",\"USŁUGA\",\"\")),\"\")","v":""},"i",null,{"$f":"Kalkulacja!H307","v":"Dziennik budowy"},null,null,0,{"$f":"IFERROR(IF(Kalkulacja!$F$2=\"x\",INDEX(Kalkulacja!$R$1:$R$459,Q363),\"\"),\"\")","v":""},null,0,{"$f":"IFERROR(INDEX('Podświetlanie modułów'!H:H,MATCH(G363,'Podświetlanie modułów'!F:F,0)),0)","v":0},{"$f":"IF(M363*1>0,\"x\",IF(INDEX(Kalkulacja!A:A,Q363)=\"x\",\"x\",0))","v":0},"FALSE",{"$f":"MATCH(G363,Kalkulacja!$H$1:$H$459,0)","v":307},null,null,0,null,0,null,null,null,null,"Dziennik budowy",null,null,null,null,{"$f":"IFERROR(INDEX(Kalkulacja!Q:Q,Q363),0)","v":0},0]
[null,null,null,{"$f":"IFERROR(IF(N364>0,\"SUGEROWANE\",IF((INDEX(Kalkulacja!B:B,MATCH(G364,Kalkulacja!H:H,0)))=\"x\",\"USŁUGA\",\"\")),\"\")","v":""},"i",null,{"$f":"Kalkulacja!H308","v":"Dodatkowy moduł 72"},null,null,0,{"$f":"IFERROR(IF(Kalkulacja!$F$2=\"x\",INDEX(Kalkulacja!$R$1:$R$459,Q364),\"\"),\"\")","v":""},null,0,{"$f":"IFERROR(INDEX('Podświetlanie modułów'!H:H,MATCH(G364,'Podświetlanie modułów'!F:F,0)),0)","v":0},{"$f":"IF(M364*1>0,\"x\",IF(INDEX(Kalkulacja!A:A,Q364)=\"x\",\"x\",0))","v":0},"FALSE",{"$f":"MATCH(G364,Kalkulacja!$H$1:$H$459,0)","v":308},null,null,0,null,0,null,null,null,null,"Dodatkowy moduł 72",null,null,null,null,{"$f":"IFERROR(INDEX(Kalkulacja!Q:Q,Q364),0)","v":0},0]
[null,null,null,{"$f":"IFERROR(IF(N365>0,\"SUGEROWANE\",IF((INDEX(Kalkulacja!B:B,MATCH(G365,Kalkulacja!H:H,0)))=\"x\",\"USŁUGA\",\"\")),\"\")","v":""},"i",null,{"$f":"Kalkulacja!H309","v":"Dodatkowy moduł 73"},null,null,0,{"$f":"IFERROR(IF(Kalkulacja!$F$2=\"x\",INDEX(Kalkulacja!$R$1:$R$459,Q365),\"\"),\"\")","v":""},null,0,{"$f":"IFERROR(INDEX('Podświetlanie modułów'!H:H,MATCH(G365,'Podświetlanie modułów'!F:F,0)),0)","v":0},{"$f":"IF(M365*1>0,\"x\",IF(INDEX(Kalkulacja!A:A,Q365)=\"x\",\"x\",0))","v":0},"FALSE",{"$f":"MATCH(G365,Kalkulacja!$H$1:$H$459,0)","v":309},null,null,0,null,0,null,null,null,null,"Dodatkowy moduł 73",null,null,null,null,{"$f":"IFERROR(INDEX(Kalkulacja!Q:Q,Q365),0)","v":0},0]
[null,null,null,{"$f":"IFERROR(IF(N366>0,\"SUGEROWANE\",IF((INDEX(Kalkulacja!B:B,MATCH(G366,Kalkulacja!H:H,0)))=\"x\",\"USŁUGA\",\"\")),\"\")","v":""},"i",null,{"$f":"Kalkulacja!H310","v":"Dodatkowy moduł 74"},null,null,0,{"$f":"IFERROR(IF(Kalkulacja!$F$2=\"x\",INDEX(Kalkulacja!$R$1:$R$459,Q366),\"\"),\"\")","v":""},null,0,{"$f":"IFERROR(INDEX('Podświetlanie modułów'!H:H,MATCH(G366,'Podświetlanie modułów'!F:F,0)),0)","v":0},{"$f":"IF(M366*1>0,\"x\",IF(INDEX(Kalkulacja!A:A,Q366)=\"x\",\"x\",0))","v":0},"FALSE",{"$f":"MATCH(G366,Kalkulacja!$H$1:$H$459,0)","v":310},null,null,0,null,0,null,null,null,null,"Dodatkowy moduł 74",null,null,null,null,{"$f":"IFERROR(INDEX(Kalkulacja!Q:Q,Q366),0)","v":0},0]
[null,null,null,{"$f":"IFERROR(IF(N367>0,\"SUGEROWANE\",IF((INDEX(Kalkulacja!B:B,MATCH(G367,Kalkulacja!H:H,0)))=\"x\",\"USŁUGA\",\"\")),\"\")","v":""},"i",null,{"$f":"Kalkulacja!H311","v":"Dodatkowy moduł 75"},null,null,0,{"$f":"IFERROR(IF(Kalkulacja!$F$2=\"x\",INDEX(Kalkulacja!$R$1:$R$459,Q367),\"\"),\"\")","v":""},null,0,{"$f":"IFERROR(INDEX('Podświetlanie modułów'!H:H,MATCH(G367,'Podświetlanie modułów'!F:F,0)),0)","v":0},{"$f":"IF(M367*1>0,\"x\",IF(INDEX(Kalkulacja!A:A,Q367)=\"x\",\"x\",0))","v":0},"FALSE",{"$f":"MATCH(G367,Kalkulacja!$H$1:$H$459,0)","v":311},null,null,0,null,0,null,null,null,null,"Dodatkowy moduł 75",null,null,null,null,{"$f":"IFERROR(INDEX(Kalkulacja!Q:Q,Q367),0)","v":0},0]
[null,null,null,{"$f":"IFERROR(IF(N368>0,\"SUGEROWANE\",IF((INDEX(Kalkulacja!B:B,MATCH(G368,Kalkulacja!H:H,0)))=\"x\",\"USŁUGA\",\"\")),\"\")","v":""},"i",null,{"$f":"Kalkulacja!H312","v":"Dodatkowy moduł 76"},null,null,0,{"$f":"IFERROR(IF(Kalkulacja!$F$2=\"x\",INDEX(Kalkulacja!$R$1:$R$459,Q368),\"\"),\"\")","v":""},null,0,{"$f":"IFERROR(INDEX('Podświetlanie modułów'!H:H,MATCH(G368,'Podświetlanie modułów'!F:F,0)),0)","v":0},{"$f":"IF(M368*1>0,\"x\",IF(INDEX(Kalkulacja!A:A,Q368)=\"x\",\"x\",0))","v":0},"FALSE",{"$f":"MATCH(G368,Kalkulacja!$H$1:$H$459,0)","v":312},null,null,0,null,0,null,null,null,null,"Dodatkowy moduł 76",null,null,null,null,{"$f":"IFERROR(INDEX(Kalkulacja!Q:Q,Q368),0)","v":0},0]
[null,null,null,{"$f":"IFERROR(IF(N369>0,\"SUGEROWANE\",IF((INDEX(Kalkulacja!B:B,MATCH(G369,Kalkulacja!H:H,0)))=\"x\",\"USŁUGA\",\"\")),\"\")","v":""},{"$f":"Kalkulacja!H313","v":"Moduły Nieruchomości"},null,null,null,null,null,null,null,null,{"$f":"IFERROR(INDEX('Podświetlanie modułów'!H:H,MATCH(G369,'Podświetlanie modułów'!F:F,0)),0)","v":0},{"$f":"IF(COUNTIF(O370:O382,\"x\")>0,\"x\",0)","v":0},"FALSE",{"$f":"MATCH(E369,Kalkulacja!$H$1:$H$459,0)","v":313},null,null,0,null,0,null,null,null,null,0,null,null,null,null,{"$f":"IFERROR(INDEX(Kalkulacja!Q:Q,Q369),0)","v":0},0]
[null,null,null,{"$f":"IFERROR(IF(N370>0,\"SUGEROWANE\",IF((INDEX(Kalkulacja!B:B,MATCH(G370,Kalkulacja!H:H,0)))=\"x\",\"USŁUGA\",\"\")),\"\")","v":""},"i",null,{"$f":"Kalkulacja!H314","v":"Oferty nieruchomości"},null,null,0,{"$f":"IFERROR(IF(Kalkulacja!$F$2=\"x\",INDEX(Kalkulacja!$R$1:$R$459,Q370),\"\"),\"\")","v":""},null,false,{"$f":"IFERROR(INDEX('Podświetlanie modułów'!H:H,MATCH(G370,'Podświetlanie modułów'!F:F,0)),0)","v":0},{"$f":"IF(M370*1>0,\"x\",IF(INDEX(Kalkulacja!A:A,Q370)=\"x\",\"x\",0))","v":0},{"$f":"IF(O370=\"x\",\"TRUE\",\"FALSE\")","v":"FALSE"},{"$f":"MATCH(G370,Kalkulacja!$H$1:$H$459,0)","v":314},null,null,0,null,0,null,null,null,null,"Oferty nieruchomości",null,null,null,null,{"$f":"IFERROR(INDEX(Kalkulacja!Q:Q,Q370),0)","v":0},0]
[null,null,null,{"$f":"IFERROR(IF(N371>0,\"SUGEROWANE\",IF((INDEX(Kalkulacja!B:B,MATCH(G371,Kalkulacja!H:H,0)))=\"x\",\"USŁUGA\",\"\")),\"\")","v":""},"i",null,{"$f":"Kalkulacja!H315","v":"Wyszukiwarka mieszkań"},null,null,0,{"$f":"IFERROR(IF(Kalkulacja!$F$2=\"x\",INDEX(Kalkulacja!$R$1:$R$459,Q371),\"\"),\"\")","v":""},null,false,{"$f":"IFERROR(INDEX('Podświetlanie modułów'!H:H,MATCH(G371,'Podświetlanie modułów'!F:F,0)),0)","v":0},{"$f":"IF(M371*1>0,\"x\",IF(INDEX(Kalkulacja!A:A,Q371)=\"x\",\"x\",0))","v":0},"FALSE",{"$f":"Q370+1","v":315},null,null,0,null,0,null,null,null,null,"Wyszukiwarka mieszkań",null,null,null,null,{"$f":"IFERROR(INDEX(Kalkulacja!Q:Q,Q371),0)","v":0},0]
[null,null,null,{"$f":"IFERROR(IF(N372>0,\"SUGEROWANE\",IF((INDEX(Kalkulacja!B:B,MATCH(G372,Kalkulacja!H:H,0)))=\"x\",\"USŁUGA\",\"\")),\"\")","v":""},"i",null,{"$f":"Kalkulacja!H316","v":"Widoki kafelkowe, lista, mapa"},null,null,{"$f":"M372*1","v":0},{"$f":"IFERROR(IF(Kalkulacja!$F$2=\"x\",INDEX(Kalkulacja!$R$1:$R$459,Q372),\"\"),\"\")","v":""},null,false,{"$f":"IFERROR(INDEX('Podświetlanie modułów'!H:H,MATCH(G372,'Podświetlanie modułów'!F:F,0)),0)","v":0},{"$f":"IF(M372*1>0,\"x\",IF(INDEX(Kalkulacja!A:A,Q372)=\"x\",\"x\",0))","v":0},"FALSE",{"$f":"MATCH(G372,Kalkulacja!$H$1:$H$459,0)","v":316},null,null,0,null,0,null,null,null,null,"Widoki kafelkowe, lista, mapa",null,null,null,null,{"$f":"IFERROR(INDEX(Kalkulacja!Q:Q,Q372),0)","v":0},0]
[null,null,null,{"$f":"IFERROR(IF(N373>0,\"SUGEROWANE\",IF((INDEX(Kalkulacja!B:B,MATCH(G373,Kalkulacja!H:H,0)))=\"x\",\"USŁUGA\",\"\")),\"\")","v":""},"i",null,{"$f":"Kalkulacja!H317","v":"Generator ofert PDF dla klienta"},null,null,0,{"$f":"IFERROR(IF(Kalkulacja!$F$2=\"x\",INDEX(Kalkulacja!$R$1:$R$459,Q373),\"\"),\"\")","v":""},null,false,{"$f":"IFERROR(INDEX('Podświetlanie modułów'!H:H,MATCH(G373,'Podświetlanie modułów'!F:F,0)),0)","v":0},{"$f":"IF(M373*1>0,\"x\",IF(INDEX(Kalkulacja!A:A,Q373)=\"x\",\"x\",0))","v":0},"FALSE",{"$f":"MATCH(G373,Kalkulacja!$H$1:$H$459,0)","v":317},null,null,0,null,0,null,null,null,null,"Generator ofert PDF dla klienta",null,null,null,null,{"$f":"IFERROR(INDEX(Kalkulacja!Q:Q,Q373),0)","v":0},0]
[null,null,null,{"$f":"IFERROR(IF(N374>0,\"SUGEROWANE\",IF((INDEX(Kalkulacja!B:B,MATCH(G374,Kalkulacja!H:H,0)))=\"x\",\"USŁUGA\",\"\")),\"\")","v":""},"i",null,{"$f":"Kalkulacja!H318","v":"Generator ofert PDF do gabloty"},null,null,0,{"$f":"IFERROR(IF(Kalkulacja!$F$2=\"x\",INDEX(Kalkulacja!$R$1:$R$459,Q374),\"\"),\"\")","v":""},null,false,{"$f":"IFERROR(INDEX('Podświetlanie modułów'!H:H,MATCH(G374,'Podświetlanie modułów'!F:F,0)),0)","v":0},{"$f":"IF(M374*1>0,\"x\",IF(INDEX(Kalkulacja!A:A,Q374)=\"x\",\"x\",0))","v":0},"FALSE",{"$f":"MATCH(G374,Kalkulacja!$H$1:$H$459,0)","v":318},null,null,0,null,0,null,null,null,null,"Generator ofert PDF do gabloty",null,null,null,null,{"$f":"IFERROR(INDEX(Kalkulacja!Q:Q,Q374),0)","v":0},0]
[null,null,null,{"$f":"IFERROR(IF(N375>0,\"SUGEROWANE\",IF((INDEX(Kalkulacja!B:B,MATCH(G375,Kalkulacja!H:H,0)))=\"x\",\"USŁUGA\",\"\")),\"\")","v":""},"i",null,{"$f":"Kalkulacja!H319","v":"Kalkulator kosztów "},null,null,0,{"$f":"IFERROR(IF(Kalkulacja!$F$2=\"x\",INDEX(Kalkulacja!$R$1:$R$459,Q375),\"\"),\"\")","v":""},null,false,{"$f":"IFERROR(INDEX('Podświetlanie modułów'!H:H,MATCH(G375,'Podświetlanie modułów'!F:F,0)),0)","v":0},{"$f":"IF(M375*1>0,\"x\",IF(INDEX(Kalkulacja!A:A,Q375)=\"x\",\"x\",0))","v":0},"FALSE",{"$f":"MATCH(G375,Kalkulacja!$H$1:$H$459,0)","v":319},null,null,0,null,0,null,null,null,null,"Kalkulator kosztów ",null,null,null,null,{"$f":"IFERROR(INDEX(Kalkulacja!Q:Q,Q375),0)","v":0},0]
[null,null,null,{"$f":"IFERROR(IF(N376>0,\"SUGEROWANE\",IF((INDEX(Kalkulacja!B:B,MATCH(G376,Kalkulacja!H:H,0)))=\"x\",\"USŁUGA\",\"\")),\"\")","v":""},"i",null,{"$f":"Kalkulacja!H320","v":"Prezentacja oferty z Google Street View"},null,null,0,{"$f":"IFERROR(IF(Kalkulacja!$F$2=\"x\",INDEX(Kalkulacja!$R$1:$R$459,Q376),\"\"),\"\")","v":""},null,false,{"$f":"IFERROR(INDEX('Podświetlanie modułów'!H:H,MATCH(G376,'Podświetlanie modułów'!F:F,0)),0)","v":0},{"$f":"IF(M376*1>0,\"x\",IF(INDEX(Kalkulacja!A:A,Q376)=\"x\",\"x\",0))","v":0},"FALSE",{"$f":"MATCH(G376,Kalkulacja!$H$1:$H$459,0)","v":320},null,null,0,null,0,null,null,null,null,"Prezentacja oferty z Google Street View",null,null,null,null,{"$f":"IFERROR(INDEX(Kalkulacja!Q:Q,Q376),0)","v":0},0]
[null,null,null,{"$f":"IFERROR(IF(N377>0,\"SUGEROWANE\",IF((INDEX(Kalkulacja!B:B,MATCH(G377,Kalkulacja!H:H,0)))=\"x\",\"USŁUGA\",\"\")),\"\")","v":""},"i",null,{"$f":"Kalkulacja!H321","v":"Oferty agenta"},null,null,0,{"$f":"IFERROR(IF(Kalkulacja!$F$2=\"x\",INDEX(Kalkulacja!$R$1:$R$459,Q377),\"\"),\"\")","v":""},null,false,{"$f":"IFERROR(INDEX('Podświetlanie modułów'!H:H,MATCH(G377,'Podświetlanie modułów'!F:F,0)),0)","v":0},{"$f":"IF(M377*1>0,\"x\",IF(INDEX(Kalkulacja!A:A,Q377)=\"x\",\"x\",0))","v":0},"FALSE",{"$f":"MATCH(G377,Kalkulacja!$H$1:$H$459,0)","v":321},null,null,0,null,0,null,null,null,null,"Oferty agenta",null,null,null,null,{"$f":"IFERROR(INDEX(Kalkulacja!Q:Q,Q377),0)","v":0},0]
[null,null,null,{"$f":"IFERROR(IF(N378>0,\"SUGEROWANE\",IF((INDEX(Kalkulacja!B:B,MATCH(G378,Kalkulacja!H:H,0)))=\"x\",\"USŁUGA\",\"\")),\"\")","v":""},"i",null,{"$f":"Kalkulacja!H322","v":"Dodatkowy moduł 77"},null,null,0,{"$f":"IFERROR(IF(Kalkulacja!$F$2=\"x\",INDEX(Kalkulacja!$R$1:$R$459,Q378),\"\"),\"\")","v":""},null,false,{"$f":"IFERROR(INDEX('Podświetlanie modułów'!H:H,MATCH(G378,'Podświetlanie modułów'!F:F,0)),0)","v":0},{"$f":"IF(M378*1>0,\"x\",IF(INDEX(Kalkulacja!A:A,Q378)=\"x\",\"x\",0))","v":0},"FALSE",{"$f":"MATCH(G378,Kalkulacja!$H$1:$H$459,0)","v":322},null,null,0,null,0,null,null,null,null,"Dodatkowy moduł 77",null,null,null,null,{"$f":"IFERROR(INDEX(Kalkulacja!Q:Q,Q378),0)","v":0},0]
[null,null,null,{"$f":"IFERROR(IF(N379>0,\"SUGEROWANE\",IF((INDEX(Kalkulacja!B:B,MATCH(G379,Kalkulacja!H:H,0)))=\"x\",\"USŁUGA\",\"\")),\"\")","v":""},"i",null,{"$f":"Kalkulacja!H323","v":"Dodatkowy moduł 78"},null,null,0,{"$f":"IFERROR(IF(Kalkulacja!$F$2=\"x\",INDEX(Kalkulacja!$R$1:$R$459,Q379),\"\"),\"\")","v":""},null,false,{"$f":"IFERROR(INDEX('Podświetlanie modułów'!H:H,MATCH(G379,'Podświetlanie modułów'!F:F,0)),0)","v":0},{"$f":"IF(M379*1>0,\"x\",IF(INDEX(Kalkulacja!A:A,Q379)=\"x\",\"x\",0))","v":0},"FALSE",{"$f":"MATCH(G379,Kalkulacja!$H$1:$H$459,0)","v":323},null,null,0,null,0,null,null,null,null,"Dodatkowy moduł 78",null,null,null,null,{"$f":"IFERROR(INDEX(Kalkulacja!Q:Q,Q379),0)","v":0},0]
[null,null,null,{"$f":"IFERROR(IF(N380>0,\"SUGEROWANE\",IF((INDEX(Kalkulacja!B:B,MATCH(G380,Kalkulacja!H:H,0)))=\"x\",\"USŁUGA\",\"\")),\"\")","v":""},"i",null,{"$f":"Kalkulacja!H324","v":"Dodatkowy moduł 79"},null,null,0,{"$f":"IFERROR(IF(Kalkulacja!$F$2=\"x\",INDEX(Kalkulacja!$R$1:$R$459,Q380),\"\"),\"\")","v":""},null,false,{"$f":"IFERROR(INDEX('Podświetlanie modułów'!H:H,MATCH(G380,'Podświetlanie modułów'!F:F,0)),0)","v":0},{"$f":"IF(M380*1>0,\"x\",IF(INDEX(Kalkulacja!A:A,Q380)=\"x\",\"x\",0))","v":0},"FALSE",{"$f":"MATCH(G380,Kalkulacja!$H$1:$H$459,0)","v":324},null,null,0,null,0,null,null,null,null,"Dodatkowy moduł 79",null,null,null,null,{"$f":"IFERROR(INDEX(Kalkulacja!Q:Q,Q380),0)","v":0},0]
[null,null,null,{"$f":"IFERROR(IF(N381>0,\"SUGEROWANE\",IF((INDEX(Kalkulacja!B:B,MATCH(G381,Kalkulacja!H:H,0)))=\"x\",\"USŁUGA\",\"\")),\"\")","v":""},"i",null,{"$f":"Kalkulacja!H325","v":"Dodatkowy moduł 80"},null,null,0,{"$f":"IFERROR(IF(Kalkulacja!$F$2=\"x\",INDEX(Kalkulacja!$R$1:$R$459,Q381),\"\"),\"\")","v":""},null,false,{"$f":"IFERROR(INDEX('Podświetlanie modułów'!H:H,MATCH(G381,'Podświetlanie modułów'!F:F,0)),0)","v":0},{"$f":"IF(M381*1>0,\"x\",IF(INDEX(Kalkulacja!A:A,Q381)=\"x\",\"x\",0))","v":0},"FALSE",{"$f":"MATCH(G381,Kalkulacja!$H$1:$H$459,0)","v":325},null,null,0,null,0,null,null,null,null,"Dodatkowy moduł 80",null,null,null,null,{"$f":"IFERROR(INDEX(Kalkulacja!Q:Q,Q381),0)","v":0},0]
[null,null,null,{"$f":"IFERROR(IF(N382>0,\"SUGEROWANE\",IF((INDEX(Kalkulacja!B:B,MATCH(G382,Kalkulacja!H:H,0)))=\"x\",\"USŁUGA\",\"\")),\"\")","v":""},"i",null,{"$f":"Kalkulacja!H326","v":"Dodatkowy moduł 81"},null,null,0,{"$f":"IFERROR(IF(Kalkulacja!$F$2=\"x\",INDEX(Kalkulacja!$R$1:$R$459,Q382),\"\"),\"\")","v":""},null,false,{"$f":"IFERROR(INDEX('Podświetlanie modułów'!H:H,MATCH(G382,'Podświetlanie modułów'!F:F,0)),0)","v":0},{"$f":"IF(M382*1>0,\"x\",IF(INDEX(Kalkulacja!A:A,Q382)=\"x\",\"x\",0))","v":0},"FALSE",{"$f":"MATCH(G382,Kalkulacja!$H$1:$H$459,0)","v":326},null,null,0,null,0,null,null,null,null,"Dodatkowy moduł 81",null,null,null,null,{"$f":"IFERROR(INDEX(Kalkulacja!Q:Q,Q382),0)","v":0},0]
[null,null,null,{"$f":"IFERROR(IF(N383>0,\"SUGEROWANE\",IF((INDEX(Kalkulacja!B:B,MATCH(G383,Kalkulacja!H:H,0)))=\"x\",\"USŁUGA\",\"\")),\"\")","v":""},{"$f":"Kalkulacja!H327","v":"Sklepy"},null,null,null,null,null,null,null,null,{"$f":"IFERROR(INDEX('Podświetlanie modułów'!H:H,MATCH(G383,'Podświetlanie modułów'!F:F,0)),0)","v":0},{"$f":"IF(COUNTIF(O384:O510,\"x\")>0,\"x\",0)","v":"x"},"TRUE",{"$f":"MATCH(E383,Kalkulacja!$H$1:$H$459,0)","v":327},null,null,0,null,0,null,null,null,null,0,null,null,null,null,{"$f":"IFERROR(INDEX(Kalkulacja!Q:Q,Q383),0)","v":0},0]
[null,null,null,{"$f":"IFERROR(IF(N384>0,\"SUGEROWANE\",IF((INDEX(Kalkulacja!B:B,MATCH(G384,Kalkulacja!H:H,0)))=\"x\",\"USŁUGA\",\"\")),\"\")","v":""},{"$f":"Kalkulacja!H328","v":"Projekt graficzny sklepu"},null,null,null,null,null,null,null,null,{"$f":"IFERROR(INDEX('Podświetlanie modułów'!H:H,MATCH(G384,'Podświetlanie modułów'!F:F,0)),0)","v":0},{"$f":"IF(COUNTIF(O385:O395,\"x\")>0,\"x\",0)","v":"x"},"TRUE",{"$f":"MATCH(E384,Kalkulacja!$H$1:$H$459,0)","v":328},null,null,0,null,0,null,null,null,null,0,null,null,null,null,{"$f":"IFERROR(INDEX(Kalkulacja!Q:Q,Q384),0)","v":0},0]
[null,null,null,{"$f":"IFERROR(IF(N385>0,\"SUGEROWANE\",IF((INDEX(Kalkulacja!B:B,MATCH(G385,Kalkulacja!H:H,0)))=\"x\",\"USŁUGA\",\"\")),\"\")","v":""},"i",{"$f":"IF(ISBLANK(G385),\" Wybierz typ strony\",\"\")","v":""},{"$f":"INDEX(X$385:$X388,MATCH($T$385,$Y$385:$Y$388,0))","v":"Strona produktu + 3 sekcje"},null,null,{"$f":"M385*1","v":0},{"$f":"IFERROR(IF(Kalkulacja!$F$2=\"x\",INDEX(Kalkulacja!$R$1:$R$459,Q385),\"\"),\"\")","v":""},null,false,{"$f":"IFERROR(INDEX('Podświetlanie modułów'!H:H,MATCH(G385,'Podświetlanie modułów'!F:F,0)),0)","v":0},{"$f":"IF(M385*1>0,\"x\",IF(COUNTIF(Kalkulacja!$A$329:$A$332,\"x\")>0,\"x\",0))","v":"x"},"TRUE",{"$f":"MATCH(G385,Kalkulacja!$H$1:$H$459,0)","v":331},null,null,3,{"$f":"IFERROR(INDEX($Y$385:$Y$388,MATCH(\"x\",Z385:Z388,0)),1)","v":3},0,null,{"$f":"Kalkulacja!H329","v":"Strona produktu (zakładki domyślne)"},1,{"$f":"INDEX(Kalkulacja!$C$329:$C$332,MATCH(X385,Kalkulacja!$H$329:$H$332,0))","v":0},"Strona produktu + 3 sekcje",null,null,null,null,{"$f":"IFERROR(INDEX(Kalkulacja!Q:Q,Q385),0)","v":"x"},0]
[null,null,null,{"$f":"IFERROR(IF(N386>0,\"SUGEROWANE\",IF((INDEX(Kalkulacja!B:B,MATCH(G386,Kalkulacja!H:H,0)))=\"x\",\"USŁUGA\",\"\")),\"\")","v":""},"i",null,{"$f":"Kalkulacja!H333","v":"Kategoria produktów prosta"},null,null,0,{"$f":"IFERROR(IF(Kalkulacja!$F$2=\"x\",INDEX(Kalkulacja!$R$1:$R$459,Q386),\"\"),\"\")","v":""},null,false,{"$f":"IFERROR(INDEX('Podświetlanie modułów'!H:H,MATCH(G386,'Podświetlanie modułów'!F:F,0)),0)","v":0},{"$f":"IF(M386*1>0,\"x\",IF(INDEX(Kalkulacja!A:A,Q386)=\"x\",\"x\",0))","v":"x"},"TRUE",{"$f":"Q387-1","v":333},null,null,0,null,0,null,{"$f":"Kalkulacja!H330","v":"Strona produktu (zakłądki accordions -harmonijka)"},2,{"$f":"INDEX(Kalkulacja!$C$329:$C$332,MATCH(X386,Kalkulacja!$H$329:$H$332,0))","v":0},"Kategoria produktów prosta",null,null,null,null,{"$f":"IFERROR(INDEX(Kalkulacja!Q:Q,Q386),0)","v":"x"},0]
[null,null,null,{"$f":"IFERROR(IF(N387>0,\"SUGEROWANE\",IF((INDEX(Kalkulacja!B:B,MATCH(G387,Kalkulacja!H:H,0)))=\"x\",\"USŁUGA\",\"\")),\"\")","v":""},"i",null,{"$f":"Kalkulacja!H334","v":"Kategoria produktów rozbudowana"},null,null,0,{"$f":"IFERROR(IF(Kalkulacja!$F$2=\"x\",INDEX(Kalkulacja!$R$1:$R$459,Q387),\"\"),\"\")","v":""},null,false,{"$f":"IFERROR(INDEX('Podświetlanie modułów'!H:H,MATCH(G387,'Podświetlanie modułów'!F:F,0)),0)","v":0},{"$f":"IF(M387*1>0,\"x\",IF(INDEX(Kalkulacja!A:A,Q387)=\"x\",\"x\",0))","v":"x"},"TRUE",{"$f":"Q388-1","v":334},null,null,0,null,0,null,{"$f":"Kalkulacja!H331","v":"Strona produktu + 3 sekcje"},3,{"$f":"INDEX(Kalkulacja!$C$329:$C$332,MATCH(X387,Kalkulacja!$H$329:$H$332,0))","v":"x"},"Kategoria produktów rozbudowana",null,null,null,null,{"$f":"IFERROR(INDEX(Kalkulacja!Q:Q,Q387),0)","v":"x"},0]
[null,null,null,{"$f":"IFERROR(IF(N388>0,\"SUGEROWANE\",IF((INDEX(Kalkulacja!B:B,MATCH(G388,Kalkulacja!H:H,0)))=\"x\",\"USŁUGA\",\"\")),\"\")","v":""},"i",null,{"$f":"Kalkulacja!H335","v":"Koszyk"},null,null,0,{"$f":"IFERROR(IF(Kalkulacja!$F$2=\"x\",INDEX(Kalkulacja!$R$1:$R$459,Q388),\"\"),\"\")","v":""},null,false,{"$f":"IFERROR(INDEX('Podświetlanie modułów'!H:H,MATCH(G388,'Podświetlanie modułów'!F:F,0)),0)","v":0},{"$f":"IF(M388*1>0,\"x\",IF(INDEX(Kalkulacja!A:A,Q388)=\"x\",\"x\",0))","v":"x"},"TRUE",{"$f":"Q389-1","v":335},null,null,0,null,0,null,{"$f":"Kalkulacja!H332","v":"Strona produktu + 6 sekcji"},4,{"$f":"INDEX(Kalkulacja!$C$329:$C$332,MATCH(X388,Kalkulacja!$H$329:$H$332,0))","v":0},"Koszyk",null,null,null,null,{"$f":"IFERROR(INDEX(Kalkulacja!Q:Q,Q388),0)","v":"x"},0]
[null,null,null,{"$f":"IFERROR(IF(N389>0,\"SUGEROWANE\",IF((INDEX(Kalkulacja!B:B,MATCH(G389,Kalkulacja!H:H,0)))=\"x\",\"USŁUGA\",\"\")),\"\")","v":""},"i",null,{"$f":"Kalkulacja!H336","v":"Zamówienie"},null,null,0,{"$f":"IFERROR(IF(Kalkulacja!$F$2=\"x\",INDEX(Kalkulacja!$R$1:$R$459,Q389),\"\"),\"\")","v":""},null,false,{"$f":"IFERROR(INDEX('Podświetlanie modułów'!H:H,MATCH(G389,'Podświetlanie modułów'!F:F,0)),0)","v":0},{"$f":"IF(M389*1>0,\"x\",IF(INDEX(Kalkulacja!A:A,Q389)=\"x\",\"x\",0))","v":"x"},"TRUE",{"$f":"Q390-1","v":336},null,null,0,null,0,null,null,null,null,"Zamówienie",null,null,null,null,{"$f":"IFERROR(INDEX(Kalkulacja!Q:Q,Q389),0)","v":"x"},0]
[null,null,null,{"$f":"IFERROR(IF(N390>0,\"SUGEROWANE\",IF((INDEX(Kalkulacja!B:B,MATCH(G390,Kalkulacja!H:H,0)))=\"x\",\"USŁUGA\",\"\")),\"\")","v":""},"i",null,{"$f":"Kalkulacja!H337","v":"Podsumowanie"},null,null,0,{"$f":"IFERROR(IF(Kalkulacja!$F$2=\"x\",INDEX(Kalkulacja!$R$1:$R$459,Q390),\"\"),\"\")","v":""},null,false,{"$f":"IFERROR(INDEX('Podświetlanie modułów'!H:H,MATCH(G390,'Podświetlanie modułów'!F:F,0)),0)","v":0},{"$f":"IF(M390*1>0,\"x\",IF(INDEX(Kalkulacja!A:A,Q390)=\"x\",\"x\",0))","v":"x"},"TRUE",{"$f":"Q391-1","v":337},null,null,0,null,0,null,null,null,null,"Podsumowanie",null,null,null,null,{"$f":"IFERROR(INDEX(Kalkulacja!Q:Q,Q390),0)","v":"x"},0]
[null,null,null,{"$f":"IFERROR(IF(N391>0,\"SUGEROWANE\",IF((INDEX(Kalkulacja!B:B,MATCH(G391,Kalkulacja!H:H,0)))=\"x\",\"USŁUGA\",\"\")),\"\")","v":""},"i",null,{"$f":"Kalkulacja!H338","v":"Strony: Regulamin, Warunki zakupów"},null,null,0,{"$f":"IFERROR(IF(Kalkulacja!$F$2=\"x\",INDEX(Kalkulacja!$R$1:$R$459,Q391),\"\"),\"\")","v":""},null,false,{"$f":"IFERROR(INDEX('Podświetlanie modułów'!H:H,MATCH(G391,'Podświetlanie modułów'!F:F,0)),0)","v":0},{"$f":"IF(M391*1>0,\"x\",IF(INDEX(Kalkulacja!A:A,Q391)=\"x\",\"x\",0))","v":"x"},"TRUE",{"$f":"MATCH(G391,Kalkulacja!$H$1:$H$459,0)","v":338},null,null,0,null,0,null,null,null,null,"Strony: Regulamin, Warunki zakupów",null,null,null,null,{"$f":"IFERROR(INDEX(Kalkulacja!Q:Q,Q391),0)","v":"x"},0]
[null,null,null,{"$f":"IFERROR(IF(N392>0,\"SUGEROWANE\",IF((INDEX(Kalkulacja!B:B,MATCH(G392,Kalkulacja!H:H,0)))=\"x\",\"USŁUGA\",\"\")),\"\")","v":""},"i",null,{"$f":"Kalkulacja!H339","v":"Strony: Zaloguj się i Załóż konto"},null,null,0,{"$f":"IFERROR(IF(Kalkulacja!$F$2=\"x\",INDEX(Kalkulacja!$R$1:$R$459,Q392),\"\"),\"\")","v":""},null,false,{"$f":"IFERROR(INDEX('Podświetlanie modułów'!H:H,MATCH(G392,'Podświetlanie modułów'!F:F,0)),0)","v":0},{"$f":"IF(M392*1>0,\"x\",IF(INDEX(Kalkulacja!A:A,Q392)=\"x\",\"x\",0))","v":"x"},"TRUE",{"$f":"MATCH(G392,Kalkulacja!$H$1:$H$459,0)","v":339},null,null,0,null,0,null,null,null,null,"Strony: Zaloguj się i Załóż konto",null,null,null,null,{"$f":"IFERROR(INDEX(Kalkulacja!Q:Q,Q392),0)","v":"x"},0]
[null,null,null,{"$f":"IFERROR(IF(N393>0,\"SUGEROWANE\",IF((INDEX(Kalkulacja!B:B,MATCH(G393,Kalkulacja!H:H,0)))=\"x\",\"USŁUGA\",\"\")),\"\")","v":""},"i",null,{"$f":"Kalkulacja!H340","v":"Dodatkowy moduł 82"},null,null,0,{"$f":"IFERROR(IF(Kalkulacja!$F$2=\"x\",INDEX(Kalkulacja!$R$1:$R$459,Q393),\"\"),\"\")","v":""},null,false,{"$f":"IFERROR(INDEX('Podświetlanie modułów'!H:H,MATCH(G393,'Podświetlanie modułów'!F:F,0)),0)","v":0},{"$f":"IF(M393*1>0,\"x\",IF(INDEX(Kalkulacja!A:A,Q393)=\"x\",\"x\",0))","v":0},"FALSE",{"$f":"MATCH(G393,Kalkulacja!$H$1:$H$459,0)","v":340},null,null,0,null,0,null,null,null,null,"Dodatkowy moduł 82",null,null,null,null,{"$f":"IFERROR(INDEX(Kalkulacja!Q:Q,Q393),0)","v":0},0]
[null,null,null,{"$f":"IFERROR(IF(N394>0,\"SUGEROWANE\",IF((INDEX(Kalkulacja!B:B,MATCH(G394,Kalkulacja!H:H,0)))=\"x\",\"USŁUGA\",\"\")),\"\")","v":""},"i",null,{"$f":"Kalkulacja!H341","v":"Dodatkowy moduł 83"},null,null,0,{"$f":"IFERROR(IF(Kalkulacja!$F$2=\"x\",INDEX(Kalkulacja!$R$1:$R$459,Q394),\"\"),\"\")","v":""},null,false,{"$f":"IFERROR(INDEX('Podświetlanie modułów'!H:H,MATCH(G394,'Podświetlanie modułów'!F:F,0)),0)","v":0},{"$f":"IF(M394*1>0,\"x\",IF(INDEX(Kalkulacja!A:A,Q394)=\"x\",\"x\",0))","v":0},"FALSE",{"$f":"MATCH(G394,Kalkulacja!$H$1:$H$459,0)","v":341},null,null,0,null,0,null,null,null,null,"Dodatkowy moduł 83",null,null,null,null,{"$f":"IFERROR(INDEX(Kalkulacja!Q:Q,Q394),0)","v":0},0]
[null,null,null,{"$f":"IFERROR(IF(N395>0,\"SUGEROWANE\",IF((INDEX(Kalkulacja!B:B,MATCH(G395,Kalkulacja!H:H,0)))=\"x\",\"USŁUGA\",\"\")),\"\")","v":""},"i",null,{"$f":"Kalkulacja!H342","v":"Dodatkowy moduł 84"},null,null,0,{"$f":"IFERROR(IF(Kalkulacja!$F$2=\"x\",INDEX(Kalkulacja!$R$1:$R$459,Q395),\"\"),\"\")","v":""},null,false,{"$f":"IFERROR(INDEX('Podświetlanie modułów'!H:H,MATCH(G395,'Podświetlanie modułów'!F:F,0)),0)","v":0},{"$f":"IF(M395*1>0,\"x\",IF(INDEX(Kalkulacja!A:A,Q395)=\"x\",\"x\",0))","v":0},"FALSE",{"$f":"MATCH(G395,Kalkulacja!$H$1:$H$459,0)","v":342},null,null,0,null,0,null,null,null,null,"Dodatkowy moduł 84",null,null,null,null,{"$f":"IFERROR(INDEX(Kalkulacja!Q:Q,Q395),0)","v":0},0]
[null,null,null,{"$f":"IFERROR(IF(N396>0,\"SUGEROWANE\",IF((INDEX(Kalkulacja!B:B,MATCH(G396,Kalkulacja!H:H,0)))=\"x\",\"USŁUGA\",\"\")),\"\")","v":""},{"$f":"Kalkulacja!H343","v":"Marketing i pozycjonowanie"},null,null,null,null,null,null,null,null,{"$f":"IFERROR(INDEX('Podświetlanie modułów'!H:H,MATCH(G396,'Podświetlanie modułów'!F:F,0)),0)","v":0},{"$f":"IF(COUNTIF(O397:O417,\"x\")>0,\"x\",0)","v":"x"},"TRUE",{"$f":"MATCH(E396,Kalkulacja!$H$1:$H$459,0)","v":343},null,null,0,null,0,null,null,null,null,0,null,null,null,null,{"$f":"IFERROR(INDEX(Kalkulacja!Q:Q,Q396),0)","v":0},0]
[null,null,null,{"$f":"IFERROR(IF(N397>0,\"SUGEROWANE\",IF((INDEX(Kalkulacja!B:B,MATCH(G397,Kalkulacja!H:H,0)))=\"x\",\"USŁUGA\",\"\")),\"\")","v":""},"i",null,{"$f":"Kalkulacja!H344","v":"Integracja z Google Merchant Center"},null,null,{"$f":"M397*1","v":0},{"$f":"IFERROR(IF(Kalkulacja!$F$2=\"x\",INDEX(Kalkulacja!$R$1:$R$459,Q397),\"\"),\"\")","v":""},null,false,{"$f":"IFERROR(INDEX('Podświetlanie modułów'!H:H,MATCH(G397,'Podświetlanie modułów'!F:F,0)),0)","v":0},{"$f":"IF(M397*1>0,\"x\",IF(INDEX(Kalkulacja!A:A,Q397)=\"x\",\"x\",0))","v":"x"},"TRUE",{"$f":"MATCH(G397,Kalkulacja!$H$1:$H$459,0)","v":344},null,null,0,null,0,null,null,null,null,"Integracja z Google Merchant Center",null,null,null,null,{"$f":"IFERROR(INDEX(Kalkulacja!Q:Q,Q397),0)","v":0},0]
[null,null,null,{"$f":"IFERROR(IF(N398>0,\"SUGEROWANE\",IF((INDEX(Kalkulacja!B:B,MATCH(G398,Kalkulacja!H:H,0)))=\"x\",\"USŁUGA\",\"\")),\"\")","v":""},"i",null,{"$f":"Kalkulacja!H345","v":"Integracja z Ceneo, Nokaut, Homebook i Domodi"},null,null,0,{"$f":"IFERROR(IF(Kalkulacja!$F$2=\"x\",INDEX(Kalkulacja!$R$1:$R$459,Q398),\"\"),\"\")","v":""},null,false,{"$f":"IFERROR(INDEX('Podświetlanie modułów'!H:H,MATCH(G398,'Podświetlanie modułów'!F:F,0)),0)","v":0},{"$f":"IF(M398*1>0,\"x\",IF(INDEX(Kalkulacja!A:A,Q398)=\"x\",\"x\",0))","v":"x"},"TRUE",{"$f":"MATCH(G398,Kalkulacja!$H$1:$H$459,0)","v":345},null,null,0,null,0,null,null,null,null,"Integracja z Ceneo, Nokaut, Homebook i Domodi",null,null,null,null,{"$f":"IFERROR(INDEX(Kalkulacja!Q:Q,Q398),0)","v":0},0]
[null,null,null,{"$f":"IFERROR(IF(N399>0,\"SUGEROWANE\",IF((INDEX(Kalkulacja!B:B,MATCH(G399,Kalkulacja!H:H,0)))=\"x\",\"USŁUGA\",\"\")),\"\")","v":""},"i",null,{"$f":"Kalkulacja!H346","v":"Integracja z Opineo"},null,null,0,{"$f":"IFERROR(IF(Kalkulacja!$F$2=\"x\",INDEX(Kalkulacja!$R$1:$R$459,Q399),\"\"),\"\")","v":""},null,false,{"$f":"IFERROR(INDEX('Podświetlanie modułów'!H:H,MATCH(G399,'Podświetlanie modułów'!F:F,0)),0)","v":0},{"$f":"IF(M399*1>0,\"x\",IF(INDEX(Kalkulacja!A:A,Q399)=\"x\",\"x\",0))","v":"x"},"TRUE",{"$f":"MATCH(G399,Kalkulacja!$H$1:$H$459,0)","v":346},null,null,0,null,0,null,null,null,null,"Integracja z Opineo",null,null,null,null,{"$f":"IFERROR(INDEX(Kalkulacja!Q:Q,Q399),0)","v":0},0]
[null,null,null,{"$f":"IFERROR(IF(N400>0,\"SUGEROWANE\",IF((INDEX(Kalkulacja!B:B,MATCH(G400,Kalkulacja!H:H,0)))=\"x\",\"USŁUGA\",\"\")),\"\")","v":""},"i",null,{"$f":"Kalkulacja!H347","v":"Integracja z Allegro"},null,null,0,{"$f":"IFERROR(IF(Kalkulacja!$F$2=\"x\",INDEX(Kalkulacja!$R$1:$R$459,Q400),\"\"),\"\")","v":""},null,false,{"$f":"IFERROR(INDEX('Podświetlanie modułów'!H:H,MATCH(G400,'Podświetlanie modułów'!F:F,0)),0)","v":0},{"$f":"IF(M400*1>0,\"x\",IF(INDEX(Kalkulacja!A:A,Q400)=\"x\",\"x\",0))","v":"x"},"TRUE",{"$f":"MATCH(G400,Kalkulacja!$H$1:$H$459,0)","v":347},null,null,0,null,0,null,null,null,null,"Integracja z Allegro",null,null,null,null,{"$f":"IFERROR(INDEX(Kalkulacja!Q:Q,Q400),0)","v":0},0]
[null,null,null,{"$f":"IFERROR(IF(N401>0,\"SUGEROWANE\",IF((INDEX(Kalkulacja!B:B,MATCH(G401,Kalkulacja!H:H,0)))=\"x\",\"USŁUGA\",\"\")),\"\")","v":""},"i",null,{"$f":"Kalkulacja!H348","v":"Integracja z OLX"},null,null,0,{"$f":"IFERROR(IF(Kalkulacja!$F$2=\"x\",INDEX(Kalkulacja!$R$1:$R$459,Q401),\"\"),\"\")","v":""},null,false,{"$f":"IFERROR(INDEX('Podświetlanie modułów'!H:H,MATCH(G401,'Podświetlanie modułów'!F:F,0)),0)","v":0},{"$f":"IF(M401*1>0,\"x\",IF(INDEX(Kalkulacja!A:A,Q401)=\"x\",\"x\",0))","v":"x"},"TRUE",{"$f":"MATCH(G401,Kalkulacja!$H$1:$H$459,0)","v":348},null,null,0,null,0,null,null,null,null,"Integracja z OLX",null,null,null,null,{"$f":"IFERROR(INDEX(Kalkulacja!Q:Q,Q401),0)","v":0},0]
[null,null,null,{"$f":"IFERROR(IF(N402>0,\"SUGEROWANE\",IF((INDEX(Kalkulacja!B:B,MATCH(G402,Kalkulacja!H:H,0)))=\"x\",\"USŁUGA\",\"\")),\"\")","v":""},"i",null,{"$f":"Kalkulacja!H349","v":"Integracja z Baselinker"},null,null,0,{"$f":"IFERROR(IF(Kalkulacja!$F$2=\"x\",INDEX(Kalkulacja!$R$1:$R$459,Q402),\"\"),\"\")","v":""},null,false,{"$f":"IFERROR(INDEX('Podświetlanie modułów'!H:H,MATCH(G402,'Podświetlanie modułów'!F:F,0)),0)","v":0},{"$f":"IF(M402*1>0,\"x\",IF(INDEX(Kalkulacja!A:A,Q402)=\"x\",\"x\",0))","v":"x"},"TRUE",{"$f":"MATCH(G402,Kalkulacja!$H$1:$H$459,0)","v":349},null,null,0,null,0,null,null,null,null,"Integracja z Baselinker",null,null,null,null,{"$f":"IFERROR(INDEX(Kalkulacja!Q:Q,Q402),0)","v":0},0]
[null,null,null,{"$f":"IFERROR(IF(N403>0,\"SUGEROWANE\",IF((INDEX(Kalkulacja!B:B,MATCH(G403,Kalkulacja!H:H,0)))=\"x\",\"USŁUGA\",\"\")),\"\")","v":""},"i",null,{"$f":"Kalkulacja!H350","v":"Integracja z GetResponse"},null,null,0,{"$f":"IFERROR(IF(Kalkulacja!$F$2=\"x\",INDEX(Kalkulacja!$R$1:$R$459,Q403),\"\"),\"\")","v":""},null,false,{"$f":"IFERROR(INDEX('Podświetlanie modułów'!H:H,MATCH(G403,'Podświetlanie modułów'!F:F,0)),0)","v":0},{"$f":"IF(M403*1>0,\"x\",IF(INDEX(Kalkulacja!A:A,Q403)=\"x\",\"x\",0))","v":"x"},"TRUE",{"$f":"MATCH(G403,Kalkulacja!$H$1:$H$459,0)","v":350},null,null,0,null,0,null,null,null,null,"Integracja z GetResponse",null,null,null,null,{"$f":"IFERROR(INDEX(Kalkulacja!Q:Q,Q403),0)","v":0},0]
[null,null,null,{"$f":"IFERROR(IF(N404>0,\"SUGEROWANE\",IF((INDEX(Kalkulacja!B:B,MATCH(G404,Kalkulacja!H:H,0)))=\"x\",\"USŁUGA\",\"\")),\"\")","v":""},"i",null,{"$f":"Kalkulacja!H351","v":"Integracja z Fresmail"},null,null,0,{"$f":"IFERROR(IF(Kalkulacja!$F$2=\"x\",INDEX(Kalkulacja!$R$1:$R$459,Q404),\"\"),\"\")","v":""},null,{"$f":"S404","v":0},{"$f":"IFERROR(INDEX('Podświetlanie modułów'!H:H,MATCH(G404,'Podświetlanie modułów'!F:F,0)),0)","v":0},{"$f":"IF(M404*1>0,\"x\",IF(INDEX(Kalkulacja!A:A,Q404)=\"x\",\"x\",0))","v":"x"},"TRUE",{"$f":"MATCH(G404,Kalkulacja!$H$1:$H$459,0)","v":351},null,null,0,null,0,null,null,null,null,"Integracja z Fresmail",null,null,null,null,{"$f":"IFERROR(INDEX(Kalkulacja!Q:Q,Q404),0)","v":0},0]
[null,null,null,{"$f":"IFERROR(IF(N405>0,\"SUGEROWANE\",IF((INDEX(Kalkulacja!B:B,MATCH(G405,Kalkulacja!H:H,0)))=\"x\",\"USŁUGA\",\"\")),\"\")","v":""},"i",null,{"$f":"Kalkulacja!H352","v":"Integracja z Mailchimp"},null,null,0,{"$f":"IFERROR(IF(Kalkulacja!$F$2=\"x\",INDEX(Kalkulacja!$R$1:$R$459,Q405),\"\"),\"\")","v":""},null,0,{"$f":"IFERROR(INDEX('Podświetlanie modułów'!H:H,MATCH(G405,'Podświetlanie modułów'!F:F,0)),0)","v":0},{"$f":"IF(M405*1>0,\"x\",IF(INDEX(Kalkulacja!A:A,Q405)=\"x\",\"x\",0))","v":"x"},"TRUE",{"$f":"MATCH(G405,Kalkulacja!$H$1:$H$459,0)","v":352},null,null,0,null,0,null,null,null,null,{"$f":"G405","v":"Integracja z Mailchimp"},null,null,null,null,{"$f":"IFERROR(INDEX(Kalkulacja!Q:Q,Q405),0)","v":0},0]
[null,null,null,{"$f":"IFERROR(IF(N406>0,\"SUGEROWANE\",IF((INDEX(Kalkulacja!B:B,MATCH(G406,Kalkulacja!H:H,0)))=\"x\",\"USŁUGA\",\"\")),\"\")","v":""},"i",null,{"$f":"Kalkulacja!H353","v":"ShopMagic PRO - automatyzacja maili"},null,null,0,{"$f":"IFERROR(IF(Kalkulacja!$F$2=\"x\",INDEX(Kalkulacja!$R$1:$R$459,Q406),\"\"),\"\")","v":""},null,false,{"$f":"IFERROR(INDEX('Podświetlanie modułów'!H:H,MATCH(G406,'Podświetlanie modułów'!F:F,0)),0)","v":0},{"$f":"IF(M406*1>0,\"x\",IF(INDEX(Kalkulacja!A:A,Q406)=\"x\",\"x\",0))","v":"x"},"TRUE",{"$f":"MATCH(G406,Kalkulacja!$H$1:$H$459,0)","v":353},null,null,{"$f":"U406","v":0},null,{"$f":"AG406","v":0},null,null,null,null,"ShopMagic PRO - automatyzacja maili",null,null,null,null,{"$f":"IFERROR(INDEX(Kalkulacja!Q:Q,Q406),0)","v":0},0]
[null,null,null,{"$f":"IFERROR(IF(N407>0,\"SUGEROWANE\",IF((INDEX(Kalkulacja!B:B,MATCH(G407,Kalkulacja!H:H,0)))=\"x\",\"USŁUGA\",\"\")),\"\")","v":""},"i",null,{"$f":"Kalkulacja!H354","v":"Kupony rabatowe (konfiguracja 1 kuponu)"},null,null,0,{"$f":"IFERROR(IF(Kalkulacja!$F$2=\"x\",INDEX(Kalkulacja!$R$1:$R$459,Q407),\"\"),\"\")","v":""},null,0,{"$f":"IFERROR(INDEX('Podświetlanie modułów'!H:H,MATCH(G407,'Podświetlanie modułów'!F:F,0)),0)","v":0},{"$f":"IF(M407*1>0,\"x\",IF(INDEX(Kalkulacja!A:A,Q407)=\"x\",\"x\",0))","v":"x"},"TRUE",{"$f":"MATCH(G407,Kalkulacja!$H$1:$H$459,0)","v":354},null,null,0,null,0,null,null,null,null,"Kupony rabatowe (konfiguracja 1 kuponu)",null,null,null,null,{"$f":"IFERROR(INDEX(Kalkulacja!Q:Q,Q407),0)","v":"x"},0]
[null,null,null,{"$f":"IFERROR(IF(N408>0,\"SUGEROWANE\",IF((INDEX(Kalkulacja!B:B,MATCH(G408,Kalkulacja!H:H,0)))=\"x\",\"USŁUGA\",\"\")),\"\")","v":""},"i",null,{"$f":"Kalkulacja!H355","v":"Flexible Pricing - zaawansowane promocje (gratisy, promocje)"},null,null,0,{"$f":"IFERROR(IF(Kalkulacja!$F$2=\"x\",INDEX(Kalkulacja!$R$1:$R$459,Q408),\"\"),\"\")","v":""},null,0,{"$f":"IFERROR(INDEX('Podświetlanie modułów'!H:H,MATCH(G408,'Podświetlanie modułów'!F:F,0)),0)","v":0},{"$f":"IF(M408*1>0,\"x\",IF(INDEX(Kalkulacja!A:A,Q408)=\"x\",\"x\",0))","v":"x"},"TRUE",{"$f":"MATCH(G408,Kalkulacja!$H$1:$H$459,0)","v":355},null,null,0,null,0,null,null,null,null,"Flexible Pricing - zaawansowane promocje (gratisy, promocje)",null,null,null,null,{"$f":"IFERROR(INDEX(Kalkulacja!Q:Q,Q408),0)","v":0},0]
[null,null,null,{"$f":"IFERROR(IF(N409>0,\"SUGEROWANE\",IF((INDEX(Kalkulacja!B:B,MATCH(G409,Kalkulacja!H:H,0)))=\"x\",\"USŁUGA\",\"\")),\"\")","v":""},"i",null,{"$f":"Kalkulacja!H356","v":"Flexible Product Fields PRO - dodatkowe opcje do produktów"},null,null,0,{"$f":"IFERROR(IF(Kalkulacja!$F$2=\"x\",INDEX(Kalkulacja!$R$1:$R$459,Q409),\"\"),\"\")","v":""},null,0,{"$f":"IFERROR(INDEX('Podświetlanie modułów'!H:H,MATCH(G409,'Podświetlanie modułów'!F:F,0)),0)","v":0},{"$f":"IF(M409*1>0,\"x\",IF(INDEX(Kalkulacja!A:A,Q409)=\"x\",\"x\",0))","v":"x"},"TRUE",{"$f":"MATCH(G409,Kalkulacja!$H$1:$H$459,0)","v":356},null,null,0,null,0,null,null,null,null,"Flexible Product Fields PRO - dodatkowe opcje do produktów",null,null,null,null,{"$f":"IFERROR(INDEX(Kalkulacja!Q:Q,Q409),0)","v":0},0]
[null,null,null,{"$f":"IFERROR(IF(N410>0,\"SUGEROWANE\",IF((INDEX(Kalkulacja!B:B,MATCH(G410,Kalkulacja!H:H,0)))=\"x\",\"USŁUGA\",\"\")),\"\")","v":""},"i",null,{"$f":"Kalkulacja!H357","v":"Quick Cross-Sells - promocje powiązane"},null,null,0,{"$f":"IFERROR(IF(Kalkulacja!$F$2=\"x\",INDEX(Kalkulacja!$R$1:$R$459,Q410),\"\"),\"\")","v":""},null,0,{"$f":"IFERROR(INDEX('Podświetlanie modułów'!H:H,MATCH(G410,'Podświetlanie modułów'!F:F,0)),0)","v":0},{"$f":"IF(M410*1>0,\"x\",IF(INDEX(Kalkulacja!A:A,Q410)=\"x\",\"x\",0))","v":"x"},"TRUE",{"$f":"MATCH(G410,Kalkulacja!$H$1:$H$459,0)","v":357},null,null,0,null,0,null,null,null,null,"Quick Cross-Sells - promocje powiązane",null,null,null,null,{"$f":"IFERROR(INDEX(Kalkulacja!Q:Q,Q410),0)","v":0},0]
[null,null,null,{"$f":"IFERROR(IF(N411>0,\"SUGEROWANE\",IF((INDEX(Kalkulacja!B:B,MATCH(G411,Kalkulacja!H:H,0)))=\"x\",\"USŁUGA\",\"\")),\"\")","v":""},"i",null,{"$f":"Kalkulacja!H358","v":"Polecane produkty"},null,null,0,{"$f":"IFERROR(IF(Kalkulacja!$F$2=\"x\",INDEX(Kalkulacja!$R$1:$R$459,Q411),\"\"),\"\")","v":""},null,0,{"$f":"IFERROR(INDEX('Podświetlanie modułów'!H:H,MATCH(G411,'Podświetlanie modułów'!F:F,0)),0)","v":0},{"$f":"IF(M411*1>0,\"x\",IF(INDEX(Kalkulacja!A:A,Q411)=\"x\",\"x\",0))","v":"x"},"TRUE",{"$f":"MATCH(G411,Kalkulacja!$H$1:$H$459,0)","v":358},null,null,0,null,0,null,null,null,null,"Polecane produkty",null,null,null,null,{"$f":"IFERROR(INDEX(Kalkulacja!Q:Q,Q411),0)","v":"x"},0]
[null,null,null,{"$f":"IFERROR(IF(N412>0,\"SUGEROWANE\",IF((INDEX(Kalkulacja!B:B,MATCH(G412,Kalkulacja!H:H,0)))=\"x\",\"USŁUGA\",\"\")),\"\")","v":""},"i",null,{"$f":"Kalkulacja!H359","v":"Ostatnio oglądane produkty"},null,null,0,{"$f":"IFERROR(IF(Kalkulacja!$F$2=\"x\",INDEX(Kalkulacja!$R$1:$R$459,Q412),\"\"),\"\")","v":""},null,0,{"$f":"IFERROR(INDEX('Podświetlanie modułów'!H:H,MATCH(G412,'Podświetlanie modułów'!F:F,0)),0)","v":0},{"$f":"IF(M412*1>0,\"x\",IF(INDEX(Kalkulacja!A:A,Q412)=\"x\",\"x\",0))","v":"x"},"TRUE",{"$f":"MATCH(G412,Kalkulacja!$H$1:$H$459,0)","v":359},null,null,0,null,0,null,null,null,null,"Ostatnio oglądane produkty",null,null,null,null,{"$f":"IFERROR(INDEX(Kalkulacja!Q:Q,Q412),0)","v":"x"},0]
[null,null,null,{"$f":"IFERROR(IF(N413>0,\"SUGEROWANE\",IF((INDEX(Kalkulacja!B:B,MATCH(G413,Kalkulacja!H:H,0)))=\"x\",\"USŁUGA\",\"\")),\"\")","v":""},"i",null,{"$f":"Kalkulacja!H360","v":"Powiadom mnie o dostępności produktu"},null,null,0,{"$f":"IFERROR(IF(Kalkulacja!$F$2=\"x\",INDEX(Kalkulacja!$R$1:$R$459,Q413),\"\"),\"\")","v":""},null,0,{"$f":"IFERROR(INDEX('Podświetlanie modułów'!H:H,MATCH(G413,'Podświetlanie modułów'!F:F,0)),0)","v":0},{"$f":"IF(M413*1>0,\"x\",IF(INDEX(Kalkulacja!A:A,Q413)=\"x\",\"x\",0))","v":"x"},"TRUE",{"$f":"MATCH(G413,Kalkulacja!$H$1:$H$459,0)","v":360},null,null,0,null,0,null,null,null,null,"Powiadom mnie o dostępności produktu",null,null,null,null,{"$f":"IFERROR(INDEX(Kalkulacja!Q:Q,Q413),0)","v":"x"},0]
[null,null,null,{"$f":"IFERROR(IF(N414>0,\"SUGEROWANE\",IF((INDEX(Kalkulacja!B:B,MATCH(G414,Kalkulacja!H:H,0)))=\"x\",\"USŁUGA\",\"\")),\"\")","v":""},"i",null,{"$f":"Kalkulacja!H361","v":"Dodatkowy moduł 85"},null,null,0,{"$f":"IFERROR(IF(Kalkulacja!$F$2=\"x\",INDEX(Kalkulacja!$R$1:$R$459,Q414),\"\"),\"\")","v":""},null,0,{"$f":"IFERROR(INDEX('Podświetlanie modułów'!H:H,MATCH(G414,'Podświetlanie modułów'!F:F,0)),0)","v":0},{"$f":"IF(M414*1>0,\"x\",IF(INDEX(Kalkulacja!A:A,Q414)=\"x\",\"x\",0))","v":0},"FALSE",{"$f":"MATCH(G414,Kalkulacja!$H$1:$H$459,0)","v":361},null,null,0,null,0,null,null,null,null,"Dodatkowy moduł 85",null,null,null,null,{"$f":"IFERROR(INDEX(Kalkulacja!Q:Q,Q414),0)","v":0},0]
[null,null,null,{"$f":"IFERROR(IF(N415>0,\"SUGEROWANE\",IF((INDEX(Kalkulacja!B:B,MATCH(G415,Kalkulacja!H:H,0)))=\"x\",\"USŁUGA\",\"\")),\"\")","v":""},"i",null,{"$f":"Kalkulacja!H362","v":"Dodatkowy moduł 86"},null,null,0,{"$f":"IFERROR(IF(Kalkulacja!$F$2=\"x\",INDEX(Kalkulacja!$R$1:$R$459,Q415),\"\"),\"\")","v":""},null,0,{"$f":"IFERROR(INDEX('Podświetlanie modułów'!H:H,MATCH(G415,'Podświetlanie modułów'!F:F,0)),0)","v":0},{"$f":"IF(M415*1>0,\"x\",IF(INDEX(Kalkulacja!A:A,Q415)=\"x\",\"x\",0))","v":0},"FALSE",{"$f":"MATCH(G415,Kalkulacja!$H$1:$H$459,0)","v":362},null,null,0,null,0,null,null,null,null,"Dodatkowy moduł 86",null,null,null,null,{"$f":"IFERROR(INDEX(Kalkulacja!Q:Q,Q415),0)","v":0},0]
[null,null,null,{"$f":"IFERROR(IF(N416>0,\"SUGEROWANE\",IF((INDEX(Kalkulacja!B:B,MATCH(G416,Kalkulacja!H:H,0)))=\"x\",\"USŁUGA\",\"\")),\"\")","v":""},"i",null,{"$f":"Kalkulacja!H363","v":"Dodatkowy moduł 87"},null,null,0,{"$f":"IFERROR(IF(Kalkulacja!$F$2=\"x\",INDEX(Kalkulacja!$R$1:$R$459,Q416),\"\"),\"\")","v":""},null,0,{"$f":"IFERROR(INDEX('Podświetlanie modułów'!H:H,MATCH(G416,'Podświetlanie modułów'!F:F,0)),0)","v":0},{"$f":"IF(M416*1>0,\"x\",IF(INDEX(Kalkulacja!A:A,Q416)=\"x\",\"x\",0))","v":0},"FALSE",{"$f":"MATCH(G416,Kalkulacja!$H$1:$H$459,0)","v":363},null,null,0,null,0,null,null,null,null,"Dodatkowy moduł 87",null,null,null,null,{"$f":"IFERROR(INDEX(Kalkulacja!Q:Q,Q416),0)","v":0},0]
[null,null,null,{"$f":"IFERROR(IF(N417>0,\"SUGEROWANE\",IF((INDEX(Kalkulacja!B:B,MATCH(G417,Kalkulacja!H:H,0)))=\"x\",\"USŁUGA\",\"\")),\"\")","v":""},"i",null,{"$f":"Kalkulacja!H364","v":"Dodatkowy moduł 88"},null,null,0,{"$f":"IFERROR(IF(Kalkulacja!$F$2=\"x\",INDEX(Kalkulacja!$R$1:$R$459,Q417),\"\"),\"\")","v":""},null,0,{"$f":"IFERROR(INDEX('Podświetlanie modułów'!H:H,MATCH(G417,'Podświetlanie modułów'!F:F,0)),0)","v":0},{"$f":"IF(M417*1>0,\"x\",IF(INDEX(Kalkulacja!A:A,Q417)=\"x\",\"x\",0))","v":0},"FALSE",{"$f":"MATCH(G417,Kalkulacja!$H$1:$H$459,0)","v":364},null,null,0,null,0,null,null,null,null,"Dodatkowy moduł 88",null,null,null,null,{"$f":"IFERROR(INDEX(Kalkulacja!Q:Q,Q417),0)","v":0},0]
[null,null,null,{"$f":"IFERROR(IF(N418>0,\"SUGEROWANE\",IF((INDEX(Kalkulacja!B:B,MATCH(G418,Kalkulacja!H:H,0)))=\"x\",\"USŁUGA\",\"\")),\"\")","v":""},{"$f":"Kalkulacja!H365","v":"Zarządzanie produktami"},null,null,null,null,null,null,null,null,{"$f":"IFERROR(INDEX('Podświetlanie modułów'!H:H,MATCH(G418,'Podświetlanie modułów'!F:F,0)),0)","v":0},{"$f":"IF(COUNTIF(O419:O434,\"x\")>0,\"x\",0)","v":"x"},"TRUE",{"$f":"MATCH(E418,Kalkulacja!$H$1:$H$459,0)","v":365},null,null,0,null,0,null,null,null,null,0,null,null,null,null,{"$f":"IFERROR(INDEX(Kalkulacja!Q:Q,Q418),0)","v":0},0]
[null,null,null,{"$f":"IFERROR(IF(N419>0,\"SUGEROWANE\",IF((INDEX(Kalkulacja!B:B,MATCH(G419,Kalkulacja!H:H,0)))=\"x\",\"USŁUGA\",\"\")),\"\")","v":""},"i",null,{"$f":"Kalkulacja!H366","v":"Ilość produktów bez limitu"},null,null,{"$f":"M419*1","v":0},{"$f":"IFERROR(IF(Kalkulacja!$F$2=\"x\",INDEX(Kalkulacja!$R$1:$R$459,Q419),\"\"),\"\")","v":""},null,false,{"$f":"IFERROR(INDEX('Podświetlanie modułów'!H:H,MATCH(G419,'Podświetlanie modułów'!F:F,0)),0)","v":0},{"$f":"IF(M419*1>0,\"x\",IF(INDEX(Kalkulacja!A:A,Q419)=\"x\",\"x\",0))","v":"x"},"TRUE",{"$f":"MATCH(G419,Kalkulacja!$H$1:$H$459,0)","v":366},null,null,0,null,0,null,null,null,null,"Ilość produktów bez limitu",null,null,null,null,{"$f":"IFERROR(INDEX(Kalkulacja!Q:Q,Q419),0)","v":"x"},0]
[null,null,null,{"$f":"IFERROR(IF(N420>0,\"SUGEROWANE\",IF((INDEX(Kalkulacja!B:B,MATCH(G420,Kalkulacja!H:H,0)))=\"x\",\"USŁUGA\",\"\")),\"\")","v":""},"i",null,{"$f":"Kalkulacja!H367","v":"Ilość kategorii i podkategorii bez limitu"},null,null,0,{"$f":"IFERROR(IF(Kalkulacja!$F$2=\"x\",INDEX(Kalkulacja!$R$1:$R$459,Q420),\"\"),\"\")","v":""},null,0,{"$f":"IFERROR(INDEX('Podświetlanie modułów'!H:H,MATCH(G420,'Podświetlanie modułów'!F:F,0)),0)","v":0},{"$f":"IF(M420*1>0,\"x\",IF(INDEX(Kalkulacja!A:A,Q420)=\"x\",\"x\",0))","v":"x"},"TRUE",{"$f":"MATCH(G420,Kalkulacja!$H$1:$H$459,0)","v":367},null,null,0,null,0,null,null,null,null,"Ilość kategorii i podkategorii bez limitu",null,null,null,null,{"$f":"IFERROR(INDEX(Kalkulacja!Q:Q,Q420),0)","v":"x"},0]
[null,null,null,{"$f":"IFERROR(IF(N421>0,\"SUGEROWANE\",IF((INDEX(Kalkulacja!B:B,MATCH(G421,Kalkulacja!H:H,0)))=\"x\",\"USŁUGA\",\"\")),\"\")","v":""},"i",null,{"$f":"Kalkulacja!H368","v":"Producenci i serie"},null,null,0,{"$f":"IFERROR(IF(Kalkulacja!$F$2=\"x\",INDEX(Kalkulacja!$R$1:$R$459,Q421),\"\"),\"\")","v":""},null,false,{"$f":"IFERROR(INDEX('Podświetlanie modułów'!H:H,MATCH(G421,'Podświetlanie modułów'!F:F,0)),0)","v":0},{"$f":"IF(M421*1>0,\"x\",IF(INDEX(Kalkulacja!A:A,Q421)=\"x\",\"x\",0))","v":"x"},"TRUE",{"$f":"MATCH(G421,Kalkulacja!$H$1:$H$459,0)","v":368},null,null,0,null,0,null,null,null,null,"Producenci i serie",null,null,null,null,{"$f":"IFERROR(INDEX(Kalkulacja!Q:Q,Q421),0)","v":"x"},0]
[null,null,null,{"$f":"IFERROR(IF(N422>0,\"SUGEROWANE\",IF((INDEX(Kalkulacja!B:B,MATCH(G422,Kalkulacja!H:H,0)))=\"x\",\"USŁUGA\",\"\")),\"\")","v":""},"i",null,{"$f":"Kalkulacja!H369","v":"Atrybuty produktów"},null,null,0,{"$f":"IFERROR(IF(Kalkulacja!$F$2=\"x\",INDEX(Kalkulacja!$R$1:$R$459,Q422),\"\"),\"\")","v":""},null,0,{"$f":"IFERROR(INDEX('Podświetlanie modułów'!H:H,MATCH(G422,'Podświetlanie modułów'!F:F,0)),0)","v":0},{"$f":"IF(M422*1>0,\"x\",IF(INDEX(Kalkulacja!A:A,Q422)=\"x\",\"x\",0))","v":"x"},"TRUE",{"$f":"MATCH(G422,Kalkulacja!$H$1:$H$459,0)","v":369},null,null,0,null,0,null,null,null,null,"Atrybuty produktów",null,null,null,null,{"$f":"IFERROR(INDEX(Kalkulacja!Q:Q,Q422),0)","v":"x"},0]
[null,null,null,{"$f":"IFERROR(IF(N423>0,\"SUGEROWANE\",IF((INDEX(Kalkulacja!B:B,MATCH(G423,Kalkulacja!H:H,0)))=\"x\",\"USŁUGA\",\"\")),\"\")","v":""},"i",null,{"$f":"Kalkulacja!H370","v":"Warianty produktów"},null,null,0,{"$f":"IFERROR(IF(Kalkulacja!$F$2=\"x\",INDEX(Kalkulacja!$R$1:$R$459,Q423),\"\"),\"\")","v":""},null,false,{"$f":"IFERROR(INDEX('Podświetlanie modułów'!H:H,MATCH(G423,'Podświetlanie modułów'!F:F,0)),0)","v":0},{"$f":"IF(M423*1>0,\"x\",IF(INDEX(Kalkulacja!A:A,Q423)=\"x\",\"x\",0))","v":"x"},"TRUE",{"$f":"MATCH(G423,Kalkulacja!$H$1:$H$459,0)","v":370},null,null,0,null,0,null,null,null,null,"Warianty produktów",null,null,null,null,{"$f":"IFERROR(INDEX(Kalkulacja!Q:Q,Q423),0)","v":"x"},0]
[null,null,null,{"$f":"IFERROR(IF(N424>0,\"SUGEROWANE\",IF((INDEX(Kalkulacja!B:B,MATCH(G424,Kalkulacja!H:H,0)))=\"x\",\"USŁUGA\",\"\")),\"\")","v":""},"i",null,{"$f":"Kalkulacja!H371","v":"Stany magazynowe"},null,null,0,{"$f":"IFERROR(IF(Kalkulacja!$F$2=\"x\",INDEX(Kalkulacja!$R$1:$R$459,Q424),\"\"),\"\")","v":""},null,0,{"$f":"IFERROR(INDEX('Podświetlanie modułów'!H:H,MATCH(G424,'Podświetlanie modułów'!F:F,0)),0)","v":0},{"$f":"IF(M424*1>0,\"x\",IF(INDEX(Kalkulacja!A:A,Q424)=\"x\",\"x\",0))","v":"x"},"TRUE",{"$f":"MATCH(G424,Kalkulacja!$H$1:$H$459,0)","v":371},null,null,0,null,0,null,null,null,null,"Stany magazynowe",null,null,null,null,{"$f":"IFERROR(INDEX(Kalkulacja!Q:Q,Q424),0)","v":"x"},0]
[null,null,null,{"$f":"IFERROR(IF(N425>0,\"SUGEROWANE\",IF((INDEX(Kalkulacja!B:B,MATCH(G425,Kalkulacja!H:H,0)))=\"x\",\"USŁUGA\",\"\")),\"\")","v":""},"i",null,{"$f":"Kalkulacja!H372","v":"Możliwość włączania i wyłączania produktów"},null,null,0,{"$f":"IFERROR(IF(Kalkulacja!$F$2=\"x\",INDEX(Kalkulacja!$R$1:$R$459,Q425),\"\"),\"\")","v":""},null,0,{"$f":"IFERROR(INDEX('Podświetlanie modułów'!H:H,MATCH(G425,'Podświetlanie modułów'!F:F,0)),0)","v":0},{"$f":"IF(M425*1>0,\"x\",IF(INDEX(Kalkulacja!A:A,Q425)=\"x\",\"x\",0))","v":"x"},"TRUE",{"$f":"MATCH(G425,Kalkulacja!$H$1:$H$459,0)","v":372},null,null,0,null,0,null,null,null,null,"Możliwość włączania i wyłączania produktów",null,null,null,null,{"$f":"IFERROR(INDEX(Kalkulacja!Q:Q,Q425),0)","v":"x"},0]
[null,null,null,{"$f":"IFERROR(IF(N426>0,\"SUGEROWANE\",IF((INDEX(Kalkulacja!B:B,MATCH(G426,Kalkulacja!H:H,0)))=\"x\",\"USŁUGA\",\"\")),\"\")","v":""},"i",null,{"$f":"Kalkulacja!H373","v":"Ustawianie promocji, nowości, bestsellerów"},null,null,0,{"$f":"IFERROR(IF(Kalkulacja!$F$2=\"x\",INDEX(Kalkulacja!$R$1:$R$459,Q426),\"\"),\"\")","v":""},null,0,{"$f":"IFERROR(INDEX('Podświetlanie modułów'!H:H,MATCH(G426,'Podświetlanie modułów'!F:F,0)),0)","v":0},{"$f":"IF(M426*1>0,\"x\",IF(INDEX(Kalkulacja!A:A,Q426)=\"x\",\"x\",0))","v":"x"},"TRUE",{"$f":"MATCH(G426,Kalkulacja!$H$1:$H$459,0)","v":373},null,null,0,null,0,null,null,null,null,"Ustawianie promocji, nowości, bestsellerów",null,null,null,null,{"$f":"IFERROR(INDEX(Kalkulacja!Q:Q,Q426),0)","v":"x"},0]
[null,null,null,{"$f":"IFERROR(IF(N427>0,\"SUGEROWANE\",IF((INDEX(Kalkulacja!B:B,MATCH(G427,Kalkulacja!H:H,0)))=\"x\",\"USŁUGA\",\"\")),\"\")","v":""},"i",null,{"$f":"Kalkulacja!H374","v":"Możliwość tagowania produktów"},null,null,0,{"$f":"IFERROR(IF(Kalkulacja!$F$2=\"x\",INDEX(Kalkulacja!$R$1:$R$459,Q427),\"\"),\"\")","v":""},null,0,{"$f":"IFERROR(INDEX('Podświetlanie modułów'!H:H,MATCH(G427,'Podświetlanie modułów'!F:F,0)),0)","v":0},{"$f":"IF(M427*1>0,\"x\",IF(INDEX(Kalkulacja!A:A,Q427)=\"x\",\"x\",0))","v":"x"},"TRUE",{"$f":"MATCH(G427,Kalkulacja!$H$1:$H$459,0)","v":374},null,null,0,null,0,null,null,null,null,"Możliwość tagowania produktów",null,null,null,null,{"$f":"IFERROR(INDEX(Kalkulacja!Q:Q,Q427),0)","v":"x"},0]
[null,null,null,{"$f":"IFERROR(IF(N428>0,\"SUGEROWANE\",IF((INDEX(Kalkulacja!B:B,MATCH(G428,Kalkulacja!H:H,0)))=\"x\",\"USŁUGA\",\"\")),\"\")","v":""},"i",null,{"$f":"Kalkulacja!H375","v":"Produkty grupowe"},null,null,0,{"$f":"IFERROR(IF(Kalkulacja!$F$2=\"x\",INDEX(Kalkulacja!$R$1:$R$459,Q428),\"\"),\"\")","v":""},null,0,{"$f":"IFERROR(INDEX('Podświetlanie modułów'!H:H,MATCH(G428,'Podświetlanie modułów'!F:F,0)),0)","v":0},{"$f":"IF(M428*1>0,\"x\",IF(INDEX(Kalkulacja!A:A,Q428)=\"x\",\"x\",0))","v":"x"},"TRUE",{"$f":"MATCH(G428,Kalkulacja!$H$1:$H$459,0)","v":375},null,null,0,null,0,null,null,null,null,"Produkty grupowe",null,null,null,null,{"$f":"IFERROR(INDEX(Kalkulacja!Q:Q,Q428),0)","v":"x"},0]
[null,null,null,{"$f":"IFERROR(IF(N429>0,\"SUGEROWANE\",IF((INDEX(Kalkulacja!B:B,MATCH(G429,Kalkulacja!H:H,0)))=\"x\",\"USŁUGA\",\"\")),\"\")","v":""},"i",null,{"$f":"Kalkulacja!H376","v":"Produkty wirtualne np. ebook"},null,null,0,{"$f":"IFERROR(IF(Kalkulacja!$F$2=\"x\",INDEX(Kalkulacja!$R$1:$R$459,Q429),\"\"),\"\")","v":""},null,0,{"$f":"IFERROR(INDEX('Podświetlanie modułów'!H:H,MATCH(G429,'Podświetlanie modułów'!F:F,0)),0)","v":0},{"$f":"IF(M429*1>0,\"x\",IF(INDEX(Kalkulacja!A:A,Q429)=\"x\",\"x\",0))","v":"x"},"TRUE",{"$f":"MATCH(G429,Kalkulacja!$H$1:$H$459,0)","v":376},null,null,0,null,0,null,null,null,null,"Produkty wirtualne np. ebook",null,null,null,null,{"$f":"IFERROR(INDEX(Kalkulacja!Q:Q,Q429),0)","v":"x"},0]
[null,null,null,{"$f":"IFERROR(IF(N430>0,\"SUGEROWANE\",IF((INDEX(Kalkulacja!B:B,MATCH(G430,Kalkulacja!H:H,0)))=\"x\",\"USŁUGA\",\"\")),\"\")","v":""},"i",null,{"$f":"Kalkulacja!H377","v":"Buttony dla wyboru wariantu"},null,null,0,{"$f":"IFERROR(IF(Kalkulacja!$F$2=\"x\",INDEX(Kalkulacja!$R$1:$R$459,Q430),\"\"),\"\")","v":""},null,0,{"$f":"IFERROR(INDEX('Podświetlanie modułów'!H:H,MATCH(G430,'Podświetlanie modułów'!F:F,0)),0)","v":0},{"$f":"IF(M430*1>0,\"x\",IF(INDEX(Kalkulacja!A:A,Q430)=\"x\",\"x\",0))","v":"x"},"TRUE",{"$f":"MATCH(G430,Kalkulacja!$H$1:$H$459,0)","v":377},null,null,0,null,0,null,null,null,null,"Buttony dla wyboru wariantu",null,null,null,null,{"$f":"IFERROR(INDEX(Kalkulacja!Q:Q,Q430),0)","v":"x"},0]
[null,null,null,{"$f":"IFERROR(IF(N431>0,\"SUGEROWANE\",IF((INDEX(Kalkulacja!B:B,MATCH(G431,Kalkulacja!H:H,0)))=\"x\",\"USŁUGA\",\"\")),\"\")","v":""},"i",null,{"$f":"Kalkulacja!H378","v":"Dodatkowy moduł 89"},null,null,0,{"$f":"IFERROR(IF(Kalkulacja!$F$2=\"x\",INDEX(Kalkulacja!$R$1:$R$459,Q431),\"\"),\"\")","v":""},null,0,{"$f":"IFERROR(INDEX('Podświetlanie modułów'!H:H,MATCH(G431,'Podświetlanie modułów'!F:F,0)),0)","v":0},{"$f":"IF(M431*1>0,\"x\",IF(INDEX(Kalkulacja!A:A,Q431)=\"x\",\"x\",0))","v":0},"FALSE",{"$f":"MATCH(G431,Kalkulacja!$H$1:$H$459,0)","v":378},null,null,0,null,0,null,null,null,null,"Dodatkowy moduł 89",null,null,null,null,{"$f":"IFERROR(INDEX(Kalkulacja!Q:Q,Q431),0)","v":0},0]
[null,null,null,{"$f":"IFERROR(IF(N432>0,\"SUGEROWANE\",IF((INDEX(Kalkulacja!B:B,MATCH(G432,Kalkulacja!H:H,0)))=\"x\",\"USŁUGA\",\"\")),\"\")","v":""},"i",null,{"$f":"Kalkulacja!H379","v":"Dodatkowy moduł 90"},null,null,0,{"$f":"IFERROR(IF(Kalkulacja!$F$2=\"x\",INDEX(Kalkulacja!$R$1:$R$459,Q432),\"\"),\"\")","v":""},null,{"$f":"S432","v":0},{"$f":"IFERROR(INDEX('Podświetlanie modułów'!H:H,MATCH(G432,'Podświetlanie modułów'!F:F,0)),0)","v":0},{"$f":"IF(M432*1>0,\"x\",IF(INDEX(Kalkulacja!A:A,Q432)=\"x\",\"x\",0))","v":0},{"$f":"IF(O432=\"x\",\"TRUE\",\"FALSE\")","v":"FALSE"},{"$f":"MATCH(G432,Kalkulacja!$H$1:$H$459,0)","v":379},null,null,0,null,0,null,null,null,null,"Dodatkowy moduł 90",null,null,null,null,{"$f":"IFERROR(INDEX(Kalkulacja!Q:Q,Q432),0)","v":0},0]
[null,null,null,{"$f":"IFERROR(IF(N433>0,\"SUGEROWANE\",IF((INDEX(Kalkulacja!B:B,MATCH(G433,Kalkulacja!H:H,0)))=\"x\",\"USŁUGA\",\"\")),\"\")","v":""},"i",null,{"$f":"Kalkulacja!H380","v":"Dodatkowy moduł 91"},null,null,0,{"$f":"IFERROR(IF(Kalkulacja!$F$2=\"x\",INDEX(Kalkulacja!$R$1:$R$459,Q433),\"\"),\"\")","v":""},null,0,{"$f":"IFERROR(INDEX('Podświetlanie modułów'!H:H,MATCH(G433,'Podświetlanie modułów'!F:F,0)),0)","v":0},{"$f":"IF(M433*1>0,\"x\",IF(INDEX(Kalkulacja!A:A,Q433)=\"x\",\"x\",0))","v":0},"FALSE",{"$f":"MATCH(G433,Kalkulacja!$H$1:$H$459,0)","v":380},null,null,0,null,0,null,null,null,null,"Dodatkowy moduł 91",null,null,null,null,{"$f":"IFERROR(INDEX(Kalkulacja!Q:Q,Q433),0)","v":0},0]
[null,null,null,{"$f":"IFERROR(IF(N434>0,\"SUGEROWANE\",IF((INDEX(Kalkulacja!B:B,MATCH(G434,Kalkulacja!H:H,0)))=\"x\",\"USŁUGA\",\"\")),\"\")","v":""},"i",null,{"$f":"Kalkulacja!H381","v":"Dodatkowy moduł 92"},null,null,0,{"$f":"IFERROR(IF(Kalkulacja!$F$2=\"x\",INDEX(Kalkulacja!$R$1:$R$459,Q434),\"\"),\"\")","v":""},null,0,{"$f":"IFERROR(INDEX('Podświetlanie modułów'!H:H,MATCH(G434,'Podświetlanie modułów'!F:F,0)),0)","v":0},{"$f":"IF(M434*1>0,\"x\",IF(INDEX(Kalkulacja!A:A,Q434)=\"x\",\"x\",0))","v":0},"FALSE",{"$f":"MATCH(G434,Kalkulacja!$H$1:$H$459,0)","v":381},null,null,0,null,0,null,null,null,null,"Dodatkowy moduł 92",null,null,null,null,{"$f":"IFERROR(INDEX(Kalkulacja!Q:Q,Q434),0)","v":0},0]
[null,null,null,{"$f":"IFERROR(IF(N435>0,\"SUGEROWANE\",IF((INDEX(Kalkulacja!B:B,MATCH(G435,Kalkulacja!H:H,0)))=\"x\",\"USŁUGA\",\"\")),\"\")","v":""},{"$f":"Kalkulacja!H382","v":"Użytkowanie"},null,null,null,null,null,null,null,null,{"$f":"IFERROR(INDEX('Podświetlanie modułów'!H:H,MATCH(G435,'Podświetlanie modułów'!F:F,0)),0)","v":0},{"$f":"IF(COUNTIF(O436:O449,\"x\")>0,\"x\",0)","v":"x"},"TRUE",{"$f":"MATCH(E435,Kalkulacja!$H$1:$H$459,0)","v":382},null,null,0,null,0,null,null,null,null,0,null,null,null,null,{"$f":"IFERROR(INDEX(Kalkulacja!Q:Q,Q435),0)","v":0},0]
[null,null,null,{"$f":"IFERROR(IF(N436>0,\"SUGEROWANE\",IF((INDEX(Kalkulacja!B:B,MATCH(G436,Kalkulacja!H:H,0)))=\"x\",\"USŁUGA\",\"\")),\"\")","v":""},"i",null,{"$f":"Kalkulacja!H383","v":"Ulubione produkty (zapamiętywanie)"},null,null,0,{"$f":"IFERROR(IF(Kalkulacja!$F$2=\"x\",INDEX(Kalkulacja!$R$1:$R$459,Q436),\"\"),\"\")","v":""},null,false,{"$f":"IFERROR(INDEX('Podświetlanie modułów'!H:H,MATCH(G436,'Podświetlanie modułów'!F:F,0)),0)","v":0},{"$f":"IF(M436*1>0,\"x\",IF(INDEX(Kalkulacja!A:A,Q436)=\"x\",\"x\",0))","v":"x"},"TRUE",{"$f":"MATCH(G436,Kalkulacja!$H$1:$H$459,0)","v":383},null,null,0,null,0,null,null,null,null,"Ulubione produkty (zapamiętywanie)",null,null,null,null,{"$f":"IFERROR(INDEX(Kalkulacja!Q:Q,Q436),0)","v":"x"},0]
[null,null,null,{"$f":"IFERROR(IF(N437>0,\"SUGEROWANE\",IF((INDEX(Kalkulacja!B:B,MATCH(G437,Kalkulacja!H:H,0)))=\"x\",\"USŁUGA\",\"\")),\"\")","v":""},"i",null,{"$f":"Kalkulacja!H384","v":"Logowanie przez Facebook lub Google"},null,null,0,{"$f":"IFERROR(IF(Kalkulacja!$F$2=\"x\",INDEX(Kalkulacja!$R$1:$R$459,Q437),\"\"),\"\")","v":""},null,0,{"$f":"IFERROR(INDEX('Podświetlanie modułów'!H:H,MATCH(G437,'Podświetlanie modułów'!F:F,0)),0)","v":0},{"$f":"IF(M437*1>0,\"x\",IF(INDEX(Kalkulacja!A:A,Q437)=\"x\",\"x\",0))","v":"x"},"TRUE",{"$f":"MATCH(G437,Kalkulacja!$H$1:$H$459,0)","v":384},null,null,0,null,0,null,null,null,null,"Logowanie przez Facebook lub Google",null,null,null,null,{"$f":"IFERROR(INDEX(Kalkulacja!Q:Q,Q437),0)","v":0},0]
[null,null,null,{"$f":"IFERROR(IF(N438>0,\"SUGEROWANE\",IF((INDEX(Kalkulacja!B:B,MATCH(G438,Kalkulacja!H:H,0)))=\"x\",\"USŁUGA\",\"\")),\"\")","v":""},"i",null,{"$f":"Kalkulacja!H385","v":"Wyszukiwarka podstawowa"},null,null,0,{"$f":"IFERROR(IF(Kalkulacja!$F$2=\"x\",INDEX(Kalkulacja!$R$1:$R$459,Q438),\"\"),\"\")","v":""},null,false,{"$f":"IFERROR(INDEX('Podświetlanie modułów'!H:H,MATCH(G438,'Podświetlanie modułów'!F:F,0)),0)","v":0},{"$f":"IF(M438*1>0,\"x\",IF(INDEX(Kalkulacja!A:A,Q438)=\"x\",\"x\",0))","v":"x"},"TRUE",{"$f":"MATCH(G438,Kalkulacja!$H$1:$H$459,0)","v":385},null,null,0,null,0,null,null,null,null,"Wyszukiwarka podstawowa",null,null,null,null,{"$f":"IFERROR(INDEX(Kalkulacja!Q:Q,Q438),0)","v":0},0]
[null,null,null,{"$f":"IFERROR(IF(N439>0,\"SUGEROWANE\",IF((INDEX(Kalkulacja!B:B,MATCH(G439,Kalkulacja!H:H,0)))=\"x\",\"USŁUGA\",\"\")),\"\")","v":""},"i",null,{"$f":"Kalkulacja!H386","v":"Wyszukiwarka z sugestiami"},null,null,0,{"$f":"IFERROR(IF(Kalkulacja!$F$2=\"x\",INDEX(Kalkulacja!$R$1:$R$459,Q439),\"\"),\"\")","v":""},null,0,{"$f":"IFERROR(INDEX('Podświetlanie modułów'!H:H,MATCH(G439,'Podświetlanie modułów'!F:F,0)),0)","v":0},{"$f":"IF(M439*1>0,\"x\",IF(INDEX(Kalkulacja!A:A,Q439)=\"x\",\"x\",0))","v":"x"},"TRUE",{"$f":"MATCH(G439,Kalkulacja!$H$1:$H$459,0)","v":386},null,null,0,null,0,null,null,null,null,"Wyszukiwarka z sugestiami",null,null,null,null,{"$f":"IFERROR(INDEX(Kalkulacja!Q:Q,Q439),0)","v":0},0]
[null,null,null,{"$f":"IFERROR(IF(N440>0,\"SUGEROWANE\",IF((INDEX(Kalkulacja!B:B,MATCH(G440,Kalkulacja!H:H,0)))=\"x\",\"USŁUGA\",\"\")),\"\")","v":""},"i",null,{"$f":"Kalkulacja!H387","v":"Konfiguracja filtrów"},null,null,0,{"$f":"IFERROR(IF(Kalkulacja!$F$2=\"x\",INDEX(Kalkulacja!$R$1:$R$459,Q440),\"\"),\"\")","v":""},null,false,{"$f":"IFERROR(INDEX('Podświetlanie modułów'!H:H,MATCH(G440,'Podświetlanie modułów'!F:F,0)),0)","v":0},{"$f":"IF(M440*1>0,\"x\",IF(INDEX(Kalkulacja!A:A,Q440)=\"x\",\"x\",0))","v":"x"},"TRUE",{"$f":"MATCH(G440,Kalkulacja!$H$1:$H$459,0)","v":387},null,null,0,null,0,null,null,null,null,"Konfiguracja filtrów",null,null,null,null,{"$f":"IFERROR(INDEX(Kalkulacja!Q:Q,Q440),0)","v":"x"},0]
[null,null,null,{"$f":"IFERROR(IF(N441>0,\"SUGEROWANE\",IF((INDEX(Kalkulacja!B:B,MATCH(G441,Kalkulacja!H:H,0)))=\"x\",\"USŁUGA\",\"\")),\"\")","v":""},"i",null,{"$f":"Kalkulacja!H388","v":"Opcja sortowania"},null,null,0,{"$f":"IFERROR(IF(Kalkulacja!$F$2=\"x\",INDEX(Kalkulacja!$R$1:$R$459,Q441),\"\"),\"\")","v":""},null,0,{"$f":"IFERROR(INDEX('Podświetlanie modułów'!H:H,MATCH(G441,'Podświetlanie modułów'!F:F,0)),0)","v":0},{"$f":"IF(M441*1>0,\"x\",IF(INDEX(Kalkulacja!A:A,Q441)=\"x\",\"x\",0))","v":"x"},"TRUE",{"$f":"MATCH(G441,Kalkulacja!$H$1:$H$459,0)","v":388},null,null,0,null,0,null,null,null,null,"Opcja sortowania",null,null,null,null,{"$f":"IFERROR(INDEX(Kalkulacja!Q:Q,Q441),0)","v":"x"},0]
[null,null,null,{"$f":"IFERROR(IF(N442>0,\"SUGEROWANE\",IF((INDEX(Kalkulacja!B:B,MATCH(G442,Kalkulacja!H:H,0)))=\"x\",\"USŁUGA\",\"\")),\"\")","v":""},"i",null,{"$f":"Kalkulacja!H389","v":"Opinie i recenzje produktów"},null,null,0,{"$f":"IFERROR(IF(Kalkulacja!$F$2=\"x\",INDEX(Kalkulacja!$R$1:$R$459,Q442),\"\"),\"\")","v":""},null,0,{"$f":"IFERROR(INDEX('Podświetlanie modułów'!H:H,MATCH(G442,'Podświetlanie modułów'!F:F,0)),0)","v":0},{"$f":"IF(M442*1>0,\"x\",IF(INDEX(Kalkulacja!A:A,Q442)=\"x\",\"x\",0))","v":"x"},"TRUE",{"$f":"MATCH(G442,Kalkulacja!$H$1:$H$459,0)","v":389},null,null,0,null,0,null,null,null,null,"Opinie i recenzje produktów",null,null,null,null,{"$f":"IFERROR(INDEX(Kalkulacja!Q:Q,Q442),0)","v":"x"},0]
[null,null,null,{"$f":"IFERROR(IF(N443>0,\"SUGEROWANE\",IF((INDEX(Kalkulacja!B:B,MATCH(G443,Kalkulacja!H:H,0)))=\"x\",\"USŁUGA\",\"\")),\"\")","v":""},"i",null,{"$f":"Kalkulacja!H390","v":"Przełączanie widoku listy"},null,null,0,{"$f":"IFERROR(IF(Kalkulacja!$F$2=\"x\",INDEX(Kalkulacja!$R$1:$R$459,Q443),\"\"),\"\")","v":""},null,0,{"$f":"IFERROR(INDEX('Podświetlanie modułów'!H:H,MATCH(G443,'Podświetlanie modułów'!F:F,0)),0)","v":0},{"$f":"IF(M443*1>0,\"x\",IF(INDEX(Kalkulacja!A:A,Q443)=\"x\",\"x\",0))","v":"x"},"TRUE",{"$f":"MATCH(G443,Kalkulacja!$H$1:$H$459,0)","v":390},null,null,0,null,0,null,null,null,null,"Przełączanie widoku listy",null,null,null,null,{"$f":"IFERROR(INDEX(Kalkulacja!Q:Q,Q443),0)","v":"x"},0]
[null,null,null,{"$f":"IFERROR(IF(N444>0,\"SUGEROWANE\",IF((INDEX(Kalkulacja!B:B,MATCH(G444,Kalkulacja!H:H,0)))=\"x\",\"USŁUGA\",\"\")),\"\")","v":""},"i",null,{"$f":"Kalkulacja!H391","v":"Uprawnienia (administrator, kierownik sklepu, redaktor)"},null,null,0,{"$f":"IFERROR(IF(Kalkulacja!$F$2=\"x\",INDEX(Kalkulacja!$R$1:$R$459,Q444),\"\"),\"\")","v":""},null,0,{"$f":"IFERROR(INDEX('Podświetlanie modułów'!H:H,MATCH(G444,'Podświetlanie modułów'!F:F,0)),0)","v":0},{"$f":"IF(M444*1>0,\"x\",IF(INDEX(Kalkulacja!A:A,Q444)=\"x\",\"x\",0))","v":"x"},"TRUE",{"$f":"MATCH(G444,Kalkulacja!$H$1:$H$459,0)","v":391},null,null,0,null,0,null,null,null,null,"Uprawnienia (administrator, kierownik sklepu, redaktor)",null,null,null,null,{"$f":"IFERROR(INDEX(Kalkulacja!Q:Q,Q444),0)","v":"x"},0]
[null,null,null,{"$f":"IFERROR(IF(N445>0,\"SUGEROWANE\",IF((INDEX(Kalkulacja!B:B,MATCH(G445,Kalkulacja!H:H,0)))=\"x\",\"USŁUGA\",\"\")),\"\")","v":""},"i",null,{"$f":"Kalkulacja!H392","v":"Dodatkowy moduł 93"},null,null,0,{"$f":"IFERROR(IF(Kalkulacja!$F$2=\"x\",INDEX(Kalkulacja!$R$1:$R$459,Q445),\"\"),\"\")","v":""},null,0,{"$f":"IFERROR(INDEX('Podświetlanie modułów'!H:H,MATCH(G445,'Podświetlanie modułów'!F:F,0)),0)","v":0},{"$f":"IF(M445*1>0,\"x\",IF(INDEX(Kalkulacja!A:A,Q445)=\"x\",\"x\",0))","v":0},"FALSE",{"$f":"MATCH(G445,Kalkulacja!$H$1:$H$459,0)","v":392},null,null,0,null,0,null,null,null,null,"Dodatkowy moduł 93",null,null,null,null,{"$f":"IFERROR(INDEX(Kalkulacja!Q:Q,Q445),0)","v":0},0]
[null,null,null,{"$f":"IFERROR(IF(N446>0,\"SUGEROWANE\",IF((INDEX(Kalkulacja!B:B,MATCH(G446,Kalkulacja!H:H,0)))=\"x\",\"USŁUGA\",\"\")),\"\")","v":""},"i",null,{"$f":"Kalkulacja!H393","v":"Dodatkowy moduł 94"},null,null,0,{"$f":"IFERROR(IF(Kalkulacja!$F$2=\"x\",INDEX(Kalkulacja!$R$1:$R$459,Q446),\"\"),\"\")","v":""},null,0,{"$f":"IFERROR(INDEX('Podświetlanie modułów'!H:H,MATCH(G446,'Podświetlanie modułów'!F:F,0)),0)","v":0},{"$f":"IF(M446*1>0,\"x\",IF(INDEX(Kalkulacja!A:A,Q446)=\"x\",\"x\",0))","v":0},"FALSE",{"$f":"MATCH(G446,Kalkulacja!$H$1:$H$459,0)","v":393},null,null,0,null,0,null,null,null,null,"Dodatkowy moduł 94",null,null,null,null,{"$f":"IFERROR(INDEX(Kalkulacja!Q:Q,Q446),0)","v":0},0]
[null,null,null,{"$f":"IFERROR(IF(N447>0,\"SUGEROWANE\",IF((INDEX(Kalkulacja!B:B,MATCH(G447,Kalkulacja!H:H,0)))=\"x\",\"USŁUGA\",\"\")),\"\")","v":""},"i",null,{"$f":"Kalkulacja!H394","v":"Dodatkowy moduł 95"},null,null,0,{"$f":"IFERROR(IF(Kalkulacja!$F$2=\"x\",INDEX(Kalkulacja!$R$1:$R$459,Q447),\"\"),\"\")","v":""},null,0,{"$f":"IFERROR(INDEX('Podświetlanie modułów'!H:H,MATCH(G447,'Podświetlanie modułów'!F:F,0)),0)","v":0},{"$f":"IF(M447*1>0,\"x\",IF(INDEX(Kalkulacja!A:A,Q447)=\"x\",\"x\",0))","v":0},"FALSE",{"$f":"MATCH(G447,Kalkulacja!$H$1:$H$459,0)","v":394},null,null,0,null,0,null,null,null,null,"Dodatkowy moduł 95",null,null,null,null,{"$f":"IFERROR(INDEX(Kalkulacja!Q:Q,Q447),0)","v":0},0]
[null,null,null,{"$f":"IFERROR(IF(N448>0,\"SUGEROWANE\",IF((INDEX(Kalkulacja!B:B,MATCH(G448,Kalkulacja!H:H,0)))=\"x\",\"USŁUGA\",\"\")),\"\")","v":""},"i",null,{"$f":"Kalkulacja!H395","v":"Dodatkowy moduł 96"},null,null,0,{"$f":"IFERROR(IF(Kalkulacja!$F$2=\"x\",INDEX(Kalkulacja!$R$1:$R$459,Q448),\"\"),\"\")","v":""},null,0,{"$f":"IFERROR(INDEX('Podświetlanie modułów'!H:H,MATCH(G448,'Podświetlanie modułów'!F:F,0)),0)","v":0},{"$f":"IF(M448*1>0,\"x\",IF(INDEX(Kalkulacja!A:A,Q448)=\"x\",\"x\",0))","v":0},"FALSE",{"$f":"MATCH(G448,Kalkulacja!$H$1:$H$459,0)","v":395},null,null,0,null,0,null,null,null,null,"Dodatkowy moduł 96",null,null,null,null,{"$f":"IFERROR(INDEX(Kalkulacja!Q:Q,Q448),0)","v":0},0]
[null,null,null,{"$f":"IFERROR(IF(N449>0,\"SUGEROWANE\",IF((INDEX(Kalkulacja!B:B,MATCH(G449,Kalkulacja!H:H,0)))=\"x\",\"USŁUGA\",\"\")),\"\")","v":""},"i",null,{"$f":"Kalkulacja!H396","v":"Dodatkowy moduł 97"},null,null,0,{"$f":"IFERROR(IF(Kalkulacja!$F$2=\"x\",INDEX(Kalkulacja!$R$1:$R$459,Q449),\"\"),\"\")","v":""},null,0,{"$f":"IFERROR(INDEX('Podświetlanie modułów'!H:H,MATCH(G449,'Podświetlanie modułów'!F:F,0)),0)","v":0},{"$f":"IF(M449*1>0,\"x\",IF(INDEX(Kalkulacja!A:A,Q449)=\"x\",\"x\",0))","v":0},"FALSE",{"$f":"MATCH(G449,Kalkulacja!$H$1:$H$459,0)","v":396},null,null,0,null,0,null,null,null,null,"Dodatkowy moduł 97",null,null,null,null,{"$f":"IFERROR(INDEX(Kalkulacja!Q:Q,Q449),0)","v":0},0]
[null,null,null,{"$f":"IFERROR(IF(N450>0,\"SUGEROWANE\",IF((INDEX(Kalkulacja!B:B,MATCH(G450,Kalkulacja!H:H,0)))=\"x\",\"USŁUGA\",\"\")),\"\")","v":""},{"$f":"Kalkulacja!H397","v":"Zamówienia"},null,null,null,null,null,null,null,null,{"$f":"IFERROR(INDEX('Podświetlanie modułów'!H:H,MATCH(G450,'Podświetlanie modułów'!F:F,0)),0)","v":0},{"$f":"IF(COUNTIF(O451:O460,\"x\")>0,\"x\",0)","v":"x"},"TRUE",{"$f":"MATCH(E450,Kalkulacja!$H$1:$H$459,0)","v":397},null,null,0,null,0,null,null,null,null,0,null,null,null,null,{"$f":"IFERROR(INDEX(Kalkulacja!Q:Q,Q450),0)","v":0},0]
[null,null,null,{"$f":"IFERROR(IF(N451>0,\"SUGEROWANE\",IF((INDEX(Kalkulacja!B:B,MATCH(G451,Kalkulacja!H:H,0)))=\"x\",\"USŁUGA\",\"\")),\"\")","v":""},"i",null,{"$f":"Kalkulacja!H398","v":"Panel zamówień"},null,null,0,{"$f":"IFERROR(IF(Kalkulacja!$F$2=\"x\",INDEX(Kalkulacja!$R$1:$R$459,Q451),\"\"),\"\")","v":""},null,0,{"$f":"IFERROR(INDEX('Podświetlanie modułów'!H:H,MATCH(G451,'Podświetlanie modułów'!F:F,0)),0)","v":0},{"$f":"IF(M451*1>0,\"x\",IF(INDEX(Kalkulacja!A:A,Q451)=\"x\",\"x\",0))","v":"x"},"TRUE",{"$f":"MATCH(G451,Kalkulacja!$H$1:$H$459,0)","v":398},null,null,0,null,0,null,null,null,null,"Panel zamówień",null,null,null,null,{"$f":"IFERROR(INDEX(Kalkulacja!Q:Q,Q451),0)","v":"x"},0]
[null,null,null,{"$f":"IFERROR(IF(N452>0,\"SUGEROWANE\",IF((INDEX(Kalkulacja!B:B,MATCH(G452,Kalkulacja!H:H,0)))=\"x\",\"USŁUGA\",\"\")),\"\")","v":""},"i",null,{"$f":"Kalkulacja!H399","v":"Automatyczne generowanie powiadomień mailowych o zmianie statusu realizacji"},null,null,0,{"$f":"IFERROR(IF(Kalkulacja!$F$2=\"x\",INDEX(Kalkulacja!$R$1:$R$459,Q452),\"\"),\"\")","v":""},null,false,{"$f":"IFERROR(INDEX('Podświetlanie modułów'!H:H,MATCH(G452,'Podświetlanie modułów'!F:F,0)),0)","v":0},{"$f":"IF(M452*1>0,\"x\",IF(INDEX(Kalkulacja!A:A,Q452)=\"x\",\"x\",0))","v":"x"},"TRUE",{"$f":"MATCH(G452,Kalkulacja!$H$1:$H$459,0)","v":399},null,null,0,null,0,null,null,null,null,"Automatyczne generowanie powiadomień mailowych o zmianie statusu realizacji",null,null,null,null,{"$f":"IFERROR(INDEX(Kalkulacja!Q:Q,Q452),0)","v":"x"},0]
[null,null,null,{"$f":"IFERROR(IF(N453>0,\"SUGEROWANE\",IF((INDEX(Kalkulacja!B:B,MATCH(G453,Kalkulacja!H:H,0)))=\"x\",\"USŁUGA\",\"\")),\"\")","v":""},"i",null,{"$f":"Kalkulacja!H400","v":"Możliwość składania zamówień gościnnych lub jako zarejestrowany"},null,null,0,{"$f":"IFERROR(IF(Kalkulacja!$F$2=\"x\",INDEX(Kalkulacja!$R$1:$R$459,Q453),\"\"),\"\")","v":""},null,false,{"$f":"IFERROR(INDEX('Podświetlanie modułów'!H:H,MATCH(G453,'Podświetlanie modułów'!F:F,0)),0)","v":0},{"$f":"IF(M453*1>0,\"x\",IF(INDEX(Kalkulacja!A:A,Q453)=\"x\",\"x\",0))","v":"x"},"TRUE",{"$f":"MATCH(G453,Kalkulacja!$H$1:$H$459,0)","v":400},null,null,0,null,0,null,null,null,null,"Możliwość składania zamówień gościnnych lub jako zarejestrowany",null,null,null,null,{"$f":"IFERROR(INDEX(Kalkulacja!Q:Q,Q453),0)","v":"x"},0]
[null,null,null,{"$f":"IFERROR(IF(N454>0,\"SUGEROWANE\",IF((INDEX(Kalkulacja!B:B,MATCH(G454,Kalkulacja!H:H,0)))=\"x\",\"USŁUGA\",\"\")),\"\")","v":""},"i",null,{"$f":"Kalkulacja!H401","v":"Statystyki sprzedaży"},null,null,0,{"$f":"IFERROR(IF(Kalkulacja!$F$2=\"x\",INDEX(Kalkulacja!$R$1:$R$459,Q454),\"\"),\"\")","v":""},null,0,{"$f":"IFERROR(INDEX('Podświetlanie modułów'!H:H,MATCH(G454,'Podświetlanie modułów'!F:F,0)),0)","v":0},{"$f":"IF(M454*1>0,\"x\",IF(INDEX(Kalkulacja!A:A,Q454)=\"x\",\"x\",0))","v":"x"},"TRUE",{"$f":"MATCH(G454,Kalkulacja!$H$1:$H$459,0)","v":401},null,null,0,null,0,null,null,null,null,"Statystyki sprzedaży",null,null,null,null,{"$f":"IFERROR(INDEX(Kalkulacja!Q:Q,Q454),0)","v":"x"},0]
[null,null,null,{"$f":"IFERROR(IF(N455>0,\"SUGEROWANE\",IF((INDEX(Kalkulacja!B:B,MATCH(G455,Kalkulacja!H:H,0)))=\"x\",\"USŁUGA\",\"\")),\"\")","v":""},"i",null,{"$f":"Kalkulacja!H402","v":"Powiadomienia o niskim stanie magazynowym"},null,null,0,{"$f":"IFERROR(IF(Kalkulacja!$F$2=\"x\",INDEX(Kalkulacja!$R$1:$R$459,Q455),\"\"),\"\")","v":""},null,false,{"$f":"IFERROR(INDEX('Podświetlanie modułów'!H:H,MATCH(G455,'Podświetlanie modułów'!F:F,0)),0)","v":0},{"$f":"IF(M455*1>0,\"x\",IF(INDEX(Kalkulacja!A:A,Q455)=\"x\",\"x\",0))","v":"x"},"TRUE",{"$f":"MATCH(G455,Kalkulacja!$H$1:$H$459,0)","v":402},null,null,0,null,0,null,null,null,null,"Powiadomienia o niskim stanie magazynowym",null,null,null,null,{"$f":"IFERROR(INDEX(Kalkulacja!Q:Q,Q455),0)","v":"x"},0]
[null,null,null,{"$f":"IFERROR(IF(N456>0,\"SUGEROWANE\",IF((INDEX(Kalkulacja!B:B,MATCH(G456,Kalkulacja!H:H,0)))=\"x\",\"USŁUGA\",\"\")),\"\")","v":""},"i",null,{"$f":"Kalkulacja!H403","v":"Dodatkowy moduł 98"},null,null,0,{"$f":"IFERROR(IF(Kalkulacja!$F$2=\"x\",INDEX(Kalkulacja!$R$1:$R$459,Q456),\"\"),\"\")","v":""},null,0,{"$f":"IFERROR(INDEX('Podświetlanie modułów'!H:H,MATCH(G456,'Podświetlanie modułów'!F:F,0)),0)","v":0},{"$f":"IF(M456*1>0,\"x\",IF(INDEX(Kalkulacja!A:A,Q456)=\"x\",\"x\",0))","v":0},"FALSE",{"$f":"MATCH(G456,Kalkulacja!$H$1:$H$459,0)","v":403},null,null,0,null,0,null,null,null,null,"Dodatkowy moduł 98",null,null,null,null,{"$f":"IFERROR(INDEX(Kalkulacja!Q:Q,Q456),0)","v":0},0]
[null,null,null,{"$f":"IFERROR(IF(N457>0,\"SUGEROWANE\",IF((INDEX(Kalkulacja!B:B,MATCH(G457,Kalkulacja!H:H,0)))=\"x\",\"USŁUGA\",\"\")),\"\")","v":""},"i",null,{"$f":"Kalkulacja!H404","v":"Dodatkowy moduł 99"},null,null,0,{"$f":"IFERROR(IF(Kalkulacja!$F$2=\"x\",INDEX(Kalkulacja!$R$1:$R$459,Q457),\"\"),\"\")","v":""},null,0,{"$f":"IFERROR(INDEX('Podświetlanie modułów'!H:H,MATCH(G457,'Podświetlanie modułów'!F:F,0)),0)","v":0},{"$f":"IF(M457*1>0,\"x\",IF(INDEX(Kalkulacja!A:A,Q457)=\"x\",\"x\",0))","v":0},"FALSE",{"$f":"MATCH(G457,Kalkulacja!$H$1:$H$459,0)","v":404},null,null,0,null,0,null,null,null,null,"Dodatkowy moduł 99",null,null,null,null,{"$f":"IFERROR(INDEX(Kalkulacja!Q:Q,Q457),0)","v":0},0]
[null,null,null,{"$f":"IFERROR(IF(N458>0,\"SUGEROWANE\",IF((INDEX(Kalkulacja!B:B,MATCH(G458,Kalkulacja!H:H,0)))=\"x\",\"USŁUGA\",\"\")),\"\")","v":""},"i",null,{"$f":"Kalkulacja!H405","v":"Dodatkowy moduł 100"},null,null,0,{"$f":"IFERROR(IF(Kalkulacja!$F$2=\"x\",INDEX(Kalkulacja!$R$1:$R$459,Q458),\"\"),\"\")","v":""},null,0,{"$f":"IFERROR(INDEX('Podświetlanie modułów'!H:H,MATCH(G458,'Podświetlanie modułów'!F:F,0)),0)","v":0},{"$f":"IF(M458*1>0,\"x\",IF(INDEX(Kalkulacja!A:A,Q458)=\"x\",\"x\",0))","v":0},"FALSE",{"$f":"MATCH(G458,Kalkulacja!$H$1:$H$459,0)","v":405},null,null,0,null,0,null,null,null,null,"Dodatkowy moduł 100",null,null,null,null,{"$f":"IFERROR(INDEX(Kalkulacja!Q:Q,Q458),0)","v":0},0]
[null,null,null,{"$f":"IFERROR(IF(N459>0,\"SUGEROWANE\",IF((INDEX(Kalkulacja!B:B,MATCH(G459,Kalkulacja!H:H,0)))=\"x\",\"USŁUGA\",\"\")),\"\")","v":""},"i",null,{"$f":"Kalkulacja!H406","v":"Dodatkowy moduł 101"},null,null,0,{"$f":"IFERROR(IF(Kalkulacja!$F$2=\"x\",INDEX(Kalkulacja!$R$1:$R$459,Q459),\"\"),\"\")","v":""},null,0,{"$f":"IFERROR(INDEX('Podświetlanie modułów'!H:H,MATCH(G459,'Podświetlanie modułów'!F:F,0)),0)","v":0},{"$f":"IF(M459*1>0,\"x\",IF(INDEX(Kalkulacja!A:A,Q459)=\"x\",\"x\",0))","v":0},"FALSE",{"$f":"MATCH(G459,Kalkulacja!$H$1:$H$459,0)","v":406},null,null,0,null,0,null,null,null,null,"Dodatkowy moduł 101",null,null,null,null,{"$f":"IFERROR(INDEX(Kalkulacja!Q:Q,Q459),0)","v":0},0]
[null,null,null,{"$f":"IFERROR(IF(N460>0,\"SUGEROWANE\",IF((INDEX(Kalkulacja!B:B,MATCH(G460,Kalkulacja!H:H,0)))=\"x\",\"USŁUGA\",\"\")),\"\")","v":""},"i",null,{"$f":"Kalkulacja!H407","v":"Dodatkowy moduł 102"},null,null,0,{"$f":"IFERROR(IF(Kalkulacja!$F$2=\"x\",INDEX(Kalkulacja!$R$1:$R$459,Q460),\"\"),\"\")","v":""},null,0,{"$f":"IFERROR(INDEX('Podświetlanie modułów'!H:H,MATCH(G460,'Podświetlanie modułów'!F:F,0)),0)","v":0},{"$f":"IF(M460*1>0,\"x\",IF(INDEX(Kalkulacja!A:A,Q460)=\"x\",\"x\",0))","v":0},"FALSE",{"$f":"MATCH(G460,Kalkulacja!$H$1:$H$459,0)","v":407},null,null,0,null,0,null,null,null,null,"Dodatkowy moduł 102",null,null,null,null,{"$f":"IFERROR(INDEX(Kalkulacja!Q:Q,Q460),0)","v":0},0]
[null,null,null,{"$f":"IFERROR(IF(N461>0,\"SUGEROWANE\",IF((INDEX(Kalkulacja!B:B,MATCH(G461,Kalkulacja!H:H,0)))=\"x\",\"USŁUGA\",\"\")),\"\")","v":""},{"$f":"Kalkulacja!H408","v":"Płatności i podatki"},null,null,null,null,null,null,null,null,{"$f":"IFERROR(INDEX('Podświetlanie modułów'!H:H,MATCH(G461,'Podświetlanie modułów'!F:F,0)),0)","v":0},{"$f":"IF(COUNTIF(O462:O472,\"x\")>0,\"x\",0)","v":"x"},"TRUE",{"$f":"MATCH(E461,Kalkulacja!$H$1:$H$459,0)","v":408},null,null,0,null,0,null,null,null,null,0,null,null,null,null,{"$f":"IFERROR(INDEX(Kalkulacja!Q:Q,Q461),0)","v":0},0]
[null,null,null,{"$f":"IFERROR(IF(N462>0,\"SUGEROWANE\",IF((INDEX(Kalkulacja!B:B,MATCH(G462,Kalkulacja!H:H,0)))=\"x\",\"USŁUGA\",\"\")),\"\")","v":""},"i",null,{"$f":"Kalkulacja!H409","v":"Integracja z PayU"},null,null,0,{"$f":"IFERROR(IF(Kalkulacja!$F$2=\"x\",INDEX(Kalkulacja!$R$1:$R$459,Q462),\"\"),\"\")","v":""},null,false,{"$f":"IFERROR(INDEX('Podświetlanie modułów'!H:H,MATCH(G462,'Podświetlanie modułów'!F:F,0)),0)","v":0},{"$f":"IF(M462*1>0,\"x\",IF(INDEX(Kalkulacja!A:A,Q462)=\"x\",\"x\",0))","v":"x"},"TRUE",{"$f":"MATCH(G462,Kalkulacja!$H$1:$H$459,0)","v":409},null,null,0,null,0,null,null,null,null,"Integracja z PayU",null,null,null,null,{"$f":"IFERROR(INDEX(Kalkulacja!Q:Q,Q462),0)","v":0},0]
[null,null,null,{"$f":"IFERROR(IF(N463>0,\"SUGEROWANE\",IF((INDEX(Kalkulacja!B:B,MATCH(G463,Kalkulacja!H:H,0)))=\"x\",\"USŁUGA\",\"\")),\"\")","v":""},"i",null,{"$f":"Kalkulacja!H410","v":"Integracja z Przelewy24"},null,null,0,{"$f":"IFERROR(IF(Kalkulacja!$F$2=\"x\",INDEX(Kalkulacja!$R$1:$R$459,Q463),\"\"),\"\")","v":""},null,false,{"$f":"IFERROR(INDEX('Podświetlanie modułów'!H:H,MATCH(G463,'Podświetlanie modułów'!F:F,0)),0)","v":0},{"$f":"IF(M463*1>0,\"x\",IF(INDEX(Kalkulacja!A:A,Q463)=\"x\",\"x\",0))","v":"x"},"TRUE",{"$f":"MATCH(G463,Kalkulacja!$H$1:$H$459,0)","v":410},null,null,0,null,0,null,null,null,null,"Integracja z Przelewy24",null,null,null,null,{"$f":"IFERROR(INDEX(Kalkulacja!Q:Q,Q463),0)","v":"x"},0]
[null,null,null,{"$f":"IFERROR(IF(N464>0,\"SUGEROWANE\",IF((INDEX(Kalkulacja!B:B,MATCH(G464,Kalkulacja!H:H,0)))=\"x\",\"USŁUGA\",\"\")),\"\")","v":""},"i",null,{"$f":"Kalkulacja!H411","v":"Integracja z PayPal"},null,null,0,{"$f":"IFERROR(IF(Kalkulacja!$F$2=\"x\",INDEX(Kalkulacja!$R$1:$R$459,Q464),\"\"),\"\")","v":""},null,0,{"$f":"IFERROR(INDEX('Podświetlanie modułów'!H:H,MATCH(G464,'Podświetlanie modułów'!F:F,0)),0)","v":0},{"$f":"IF(M464*1>0,\"x\",IF(INDEX(Kalkulacja!A:A,Q464)=\"x\",\"x\",0))","v":"x"},"TRUE",{"$f":"MATCH(G464,Kalkulacja!$H$1:$H$459,0)","v":411},null,null,0,null,0,null,null,null,null,"Integracja z PayPal",null,null,null,null,{"$f":"IFERROR(INDEX(Kalkulacja!Q:Q,Q464),0)","v":"x"},0]
[null,null,null,{"$f":"IFERROR(IF(N465>0,\"SUGEROWANE\",IF((INDEX(Kalkulacja!B:B,MATCH(G465,Kalkulacja!H:H,0)))=\"x\",\"USŁUGA\",\"\")),\"\")","v":""},"i",null,{"$f":"Kalkulacja!H412","v":"Integracja z DotPay"},null,null,0,{"$f":"IFERROR(IF(Kalkulacja!$F$2=\"x\",INDEX(Kalkulacja!$R$1:$R$459,Q465),\"\"),\"\")","v":""},null,false,{"$f":"IFERROR(INDEX('Podświetlanie modułów'!H:H,MATCH(G465,'Podświetlanie modułów'!F:F,0)),0)","v":0},{"$f":"IF(M465*1>0,\"x\",IF(INDEX(Kalkulacja!A:A,Q465)=\"x\",\"x\",0))","v":"x"},"TRUE",{"$f":"MATCH(G465,Kalkulacja!$H$1:$H$459,0)","v":412},null,null,0,null,0,null,null,null,null,"Integracja z DotPay",null,null,null,null,{"$f":"IFERROR(INDEX(Kalkulacja!Q:Q,Q465),0)","v":0},0]
[null,null,null,{"$f":"IFERROR(IF(N466>0,\"SUGEROWANE\",IF((INDEX(Kalkulacja!B:B,MATCH(G466,Kalkulacja!H:H,0)))=\"x\",\"USŁUGA\",\"\")),\"\")","v":""},"i",null,{"$f":"Kalkulacja!H413","v":"Integracja z tPay"},null,null,0,{"$f":"IFERROR(IF(Kalkulacja!$F$2=\"x\",INDEX(Kalkulacja!$R$1:$R$459,Q466),\"\"),\"\")","v":""},null,0,{"$f":"IFERROR(INDEX('Podświetlanie modułów'!H:H,MATCH(G466,'Podświetlanie modułów'!F:F,0)),0)","v":0},{"$f":"IF(M466*1>0,\"x\",IF(INDEX(Kalkulacja!A:A,Q466)=\"x\",\"x\",0))","v":"x"},"TRUE",{"$f":"MATCH(G466,Kalkulacja!$H$1:$H$459,0)","v":413},null,null,0,null,0,null,null,null,null,"Integracja z tPay",null,null,null,null,{"$f":"IFERROR(INDEX(Kalkulacja!Q:Q,Q466),0)","v":0},0]
[null,null,null,{"$f":"IFERROR(IF(N467>0,\"SUGEROWANE\",IF((INDEX(Kalkulacja!B:B,MATCH(G467,Kalkulacja!H:H,0)))=\"x\",\"USŁUGA\",\"\")),\"\")","v":""},"i",null,{"$f":"Kalkulacja!H414","v":"Stawki podatkowe"},null,null,0,{"$f":"IFERROR(IF(Kalkulacja!$F$2=\"x\",INDEX(Kalkulacja!$R$1:$R$459,Q467),\"\"),\"\")","v":""},null,false,{"$f":"IFERROR(INDEX('Podświetlanie modułów'!H:H,MATCH(G467,'Podświetlanie modułów'!F:F,0)),0)","v":0},{"$f":"IF(M467*1>0,\"x\",IF(INDEX(Kalkulacja!A:A,Q467)=\"x\",\"x\",0))","v":"x"},"TRUE",{"$f":"MATCH(G467,Kalkulacja!$H$1:$H$459,0)","v":414},null,null,0,null,0,null,null,null,null,"Stawki podatkowe",null,null,null,null,{"$f":"IFERROR(INDEX(Kalkulacja!Q:Q,Q467),0)","v":"x"},0]
[null,null,null,{"$f":"IFERROR(IF(N468>0,\"SUGEROWANE\",IF((INDEX(Kalkulacja!B:B,MATCH(G468,Kalkulacja!H:H,0)))=\"x\",\"USŁUGA\",\"\")),\"\")","v":""},"i",null,{"$f":"Kalkulacja!H415","v":"Dodatkowy moduł 103"},null,null,0,{"$f":"IFERROR(IF(Kalkulacja!$F$2=\"x\",INDEX(Kalkulacja!$R$1:$R$459,Q468),\"\"),\"\")","v":""},null,0,{"$f":"IFERROR(INDEX('Podświetlanie modułów'!H:H,MATCH(G468,'Podświetlanie modułów'!F:F,0)),0)","v":0},{"$f":"IF(M468*1>0,\"x\",IF(INDEX(Kalkulacja!A:A,Q468)=\"x\",\"x\",0))","v":0},"FALSE",{"$f":"MATCH(G468,Kalkulacja!$H$1:$H$459,0)","v":415},null,null,0,null,0,null,null,null,null,{"$f":"G468","v":"Dodatkowy moduł 103"},null,null,null,null,{"$f":"IFERROR(INDEX(Kalkulacja!Q:Q,Q468),0)","v":0},0]
[null,null,null,{"$f":"IFERROR(IF(N469>0,\"SUGEROWANE\",IF((INDEX(Kalkulacja!B:B,MATCH(G469,Kalkulacja!H:H,0)))=\"x\",\"USŁUGA\",\"\")),\"\")","v":""},"i",null,{"$f":"Kalkulacja!H416","v":"Dodatkowy moduł 104"},null,null,0,{"$f":"IFERROR(IF(Kalkulacja!$F$2=\"x\",INDEX(Kalkulacja!$R$1:$R$459,Q469),\"\"),\"\")","v":""},null,0,{"$f":"IFERROR(INDEX('Podświetlanie modułów'!H:H,MATCH(G469,'Podświetlanie modułów'!F:F,0)),0)","v":0},{"$f":"IF(M469*1>0,\"x\",IF(INDEX(Kalkulacja!A:A,Q469)=\"x\",\"x\",0))","v":0},"FALSE",{"$f":"MATCH(G469,Kalkulacja!$H$1:$H$459,0)","v":416},null,null,0,null,0,null,null,null,null,"Dodatkowy moduł 104",null,null,null,null,{"$f":"IFERROR(INDEX(Kalkulacja!Q:Q,Q469),0)","v":0},0]
[null,null,null,{"$f":"IFERROR(IF(N470>0,\"SUGEROWANE\",IF((INDEX(Kalkulacja!B:B,MATCH(G470,Kalkulacja!H:H,0)))=\"x\",\"USŁUGA\",\"\")),\"\")","v":""},"i",null,{"$f":"Kalkulacja!H417","v":"Dodatkowy moduł 105"},null,null,0,{"$f":"IFERROR(IF(Kalkulacja!$F$2=\"x\",INDEX(Kalkulacja!$R$1:$R$459,Q470),\"\"),\"\")","v":""},null,0,{"$f":"IFERROR(INDEX('Podświetlanie modułów'!H:H,MATCH(G470,'Podświetlanie modułów'!F:F,0)),0)","v":0},{"$f":"IF(M470*1>0,\"x\",IF(INDEX(Kalkulacja!A:A,Q470)=\"x\",\"x\",0))","v":0},"FALSE",{"$f":"MATCH(G470,Kalkulacja!$H$1:$H$459,0)","v":417},null,null,{"$f":"U470","v":0},null,{"$f":"AG470","v":0},null,null,null,null,"Dodatkowy moduł 105",null,null,null,null,{"$f":"IFERROR(INDEX(Kalkulacja!Q:Q,Q470),0)","v":0},0]
[null,null,null,{"$f":"IFERROR(IF(N471>0,\"SUGEROWANE\",IF((INDEX(Kalkulacja!B:B,MATCH(G471,Kalkulacja!H:H,0)))=\"x\",\"USŁUGA\",\"\")),\"\")","v":""},"i",null,{"$f":"Kalkulacja!H418","v":"Dodatkowy moduł 106"},null,null,0,{"$f":"IFERROR(IF(Kalkulacja!$F$2=\"x\",INDEX(Kalkulacja!$R$1:$R$459,Q471),\"\"),\"\")","v":""},null,0,{"$f":"IFERROR(INDEX('Podświetlanie modułów'!H:H,MATCH(G471,'Podświetlanie modułów'!F:F,0)),0)","v":0},{"$f":"IF(M471*1>0,\"x\",IF(INDEX(Kalkulacja!A:A,Q471)=\"x\",\"x\",0))","v":0},"FALSE",{"$f":"MATCH(G471,Kalkulacja!$H$1:$H$459,0)","v":418},null,null,0,null,0,null,null,null,null,"Dodatkowy moduł 106",null,null,null,null,{"$f":"IFERROR(INDEX(Kalkulacja!Q:Q,Q471),0)","v":0},0]
[null,null,null,{"$f":"IFERROR(IF(N472>0,\"SUGEROWANE\",IF((INDEX(Kalkulacja!B:B,MATCH(G472,Kalkulacja!H:H,0)))=\"x\",\"USŁUGA\",\"\")),\"\")","v":""},"i",null,{"$f":"Kalkulacja!H419","v":"Dodatkowy moduł 107"},null,null,0,{"$f":"IFERROR(IF(Kalkulacja!$F$2=\"x\",INDEX(Kalkulacja!$R$1:$R$459,Q472),\"\"),\"\")","v":""},null,0,{"$f":"IFERROR(INDEX('Podświetlanie modułów'!H:H,MATCH(G472,'Podświetlanie modułów'!F:F,0)),0)","v":0},{"$f":"IF(M472*1>0,\"x\",IF(INDEX(Kalkulacja!A:A,Q472)=\"x\",\"x\",0))","v":0},"FALSE",{"$f":"MATCH(G472,Kalkulacja!$H$1:$H$459,0)","v":419},null,null,0,null,0,null,null,null,null,"Dodatkowy moduł 107",null,null,null,null,{"$f":"IFERROR(INDEX(Kalkulacja!Q:Q,Q472),0)","v":0},0]
[null,null,null,{"$f":"IFERROR(IF(N473>0,\"SUGEROWANE\",IF((INDEX(Kalkulacja!B:B,MATCH(G473,Kalkulacja!H:H,0)))=\"x\",\"USŁUGA\",\"\")),\"\")","v":""},{"$f":"Kalkulacja!H420","v":"Wysyłka"},null,null,null,null,null,null,null,null,{"$f":"IFERROR(INDEX('Podświetlanie modułów'!H:H,MATCH(G473,'Podświetlanie modułów'!F:F,0)),0)","v":0},{"$f":"IF(COUNTIF(O474:O489,\"x\")>0,\"x\",0)","v":"x"},"TRUE",{"$f":"MATCH(E473,Kalkulacja!$H$1:$H$459,0)","v":420},null,null,0,null,0,null,null,null,null,0,null,null,null,null,{"$f":"IFERROR(INDEX(Kalkulacja!Q:Q,Q473),0)","v":0},0]
[null,null,null,{"$f":"IFERROR(IF(N474>0,\"SUGEROWANE\",IF((INDEX(Kalkulacja!B:B,MATCH(G474,Kalkulacja!H:H,0)))=\"x\",\"USŁUGA\",\"\")),\"\")","v":""},"i",null,{"$f":"Kalkulacja!H421","v":"Darmowa wysyłka w oparciu o wielkość zamówienia"},null,null,0,{"$f":"IFERROR(IF(Kalkulacja!$F$2=\"x\",INDEX(Kalkulacja!$R$1:$R$459,Q474),\"\"),\"\")","v":""},null,0,{"$f":"IFERROR(INDEX('Podświetlanie modułów'!H:H,MATCH(G474,'Podświetlanie modułów'!F:F,0)),0)","v":0},{"$f":"IF(M474*1>0,\"x\",IF(INDEX(Kalkulacja!A:A,Q474)=\"x\",\"x\",0))","v":"x"},"TRUE",{"$f":"MATCH(G474,Kalkulacja!$H$1:$H$459,0)","v":421},null,null,0,null,0,null,null,null,null,"Darmowa wysyłka w oparciu o wielkość zamówienia",null,null,null,null,{"$f":"IFERROR(INDEX(Kalkulacja!Q:Q,Q474),0)","v":"x"},0]
[null,null,null,{"$f":"IFERROR(IF(N475>0,\"SUGEROWANE\",IF((INDEX(Kalkulacja!B:B,MATCH(G475,Kalkulacja!H:H,0)))=\"x\",\"USŁUGA\",\"\")),\"\")","v":""},"i",null,{"$f":"Kalkulacja!H422","v":"Integracja z DPD"},null,null,0,{"$f":"IFERROR(IF(Kalkulacja!$F$2=\"x\",INDEX(Kalkulacja!$R$1:$R$459,Q475),\"\"),\"\")","v":""},null,0,{"$f":"IFERROR(INDEX('Podświetlanie modułów'!H:H,MATCH(G475,'Podświetlanie modułów'!F:F,0)),0)","v":0},{"$f":"IF(M475*1>0,\"x\",IF(INDEX(Kalkulacja!A:A,Q475)=\"x\",\"x\",0))","v":"x"},"TRUE",{"$f":"MATCH(G475,Kalkulacja!$H$1:$H$459,0)","v":422},null,null,0,null,0,null,null,null,null,"Integracja z DPD",null,null,null,null,{"$f":"IFERROR(INDEX(Kalkulacja!Q:Q,Q475),0)","v":"x"},0]
[null,null,null,{"$f":"IFERROR(IF(N476>0,\"SUGEROWANE\",IF((INDEX(Kalkulacja!B:B,MATCH(G476,Kalkulacja!H:H,0)))=\"x\",\"USŁUGA\",\"\")),\"\")","v":""},"i",null,{"$f":"Kalkulacja!H423","v":"Integracja z Paczkomaty"},null,null,0,{"$f":"IFERROR(IF(Kalkulacja!$F$2=\"x\",INDEX(Kalkulacja!$R$1:$R$459,Q476),\"\"),\"\")","v":""},null,false,{"$f":"IFERROR(INDEX('Podświetlanie modułów'!H:H,MATCH(G476,'Podświetlanie modułów'!F:F,0)),0)","v":0},{"$f":"IF(M476*1>0,\"x\",IF(INDEX(Kalkulacja!A:A,Q476)=\"x\",\"x\",0))","v":"x"},"TRUE",{"$f":"MATCH(G476,Kalkulacja!$H$1:$H$459,0)","v":423},null,null,0,null,0,null,null,null,null,"Integracja z Paczkomaty",null,null,null,null,{"$f":"IFERROR(INDEX(Kalkulacja!Q:Q,Q476),0)","v":"x"},0]
[null,null,null,{"$f":"IFERROR(IF(N477>0,\"SUGEROWANE\",IF((INDEX(Kalkulacja!B:B,MATCH(G477,Kalkulacja!H:H,0)))=\"x\",\"USŁUGA\",\"\")),\"\")","v":""},"i",null,{"$f":"Kalkulacja!H424","v":"Integracja z Furgonetka"},null,null,0,{"$f":"IFERROR(IF(Kalkulacja!$F$2=\"x\",INDEX(Kalkulacja!$R$1:$R$459,Q477),\"\"),\"\")","v":""},null,0,{"$f":"IFERROR(INDEX('Podświetlanie modułów'!H:H,MATCH(G477,'Podświetlanie modułów'!F:F,0)),0)","v":0},{"$f":"IF(M477*1>0,\"x\",IF(INDEX(Kalkulacja!A:A,Q477)=\"x\",\"x\",0))","v":"x"},"TRUE",{"$f":"MATCH(G477,Kalkulacja!$H$1:$H$459,0)","v":424},null,null,0,null,0,null,null,null,null,"Integracja z Furgonetka",null,null,null,null,{"$f":"IFERROR(INDEX(Kalkulacja!Q:Q,Q477),0)","v":0},0]
[null,null,null,{"$f":"IFERROR(IF(N478>0,\"SUGEROWANE\",IF((INDEX(Kalkulacja!B:B,MATCH(G478,Kalkulacja!H:H,0)))=\"x\",\"USŁUGA\",\"\")),\"\")","v":""},"i",null,{"$f":"Kalkulacja!H425","v":"Integracja z DHL"},null,null,0,{"$f":"IFERROR(IF(Kalkulacja!$F$2=\"x\",INDEX(Kalkulacja!$R$1:$R$459,Q478),\"\"),\"\")","v":""},null,false,{"$f":"IFERROR(INDEX('Podświetlanie modułów'!H:H,MATCH(G478,'Podświetlanie modułów'!F:F,0)),0)","v":0},{"$f":"IF(M478*1>0,\"x\",IF(INDEX(Kalkulacja!A:A,Q478)=\"x\",\"x\",0))","v":"x"},"TRUE",{"$f":"MATCH(G478,Kalkulacja!$H$1:$H$459,0)","v":425},null,null,0,null,0,null,null,null,null,"Integracja z DHL",null,null,null,null,{"$f":"IFERROR(INDEX(Kalkulacja!Q:Q,Q478),0)","v":0},0]
[null,null,null,{"$f":"IFERROR(IF(N479>0,\"SUGEROWANE\",IF((INDEX(Kalkulacja!B:B,MATCH(G479,Kalkulacja!H:H,0)))=\"x\",\"USŁUGA\",\"\")),\"\")","v":""},"i",null,{"$f":"Kalkulacja!H426","v":"Integracja z UPS"},null,null,0,{"$f":"IFERROR(IF(Kalkulacja!$F$2=\"x\",INDEX(Kalkulacja!$R$1:$R$459,Q479),\"\"),\"\")","v":""},null,0,{"$f":"IFERROR(INDEX('Podświetlanie modułów'!H:H,MATCH(G479,'Podświetlanie modułów'!F:F,0)),0)","v":0},{"$f":"IF(M479*1>0,\"x\",IF(INDEX(Kalkulacja!A:A,Q479)=\"x\",\"x\",0))","v":"x"},"TRUE",{"$f":"MATCH(G479,Kalkulacja!$H$1:$H$459,0)","v":426},null,null,0,null,0,null,null,null,null,"Integracja z UPS",null,null,null,null,{"$f":"IFERROR(INDEX(Kalkulacja!Q:Q,Q479),0)","v":0},0]
[null,null,null,{"$f":"IFERROR(IF(N480>0,\"SUGEROWANE\",IF((INDEX(Kalkulacja!B:B,MATCH(G480,Kalkulacja!H:H,0)))=\"x\",\"USŁUGA\",\"\")),\"\")","v":""},"i",null,{"$f":"Kalkulacja!H427","v":"Integracja z FedEx"},null,null,0,{"$f":"IFERROR(IF(Kalkulacja!$F$2=\"x\",INDEX(Kalkulacja!$R$1:$R$459,Q480),\"\"),\"\")","v":""},null,false,{"$f":"IFERROR(INDEX('Podświetlanie modułów'!H:H,MATCH(G480,'Podświetlanie modułów'!F:F,0)),0)","v":0},{"$f":"IF(M480*1>0,\"x\",IF(INDEX(Kalkulacja!A:A,Q480)=\"x\",\"x\",0))","v":"x"},"TRUE",{"$f":"MATCH(G480,Kalkulacja!$H$1:$H$459,0)","v":427},null,null,0,null,0,null,null,null,null,"Integracja z FedEx",null,null,null,null,{"$f":"IFERROR(INDEX(Kalkulacja!Q:Q,Q480),0)","v":0},0]
[null,null,null,{"$f":"IFERROR(IF(N481>0,\"SUGEROWANE\",IF((INDEX(Kalkulacja!B:B,MATCH(G481,Kalkulacja!H:H,0)))=\"x\",\"USŁUGA\",\"\")),\"\")","v":""},"i",null,{"$f":"Kalkulacja!H428","v":"Integracja z Poczta Polska"},null,null,0,{"$f":"IFERROR(IF(Kalkulacja!$F$2=\"x\",INDEX(Kalkulacja!$R$1:$R$459,Q481),\"\"),\"\")","v":""},null,0,{"$f":"IFERROR(INDEX('Podświetlanie modułów'!H:H,MATCH(G481,'Podświetlanie modułów'!F:F,0)),0)","v":0},{"$f":"IF(M481*1>0,\"x\",IF(INDEX(Kalkulacja!A:A,Q481)=\"x\",\"x\",0))","v":"x"},"TRUE",{"$f":"MATCH(G481,Kalkulacja!$H$1:$H$459,0)","v":428},null,null,0,null,0,null,null,null,null,"Integracja z Poczta Polska",null,null,null,null,{"$f":"IFERROR(INDEX(Kalkulacja!Q:Q,Q481),0)","v":0},0]
[null,null,null,{"$f":"IFERROR(IF(N482>0,\"SUGEROWANE\",IF((INDEX(Kalkulacja!B:B,MATCH(G482,Kalkulacja!H:H,0)))=\"x\",\"USŁUGA\",\"\")),\"\")","v":""},"i",null,{"$f":"Kalkulacja!H429","v":"Integracja z Paczka w Ruchu"},null,null,0,{"$f":"IFERROR(IF(Kalkulacja!$F$2=\"x\",INDEX(Kalkulacja!$R$1:$R$459,Q482),\"\"),\"\")","v":""},null,0,{"$f":"IFERROR(INDEX('Podświetlanie modułów'!H:H,MATCH(G482,'Podświetlanie modułów'!F:F,0)),0)","v":0},{"$f":"IF(M482*1>0,\"x\",IF(INDEX(Kalkulacja!A:A,Q482)=\"x\",\"x\",0))","v":"x"},"TRUE",{"$f":"MATCH(G482,Kalkulacja!$H$1:$H$459,0)","v":429},null,null,0,null,0,null,null,null,null,"Integracja z Paczka w Ruchu",null,null,null,null,{"$f":"IFERROR(INDEX(Kalkulacja!Q:Q,Q482),0)","v":0},0]
[null,null,null,{"$f":"IFERROR(IF(N483>0,\"SUGEROWANE\",IF((INDEX(Kalkulacja!B:B,MATCH(G483,Kalkulacja!H:H,0)))=\"x\",\"USŁUGA\",\"\")),\"\")","v":""},"i",null,{"$f":"Kalkulacja!H430","v":"Konfiguracja klas wysyłkowych"},null,null,{"$f":"M483*1","v":0},{"$f":"IFERROR(IF(Kalkulacja!$F$2=\"x\",INDEX(Kalkulacja!$R$1:$R$459,Q483),\"\"),\"\")","v":""},null,0,{"$f":"IFERROR(INDEX('Podświetlanie modułów'!H:H,MATCH(G483,'Podświetlanie modułów'!F:F,0)),0)","v":0},{"$f":"IF(M483*1>0,\"x\",IF(INDEX(Kalkulacja!A:A,Q483)=\"x\",\"x\",0))","v":"x"},"TRUE",{"$f":"MATCH(G483,Kalkulacja!$H$1:$H$459,0)","v":430},null,null,0,null,0,null,null,null,null,"Konfiguracja klas wysyłkowych",null,null,null,null,{"$f":"IFERROR(INDEX(Kalkulacja!Q:Q,Q483),0)","v":"x"},0]
[null,null,null,{"$f":"IFERROR(IF(N484>0,\"SUGEROWANE\",IF((INDEX(Kalkulacja!B:B,MATCH(G484,Kalkulacja!H:H,0)))=\"x\",\"USŁUGA\",\"\")),\"\")","v":""},"i",null,{"$f":"Kalkulacja!H431","v":"Konfiguracja zaawansowanych klas wysyłkowych (flexible shipping)"},null,null,0,{"$f":"IFERROR(IF(Kalkulacja!$F$2=\"x\",INDEX(Kalkulacja!$R$1:$R$459,Q484),\"\"),\"\")","v":""},null,0,{"$f":"IFERROR(INDEX('Podświetlanie modułów'!H:H,MATCH(G484,'Podświetlanie modułów'!F:F,0)),0)","v":0},{"$f":"IF(M484*1>0,\"x\",IF(INDEX(Kalkulacja!A:A,Q484)=\"x\",\"x\",0))","v":"x"},"TRUE",{"$f":"MATCH(G484,Kalkulacja!$H$1:$H$459,0)","v":431},null,null,0,null,0,null,null,null,null,"Konfiguracja zaawansowanych klas wysyłkowych (flexible shipping)",null,null,null,null,{"$f":"IFERROR(INDEX(Kalkulacja!Q:Q,Q484),0)","v":0},0]
[null,null,null,{"$f":"IFERROR(IF(N485>0,\"SUGEROWANE\",IF((INDEX(Kalkulacja!B:B,MATCH(G485,Kalkulacja!H:H,0)))=\"x\",\"USŁUGA\",\"\")),\"\")","v":""},"i",null,{"$f":"Kalkulacja!H432","v":"Dodatkowy moduł 108"},null,null,0,{"$f":"IFERROR(IF(Kalkulacja!$F$2=\"x\",INDEX(Kalkulacja!$R$1:$R$459,Q485),\"\"),\"\")","v":""},null,0,{"$f":"IFERROR(INDEX('Podświetlanie modułów'!H:H,MATCH(G485,'Podświetlanie modułów'!F:F,0)),0)","v":0},{"$f":"IF(M485*1>0,\"x\",IF(INDEX(Kalkulacja!A:A,Q485)=\"x\",\"x\",0))","v":0},"FALSE",{"$f":"MATCH(G485,Kalkulacja!$H$1:$H$459,0)","v":432},null,null,0,null,0,null,null,null,null,"Dodatkowy moduł 108",null,null,null,null,{"$f":"IFERROR(INDEX(Kalkulacja!Q:Q,Q485),0)","v":0},0]
[null,null,null,{"$f":"IFERROR(IF(N486>0,\"SUGEROWANE\",IF((INDEX(Kalkulacja!B:B,MATCH(G486,Kalkulacja!H:H,0)))=\"x\",\"USŁUGA\",\"\")),\"\")","v":""},"i",null,{"$f":"Kalkulacja!H433","v":"Dodatkowy moduł 109"},null,null,0,{"$f":"IFERROR(IF(Kalkulacja!$F$2=\"x\",INDEX(Kalkulacja!$R$1:$R$459,Q486),\"\"),\"\")","v":""},null,0,{"$f":"IFERROR(INDEX('Podświetlanie modułów'!H:H,MATCH(G486,'Podświetlanie modułów'!F:F,0)),0)","v":0},{"$f":"IF(M486*1>0,\"x\",IF(INDEX(Kalkulacja!A:A,Q486)=\"x\",\"x\",0))","v":0},"FALSE",{"$f":"MATCH(G486,Kalkulacja!$H$1:$H$459,0)","v":433},null,null,0,null,0,null,null,null,null,"Dodatkowy moduł 109",null,null,null,null,{"$f":"IFERROR(INDEX(Kalkulacja!Q:Q,Q486),0)","v":0},0]
[null,null,null,{"$f":"IFERROR(IF(N487>0,\"SUGEROWANE\",IF((INDEX(Kalkulacja!B:B,MATCH(G487,Kalkulacja!H:H,0)))=\"x\",\"USŁUGA\",\"\")),\"\")","v":""},"i",null,{"$f":"Kalkulacja!H434","v":"Dodatkowy moduł 110"},null,null,0,{"$f":"IFERROR(IF(Kalkulacja!$F$2=\"x\",INDEX(Kalkulacja!$R$1:$R$459,Q487),\"\"),\"\")","v":""},null,0,{"$f":"IFERROR(INDEX('Podświetlanie modułów'!H:H,MATCH(G487,'Podświetlanie modułów'!F:F,0)),0)","v":0},{"$f":"IF(M487*1>0,\"x\",IF(INDEX(Kalkulacja!A:A,Q487)=\"x\",\"x\",0))","v":0},"FALSE",{"$f":"MATCH(G487,Kalkulacja!$H$1:$H$459,0)","v":434},null,null,0,null,0,null,null,null,null,"Dodatkowy moduł 110",null,null,null,null,{"$f":"IFERROR(INDEX(Kalkulacja!Q:Q,Q487),0)","v":0},0]
[null,null,null,{"$f":"IFERROR(IF(N488>0,\"SUGEROWANE\",IF((INDEX(Kalkulacja!B:B,MATCH(G488,Kalkulacja!H:H,0)))=\"x\",\"USŁUGA\",\"\")),\"\")","v":""},"i",null,{"$f":"Kalkulacja!H435","v":"Dodatkowy moduł 111"},null,null,0,{"$f":"IFERROR(IF(Kalkulacja!$F$2=\"x\",INDEX(Kalkulacja!$R$1:$R$459,Q488),\"\"),\"\")","v":""},null,0,{"$f":"IFERROR(INDEX('Podświetlanie modułów'!H:H,MATCH(G488,'Podświetlanie modułów'!F:F,0)),0)","v":0},{"$f":"IF(M488*1>0,\"x\",IF(INDEX(Kalkulacja!A:A,Q488)=\"x\",\"x\",0))","v":0},"FALSE",{"$f":"MATCH(G488,Kalkulacja!$H$1:$H$459,0)","v":435},null,null,0,null,0,null,null,null,null,"Dodatkowy moduł 111",null,null,null,null,{"$f":"IFERROR(INDEX(Kalkulacja!Q:Q,Q488),0)","v":0},0]
[null,null,null,{"$f":"IFERROR(IF(N489>0,\"SUGEROWANE\",IF((INDEX(Kalkulacja!B:B,MATCH(G489,Kalkulacja!H:H,0)))=\"x\",\"USŁUGA\",\"\")),\"\")","v":""},"i",null,{"$f":"Kalkulacja!H436","v":"Dodatkowy moduł 112"},null,null,0,{"$f":"IFERROR(IF(Kalkulacja!$F$2=\"x\",INDEX(Kalkulacja!$R$1:$R$459,Q489),\"\"),\"\")","v":""},null,0,{"$f":"IFERROR(INDEX('Podświetlanie modułów'!H:H,MATCH(G489,'Podświetlanie modułów'!F:F,0)),0)","v":0},{"$f":"IF(M489*1>0,\"x\",IF(INDEX(Kalkulacja!A:A,Q489)=\"x\",\"x\",0))","v":0},"FALSE",{"$f":"MATCH(G489,Kalkulacja!$H$1:$H$459,0)","v":436},null,null,0,null,0,null,null,null,null,"Dodatkowy moduł 112",null,null,null,null,{"$f":"IFERROR(INDEX(Kalkulacja!Q:Q,Q489),0)","v":0},0]
[null,null,null,{"$f":"IFERROR(IF(N490>0,\"SUGEROWANE\",IF((INDEX(Kalkulacja!B:B,MATCH(G490,Kalkulacja!H:H,0)))=\"x\",\"USŁUGA\",\"\")),\"\")","v":""},{"$f":"Kalkulacja!H437","v":"Polityka prywatności"},null,null,null,null,null,null,null,null,{"$f":"IFERROR(INDEX('Podświetlanie modułów'!H:H,MATCH(G490,'Podświetlanie modułów'!F:F,0)),0)","v":0},{"$f":"IF(COUNTIF(O491:O496,\"x\")>0,\"x\",0)","v":"x"},"TRUE",{"$f":"MATCH(E490,Kalkulacja!$H$1:$H$459,0)","v":437},null,null,0,null,0,null,null,null,null,0,null,null,null,null,{"$f":"IFERROR(INDEX(Kalkulacja!Q:Q,Q490),0)","v":0},0]
[null,null,null,{"$f":"IFERROR(IF(N491>0,\"SUGEROWANE\",IF((INDEX(Kalkulacja!B:B,MATCH(G491,Kalkulacja!H:H,0)))=\"x\",\"USŁUGA\",\"\")),\"\")","v":""},"i",null,{"$f":"Kalkulacja!H438","v":"Klauzule i zgody prawne do zamówienia i rejestracji konta"},null,null,{"$f":"M491*1","v":0},{"$f":"IFERROR(IF(Kalkulacja!$F$2=\"x\",INDEX(Kalkulacja!$R$1:$R$459,Q491),\"\"),\"\")","v":""},null,false,{"$f":"IFERROR(INDEX('Podświetlanie modułów'!H:H,MATCH(G491,'Podświetlanie modułów'!F:F,0)),0)","v":0},{"$f":"IF(M491*1>0,\"x\",IF(INDEX(Kalkulacja!A:A,Q491)=\"x\",\"x\",0))","v":"x"},"TRUE",{"$f":"MATCH(G491,Kalkulacja!$H$1:$H$459,0)","v":438},null,null,{"$f":"U491","v":0},null,0,null,null,null,null,"Klauzule i zgody prawne do zamówienia i rejestracji konta",null,null,null,null,{"$f":"IFERROR(INDEX(Kalkulacja!Q:Q,Q491),0)","v":"x"},0]
[null,null,null,{"$f":"IFERROR(IF(N492>0,\"SUGEROWANE\",IF((INDEX(Kalkulacja!B:B,MATCH(G492,Kalkulacja!H:H,0)))=\"x\",\"USŁUGA\",\"\")),\"\")","v":""},"i",null,{"$f":"Kalkulacja!H439","v":"Dodatkowy moduł 113"},null,null,0,{"$f":"IFERROR(IF(Kalkulacja!$F$2=\"x\",INDEX(Kalkulacja!$R$1:$R$459,Q492),\"\"),\"\")","v":""},null,{"$f":"S492","v":0},{"$f":"IFERROR(INDEX('Podświetlanie modułów'!H:H,MATCH(G492,'Podświetlanie modułów'!F:F,0)),0)","v":0},{"$f":"IF(M492*1>0,\"x\",IF(INDEX(Kalkulacja!A:A,Q492)=\"x\",\"x\",0))","v":0},{"$f":"IF(O492=\"x\",\"TRUE\",\"FALSE\")","v":"FALSE"},{"$f":"MATCH(G492,Kalkulacja!$H$1:$H$459,0)","v":439},null,null,0,null,0,null,null,null,null,"Dodatkowy moduł 113",null,null,null,null,{"$f":"IFERROR(INDEX(Kalkulacja!Q:Q,Q492),0)","v":0},0]
[null,null,null,{"$f":"IFERROR(IF(N493>0,\"SUGEROWANE\",IF((INDEX(Kalkulacja!B:B,MATCH(G493,Kalkulacja!H:H,0)))=\"x\",\"USŁUGA\",\"\")),\"\")","v":""},"i",null,{"$f":"Kalkulacja!H440","v":"Dodatkowy moduł 114"},null,null,0,{"$f":"IFERROR(IF(Kalkulacja!$F$2=\"x\",INDEX(Kalkulacja!$R$1:$R$459,Q493),\"\"),\"\")","v":""},null,false,{"$f":"IFERROR(INDEX('Podświetlanie modułów'!H:H,MATCH(G493,'Podświetlanie modułów'!F:F,0)),0)","v":0},{"$f":"IF(M493*1>0,\"x\",IF(INDEX(Kalkulacja!A:A,Q493)=\"x\",\"x\",0))","v":0},"FALSE",{"$f":"MATCH(G493,Kalkulacja!$H$1:$H$459,0)","v":440},null,null,0,null,0,null,null,null,null,"Dodatkowy moduł 114",null,null,null,null,{"$f":"IFERROR(INDEX(Kalkulacja!Q:Q,Q493),0)","v":0},0]
[null,null,null,{"$f":"IFERROR(IF(N494>0,\"SUGEROWANE\",IF((INDEX(Kalkulacja!B:B,MATCH(G494,Kalkulacja!H:H,0)))=\"x\",\"USŁUGA\",\"\")),\"\")","v":""},"i",null,{"$f":"Kalkulacja!H441","v":"Dodatkowy moduł 115"},null,null,0,{"$f":"IFERROR(IF(Kalkulacja!$F$2=\"x\",INDEX(Kalkulacja!$R$1:$R$459,Q494),\"\"),\"\")","v":""},null,0,{"$f":"IFERROR(INDEX('Podświetlanie modułów'!H:H,MATCH(G494,'Podświetlanie modułów'!F:F,0)),0)","v":0},{"$f":"IF(M494*1>0,\"x\",IF(INDEX(Kalkulacja!A:A,Q494)=\"x\",\"x\",0))","v":0},"FALSE",{"$f":"MATCH(G494,Kalkulacja!$H$1:$H$459,0)","v":441},null,null,0,null,0,null,null,null,null,"Dodatkowy moduł 115",null,null,null,null,{"$f":"IFERROR(INDEX(Kalkulacja!Q:Q,Q494),0)","v":0},0]
[null,null,null,{"$f":"IFERROR(IF(N495>0,\"SUGEROWANE\",IF((INDEX(Kalkulacja!B:B,MATCH(G495,Kalkulacja!H:H,0)))=\"x\",\"USŁUGA\",\"\")),\"\")","v":""},"i",null,{"$f":"Kalkulacja!H442","v":"Dodatkowy moduł 116"},null,null,0,{"$f":"IFERROR(IF(Kalkulacja!$F$2=\"x\",INDEX(Kalkulacja!$R$1:$R$459,Q495),\"\"),\"\")","v":""},null,0,{"$f":"IFERROR(INDEX('Podświetlanie modułów'!H:H,MATCH(G495,'Podświetlanie modułów'!F:F,0)),0)","v":0},{"$f":"IF(M495*1>0,\"x\",IF(INDEX(Kalkulacja!A:A,Q495)=\"x\",\"x\",0))","v":0},"FALSE",{"$f":"MATCH(G495,Kalkulacja!$H$1:$H$459,0)","v":442},null,null,{"$f":"U495","v":0},null,0,null,null,null,null,"Dodatkowy moduł 116",null,null,null,null,{"$f":"IFERROR(INDEX(Kalkulacja!Q:Q,Q495),0)","v":0},0]
[null,null,null,{"$f":"IFERROR(IF(N496>0,\"SUGEROWANE\",IF((INDEX(Kalkulacja!B:B,MATCH(G496,Kalkulacja!H:H,0)))=\"x\",\"USŁUGA\",\"\")),\"\")","v":""},"i",null,{"$f":"Kalkulacja!H443","v":"Dodatkowy moduł 117"},null,null,0,{"$f":"IFERROR(IF(Kalkulacja!$F$2=\"x\",INDEX(Kalkulacja!$R$1:$R$459,Q496),\"\"),\"\")","v":""},null,0,{"$f":"IFERROR(INDEX('Podświetlanie modułów'!H:H,MATCH(G496,'Podświetlanie modułów'!F:F,0)),0)","v":0},{"$f":"IF(M496*1>0,\"x\",IF(INDEX(Kalkulacja!A:A,Q496)=\"x\",\"x\",0))","v":0},"FALSE",{"$f":"MATCH(G496,Kalkulacja!$H$1:$H$459,0)","v":443},null,null,0,null,0,null,null,null,null,"Dodatkowy moduł 117",null,null,null,null,{"$f":"IFERROR(INDEX(Kalkulacja!Q:Q,Q496),0)","v":0},0]
[null,null,null,{"$f":"IFERROR(IF(N497>0,\"SUGEROWANE\",IF((INDEX(Kalkulacja!B:B,MATCH(G497,Kalkulacja!H:H,0)))=\"x\",\"USŁUGA\",\"\")),\"\")","v":""},{"$f":"Kalkulacja!H444","v":"Magazyn i księgowość"},null,null,null,null,null,null,null,null,{"$f":"IFERROR(INDEX('Podświetlanie modułów'!H:H,MATCH(G497,'Podświetlanie modułów'!F:F,0)),0)","v":0},{"$f":"IF(COUNTIF(O498:O510,\"x\")>0,\"x\",0)","v":"x"},"TRUE",{"$f":"MATCH(E497,Kalkulacja!$H$1:$H$459,0)","v":444},null,null,0,null,0,null,null,null,null,0,null,null,null,null,{"$f":"IFERROR(INDEX(Kalkulacja!Q:Q,Q497),0)","v":0},0]
[null,null,null,{"$f":"IFERROR(IF(N498>0,\"SUGEROWANE\",IF((INDEX(Kalkulacja!B:B,MATCH(G498,Kalkulacja!H:H,0)))=\"x\",\"USŁUGA\",\"\")),\"\")","v":""},"i",null,{"$f":"Kalkulacja!H445","v":"Integracja z SubiektGT"},null,null,{"$f":"M498*1","v":0},{"$f":"IFERROR(IF(Kalkulacja!$F$2=\"x\",INDEX(Kalkulacja!$R$1:$R$459,Q498),\"\"),\"\")","v":""},null,0,{"$f":"IFERROR(INDEX('Podświetlanie modułów'!H:H,MATCH(G498,'Podświetlanie modułów'!F:F,0)),0)","v":0},{"$f":"IF(M498*1>0,\"x\",IF(INDEX(Kalkulacja!A:A,Q498)=\"x\",\"x\",0))","v":"x"},"TRUE",{"$f":"MATCH(G498,Kalkulacja!$H$1:$H$459,0)","v":445},null,null,0,null,0,null,null,null,null,"Integracja z SubiektGT",null,null,null,null,{"$f":"IFERROR(INDEX(Kalkulacja!Q:Q,Q498),0)","v":0},0]
[null,null,null,{"$f":"IFERROR(IF(N499>0,\"SUGEROWANE\",IF((INDEX(Kalkulacja!B:B,MATCH(G499,Kalkulacja!H:H,0)))=\"x\",\"USŁUGA\",\"\")),\"\")","v":""},"i",null,{"$f":"Kalkulacja!H446","v":"Integracja z Sage Symfonia"},null,null,0,{"$f":"IFERROR(IF(Kalkulacja!$F$2=\"x\",INDEX(Kalkulacja!$R$1:$R$459,Q499),\"\"),\"\")","v":""},null,false,{"$f":"IFERROR(INDEX('Podświetlanie modułów'!H:H,MATCH(G499,'Podświetlanie modułów'!F:F,0)),0)","v":0},{"$f":"IF(M499*1>0,\"x\",IF(INDEX(Kalkulacja!A:A,Q499)=\"x\",\"x\",0))","v":"x"},"TRUE",{"$f":"MATCH(G499,Kalkulacja!$H$1:$H$459,0)","v":446},null,null,0,null,0,null,null,null,null,"Integracja z Sage Symfonia",null,null,null,null,{"$f":"IFERROR(INDEX(Kalkulacja!Q:Q,Q499),0)","v":0},0]
[null,null,null,{"$f":"IFERROR(IF(N500>0,\"SUGEROWANE\",IF((INDEX(Kalkulacja!B:B,MATCH(G500,Kalkulacja!H:H,0)))=\"x\",\"USŁUGA\",\"\")),\"\")","v":""},"i",null,{"$f":"Kalkulacja!H447","v":"Integracja z iFirma"},null,null,0,{"$f":"IFERROR(IF(Kalkulacja!$F$2=\"x\",INDEX(Kalkulacja!$R$1:$R$459,Q500),\"\"),\"\")","v":""},null,0,{"$f":"IFERROR(INDEX('Podświetlanie modułów'!H:H,MATCH(G500,'Podświetlanie modułów'!F:F,0)),0)","v":0},{"$f":"IF(M500*1>0,\"x\",IF(INDEX(Kalkulacja!A:A,Q500)=\"x\",\"x\",0))","v":"x"},"TRUE",{"$f":"MATCH(G500,Kalkulacja!$H$1:$H$459,0)","v":447},null,null,0,null,0,null,null,null,null,"Integracja z iFirma",null,null,null,null,{"$f":"IFERROR(INDEX(Kalkulacja!Q:Q,Q500),0)","v":0},0]
[null,null,null,{"$f":"IFERROR(IF(N501>0,\"SUGEROWANE\",IF((INDEX(Kalkulacja!B:B,MATCH(G501,Kalkulacja!H:H,0)))=\"x\",\"USŁUGA\",\"\")),\"\")","v":""},"i",null,{"$f":"Kalkulacja!H448","v":"Integracja z wFirma"},null,null,0,{"$f":"IFERROR(IF(Kalkulacja!$F$2=\"x\",INDEX(Kalkulacja!$R$1:$R$459,Q501),\"\"),\"\")","v":""},null,false,{"$f":"IFERROR(INDEX('Podświetlanie modułów'!H:H,MATCH(G501,'Podświetlanie modułów'!F:F,0)),0)","v":0},{"$f":"IF(M501*1>0,\"x\",IF(INDEX(Kalkulacja!A:A,Q501)=\"x\",\"x\",0))","v":"x"},"TRUE",{"$f":"MATCH(G501,Kalkulacja!$H$1:$H$459,0)","v":448},null,null,0,null,0,null,null,null,null,"Integracja z wFirma",null,null,null,null,{"$f":"IFERROR(INDEX(Kalkulacja!Q:Q,Q501),0)","v":0},0]
[null,null,null,{"$f":"IFERROR(IF(N502>0,\"SUGEROWANE\",IF((INDEX(Kalkulacja!B:B,MATCH(G502,Kalkulacja!H:H,0)))=\"x\",\"USŁUGA\",\"\")),\"\")","v":""},"i",null,{"$f":"Kalkulacja!H449","v":"Integracja z fakturownia"},null,null,0,{"$f":"IFERROR(IF(Kalkulacja!$F$2=\"x\",INDEX(Kalkulacja!$R$1:$R$459,Q502),\"\"),\"\")","v":""},null,0,{"$f":"IFERROR(INDEX('Podświetlanie modułów'!H:H,MATCH(G502,'Podświetlanie modułów'!F:F,0)),0)","v":0},{"$f":"IF(M502*1>0,\"x\",IF(INDEX(Kalkulacja!A:A,Q502)=\"x\",\"x\",0))","v":"x"},"TRUE",{"$f":"MATCH(G502,Kalkulacja!$H$1:$H$459,0)","v":449},null,null,0,null,0,null,null,null,null,"Integracja z fakturownia",null,null,null,null,{"$f":"IFERROR(INDEX(Kalkulacja!Q:Q,Q502),0)","v":0},0]
[null,null,null,{"$f":"IFERROR(IF(N503>0,\"SUGEROWANE\",IF((INDEX(Kalkulacja!B:B,MATCH(G503,Kalkulacja!H:H,0)))=\"x\",\"USŁUGA\",\"\")),\"\")","v":""},"i",null,{"$f":"Kalkulacja!H450","v":"Integracja z inFakt"},null,null,0,{"$f":"IFERROR(IF(Kalkulacja!$F$2=\"x\",INDEX(Kalkulacja!$R$1:$R$459,Q503),\"\"),\"\")","v":""},null,false,{"$f":"IFERROR(INDEX('Podświetlanie modułów'!H:H,MATCH(G503,'Podświetlanie modułów'!F:F,0)),0)","v":0},{"$f":"IF(M503*1>0,\"x\",IF(INDEX(Kalkulacja!A:A,Q503)=\"x\",\"x\",0))","v":"x"},"TRUE",{"$f":"MATCH(G503,Kalkulacja!$H$1:$H$459,0)","v":450},null,null,0,null,0,null,null,null,null,"Integracja z inFakt",null,null,null,null,{"$f":"IFERROR(INDEX(Kalkulacja!Q:Q,Q503),0)","v":0},0]
[null,null,null,{"$f":"IFERROR(IF(N504>0,\"SUGEROWANE\",IF((INDEX(Kalkulacja!B:B,MATCH(G504,Kalkulacja!H:H,0)))=\"x\",\"USŁUGA\",\"\")),\"\")","v":""},"i",null,{"$f":"Kalkulacja!H451","v":"Faktury WooCommerce"},null,null,0,{"$f":"IFERROR(IF(Kalkulacja!$F$2=\"x\",INDEX(Kalkulacja!$R$1:$R$459,Q504),\"\"),\"\")","v":""},null,0,{"$f":"IFERROR(INDEX('Podświetlanie modułów'!H:H,MATCH(G504,'Podświetlanie modułów'!F:F,0)),0)","v":0},{"$f":"IF(M504*1>0,\"x\",IF(INDEX(Kalkulacja!A:A,Q504)=\"x\",\"x\",0))","v":"x"},"TRUE",{"$f":"MATCH(G504,Kalkulacja!$H$1:$H$459,0)","v":451},null,null,0,null,0,null,null,null,null,"Faktury WooCommerce",null,null,null,null,{"$f":"IFERROR(INDEX(Kalkulacja!Q:Q,Q504),0)","v":0},0]
[null,null,null,{"$f":"IFERROR(IF(N505>0,\"SUGEROWANE\",IF((INDEX(Kalkulacja!B:B,MATCH(G505,Kalkulacja!H:H,0)))=\"x\",\"USŁUGA\",\"\")),\"\")","v":""},"i",null,{"$f":"Kalkulacja!H452","v":"Integracja z Asseco WAPRO WF-MAG"},null,null,0,{"$f":"IFERROR(IF(Kalkulacja!$F$2=\"x\",INDEX(Kalkulacja!$R$1:$R$459,Q505),\"\"),\"\")","v":""},null,0,{"$f":"IFERROR(INDEX('Podświetlanie modułów'!H:H,MATCH(G505,'Podświetlanie modułów'!F:F,0)),0)","v":0},{"$f":"IF(M505*1>0,\"x\",IF(INDEX(Kalkulacja!A:A,Q505)=\"x\",\"x\",0))","v":"x"},"TRUE",{"$f":"MATCH(G505,Kalkulacja!$H$1:$H$459,0)","v":452},null,null,0,null,0,null,null,null,null,"Integracja z Asseco WAPRO WF-MAG",null,null,null,null,{"$f":"IFERROR(INDEX(Kalkulacja!Q:Q,Q505),0)","v":0},0]
[null,null,null,{"$f":"IFERROR(IF(N506>0,\"SUGEROWANE\",IF((INDEX(Kalkulacja!B:B,MATCH(G506,Kalkulacja!H:H,0)))=\"x\",\"USŁUGA\",\"\")),\"\")","v":""},"i",null,{"$f":"Kalkulacja!H453","v":"Dodatkowy moduł 118"},null,null,0,{"$f":"IFERROR(IF(Kalkulacja!$F$2=\"x\",INDEX(Kalkulacja!$R$1:$R$459,Q506),\"\"),\"\")","v":""},null,false,{"$f":"IFERROR(INDEX('Podświetlanie modułów'!H:H,MATCH(G506,'Podświetlanie modułów'!F:F,0)),0)","v":0},{"$f":"IF(M506*1>0,\"x\",IF(INDEX(Kalkulacja!A:A,Q506)=\"x\",\"x\",0))","v":0},"FALSE",{"$f":"MATCH(G506,Kalkulacja!$H$1:$H$459,0)","v":453},null,null,0,null,0,null,null,null,null,"Dodatkowy moduł 118",null,null,null,null,{"$f":"IFERROR(INDEX(Kalkulacja!Q:Q,Q506),0)","v":0},0]
[null,null,null,{"$f":"IFERROR(IF(N507>0,\"SUGEROWANE\",IF((INDEX(Kalkulacja!B:B,MATCH(G507,Kalkulacja!H:H,0)))=\"x\",\"USŁUGA\",\"\")),\"\")","v":""},"i",null,{"$f":"Kalkulacja!H454","v":"Dodatkowy moduł 119"},null,null,0,{"$f":"IFERROR(IF(Kalkulacja!$F$2=\"x\",INDEX(Kalkulacja!$R$1:$R$459,Q507),\"\"),\"\")","v":""},null,0,{"$f":"IFERROR(INDEX('Podświetlanie modułów'!H:H,MATCH(G507,'Podświetlanie modułów'!F:F,0)),0)","v":0},{"$f":"IF(M507*1>0,\"x\",IF(INDEX(Kalkulacja!A:A,Q507)=\"x\",\"x\",0))","v":0},"FALSE",{"$f":"MATCH(G507,Kalkulacja!$H$1:$H$459,0)","v":454},null,null,0,null,0,null,null,null,null,"Dodatkowy moduł 119",null,null,null,null,{"$f":"IFERROR(INDEX(Kalkulacja!Q:Q,Q507),0)","v":0},0]
[null,null,null,{"$f":"IFERROR(IF(N508>0,\"SUGEROWANE\",IF((INDEX(Kalkulacja!B:B,MATCH(G508,Kalkulacja!H:H,0)))=\"x\",\"USŁUGA\",\"\")),\"\")","v":""},"i",null,{"$f":"Kalkulacja!H455","v":"Dodatkowy moduł 120"},null,null,0,{"$f":"IFERROR(IF(Kalkulacja!$F$2=\"x\",INDEX(Kalkulacja!$R$1:$R$459,Q508),\"\"),\"\")","v":""},null,false,{"$f":"IFERROR(INDEX('Podświetlanie modułów'!H:H,MATCH(G508,'Podświetlanie modułów'!F:F,0)),0)","v":0},{"$f":"IF(M508*1>0,\"x\",IF(INDEX(Kalkulacja!A:A,Q508)=\"x\",\"x\",0))","v":0},"FALSE",{"$f":"MATCH(G508,Kalkulacja!$H$1:$H$459,0)","v":455},null,null,0,null,0,null,null,null,null,"Dodatkowy moduł 120",null,null,null,null,{"$f":"IFERROR(INDEX(Kalkulacja!Q:Q,Q508),0)","v":0},0]
[null,null,null,{"$f":"IFERROR(IF(N509>0,\"SUGEROWANE\",IF((INDEX(Kalkulacja!B:B,MATCH(G509,Kalkulacja!H:H,0)))=\"x\",\"USŁUGA\",\"\")),\"\")","v":""},"i",null,{"$f":"Kalkulacja!H456","v":"Dodatkowy moduł 121"},null,null,0,{"$f":"IFERROR(IF(Kalkulacja!$F$2=\"x\",INDEX(Kalkulacja!$R$1:$R$459,Q509),\"\"),\"\")","v":""},null,false,{"$f":"IFERROR(INDEX('Podświetlanie modułów'!H:H,MATCH(G509,'Podświetlanie modułów'!F:F,0)),0)","v":0},{"$f":"IF(M509*1>0,\"x\",IF(INDEX(Kalkulacja!A:A,Q509)=\"x\",\"x\",0))","v":0},"FALSE",{"$f":"MATCH(G509,Kalkulacja!$H$1:$H$459,0)","v":456},null,null,0,null,0,null,null,null,null,"Dodatkowy moduł 121",null,null,null,null,{"$f":"IFERROR(INDEX(Kalkulacja!Q:Q,Q509),0)","v":0},0]
[null,null,null,{"$f":"IFERROR(IF(N510>0,\"SUGEROWANE\",IF((INDEX(Kalkulacja!B:B,MATCH(G510,Kalkulacja!H:H,0)))=\"x\",\"USŁUGA\",\"\")),\"\")","v":""},"i",null,{"$f":"Kalkulacja!H457","v":"Dodatkowy moduł 122"},null,null,0,{"$f":"IFERROR(IF(Kalkulacja!$F$2=\"x\",INDEX(Kalkulacja!$R$1:$R$459,Q510),\"\"),\"\")","v":""},null,0,{"$f":"IFERROR(INDEX('Podświetlanie modułów'!H:H,MATCH(G510,'Podświetlanie modułów'!F:F,0)),0)","v":0},{"$f":"IF(M510*1>0,\"x\",IF(INDEX(Kalkulacja!A:A,Q510)=\"x\",\"x\",0))","v":0},"FALSE",{"$f":"MATCH(G510,Kalkulacja!$H$1:$H$459,0)","v":457},null,null,0,null,0,null,null,null,null,"Dodatkowy moduł 122",null,null,null,null,{"$f":"IFERROR(INDEX(Kalkulacja!Q:Q,Q510),0)","v":0},0]
[null,null,null,{"$f":"IFERROR(IF(N511>0,\"SUGEROWANE\",IF((INDEX(Kalkulacja!B:B,MATCH(G511,Kalkulacja!H:H,0)))=\"x\",\"USŁUGA\",\"\")),\"\")","v":""},{"$f":"Kalkulacja!H458","v":"Języki"},null,null,null,null,null,null,null,null,{"$f":"IFERROR(INDEX('Podświetlanie modułów'!H:H,MATCH(G511,'Podświetlanie modułów'!F:F,0)),0)","v":0},{"$f":"IF(COUNTIF(O512,\"x\")>0,\"x\",0)","v":"x"},"TRUE",{"$f":"MATCH(E511,Kalkulacja!$H$1:$H$459,0)","v":458},null,null,0,null,0,null,null,null,null,0,null,null,null,null,{"$f":"IFERROR(INDEX(Kalkulacja!Q:Q,Q511),0)","v":0},0]
[null,null,null,{"$f":"IFERROR(IF(N512>0,\"SUGEROWANE\",IF((INDEX(Kalkulacja!B:B,MATCH(G512,Kalkulacja!H:H,0)))=\"x\",\"USŁUGA\",\"\")),\"\")","v":""},"i",{"$f":"IF(ISBLANK(G512),\" Podaj liczbę wersji językowych\",\"\")","v":""},{"$f":"Kalkulacja!H459","v":"Dodatkowe wersje językowe"},null,null,null,{"$f":"IFERROR(IF(Kalkulacja!$F$2=\"x\",INDEX(Kalkulacja!$R$1:$R$459,MATCH(G512,Kalkulacja!$H$1:$H$459,0)),\"\"),\"\")","v":""},null,6,{"$f":"IFERROR(INDEX('Podświetlanie modułów'!H:H,MATCH(G512,'Podświetlanie modułów'!F:F,0)),0)","v":0},{"$f":"IF(M512*1>0,\"x\",IF(INDEX(Kalkulacja!A:A,Q512)=\"x\",\"x\",0))","v":"x"},"TRUE",{"$f":"MATCH(G512,Kalkulacja!$H$1:$H$459,0)","v":459},null,null,0,null,0,null,null,null,null,"Dodatkowe wersje językowe",null,null,null,null,{"$f":"IFERROR(INDEX(Kalkulacja!Q:Q,Q512),0)","v":0},0]
[null,null,null,null,null,null,null,null,null,null,null,null,null,null,null,null,null,null,null,null,null,null,null,null,null,null,0]
[null,"Podsumowanie",null,null,null,null,null,"Dodatkowe koszty licencji",null,null,{"$f":"IF(Kalkulacja!$F$2=\"x\",Kalkulacja!R461,\"\")","v":""},null,null,null,null,null,null,null,null,null,null,null,null,null,null,null,0]
[null,null,null,null,null,null,null,"Koszt całkowity",null,null,{"$f":"IF(Kalkulacja!$F$2=\"x\",Kalkulacja!R462,\"\")","v":""},null,null,null,null,null,null,null,null,null,null,null,null,null,null,null,0]
[null,null,null,null,null,null,null,null,null,null,null,null,null,null,null,null,null,null,null,null,null,null,null,null,null,null,0]
[null,"Preferencje wizualne",null,null,null,null,null,null,null,null,null,null,null,null,null,null,null,null,null,null,null,null,null,null,null,null,0]
[null,"Jakie są Twoje oczekiwania dotyczące wyglądu strony www (np. kolorystyka, czcionki, styl)?  ",null,null,null,null,null,null,null,null,null,null,null,null,null,null,null,null,null,null,null,null,null,null,null,null,0]
[null,"Czy są strony (niekoniecznie z Waszej branży), które szczególnie się podobają? Proszę podać ich adresy www.",null,null,null,null,null,null,null,null,null,null,null,null,null,null,null,null,null,null,null,null,null,null,null,null,0]
[null,"Dodatkowe pytania",null,null,null,null,null,null,null,null,null,null,null,null,null,null,null,null,null,null,null,null,null,null,null,null,0]
[null,"Czy posiadasz treści\ni zdjęcia na stronę?\nCo jeszcze pozostało do przygotowania?",null,null,null,null,null,null,null,null,null,null,null,null,null,null,null,null,null,null,null,null,null,null,null,null,0]
[null,"Czy posidasz domenę?\nCzy posiadacie hosting (gdzie?) ",null,null,null,null,null,null,null,null,null,null,null,null,null,null,null,null,null,null,null,null,null,null,null,null,0]
[null,"Jakie działania marketingowe prowadzisz lub planujesz prowadzić? ",null,null,"Prowadzę",null,null,null,"Mam w planach",null,null,null,null,null,null,null,null,null,null,null,null,null,null,null,null,null,0]
[null,"Social Media np. Facebook, Instagram, Linkedin + podaj linki URL do swoich kanałów"]
[null,"Pozycjonowanie w Google"]
[null,"Reklama w Google Ads"]
[null,"E-mail marketing "]
[null,"Wizytówka na mapach Google"]

{"sheet":"Sklep - szczegóły","index":1,"n_rows":83,"n_cols":7,"rows_kept":83,"cut":false,"hidden":true,"merged":[[8,4,8,10],[18,1,18,3],[5,1,5,3],[5,4,5,10],[6,1,6,3],[6,4,6,10],[7,4,7,10],[16,4,16,10],[17,4,17,10],[9,4,9,10],[10,4,10,10],[11,4,11,10],[12,4,12,10],[13,4,13,10],[2,1,2,10],[3,1,3,3],[3,4,3,10],[4,1,4,3],[4,4,4,10],[21,1,21,3],[21,4,21,10],[20,1,20,10],[18,4,18,10],[28,2,29,2],[28,3,29,3],[49,1,49,10],[7,2,7,3],[8,2,8,3],[9,2,9,3],[10,2,10,3],[17,2,17,3],[16,2,16,3],[15,2,15,3],[14,2,14,3],[13,2,13,3],[12,2,12,3],[11,2,11,3],[41,1,41,3],[41,4,41,10],[14,4,14,10],[15,4,15,10],[50,4,50,10],[51,4,51,10],[52,4,52,10],[53,4,53,10],[54,4,54,10],[55,4,55,10],[56,4,56,10],[57,4,57,10],[58,4,58,10],[60,4,60,10],[80,1,80,3],[67,1,67,3],[62,4,62,10],[65,4,65,10],[67,4,67,10],[70,4,70,10],[74,4,74,10],[73,1,73,10],[64,1,64,10],[82,4,82,10],[81,4,81,10],[76,4,76,10],[78,4,78,10],[80,4,80,10]]}
[null,null,"Szczegóły do sklepu",null,null,null,"WooCommerce"]
[]
[null,"Produkty"]
[null,"1. Określ, co będziesz sprzedawać. "]
[null,"2. Wypisz nazwy kategorii w sklepie."]
[null,"3. Czy sklep będzie posiadać dodatkową kategoryzację produktów np. Nowości, Promocje, Bestsellery"]
[null,"4. Przedstaw przykład strony produktu (możesz podać przykład sklepu konkurencji)",null,null,"Podaj przykłady i zaznacz X"]
[null,"a","Opis skrócony"]
[null,"b","Opis rozbudowany"]
[null,"c","Parametry techniczne / Specyfikacja / Instrukcje / Do pobrania"]
[null,"d","Warianty / atrybuty produktu np. rozmiar, kolor, inne atrybuty."]
[null,"e","Zdjęcia/galerie"]
[null,"f","Wideo"]
[null,"g","Opinie / Gwarancja"]
[null,"h","Inne treści"]
[null,"i","Powiązane produkty (cross-selling)"]
[null,"j","Podobne lepsze produkty"]
[null,"k","Pakiety/grupy/zestawy produktów"]
[null,"5. Czy sklep oferuje produkty/usługi niestandardowe na indywidualne zamówienie?"]
[]
[null,"Dostawa, płatności"]
[null,"1. Ustal formy dostawy np. "]
[]
[null,null,"Przedpłata – Cena (wpisz cenę)","Za pobraniem – Cena (wpisz cenę)"]
[null,"Odbiór osobisty","Przedpłata","Płatność przy odbiorze (gotówka/karta?)"]
[null,"Kurier np. DPD","Przedpłata – 0 zł","Za pobraniem – 0 zł"]
[null,"Poczta Polska","Przedpłata – 0 zł","Za pobraniem – 0 zł"]
[null,"Paczkomaty","Przedpłata – 0 zł","Za pobraniem – 0 zł"]
[null,"Inny transport","Przedpłata – 0 zł","Za pobraniem – 0 zł"]
[null,"(podaj nazwę)"]
[]
[null,"Ustal czy ceny wysyłki są stałe czy zmienne w zależności od ilości, rodzaju produktu itp."]
[null,"Są to niezbędne informacje w celu przygotowania klas wysyłkowych (stawka dla klasy)."]
[]
[null,"2. Ustal metody płatności"]
[null,"a","Gotówka przy odbiorze osobistym"]
[null,"b","za pobraniem,"]
[null,"c","przelew na konto bankowe (przelew tradycyjny),"]
[null,"d","płatność online  np. PAYU, Przelewy24, Dotpay, tPay, PayPal"]
[null,"e","karta płatnicza (operator ten sam czy wyżej przy płatności online)."]
[]
[null,"3. Podpisz odpowiednie umowy / załóż konta z np.:"]
[null,"a","Kurierem np. DPD, DHL, UPS, Furgonetka,"]
[null,"b","Pocztą Polską,"]
[null,"c","InPost (paczkomaty)"]
[null,"d","Paczka w ruchu"]
[null,"e","Systemem płatności np. PAYU"]
[null,"f","Systemem płatności międzynarodowym np. PayPal"]
[]
[null,"Integracje"]
[null,"1. Magazyn – sklep WooCommerce posiada status magazynowy oraz automatyczny stan magazynowy, który zmienia się wraz ze sprzedażą produktów."]
[null,"Ustal czy chcesz stan magazynowy zintegrować z zewnętrznym systemem/programem magazynowym. Aktualne integracje z WooCommerce:"]
[null,"a","wFirma.pl"]
[null,"b","Subiekt GT / Subiekt nexo PRO"]
[null,"c","Sage Symfonia"]
[null,"d","Navireo"]
[null,"e","Asseco WAPRO WF-MAG"]
[null,"f","ZohoCRM"]
[null,"g","Pipedrive"]
[]
[null,"2. Ustal czy będziesz sprzedawać na allegro i lub czy potrzebujesz integracji w wystawianiu w sklepie i allegro automatycznie. Zalecane tylko dla dużych sklepów."]
[]
[null,"3. Czy chcesz wystawiać produkty w serwisie OLX poprzez automatyczne wystawianie ogłoszeń z poziomu WordPress?"]
[]
[null,"Formalności"]
[null,"1. Przygotuj dane firmy i dane konta bankowego do płatności przelewem bankowym."]
[]
[null,"2. Przygotuj Regulamin sklepu oraz komplet dokumentów np. odstąpienie od umowy, formularz reklamacji, pouczenia i klauzule."]
[null,"Polecamy zlecić to kancelarii Prawnej wyspecjalizowanej w regulaminach sklepów i serwisów internetowych: https://solidnyregulamin.pl/#cennik "]
[]
[null,"3. Określ e-mail sklepu, na który mają przychodzić zamówienia i wiadomości od klientów."]
[null,"Ten sam adres użyjemy jako e-mail wysyłający automatyczne powiadomienia dla klientów."]
[]
[null,"Marketing"]
[null,"1. Czy sklep będzie reklamował się w Google Merchant Center (produkty w Google)?"]
[]
[null,"2. Czy sklep będzie wysyłał newsletter?"]
[]
[null,"3. Czy sklep chce oferować kupony rabatowe?"]
[]
[null,"4. Czy sklep będzie miał darmową przesyłkę? Na jakiej zasadzie ma działać np."]
[null,"a) po przekroczeniu kwoty zamówienia (podaj kwotę)"]
[null,"b) przy wpisaniu kuponu dającego darmową wysyłkę?"]

{"sheet":"Istotne dane","index":2,"n_rows":49,"n_cols":3,"rows_kept":49,"cut":false,"hidden":true,"merged":[[29,1,29,2],[33,1,33,2],[36,1,36,2],[39,1,39,2],[43,1,43,2],[23,1,23,2],[2,1,2,2],[7,1,7,2],[13,1,13,2],[14,1,14,2],[16,1,16,2]]}
[null,"           Istotne dane"]
[]
[null,"Podstawowe dane"]
[null,"Email do formularza"]
[null,"Telefon główny do firmy"]
[null,"Linki do Twoich kanałów social media"]
[]
[null,"FTP"]
[null,"Host"]
[null,"Login"]
[null,"Hasło"]
[null,"Port"]
[]
[null,"Istotne wymagania hostingowe do uruchomienia strony na WordPress:"]
[null," - PHP w wersji 7.4 lub wyższej\n- MySQL w wersji 5.6 lub wyższej, lub MariaDB w wersji 10.0 lub wyższej\n- Nginx lub Apache z modułem mod_rewrite\n- Wsparcie HTTPS"]
[]
[null,"MySQL"]
[null,"Link do panelu phpMyAdmin"]
[null,"Host"]
[null,"Nazwa bazy"]
[null,"Użytkownik"]
[null,"Hasło"]
[]
[null,"Domena"]
[null,"Link do panelu"]
[null,"Login "]
[null,"Hasło"]
[null,"Hasło"]
[]
[null,"WordPress"]
[null,"Login "]
[null,"Hasło"]
[]
[null,"Google Analytics"]
[null,"Wklej kod Google Analytics lub numer ID"]
[]
[null,"Pixel Facebook"]
[null,"Wklej Pixel Facebooka"]
[]
[null,"Inny kod"]
[null,"Wklej inny kod"]
[]
[]
[null,"Potrzebna pomoc? Skontaktuj się z nami"]
[]
[]
[null,null,"                                      Przemysław Bazanowski"]
[null,null,"                                      tel. 514 266 111"]
[null,null,"                                      przemyslaw@studiokreacja.pl"]

{"sheet":"Dostępy i kody","index":3,"n_rows":49,"n_cols":3,"rows_kept":49,"cut":false,"hidden":true,"merged":[[2,1,2,2],[7,1,7,2],[16,1,16,2],[13,1,13,2],[14,1,14,2],[43,1,43,2],[23,1,23,2],[33,1,33,2],[39,1,39,2],[29,1,29,2],[36,1,36,2]]}
[null,"           Dostępy i kody"]
[]
[null,"Panel serwera"]
[null,"Link do panelu"]
[null,"Login"]
[null,"Hasło"]
[]
[null,"FTP"]
[null,"Host"]
[null,"Login"]
[null,"Hasło"]
[null,"Port"]
[]
[null,"Istotne wymagania hostingowe do uruchomienia strony na WordPress:"]
[null," - PHP w wersji 7.4 lub wyższej\n- MySQL w wersji 5.6 lub wyższej, lub MariaDB w wersji 10.0 lub wyższej\n- Nginx lub Apache z modułem mod_rewrite\n- Wsparcie HTTPS"]
[]
[null,"MySQL"]
[null,"Link do panelu phpMyAdmin"]
[null,"Host"]
[null,"Nazwa bazy"]
[null,"Użytkownik"]
[null,"Hasło"]
[]
[null,"Domena"]
[null,"Link do panelu"]
[null,"Login "]
[null,"Hasło"]
[null,"Hasło"]
[]
[null,"WordPress"]
[null,"Login "]
[null,"Hasło"]
[]
[null,"Google Analytics"]
[null,"Wklej kod Google Analytics lub numer ID"]
[]
[null,"Pixel Facebook"]
[null,"Wklej Pixel Facebooka"]
[]
[null,"Inny kod"]
[null,"Wklej inny kod"]
[]
[]
[null,"Potrzebna pomoc? Skontaktuj się z nami"]
[]
[]
[null,null,"                                      Przemysław Bazanowski"]
[null,null,"                                      tel. 514 266 111"]
[null,null,"                                      przemyslaw@studiokreacja.pl"]

{"sheet":"Dodatkowe usługi","index":4,"n_rows":4,"n_cols":21,"rows_kept":4,"cut":false,"hidden":true,"merged":[]}
["Podstawa","Usługa","Moduł",null,"Czas projektu","Cena projektu","Czas projektu","Cena Content Managera","Czas programowania","Cena programowania","Ilość","Na liście","Razem cena","Cena licencji","Ilość","Suma czasu projektu","Suma czasu Content Managera","Suma czasu programowania","Przykłady",null,"Wtyczka"]
[null,null,null,null,"Stawka",120,"Stawka",120,"Stawka",150]
[null,null,"Materiały"]
[null,"Usługa:","Nazwa usługi / modułu",null,0,{"$f":"E4*F2","v":0},0,{"$f":"G4*H2","v":0},0,{"$f":"I4*J2","v":0},1,null,{"$f":"(F4+H4+J4)*K4","v":0},0,{"$f":"K4","v":1},{"$f":"K4*E4","v":0},{"$f":"K4*G4","v":0},{"$f":"K4*I4","v":0}]

{"sheet":"Harmonogram","index":5,"n_rows":25,"n_cols":4,"rows_kept":25,"cut":false,"hidden":true,"merged":[]}
[null,"           Harmonogram realizacji"]
[]
[null,"Szczegółowe etapy realizacji","Liczba dni roboczych","Termin"]
[null,"Podpisanie umowy - rozpoczęcie realizacji",null,{"$f":"DATE(2021,10,1)","v":"2021-10-01"}]
[null,"Przesłanie materiałów przez Zamawiającego",2,{"$f":"WORKDAY(D4,C5,Kalendarz!$A$1:$A$324)","v":"2021-10-05"}]
[null,"Projektowanie grafiki strony",{"$f":"Kalkulacja!R463","v":0},{"$f":"WORKDAY(D5,C6,Kalendarz!$A$1:$A$324)","v":"2021-10-05"}]
[null,"1 seria poprawek Zamawiającego",3,{"$f":"WORKDAY(D6,C7,Kalendarz!$A$1:$A$324)","v":"2021-10-08"}]
[null,"1 seria przesyłania poprawionych projektów",3,{"$f":"WORKDAY(D7,C8,Kalendarz!$A$1:$A$324)","v":"2021-10-13"}]
[null,"2 seria poprawek Zamawiającego",3,{"$f":"WORKDAY(D8,C9,Kalendarz!$A$1:$A$324)","v":"2021-10-18"}]
[null,"2 seria przesyłania poprawionych projektów",3,{"$f":"WORKDAY(D9,C10,Kalendarz!$A$1:$A$324)","v":"2021-10-21"}]
[null,"3 seria poprawek Zamawiającego",3,{"$f":"WORKDAY(D10,C11,Kalendarz!$A$1:$A$324)","v":"2021-10-26"}]
[null,"3 seria przesyłania poprawionych projektów",3,{"$f":"WORKDAY(D11,C12,Kalendarz!$A$1:$A$324)","v":"2021-10-29"}]
[null,"Kodowanie strony internetowej",{"$f":"Kalkulacja!R465","v":0},{"$f":"WORKDAY(D12,C13,Kalendarz!$A$1:$A$324)","v":"2021-10-29"}]
[null,"1 seria poprawek Zamawiającego",3,{"$f":"WORKDAY(D13,C14,Kalendarz!$A$1:$A$324)","v":"2021-11-04"}]
[null,"1 seria aktualizacji strony",3,{"$f":"WORKDAY(D14,C15,Kalendarz!$A$1:$A$324)","v":"2021-11-09"}]
[null,"2 seria poprawek Zamawiającego",3,{"$f":"WORKDAY(D15,C16,Kalendarz!$A$1:$A$324)","v":"2021-11-15"}]
[null,"2 seria aktualizacji strony",3,{"$f":"WORKDAY(D16,C17,Kalendarz!$A$1:$A$324)","v":"2021-11-18"}]
[null,"3 seria poprawek Zamawiającego",3,{"$f":"WORKDAY(D17,C18,Kalendarz!$A$1:$A$324)","v":"2021-11-23"}]
[null,"3 seria aktualizacji strony",3,{"$f":"WORKDAY(D18,C19,Kalendarz!$A$1:$A$324)","v":"2021-11-26"}]
[null,"Uruchomienie strony w internecie",1,{"$f":"WORKDAY(D19,C20,Kalendarz!$A$1:$A$324)","v":"2021-11-29"}]
[null,"Zakończenie realizacji",null,{"$f":"WORKDAY(D20,C21,Kalendarz!$A$1:$A$324)","v":"2021-11-29"}]
[null,"Łączna ilość dni podstawowej realizacji dla Studio Kreacja",{"$f":"C6+C13+C20","v":1}]
[null,"Łączna ilość dni na korekty dla Studio Kreacja",{"$f":"C8+C10+C12+C15+C17+C19","v":18}]
[null,"Łączna ilość dni na korekty dla Zamawiajacego",{"$f":"C7+C9+C11+C14+C16+C18","v":18}]
[null,"Łączna ilość dni roboczych całej realizacji",{"$f":"SUM(C5:C20)","v":39}]

{"sheet":"Kalkulacja","index":6,"n_rows":469,"n_cols":28,"rows_kept":469,"cut":false,"hidden":true,"merged":[[473,18,473,20],[466,18,466,20],[472,18,472,20],[459,0,464,7],[467,19,467,20],[468,19,468,20],[469,19,469,20],[470,19,470,20],[459,8,461,12],[462,8,464,12]]}
["Na liście","Usługa","Opcja preferowana","Podświetlenie modułów dot. podstron","Dodatkowy moduł","Pokazywanie cen","Pozycja modułu","Moduł","Przedział","Czas projektu","Cena projektu","Czas content manager","Cena content manager","Czas programowania","Cena programowania","Ilość","Podstawa","Razem cena","Cena licencji","Ilość","Koszt licencji","Suma czasu projektu","Suma czasu content managera","Suma czasu programowania","Przykład 1","Przykład 2",null,"Wtyczka"]
[null,null,null,{"$f":"IFERROR(INDEX('Podświetlanie modułów'!D:D,MATCH(H2,'Podświetlanie modułów'!B:B,0)),\"\")","v":""},null,null,null,null,null,"Stawka",120,"Stawka",120,"Stawka",150,null,"Narzut",0.1,null,null,"Bufor:",0.1,0.1,0.2]
[null,null,null,{"$f":"IFERROR(INDEX('Podświetlanie modułów'!D:D,MATCH(H3,'Podświetlanie modułów'!B:B,0)),\"\")","v":""},null,null,null,"Materiały"]
[null,"x",null,{"$f":"IFERROR(INDEX('Podświetlanie modułów'!D:D,MATCH(H4,'Podświetlanie modułów'!B:B,0)),\"\")","v":""},{"$f":"LEFT(H4,15)","v":"Napisanie tekst"},{"$f":"IF($F$2=\"x\",R4,\"\")","v":""},{"$f":"IFERROR(MATCH(H4,Brief!AA:AA,0),\"\")","v":86},"Napisanie tekstu 1000 zzs (ok. 1/3 strony A4)",null,0.7,{"$f":"J4*$K$2+(V2*(J4*$K$2))","v":92.4},null,null,null,null,{"$f":"IFERROR(INDEX(Brief!J:J,G4),0)","v":0},null,{"$f":"ROUNDUP(P4*(K4+O4)*(1+$R$2),-1)","v":0},0,0,null,{"$f":"P4*J4","v":0}]
[null,"x",null,{"$f":"IFERROR(INDEX('Podświetlanie modułów'!D:D,MATCH(H5,'Podświetlanie modułów'!B:B,0)),\"\")","v":""},"Przepisywanie t","",{"$f":"IFERROR(MATCH(H5,Brief!AA:AA,0),\"\")","v":87},"Przepisywanie tekstu 1000 zzs",null,0.3,{"$f":"J5*$K$2+(V2*(J5*$K$2))","v":39.6},null,null,null,null,{"$f":"IFERROR(INDEX(Brief!J:J,G5),0)","v":0},null,{"$f":"ROUNDUP(P5*(K5+O5)*(1+$R$2),-1)","v":0},null,0,null,0]
[null,"x",null,{"$f":"IFERROR(INDEX('Podświetlanie modułów'!D:D,MATCH(H6,'Podświetlanie modułów'!B:B,0)),\"\")","v":""},"Korekta błędów ","",{"$f":"IFERROR(MATCH(H6,Brief!AA:AA,0),\"\")","v":88},"Korekta błędów ortograficznych 1000 zzs",null,0.3,{"$f":"J6*$K$2+(V2*(J6*$K$2))","v":39.6},null,null,null,null,{"$f":"IFERROR(INDEX(Brief!J:J,G6),0)","v":0},null,0,null,0,null,0]
[null,"x",null,{"$f":"IFERROR(INDEX('Podświetlanie modułów'!D:D,MATCH(H7,'Podświetlanie modułów'!B:B,0)),\"\")","v":""},"Obróbka 1 zdjęc","",{"$f":"IFERROR(MATCH(H7,Brief!AA:AA,0),\"\")","v":89},"Obróbka 1 zdjęcia (kadrowanie, kolory)",null,0.3,{"$f":"J7*$K$2+(V2*(J7*$K$2))","v":39.6},null,null,null,null,{"$f":"IFERROR(INDEX(Brief!J:J,G7),0)","v":0},null,0,null,0,null,0]
[null,"x",null,{"$f":"IFERROR(INDEX('Podświetlanie modułów'!D:D,MATCH(H8,'Podświetlanie modułów'!B:B,0)),\"\")","v":""},"Fotografia 1 sz","",{"$f":"IFERROR(MATCH(H8,Brief!AA:AA,0),\"\")","v":90},"Fotografia 1 szt z banku zdjęć",null,0.3,{"$f":"J8*$K$2+(V2*(J8*$K$2))","v":39.6},null,null,null,null,{"$f":"IFERROR(INDEX(Brief!J:J,G8),0)","v":0},null,0,null,0,null,0]
[null,"x",null,{"$f":"IFERROR(INDEX('Podświetlanie modułów'!D:D,MATCH(H9,'Podświetlanie modułów'!B:B,0)),\"\")","v":0},"Fotomontaż ze z","",{"$f":"IFERROR(MATCH(H9,Brief!AA:AA,0),\"\")","v":91},"Fotomontaż ze zdjęć 1 szt","od ",1,{"$f":"J9*$K$2+(V2*(J9*$K$2))","v":132},null,null,null,null,{"$f":"IFERROR(INDEX(Brief!J:J,G9),0)","v":0},null,0,null,0,null,0,null,null,"https://famag.pl/rozwiazanie/opakowanie-siatkowe-do-warzyw-owocow/"]
[null,"x",null,{"$f":"IFERROR(INDEX('Podświetlanie modułów'!D:D,MATCH(H10,'Podświetlanie modułów'!B:B,0)),\"\")","v":""},"Odrysowanie log","",{"$f":"IFERROR(MATCH(H10,Brief!AA:AA,0),\"\")","v":92},"Odrysowanie logo",null,5,{"$f":"J10*$K$2+(V2*(J10*$K$2))","v":660},null,null,null,null,{"$f":"IFERROR(INDEX(Brief!J:J,G10),0)","v":0},null,{"$f":"ROUNDUP(P10*(K10+O10)*(1+$R$2),-1)","v":0},null,0,null,0]
[null,"x",null,{"$f":"IFERROR(INDEX('Podświetlanie modułów'!D:D,MATCH(H11,'Podświetlanie modułów'!B:B,0)),\"\")","v":""},"Projekt nowego ","",{"$f":"IFERROR(MATCH(H11,Brief!AA:AA,0),\"\")","v":93},"Projekt nowego logo",null,16,{"$f":"J11*$K$2+(V2*(J11*$K$2))","v":2112},null,null,null,null,{"$f":"IFERROR(INDEX(Brief!J:J,G11),0)","v":0},null,0,null,0,null,0]
[null,null,null,{"$f":"IFERROR(INDEX('Podświetlanie modułów'!D:D,MATCH(H12,'Podświetlanie modułów'!B:B,0)),\"\")","v":""},{"$f":"LEFT(H12,15)","v":"Dodatkowy moduł"},"",{"$f":"IFERROR(MATCH(H12,Brief!AA:AA,0),\"\")","v":94},{"$f":"\"Dodatkowy moduł \"&(COUNTIF($E$4:E11,\"Dodatkowy moduł\")+1)","v":"Dodatkowy moduł 1"},null,null,{"$f":"J12*$K$2+(V2*(J12*$K$2))","v":0},null,null,null,null,{"$f":"IFERROR(INDEX(Brief!J:J,G12),0)","v":0},null,0,null,null,null,0]
[null,null,null,{"$f":"IFERROR(INDEX('Podświetlanie modułów'!D:D,MATCH(H13,'Podświetlanie modułów'!B:B,0)),\"\")","v":""},{"$f":"LEFT(H13,15)","v":"Dodatkowy moduł"},"",{"$f":"IFERROR(MATCH(H13,Brief!AA:AA,0),\"\")","v":95},{"$f":"\"Dodatkowy moduł \"&(COUNTIF($E$4:E12,\"Dodatkowy moduł\")+1)","v":"Dodatkowy moduł 2"},null,null,{"$f":"J13*$K$2+(V2*(J13*$K$2))","v":0},null,null,null,null,{"$f":"IFERROR(INDEX(Brief!J:J,G13),0)","v":0},null,0,null,null,null,0]
[null,null,null,{"$f":"IFERROR(INDEX('Podświetlanie modułów'!D:D,MATCH(H14,'Podświetlanie modułów'!B:B,0)),\"\")","v":""},"Dodatkowy moduł","",{"$f":"IFERROR(MATCH(H14,Brief!AA:AA,0),\"\")","v":96},{"$f":"\"Dodatkowy moduł \"&(COUNTIF($E$4:E13,\"Dodatkowy moduł\")+1)","v":"Dodatkowy moduł 3"},null,null,{"$f":"J14*$K$2+(V2*(J14*$K$2))","v":0},null,null,null,null,{"$f":"IFERROR(INDEX(Brief!J:J,G14),0)","v":0},null,0,null,null,null,0]
[null,null,null,{"$f":"IFERROR(INDEX('Podświetlanie modułów'!D:D,MATCH(H15,'Podświetlanie modułów'!B:B,0)),\"\")","v":""},"Dodatkowy moduł","",{"$f":"IFERROR(MATCH(H15,Brief!AA:AA,0),\"\")","v":97},{"$f":"\"Dodatkowy moduł \"&(COUNTIF($E$4:E14,\"Dodatkowy moduł\")+1)","v":"Dodatkowy moduł 4"},null,null,{"$f":"J15*$K$2+(V2*(J15*$K$2))","v":0},null,null,null,null,{"$f":"IFERROR(INDEX(Brief!J:J,G15),0)","v":0},null,0,null,null,null,0]
[null,null,null,{"$f":"IFERROR(INDEX('Podświetlanie modułów'!D:D,MATCH(H16,'Podświetlanie modułów'!B:B,0)),\"\")","v":""},"Dodatkowy moduł","",{"$f":"IFERROR(MATCH(H16,Brief!AA:AA,0),\"\")","v":98},{"$f":"\"Dodatkowy moduł \"&(COUNTIF($E$4:E15,\"Dodatkowy moduł\")+1)","v":"Dodatkowy moduł 5"},null,null,{"$f":"J16*$K$2+(V2*(J16*$K$2))","v":0},null,null,null,null,{"$f":"IFERROR(INDEX(Brief!J:J,G16),0)","v":0},null,0,null,null,null,0]
[null,null,null,{"$f":"IFERROR(INDEX('Podświetlanie modułów'!D:D,MATCH(H17,'Podświetlanie modułów'!B:B,0)),\"\")","v":""},"Tylko Projekt g","",{"$f":"IFERROR(MATCH(H17,Brief!AA:AA,0),\"\")","v":""},"Tylko Projekt graficzny www"]
[null,null,null,{"$f":"IFERROR(INDEX('Podświetlanie modułów'!D:D,MATCH(H18,'Podświetlanie modułów'!B:B,0)),\"\")","v":""},"Projekt strony ","",{"$f":"IFERROR(MATCH(H18,Brief!AA:AA,0),\"\")","v":100},"Projekt strony głównej 3 sekcje",null,10,{"$f":"J18*$K$2+(V2*(J18*$K$2))","v":1320},null,null,null,null,{"$f":"IFERROR(INDEX(Brief!J:J,G18),0)","v":0},null,0,null,0,null,{"$f":"P18*J18","v":0}]
[null,null,null,{"$f":"IFERROR(INDEX('Podświetlanie modułów'!D:D,MATCH(H19,'Podświetlanie modułów'!B:B,0)),\"\")","v":""},"Projekt strony ","",{"$f":"IFERROR(MATCH(H19,Brief!AA:AA,0),\"\")","v":""},"Projekt strony głównej 5 sekcji",null,12,{"$f":"J19*$K$2+(V2*(J19*$K$2))","v":1584},null,null,null,null,{"$f":"IFERROR(INDEX(Brief!J:J,G19),0)","v":0},null,0,null,0,null,0,null,null,"http://folmat.pl/"]
[null,null,null,{"$f":"IFERROR(INDEX('Podświetlanie modułów'!D:D,MATCH(H20,'Podświetlanie modułów'!B:B,0)),\"\")","v":""},"Projekt strony ","",{"$f":"IFERROR(MATCH(H20,Brief!AA:AA,0),\"\")","v":""},"Projekt strony głównej 7 sekcji",null,14,{"$f":"J20*$K$2+(V2*(J20*$K$2))","v":1848},null,null,null,null,{"$f":"IFERROR(INDEX(Brief!J:J,G20),0)","v":0},null,0,null,0,null,0,null,null,"https://ama-bale.pl/"]
[null,null,null,{"$f":"IFERROR(INDEX('Podświetlanie modułów'!D:D,MATCH(H21,'Podświetlanie modułów'!B:B,0)),\"\")","v":""},"Projekt strony ","",{"$f":"IFERROR(MATCH(H21,Brief!AA:AA,0),\"\")","v":""},"Projekt strony głównej 10 sekcji",null,16,{"$f":"J21*$K$2+(V2*(J21*$K$2))","v":2112},null,null,null,null,{"$f":"IFERROR(INDEX(Brief!J:J,G21),0)","v":0},null,0,null,0,null,0,null,null,"https://tonyzgrywus.pl/","http://primecraftdeveloper.pl/"]
[null,null,null,{"$f":"IFERROR(INDEX('Podświetlanie modułów'!D:D,MATCH(H22,'Podświetlanie modułów'!B:B,0)),\"\")","v":""},"Projekt strony ","",{"$f":"IFERROR(MATCH(H22,Brief!AA:AA,0),\"\")","v":""},"Projekt strony głównej 15 sekcji",null,20,{"$f":"J22*$K$2+(V2*(J22*$K$2))","v":2640},null,null,null,null,{"$f":"IFERROR(INDEX(Brief!J:J,G22),0)","v":0},null,0,null,0,null,0,null,null,"https://mrpost.pl/"]
[null,null,null,{"$f":"IFERROR(INDEX('Podświetlanie modułów'!D:D,MATCH(H23,'Podświetlanie modułów'!B:B,0)),\"\")","v":""},"Strona 1 sekcja","",{"$f":"IFERROR(MATCH(H23,Brief!AA:AA,0),\"\")","v":101},"Strona 1 sekcja",null,1,{"$f":"J23*$K$2+(V2*(J23*$K$2))","v":132},null,null,null,null,{"$f":"IFERROR(INDEX(Brief!J:J,G23),0)","v":0},null,0,null,0,null,0]
[null,null,null,{"$f":"IFERROR(INDEX('Podświetlanie modułów'!D:D,MATCH(H24,'Podświetlanie modułów'!B:B,0)),\"\")","v":""},"> ","",{"$f":"IFERROR(MATCH(H24,Brief!AA:AA,0),\"\")","v":""},{"$f":"\"> \"&Brief!G102","v":"> "},null,null,null,null,null,null,null,{"$f":"IFERROR(INDEX(Brief!J:J,G24),0)","v":0},null,0]
[null,null,null,{"$f":"IFERROR(INDEX('Podświetlanie modułów'!D:D,MATCH(H25,'Podświetlanie modułów'!B:B,0)),\"\")","v":""},"Strona 3 sekcje","",{"$f":"IFERROR(MATCH(H25,Brief!AA:AA,0),\"\")","v":103},"Strona 3 sekcje",null,2,{"$f":"J25*$K$2+(V2*(J25*$K$2))","v":264},null,null,null,null,{"$f":"IFERROR(INDEX(Brief!J:J,G25),0)","v":0},null,0,null,0,null,{"$f":"P25*J25","v":0},null,null,"https://dlapracodawcy.contrain.pl/pracownicy-z-ukrainy/"]
[null,null,null,{"$f":"IFERROR(INDEX('Podświetlanie modułów'!D:D,MATCH(H26,'Podświetlanie modułów'!B:B,0)),\"\")","v":""},"> ","",{"$f":"IFERROR(MATCH(H26,Brief!AA:AA,0),\"\")","v":""},{"$f":"\"> \"&Brief!G104","v":"> "},null,null,null,null,null,null,null,{"$f":"IFERROR(INDEX(Brief!J:J,G26),0)","v":0},null,0]
[null,null,null,{"$f":"IFERROR(INDEX('Podświetlanie modułów'!D:D,MATCH(H27,'Podświetlanie modułów'!B:B,0)),\"\")","v":""},"Strona 5 sekcji","",{"$f":"IFERROR(MATCH(H27,Brief!AA:AA,0),\"\")","v":105},"Strona 5 sekcji",null,3,{"$f":"J27*$K$2+(V2*(J27*$K$2))","v":396},null,null,null,null,{"$f":"IFERROR(INDEX(Brief!J:J,G27),0)","v":0},null,0,null,0,null,{"$f":"P27*J27","v":0}]
[null,null,null,{"$f":"IFERROR(INDEX('Podświetlanie modułów'!D:D,MATCH(H28,'Podświetlanie modułów'!B:B,0)),\"\")","v":""},"> ","",{"$f":"IFERROR(MATCH(H28,Brief!AA:AA,0),\"\")","v":""},{"$f":"\"> \"&Brief!G106","v":"> "},null,null,null,null,null,null,null,{"$f":"IFERROR(INDEX(Brief!J:J,G28),0)","v":0},null,0]
[null,null,null,{"$f":"IFERROR(INDEX('Podświetlanie modułów'!D:D,MATCH(H29,'Podświetlanie modułów'!B:B,0)),\"\")","v":""},"Strona 7 sekcji","",{"$f":"IFERROR(MATCH(H29,Brief!AA:AA,0),\"\")","v":107},"Strona 7 sekcji",null,4,{"$f":"J29*$K$2+(V2*(J29*$K$2))","v":528},null,null,null,null,{"$f":"IFERROR(INDEX(Brief!J:J,G29),0)","v":0},null,0,null,0,null,{"$f":"P29*J29","v":0}]
[null,null,null,{"$f":"IFERROR(INDEX('Podświetlanie modułów'!D:D,MATCH(H30,'Podświetlanie modułów'!B:B,0)),\"\")","v":""},"> ","",{"$f":"IFERROR(MATCH(H30,Brief!AA:AA,0),\"\")","v":""},{"$f":"\"> \"&Brief!G108","v":"> "},null,null,null,null,null,null,null,{"$f":"IFERROR(INDEX(Brief!J:J,G30),0)","v":0},null,0]
[null,null,null,{"$f":"IFERROR(INDEX('Podświetlanie modułów'!D:D,MATCH(H31,'Podświetlanie modułów'!B:B,0)),\"\")","v":""},"Strona 10 sekcj","",{"$f":"IFERROR(MATCH(H31,Brief!AA:AA,0),\"\")","v":109},"Strona 10 sekcji",null,5,{"$f":"J31*$K$2+(V2*(J31*$K$2))","v":660},null,null,null,null,{"$f":"IFERROR(INDEX(Brief!J:J,G31),0)","v":0},null,0,null,0,null,{"$f":"P31*J31","v":0}]
[null,null,null,null,null,null,{"$f":"IFERROR(MATCH(H32,Brief!AA:AA,0),\"\")","v":""},{"$f":"\"> \"&Brief!G110","v":"> "},null,null,null,null,null,null,null,{"$f":"IFERROR(INDEX(Brief!J:J,G32),0)","v":0},null,0]
[null,null,null,{"$f":"IFERROR(INDEX('Podświetlanie modułów'!D:D,MATCH(H33,'Podświetlanie modułów'!B:B,0)),\"\")","v":""},"Dodatkowy moduł",{"$f":"IF($F$2=\"x\",R33,\"\")","v":""},{"$f":"IFERROR(MATCH(H33,Brief!AA:AA,0),\"\")","v":111},{"$f":"\"Dodatkowy moduł \"&(COUNTIF($E$4:E32,\"Dodatkowy moduł\")+1)","v":"Dodatkowy moduł 6"},null,null,{"$f":"J33*$K$2+(V2*(J33*$K$2))","v":0},null,null,null,null,{"$f":"IFERROR(INDEX(Brief!J:J,G33),0)","v":0},null,0,null,null,null,{"$f":"P33*J33","v":0}]
[null,null,null,{"$f":"IFERROR(INDEX('Podświetlanie modułów'!D:D,MATCH(H34,'Podświetlanie modułów'!B:B,0)),\"\")","v":""},"Dodatkowy moduł","",{"$f":"IFERROR(MATCH(H34,Brief!AA:AA,0),\"\")","v":112},{"$f":"\"Dodatkowy moduł \"&(COUNTIF($E$4:E33,\"Dodatkowy moduł\")+1)","v":"Dodatkowy moduł 7"},null,null,{"$f":"J34*$K$2+(V2*(J34*$K$2))","v":0},null,null,null,null,{"$f":"IFERROR(INDEX(Brief!J:J,G34),0)","v":0},null,0,null,null,null,{"$f":"P34*J34","v":0}]
[null,null,null,{"$f":"IFERROR(INDEX('Podświetlanie modułów'!D:D,MATCH(H35,'Podświetlanie modułów'!B:B,0)),\"\")","v":""},"Dodatkowy moduł","",{"$f":"IFERROR(MATCH(H35,Brief!AA:AA,0),\"\")","v":113},{"$f":"\"Dodatkowy moduł \"&(COUNTIF($E$4:E34,\"Dodatkowy moduł\")+1)","v":"Dodatkowy moduł 8"},null,null,{"$f":"J35*$K$2+(V2*(J35*$K$2))","v":0},null,null,null,null,{"$f":"IFERROR(INDEX(Brief!J:J,G35),0)","v":0},null,0,null,null,null,{"$f":"P35*J35","v":0}]
[null,null,null,{"$f":"IFERROR(INDEX('Podświetlanie modułów'!D:D,MATCH(H36,'Podświetlanie modułów'!B:B,0)),\"\")","v":""},"Dodatkowy moduł","",{"$f":"IFERROR(MATCH(H36,Brief!AA:AA,0),\"\")","v":114},{"$f":"\"Dodatkowy moduł \"&(COUNTIF($E$4:E35,\"Dodatkowy moduł\")+1)","v":"Dodatkowy moduł 9"},null,null,{"$f":"J36*$K$2+(V2*(J36*$K$2))","v":0},null,null,null,null,{"$f":"IFERROR(INDEX(Brief!J:J,G36),0)","v":0},null,0,null,null,null,{"$f":"P36*J36","v":0}]
[null,null,null,{"$f":"IFERROR(INDEX('Podświetlanie modułów'!D:D,MATCH(H37,'Podświetlanie modułów'!B:B,0)),\"\")","v":""},"Projekt bloga","",{"$f":"IFERROR(MATCH(H37,Brief!AA:AA,0),\"\")","v":""},"Projekt bloga"]
[null,null,null,{"$f":"IFERROR(INDEX('Podświetlanie modułów'!D:D,MATCH(H38,'Podświetlanie modułów'!B:B,0)),\"\")","v":""},"Lista wpisów pr","",{"$f":"IFERROR(MATCH(H38,Brief!AA:AA,0),\"\")","v":""},"Lista wpisów prosta",null,1.5,{"$f":"J38*$K$2+(V2*(J38*$K$2))","v":198},null,null,null,null,{"$f":"IFERROR(INDEX(Brief!J:J,G38),0)","v":0},null,0,null,0,null,{"$f":"P38*J38","v":0},null,null,"https://devaldano.pl/aktualnosci/"]
[null,null,"x",{"$f":"IFERROR(INDEX('Podświetlanie modułów'!D:D,MATCH(H39,'Podświetlanie modułów'!B:B,0)),\"\")","v":""},"Lista wpisów ro","",{"$f":"IFERROR(MATCH(H39,Brief!AA:AA,0),\"\")","v":116},"Lista wpisów rozbudowana",null,3,{"$f":"J39*$K$2+(V2*(J39*$K$2))","v":396},null,null,null,null,{"$f":"IFERROR(INDEX(Brief!J:J,G39),0)","v":0},null,0,null,0,null,0,null,null,"https://studiokreacja.pl/kategorie/blog/",null,null,"https://cmt-advisory.pl/blog/"]
[null,null,null,{"$f":"IFERROR(INDEX('Podświetlanie modułów'!D:D,MATCH(H40,'Podświetlanie modułów'!B:B,0)),\"\")","v":""},"Wpis podstawowy","",{"$f":"IFERROR(MATCH(H40,Brief!AA:AA,0),\"\")","v":""},"Wpis podstawowy",null,3,{"$f":"J40*$K$2+(V2*(J40*$K$2))","v":396},null,null,null,null,{"$f":"IFERROR(INDEX(Brief!J:J,G40),0)","v":0},null,0,null,0,null,0,null,null,"https://famag.pl/aktualnosci/zmieniamy-sie-dla-panstwa/","https://devaldano.pl/studio-kulinarne-devaldano/puszysty-sernik-jagodowy/"]
[null,null,"x",{"$f":"IFERROR(INDEX('Podświetlanie modułów'!D:D,MATCH(H41,'Podświetlanie modułów'!B:B,0)),\"\")","v":""},"Wpis złożony","",{"$f":"IFERROR(MATCH(H41,Brief!AA:AA,0),\"\")","v":117},"Wpis złożony",null,4,{"$f":"J41*$K$2+(V2*(J41*$K$2))","v":528},null,null,null,null,{"$f":"IFERROR(INDEX(Brief!J:J,G41),0)","v":0},null,0,null,0,null,0,null,null,"http://idea-house.pl/dla-biznesu/zmiany-w-prawie-budowlanym/"]
[null,null,null,{"$f":"IFERROR(INDEX('Podświetlanie modułów'!D:D,MATCH(H42,'Podświetlanie modułów'!B:B,0)),\"\")","v":""},"Wpis rozbudowan","",{"$f":"IFERROR(MATCH(H42,Brief!AA:AA,0),\"\")","v":""},"Wpis rozbudowany",null,6,{"$f":"J42*$K$2+(V2*(J42*$K$2))","v":792},null,null,null,null,{"$f":"IFERROR(INDEX(Brief!J:J,G42),0)","v":0},null,0,null,0,null,0,null,null,"https://premium-consulting.pl/blog/czy-w-kryzysie-nalezy-ciac-wydatki-reklamowe/"]
[null,null,null,{"$f":"IFERROR(INDEX('Podświetlanie modułów'!D:D,MATCH(H43,'Podświetlanie modułów'!B:B,0)),\"\")","v":""},"Obrazek do popu","",{"$f":"IFERROR(MATCH(H43,Brief!AA:AA,0),\"\")","v":118},"Obrazek do popup (tylko grafika)",null,1.5,{"$f":"J43*$K$2+(V2*(J43*$K$2))","v":198},null,null,null,null,{"$f":"IFERROR(INDEX(Brief!J:J,G43),0)","v":0},null,0,null,0,null,0]
[null,null,null,{"$f":"IFERROR(INDEX('Podświetlanie modułów'!D:D,MATCH(H44,'Podświetlanie modułów'!B:B,0)),\"\")","v":""},"Dodatkowy moduł","",{"$f":"IFERROR(MATCH(H44,Brief!AA:AA,0),\"\")","v":119},{"$f":"\"Dodatkowy moduł \"&(COUNTIF($E$4:E43,\"Dodatkowy moduł\")+1)","v":"Dodatkowy moduł 10"},null,null,{"$f":"J44*$K$2+(V2*(J44*$K$2))","v":0},null,null,null,null,{"$f":"IFERROR(INDEX(Brief!J:J,G44),0)","v":0},null,0,null,null,null,0]
[null,null,null,{"$f":"IFERROR(INDEX('Podświetlanie modułów'!D:D,MATCH(H45,'Podświetlanie modułów'!B:B,0)),\"\")","v":""},"Dodatkowy moduł","",{"$f":"IFERROR(MATCH(H45,Brief!AA:AA,0),\"\")","v":120},{"$f":"\"Dodatkowy moduł \"&(COUNTIF($E$4:E44,\"Dodatkowy moduł\")+1)","v":"Dodatkowy moduł 11"},null,null,{"$f":"J45*$K$2+(V2*(J45*$K$2))","v":0},null,null,null,null,{"$f":"IFERROR(INDEX(Brief!J:J,G45),0)","v":0},null,0,null,null,null,0]
[null,null,null,{"$f":"IFERROR(INDEX('Podświetlanie modułów'!D:D,MATCH(H46,'Podświetlanie modułów'!B:B,0)),\"\")","v":""},"Dodatkowy moduł","",{"$f":"IFERROR(MATCH(H46,Brief!AA:AA,0),\"\")","v":121},{"$f":"\"Dodatkowy moduł \"&(COUNTIF($E$4:E45,\"Dodatkowy moduł\")+1)","v":"Dodatkowy moduł 12"},null,null,{"$f":"J46*$K$2+(V2*(J46*$K$2))","v":0},null,null,null,null,{"$f":"IFERROR(INDEX(Brief!J:J,G46),0)","v":0},null,0,null,null,null,0]
[null,null,null,{"$f":"IFERROR(INDEX('Podświetlanie modułów'!D:D,MATCH(H47,'Podświetlanie modułów'!B:B,0)),\"\")","v":""},"Dodatkowy moduł","",{"$f":"IFERROR(MATCH(H47,Brief!AA:AA,0),\"\")","v":122},{"$f":"\"Dodatkowy moduł \"&(COUNTIF($E$4:E46,\"Dodatkowy moduł\")+1)","v":"Dodatkowy moduł 13"},null,null,{"$f":"J47*$K$2+(V2*(J47*$K$2))","v":0},null,null,null,null,{"$f":"IFERROR(INDEX(Brief!J:J,G47),0)","v":0},null,0,null,null,null,0]
[null,null,null,{"$f":"IFERROR(INDEX('Podświetlanie modułów'!D:D,MATCH(H48,'Podświetlanie modułów'!B:B,0)),\"\")","v":""},"Dodatkowy moduł","",{"$f":"IFERROR(MATCH(H48,Brief!AA:AA,0),\"\")","v":123},{"$f":"\"Dodatkowy moduł \"&(COUNTIF($E$4:E47,\"Dodatkowy moduł\")+1)","v":"Dodatkowy moduł 14"},null,null,{"$f":"J48*$K$2+(V2*(J48*$K$2))","v":0},null,null,null,null,{"$f":"IFERROR(INDEX(Brief!J:J,G48),0)","v":0},null,0,null,null,null,0]
[null,null,null,{"$f":"IFERROR(INDEX('Podświetlanie modułów'!D:D,MATCH(H49,'Podświetlanie modułów'!B:B,0)),\"\")","v":""},"Projekt sklepu","",{"$f":"IFERROR(MATCH(H49,Brief!AA:AA,0),\"\")","v":""},"Projekt sklepu"]
[null,null,null,{"$f":"IFERROR(INDEX('Podświetlanie modułów'!D:D,MATCH(H50,'Podświetlanie modułów'!B:B,0)),\"\")","v":""},"Strona produkt ","",{"$f":"IFERROR(MATCH(H50,Brief!AA:AA,0),\"\")","v":""},"Strona produkt prosty",null,3,{"$f":"J50*$K$2+(V2*(J50*$K$2))","v":396},null,null,null,null,{"$f":"IFERROR(INDEX(Brief!J:J,G50),0)","v":0},null,0,null,0,null,{"$f":"P50*J50","v":0}]
[null,null,null,{"$f":"IFERROR(INDEX('Podświetlanie modułów'!D:D,MATCH(H51,'Podświetlanie modułów'!B:B,0)),\"\")","v":""},"Strona produkt ","",{"$f":"IFERROR(MATCH(H51,Brief!AA:AA,0),\"\")","v":""},"Strona produkt + 3 sekcje",null,5,{"$f":"J51*$K$2+(V2*(J51*$K$2))","v":660},null,null,null,null,{"$f":"IFERROR(INDEX(Brief!J:J,G51),0)","v":0},null,0,null,0,null,0]
[null,null,"x",{"$f":"IFERROR(INDEX('Podświetlanie modułów'!D:D,MATCH(H52,'Podświetlanie modułów'!B:B,0)),\"\")","v":""},"Strona produkt ","",{"$f":"IFERROR(MATCH(H52,Brief!AA:AA,0),\"\")","v":125},"Strona produkt + 6 sekcji",null,7,{"$f":"J52*$K$2+(V2*(J52*$K$2))","v":924},null,null,null,null,{"$f":"IFERROR(INDEX(Brief!J:J,G52),0)","v":0},null,0,null,0,null,0]
[null,null,null,{"$f":"IFERROR(INDEX('Podświetlanie modułów'!D:D,MATCH(H53,'Podświetlanie modułów'!B:B,0)),\"\")","v":""},"Kategoria produ","",{"$f":"IFERROR(MATCH(H53,Brief!AA:AA,0),\"\")","v":126},"Kategoria produktów prosta",null,4,{"$f":"J53*$K$2+(V2*(J53*$K$2))","v":528},null,null,null,null,{"$f":"IFERROR(INDEX(Brief!J:J,G53),0)","v":0},null,0,null,0,null,0]
[null,null,null,{"$f":"IFERROR(INDEX('Podświetlanie modułów'!D:D,MATCH(H54,'Podświetlanie modułów'!B:B,0)),\"\")","v":""},"Kategoria produ","",{"$f":"IFERROR(MATCH(H54,Brief!AA:AA,0),\"\")","v":127},"Kategoria produktów rozbudowana",null,6,{"$f":"J54*$K$2+(V2*(J54*$K$2))","v":792},null,null,null,null,{"$f":"IFERROR(INDEX(Brief!J:J,G54),0)","v":0},null,0,null,0,null,0]
[null,null,null,{"$f":"IFERROR(INDEX('Podświetlanie modułów'!D:D,MATCH(H55,'Podświetlanie modułów'!B:B,0)),\"\")","v":""},"Koszyk","",{"$f":"IFERROR(MATCH(H55,Brief!AA:AA,0),\"\")","v":128},"Koszyk",null,3,{"$f":"J55*$K$2+(V2*(J55*$K$2))","v":396},null,null,null,null,{"$f":"IFERROR(INDEX(Brief!J:J,G55),0)","v":0},null,0,null,0,null,0]
[null,null,null,{"$f":"IFERROR(INDEX('Podświetlanie modułów'!D:D,MATCH(H56,'Podświetlanie modułów'!B:B,0)),\"\")","v":""},"Zamówienie","",{"$f":"IFERROR(MATCH(H56,Brief!AA:AA,0),\"\")","v":129},"Zamówienie",null,3,{"$f":"J56*$K$2+(V2*(J56*$K$2))","v":396},null,null,null,null,{"$f":"IFERROR(INDEX(Brief!J:J,G56),0)","v":0},null,0,null,0,null,0]
[null,null,null,{"$f":"IFERROR(INDEX('Podświetlanie modułów'!D:D,MATCH(H57,'Podświetlanie modułów'!B:B,0)),\"\")","v":""},"Podsumowanie","",{"$f":"IFERROR(MATCH(H57,Brief!AA:AA,0),\"\")","v":130},"Podsumowanie",null,2,{"$f":"J57*$K$2+(V2*(J57*$K$2))","v":264},null,null,null,null,{"$f":"IFERROR(INDEX(Brief!J:J,G57),0)","v":0},null,0,null,0,null,0]
[null,null,null,{"$f":"IFERROR(INDEX('Podświetlanie modułów'!D:D,MATCH(H58,'Podświetlanie modułów'!B:B,0)),\"\")","v":""},"Dodatkowy moduł","",{"$f":"IFERROR(MATCH(H58,Brief!AA:AA,0),\"\")","v":131},{"$f":"\"Dodatkowy moduł \"&(COUNTIF($E$4:E57,\"Dodatkowy moduł\")+1)","v":"Dodatkowy moduł 15"},null,null,{"$f":"J58*$K$2+(V2*(J58*$K$2))","v":0},null,null,null,null,{"$f":"IFERROR(INDEX(Brief!J:J,G58),0)","v":0},null,0,null,null,null,0]
[null,null,null,{"$f":"IFERROR(INDEX('Podświetlanie modułów'!D:D,MATCH(H59,'Podświetlanie modułów'!B:B,0)),\"\")","v":""},"Dodatkowy moduł","",{"$f":"IFERROR(MATCH(H59,Brief!AA:AA,0),\"\")","v":132},{"$f":"\"Dodatkowy moduł \"&(COUNTIF($E$4:E58,\"Dodatkowy moduł\")+1)","v":"Dodatkowy moduł 16"},null,null,{"$f":"J59*$K$2+(V2*(J59*$K$2))","v":0},null,null,null,null,{"$f":"IFERROR(INDEX(Brief!J:J,G59),0)","v":0},null,0,null,null,null,0]
[null,null,null,{"$f":"IFERROR(INDEX('Podświetlanie modułów'!D:D,MATCH(H60,'Podświetlanie modułów'!B:B,0)),\"\")","v":""},"Dodatkowy moduł","",{"$f":"IFERROR(MATCH(H60,Brief!AA:AA,0),\"\")","v":133},{"$f":"\"Dodatkowy moduł \"&(COUNTIF($E$4:E59,\"Dodatkowy moduł\")+1)","v":"Dodatkowy moduł 17"},null,null,{"$f":"J60*$K$2+(V2*(J60*$K$2))","v":0},null,null,null,null,{"$f":"IFERROR(INDEX(Brief!J:J,G60),0)","v":0},null,0,null,null,null,0]
[null,null,null,{"$f":"IFERROR(INDEX('Podświetlanie modułów'!D:D,MATCH(H61,'Podświetlanie modułów'!B:B,0)),\"\")","v":""},"Dodatkowy moduł","",{"$f":"IFERROR(MATCH(H61,Brief!AA:AA,0),\"\")","v":134},{"$f":"\"Dodatkowy moduł \"&(COUNTIF($E$4:E60,\"Dodatkowy moduł\")+1)","v":"Dodatkowy moduł 18"},null,null,{"$f":"J61*$K$2+(V2*(J61*$K$2))","v":0},null,null,null,null,{"$f":"IFERROR(INDEX(Brief!J:J,G61),0)","v":0},null,0,null,null,null,0]
[null,null,null,{"$f":"IFERROR(INDEX('Podświetlanie modułów'!D:D,MATCH(H62,'Podświetlanie modułów'!B:B,0)),\"\")","v":""},"Dodatkowy moduł","",{"$f":"IFERROR(MATCH(H62,Brief!AA:AA,0),\"\")","v":135},{"$f":"\"Dodatkowy moduł \"&(COUNTIF($E$4:E61,\"Dodatkowy moduł\")+1)","v":"Dodatkowy moduł 19"},null,null,{"$f":"J62*$K$2+(V2*(J62*$K$2))","v":0},null,null,null,null,{"$f":"IFERROR(INDEX(Brief!J:J,G62),0)","v":0},null,0,null,null,null,0]
[null,null,null,{"$f":"IFERROR(INDEX('Podświetlanie modułów'!D:D,MATCH(H63,'Podświetlanie modułów'!B:B,0)),\"\")","v":""},"Moduły i usługi","",{"$f":"IFERROR(MATCH(H63,Brief!AA:AA,0),\"\")","v":""},"Moduły i usługi strony www"]
[null,null,null,{"$f":"IFERROR(INDEX('Podświetlanie modułów'!D:D,MATCH(H64,'Podświetlanie modułów'!B:B,0)),\"\")","v":""},"Moduły podstawo","",{"$f":"IFERROR(MATCH(H64,Brief!AA:AA,0),\"\")","v":""},"Moduły podstawowe"]
[null,null,null,{"$f":"IFERROR(INDEX('Podświetlanie modułów'!D:D,MATCH(H65,'Podświetlanie modułów'!B:B,0)),\"\")","v":""},"Edytor Elemento",{"$f":"IF($F$2=\"x\",R65,\"\")","v":""},{"$f":"IFERROR(MATCH(H65,Brief!AA:AA,0),\"\")","v":138},"Edytor Elementor (Drag & Drop)",null,0,{"$f":"J65*$K$2+(V2*(J65*$K$2))","v":0},null,null,null,null,{"$f":"IFERROR(INDEX(Brief!J:J,G65),0)","v":0},null,0,null,{"$f":"P65","v":0},{"$f":"S65*T65","v":0},{"$f":"P65*J65","v":0},{"$f":"P65*L65","v":0},{"$f":"P65*N65","v":0},null,null,null,"Elementor"]
["x",null,null,{"$f":"IFERROR(INDEX('Podświetlanie modułów'!D:D,MATCH(H66,'Podświetlanie modułów'!B:B,0)),\"\")","v":""},"Strona główna 3","",{"$f":"IFERROR(MATCH(H66,Brief!AA:AA,0),\"\")","v":139},"Strona główna 3 sekcje (projekt + kodowanie)",null,7,{"$f":"J66*$K$2+(V2*(J66*$K$2))","v":924},null,null,12,{"$f":"$O$2*N66+($X$2*(N66*$O$2))","v":2160},{"$f":"IFERROR(INDEX(Brief!J:J,G66),0)","v":0},"x",0,null,{"$f":"P66","v":0},0,0,{"$f":"P66*L66","v":0},0,null,null,null,"WP"]
[null,null,null,{"$f":"IFERROR(INDEX('Podświetlanie modułów'!D:D,MATCH(H67,'Podświetlanie modułów'!B:B,0)),\"\")","v":""},"Strona główna 5","",{"$f":"IFERROR(MATCH(H67,Brief!AA:AA,0),\"\")","v":""},"Strona główna 5 sekcji (projekt + kodowanie)",null,9,{"$f":"J67*$K$2+(V2*(J67*$K$2))","v":1188},null,null,14,{"$f":"$O$2*N67+($X$2*(N67*$O$2))","v":2520},{"$f":"IFERROR(INDEX(Brief!J:J,G67),0)","v":0},"x",0,null,0,0,0,0,0,"http://folmat.pl/",null,null,"WP"]
[null,null,null,{"$f":"IFERROR(INDEX('Podświetlanie modułów'!D:D,MATCH(H68,'Podświetlanie modułów'!B:B,0)),\"\")","v":""},"Strona główna 7","",{"$f":"IFERROR(MATCH(H68,Brief!AA:AA,0),\"\")","v":""},"Strona główna 7 sekcji (projekt + kodowanie)",null,11,{"$f":"J68*$K$2+(V2*(J68*$K$2))","v":1452},null,null,16,2880,{"$f":"IFERROR(INDEX(Brief!J:J,G68),0)","v":0},"x",0,null,0,0,0,0,0,"https://ama-bale.pl/",null,null,"WP"]
[null,null,null,{"$f":"IFERROR(INDEX('Podświetlanie modułów'!D:D,MATCH(H69,'Podświetlanie modułów'!B:B,0)),\"\")","v":""},"Strona główna 1","",{"$f":"IFERROR(MATCH(H69,Brief!AA:AA,0),\"\")","v":""},"Strona główna 10 sekcji (projekt + kodowanie)",null,13,{"$f":"J69*$K$2+(V2*(J69*$K$2))","v":1716},null,null,20,3600,{"$f":"IFERROR(INDEX(Brief!J:J,G69),0)","v":0},"x",{"$f":"ROUNDUP(P69*(K69+O69)*(1+$R$2),-1)","v":0},null,0,0,0,0,0,"https://tonyzgrywus.pl/",null,null,"WP"]
[null,null,null,{"$f":"IFERROR(INDEX('Podświetlanie modułów'!D:D,MATCH(H70,'Podświetlanie modułów'!B:B,0)),\"\")","v":""},"Strona główna 1","",{"$f":"IFERROR(MATCH(H70,Brief!AA:AA,0),\"\")","v":""},"Strona główna 15 sekcji (projekt + kodowanie)",null,16,{"$f":"J70*$K$2+(V2*(J70*$K$2))","v":2112},null,null,25,4500,{"$f":"IFERROR(INDEX(Brief!J:J,G70),0)","v":0},"x",0,null,0,0,0,0,0,"https://mrpost.pl/",null,null,"WP"]
[null,null,null,{"$f":"IFERROR(INDEX('Podświetlanie modułów'!D:D,MATCH(H71,'Podświetlanie modułów'!B:B,0)),\"\")","v":""},"Strona 1 sekcja","",{"$f":"IFERROR(MATCH(H71,Brief!AA:AA,0),\"\")","v":140},"Strona 1 sekcja (projekt + kodowanie)",null,1,{"$f":"J71*$K$2+(V2*(J71*$K$2))","v":132},null,null,2,{"$f":"$O$2*N71+($X$2*(N71*$O$2))","v":360},{"$f":"IFERROR(INDEX(Brief!J:J,G71),0)","v":0},null,0,null,{"$f":"P71","v":0},0,0,0,0,"https://plusraty.pl/sprzedaz-bezposrednia/",null,null,"WP"]
[null,null,null,{"$f":"IFERROR(INDEX('Podświetlanie modułów'!D:D,MATCH(H72,'Podświetlanie modułów'!B:B,0)),\"\")","v":""},"> ","",{"$f":"IFERROR(MATCH(H72,Brief!AA:AA,0),\"\")","v":""},{"$f":"\"> \"&Brief!G141","v":"> "},null,null,null,null,null,null,null,{"$f":"IFERROR(INDEX(Brief!J:J,G72),0)","v":0},null,0,null,null,null,null,0]
[null,null,null,{"$f":"IFERROR(INDEX('Podświetlanie modułów'!D:D,MATCH(H73,'Podświetlanie modułów'!B:B,0)),\"\")","v":""},{"$f":"LEFT(H73,15)","v":"Strona 2 sekcje"},"",{"$f":"IFERROR(MATCH(H73,Brief!AA:AA,0),\"\")","v":142},"Strona 2 sekcje (projekt + kodowanie)",null,1.5,{"$f":"J73*$K$2+(V2*(J73*$K$2))","v":198},null,null,3,{"$f":"$O$2*N73+($X$2*(N73*$O$2))","v":540},{"$f":"IFERROR(INDEX(Brief!J:J,G73),0)","v":0},null,0,null,{"$f":"P71","v":0},{"$f":"S73*T73","v":0},{"$f":"P73*J73","v":0},0,{"$f":"P73*N73","v":0},null,null,null,"WP"]
[null,null,null,{"$f":"IFERROR(INDEX('Podświetlanie modułów'!D:D,MATCH(H74,'Podświetlanie modułów'!B:B,0)),\"\")","v":""},"> ","",{"$f":"IFERROR(MATCH(H74,Brief!AA:AA,0),\"\")","v":""},{"$f":"\"> \"&Brief!G145","v":"> "},null,null,null,null,null,null,null,{"$f":"IFERROR(INDEX(Brief!J:J,G74),0)","v":0},null,0,null,null,null,null,0]
[null,null,null,{"$f":"IFERROR(INDEX('Podświetlanie modułów'!D:D,MATCH(H75,'Podświetlanie modułów'!B:B,0)),\"\")","v":""},"Strona 3 sekcje","",{"$f":"IFERROR(MATCH(H75,Brief!AA:AA,0),\"\")","v":144},"Strona 3 sekcje (projekt + kodowanie)",null,2,{"$f":"J75*$K$2+(V2*(J75*$K$2))","v":264},null,null,4,{"$f":"$O$2*N75+($X$2*(N75*$O$2))","v":720},{"$f":"IFERROR(INDEX(Brief!J:J,G75),0)","v":0},null,0,null,{"$f":"P71","v":0},{"$f":"S75*T75","v":0},{"$f":"P75*J75","v":0},0,{"$f":"P75*N75","v":0},"https://dlapracodawcy.contrain.pl/pracownicy-z-ukrainy/",null,null,"WP"]
[null,null,null,{"$f":"IFERROR(INDEX('Podświetlanie modułów'!D:D,MATCH(H76,'Podświetlanie modułów'!B:B,0)),\"\")","v":""},"> ","",{"$f":"IFERROR(MATCH(H76,Brief!AA:AA,0),\"\")","v":""},{"$f":"\"> \"&Brief!G145","v":"> "},null,null,null,null,null,null,null,{"$f":"IFERROR(INDEX(Brief!J:J,G76),0)","v":0},null,0,null,null,null,null,0]
[null,null,null,{"$f":"IFERROR(INDEX('Podświetlanie modułów'!D:D,MATCH(H77,'Podświetlanie modułów'!B:B,0)),\"\")","v":""},{"$f":"LEFT(H77,15)","v":"Strona 4 sekcje"},"",{"$f":"IFERROR(MATCH(H77,Brief!AA:AA,0),\"\")","v":146},"Strona 4 sekcje (projekt + kodowanie)",null,3,{"$f":"J77*$K$2+(V2*(J77*$K$2))","v":396},null,null,5,{"$f":"$O$2*N77+($X$2*(N77*$O$2))","v":900},{"$f":"IFERROR(INDEX(Brief!J:J,G77),0)","v":0},null,0,null,{"$f":"P71","v":0},{"$f":"S77*T77","v":0},{"$f":"P77*J77","v":0},0,{"$f":"P77*N77","v":0},null,null,null,"WP"]
[null,null,null,{"$f":"IFERROR(INDEX('Podświetlanie modułów'!D:D,MATCH(H78,'Podświetlanie modułów'!B:B,0)),\"\")","v":""},"> ","",{"$f":"IFERROR(MATCH(H78,Brief!AA:AA,0),\"\")","v":""},{"$f":"\"> \"&Brief!G149","v":"> "},null,null,null,null,null,null,null,{"$f":"IFERROR(INDEX(Brief!J:J,G78),0)","v":0},null,0,null,null,null,null,0]
[null,null,null,{"$f":"IFERROR(INDEX('Podświetlanie modułów'!D:D,MATCH(H79,'Podświetlanie modułów'!B:B,0)),\"\")","v":""},"Strona 5 sekcji","",{"$f":"IFERROR(MATCH(H79,Brief!AA:AA,0),\"\")","v":148},"Strona 5 sekcji  (projekt + kodowanie)",null,4,{"$f":"J79*$K$2+(V2*(J79*$K$2))","v":528},null,null,6,{"$f":"$O$2*N79+($X$2*(N79*$O$2))","v":1080},{"$f":"IFERROR(INDEX(Brief!J:J,G79),0)","v":0},null,0,null,{"$f":"P71","v":0},{"$f":"S79*T79","v":0},{"$f":"P79*J79","v":0},0,{"$f":"P79*N79","v":0},null,null,null,"WP"]
[null,null,null,{"$f":"IFERROR(INDEX('Podświetlanie modułów'!D:D,MATCH(H80,'Podświetlanie modułów'!B:B,0)),\"\")","v":""},"> ","",{"$f":"IFERROR(MATCH(H80,Brief!AA:AA,0),\"\")","v":""},{"$f":"\"> \"&Brief!G149","v":"> "},null,null,null,null,null,null,null,{"$f":"IFERROR(INDEX(Brief!J:J,G80),0)","v":0},null,0,null,null,null,null,0]
[null,null,null,{"$f":"IFERROR(INDEX('Podświetlanie modułów'!D:D,MATCH(H81,'Podświetlanie modułów'!B:B,0)),\"\")","v":""},{"$f":"LEFT(H81,15)","v":"Strona 6 sekcji"},"",{"$f":"IFERROR(MATCH(H81,Brief!AA:AA,0),\"\")","v":150},"Strona 6 sekcji (projekt + kodowanie)",null,5,{"$f":"J81*$K$2+(V2*(J81*$K$2))","v":660},null,null,7,{"$f":"$O$2*N81+($X$2*(N81*$O$2))","v":1260},{"$f":"IFERROR(INDEX(Brief!J:J,G81),0)","v":0},null,0,null,{"$f":"P71","v":0},{"$f":"S81*T81","v":0},{"$f":"P81*J81","v":0},0,{"$f":"P81*N81","v":0},"http://primecraftdeveloper.pl/",null,null,"WP"]
[null,null,null,{"$f":"IFERROR(INDEX('Podświetlanie modułów'!D:D,MATCH(H82,'Podświetlanie modułów'!B:B,0)),\"\")","v":""},"> ","",{"$f":"IFERROR(MATCH(H82,Brief!AA:AA,0),\"\")","v":""},{"$f":"\"> \"&Brief!G149","v":"> "},null,null,null,null,null,null,null,{"$f":"IFERROR(INDEX(Brief!J:J,G82),0)","v":0},null,0,null,null,null,null,0]
[null,null,null,{"$f":"IFERROR(INDEX('Podświetlanie modułów'!D:D,MATCH(H83,'Podświetlanie modułów'!B:B,0)),\"\")","v":""},{"$f":"LEFT(H83,15)","v":"Strona 7 sekcji"},"",{"$f":"IFERROR(MATCH(H83,Brief!AA:AA,0),\"\")","v":152},"Strona 7 sekcji (projekt + kodowanie)",null,6,{"$f":"J83*$K$2+(V2*(J83*$K$2))","v":792},null,null,8,{"$f":"$O$2*N83+($X$2*(N83*$O$2))","v":1440},{"$f":"IFERROR(INDEX(Brief!J:J,G83),0)","v":0},null,0,null,{"$f":"P71","v":0},{"$f":"S83*T83","v":0},{"$f":"P83*J83","v":0},0,{"$f":"P83*N83","v":0},"http://primecraftdeveloper.pl/",null,null,"WP"]
[null,null,null,{"$f":"IFERROR(INDEX('Podświetlanie modułów'!D:D,MATCH(H84,'Podświetlanie modułów'!B:B,0)),\"\")","v":""},"> ","",{"$f":"IFERROR(MATCH(H84,Brief!AA:AA,0),\"\")","v":""},{"$f":"\"> \"&Brief!G153","v":"> "},null,null,null,null,null,null,null,{"$f":"IFERROR(INDEX(Brief!J:J,G84),0)","v":0},null,0,null,null,null,null,0]
[null,null,null,{"$f":"IFERROR(INDEX('Podświetlanie modułów'!D:D,MATCH(H85,'Podświetlanie modułów'!B:B,0)),\"\")","v":""},{"$f":"LEFT(H85,15)","v":"Strona 8 sekcji"},"",{"$f":"IFERROR(MATCH(H85,Brief!AA:AA,0),\"\")","v":154},"Strona 8 sekcji (projekt + kodowanie)",null,7,{"$f":"J85*$K$2+(V2*(J85*$K$2))","v":924},null,null,9,{"$f":"$O$2*N85+($X$2*(N85*$O$2))","v":1620},{"$f":"IFERROR(INDEX(Brief!J:J,G85),0)","v":0},null,0,null,{"$f":"P71","v":0},{"$f":"S85*T85","v":0},{"$f":"P85*J85","v":0},0,{"$f":"P85*N85","v":0},"http://primecraftdeveloper.pl/",null,null,"WP"]
[null,null,null,{"$f":"IFERROR(INDEX('Podświetlanie modułów'!D:D,MATCH(H86,'Podświetlanie modułów'!B:B,0)),\"\")","v":""},"> ","",{"$f":"IFERROR(MATCH(H86,Brief!AA:AA,0),\"\")","v":""},{"$f":"\"> \"&Brief!G159","v":"> "},null,null,null,null,null,null,null,{"$f":"IFERROR(INDEX(Brief!J:J,G86),0)","v":0},null,0,null,null,null,null,0]
[null,null,null,{"$f":"IFERROR(INDEX('Podświetlanie modułów'!D:D,MATCH(H87,'Podświetlanie modułów'!B:B,0)),\"\")","v":""},"Strona 9 sekcji","",{"$f":"IFERROR(MATCH(H87,Brief!AA:AA,0),\"\")","v":156},"Strona 9 sekcji (projekt + kodowanie)",null,8,{"$f":"J87*$K$2+(V2*(J87*$K$2))","v":1056},null,null,10,{"$f":"$O$2*N87+($X$2*(N87*$O$2))","v":1800},{"$f":"IFERROR(INDEX(Brief!J:J,G87),0)","v":0},null,0,null,{"$f":"P71","v":0},{"$f":"S87*T87","v":0},{"$f":"P87*J87","v":0},0,{"$f":"P87*N87","v":0},"http://primecraftdeveloper.pl/",null,null,"WP"]
[null,null,null,{"$f":"IFERROR(INDEX('Podświetlanie modułów'!D:D,MATCH(H88,'Podświetlanie modułów'!B:B,0)),\"\")","v":""},"> ","",{"$f":"IFERROR(MATCH(H88,Brief!AA:AA,0),\"\")","v":""},{"$f":"\"> \"&Brief!G161","v":"> "},null,null,null,null,null,null,null,{"$f":"IFERROR(INDEX(Brief!J:J,G88),0)","v":0},null,0,null,null,null,null,0]
[null,null,null,{"$f":"IFERROR(INDEX('Podświetlanie modułów'!D:D,MATCH(H89,'Podświetlanie modułów'!B:B,0)),\"\")","v":""},"Strona 10 sekcj","",{"$f":"IFERROR(MATCH(H89,Brief!AA:AA,0),\"\")","v":158},"Strona 10 sekcji (projekt + kodowanie)",null,9,{"$f":"J89*$K$2+(V2*(J89*$K$2))","v":1188},null,null,11,{"$f":"$O$2*N89+($X$2*(N89*$O$2))","v":1980},{"$f":"IFERROR(INDEX(Brief!J:J,G89),0)","v":0},null,0,null,{"$f":"P71","v":0},{"$f":"S89*T89","v":0},{"$f":"P89*J89","v":0},0,{"$f":"P89*N89","v":0},null,null,null,"WP"]
[null,null,null,{"$f":"IFERROR(INDEX('Podświetlanie modułów'!D:D,MATCH(H90,'Podświetlanie modułów'!B:B,0)),\"\")","v":""},"> ","",{"$f":"IFERROR(MATCH(H90,Brief!AA:AA,0),\"\")","v":""},{"$f":"\"> \"&Brief!G159","v":"> "},null,null,null,null,null,null,null,{"$f":"IFERROR(INDEX(Brief!J:J,G90),0)","v":0},null,0,null,null,null,null,0]
[null,null,null,{"$f":"IFERROR(INDEX('Podświetlanie modułów'!D:D,MATCH(H91,'Podświetlanie modułów'!B:B,0)),\"\")","v":""},"Strona 1 sekcja","",{"$f":"IFERROR(MATCH(H91,Brief!AA:AA,0),\"\")","v":160},"Strona 1 sekcja (utworzenie i uzupełnianie)",null,null,null,1,{"$f":"L91*$M$2+($W$2*(L91*$M$2))","v":132},0,{"$f":"$O$2*N91+($X$2*(N91*$O$2))","v":0},{"$f":"IFERROR(INDEX(Brief!J:J,G91),0)","v":0},null,{"$f":"ROUNDUP(P91*(M91+O91)*(1+$R$2),-1)","v":0},null,{"$f":"P71","v":0},{"$f":"S91*T91","v":0},{"$f":"P91*J91","v":0},0,{"$f":"P91*N91","v":0},"https://dlapracodawcy.contrain.pl/pracownicy-z-ukrainy/",null,null,"WP"]
[null,null,null,{"$f":"IFERROR(INDEX('Podświetlanie modułów'!D:D,MATCH(H92,'Podświetlanie modułów'!B:B,0)),\"\")","v":""},"> ","",{"$f":"IFERROR(MATCH(H92,Brief!AA:AA,0),\"\")","v":""},{"$f":"\"> \"&Brief!G161","v":"> "},null,null,null,null,null,null,null,{"$f":"IFERROR(INDEX(Brief!J:J,G92),0)","v":0},null,0,null,null,null,null,0]
[null,null,null,{"$f":"IFERROR(INDEX('Podświetlanie modułów'!D:D,MATCH(H93,'Podświetlanie modułów'!B:B,0)),\"\")","v":""},{"$f":"LEFT(H93,15)","v":"Strona 2 sekcje"},"",{"$f":"IFERROR(MATCH(H93,Brief!AA:AA,0),\"\")","v":162},"Strona 2 sekcje (utworzenie i uzupełnianie)",null,null,null,2,{"$f":"L93*$M$2+($W$2*(L93*$M$2))","v":264},0,{"$f":"$O$2*N93+($X$2*(N93*$O$2))","v":0},{"$f":"IFERROR(INDEX(Brief!J:J,G93),0)","v":0},null,{"$f":"ROUNDUP(P93*(M93+O93)*(1+$R$2),-1)","v":0},null,{"$f":"P71","v":0},{"$f":"S93*T93","v":0},{"$f":"P93*J93","v":0},0,{"$f":"P93*N93","v":0},null,null,null,"WP"]
[null,null,null,null,null,null,{"$f":"IFERROR(MATCH(H94,Brief!AA:AA,0),\"\")","v":""},{"$f":"\"> \"&Brief!G163","v":"> "},null,null,null,null,null,null,null,{"$f":"IFERROR(INDEX(Brief!J:J,G94),0)","v":0},null,0,null,null,null,null,0]
[null,null,null,{"$f":"IFERROR(INDEX('Podświetlanie modułów'!D:D,MATCH(H95,'Podświetlanie modułów'!B:B,0)),\"\")","v":""},"Strona 3 sekcje",{"$f":"IF($F$2=\"x\",R95,\"\")","v":""},{"$f":"IFERROR(MATCH(H95,Brief!AA:AA,0),\"\")","v":164},"Strona 3 sekcje (utworzenie i uzupełnianie)",null,null,null,3,{"$f":"L95*$M$2+($W$2*(L95*$M$2))","v":396},0,{"$f":"$O$2*N95+($X$2*(N95*$O$2))","v":0},{"$f":"IFERROR(INDEX(Brief!J:J,G95),0)","v":0},null,{"$f":"ROUNDUP(P95*(M95+O95)*(1+$R$2),-1)","v":0},null,{"$f":"P71","v":0},{"$f":"S95*T95","v":0},{"$f":"P95*J95","v":0},0,{"$f":"P95*N95","v":0},null,null,null,"WP"]
[null,null,null,{"$f":"IFERROR(INDEX('Podświetlanie modułów'!D:D,MATCH(H96,'Podświetlanie modułów'!B:B,0)),\"\")","v":""},"> ",{"$f":"IF($F$2=\"x\",R96,\"\")","v":""},{"$f":"IFERROR(MATCH(H96,Brief!AA:AA,0),\"\")","v":""},{"$f":"\"> \"&Brief!G165","v":"> "},null,null,null,null,null,null,null,{"$f":"IFERROR(INDEX(Brief!J:J,G96),0)","v":0},null,0,null,null,null,null,0]
[null,null,null,{"$f":"IFERROR(INDEX('Podświetlanie modułów'!D:D,MATCH(H97,'Podświetlanie modułów'!B:B,0)),\"\")","v":""},{"$f":"LEFT(H97,15)","v":"Strona 4 sekcje"},{"$f":"IF($F$2=\"x\",R97,\"\")","v":""},{"$f":"IFERROR(MATCH(H97,Brief!AA:AA,0),\"\")","v":166},"Strona 4 sekcje (utworzenie i uzupełnianie)",null,null,null,4,{"$f":"L97*$M$2+($W$2*(L97*$M$2))","v":528},0,{"$f":"$O$2*N97+($X$2*(N97*$O$2))","v":0},{"$f":"IFERROR(INDEX(Brief!J:J,G97),0)","v":0},null,{"$f":"ROUNDUP(P97*(M97+O97)*(1+$R$2),-1)","v":0},null,{"$f":"P71","v":0},{"$f":"S97*T97","v":0},{"$f":"P97*J97","v":0},0,{"$f":"P97*N97","v":0},null,null,null,"WP"]
[null,null,null,null,null,null,{"$f":"IFERROR(MATCH(H98,Brief!AA:AA,0),\"\")","v":""},{"$f":"\"> \"&Brief!G167","v":"> "},null,null,null,null,null,null,null,{"$f":"IFERROR(INDEX(Brief!J:J,G98),0)","v":0},null,0,null,null,null,null,0]
[null,null,null,{"$f":"IFERROR(INDEX('Podświetlanie modułów'!D:D,MATCH(H99,'Podświetlanie modułów'!B:B,0)),\"\")","v":""},"Strona 5 sekcji",{"$f":"IF($F$2=\"x\",R99,\"\")","v":""},{"$f":"IFERROR(MATCH(H99,Brief!AA:AA,0),\"\")","v":168},"Strona 5 sekcji (utworzenie i uzupełnianie)",null,null,null,5,{"$f":"L99*$M$2+($W$2*(L99*$M$2))","v":660},0,{"$f":"$O$2*N99+($X$2*(N99*$O$2))","v":0},{"$f":"IFERROR(INDEX(Brief!J:J,G99),0)","v":0},null,{"$f":"ROUNDUP(P99*(M99+O99)*(1+$R$2),-1)","v":0},null,{"$f":"P71","v":0},{"$f":"S99*T99","v":0},{"$f":"P99*J99","v":0},0,{"$f":"P99*N99","v":0},null,null,null,"WP"]
[null,null,null,{"$f":"IFERROR(INDEX('Podświetlanie modułów'!D:D,MATCH(H100,'Podświetlanie modułów'!B:B,0)),\"\")","v":""},"> ",{"$f":"IF($F$2=\"x\",R100,\"\")","v":""},{"$f":"IFERROR(MATCH(H100,Brief!AA:AA,0),\"\")","v":""},{"$f":"\"> \"&Brief!G169","v":"> "},null,null,null,null,null,null,null,{"$f":"IFERROR(INDEX(Brief!J:J,G100),0)","v":0},null,0,null,null,null,null,0]
[null,null,null,{"$f":"IFERROR(INDEX('Podświetlanie modułów'!D:D,MATCH(H101,'Podświetlanie modułów'!B:B,0)),\"\")","v":""},{"$f":"LEFT(H101,15)","v":"Strona 6 sekcji"},{"$f":"IF($F$2=\"x\",R101,\"\")","v":""},{"$f":"IFERROR(MATCH(H101,Brief!AA:AA,0),\"\")","v":170},"Strona 6 sekcji (utworzenie i uzupełnianie)",null,null,null,6,{"$f":"L101*$M$2+($W$2*(L101*$M$2))","v":792},0,{"$f":"$O$2*N101+($X$2*(N101*$O$2))","v":0},{"$f":"IFERROR(INDEX(Brief!J:J,G101),0)","v":0},null,{"$f":"ROUNDUP(P101*(M101+O101)*(1+$R$2),-1)","v":0},null,{"$f":"P71","v":0},{"$f":"S101*T101","v":0},{"$f":"P101*J101","v":0},0,{"$f":"P101*N101","v":0},null,null,null,"WP"]
[null,null,null,null,null,null,{"$f":"IFERROR(MATCH(H102,Brief!AA:AA,0),\"\")","v":""},{"$f":"\"> \"&Brief!G171","v":"> "},null,null,null,null,null,null,null,{"$f":"IFERROR(INDEX(Brief!J:J,G102),0)","v":0},null,0,null,null,null,null,0]
[null,null,null,{"$f":"IFERROR(INDEX('Podświetlanie modułów'!D:D,MATCH(H103,'Podświetlanie modułów'!B:B,0)),\"\")","v":""},"Strona 7 sekcji",{"$f":"IF($F$2=\"x\",R103,\"\")","v":""},{"$f":"IFERROR(MATCH(H103,Brief!AA:AA,0),\"\")","v":172},"Strona 7 sekcji (utworzenie i uzupełnianie)",null,null,null,6.5,{"$f":"L103*$M$2+($W$2*(L103*$M$2))","v":858},0,{"$f":"$O$2*N103+($X$2*(N103*$O$2))","v":0},{"$f":"IFERROR(INDEX(Brief!J:J,G103),0)","v":0},null,{"$f":"ROUNDUP(P103*(M103+O103)*(1+$R$2),-1)","v":0},null,{"$f":"P71","v":0},{"$f":"S103*T103","v":0},{"$f":"P103*J103","v":0},0,{"$f":"P103*N103","v":0},"http://primecraftdeveloper.pl/",null,null,"WP"]
[null,null,null,{"$f":"IFERROR(INDEX('Podświetlanie modułów'!D:D,MATCH(H104,'Podświetlanie modułów'!B:B,0)),\"\")","v":""},"> ",{"$f":"IF($F$2=\"x\",R104,\"\")","v":""},{"$f":"IFERROR(MATCH(H104,Brief!AA:AA,0),\"\")","v":""},{"$f":"\"> \"&Brief!G173","v":"> "},null,null,null,null,null,null,null,{"$f":"IFERROR(INDEX(Brief!J:J,G104),0)","v":0},null,0,null,null,null,null,0]
[null,null,null,{"$f":"IFERROR(INDEX('Podświetlanie modułów'!D:D,MATCH(H105,'Podświetlanie modułów'!B:B,0)),\"\")","v":""},{"$f":"LEFT(H105,15)","v":"Strona 8 sekcji"},{"$f":"IF($F$2=\"x\",R105,\"\")","v":""},{"$f":"IFERROR(MATCH(H105,Brief!AA:AA,0),\"\")","v":174},"Strona 8 sekcji (utworzenie i uzupełnianie)",null,null,null,7,{"$f":"L105*$M$2+($W$2*(L105*$M$2))","v":924},0,{"$f":"$O$2*N105+($X$2*(N105*$O$2))","v":0},{"$f":"IFERROR(INDEX(Brief!J:J,G105),0)","v":0},null,{"$f":"ROUNDUP(P105*(M105+O105)*(1+$R$2),-1)","v":0},null,{"$f":"P71","v":0},{"$f":"S105*T105","v":0},{"$f":"P105*J105","v":0},0,{"$f":"P105*N105","v":0},"http://primecraftdeveloper.pl/",null,null,"WP"]
[null,null,null,null,null,null,{"$f":"IFERROR(MATCH(H106,Brief!AA:AA,0),\"\")","v":""},{"$f":"\"> \"&Brief!G175","v":"> "},null,null,null,null,null,null,null,{"$f":"IFERROR(INDEX(Brief!J:J,G106),0)","v":0},null,0,null,null,null,null,0]
[null,null,null,{"$f":"IFERROR(INDEX('Podświetlanie modułów'!D:D,MATCH(H107,'Podświetlanie modułów'!B:B,0)),\"\")","v":""},{"$f":"LEFT(H107,15)","v":"Strona 9 sekcji"},{"$f":"IF($F$2=\"x\",R107,\"\")","v":""},{"$f":"IFERROR(MATCH(H107,Brief!AA:AA,0),\"\")","v":176},"Strona 9 sekcji (utworzenie i uzupełnianie)",null,null,null,7.5,{"$f":"L107*$M$2+($W$2*(L107*$M$2))","v":990},0,{"$f":"$O$2*N107+($X$2*(N107*$O$2))","v":0},{"$f":"IFERROR(INDEX(Brief!J:J,G107),0)","v":0},null,{"$f":"ROUNDUP(P107*(M107+O107)*(1+$R$2),-1)","v":0},null,{"$f":"P71","v":0},{"$f":"S107*T107","v":0},{"$f":"P107*J107","v":0},0,{"$f":"P107*N107","v":0},"http://primecraftdeveloper.pl/",null,null,"WP"]
[null,null,null,null,null,null,{"$f":"IFERROR(MATCH(H108,Brief!AA:AA,0),\"\")","v":""},{"$f":"\"> \"&Brief!G177","v":"> "},null,null,null,null,null,null,null,{"$f":"IFERROR(INDEX(Brief!J:J,G108),0)","v":0},null,0,null,null,null,null,0]
[null,null,null,{"$f":"IFERROR(INDEX('Podświetlanie modułów'!D:D,MATCH(H109,'Podświetlanie modułów'!B:B,0)),\"\")","v":""},"Strona 10 sekcj",{"$f":"IF($F$2=\"x\",R109,\"\")","v":""},{"$f":"IFERROR(MATCH(H109,Brief!AA:AA,0),\"\")","v":178},"Strona 10 sekcji (utworzenie i uzupełnianie)",null,null,null,8,{"$f":"L109*$M$2+($W$2*(L109*$M$2))","v":1056},0,{"$f":"$O$2*N109+($X$2*(N109*$O$2))","v":0},{"$f":"IFERROR(INDEX(Brief!J:J,G109),0)","v":0},null,{"$f":"ROUNDUP(P109*(M109+O109)*(1+$R$2),-1)","v":0},null,{"$f":"P71","v":0},{"$f":"S109*T109","v":0},{"$f":"P109*J109","v":0},0,{"$f":"P109*N109","v":0},null,null,null,"WP"]
[null,null,null,null,null,null,{"$f":"IFERROR(MATCH(H110,Brief!AA:AA,0),\"\")","v":""},{"$f":"\"> \"&Brief!G179","v":"> "},null,null,null,null,null,null,null,{"$f":"IFERROR(INDEX(Brief!J:J,G110),0)","v":0},null,0,null,null,null,null,0]
["x",null,"x",{"$f":"IFERROR(INDEX('Podświetlanie modułów'!D:D,MATCH(H111,'Podświetlanie modułów'!B:B,0)),\"\")","v":""},"Menu nawigacyjn",{"$f":"IF($F$2=\"x\",R111,\"\")","v":""},{"$f":"IFERROR(MATCH(H111,Brief!AA:AA,0),\"\")","v":180},"Menu nawigacyjne proste",null,0.2,{"$f":"J111*$K$2+(V2*(J111*$K$2))","v":26.4},null,null,1,{"$f":"$O$2*N111+($X$2*(N111*$O$2))","v":180},{"$f":"IFERROR(INDEX(Brief!J:J,G111),0)","v":0},"x",0,null,{"$f":"P71","v":0},0,{"$f":"P111*J111","v":0},0,0,"https://commhaven.pl/",null,null,"WP + autorski skrypt"]
[null,null,null,{"$f":"IFERROR(INDEX('Podświetlanie modułów'!D:D,MATCH(H112,'Podświetlanie modułów'!B:B,0)),\"\")","v":""},"Menu nawigacyjn","",{"$f":"IFERROR(MATCH(H112,Brief!AA:AA,0),\"\")","v":""},"Menu nawigacyjne 2 poziomowe",null,0.5,{"$f":"J112*$K$2+(V2*(J112*$K$2))","v":66},null,null,1,{"$f":"$O$2*N112+($X$2*(N112*$O$2))","v":180},{"$f":"IFERROR(INDEX(Brief!J:J,G112),0)","v":0},"x",0,null,{"$f":"P72","v":0},0,0,0,0,"http://studiokreacja.pl",null,null,"WP + autorski skrypt"]
[null,null,null,{"$f":"IFERROR(INDEX('Podświetlanie modułów'!D:D,MATCH(H113,'Podświetlanie modułów'!B:B,0)),\"\")","v":""},"Mega nawigacyjn","",{"$f":"IFERROR(MATCH(H113,Brief!AA:AA,0),\"\")","v":""},"Mega nawigacyjne 3 poziomowe","od",1,{"$f":"J113*$K$2+(V2*(J113*$K$2))","v":132},null,null,3,540,{"$f":"IFERROR(INDEX(Brief!J:J,G113),0)","v":0},null,0,null,0,0,0,0,0,"https://emspartner.pl/","https://cmt-advisory.pl/",null,"WP + autorski skrypt"]
[null,null,null,{"$f":"IFERROR(INDEX('Podświetlanie modułów'!D:D,MATCH(H114,'Podświetlanie modułów'!B:B,0)),\"\")","v":""},"Submenu OnePage","",{"$f":"IFERROR(MATCH(H114,Brief!AA:AA,0),\"\")","v":181},"Submenu OnePage do wybranej podstrony","od",0.5,{"$f":"J114*$K$2+(V2*(J114*$K$2))","v":66},null,null,1,180,{"$f":"IFERROR(INDEX(Brief!J:J,G114),0)","v":0},null,0,null,0,0,0,0,0,"https://czempionhurt.pl/o-nas/#rozwoj","https://www.kukko.com/pl/produkt/mp_12_alligator/","https://lightwood.pl/#sales","WP + autorski skrypt"]
["x",null,null,{"$f":"IFERROR(INDEX('Podświetlanie modułów'!D:D,MATCH(H115,'Podświetlanie modułów'!B:B,0)),\"\")","v":""},"Baner/wideo na ","",{"$f":"IFERROR(MATCH(H115,Brief!AA:AA,0),\"\")","v":182},"Baner/wideo na stronie głównej (bez zmiany slajdów)","od",2,{"$f":"J115*$K$2+(V2*(J115*$K$2))","v":264},null,null,1,180,{"$f":"IFERROR(INDEX(Brief!J:J,G115),0)","v":0},"x",0,null,0,0,0,0,0,null,null,null,"ACF autorski skrypt"]
["x",null,null,{"$f":"IFERROR(INDEX('Podświetlanie modułów'!D:D,MATCH(H116,'Podświetlanie modułów'!B:B,0)),\"\")","v":""},"Domyślny slider","",{"$f":"IFERROR(MATCH(H116,Brief!AA:AA,0),\"\")","v":183},"Domyślny slider na stronie głównej (1 szt)",null,2,{"$f":"J116*$K$2+(V2*(J116*$K$2))","v":264},null,null,1,180,{"$f":"IFERROR(INDEX(Brief!J:J,G116),0)","v":0},"x",0,null,0,0,0,0,0,null,null,null,"ACF autorski skrypt"]
["x","x",null,{"$f":"IFERROR(INDEX('Podświetlanie modułów'!D:D,MATCH(H117,'Podświetlanie modułów'!B:B,0)),\"\")","v":""},"Utworzenie kole","",{"$f":"IFERROR(MATCH(H117,Brief!AA:AA,0),\"\")","v":184},"Utworzenie kolejnego slajdu na slider (1 szt)",null,2,{"$f":"J117*$K$2+(V2*(J117*$K$2))","v":264},0.4,{"$f":"L117*$M$2+($W$2*(L117*$M$2))","v":52.8},0,0,{"$f":"IFERROR(INDEX(Brief!J:J,G117),0)","v":0},"x",{"$f":"ROUNDUP(P117*(K117+M117+O117)*(1+$R$2),-1)","v":0},null,0,0,0,0,0,null,null,null,"ACF autorski skrypt"]
["x",null,null,{"$f":"IFERROR(INDEX('Podświetlanie modułów'!D:D,MATCH(H118,'Podświetlanie modułów'!B:B,0)),\"\")","v":""},"Slider szyty na","",{"$f":"IFERROR(MATCH(H118,Brief!AA:AA,0),\"\")","v":185},"Slider szyty na miarę","od",3,{"$f":"J118*$K$2+(V2*(J118*$K$2))","v":396},null,null,2,360,{"$f":"IFERROR(INDEX(Brief!J:J,G118),0)","v":0},null,0,null,0,0,0,0,0,null,null,null,"ACF autorski skrypt"]
[null,null,null,{"$f":"IFERROR(INDEX('Podświetlanie modułów'!D:D,MATCH(H119,'Podświetlanie modułów'!B:B,0)),\"\")","v":""},"Slider w treści","",{"$f":"IFERROR(MATCH(H119,Brief!AA:AA,0),\"\")","v":186},"Slider w treści (Elementor)",null,1,{"$f":"J119*$K$2+(V2*(J119*$K$2))","v":132},null,null,1,180,{"$f":"IFERROR(INDEX(Brief!J:J,G119),0)","v":0},null,0,null,0,0,0,0,0,null,null,null,"Elementor"]
["x",null,null,{"$f":"IFERROR(INDEX('Podświetlanie modułów'!D:D,MATCH(H120,'Podświetlanie modułów'!B:B,0)),\"\")","v":0},"Galeria zdjęć (","",{"$f":"IFERROR(MATCH(H120,Brief!AA:AA,0),\"\")","v":187},"Galeria zdjęć (podstawowa w WordPress)",null,0,{"$f":"J120*$K$2+(V2*(J120*$K$2))","v":0},null,null,1.5,270,{"$f":"IFERROR(INDEX(Brief!J:J,G120),0)","v":0},"x",0,null,0,0,0,0,0,"http://smoczewzgorze.pl/galeria/kraciaste-marynary-historia-rock-and-rolla-2/",null,null,"WP, wlasny post type"]
["x",null,null,{"$f":"IFERROR(INDEX('Podświetlanie modułów'!D:D,MATCH(H121,'Podświetlanie modułów'!B:B,0)),\"\")","v":""},"Galeria zdjęć (","",{"$f":"IFERROR(MATCH(H121,Brief!AA:AA,0),\"\")","v":188},"Galeria zdjęć (Elementor)",null,0.5,{"$f":"J121*$K$2+(V2*(J121*$K$2))","v":66},null,null,1,180,{"$f":"IFERROR(INDEX(Brief!J:J,G121),0)","v":0},null,0,null,0,0,0,0,0,null,null,null,"Elementor"]
[null,null,null,{"$f":"IFERROR(INDEX('Podświetlanie modułów'!D:D,MATCH(H122,'Podświetlanie modułów'!B:B,0)),\"\")","v":""},"Galeria zdjęć A","",{"$f":"IFERROR(MATCH(H122,Brief!AA:AA,0),\"\")","v":189},"Galeria zdjęć ACF (nietypowy układ, karuzela)","od",2,{"$f":"J122*$K$2+(V2*(J122*$K$2))","v":264},null,null,2,360,{"$f":"IFERROR(INDEX(Brief!J:J,G122),0)","v":0},null,0,null,0,0,0,0,0,"https://xaris.pl/branze/","https://studiokreacja.pl/kategorie-realizacji/case-study/ ",null,"WP"]
["x",null,null,{"$f":"IFERROR(INDEX('Podświetlanie modułów'!D:D,MATCH(H123,'Podświetlanie modułów'!B:B,0)),\"\")","v":""},"Biblioteka medi","",{"$f":"IFERROR(MATCH(H123,Brief!AA:AA,0),\"\")","v":190},"Biblioteka mediów",null,null,{"$f":"J123*$K$2+(V2*(J123*$K$2))","v":0},null,null,null,0,{"$f":"IFERROR(INDEX(Brief!J:J,G123),0)","v":0},"x",0,null,0,0,0,0,0,null,null,null,"WP"]
[null,null,null,{"$f":"IFERROR(INDEX('Podświetlanie modułów'!D:D,MATCH(H124,'Podświetlanie modułów'!B:B,0)),\"\")","v":""},"Foldery w bibli","",{"$f":"IFERROR(MATCH(H124,Brief!AA:AA,0),\"\")","v":191},"Foldery w bibliotece mediów",null,0,{"$f":"J124*$K$2+(V2*(J124*$K$2))","v":0},null,null,0.2,36,{"$f":"IFERROR(INDEX(Brief!J:J,G124),0)","v":0},null,0,120,0,0,0,0,0,null,null,null,"https://www.joomunited.com/wordpress-products/wp-media-folder"]
["x",null,null,{"$f":"IFERROR(INDEX('Podświetlanie modułów'!D:D,MATCH(H125,'Podświetlanie modułów'!B:B,0)),\"\")","v":""},"Mapa jako obraz","",{"$f":"IFERROR(MATCH(H125,Brief!AA:AA,0),\"\")","v":""},"Mapa jako obrazek z Google Mapy (bez interaktywności)",null,0.4,{"$f":"J125*$K$2+(V2*(J125*$K$2))","v":52.8},null,null,0.2,36,{"$f":"IFERROR(INDEX(Brief!J:J,G125),0)","v":0},null,0,null,0,0,0,0,0]
["x",null,"x",{"$f":"IFERROR(INDEX('Podświetlanie modułów'!D:D,MATCH(H126,'Podświetlanie modułów'!B:B,0)),\"\")","v":0},"Mapa prosta Goo","",{"$f":"IFERROR(MATCH(H126,Brief!AA:AA,0),\"\")","v":192},"Mapa prosta Google Mapy",null,0.2,{"$f":"J126*$K$2+(V2*(J126*$K$2))","v":26.4},null,null,0.2,36,{"$f":"IFERROR(INDEX(Brief!J:J,G126),0)","v":0},"x",0,null,0,0,0,0,0]
["x",null,null,{"$f":"IFERROR(INDEX('Podświetlanie modułów'!D:D,MATCH(H127,'Podświetlanie modułów'!B:B,0)),\"\")","v":""},"Mapa interaktyw","",{"$f":"IFERROR(MATCH(H127,Brief!AA:AA,0),\"\")","v":""},"Mapa interaktywna z autorskimi kolorami Google Mapy (API)",null,0.4,{"$f":"J127*$K$2+(V2*(J127*$K$2))","v":52.8},null,null,2,360,{"$f":"IFERROR(INDEX(Brief!J:J,G127),0)","v":0},null,0,null,0,0,0,0,0]
[null,null,null,{"$f":"IFERROR(INDEX('Podświetlanie modułów'!D:D,MATCH(H128,'Podświetlanie modułów'!B:B,0)),\"\")","v":""},"Mapa graficzna ","",{"$f":"IFERROR(MATCH(H128,Brief!AA:AA,0),\"\")","v":""},"Mapa graficzna (sytuacjna)","od",2,{"$f":"J128*$K$2+(V2*(J128*$K$2))","v":264},null,null,0.5,90,{"$f":"IFERROR(INDEX(Brief!J:J,G128),0)","v":0},null,0,null,0,0,0,0,0]
[null,null,null,{"$f":"IFERROR(INDEX('Podświetlanie modułów'!D:D,MATCH(H129,'Podświetlanie modułów'!B:B,0)),\"\")","v":""},"Mapa graficzna ","",{"$f":"IFERROR(MATCH(H129,Brief!AA:AA,0),\"\")","v":""},"Mapa graficzna (sytuacyjna) + interaktywność","od",null,{"$f":"J129*$K$2+(V2*(J129*$K$2))","v":0},null,null,1,180,{"$f":"IFERROR(INDEX(Brief!J:J,G129),0)","v":0},null,0,null,0,{"$f":"S129*T129","v":0},0,0,{"$f":"P129*N129","v":0}]
["x",null,null,{"$f":"IFERROR(INDEX('Podświetlanie modułów'!D:D,MATCH(H130,'Podświetlanie modułów'!B:B,0)),\"\")","v":""},"Wyszukiwarka po","",{"$f":"IFERROR(MATCH(H130,Brief!AA:AA,0),\"\")","v":""},"Wyszukiwarka podstawowa z wynikami tekstowymi",null,1,{"$f":"J130*$K$2+(V2*(J130*$K$2))","v":132},null,null,2,360,{"$f":"IFERROR(INDEX(Brief!J:J,G130),0)","v":0},"x",0,null,0,{"$f":"S130*T130","v":0},0,{"$f":"P130*L130","v":0},{"$f":"P130*N130","v":0},"https://studiokreacja.pl/?s=google",null,null,"WP"]
["x",null,"x",{"$f":"IFERROR(INDEX('Podświetlanie modułów'!D:D,MATCH(H131,'Podświetlanie modułów'!B:B,0)),\"\")","v":""},"Wyszukiwarka po","",{"$f":"IFERROR(MATCH(H131,Brief!AA:AA,0),\"\")","v":193},"Wyszukiwarka podstawowa z obrazkami",null,1,{"$f":"J131*$K$2+(V2*(J131*$K$2))","v":132},null,null,3,540,{"$f":"IFERROR(INDEX(Brief!J:J,G131),0)","v":0},"x",0,null,0,0,0,0,0,"https://pandrwal.pl/?s=olejek","https://safetech.net.pl/?s=detektor",null,"WP"]
["x",null,null,{"$f":"IFERROR(INDEX('Podświetlanie modułów'!D:D,MATCH(H132,'Podświetlanie modułów'!B:B,0)),\"\")","v":""},"Wyszukiwarka z ","",{"$f":"IFERROR(MATCH(H132,Brief!AA:AA,0),\"\")","v":""},"Wyszukiwarka z wynikami dynamicznymi","od",1,{"$f":"J132*$K$2+(V2*(J132*$K$2))","v":132},null,null,4,720,{"$f":"IFERROR(INDEX(Brief!J:J,G132),0)","v":0},null,0,null,0,0,0,0,0,"https://colson.pl/","http://www.stomil-poznan.pl/","https://cmt-advisory.pl/","WP własny skrypt"]
["x",null,null,{"$f":"IFERROR(INDEX('Podświetlanie modułów'!D:D,MATCH(H133,'Podświetlanie modułów'!B:B,0)),\"\")","v":0},"Formularz konta","",{"$f":"IFERROR(MATCH(H133,Brief!AA:AA,0),\"\")","v":194},"Formularz kontaktowy (5 pól)",null,0.5,{"$f":"J133*$K$2+(V2*(J133*$K$2))","v":66},null,null,1,180,{"$f":"IFERROR(INDEX(Brief!J:J,G133),0)","v":0},"x",{"$f":"ROUNDUP(P133*(K133+O133)*(1+$R$2),-1)","v":0},null,0,0,0,0,0,"https://biznes.leszno.pl/kontakt/",null,null,"CF7"]
[null,null,null,{"$f":"IFERROR(INDEX('Podświetlanie modułów'!D:D,MATCH(H134,'Podświetlanie modułów'!B:B,0)),\"\")","v":""},"Formularz konta","",{"$f":"IFERROR(MATCH(H134,Brief!AA:AA,0),\"\")","v":195},"Formularz kontaktowy (10 pól)",null,0.6,{"$f":"J134*$K$2+(V2*(J134*$K$2))","v":79.2},null,null,1.5,270,{"$f":"IFERROR(INDEX(Brief!J:J,G134),0)","v":0},null,0,null,0,0,0,0,0,"http://cambio.com.pl/#kontakt",null,null,"CF7"]
[null,null,null,{"$f":"IFERROR(INDEX('Podświetlanie modułów'!D:D,MATCH(H135,'Podświetlanie modułów'!B:B,0)),\"\")","v":""},"Formularz konta","",{"$f":"IFERROR(MATCH(H135,Brief!AA:AA,0),\"\")","v":196},"Formularz kontaktowy (15 pól)",null,0.7,{"$f":"J135*$K$2+(V2*(J135*$K$2))","v":92.4},null,null,2,360,{"$f":"IFERROR(INDEX(Brief!J:J,G135),0)","v":0},null,0,null,0,0,0,0,0,null,null,null,"CF7"]
[null,null,null,{"$f":"IFERROR(INDEX('Podświetlanie modułów'!D:D,MATCH(H136,'Podświetlanie modułów'!B:B,0)),\"\")","v":""},"Formularz z zał","",{"$f":"IFERROR(MATCH(H136,Brief!AA:AA,0),\"\")","v":197},"Formularz z załącznikami (5-15 pól)","od",0.8,{"$f":"J136*$K$2+(V2*(J136*$K$2))","v":105.6},null,null,2,360,{"$f":"IFERROR(INDEX(Brief!J:J,G136),0)","v":0},null,0,null,{"$f":"P96","v":0},0,0,0,0,"http://mojapolisaonline.pl/",null,null,"CF7"]
["x","x",null,{"$f":"IFERROR(INDEX('Podświetlanie modułów'!D:D,MATCH(H137,'Podświetlanie modułów'!B:B,0)),\"\")","v":""},"Logotypy - rota","",{"$f":"IFERROR(MATCH(H137,Brief!AA:AA,0),\"\")","v":198},"Logotypy - rotator (do 10 szt)",null,2,{"$f":"J137*$K$2+(V2*(J137*$K$2))","v":264},0.5,{"$f":"L137*$M$2+($W$2*(L137*$M$2))","v":66},1,180,{"$f":"IFERROR(INDEX(Brief!J:J,G137),0)","v":0},null,{"$f":"ROUNDUP(P137*(K137+M137+O137)*(1+$R$2),-1)","v":0},null,{"$f":"P97","v":0},0,0,0,0]
[null,null,null,{"$f":"IFERROR(INDEX('Podświetlanie modułów'!D:D,MATCH(H138,'Podświetlanie modułów'!B:B,0)),\"\")","v":""},"Dodatkowy moduł","",{"$f":"IFERROR(MATCH(H138,Brief!AA:AA,0),\"\")","v":199},{"$f":"\"Dodatkowy moduł \"&(COUNTIF($E$4:E137,\"Dodatkowy moduł\")+1)","v":"Dodatkowy moduł 20"},null,null,{"$f":"J138*$K$2+(V2*(J138*$K$2))","v":0},null,null,null,0,{"$f":"IFERROR(INDEX(Brief!J:J,G138),0)","v":0},null,0,null,0,0,0,0,0]
[null,null,null,{"$f":"IFERROR(INDEX('Podświetlanie modułów'!D:D,MATCH(H139,'Podświetlanie modułów'!B:B,0)),\"\")","v":""},"Dodatkowy moduł","",{"$f":"IFERROR(MATCH(H139,Brief!AA:AA,0),\"\")","v":200},{"$f":"\"Dodatkowy moduł \"&(COUNTIF($E$4:E138,\"Dodatkowy moduł\")+1)","v":"Dodatkowy moduł 21"},null,null,{"$f":"J139*$K$2+(V2*(J139*$K$2))","v":0},null,null,null,0,{"$f":"IFERROR(INDEX(Brief!J:J,G139),0)","v":0},null,0,null,0,0,0,0,0]
[null,null,null,{"$f":"IFERROR(INDEX('Podświetlanie modułów'!D:D,MATCH(H140,'Podświetlanie modułów'!B:B,0)),\"\")","v":""},"Dodatkowy moduł","",{"$f":"IFERROR(MATCH(H140,Brief!AA:AA,0),\"\")","v":201},{"$f":"\"Dodatkowy moduł \"&(COUNTIF($E$4:E139,\"Dodatkowy moduł\")+1)","v":"Dodatkowy moduł 22"},null,null,{"$f":"J140*$K$2+(V2*(J140*$K$2))","v":0},null,null,null,0,{"$f":"IFERROR(INDEX(Brief!J:J,G140),0)","v":0},null,0,null,0,0,0,0,0]
[null,null,null,{"$f":"IFERROR(INDEX('Podświetlanie modułów'!D:D,MATCH(H141,'Podświetlanie modułów'!B:B,0)),\"\")","v":""},"Dodatkowy moduł","",{"$f":"IFERROR(MATCH(H141,Brief!AA:AA,0),\"\")","v":202},{"$f":"\"Dodatkowy moduł \"&(COUNTIF($E$4:E140,\"Dodatkowy moduł\")+1)","v":"Dodatkowy moduł 23"},null,null,{"$f":"J141*$K$2+(V2*(J141*$K$2))","v":0},null,null,null,0,{"$f":"IFERROR(INDEX(Brief!J:J,G141),0)","v":0},null,0,null,0,0,0,0,0]
[null,null,null,{"$f":"IFERROR(INDEX('Podświetlanie modułów'!D:D,MATCH(H142,'Podświetlanie modułów'!B:B,0)),\"\")","v":""},"Pliki do pobran","",{"$f":"IFERROR(MATCH(H142,Brief!AA:AA,0),\"\")","v":""},"Pliki do pobrania"]
[null,null,null,{"$f":"IFERROR(INDEX('Podświetlanie modułów'!D:D,MATCH(H143,'Podświetlanie modułów'!B:B,0)),\"\")","v":""},"Dostęp do tajny","",{"$f":"IFERROR(MATCH(H143,Brief!AA:AA,0),\"\")","v":204},"Dostęp do tajnych treści ",null,0.2,{"$f":"J143*$K$2+(V2*(J143*$K$2))","v":26.4},null,null,0.5,90,{"$f":"IFERROR(INDEX(Brief!J:J,G143),0)","v":0},null,0,null,{"$f":"P143","v":0},{"$f":"S143*T143","v":0},{"$f":"P143*J143","v":0},0,{"$f":"P143*N143","v":0},"http://krol-bhp.pl/panel-klienta-e-szkolenia/",null,null,"WP, Page Restrict"]
["x",null,null,{"$f":"IFERROR(INDEX('Podświetlanie modułów'!D:D,MATCH(H144,'Podświetlanie modułów'!B:B,0)),\"\")","v":""},"Załączniki i pl","",{"$f":"IFERROR(MATCH(H144,Brief!AA:AA,0),\"\")","v":205},"Załączniki i pliki do pobrania (w treści)",null,0.1,{"$f":"J144*$K$2+(V2*(J144*$K$2))","v":13.2},null,null,0,0,{"$f":"IFERROR(INDEX(Brief!J:J,G144),0)","v":0},"x",0,null,{"$f":"P144","v":0},{"$f":"S144*T144","v":0},{"$f":"P144*J144","v":0},0,{"$f":"P144*N144","v":0},"https://biznes.leszno.pl/do-pobrania/",null,null,"WP"]
[null,null,null,{"$f":"IFERROR(INDEX('Podświetlanie modułów'!D:D,MATCH(H145,'Podświetlanie modułów'!B:B,0)),\"\")","v":0},"Załączniki i pl","",{"$f":"IFERROR(MATCH(H145,Brief!AA:AA,0),\"\")","v":206},"Załączniki i pliki do pobrania (osobny moduł)",null,1,{"$f":"J145*$K$2+(V2*(J145*$K$2))","v":132},null,null,1,180,{"$f":"IFERROR(INDEX(Brief!J:J,G145),0)","v":0},null,0,null,0,{"$f":"S145*T145","v":0},{"$f":"P145*J145","v":0},0,{"$f":"P145*N145","v":0},null,null,null,"ACF"]
[null,null,null,{"$f":"IFERROR(INDEX('Podświetlanie modułów'!D:D,MATCH(H146,'Podświetlanie modułów'!B:B,0)),\"\")","v":""},"Dodatkowy moduł","",{"$f":"IFERROR(MATCH(H146,Brief!AA:AA,0),\"\")","v":207},{"$f":"\"Dodatkowy moduł \"&(COUNTIF($E$4:E145,\"Dodatkowy moduł\")+1)","v":"Dodatkowy moduł 24"},null,null,{"$f":"J146*$K$2+(V2*(J146*$K$2))","v":0},null,null,null,0,{"$f":"IFERROR(INDEX(Brief!J:J,G146),0)","v":0},null,0,null,0,{"$f":"S146*T146","v":0},{"$f":"P146*J146","v":0},0,{"$f":"P146*N146","v":0}]
[null,null,null,{"$f":"IFERROR(INDEX('Podświetlanie modułów'!D:D,MATCH(H147,'Podświetlanie modułów'!B:B,0)),\"\")","v":""},"Dodatkowy moduł","",{"$f":"IFERROR(MATCH(H147,Brief!AA:AA,0),\"\")","v":208},{"$f":"\"Dodatkowy moduł \"&(COUNTIF($E$4:E146,\"Dodatkowy moduł\")+1)","v":"Dodatkowy moduł 25"},null,null,{"$f":"J147*$K$2+(V2*(J147*$K$2))","v":0},null,null,null,0,{"$f":"IFERROR(INDEX(Brief!J:J,G147),0)","v":0},null,0,null,0,0,{"$f":"P147*J147","v":0},0,0]
[null,null,null,{"$f":"IFERROR(INDEX('Podświetlanie modułów'!D:D,MATCH(H148,'Podświetlanie modułów'!B:B,0)),\"\")","v":""},"Marketing","",{"$f":"IFERROR(MATCH(H148,Brief!AA:AA,0),\"\")","v":""},"Marketing"]
[null,null,null,{"$f":"IFERROR(INDEX('Podświetlanie modułów'!D:D,MATCH(H149,'Podświetlanie modułów'!B:B,0)),\"\")","v":""},"Box Facebooka n","",{"$f":"IFERROR(MATCH(H149,Brief!AA:AA,0),\"\")","v":210},"Box Facebooka na stronie",null,0.3,{"$f":"J149*$K$2+(V2*(J149*$K$2))","v":39.6},null,null,0.3,54,{"$f":"IFERROR(INDEX(Brief!J:J,G149),0)","v":0},null,0,null,{"$f":"P149","v":0},{"$f":"S149*T149","v":0},{"$f":"P149*J149","v":0},0,{"$f":"P149*N149","v":0},"https://madebykarlik.pl/",null,null,"WP własny skrypt"]
[null,null,null,{"$f":"IFERROR(INDEX('Podświetlanie modułów'!D:D,MATCH(H150,'Podświetlanie modułów'!B:B,0)),\"\")","v":""},"Box Facebooka p","",{"$f":"IFERROR(MATCH(H150,Brief!AA:AA,0),\"\")","v":211},"Box Facebooka przyklejony do przeglądarki",null,0.3,{"$f":"J150*$K$2+(V2*(J150*$K$2))","v":39.6},null,null,1,180,{"$f":"IFERROR(INDEX(Brief!J:J,G150),0)","v":0},null,0,null,0,0,0,0,0,null,null,null,"WP własny skrypt"]
["x",null,null,{"$f":"IFERROR(INDEX('Podświetlanie modułów'!D:D,MATCH(H151,'Podświetlanie modułów'!B:B,0)),\"\")","v":""},"Linki do Twoich","",{"$f":"IFERROR(MATCH(H151,Brief!AA:AA,0),\"\")","v":212},"Linki do Twoich social media",null,0.4,{"$f":"J151*$K$2+(V2*(J151*$K$2))","v":52.8},null,null,0.5,90,{"$f":"IFERROR(INDEX(Brief!J:J,G151),0)","v":0},"x",0,null,0,0,0,0,0,null,null,null,"WP"]
[null,null,null,{"$f":"IFERROR(INDEX('Podświetlanie modułów'!D:D,MATCH(H152,'Podświetlanie modułów'!B:B,0)),\"\")","v":""},"Przyciski: Lubi","",{"$f":"IFERROR(MATCH(H152,Brief!AA:AA,0),\"\")","v":213},"Przyciski: Lubię to, Udostępnij, Tweetnij",null,0.2,{"$f":"J152*$K$2+(V2*(J152*$K$2))","v":26.4},null,null,1,180,{"$f":"IFERROR(INDEX(Brief!J:J,G152),0)","v":0},null,0,null,0,0,0,0,0,null,null,null,"Really Simple Share"]
["x",null,null,{"$f":"IFERROR(INDEX('Podświetlanie modułów'!D:D,MATCH(H153,'Podświetlanie modułów'!B:B,0)),\"\")","v":""},"Newsletter (int","",{"$f":"IFERROR(MATCH(H153,Brief!AA:AA,0),\"\")","v":214},"Newsletter (integracja formularza)",null,1,{"$f":"J153*$K$2+(V2*(J153*$K$2))","v":132},null,null,2,360,{"$f":"IFERROR(INDEX(Brief!J:J,G153),0)","v":0},null,0,null,0,0,0,0,0,"https://biznes.leszno.pl/",null,null,"GetResponse, Freshmail, Mailchimp"]
["x",null,null,{"$f":"IFERROR(INDEX('Podświetlanie modułów'!D:D,MATCH(H154,'Podświetlanie modułów'!B:B,0)),\"\")","v":""},"PopUp (promocja","",{"$f":"IFERROR(MATCH(H154,Brief!AA:AA,0),\"\")","v":215},"PopUp (promocja lub informacja)",null,1,{"$f":"J154*$K$2+(V2*(J154*$K$2))","v":132},2,{"$f":"L154*$M$2+($W$2*(L154*$M$2))","v":264},0,0,{"$f":"IFERROR(INDEX(Brief!J:J,G154),0)","v":0},null,{"$f":"ROUNDUP(P154*(K154+M154+O154)*(1+$R$2),-1)","v":0},null,0,0,0,0,0,"https://jack-strong.com/",null,null,"Elementor"]
["x",null,null,{"$f":"IFERROR(INDEX('Podświetlanie modułów'!D:D,MATCH(H155,'Podświetlanie modułów'!B:B,0)),\"\")","v":""},"PopUp (newslett","",{"$f":"IFERROR(MATCH(H155,Brief!AA:AA,0),\"\")","v":216},"PopUp (newsletter)",null,1,{"$f":"J155*$K$2+(V2*(J155*$K$2))","v":132},null,null,2.5,450,{"$f":"IFERROR(INDEX(Brief!J:J,G155),0)","v":0},null,0,null,0,0,0,0,0,"https://jack-strong.com/",null,null,"Elementor"]
[null,"x",null,{"$f":"IFERROR(INDEX('Podświetlanie modułów'!D:D,MATCH(H156,'Podświetlanie modułów'!B:B,0)),\"\")","v":""},"Utworzenie kole","",{"$f":"IFERROR(MATCH(H156,Brief!AA:AA,0),\"\")","v":217},"Utworzenie kolejny - popup (grafika + treść)",null,1,{"$f":"J156*$K$2+(V2*(J156*$K$2))","v":132},2,{"$f":"L156*$M$2+($W$2*(L156*$M$2))","v":264},0,0,{"$f":"IFERROR(INDEX(Brief!J:J,G156),0)","v":0},null,{"$f":"ROUNDUP(P156*(K156+K156+O156)*(1+$R$2),-1)","v":0},null,0,0,0,0,0]
[null,null,null,{"$f":"IFERROR(INDEX('Podświetlanie modułów'!D:D,MATCH(H157,'Podświetlanie modułów'!B:B,0)),\"\")","v":""},"Dodatkowy moduł","",{"$f":"IFERROR(MATCH(H157,Brief!AA:AA,0),\"\")","v":218},{"$f":"\"Dodatkowy moduł \"&(COUNTIF($E$4:E156,\"Dodatkowy moduł\")+1)","v":"Dodatkowy moduł 26"},null,null,{"$f":"J157*$K$2+(V2*(J157*$K$2))","v":0},null,null,null,0,{"$f":"IFERROR(INDEX(Brief!J:J,G157),0)","v":0},null,0,null,0,0,0,0,0]
[null,null,null,{"$f":"IFERROR(INDEX('Podświetlanie modułów'!D:D,MATCH(H158,'Podświetlanie modułów'!B:B,0)),\"\")","v":""},"Dodatkowy moduł","",{"$f":"IFERROR(MATCH(H158,Brief!AA:AA,0),\"\")","v":219},{"$f":"\"Dodatkowy moduł \"&(COUNTIF($E$4:E157,\"Dodatkowy moduł\")+1)","v":"Dodatkowy moduł 27"},null,null,{"$f":"J158*$K$2+(V2*(J158*$K$2))","v":0},null,null,null,0,{"$f":"IFERROR(INDEX(Brief!J:J,G158),0)","v":0},null,0,null,0,0,0,0,0]
[null,null,null,{"$f":"IFERROR(INDEX('Podświetlanie modułów'!D:D,MATCH(H159,'Podświetlanie modułów'!B:B,0)),\"\")","v":""},"Dodatkowy moduł","",{"$f":"IFERROR(MATCH(H159,Brief!AA:AA,0),\"\")","v":220},{"$f":"\"Dodatkowy moduł \"&(COUNTIF($E$4:E158,\"Dodatkowy moduł\")+1)","v":"Dodatkowy moduł 28"},null,null,{"$f":"J159*$K$2+(V2*(J159*$K$2))","v":0},null,null,null,0,{"$f":"IFERROR(INDEX(Brief!J:J,G159),0)","v":0},null,0,null,0,0,0,0,0]
[null,null,null,{"$f":"IFERROR(INDEX('Podświetlanie modułów'!D:D,MATCH(H160,'Podświetlanie modułów'!B:B,0)),\"\")","v":""},"Optymalizacja p","",{"$f":"IFERROR(MATCH(H160,Brief!AA:AA,0),\"\")","v":""},"Optymalizacja pod Google"]
["x",null,null,{"$f":"IFERROR(INDEX('Podświetlanie modułów'!D:D,MATCH(H161,'Podświetlanie modułów'!B:B,0)),\"\")","v":""},"SEO ustawienia ","",{"$f":"IFERROR(MATCH(H161,Brief!AA:AA,0),\"\")","v":222},"SEO ustawienia (Yoast SEO)",null,null,{"$f":"J161*$K$2+(V2*(J161*$K$2))","v":0},0,{"$f":"L161*$M$2+($W$2*(L161*$M$2))","v":0},0,0,{"$f":"IFERROR(INDEX(Brief!J:J,G161),0)","v":0},"x",{"$f":"ROUNDUP(P161*(M161+O161)*(1+$R$2),-1)","v":0},null,{"$f":"P161","v":0},{"$f":"S161*T161","v":0},{"$f":"P161*J161","v":0},0,{"$f":"P161*N161","v":0},null,null,null,"SEO Yoast"]
["x","x",null,{"$f":"IFERROR(INDEX('Podświetlanie modułów'!D:D,MATCH(H162,'Podświetlanie modułów'!B:B,0)),\"\")","v":""},{"$f":"LEFT(H162,15)","v":"Optymalizacja S"},"",{"$f":"IFERROR(MATCH(H162,Brief!AA:AA,0),\"\")","v":223},"Optymalizacja SEO - Tylko Strona główna ",null,null,{"$f":"J162*$K$2+(V2*(J162*$K$2))","v":0},1,{"$f":"L162*$M$2+($W$2*(L162*$M$2))","v":132},0,0,{"$f":"IFERROR(INDEX(Brief!J:J,G162),0)","v":0},"x",0,null,{"$f":"P162","v":0},0,0,0,0]
["x","x",null,{"$f":"IFERROR(INDEX('Podświetlanie modułów'!D:D,MATCH(H163,'Podświetlanie modułów'!B:B,0)),\"\")","v":""},"Optymalizacja S","",{"$f":"IFERROR(MATCH(H163,Brief!AA:AA,0),\"\")","v":224},"Optymalizacja SEO - Meta dane + H1 (1 strona)",null,null,{"$f":"J163*$K$2+(V2*(J163*$K$2))","v":0},0.5,66,0,0,{"$f":"IFERROR(INDEX(Brief!J:J,G163),0)","v":0},null,0,null,0,0,0,0,0]
["x","x",null,{"$f":"IFERROR(INDEX('Podświetlanie modułów'!D:D,MATCH(H164,'Podświetlanie modułów'!B:B,0)),\"\")","v":""},"Optymalizacja S","",{"$f":"IFERROR(MATCH(H164,Brief!AA:AA,0),\"\")","v":225},"Optymalizacja SEO - Kompleksowa (1 strona)",null,null,{"$f":"J164*$K$2+(V2*(J164*$K$2))","v":0},1,132,0.2,36,{"$f":"IFERROR(INDEX(Brief!J:J,G164),0)","v":0},null,0,null,0,0,0,0,0]
[null,null,null,{"$f":"IFERROR(INDEX('Podświetlanie modułów'!D:D,MATCH(H165,'Podświetlanie modułów'!B:B,0)),\"\")","v":""},"Przekierowania","",{"$f":"IFERROR(MATCH(H165,Brief!AA:AA,0),\"\")","v":226},"Przekierowania",null,null,{"$f":"J165*$K$2+(V2*(J165*$K$2))","v":0},0.3,39.6,0,0,{"$f":"IFERROR(INDEX(Brief!J:J,G165),0)","v":0},null,0,null,0,0,0,0,0,null,null,null,"Redirection"]
[null,"x",null,{"$f":"IFERROR(INDEX('Podświetlanie modułów'!D:D,MATCH(H166,'Podświetlanie modułów'!B:B,0)),\"\")","v":""},"Konfiguracja pr","",{"$f":"IFERROR(MATCH(H166,Brief!AA:AA,0),\"\")","v":227},"Konfiguracja przekierowania (1 szt)",null,null,{"$f":"J166*$K$2+(V2*(J166*$K$2))","v":0},0.1,13.2,0,0,{"$f":"IFERROR(INDEX(Brief!J:J,G166),0)","v":0},null,0,null,0,0,0,0,0]
[null,"x",null,{"$f":"IFERROR(INDEX('Podświetlanie modułów'!D:D,MATCH(H167,'Podświetlanie modułów'!B:B,0)),\"\")","v":""},"Konfiguracja Ce","",{"$f":"IFERROR(MATCH(H167,Brief!AA:AA,0),\"\")","v":228},"Konfiguracja Certyfikat SSL na hostingu serwerkreacja",null,null,{"$f":"J167*$K$2+(V2*(J167*$K$2))","v":0},0.5,66,0,0,{"$f":"IFERROR(INDEX(Brief!J:J,G167),0)","v":0},"x",0,null,0,0,0,0,0]
[null,"x",null,{"$f":"IFERROR(INDEX('Podświetlanie modułów'!D:D,MATCH(H168,'Podświetlanie modułów'!B:B,0)),\"\")","v":""},"Konfiguracja Ce","",{"$f":"IFERROR(MATCH(H168,Brief!AA:AA,0),\"\")","v":229},"Konfiguracja Certyfikat SSL na hostingu zewnętrznym","od",null,{"$f":"J168*$K$2+(V2*(J168*$K$2))","v":0},0,0,2,360,{"$f":"IFERROR(INDEX(Brief!J:J,G168),0)","v":0},null,0,null,0,0,0,0,0]
[null,"x",null,{"$f":"IFERROR(INDEX('Podświetlanie modułów'!D:D,MATCH(H169,'Podświetlanie modułów'!B:B,0)),\"\")","v":""},"Optymalizacja s","",{"$f":"IFERROR(MATCH(H169,Brief!AA:AA,0),\"\")","v":230},"Optymalizacja szybkości","od",null,{"$f":"J169*$K$2+(V2*(J169*$K$2))","v":0},0,0,5,900,{"$f":"IFERROR(INDEX(Brief!J:J,G169),0)","v":0},null,0,null,0,0,0,0,0]
["x",null,null,{"$f":"IFERROR(INDEX('Podświetlanie modułów'!D:D,MATCH(H170,'Podświetlanie modułów'!B:B,0)),\"\")","v":""},"Statystyki Goog","",{"$f":"IFERROR(MATCH(H170,Brief!AA:AA,0),\"\")","v":231},"Statystyki Google Analytics",null,null,{"$f":"J170*$K$2+(V2*(J170*$K$2))","v":0},0.5,66,0,0,{"$f":"IFERROR(INDEX(Brief!J:J,G170),0)","v":0},"x",0,null,0,0,0,0,0]
[null,null,null,{"$f":"IFERROR(INDEX('Podświetlanie modułów'!D:D,MATCH(H171,'Podświetlanie modułów'!B:B,0)),\"\")","v":""},"Statystyki Goog","",{"$f":"IFERROR(MATCH(H171,Brief!AA:AA,0),\"\")","v":232},"Statystyki Google Analytics - strony zewnętrzne",null,null,{"$f":"J171*$K$2+(V2*(J171*$K$2))","v":0},1,132,0,0,{"$f":"IFERROR(INDEX(Brief!J:J,G171),0)","v":0},null,0,null,0,0,0,0,0,null,null,null,"Google Analytics"]
[null,null,null,{"$f":"IFERROR(INDEX('Podświetlanie modułów'!D:D,MATCH(H172,'Podświetlanie modułów'!B:B,0)),\"\")","v":""},"Dodatkowy moduł","",{"$f":"IFERROR(MATCH(H172,Brief!AA:AA,0),\"\")","v":233},{"$f":"\"Dodatkowy moduł \"&(COUNTIF($E$4:E171,\"Dodatkowy moduł\")+1)","v":"Dodatkowy moduł 29"},null,null,{"$f":"J172*$K$2+(V2*(J172*$K$2))","v":0},null,0,null,0,{"$f":"IFERROR(INDEX(Brief!J:J,G172),0)","v":0},null,0,null,0,0,0,0,0]
[null,null,null,{"$f":"IFERROR(INDEX('Podświetlanie modułów'!D:D,MATCH(H173,'Podświetlanie modułów'!B:B,0)),\"\")","v":""},"Dodatkowy moduł","",{"$f":"IFERROR(MATCH(H173,Brief!AA:AA,0),\"\")","v":234},{"$f":"\"Dodatkowy moduł \"&(COUNTIF($E$4:E172,\"Dodatkowy moduł\")+1)","v":"Dodatkowy moduł 30"},null,null,{"$f":"J173*$K$2+(V2*(J173*$K$2))","v":0},null,0,null,0,{"$f":"IFERROR(INDEX(Brief!J:J,G173),0)","v":0},null,0,null,0,0,0,0,0]
[null,null,null,{"$f":"IFERROR(INDEX('Podświetlanie modułów'!D:D,MATCH(H174,'Podświetlanie modułów'!B:B,0)),\"\")","v":""},"Dodatkowy moduł","",{"$f":"IFERROR(MATCH(H174,Brief!AA:AA,0),\"\")","v":235},{"$f":"\"Dodatkowy moduł \"&(COUNTIF($E$4:E173,\"Dodatkowy moduł\")+1)","v":"Dodatkowy moduł 31"},null,null,{"$f":"J174*$K$2+(V2*(J174*$K$2))","v":0},null,0,null,0,{"$f":"IFERROR(INDEX(Brief!J:J,G174),0)","v":0},null,0,null,0,0,0,0,0]
[null,null,null,{"$f":"IFERROR(INDEX('Podświetlanie modułów'!D:D,MATCH(H175,'Podświetlanie modułów'!B:B,0)),\"\")","v":""},"Dodatkowy moduł",{"$f":"IF($F$2=\"x\",R175,\"\")","v":""},{"$f":"IFERROR(MATCH(H175,Brief!AA:AA,0),\"\")","v":236},{"$f":"\"Dodatkowy moduł \"&(COUNTIF($E$4:E174,\"Dodatkowy moduł\")+1)","v":"Dodatkowy moduł 32"},null,null,{"$f":"J175*$K$2+(V2*(J175*$K$2))","v":0},null,0,null,0,{"$f":"IFERROR(INDEX(Brief!J:J,G175),0)","v":0},null,0,null,0,0,0,0,0]
[null,null,null,{"$f":"IFERROR(INDEX('Podświetlanie modułów'!D:D,MATCH(H176,'Podświetlanie modułów'!B:B,0)),\"\")","v":""},"Dodatkowy moduł","",{"$f":"IFERROR(MATCH(H176,Brief!AA:AA,0),\"\")","v":237},{"$f":"\"Dodatkowy moduł \"&(COUNTIF($E$4:E175,\"Dodatkowy moduł\")+1)","v":"Dodatkowy moduł 33"},null,null,{"$f":"J176*$K$2+(V2*(J176*$K$2))","v":0},null,0,null,{"$f":"$O$2*N176+($X$2*(N176*$O$2))","v":0},{"$f":"IFERROR(INDEX(Brief!J:J,G176),0)","v":0},null,0,null,0,0,0,0,0]
[null,null,null,{"$f":"IFERROR(INDEX('Podświetlanie modułów'!D:D,MATCH(H177,'Podświetlanie modułów'!B:B,0)),\"\")","v":""},"Dodatkowe moduł","",{"$f":"IFERROR(MATCH(H177,Brief!AA:AA,0),\"\")","v":""},"Dodatkowe moduły"]
["x",null,null,{"$f":"IFERROR(INDEX('Podświetlanie modułów'!D:D,MATCH(H178,'Podświetlanie modułów'!B:B,0)),\"\")","v":""},"Polityka prywat","",{"$f":"IFERROR(MATCH(H178,Brief!AA:AA,0),\"\")","v":239},"Polityka prywatności i Cookies + komunikat - domyślny",null,0,{"$f":"J178*$K$2+(V2*(J178*$K$2))","v":0},null,null,0.4,72,{"$f":"IFERROR(INDEX(Brief!J:J,G178),0)","v":0},"x",0,null,{"$f":"P178","v":0},{"$f":"S178*T178","v":0},{"$f":"P178*J178","v":0},0,{"$f":"P178*N178","v":0},"https://biznes.leszno.pl/polityka-prywatnosci-i-cookies/",null,null,"Complianz GDPR"]
[null,null,null,{"$f":"IFERROR(INDEX('Podświetlanie modułów'!D:D,MATCH(H179,'Podświetlanie modułów'!B:B,0)),\"\")","v":""},"Polityka prywat","",{"$f":"IFERROR(MATCH(H179,Brief!AA:AA,0),\"\")","v":240},"Polityka prywatności i Cookies + komunikat - personalizowany",null,0.5,{"$f":"J179*$K$2+(V2*(J179*$K$2))","v":66},null,null,1,180,{"$f":"IFERROR(INDEX(Brief!J:J,G179),0)","v":0},null,0,null,{"$f":"P179","v":0},{"$f":"S179*T179","v":0},0,0,{"$f":"P179*N179","v":0},"https://biznes.leszno.pl/polityka-prywatnosci-i-cookies/",null,null,"Complianz GDPR"]
["x",null,null,{"$f":"IFERROR(INDEX('Podświetlanie modułów'!D:D,MATCH(H180,'Podświetlanie modułów'!B:B,0)),\"\")","v":""},"Favicon - domyś","",{"$f":"IFERROR(MATCH(H180,Brief!AA:AA,0),\"\")","v":241},"Favicon - domyślny (sygnet lub litera z nazwy)",null,0.2,{"$f":"J180*$K$2+(V2*(J180*$K$2))","v":26.4},0.2,{"$f":"L180*$M$2+($W$2*(L180*$M$2))","v":26.4},0,0,{"$f":"IFERROR(INDEX(Brief!J:J,G180),0)","v":0},"x",{"$f":"ROUNDUP(P180*(K180+M180+O180)*(1+$R$2),-1)","v":0},null,0,{"$f":"S180*T180","v":0},0,0,{"$f":"P180*N180","v":0}]
[null,null,null,{"$f":"IFERROR(INDEX('Podświetlanie modułów'!D:D,MATCH(H181,'Podświetlanie modułów'!B:B,0)),\"\")","v":""},"Favicon - perso","",{"$f":"IFERROR(MATCH(H181,Brief!AA:AA,0),\"\")","v":242},"Favicon - personalizowany","od",1,{"$f":"J181*$K$2+(V2*(J181*$K$2))","v":132},0.2,26.4,0,0,{"$f":"IFERROR(INDEX(Brief!J:J,G181),0)","v":0},null,{"$f":"ROUNDUP(P181*(K181+M181+O181)*(1+$R$2),-1)","v":0},null,0,{"$f":"S181*T181","v":0},0,0,{"$f":"P181*N181","v":0}]
[null,null,null,{"$f":"IFERROR(INDEX('Podświetlanie modułów'!D:D,MATCH(H182,'Podświetlanie modułów'!B:B,0)),\"\")","v":""},"Dodatkowy moduł","",{"$f":"IFERROR(MATCH(H182,Brief!AA:AA,0),\"\")","v":243},{"$f":"\"Dodatkowy moduł \"&(COUNTIF($E$4:E181,\"Dodatkowy moduł\")+1)","v":"Dodatkowy moduł 34"},null,null,{"$f":"J182*$K$2+(V2*(J182*$K$2))","v":0},null,0,null,0,{"$f":"IFERROR(INDEX(Brief!J:J,G182),0)","v":0},null,0,null,0,{"$f":"S182*T182","v":0},0,0,{"$f":"P182*N182","v":0}]
[null,null,null,{"$f":"IFERROR(INDEX('Podświetlanie modułów'!D:D,MATCH(H183,'Podświetlanie modułów'!B:B,0)),\"\")","v":""},"Dodatkowy moduł","",{"$f":"IFERROR(MATCH(H183,Brief!AA:AA,0),\"\")","v":244},{"$f":"\"Dodatkowy moduł \"&(COUNTIF($E$4:E182,\"Dodatkowy moduł\")+1)","v":"Dodatkowy moduł 35"},null,null,{"$f":"J183*$K$2+(V2*(J183*$K$2))","v":0},null,0,null,0,{"$f":"IFERROR(INDEX(Brief!J:J,G183),0)","v":0},null,0,null,0,0,0,0,0]
[null,null,null,{"$f":"IFERROR(INDEX('Podświetlanie modułów'!D:D,MATCH(H184,'Podświetlanie modułów'!B:B,0)),\"\")","v":""},"Dodatkowy moduł","",{"$f":"IFERROR(MATCH(H184,Brief!AA:AA,0),\"\")","v":245},{"$f":"\"Dodatkowy moduł \"&(COUNTIF($E$4:E183,\"Dodatkowy moduł\")+1)","v":"Dodatkowy moduł 36"},null,null,{"$f":"J184*$K$2+(V2*(J184*$K$2))","v":0},null,0,null,0,{"$f":"IFERROR(INDEX(Brief!J:J,G184),0)","v":0},null,0,null,0,0,0,0,0]
[null,null,null,{"$f":"IFERROR(INDEX('Podświetlanie modułów'!D:D,MATCH(H185,'Podświetlanie modułów'!B:B,0)),\"\")","v":""},"Dodatkowy moduł","",{"$f":"IFERROR(MATCH(H185,Brief!AA:AA,0),\"\")","v":246},{"$f":"\"Dodatkowy moduł \"&(COUNTIF($E$4:E184,\"Dodatkowy moduł\")+1)","v":"Dodatkowy moduł 37"},null,null,{"$f":"J185*$K$2+(V2*(J185*$K$2))","v":0},null,0,null,0,{"$f":"IFERROR(INDEX(Brief!J:J,G185),0)","v":0},null,0,null,0,0,0,0,0]
[null,null,null,{"$f":"IFERROR(INDEX('Podświetlanie modułów'!D:D,MATCH(H186,'Podświetlanie modułów'!B:B,0)),\"\")","v":""},"Dodatkowy moduł","",{"$f":"IFERROR(MATCH(H186,Brief!AA:AA,0),\"\")","v":247},{"$f":"\"Dodatkowy moduł \"&(COUNTIF($E$4:E185,\"Dodatkowy moduł\")+1)","v":"Dodatkowy moduł 38"},null,null,{"$f":"J186*$K$2+(V2*(J186*$K$2))","v":0},null,0,null,0,{"$f":"IFERROR(INDEX(Brief!J:J,G186),0)","v":0},null,0,null,0,0,0,0,0]
[null,null,null,{"$f":"IFERROR(INDEX('Podświetlanie modułów'!D:D,MATCH(H187,'Podświetlanie modułów'!B:B,0)),\"\")","v":""},"Moduły Zaawanso","",{"$f":"IFERROR(MATCH(H187,Brief!AA:AA,0),\"\")","v":""},"Moduły Zaawansowane - dla Serwisu Korporacyjnego"]
[null,null,null,{"$f":"IFERROR(INDEX('Podświetlanie modułów'!D:D,MATCH(H188,'Podświetlanie modułów'!B:B,0)),\"\")","v":""},"Oferta firmy","",{"$f":"IFERROR(MATCH(H188,Brief!AA:AA,0),\"\")","v":""},"Oferta firmy"]
["x",null,null,{"$f":"IFERROR(INDEX('Podświetlanie modułów'!D:D,MATCH(H189,'Podświetlanie modułów'!B:B,0)),\"\")","v":0},"Katalog produkt","",{"$f":"IFERROR(MATCH(H189,Brief!AA:AA,0),\"\")","v":250},"Katalog produktów (bez opcji sklepu) producenci, serie, linie, typy, grupy, kategorie itp.","od",8,{"$f":"J189*$K$2+(V2*(J189*$K$2))","v":1056},null,null,14,2520,{"$f":"IFERROR(INDEX(Brief!J:J,G189),0)","v":0},null,0,null,{"$f":"P189","v":0},{"$f":"S189*T189","v":0},{"$f":"P189*J189","v":0},0,{"$f":"P189*N189","v":0},"https://danex.pl/produkty/",null,null,"Post type + ACF"]
[null,"x",null,{"$f":"IFERROR(INDEX('Podświetlanie modułów'!D:D,MATCH(H190,'Podświetlanie modułów'!B:B,0)),\"\")","v":""},"Dodanie 1 produ","",{"$f":"IFERROR(MATCH(H190,Brief!AA:AA,0),\"\")","v":251},"Dodanie 1 produktu","od",null,{"$f":"J190*$K$2+(V2*(J190*$K$2))","v":0},0.5,{"$f":"L190*$M$2+($W$2*(L190*$M$2))","v":66},0,0,{"$f":"IFERROR(INDEX(Brief!J:J,G190),0)","v":0},null,{"$f":"ROUNDUP(P190*(M190+O190)*(1+$R$2),-1)","v":0},null,{"$f":"P190","v":0},0,0,0,0]
[null,null,null,{"$f":"IFERROR(INDEX('Podświetlanie modułów'!D:D,MATCH(H191,'Podświetlanie modułów'!B:B,0)),\"\")","v":""},"Filtry","",{"$f":"IFERROR(MATCH(H191,Brief!AA:AA,0),\"\")","v":252},"Filtry","od",2,{"$f":"J191*$K$2+(V2*(J191*$K$2))","v":264},null,null,8,1440,{"$f":"IFERROR(INDEX(Brief!J:J,G191),0)","v":0},null,0,null,0,0,0,0,0,"http://10.demooo.pl/kategoria-produktu/znicze/, http://www.stomil-poznan.pl/oferta-opony/opony/opony-wielkogabarytowe-do-maszyn-gorniczych-oraz-maszyn-do-prac-ziemnych/",null,null,"wlasne"]
[null,null,null,{"$f":"IFERROR(INDEX('Podświetlanie modułów'!D:D,MATCH(H192,'Podświetlanie modułów'!B:B,0)),\"\")","v":""},"Sortowanie","",{"$f":"IFERROR(MATCH(H192,Brief!AA:AA,0),\"\")","v":253},"Sortowanie","od",2,{"$f":"J192*$K$2+(V2*(J192*$K$2))","v":264},null,null,2,360,{"$f":"IFERROR(INDEX(Brief!J:J,G192),0)","v":0},null,0,null,0,0,0,0,0]
[null,null,null,{"$f":"IFERROR(INDEX('Podświetlanie modułów'!D:D,MATCH(H193,'Podświetlanie modułów'!B:B,0)),\"\")","v":""},"Porównywarka pr","",{"$f":"IFERROR(MATCH(H193,Brief!AA:AA,0),\"\")","v":254},"Porównywarka produktów","od",4,{"$f":"J193*$K$2+(V2*(J193*$K$2))","v":528},null,null,10,1800,{"$f":"IFERROR(INDEX(Brief!J:J,G193),0)","v":0},null,0,null,0,0,0,0,0,"http://www.stomil-poznan.pl/en/products-comparer/",null,null,"wlasne"]
["x",null,null,{"$f":"IFERROR(INDEX('Podświetlanie modułów'!D:D,MATCH(H194,'Podświetlanie modułów'!B:B,0)),\"\")","v":0},"Cenniki zaawans","",{"$f":"IFERROR(MATCH(H194,Brief!AA:AA,0),\"\")","v":255},"Cenniki zaawansowane + popup z opisem",null,4,{"$f":"J194*$K$2+(V2*(J194*$K$2))","v":528},null,null,0,0,{"$f":"IFERROR(INDEX(Brief!J:J,G194),0)","v":0},null,0,null,0,0,0,{"$f":"P194*L194","v":0},0,null,null,null,"ACF"]
[null,null,null,{"$f":"IFERROR(INDEX('Podświetlanie modułów'!D:D,MATCH(H195,'Podświetlanie modułów'!B:B,0)),\"\")","v":""},"Menu dla gastro","",{"$f":"IFERROR(MATCH(H195,Brief!AA:AA,0),\"\")","v":256},"Menu dla gastronomii ",null,4,{"$f":"J195*$K$2+(V2*(J195*$K$2))","v":528},null,null,0,0,{"$f":"IFERROR(INDEX(Brief!J:J,G195),0)","v":0},null,0,null,0,0,0,0,0,null,null,null,"ACF"]
[null,null,null,{"$f":"IFERROR(INDEX('Podświetlanie modułów'!D:D,MATCH(H196,'Podświetlanie modułów'!B:B,0)),\"\")","v":""},"Kalkulator zapy","",{"$f":"IFERROR(MATCH(H196,Brief!AA:AA,0),\"\")","v":257},"Kalkulator zapytania","od",3,{"$f":"J196*$K$2+(V2*(J196*$K$2))","v":396},null,null,5,900,{"$f":"IFERROR(INDEX(Brief!J:J,G196),0)","v":0},null,0,null,0,0,0,0,0,"https://ratomedica.pl/dla-klienta/",null,null,"wlasne"]
[null,null,null,{"$f":"IFERROR(INDEX('Podświetlanie modułów'!D:D,MATCH(H197,'Podświetlanie modułów'!B:B,0)),\"\")","v":""},"Rozbudowane for","",{"$f":"IFERROR(MATCH(H197,Brief!AA:AA,0),\"\")","v":258},"Rozbudowane formularze zapytania","od",3,{"$f":"J197*$K$2+(V2*(J197*$K$2))","v":396},null,null,5,900,{"$f":"IFERROR(INDEX(Brief!J:J,G197),0)","v":0},null,{"$f":"ROUNDUP(P197*(K197+O197)*(1+$R$2),-1)","v":0},null,0,0,0,0,0,"http://pv-partner.pl",null,null,"wlasne"]
[null,null,null,{"$f":"IFERROR(INDEX('Podświetlanie modułów'!D:D,MATCH(H198,'Podświetlanie modułów'!B:B,0)),\"\")","v":""},"Konfigurator of","",{"$f":"IFERROR(MATCH(H198,Brief!AA:AA,0),\"\")","v":259},"Konfigurator ofert PDF z panelem zarządzania","od",20,{"$f":"J198*$K$2+(V2*(J198*$K$2))","v":2640},null,null,100,18000,{"$f":"IFERROR(INDEX(Brief!J:J,G198),0)","v":0},null,0,null,0,0,0,0,0,"colson.pl/oferty/",null,null,"własne + php poza WP"]
[null,null,null,{"$f":"IFERROR(INDEX('Podświetlanie modułów'!D:D,MATCH(H199,'Podświetlanie modułów'!B:B,0)),\"\")","v":""},"Dodatkowy moduł","",{"$f":"IFERROR(MATCH(H199,Brief!AA:AA,0),\"\")","v":260},{"$f":"\"Dodatkowy moduł \"&(COUNTIF($E$4:E198,\"Dodatkowy moduł\")+1)","v":"Dodatkowy moduł 39"},null,null,{"$f":"J199*$K$2+(V2*(J199*$K$2))","v":0},null,null,null,0,{"$f":"IFERROR(INDEX(Brief!J:J,G199),0)","v":0},null,0,null,0,0,0,0,0]
[null,null,null,{"$f":"IFERROR(INDEX('Podświetlanie modułów'!D:D,MATCH(H200,'Podświetlanie modułów'!B:B,0)),\"\")","v":""},"Dodatkowy moduł","",{"$f":"IFERROR(MATCH(H200,Brief!AA:AA,0),\"\")","v":261},{"$f":"\"Dodatkowy moduł \"&(COUNTIF($E$4:E199,\"Dodatkowy moduł\")+1)","v":"Dodatkowy moduł 40"},null,null,{"$f":"J200*$K$2+(V2*(J200*$K$2))","v":0},null,null,null,0,{"$f":"IFERROR(INDEX(Brief!J:J,G200),0)","v":0},null,0,null,0,0,0,0,0]
[null,null,null,{"$f":"IFERROR(INDEX('Podświetlanie modułów'!D:D,MATCH(H201,'Podświetlanie modułów'!B:B,0)),\"\")","v":""},"Dodatkowy moduł","",{"$f":"IFERROR(MATCH(H201,Brief!AA:AA,0),\"\")","v":262},{"$f":"\"Dodatkowy moduł \"&(COUNTIF($E$4:E200,\"Dodatkowy moduł\")+1)","v":"Dodatkowy moduł 41"},null,null,{"$f":"J201*$K$2+(V2*(J201*$K$2))","v":0},null,null,null,0,{"$f":"IFERROR(INDEX(Brief!J:J,G201),0)","v":0},null,0,null,0,0,0,0,0]
[null,null,null,{"$f":"IFERROR(INDEX('Podświetlanie modułów'!D:D,MATCH(H202,'Podświetlanie modułów'!B:B,0)),\"\")","v":""},"Dodatkowy moduł","",{"$f":"IFERROR(MATCH(H202,Brief!AA:AA,0),\"\")","v":263},{"$f":"\"Dodatkowy moduł \"&(COUNTIF($E$4:E201,\"Dodatkowy moduł\")+1)","v":"Dodatkowy moduł 42"},null,null,{"$f":"J202*$K$2+(V2*(J202*$K$2))","v":0},null,null,null,0,{"$f":"IFERROR(INDEX(Brief!J:J,G202),0)","v":0},null,0,null,0,0,0,0,0]
[null,null,null,{"$f":"IFERROR(INDEX('Podświetlanie modułów'!D:D,MATCH(H203,'Podświetlanie modułów'!B:B,0)),\"\")","v":""},"Dodatkowy moduł","",{"$f":"IFERROR(MATCH(H203,Brief!AA:AA,0),\"\")","v":264},{"$f":"\"Dodatkowy moduł \"&(COUNTIF($E$4:E202,\"Dodatkowy moduł\")+1)","v":"Dodatkowy moduł 43"},null,null,{"$f":"J203*$K$2+(V2*(J203*$K$2))","v":0},null,null,null,0,{"$f":"IFERROR(INDEX(Brief!J:J,G203),0)","v":0},null,0,null,0,0,0,0,0]
[null,null,null,{"$f":"IFERROR(INDEX('Podświetlanie modułów'!D:D,MATCH(H204,'Podświetlanie modułów'!B:B,0)),\"\")","v":""},"Realizacje & Wy","",{"$f":"IFERROR(MATCH(H204,Brief!AA:AA,0),\"\")","v":""},"Realizacje & Wydarzenia"]
["x",null,null,{"$f":"IFERROR(INDEX('Podświetlanie modułów'!D:D,MATCH(H205,'Podświetlanie modułów'!B:B,0)),\"\")","v":0},"Dedykowane wpis","",{"$f":"IFERROR(MATCH(H205,Brief!AA:AA,0),\"\")","v":266},"Dedykowane wpisy np. poradnik, przepisy kulinarne, case study, realizacje, projekty, portfolio itp.","od",5,{"$f":"J205*$K$2+(V2*(J205*$K$2))","v":660},null,null,10,1800,{"$f":"IFERROR(INDEX(Brief!J:J,G205),0)","v":0},null,0,null,{"$f":"P205","v":0},{"$f":"S205*T205","v":0},{"$f":"P205*J205","v":0},0,{"$f":"P205*N205","v":0},"http://idea-house.pl/projekty/, https://studiokreacja.pl/realizacje/xaris/, https://jano.com.pl/realizacje/",null,"http://wole-ole.pl/recipes/gnocchi-z-zielonym-pesto-i-suszonymi-pomidorami-w-paskach/"]
["x",null,null,{"$f":"IFERROR(INDEX('Podświetlanie modułów'!D:D,MATCH(H206,'Podświetlanie modułów'!B:B,0)),\"\")","v":""},"Realizacje na m","",{"$f":"IFERROR(MATCH(H206,Brief!AA:AA,0),\"\")","v":267},"Realizacje na mapie Google ","od",3,{"$f":"J206*$K$2+(V2*(J206*$K$2))","v":396},null,null,12,2160,{"$f":"IFERROR(INDEX(Brief!J:J,G206),0)","v":0},null,0,null,{"$f":"P206","v":0},{"$f":"S206*T206","v":0},0,0,{"$f":"P206*N206","v":0},"http://biotope.pl/realizacje",null,null,"ACF + API Google Maps"]
[null,null,null,{"$f":"IFERROR(INDEX('Podświetlanie modułów'!D:D,MATCH(H207,'Podświetlanie modułów'!B:B,0)),\"\")","v":""},"Autorski player","",{"$f":"IFERROR(MATCH(H207,Brief!AA:AA,0),\"\")","v":268},"Autorski player audio","od",1,{"$f":"J207*$K$2+(V2*(J207*$K$2))","v":132},null,null,2,360,{"$f":"IFERROR(INDEX(Brief!J:J,G207),0)","v":0},null,0,null,0,{"$f":"S207*T207","v":0},0,0,{"$f":"P207*N207","v":0},"https://szalapski.pl/",null,null,"ACF + API Google Maps"]
[null,null,null,{"$f":"IFERROR(INDEX('Podświetlanie modułów'!D:D,MATCH(H208,'Podświetlanie modułów'!B:B,0)),\"\")","v":""},"Wydarzenia i ka","",{"$f":"IFERROR(MATCH(H208,Brief!AA:AA,0),\"\")","v":269},"Wydarzenia i kalendarium",null,4,{"$f":"J208*$K$2+(V2*(J208*$K$2))","v":528},null,null,8,1440,{"$f":"IFERROR(INDEX(Brief!J:J,G208),0)","v":0},null,0,null,0,{"$f":"S208*T208","v":0},0,0,{"$f":"P208*N208","v":0},"https://biznes.leszno.pl/aktualnosci/",null,null,"własne"]
[null,null,null,{"$f":"IFERROR(INDEX('Podświetlanie modułów'!D:D,MATCH(H209,'Podświetlanie modułów'!B:B,0)),\"\")","v":""},"Dodatkowy moduł","",{"$f":"IFERROR(MATCH(H209,Brief!AA:AA,0),\"\")","v":270},{"$f":"\"Dodatkowy moduł \"&(COUNTIF($E$4:E208,\"Dodatkowy moduł\")+1)","v":"Dodatkowy moduł 44"},null,null,{"$f":"J209*$K$2+(V2*(J209*$K$2))","v":0},null,null,null,0,{"$f":"IFERROR(INDEX(Brief!J:J,G209),0)","v":0},null,0,null,0,{"$f":"S209*T209","v":0},0,0,{"$f":"P209*N209","v":0}]
[null,null,null,{"$f":"IFERROR(INDEX('Podświetlanie modułów'!D:D,MATCH(H210,'Podświetlanie modułów'!B:B,0)),\"\")","v":""},"Dodatkowy moduł","",{"$f":"IFERROR(MATCH(H210,Brief!AA:AA,0),\"\")","v":271},{"$f":"\"Dodatkowy moduł \"&(COUNTIF($E$4:E209,\"Dodatkowy moduł\")+1)","v":"Dodatkowy moduł 45"},null,null,{"$f":"J210*$K$2+(V2*(J210*$K$2))","v":0},null,null,null,0,{"$f":"IFERROR(INDEX(Brief!J:J,G210),0)","v":0},null,0,null,0,0,0,0,0]
[null,null,null,{"$f":"IFERROR(INDEX('Podświetlanie modułów'!D:D,MATCH(H211,'Podświetlanie modułów'!B:B,0)),\"\")","v":""},"Dodatkowy moduł","",{"$f":"IFERROR(MATCH(H211,Brief!AA:AA,0),\"\")","v":272},{"$f":"\"Dodatkowy moduł \"&(COUNTIF($E$4:E210,\"Dodatkowy moduł\")+1)","v":"Dodatkowy moduł 46"},null,null,{"$f":"J211*$K$2+(V2*(J211*$K$2))","v":0},null,null,null,0,{"$f":"IFERROR(INDEX(Brief!J:J,G211),0)","v":0},null,0,null,0,0,0,0,0]
[null,null,null,{"$f":"IFERROR(INDEX('Podświetlanie modułów'!D:D,MATCH(H212,'Podświetlanie modułów'!B:B,0)),\"\")","v":""},"Rozszerzone inf","",{"$f":"IFERROR(MATCH(H212,Brief!AA:AA,0),\"\")","v":""},"Rozszerzone informacje firmowe"]
["x",null,null,{"$f":"IFERROR(INDEX('Podświetlanie modułów'!D:D,MATCH(H213,'Podświetlanie modułów'!B:B,0)),\"\")","v":0},"Linia czasu (hi","",{"$f":"IFERROR(MATCH(H213,Brief!AA:AA,0),\"\")","v":274},"Linia czasu (historia)",null,3,{"$f":"J213*$K$2+(V2*(J213*$K$2))","v":396},null,null,3,540,{"$f":"IFERROR(INDEX(Brief!J:J,G213),0)","v":0},null,0,null,{"$f":"P213","v":0},{"$f":"S213*T213","v":0},{"$f":"P213*J213","v":0},0,{"$f":"P213*N213","v":0},"https://www.danmis.com.pl/historia/, http://10.demooo.pl/poznaj-max-pol/historia/",null,null,"ACF"]
["x",null,null,{"$f":"IFERROR(INDEX('Podświetlanie modułów'!D:D,MATCH(H214,'Podświetlanie modułów'!B:B,0)),\"\")","v":0},"Lista pracownik","",{"$f":"IFERROR(MATCH(H214,Brief!AA:AA,0),\"\")","v":275},"Lista pracowników + strona o pracowniku","od",5,{"$f":"J214*$K$2+(V2*(J214*$K$2))","v":660},null,null,12,2160,{"$f":"IFERROR(INDEX(Brief!J:J,G214),0)","v":0},null,0,null,{"$f":"P214","v":0},0,0,0,0,"https://cmt-advisory.pl/kim-jestesmy/","http://19.demooo.pl/zespol/",null,"ACF"]
["x",null,null,{"$f":"IFERROR(INDEX('Podświetlanie modułów'!D:D,MATCH(H215,'Podświetlanie modułów'!B:B,0)),\"\")","v":0},"Mapa lokalizacj","",{"$f":"IFERROR(MATCH(H215,Brief!AA:AA,0),\"\")","v":276},"Mapa lokalizacji sklepów / oddziałów / punktów","od",3,{"$f":"J215*$K$2+(V2*(J215*$K$2))","v":396},null,null,12,2160,{"$f":"IFERROR(INDEX(Brief!J:J,G215),0)","v":0},null,0,null,0,0,0,0,0,"http://sezamki.pl","http://biotope.pl/realizacje/",null,"ACF + API Google Maps"]
["x",null,null,{"$f":"IFERROR(INDEX('Podświetlanie modułów'!D:D,MATCH(H216,'Podświetlanie modułów'!B:B,0)),\"\")","v":0},"Moduł opinii","",{"$f":"IFERROR(MATCH(H216,Brief!AA:AA,0),\"\")","v":277},"Moduł opinii","od",2,{"$f":"J216*$K$2+(V2*(J216*$K$2))","v":264},null,null,7,1260,{"$f":"IFERROR(INDEX(Brief!J:J,G216),0)","v":0},null,0,null,0,0,0,0,0,"http://studiokreacja.pl",null,null,"ACF"]
["x",null,null,{"$f":"IFERROR(INDEX('Podświetlanie modułów'!D:D,MATCH(H217,'Podświetlanie modułów'!B:B,0)),\"\")","v":0},"Oferty pracy + ","",{"$f":"IFERROR(MATCH(H217,Brief!AA:AA,0),\"\")","v":278},"Oferty pracy + formularz aplikacji","od",4,{"$f":"J217*$K$2+(V2*(J217*$K$2))","v":528},null,null,8,1440,{"$f":"IFERROR(INDEX(Brief!J:J,G217),0)","v":0},null,0,null,0,0,0,0,0,"http://19.demooo.pl/kariera/",null,null,"ACF"]
[null,null,null,{"$f":"IFERROR(INDEX('Podświetlanie modułów'!D:D,MATCH(H218,'Podświetlanie modułów'!B:B,0)),\"\")","v":""},"Przetargi","",{"$f":"IFERROR(MATCH(H218,Brief!AA:AA,0),\"\")","v":279},"Przetargi","od",7,{"$f":"J218*$K$2+(V2*(J218*$K$2))","v":924},null,null,23,4140,{"$f":"IFERROR(INDEX(Brief!J:J,G218),0)","v":0},null,0,null,0,0,0,0,0,null,null,null,"ACF"]
[null,null,null,{"$f":"IFERROR(INDEX('Podświetlanie modułów'!D:D,MATCH(H219,'Podświetlanie modułów'!B:B,0)),\"\")","v":""},"Dodatkowy moduł","",{"$f":"IFERROR(MATCH(H219,Brief!AA:AA,0),\"\")","v":280},{"$f":"\"Dodatkowy moduł \"&(COUNTIF($E$4:E218,\"Dodatkowy moduł\")+1)","v":"Dodatkowy moduł 47"},null,null,{"$f":"J219*$K$2+(V2*(J219*$K$2))","v":0},null,null,null,0,{"$f":"IFERROR(INDEX(Brief!J:J,G219),0)","v":0},null,0,null,0,0,0,0,0]
[null,null,null,{"$f":"IFERROR(INDEX('Podświetlanie modułów'!D:D,MATCH(H220,'Podświetlanie modułów'!B:B,0)),\"\")","v":""},"Dodatkowy moduł","",{"$f":"IFERROR(MATCH(H220,Brief!AA:AA,0),\"\")","v":281},{"$f":"\"Dodatkowy moduł \"&(COUNTIF($E$4:E219,\"Dodatkowy moduł\")+1)","v":"Dodatkowy moduł 48"},null,null,{"$f":"J220*$K$2+(V2*(J220*$K$2))","v":0},null,null,null,0,{"$f":"IFERROR(INDEX(Brief!J:J,G220),0)","v":0},null,0,null,0,0,0,0,0]
[null,null,null,{"$f":"IFERROR(INDEX('Podświetlanie modułów'!D:D,MATCH(H221,'Podświetlanie modułów'!B:B,0)),\"\")","v":""},"Dodatkowy moduł","",{"$f":"IFERROR(MATCH(H221,Brief!AA:AA,0),\"\")","v":282},{"$f":"\"Dodatkowy moduł \"&(COUNTIF($E$4:E220,\"Dodatkowy moduł\")+1)","v":"Dodatkowy moduł 49"},null,null,{"$f":"J221*$K$2+(V2*(J221*$K$2))","v":0},null,null,null,0,{"$f":"IFERROR(INDEX(Brief!J:J,G221),0)","v":0},null,0,null,0,0,0,0,0]
[null,null,null,{"$f":"IFERROR(INDEX('Podświetlanie modułów'!D:D,MATCH(H222,'Podświetlanie modułów'!B:B,0)),\"\")","v":""},"Powiadomienia i","",{"$f":"IFERROR(MATCH(H222,Brief!AA:AA,0),\"\")","v":""},"Powiadomienia i chat"]
[null,null,null,{"$f":"IFERROR(INDEX('Podświetlanie modułów'!D:D,MATCH(H223,'Podświetlanie modułów'!B:B,0)),\"\")","v":""},"Powiadomienia W","",{"$f":"IFERROR(MATCH(H223,Brief!AA:AA,0),\"\")","v":284},"Powiadomienia Web Push np..gravitec (implementacja)",null,0,{"$f":"J223*$K$2+(V2*(J223*$K$2))","v":0},null,null,2,360,{"$f":"IFERROR(INDEX(Brief!J:J,G223),0)","v":0},null,0,null,{"$f":"P223","v":0},{"$f":"S223*T223","v":0},{"$f":"P223*J223","v":0},0,{"$f":"P223*N223","v":0},null,null,null,"https://wordpress.org/plugins/gravitec-net-web-push-notifications/"]
["x",null,null,{"$f":"IFERROR(INDEX('Podświetlanie modułów'!D:D,MATCH(H224,'Podświetlanie modułów'!B:B,0)),\"\")","v":""},"Chat na stronie","",{"$f":"IFERROR(MATCH(H224,Brief!AA:AA,0),\"\")","v":285},"Chat na stronie np.czater  (implementacja)",null,0,{"$f":"J224*$K$2+(V2*(J224*$K$2))","v":0},1,{"$f":"L224*$M$2+($W$2*(L224*$M$2))","v":132},0,0,{"$f":"IFERROR(INDEX(Brief!J:J,G224),0)","v":0},null,{"$f":"ROUNDUP(P224*(K224+M224+O224)*(1+$R$2),-1)","v":0},null,{"$f":"P224","v":0},{"$f":"S224*T224","v":0},0,0,{"$f":"P224*N224","v":0},null,null,null,"czater.pl"]
["x",null,null,{"$f":"IFERROR(INDEX('Podświetlanie modułów'!D:D,MATCH(H225,'Podświetlanie modułów'!B:B,0)),\"\")","v":""},"Messenger na st","",{"$f":"IFERROR(MATCH(H225,Brief!AA:AA,0),\"\")","v":286},"Messenger na stronie (implementacja)",null,0,{"$f":"J225*$K$2+(V2*(J225*$K$2))","v":0},1,132,0,0,{"$f":"IFERROR(INDEX(Brief!J:J,G225),0)","v":0},null,{"$f":"ROUNDUP(P225*(K225+M225+O225)*(1+$R$2),-1)","v":0},null,0,{"$f":"S225*T225","v":0},0,0,{"$f":"P225*N225","v":0},"https://studiokreacja.pl/",null,null,"messenger fb developer"]
[null,null,null,{"$f":"IFERROR(INDEX('Podświetlanie modułów'!D:D,MATCH(H226,'Podświetlanie modułów'!B:B,0)),\"\")","v":""},{"$f":"LEFT(H226,15)","v":"Dodatkowy moduł"},"",{"$f":"IFERROR(MATCH(H226,Brief!AA:AA,0),\"\")","v":287},{"$f":"\"Dodatkowy moduł \"&(COUNTIF($E$4:E225,\"Dodatkowy moduł\")+1)","v":"Dodatkowy moduł 50"},null,null,{"$f":"J226*$K$2+(V2*(J226*$K$2))","v":0},null,null,null,0,{"$f":"IFERROR(INDEX(Brief!J:J,G226),0)","v":0},null,0,null,0,{"$f":"S226*T226","v":0},0,0,{"$f":"P226*N226","v":0}]
[null,null,null,{"$f":"IFERROR(INDEX('Podświetlanie modułów'!D:D,MATCH(H227,'Podświetlanie modułów'!B:B,0)),\"\")","v":""},"Dodatkowy moduł","",{"$f":"IFERROR(MATCH(H227,Brief!AA:AA,0),\"\")","v":288},{"$f":"\"Dodatkowy moduł \"&(COUNTIF($E$4:E226,\"Dodatkowy moduł\")+1)","v":"Dodatkowy moduł 51"},null,null,{"$f":"J227*$K$2+(V2*(J227*$K$2))","v":0},null,null,null,0,{"$f":"IFERROR(INDEX(Brief!J:J,G227),0)","v":0},null,0,null,0,0,0,0,0]
[null,null,null,{"$f":"IFERROR(INDEX('Podświetlanie modułów'!D:D,MATCH(H228,'Podświetlanie modułów'!B:B,0)),\"\")","v":""},"Dodatkowy moduł","",{"$f":"IFERROR(MATCH(H228,Brief!AA:AA,0),\"\")","v":289},{"$f":"\"Dodatkowy moduł \"&(COUNTIF($E$4:E227,\"Dodatkowy moduł\")+1)","v":"Dodatkowy moduł 52"},null,null,{"$f":"J228*$K$2+(V2*(J228*$K$2))","v":0},null,null,null,0,{"$f":"IFERROR(INDEX(Brief!J:J,G228),0)","v":0},null,0,null,0,0,0,0,0]
[null,null,null,{"$f":"IFERROR(INDEX('Podświetlanie modułów'!D:D,MATCH(H229,'Podświetlanie modułów'!B:B,0)),\"\")","v":""},"Dodatkowe opcje","",{"$f":"IFERROR(MATCH(H229,Brief!AA:AA,0),\"\")","v":""},"Dodatkowe opcje"]
[null,null,null,{"$f":"IFERROR(INDEX('Podświetlanie modułów'!D:D,MATCH(H230,'Podświetlanie modułów'!B:B,0)),\"\")","v":""},"Wersje językowe","",{"$f":"IFERROR(MATCH(H230,Brief!AA:AA,0),\"\")","v":291},"Wersje językowe Google Translator",null,0,{"$f":"J230*$K$2+(V2*(J230*$K$2))","v":0},null,null,1,180,{"$f":"IFERROR(INDEX(Brief!J:J,G230),0)","v":0},null,0,null,{"$f":"P230","v":0},{"$f":"S230*T230","v":0},{"$f":"P230*J230","v":0},0,{"$f":"P230*N230","v":0}]
[null,null,null,{"$f":"IFERROR(INDEX('Podświetlanie modułów'!D:D,MATCH(H231,'Podświetlanie modułów'!B:B,0)),\"\")","v":""},"Tryby w header ","",{"$f":"IFERROR(MATCH(H231,Brief!AA:AA,0),\"\")","v":292},"Tryby w header \"Klient indywidualny\", \"Klient biznesowy\"","od",3,{"$f":"J231*$K$2+(V2*(J231*$K$2))","v":396},null,null,10,1800,{"$f":"IFERROR(INDEX(Brief!J:J,G231),0)","v":0},null,0,null,{"$f":"P231","v":0},{"$f":"S231*T231","v":0},0,0,{"$f":"P231*N231","v":0},"https://bawa.com.pl/","https://pwsz-gniezno.edu.pl/"]
[null,null,null,{"$f":"IFERROR(INDEX('Podświetlanie modułów'!D:D,MATCH(H232,'Podświetlanie modułów'!B:B,0)),\"\")","v":""},"Powiększ litery","",{"$f":"IFERROR(MATCH(H232,Brief!AA:AA,0),\"\")","v":293},"Powiększ litery, kontrast","od",0.3,{"$f":"J232*$K$2+(V2*(J232*$K$2))","v":39.6},null,null,3,540,{"$f":"IFERROR(INDEX(Brief!J:J,G232),0)","v":0},null,0,null,0,{"$f":"S232*T232","v":0},0,0,{"$f":"P232*N232","v":0},"https://www.sremskiewodociagi.pl/",null,null,"Availability - krzyśka"]
[null,null,null,{"$f":"IFERROR(INDEX('Podświetlanie modułów'!D:D,MATCH(H233,'Podświetlanie modułów'!B:B,0)),\"\")","v":""},"Dodatkowy moduł","",{"$f":"IFERROR(MATCH(H233,Brief!AA:AA,0),\"\")","v":294},{"$f":"\"Dodatkowy moduł \"&(COUNTIF($E$4:E232,\"Dodatkowy moduł\")+1)","v":"Dodatkowy moduł 53"},null,null,{"$f":"J233*$K$2+(V2*(J233*$K$2))","v":0},null,null,null,0,{"$f":"IFERROR(INDEX(Brief!J:J,G233),0)","v":0},null,0,null,0,{"$f":"S233*T233","v":0},0,0,{"$f":"P233*N233","v":0}]
[null,null,null,{"$f":"IFERROR(INDEX('Podświetlanie modułów'!D:D,MATCH(H234,'Podświetlanie modułów'!B:B,0)),\"\")","v":""},"Dodatkowy moduł","",{"$f":"IFERROR(MATCH(H234,Brief!AA:AA,0),\"\")","v":295},{"$f":"\"Dodatkowy moduł \"&(COUNTIF($E$4:E233,\"Dodatkowy moduł\")+1)","v":"Dodatkowy moduł 54"},null,null,{"$f":"J234*$K$2+(V2*(J234*$K$2))","v":0},null,null,null,0,{"$f":"IFERROR(INDEX(Brief!J:J,G234),0)","v":0},null,0,null,0,0,0,0,0]
[null,null,null,{"$f":"IFERROR(INDEX('Podświetlanie modułów'!D:D,MATCH(H235,'Podświetlanie modułów'!B:B,0)),\"\")","v":""},"Dodatkowy moduł","",{"$f":"IFERROR(MATCH(H235,Brief!AA:AA,0),\"\")","v":296},{"$f":"\"Dodatkowy moduł \"&(COUNTIF($E$4:E234,\"Dodatkowy moduł\")+1)","v":"Dodatkowy moduł 55"},null,null,{"$f":"J235*$K$2+(V2*(J235*$K$2))","v":0},null,null,null,0,{"$f":"IFERROR(INDEX(Brief!J:J,G235),0)","v":0},null,0,null,0,0,0,0,0]
[null,null,null,{"$f":"IFERROR(INDEX('Podświetlanie modułów'!D:D,MATCH(H236,'Podświetlanie modułów'!B:B,0)),\"\")","v":""},"Strefa dla klie","",{"$f":"IFERROR(MATCH(H236,Brief!AA:AA,0),\"\")","v":""},"Strefa dla klienta"]
[null,null,null,{"$f":"IFERROR(INDEX('Podświetlanie modułów'!D:D,MATCH(H237,'Podświetlanie modułów'!B:B,0)),\"\")","v":""},"Repozytorium pl","",{"$f":"IFERROR(MATCH(H237,Brief!AA:AA,0),\"\")","v":298},"Repozytorium plików dla zalogowanych","od",2,{"$f":"J237*$K$2+(V2*(J237*$K$2))","v":264},null,null,5,900,{"$f":"IFERROR(INDEX(Brief!J:J,G237),0)","v":0},null,0,null,{"$f":"P237","v":0},{"$f":"S237*T237","v":0},{"$f":"P237*J237","v":0},0,{"$f":"P237*N237","v":0},null,null,null,"File Manager Frontend"]
[null,null,null,{"$f":"IFERROR(INDEX('Podświetlanie modułów'!D:D,MATCH(H238,'Podświetlanie modułów'!B:B,0)),\"\")","v":""},"Panel logowania","",{"$f":"IFERROR(MATCH(H238,Brief!AA:AA,0),\"\")","v":299},"Panel logowania dla klientów","od",3,{"$f":"J238*$K$2+(V2*(J238*$K$2))","v":396},null,null,10,1800,{"$f":"IFERROR(INDEX(Brief!J:J,G238),0)","v":0},null,0,null,{"$f":"P238","v":0},{"$f":"S238*T238","v":0},{"$f":"P238*J238","v":0},0,{"$f":"P238*N238","v":0}]
[null,null,null,{"$f":"IFERROR(INDEX('Podświetlanie modułów'!D:D,MATCH(H239,'Podświetlanie modułów'!B:B,0)),\"\")","v":""},"Dodatkowy moduł",{"$f":"IF($F$2=\"x\",R239,\"\")","v":""},{"$f":"IFERROR(MATCH(H239,Brief!AA:AA,0),\"\")","v":300},{"$f":"\"Dodatkowy moduł \"&(COUNTIF($E$4:E238,\"Dodatkowy moduł\")+1)","v":"Dodatkowy moduł 56"},null,null,{"$f":"J239*$K$2+(V2*(J239*$K$2))","v":0},null,null,null,0,{"$f":"IFERROR(INDEX(Brief!J:J,G239),0)","v":0},null,0,null,0,{"$f":"S239*T239","v":0},{"$f":"P239*J239","v":0},0,{"$f":"P239*N239","v":0}]
[null,null,null,{"$f":"IFERROR(INDEX('Podświetlanie modułów'!D:D,MATCH(H240,'Podświetlanie modułów'!B:B,0)),\"\")","v":""},"Dodatkowy moduł","",{"$f":"IFERROR(MATCH(H240,Brief!AA:AA,0),\"\")","v":301},{"$f":"\"Dodatkowy moduł \"&(COUNTIF($E$4:E239,\"Dodatkowy moduł\")+1)","v":"Dodatkowy moduł 57"},null,null,{"$f":"J240*$K$2+(V2*(J240*$K$2))","v":0},null,null,null,{"$f":"$O$2*N240+($X$2*(N240*$O$2))","v":0},{"$f":"IFERROR(INDEX(Brief!J:J,G240),0)","v":0},null,0,null,0,0,{"$f":"P240*J240","v":0},0,0]
[null,null,null,{"$f":"IFERROR(INDEX('Podświetlanie modułów'!D:D,MATCH(H241,'Podświetlanie modułów'!B:B,0)),\"\")","v":""},"Płatności","",{"$f":"IFERROR(MATCH(H241,Brief!AA:AA,0),\"\")","v":""},"Płatności"]
[null,null,null,{"$f":"IFERROR(INDEX('Podświetlanie modułów'!D:D,MATCH(H242,'Podświetlanie modułów'!B:B,0)),\"\")","v":""},"Szybka płatność","",{"$f":"IFERROR(MATCH(H242,Brief!AA:AA,0),\"\")","v":303},"Szybka płatność (przelewy24)",null,null,{"$f":"J242*$K$2+(V2*(J242*$K$2))","v":0},2,{"$f":"L242*$M$2+($W$2*(L242*$M$2))","v":264},0,0,{"$f":"IFERROR(INDEX(Brief!J:J,G242),0)","v":0},null,{"$f":"ROUNDUP(P242*(M242+O242)*(1+$R$2),-1)","v":0},null,{"$f":"P242","v":0},{"$f":"S242*T242","v":0},{"$f":"P242*J242","v":0},0,{"$f":"P242*N242","v":0},"https://fundacjabezdzwonka.pl/wsparcie-dla-fundacji/"]
[null,null,null,{"$f":"IFERROR(INDEX('Podświetlanie modułów'!D:D,MATCH(H243,'Podświetlanie modułów'!B:B,0)),\"\")","v":""},"Przelew darowiz","",{"$f":"IFERROR(MATCH(H243,Brief!AA:AA,0),\"\")","v":304},"Przelew darowizny ",null,null,{"$f":"J243*$K$2+(V2*(J243*$K$2))","v":0},2,264,0,0,{"$f":"IFERROR(INDEX(Brief!J:J,G243),0)","v":0},null,{"$f":"ROUNDUP(P243*(M243+O243)*(1+$R$2),-1)","v":0},null,{"$f":"P243","v":0},{"$f":"S243*T243","v":0},{"$f":"P243*J243","v":0},0,{"$f":"P243*N243","v":0},"https://mam-serce.org/zbiorki/jagoda-labus/",null,null,"mam-serce.org"]
[null,null,null,{"$f":"IFERROR(INDEX('Podświetlanie modułów'!D:D,MATCH(H244,'Podświetlanie modułów'!B:B,0)),\"\")","v":""},"Dodatkowy moduł","",{"$f":"IFERROR(MATCH(H244,Brief!AA:AA,0),\"\")","v":305},{"$f":"\"Dodatkowy moduł \"&(COUNTIF($E$4:E243,\"Dodatkowy moduł\")+1)","v":"Dodatkowy moduł 58"},null,null,{"$f":"J244*$K$2+(V2*(J244*$K$2))","v":0},null,0,null,0,{"$f":"IFERROR(INDEX(Brief!J:J,G244),0)","v":0},null,0,null,0,{"$f":"S244*T244","v":0},{"$f":"P244*J244","v":0},0,{"$f":"P244*N244","v":0}]
[null,null,null,{"$f":"IFERROR(INDEX('Podświetlanie modułów'!D:D,MATCH(H245,'Podświetlanie modułów'!B:B,0)),\"\")","v":""},"Dodatkowy moduł","",{"$f":"IFERROR(MATCH(H245,Brief!AA:AA,0),\"\")","v":306},{"$f":"\"Dodatkowy moduł \"&(COUNTIF($E$4:E244,\"Dodatkowy moduł\")+1)","v":"Dodatkowy moduł 59"},null,null,{"$f":"J245*$K$2+(V2*(J245*$K$2))","v":0},null,0,null,0,{"$f":"IFERROR(INDEX(Brief!J:J,G245),0)","v":0},null,0,null,0,0,{"$f":"P245*J245","v":0},0,0]
[null,null,null,{"$f":"IFERROR(INDEX('Podświetlanie modułów'!D:D,MATCH(H246,'Podświetlanie modułów'!B:B,0)),\"\")","v":""},"Efekty specjaln","",{"$f":"IFERROR(MATCH(H246,Brief!AA:AA,0),\"\")","v":""},"Efekty specjalne"]
[null,null,null,{"$f":"IFERROR(INDEX('Podświetlanie modułów'!D:D,MATCH(H247,'Podświetlanie modułów'!B:B,0)),\"\")","v":""},"Dynamiczny popu","",{"$f":"IFERROR(MATCH(H247,Brief!AA:AA,0),\"\")","v":308},"Dynamiczny popup całej podstrony","od",1,{"$f":"J247*$K$2+(V2*(J247*$K$2))","v":132},null,null,5,900,{"$f":"IFERROR(INDEX(Brief!J:J,G247),0)","v":0},null,0,null,{"$f":"P247","v":0},{"$f":"S247*T247","v":0},{"$f":"P247*J247","v":0},0,{"$f":"P247*N247","v":0},"http://19.demooo.pl/?osoba=dr-hab-prof-uam-katarzyna-leskiewicz",null,null,"ACF własny "]
["x",null,null,{"$f":"IFERROR(INDEX('Podświetlanie modułów'!D:D,MATCH(H248,'Podświetlanie modułów'!B:B,0)),\"\")","v":""},"Obrazki z pinez","",{"$f":"IFERROR(MATCH(H248,Brief!AA:AA,0),\"\")","v":309},"Obrazki z pinezkami (Elementor)","od",1,{"$f":"J248*$K$2+(V2*(J248*$K$2))","v":132},2,{"$f":"L248*$M$2+($W$2*(L248*$M$2))","v":264},0,0,{"$f":"IFERROR(INDEX(Brief!J:J,G248),0)","v":0},null,{"$f":"ROUNDUP(P248*(K248+M248+O248)*(1+$R$2),-1)","v":0},null,{"$f":"P248","v":0},0,0,0,0,"http://lightwood.pl",null,null,"ACF własny "]
["x",null,null,{"$f":"IFERROR(INDEX('Podświetlanie modułów'!D:D,MATCH(H249,'Podświetlanie modułów'!B:B,0)),\"\")","v":""},"Foto przed i po","",{"$f":"IFERROR(MATCH(H249,Brief!AA:AA,0),\"\")","v":310},"Foto przed i po",null,0.5,{"$f":"J249*$K$2+(V2*(J249*$K$2))","v":66},null,null,1,180,{"$f":"IFERROR(INDEX(Brief!J:J,G249),0)","v":0},null,0,null,0,0,0,0,0,"https://wordpress.org/plugins/before-after-image-comparison-slider-for-elementor/"]
["x",null,null,{"$f":"IFERROR(INDEX('Podświetlanie modułów'!D:D,MATCH(H250,'Podświetlanie modułów'!B:B,0)),\"\")","v":""},"Animacje elemen","",{"$f":"IFERROR(MATCH(H250,Brief!AA:AA,0),\"\")","v":311},"Animacje elementów (Elementor)",null,0,{"$f":"J250*$K$2+(V2*(J250*$K$2))","v":0},2,{"$f":"L250*$M$2+($W$2*(L250*$M$2))","v":264},0,0,{"$f":"IFERROR(INDEX(Brief!J:J,G250),0)","v":0},null,{"$f":"ROUNDUP(P250*(K250+M250+O250)*(1+$R$2),-1)","v":0},null,0,0,0,0,0,"http://8.demooo.pl/"]
["x",null,null,{"$f":"IFERROR(INDEX('Podświetlanie modułów'!D:D,MATCH(H251,'Podświetlanie modułów'!B:B,0)),\"\")","v":""},"Animacje elemen","",{"$f":"IFERROR(MATCH(H251,Brief!AA:AA,0),\"\")","v":312},"Animacje elementów (autorskie)","od",1,{"$f":"J251*$K$2+(V2*(J251*$K$2))","v":132},null,null,3,540,{"$f":"IFERROR(INDEX(Brief!J:J,G251),0)","v":0},null,0,null,0,0,0,0,0,"http://8.demooo.pl/"]
["x",null,null,{"$f":"IFERROR(INDEX('Podświetlanie modułów'!D:D,MATCH(H252,'Podświetlanie modułów'!B:B,0)),\"\")","v":""},"Tło wideo","",{"$f":"IFERROR(MATCH(H252,Brief!AA:AA,0),\"\")","v":313},"Tło wideo",null,0,{"$f":"J252*$K$2+(V2*(J252*$K$2))","v":0},null,null,1,180,{"$f":"IFERROR(INDEX(Brief!J:J,G252),0)","v":0},null,0,null,0,0,0,0,0,"https://tonyzgrywus.pl/"]
["x",null,null,{"$f":"IFERROR(INDEX('Podświetlanie modułów'!D:D,MATCH(H253,'Podświetlanie modułów'!B:B,0)),\"\")","v":""},"Tło reagujące n","",{"$f":"IFERROR(MATCH(H253,Brief!AA:AA,0),\"\")","v":314},"Tło reagujące na kursor","od",0,{"$f":"J253*$K$2+(V2*(J253*$K$2))","v":0},null,null,2,360,{"$f":"IFERROR(INDEX(Brief!J:J,G253),0)","v":0},null,0,null,0,0,0,0,0,"https://studiokreacja.pl/"]
["x",null,null,{"$f":"IFERROR(INDEX('Podświetlanie modułów'!D:D,MATCH(H254,'Podświetlanie modułów'!B:B,0)),\"\")","v":""},"Tło parallax","",{"$f":"IFERROR(MATCH(H254,Brief!AA:AA,0),\"\")","v":315},"Tło parallax","od",0,{"$f":"J254*$K$2+(V2*(J254*$K$2))","v":0},null,null,1,180,{"$f":"IFERROR(INDEX(Brief!J:J,G254),0)","v":0},null,0,null,0,0,0,0,0,"https://ama-bale.pl/"]
["x",null,null,{"$f":"IFERROR(INDEX('Podświetlanie modułów'!D:D,MATCH(H255,'Podświetlanie modułów'!B:B,0)),\"\")","v":""},"Produkt 3D","",{"$f":"IFERROR(MATCH(H255,Brief!AA:AA,0),\"\")","v":316},"Produkt 3D",null,0.5,{"$f":"J255*$K$2+(V2*(J255*$K$2))","v":66},null,null,2,360,{"$f":"IFERROR(INDEX(Brief!J:J,G255),0)","v":0},null,0,null,0,0,0,0,0,"http://www.stomil-poznan.pl/opony/opona-u42-rozmiar-8-40-15c-nosnosc-1/"]
["x",null,null,{"$f":"IFERROR(INDEX('Podświetlanie modułów'!D:D,MATCH(H256,'Podświetlanie modułów'!B:B,0)),\"\")","v":""},"Produkt 360","",{"$f":"IFERROR(MATCH(H256,Brief!AA:AA,0),\"\")","v":317},"Produkt 360","od",0.5,{"$f":"J256*$K$2+(V2*(J256*$K$2))","v":66},null,null,2,360,{"$f":"IFERROR(INDEX(Brief!J:J,G256),0)","v":0},null,0,null,0,0,0,0,0]
["x",null,null,{"$f":"IFERROR(INDEX('Podświetlanie modułów'!D:D,MATCH(H257,'Podświetlanie modułów'!B:B,0)),\"\")","v":""},"Przestrzeń z ka","",{"$f":"IFERROR(MATCH(H257,Brief!AA:AA,0),\"\")","v":318},"Przestrzeń z kamery 360","od",0.5,{"$f":"J257*$K$2+(V2*(J257*$K$2))","v":66},2,{"$f":"L257*$M$2+($W$2*(L257*$M$2))","v":264},2,360,{"$f":"IFERROR(INDEX(Brief!J:J,G257),0)","v":0},null,{"$f":"ROUNDUP(P257*(K257+M257+O257)*(1+$R$2),-1)","v":0},null,0,0,0,0,0,"http://rodzinny-zakatek.pl/dom-szeregowy-92-m2/#kamery-360","https://momento360.com/e/u/aed7c253b9cb4eaaa5f0bb5867895ed7?utm_campaign=embed&utm_source=other&heading=0&pitch=0&field-of-view=75",null,"osadzone w treści lub jako popup"]
["x",null,null,{"$f":"IFERROR(INDEX('Podświetlanie modułów'!D:D,MATCH(H258,'Podświetlanie modułów'!B:B,0)),\"\")","v":""},"Flipbook / Inte","",{"$f":"IFERROR(MATCH(H258,Brief!AA:AA,0),\"\")","v":319},"Flipbook / Interaktywna książka",null,0.5,{"$f":"J258*$K$2+(V2*(J258*$K$2))","v":66},2,264,1,180,{"$f":"IFERROR(INDEX(Brief!J:J,G258),0)","v":0},null,{"$f":"ROUNDUP(P258*(K258+M258+O258)*(1+$R$2),-1)","v":0},null,0,0,0,{"$f":"P258*L258","v":0},0,"https://lokum-inwest.pl/katalog-realizowanych-inwestycji/ ","https://formatiq.pl/katalog-produktow-posypki-impregnaty-beton/",null,"real3d-flipbook.zip"]
["x",null,null,{"$f":"IFERROR(INDEX('Podświetlanie modułów'!D:D,MATCH(H259,'Podświetlanie modułów'!B:B,0)),\"\")","v":""},"Spacer Google ","",{"$f":"IFERROR(MATCH(H259,Brief!AA:AA,0),\"\")","v":320},"Spacer Google ",null,1,{"$f":"J259*$K$2+(V2*(J259*$K$2))","v":132},null,null,2,360,{"$f":"IFERROR(INDEX(Brief!J:J,G259),0)","v":0},null,0,null,0,0,0,0,0,"http://luksusdom.pl/#spacer-3d"]
[null,null,null,{"$f":"IFERROR(INDEX('Podświetlanie modułów'!D:D,MATCH(H260,'Podświetlanie modułów'!B:B,0)),\"\")","v":""},"Dodatkowy moduł","",{"$f":"IFERROR(MATCH(H260,Brief!AA:AA,0),\"\")","v":321},{"$f":"\"Dodatkowy moduł \"&(COUNTIF($E$4:E259,\"Dodatkowy moduł\")+1)","v":"Dodatkowy moduł 60"},null,null,{"$f":"J260*$K$2+(V2*(J260*$K$2))","v":0},null,{"$f":"L260*$M$2+($W$2*(L260*$M$2))","v":0},null,0,{"$f":"IFERROR(INDEX(Brief!J:J,G260),0)","v":0},null,0,null,0,0,0,0,0]
[null,null,null,{"$f":"IFERROR(INDEX('Podświetlanie modułów'!D:D,MATCH(H261,'Podświetlanie modułów'!B:B,0)),\"\")","v":""},"Dodatkowy moduł","",{"$f":"IFERROR(MATCH(H261,Brief!AA:AA,0),\"\")","v":322},{"$f":"\"Dodatkowy moduł \"&(COUNTIF($E$4:E260,\"Dodatkowy moduł\")+1)","v":"Dodatkowy moduł 61"},null,null,{"$f":"J261*$K$2+(V2*(J261*$K$2))","v":0},null,0,null,0,{"$f":"IFERROR(INDEX(Brief!J:J,G261),0)","v":0},null,{"$f":"ROUNDUP(P261*(K261+O261)*(1+$R$2),-1)","v":0},null,0,0,0,0,0]
[null,null,null,{"$f":"IFERROR(INDEX('Podświetlanie modułów'!D:D,MATCH(H262,'Podświetlanie modułów'!B:B,0)),\"\")","v":""},"Dodatkowy moduł","",{"$f":"IFERROR(MATCH(H262,Brief!AA:AA,0),\"\")","v":323},{"$f":"\"Dodatkowy moduł \"&(COUNTIF($E$4:E261,\"Dodatkowy moduł\")+1)","v":"Dodatkowy moduł 62"},null,null,{"$f":"J262*$K$2+(V2*(J262*$K$2))","v":0},null,0,null,0,{"$f":"IFERROR(INDEX(Brief!J:J,G262),0)","v":0},null,0,null,0,0,0,0,0]
[null,null,null,{"$f":"IFERROR(INDEX('Podświetlanie modułów'!D:D,MATCH(H263,'Podświetlanie modułów'!B:B,0)),\"\")","v":""},"Dodatkowy moduł","",{"$f":"IFERROR(MATCH(H263,Brief!AA:AA,0),\"\")","v":324},{"$f":"\"Dodatkowy moduł \"&(COUNTIF($E$4:E262,\"Dodatkowy moduł\")+1)","v":"Dodatkowy moduł 63"},null,null,{"$f":"J263*$K$2+(V2*(J263*$K$2))","v":0},null,0,null,0,{"$f":"IFERROR(INDEX(Brief!J:J,G263),0)","v":0},null,0,null,0,0,0,0,0]
[null,null,null,{"$f":"IFERROR(INDEX('Podświetlanie modułów'!D:D,MATCH(H264,'Podświetlanie modułów'!B:B,0)),\"\")","v":""},"Dodatkowy moduł","",{"$f":"IFERROR(MATCH(H264,Brief!AA:AA,0),\"\")","v":325},{"$f":"\"Dodatkowy moduł \"&(COUNTIF($E$4:E263,\"Dodatkowy moduł\")+1)","v":"Dodatkowy moduł 64"},null,null,{"$f":"J264*$K$2+(V2*(J264*$K$2))","v":0},null,0,null,0,{"$f":"IFERROR(INDEX(Brief!J:J,G264),0)","v":0},null,0,null,0,0,0,0,0]
[null,null,null,{"$f":"IFERROR(INDEX('Podświetlanie modułów'!D:D,MATCH(H265,'Podświetlanie modułów'!B:B,0)),\"\")","v":""},"Moduły aktualno","",{"$f":"IFERROR(MATCH(H265,Brief!AA:AA,0),\"\")","v":""},"Moduły aktualności / blog"]
[null,null,null,{"$f":"IFERROR(INDEX('Podświetlanie modułów'!D:D,MATCH(H266,'Podświetlanie modułów'!B:B,0)),\"\")","v":0},"Wpisy","",{"$f":"IFERROR(MATCH(H266,Brief!AA:AA,0),\"\")","v":327},"Wpisy",null,null,{"$f":"J266*$K$2+(V2*(J266*$K$2))","v":0},null,null,null,0,{"$f":"IFERROR(INDEX(Brief!J:J,G266),0)","v":0},null,0,null,null,null,null,0]
["x",null,null,{"$f":"IFERROR(INDEX('Podświetlanie modułów'!D:D,MATCH(H267,'Podświetlanie modułów'!B:B,0)),\"\")","v":""},"Artkuł - Wpis B","",{"$f":"IFERROR(MATCH(H267,Brief!AA:AA,0),\"\")","v":""},"Artkuł - Wpis BASIC",null,1,{"$f":"J267*$K$2+(V2*(J267*$K$2))","v":132},null,null,1,180,{"$f":"IFERROR(INDEX(Brief!J:J,G267),0)","v":0},"x",0,null,{"$f":"P267","v":0},{"$f":"S267*T267","v":0},{"$f":"P267*J267","v":0},0,{"$f":"P267*N267","v":0},"https://famag.pl/aktualnosci/zmieniamy-sie-dla-panstwa/",null,null,"WP"]
["x",null,"x",{"$f":"IFERROR(INDEX('Podświetlanie modułów'!D:D,MATCH(H268,'Podświetlanie modułów'!B:B,0)),\"\")","v":""},"Artykuł - Wpis ","",{"$f":"IFERROR(MATCH(H268,Brief!AA:AA,0),\"\")","v":328},"Artykuł - Wpis STANDARD",null,2,{"$f":"J268*$K$2+(V2*(J268*$K$2))","v":264},null,null,2,360,{"$f":"IFERROR(INDEX(Brief!J:J,G268),0)","v":0},"x",0,null,{"$f":"P268","v":0},0,0,0,0,"http://idea-house.pl/dla-biznesu/zmiany-w-prawie-budowlanym/",null,null,"WP"]
["x",null,null,{"$f":"IFERROR(INDEX('Podświetlanie modułów'!D:D,MATCH(H269,'Podświetlanie modułów'!B:B,0)),\"\")","v":""},"Artykuł - Wpis ","",{"$f":"IFERROR(MATCH(H269,Brief!AA:AA,0),\"\")","v":""},"Artykuł - Wpis PLUS",null,3,{"$f":"J269*$K$2+(V2*(J269*$K$2))","v":396},null,null,4,720,{"$f":"IFERROR(INDEX(Brief!J:J,G269),0)","v":0},"x",0,null,0,0,0,0,0,"https://premium-consulting.pl/blog/czy-w-kryzysie-nalezy-ciac-wydatki-reklamowe/",null,null,"WP"]
[null,"x",null,{"$f":"IFERROR(INDEX('Podświetlanie modułów'!D:D,MATCH(H270,'Podświetlanie modułów'!B:B,0)),\"\")","v":""},"Dodanie 1 artyk","",{"$f":"IFERROR(MATCH(H270,Brief!AA:AA,0),\"\")","v":329},"Dodanie 1 artykułu",null,null,{"$f":"J270*$K$2+(V2*(J270*$K$2))","v":0},0.5,{"$f":"L270*$M$2+($W$2*(L270*$M$2))","v":66},0,0,{"$f":"IFERROR(INDEX(Brief!J:J,G270),0)","v":0},null,{"$f":"ROUNDUP(P270*(M270+O270)*(1+$R$2),-1)","v":0},null,0,0,0,0,0]
["x",null,null,{"$f":"IFERROR(INDEX('Podświetlanie modułów'!D:D,MATCH(H271,'Podświetlanie modułów'!B:B,0)),\"\")","v":""},"Kategorie","",{"$f":"IFERROR(MATCH(H271,Brief!AA:AA,0),\"\")","v":330},"Kategorie",null,0,{"$f":"J271*$K$2+(V2*(J271*$K$2))","v":0},null,null,0.3,54,{"$f":"IFERROR(INDEX(Brief!J:J,G271),0)","v":0},"x",0,null,0,0,0,0,0]
["x",null,null,{"$f":"IFERROR(INDEX('Podświetlanie modułów'!D:D,MATCH(H272,'Podświetlanie modułów'!B:B,0)),\"\")","v":""},"Tagi","",{"$f":"IFERROR(MATCH(H272,Brief!AA:AA,0),\"\")","v":331},"Tagi",null,0,{"$f":"J272*$K$2+(V2*(J272*$K$2))","v":0},null,null,0.5,90,{"$f":"IFERROR(INDEX(Brief!J:J,G272),0)","v":0},null,0,null,0,0,0,0,0]
["x",null,null,{"$f":"IFERROR(INDEX('Podświetlanie modułów'!D:D,MATCH(H273,'Podświetlanie modułów'!B:B,0)),\"\")","v":""},"Lista wpisów Kl","",{"$f":"IFERROR(MATCH(H273,Brief!AA:AA,0),\"\")","v":""},"Lista wpisów Klasyczna",null,1.5,{"$f":"J273*$K$2+(V2*(J273*$K$2))","v":198},null,null,2,360,{"$f":"IFERROR(INDEX(Brief!J:J,G273),0)","v":0},"x",0,null,0,0,0,0,0]
["x",null,"x",{"$f":"IFERROR(INDEX('Podświetlanie modułów'!D:D,MATCH(H274,'Podświetlanie modułów'!B:B,0)),\"\")","v":""},"Lista wpisów Ka","",{"$f":"IFERROR(MATCH(H274,Brief!AA:AA,0),\"\")","v":332},"Lista wpisów Kafelki",null,2,{"$f":"J274*$K$2+(V2*(J274*$K$2))","v":264},null,null,2,360,{"$f":"IFERROR(INDEX(Brief!J:J,G274),0)","v":0},"x",0,null,0,0,0,0,0]
[null,null,null,{"$f":"IFERROR(INDEX('Podświetlanie modułów'!D:D,MATCH(H275,'Podświetlanie modułów'!B:B,0)),\"\")","v":""},"Lista wpisów Po","",{"$f":"IFERROR(MATCH(H275,Brief!AA:AA,0),\"\")","v":""},"Lista wpisów Poziome kafelki",null,2,{"$f":"J275*$K$2+(V2*(J275*$K$2))","v":264},null,null,3,540,{"$f":"IFERROR(INDEX(Brief!J:J,G275),0)","v":0},"x",0,null,0,0,0,0,0,"https://cmt-advisory.pl/blog/"]
[null,null,null,{"$f":"IFERROR(INDEX('Podświetlanie modułów'!D:D,MATCH(H276,'Podświetlanie modułów'!B:B,0)),\"\")","v":""},"Lista wpisów Ni","",{"$f":"IFERROR(MATCH(H276,Brief!AA:AA,0),\"\")","v":""},"Lista wpisów Nieregularna","od",3,{"$f":"J276*$K$2+(V2*(J276*$K$2))","v":396},null,null,5,900,{"$f":"IFERROR(INDEX(Brief!J:J,G276),0)","v":0},"x",0,null,0,0,0,0,0,"https://cmt-advisory.pl/blog/"]
[null,null,null,{"$f":"IFERROR(INDEX('Podświetlanie modułów'!D:D,MATCH(H277,'Podświetlanie modułów'!B:B,0)),\"\")","v":""},"Czas czytania w","",{"$f":"IFERROR(MATCH(H277,Brief!AA:AA,0),\"\")","v":333},"Czas czytania wpisu",null,0.2,{"$f":"J277*$K$2+(V2*(J277*$K$2))","v":26.4},null,null,0.2,36,{"$f":"IFERROR(INDEX(Brief!J:J,G277),0)","v":0},null,0,null,0,0,0,0,0,"https://studiokreacja.pl/kategorie/blog/",null,null,"https://wordpress.org/plugins/yet-another-related-posts-plugin/"]
["x",null,null,{"$f":"IFERROR(INDEX('Podświetlanie modułów'!D:D,MATCH(H278,'Podświetlanie modułów'!B:B,0)),\"\")","v":""},"Pasek postępu c","",{"$f":"IFERROR(MATCH(H278,Brief!AA:AA,0),\"\")","v":334},"Pasek postępu czytania",null,0.1,{"$f":"J278*$K$2+(V2*(J278*$K$2))","v":13.2},null,null,0.3,54,{"$f":"IFERROR(INDEX(Brief!J:J,G278),0)","v":0},null,0,null,0,0,0,0,0,"https://studiokreacja.pl/blog/poradnik-wordpress/",null,null,"https://wordpress.org/plugins/yet-another-related-posts-plugin/"]
[null,null,null,{"$f":"IFERROR(INDEX('Podświetlanie modułów'!D:D,MATCH(H279,'Podświetlanie modułów'!B:B,0)),\"\")","v":""},"Doładowywanie k","",{"$f":"IFERROR(MATCH(H279,Brief!AA:AA,0),\"\")","v":335},"Doładowywanie kolejnych 2 wpisów",null,0,{"$f":"J279*$K$2+(V2*(J279*$K$2))","v":0},null,null,1,180,{"$f":"IFERROR(INDEX(Brief!J:J,G279),0)","v":0},null,0,null,0,0,0,0,0,null,null,null,"https://wordpress.org/plugins/yet-another-related-posts-plugin/"]
[null,null,null,{"$f":"IFERROR(INDEX('Podświetlanie modułów'!D:D,MATCH(H280,'Podświetlanie modułów'!B:B,0)),\"\")","v":""},"Playlisty wpisó","",{"$f":"IFERROR(MATCH(H280,Brief!AA:AA,0),\"\")","v":336},"Playlisty wpisów",null,10,{"$f":"J280*$K$2+(V2*(J280*$K$2))","v":1320},null,null,20,3600,{"$f":"IFERROR(INDEX(Brief!J:J,G280),0)","v":0},null,0,null,0,0,0,0,0,"https://michalpasterski.pl/listy/medytacja-dla-poczatkujacych/?read-list=1"]
["x",null,null,{"$f":"IFERROR(INDEX('Podświetlanie modułów'!D:D,MATCH(H281,'Podświetlanie modułów'!B:B,0)),\"\")","v":""},"Podobne wpisy","",{"$f":"IFERROR(MATCH(H281,Brief!AA:AA,0),\"\")","v":337},"Podobne wpisy",null,0.3,{"$f":"J281*$K$2+(V2*(J281*$K$2))","v":39.6},null,null,1,180,{"$f":"IFERROR(INDEX(Brief!J:J,G281),0)","v":0},null,0,null,0,0,0,0,0,null,null,null,"https://wordpress.org/plugins/yet-another-related-posts-plugin/"]
[null,null,null,{"$f":"IFERROR(INDEX('Podświetlanie modułów'!D:D,MATCH(H282,'Podświetlanie modułów'!B:B,0)),\"\")","v":""},"Komentarze Disq","",{"$f":"IFERROR(MATCH(H282,Brief!AA:AA,0),\"\")","v":338},"Komentarze Disqus",null,0.3,{"$f":"J282*$K$2+(V2*(J282*$K$2))","v":39.6},null,null,1,180,{"$f":"IFERROR(INDEX(Brief!J:J,G282),0)","v":0},null,0,null,0,0,0,0,0,"https://mrpost.pl/aktualnosci/fenomen-aplikacji-tiktok/"]
[null,null,null,{"$f":"IFERROR(INDEX('Podświetlanie modułów'!D:D,MATCH(H283,'Podświetlanie modułów'!B:B,0)),\"\")","v":""},"Komentarze Face","",{"$f":"IFERROR(MATCH(H283,Brief!AA:AA,0),\"\")","v":339},"Komentarze Facebook",null,0.3,{"$f":"J283*$K$2+(V2*(J283*$K$2))","v":39.6},null,null,1,180,{"$f":"IFERROR(INDEX(Brief!J:J,G283),0)","v":0},null,0,null,0,0,0,0,0,"http://sun-plus.pl/plac-zabaw-przedszkolu-urzadzenia-wybrac/"]
[null,null,null,{"$f":"IFERROR(INDEX('Podświetlanie modułów'!D:D,MATCH(H284,'Podświetlanie modułów'!B:B,0)),\"\")","v":""},"Ocena artykułu","",{"$f":"IFERROR(MATCH(H284,Brief!AA:AA,0),\"\")","v":340},"Ocena artykułu",null,0.1,{"$f":"J284*$K$2+(V2*(J284*$K$2))","v":13.2},null,null,1,180,{"$f":"IFERROR(INDEX(Brief!J:J,G284),0)","v":0},null,0,null,0,0,0,0,0,"https://mrpost.pl/aktualnosci/fenomen-aplikacji-tiktok/"]
[null,null,null,{"$f":"IFERROR(INDEX('Podświetlanie modułów'!D:D,MATCH(H285,'Podświetlanie modułów'!B:B,0)),\"\")","v":""},"Notka biografic","",{"$f":"IFERROR(MATCH(H285,Brief!AA:AA,0),\"\")","v":341},"Notka biograficzna autora",null,0.5,{"$f":"J285*$K$2+(V2*(J285*$K$2))","v":66},null,null,1,180,{"$f":"IFERROR(INDEX(Brief!J:J,G285),0)","v":0},null,0,null,0,0,0,0,0,"https://studiokreacja.pl/blog/marketing-automation/"]
[null,null,null,{"$f":"IFERROR(INDEX('Podświetlanie modułów'!D:D,MATCH(H286,'Podświetlanie modułów'!B:B,0)),\"\")","v":""},"Zapis do newsle","",{"$f":"IFERROR(MATCH(H286,Brief!AA:AA,0),\"\")","v":342},"Zapis do newslettera",null,1,{"$f":"J286*$K$2+(V2*(J286*$K$2))","v":132},null,null,1,180,{"$f":"IFERROR(INDEX(Brief!J:J,G286),0)","v":0},null,0,null,0,0,0,0,0,"https://pandrwal.pl/"]
[null,null,null,{"$f":"IFERROR(INDEX('Podświetlanie modułów'!D:D,MATCH(H287,'Podświetlanie modułów'!B:B,0)),\"\")","v":""},"Zapis na ebook/","",{"$f":"IFERROR(MATCH(H287,Brief!AA:AA,0),\"\")","v":343},"Zapis na ebook/newsletter wewnątrz treści",null,2,{"$f":"J287*$K$2+(V2*(J287*$K$2))","v":264},null,null,1,180,{"$f":"IFERROR(INDEX(Brief!J:J,G287),0)","v":0},null,0,null,0,0,0,0,0,"https://znakitowarowe-blog.pl/czy-musze-miec-firme-aby-zastrzec-znak-towarowy/"]
[null,null,null,{"$f":"IFERROR(INDEX('Podświetlanie modułów'!D:D,MATCH(H288,'Podświetlanie modułów'!B:B,0)),\"\")","v":""},"TOP3 lub TOP5 a","",{"$f":"IFERROR(MATCH(H288,Brief!AA:AA,0),\"\")","v":344},"TOP3 lub TOP5 artykułów",null,0.5,{"$f":"J288*$K$2+(V2*(J288*$K$2))","v":66},null,null,1,180,{"$f":"IFERROR(INDEX(Brief!J:J,G288),0)","v":0},null,0,null,0,0,0,0,0]
[null,null,null,{"$f":"IFERROR(INDEX('Podświetlanie modułów'!D:D,MATCH(H289,'Podświetlanie modułów'!B:B,0)),\"\")","v":""},"Dodatkowy moduł","",{"$f":"IFERROR(MATCH(H289,Brief!AA:AA,0),\"\")","v":345},{"$f":"\"Dodatkowy moduł \"&(COUNTIF($E$4:E288,\"Dodatkowy moduł\")+1)","v":"Dodatkowy moduł 65"},null,null,{"$f":"J289*$K$2+(V2*(J289*$K$2))","v":0},null,{"$f":"L289*$M$2+($W$2*(L289*$M$2))","v":0},null,0,{"$f":"IFERROR(INDEX(Brief!J:J,G289),0)","v":0},null,0,null,0,0,0,0,0]
[null,null,null,{"$f":"IFERROR(INDEX('Podświetlanie modułów'!D:D,MATCH(H290,'Podświetlanie modułów'!B:B,0)),\"\")","v":""},{"$f":"LEFT(H290,15)","v":"Dodatkowy moduł"},"",{"$f":"IFERROR(MATCH(H290,Brief!AA:AA,0),\"\")","v":346},{"$f":"\"Dodatkowy moduł \"&(COUNTIF($E$4:E289,\"Dodatkowy moduł\")+1)","v":"Dodatkowy moduł 66"},null,null,{"$f":"J290*$K$2+(V2*(J290*$K$2))","v":0},null,0,null,0,{"$f":"IFERROR(INDEX(Brief!J:J,G290),0)","v":0},null,0,null,0,0,0,0,0]
[null,null,null,{"$f":"IFERROR(INDEX('Podświetlanie modułów'!D:D,MATCH(H291,'Podświetlanie modułów'!B:B,0)),\"\")","v":""},"Dodatkowy moduł","",{"$f":"IFERROR(MATCH(H291,Brief!AA:AA,0),\"\")","v":347},{"$f":"\"Dodatkowy moduł \"&(COUNTIF($E$4:E290,\"Dodatkowy moduł\")+1)","v":"Dodatkowy moduł 67"},null,null,{"$f":"J291*$K$2+(V2*(J291*$K$2))","v":0},null,0,null,0,{"$f":"IFERROR(INDEX(Brief!J:J,G291),0)","v":0},null,0,null,0,0,0,0,0]
[null,null,null,{"$f":"IFERROR(INDEX('Podświetlanie modułów'!D:D,MATCH(H292,'Podświetlanie modułów'!B:B,0)),\"\")","v":""},"Dodatkowy moduł","",{"$f":"IFERROR(MATCH(H292,Brief!AA:AA,0),\"\")","v":348},{"$f":"\"Dodatkowy moduł \"&(COUNTIF($E$4:E291,\"Dodatkowy moduł\")+1)","v":"Dodatkowy moduł 68"},null,null,{"$f":"J292*$K$2+(V2*(J292*$K$2))","v":0},null,0,null,0,{"$f":"IFERROR(INDEX(Brief!J:J,G292),0)","v":0},null,0,null,0,0,0,0,0]
[null,null,null,{"$f":"IFERROR(INDEX('Podświetlanie modułów'!D:D,MATCH(H293,'Podświetlanie modułów'!B:B,0)),\"\")","v":""},"Dodatkowy moduł","",{"$f":"IFERROR(MATCH(H293,Brief!AA:AA,0),\"\")","v":349},{"$f":"\"Dodatkowy moduł \"&(COUNTIF($E$4:E292,\"Dodatkowy moduł\")+1)","v":"Dodatkowy moduł 69"},null,null,{"$f":"J293*$K$2+(V2*(J293*$K$2))","v":0},null,0,null,0,{"$f":"IFERROR(INDEX(Brief!J:J,G293),0)","v":0},null,0,null,0,0,0,0,0]
[null,null,null,{"$f":"IFERROR(INDEX('Podświetlanie modułów'!D:D,MATCH(H294,'Podświetlanie modułów'!B:B,0)),\"\")","v":""},"Serwis informac","",{"$f":"IFERROR(MATCH(H294,Brief!AA:AA,0),\"\")","v":""},"Serwis informacyjny"]
[null,null,null,{"$f":"IFERROR(INDEX('Podświetlanie modułów'!D:D,MATCH(H295,'Podświetlanie modułów'!B:B,0)),\"\")","v":""},"WCAG dostosowan","",{"$f":"IFERROR(MATCH(H295,Brief!AA:AA,0),\"\")","v":351},"WCAG dostosowanie","od",2,{"$f":"J295*$K$2+(V2*(J295*$K$2))","v":264},null,null,30,5400,{"$f":"IFERROR(INDEX(Brief!J:J,G295),0)","v":0},null,0,null,{"$f":"P295","v":0},{"$f":"S295*T295","v":0},{"$f":"P295*J295","v":0},0,{"$f":"P295*N295","v":0}]
[null,null,null,{"$f":"IFERROR(INDEX('Podświetlanie modułów'!D:D,MATCH(H296,'Podświetlanie modułów'!B:B,0)),\"\")","v":""},"Dodatkowy moduł","",{"$f":"IFERROR(MATCH(H296,Brief!AA:AA,0),\"\")","v":352},{"$f":"\"Dodatkowy moduł \"&(COUNTIF($E$4:E295,\"Dodatkowy moduł\")+1)","v":"Dodatkowy moduł 70"},null,null,{"$f":"J296*$K$2+(V2*(J296*$K$2))","v":0},null,{"$f":"L296*$M$2+($W$2*(L296*$M$2))","v":0},null,0,{"$f":"IFERROR(INDEX(Brief!J:J,G296),0)","v":0},null,0,null,{"$f":"P296","v":0},{"$f":"S296*T296","v":0},{"$f":"P296*J296","v":0},0,{"$f":"P296*N296","v":0}]
[null,null,null,{"$f":"IFERROR(INDEX('Podświetlanie modułów'!D:D,MATCH(H297,'Podświetlanie modułów'!B:B,0)),\"\")","v":""},"Dodatkowy moduł","",{"$f":"IFERROR(MATCH(H297,Brief!AA:AA,0),\"\")","v":353},{"$f":"\"Dodatkowy moduł \"&(COUNTIF($E$4:E296,\"Dodatkowy moduł\")+1)","v":"Dodatkowy moduł 71"},null,null,{"$f":"J297*$K$2+(V2*(J297*$K$2))","v":0},null,0,null,0,{"$f":"IFERROR(INDEX(Brief!J:J,G297),0)","v":0},null,0,null,0,0,{"$f":"P297*J297","v":0},0,0]
[null,null,null,{"$f":"IFERROR(INDEX('Podświetlanie modułów'!D:D,MATCH(H298,'Podświetlanie modułów'!B:B,0)),\"\")","v":""},"Moduły Dewelope","",{"$f":"IFERROR(MATCH(H298,Brief!AA:AA,0),\"\")","v":""},"Moduły Deweloper"]
[null,null,null,{"$f":"IFERROR(INDEX('Podświetlanie modułów'!D:D,MATCH(H299,'Podświetlanie modułów'!B:B,0)),\"\")","v":""},"Interaktywne bu","",{"$f":"IFERROR(MATCH(H299,Brief!AA:AA,0),\"\")","v":355},"Interaktywne budynki","od",1,{"$f":"J299*$K$2+(V2*(J299*$K$2))","v":132},null,null,5,900,{"$f":"IFERROR(INDEX(Brief!J:J,G299),0)","v":0},null,0,null,{"$f":"P299","v":0},{"$f":"S299*T299","v":0},{"$f":"P299*J299","v":0},0,{"$f":"P299*N299","v":0},"https://lokum-inwest.pl/sprzedaz-mieszkan/inwestycja-osiedle-prymasa-wyszynskiego/"]
[null,null,null,{"$f":"IFERROR(INDEX('Podświetlanie modułów'!D:D,MATCH(H300,'Podświetlanie modułów'!B:B,0)),\"\")","v":""},"Wybór piętra w ","",{"$f":"IFERROR(MATCH(H300,Brief!AA:AA,0),\"\")","v":356},"Wybór piętra w budynku (1 kondygnacja)","od",1,{"$f":"J300*$K$2+(V2*(J300*$K$2))","v":132},null,null,5,900,{"$f":"IFERROR(INDEX(Brief!J:J,G300),0)","v":0},null,0,null,{"$f":"P300","v":0},0,0,0,0,"https://pbodeweloper.pl/inwestycja-garden-park/mieszkania-leszno-ogrody/",null,null,"Shapes Map - krzyska"]
[null,null,null,{"$f":"IFERROR(INDEX('Podświetlanie modułów'!D:D,MATCH(H301,'Podświetlanie modułów'!B:B,0)),\"\")","v":""},"Rzut kondygnacj","",{"$f":"IFERROR(MATCH(H301,Brief!AA:AA,0),\"\")","v":357},"Rzut kondygnacji + lista mieszkań z dostępnością","od",2,{"$f":"J301*$K$2+(V2*(J301*$K$2))","v":264},null,null,5,900,{"$f":"IFERROR(INDEX(Brief!J:J,G301),0)","v":0},null,0,null,0,0,0,0,0,"https://pbodeweloper.pl/inwestycja-garden-park/mieszkania-leszno-ogrody/"]
[null,null,null,{"$f":"IFERROR(INDEX('Podświetlanie modułów'!D:D,MATCH(H302,'Podświetlanie modułów'!B:B,0)),\"\")","v":""},"Plan mieszkania","",{"$f":"IFERROR(MATCH(H302,Brief!AA:AA,0),\"\")","v":358},"Plan mieszkania + karta do pobrania",null,3,{"$f":"J302*$K$2+(V2*(J302*$K$2))","v":396},null,null,5,900,{"$f":"IFERROR(INDEX(Brief!J:J,G302),0)","v":0},null,0,null,0,0,0,0,0]
[null,"x",null,{"$f":"IFERROR(INDEX('Podświetlanie modułów'!D:D,MATCH(H303,'Podświetlanie modułów'!B:B,0)),\"\")","v":""},"Dodanie lokalu ",{"$f":"IF($F$2=\"x\",R303,\"\")","v":""},{"$f":"IFERROR(MATCH(H303,Brief!AA:AA,0),\"\")","v":359},"Dodanie lokalu z parametrami",null,null,{"$f":"J303*$K$2+(V2*(J303*$K$2))","v":0},0.5,{"$f":"L303*$M$2+($W$2*(L303*$M$2))","v":66},0,0,{"$f":"IFERROR(INDEX(Brief!J:J,G303),0)","v":0},null,{"$f":"ROUNDUP(P303*(M303+O303)*(1+$R$2),-1)","v":0},null,0,0,0,0,0,"https://pbodeweloper.pl/realizacje/garden-park-1-3-1/"]
[null,"x",null,{"$f":"IFERROR(INDEX('Podświetlanie modułów'!D:D,MATCH(H304,'Podświetlanie modułów'!B:B,0)),\"\")","v":""},"Dodanie lokalu ","",{"$f":"IFERROR(MATCH(H304,Brief!AA:AA,0),\"\")","v":360},"Dodanie lokalu bez parametrów",null,null,{"$f":"J304*$K$2+(V2*(J304*$K$2))","v":0},0.3,39.6,0,{"$f":"$O$2*N304+($X$2*(N304*$O$2))","v":0},{"$f":"IFERROR(INDEX(Brief!J:J,G304),0)","v":0},null,{"$f":"ROUNDUP(P304*(M304+O304)*(1+$R$2),-1)","v":0},null,0,0,0,0,0,"https://pbodeweloper.pl/realizacje/garden-park-1-3-1/"]
[null,null,null,{"$f":"IFERROR(INDEX('Podświetlanie modułów'!D:D,MATCH(H305,'Podświetlanie modułów'!B:B,0)),\"\")","v":""},"Wyszukiwarka mi","",{"$f":"IFERROR(MATCH(H305,Brief!AA:AA,0),\"\")","v":361},"Wyszukiwarka mieszkań",null,1,{"$f":"J305*$K$2+(V2*(J305*$K$2))","v":132},null,null,3,540,{"$f":"IFERROR(INDEX(Brief!J:J,G305),0)","v":0},null,0,null,0,0,0,0,0,"https://arkadiabroker.pl/mieszkania/?filtered=1&investment=28&area=&floor=&rooms_number=&price_min=56500&price_max=407300","https://wartaresidence.com/realizacje/?filtered=1&area&building%5B0%5D=1&building%5B1%5D=2&building%5B2%5D=3&floor%5B0%5D=1&floor%5B1%5D=2&floor%5B2%5D=3&floor%5B3%5D=4&rooms%5B0%5D=4&rooms%5B1%5D=5#flat-list"]
[null,null,null,{"$f":"IFERROR(INDEX('Podświetlanie modułów'!D:D,MATCH(H306,'Podświetlanie modułów'!B:B,0)),\"\")","v":""},"Formularz zapyt","",{"$f":"IFERROR(MATCH(H306,Brief!AA:AA,0),\"\")","v":362},"Formularz zapytania (popup)",null,0.5,{"$f":"J306*$K$2+(V2*(J306*$K$2))","v":66},null,null,1,180,{"$f":"IFERROR(INDEX(Brief!J:J,G306),0)","v":0},null,0,null,0,0,0,0,0]
[null,null,null,{"$f":"IFERROR(INDEX('Podświetlanie modułów'!D:D,MATCH(H307,'Podświetlanie modułów'!B:B,0)),\"\")","v":""},"Dziennik budowy","",{"$f":"IFERROR(MATCH(H307,Brief!AA:AA,0),\"\")","v":363},"Dziennik budowy",null,2,{"$f":"J307*$K$2+(V2*(J307*$K$2))","v":264},null,null,2,360,{"$f":"IFERROR(INDEX(Brief!J:J,G307),0)","v":0},null,0,null,0,0,0,0,0,"https://pbodeweloper.pl/rodzinna-przystan/https-pbodeweloper-pl-inwestycja-rodzinna-przystan-postepy-w-budowie/","https://napolance.com/aktualnosci/"]
[null,null,null,{"$f":"IFERROR(INDEX('Podświetlanie modułów'!D:D,MATCH(H308,'Podświetlanie modułów'!B:B,0)),\"\")","v":""},"Dodatkowy moduł","",{"$f":"IFERROR(MATCH(H308,Brief!AA:AA,0),\"\")","v":364},{"$f":"\"Dodatkowy moduł \"&(COUNTIF($E$4:E307,\"Dodatkowy moduł\")+1)","v":"Dodatkowy moduł 72"},null,null,{"$f":"J308*$K$2+(V2*(J308*$K$2))","v":0},null,{"$f":"L308*$M$2+($W$2*(L308*$M$2))","v":0},null,0,{"$f":"IFERROR(INDEX(Brief!J:J,G308),0)","v":0},null,0,null,0,0,0,0,0]
[null,null,null,{"$f":"IFERROR(INDEX('Podświetlanie modułów'!D:D,MATCH(H309,'Podświetlanie modułów'!B:B,0)),\"\")","v":""},"Dodatkowy moduł","",{"$f":"IFERROR(MATCH(H309,Brief!AA:AA,0),\"\")","v":365},{"$f":"\"Dodatkowy moduł \"&(COUNTIF($E$4:E308,\"Dodatkowy moduł\")+1)","v":"Dodatkowy moduł 73"},null,null,{"$f":"J309*$K$2+(V2*(J309*$K$2))","v":0},null,0,null,0,{"$f":"IFERROR(INDEX(Brief!J:J,G309),0)","v":0},null,0,null,0,0,0,0,0]
[null,null,null,{"$f":"IFERROR(INDEX('Podświetlanie modułów'!D:D,MATCH(H310,'Podświetlanie modułów'!B:B,0)),\"\")","v":""},"Dodatkowy moduł","",{"$f":"IFERROR(MATCH(H310,Brief!AA:AA,0),\"\")","v":366},{"$f":"\"Dodatkowy moduł \"&(COUNTIF($E$4:E309,\"Dodatkowy moduł\")+1)","v":"Dodatkowy moduł 74"},null,null,{"$f":"J310*$K$2+(V2*(J310*$K$2))","v":0},null,0,null,0,{"$f":"IFERROR(INDEX(Brief!J:J,G310),0)","v":0},null,0,null,0,0,0,0,0]
[null,null,null,{"$f":"IFERROR(INDEX('Podświetlanie modułów'!D:D,MATCH(H311,'Podświetlanie modułów'!B:B,0)),\"\")","v":""},"Dodatkowy moduł","",{"$f":"IFERROR(MATCH(H311,Brief!AA:AA,0),\"\")","v":367},{"$f":"\"Dodatkowy moduł \"&(COUNTIF($E$4:E310,\"Dodatkowy moduł\")+1)","v":"Dodatkowy moduł 75"},null,null,{"$f":"J311*$K$2+(V2*(J311*$K$2))","v":0},null,0,null,0,{"$f":"IFERROR(INDEX(Brief!J:J,G311),0)","v":0},null,0,null,0,0,0,0,0]
[null,null,null,{"$f":"IFERROR(INDEX('Podświetlanie modułów'!D:D,MATCH(H312,'Podświetlanie modułów'!B:B,0)),\"\")","v":""},"Dodatkowy moduł","",{"$f":"IFERROR(MATCH(H312,Brief!AA:AA,0),\"\")","v":368},{"$f":"\"Dodatkowy moduł \"&(COUNTIF($E$4:E311,\"Dodatkowy moduł\")+1)","v":"Dodatkowy moduł 76"},null,null,{"$f":"J312*$K$2+(V2*(J312*$K$2))","v":0},null,0,null,0,{"$f":"IFERROR(INDEX(Brief!J:J,G312),0)","v":0},null,0,null,0,0,0,0,0]
[null,null,null,{"$f":"IFERROR(INDEX('Podświetlanie modułów'!D:D,MATCH(H313,'Podświetlanie modułów'!B:B,0)),\"\")","v":""},"Moduły Nierucho","",{"$f":"IFERROR(MATCH(H313,Brief!AA:AA,0),\"\")","v":""},"Moduły Nieruchomości"]
[null,null,null,{"$f":"IFERROR(INDEX('Podświetlanie modułów'!D:D,MATCH(H314,'Podświetlanie modułów'!B:B,0)),\"\")","v":""},"Oferty nierucho","",{"$f":"IFERROR(MATCH(H314,Brief!AA:AA,0),\"\")","v":370},"Oferty nieruchomości",null,null,{"$f":"J314*$K$2+(V2*(J314*$K$2))","v":0},null,null,null,0,{"$f":"IFERROR(INDEX(Brief!J:J,G314),0)","v":0},null,0,null,{"$f":"P314","v":0},{"$f":"S314*T314","v":0},{"$f":"P314*J314","v":0},0,{"$f":"P314*N314","v":0},"https://pbodeweloper.pl/kategorie-realizacji/garden-park/pietro1/"]
[null,null,null,{"$f":"IFERROR(INDEX('Podświetlanie modułów'!D:D,MATCH(H315,'Podświetlanie modułów'!B:B,0)),\"\")","v":""},"Wyszukiwarka mi","",371,"Wyszukiwarka mieszkań",null,null,{"$f":"J315*$K$2+(V2*(J315*$K$2))","v":0},null,null,null,0,{"$f":"IFERROR(INDEX(Brief!J:J,G315),0)","v":0},null,0,null,{"$f":"P315","v":0},0,0,0,0]
[null,null,null,{"$f":"IFERROR(INDEX('Podświetlanie modułów'!D:D,MATCH(H316,'Podświetlanie modułów'!B:B,0)),\"\")","v":""},"Widoki kafelkow","",{"$f":"IFERROR(MATCH(H316,Brief!AA:AA,0),\"\")","v":372},"Widoki kafelkowe, lista, mapa",null,null,{"$f":"J316*$K$2+(V2*(J316*$K$2))","v":0},null,null,null,0,{"$f":"IFERROR(INDEX(Brief!J:J,G316),0)","v":0},null,0,null,0,0,0,0,0]
[null,null,null,{"$f":"IFERROR(INDEX('Podświetlanie modułów'!D:D,MATCH(H317,'Podświetlanie modułów'!B:B,0)),\"\")","v":""},"Generator ofert","",{"$f":"IFERROR(MATCH(H317,Brief!AA:AA,0),\"\")","v":373},"Generator ofert PDF dla klienta",null,null,{"$f":"J317*$K$2+(V2*(J317*$K$2))","v":0},null,null,null,0,{"$f":"IFERROR(INDEX(Brief!J:J,G317),0)","v":0},null,0,null,0,0,0,0,0]
[null,null,null,{"$f":"IFERROR(INDEX('Podświetlanie modułów'!D:D,MATCH(H318,'Podświetlanie modułów'!B:B,0)),\"\")","v":""},"Generator ofert","",{"$f":"IFERROR(MATCH(H318,Brief!AA:AA,0),\"\")","v":374},"Generator ofert PDF do gabloty",null,null,{"$f":"J318*$K$2+(V2*(J318*$K$2))","v":0},null,null,null,0,{"$f":"IFERROR(INDEX(Brief!J:J,G318),0)","v":0},null,0,null,0,0,0,0,0]
[null,null,null,{"$f":"IFERROR(INDEX('Podświetlanie modułów'!D:D,MATCH(H319,'Podświetlanie modułów'!B:B,0)),\"\")","v":""},"Kalkulator kosz","",{"$f":"IFERROR(MATCH(H319,Brief!AA:AA,0),\"\")","v":375},"Kalkulator kosztów ",null,null,{"$f":"J319*$K$2+(V2*(J319*$K$2))","v":0},null,null,null,0,{"$f":"IFERROR(INDEX(Brief!J:J,G319),0)","v":0},null,0,null,0,0,0,0,0]
[null,null,null,{"$f":"IFERROR(INDEX('Podświetlanie modułów'!D:D,MATCH(H320,'Podświetlanie modułów'!B:B,0)),\"\")","v":""},"Prezentacja ofe","",{"$f":"IFERROR(MATCH(H320,Brief!AA:AA,0),\"\")","v":376},"Prezentacja oferty z Google Street View",null,null,{"$f":"J320*$K$2+(V2*(J320*$K$2))","v":0},null,null,null,0,{"$f":"IFERROR(INDEX(Brief!J:J,G320),0)","v":0},null,0,null,0,0,0,0,0]
[null,null,null,{"$f":"IFERROR(INDEX('Podświetlanie modułów'!D:D,MATCH(H321,'Podświetlanie modułów'!B:B,0)),\"\")","v":""},"Oferty agenta","",{"$f":"IFERROR(MATCH(H321,Brief!AA:AA,0),\"\")","v":377},"Oferty agenta",null,null,{"$f":"J321*$K$2+(V2*(J321*$K$2))","v":0},null,null,null,0,{"$f":"IFERROR(INDEX(Brief!J:J,G321),0)","v":0},null,0,null,0,0,0,0,0]
[null,null,null,{"$f":"IFERROR(INDEX('Podświetlanie modułów'!D:D,MATCH(H322,'Podświetlanie modułów'!B:B,0)),\"\")","v":""},"Dodatkowy moduł","",{"$f":"IFERROR(MATCH(H322,Brief!AA:AA,0),\"\")","v":378},{"$f":"\"Dodatkowy moduł \"&(COUNTIF($E$4:E321,\"Dodatkowy moduł\")+1)","v":"Dodatkowy moduł 77"},null,null,{"$f":"J322*$K$2+(V2*(J322*$K$2))","v":0},null,null,null,0,{"$f":"IFERROR(INDEX(Brief!J:J,G322),0)","v":0},null,0,null,0,0,0,{"$f":"P322*L322","v":0},0]
[null,null,null,{"$f":"IFERROR(INDEX('Podświetlanie modułów'!D:D,MATCH(H323,'Podświetlanie modułów'!B:B,0)),\"\")","v":""},"Dodatkowy moduł","",{"$f":"IFERROR(MATCH(H323,Brief!AA:AA,0),\"\")","v":379},{"$f":"\"Dodatkowy moduł \"&(COUNTIF($E$4:E322,\"Dodatkowy moduł\")+1)","v":"Dodatkowy moduł 78"},null,null,{"$f":"J323*$K$2+(V2*(J323*$K$2))","v":0},null,null,null,0,{"$f":"IFERROR(INDEX(Brief!J:J,G323),0)","v":0},null,0,null,0,0,0,0,0]
[null,null,null,{"$f":"IFERROR(INDEX('Podświetlanie modułów'!D:D,MATCH(H324,'Podświetlanie modułów'!B:B,0)),\"\")","v":""},"Dodatkowy moduł","",{"$f":"IFERROR(MATCH(H324,Brief!AA:AA,0),\"\")","v":380},{"$f":"\"Dodatkowy moduł \"&(COUNTIF($E$4:E323,\"Dodatkowy moduł\")+1)","v":"Dodatkowy moduł 79"},null,null,{"$f":"J324*$K$2+(V2*(J324*$K$2))","v":0},null,null,null,0,{"$f":"IFERROR(INDEX(Brief!J:J,G324),0)","v":0},null,0,null,0,0,0,0,0]
[null,null,null,{"$f":"IFERROR(INDEX('Podświetlanie modułów'!D:D,MATCH(H325,'Podświetlanie modułów'!B:B,0)),\"\")","v":""},"Dodatkowy moduł","",{"$f":"IFERROR(MATCH(H325,Brief!AA:AA,0),\"\")","v":381},{"$f":"\"Dodatkowy moduł \"&(COUNTIF($E$4:E324,\"Dodatkowy moduł\")+1)","v":"Dodatkowy moduł 80"},null,null,{"$f":"J325*$K$2+(V2*(J325*$K$2))","v":0},null,null,null,0,{"$f":"IFERROR(INDEX(Brief!J:J,G325),0)","v":0},null,{"$f":"ROUNDUP(P325*(K325+O325)*(1+$R$2),-1)","v":0},null,0,0,0,0,0]
[null,null,null,{"$f":"IFERROR(INDEX('Podświetlanie modułów'!D:D,MATCH(H326,'Podświetlanie modułów'!B:B,0)),\"\")","v":""},"Dodatkowy moduł","",{"$f":"IFERROR(MATCH(H326,Brief!AA:AA,0),\"\")","v":382},{"$f":"\"Dodatkowy moduł \"&(COUNTIF($E$4:E325,\"Dodatkowy moduł\")+1)","v":"Dodatkowy moduł 81"},null,null,{"$f":"J326*$K$2+(V2*(J326*$K$2))","v":0},null,null,null,0,{"$f":"IFERROR(INDEX(Brief!J:J,G326),0)","v":0},null,0,null,0,0,0,0,0]
[null,null,null,{"$f":"IFERROR(INDEX('Podświetlanie modułów'!D:D,MATCH(H327,'Podświetlanie modułów'!B:B,0)),\"\")","v":""},"Sklepy","",{"$f":"IFERROR(MATCH(H327,Brief!AA:AA,0),\"\")","v":""},"Sklepy"]
[null,null,null,{"$f":"IFERROR(INDEX('Podświetlanie modułów'!D:D,MATCH(H328,'Podświetlanie modułów'!B:B,0)),\"\")","v":""},"Projekt graficz","",{"$f":"IFERROR(MATCH(H328,Brief!AA:AA,0),\"\")","v":""},"Projekt graficzny sklepu"]
["x",null,null,{"$f":"IFERROR(INDEX('Podświetlanie modułów'!D:D,MATCH(H329,'Podświetlanie modułów'!B:B,0)),\"\")","v":""},"Strona produktu","",{"$f":"IFERROR(MATCH(H329,Brief!AA:AA,0),\"\")","v":""},"Strona produktu (zakładki domyślne)",null,3,{"$f":"J329*$K$2+(V2*(J329*$K$2))","v":396},null,null,6,1080,{"$f":"IFERROR(INDEX(Brief!J:J,G329),0)","v":0},"x",0,null,{"$f":"P329","v":0},{"$f":"S329*T329","v":0},{"$f":"P329*J329","v":0},0,{"$f":"P329*N329","v":0},"https://11.demooo.pl/product/bluza-1/ ","https://11.demooo.pl/product/obudowa-8/ "]
["x",null,null,{"$f":"IFERROR(INDEX('Podświetlanie modułów'!D:D,MATCH(H330,'Podświetlanie modułów'!B:B,0)),\"\")","v":""},"Strona produktu","",{"$f":"IFERROR(MATCH(H330,Brief!AA:AA,0),\"\")","v":""},"Strona produktu (zakłądki accordions -harmonijka)",null,5,{"$f":"J330*$K$2+(V2*(J330*$K$2))","v":660},null,null,9,1620,{"$f":"IFERROR(INDEX(Brief!J:J,G330),0)","v":0},"x",0,null,{"$f":"P330","v":0},0,0,0,0,"https://11.demooo.pl/product/bluza-1/ ","https://11.demooo.pl/product/obudowa-8/ "]
["x",null,"x",{"$f":"IFERROR(INDEX('Podświetlanie modułów'!D:D,MATCH(H331,'Podświetlanie modułów'!B:B,0)),\"\")","v":""},"Strona produktu","",{"$f":"IFERROR(MATCH(H331,Brief!AA:AA,0),\"\")","v":385},"Strona produktu + 3 sekcje",null,8,{"$f":"J331*$K$2+(V2*(J331*$K$2))","v":1056},null,null,10,1800,{"$f":"IFERROR(INDEX(Brief!J:J,G331),0)","v":0},"x",0,null,0,0,0,0,0,"https://devaldano.pl/product/czeresnia-drylowana-do-ciast-i-deserow/"]
["x",null,null,{"$f":"IFERROR(INDEX('Podświetlanie modułów'!D:D,MATCH(H332,'Podświetlanie modułów'!B:B,0)),\"\")","v":""},"Strona produktu","",{"$f":"IFERROR(MATCH(H332,Brief!AA:AA,0),\"\")","v":""},"Strona produktu + 6 sekcji","od",10,{"$f":"J332*$K$2+(V2*(J332*$K$2))","v":1320},null,null,13,2340,{"$f":"IFERROR(INDEX(Brief!J:J,G332),0)","v":0},"x",0,null,0,0,0,0,0,null,"https://lightwood.pl/produkt/lampa-podlogowa-stojaca-lw18-zygzak-zolty/"]
["x",null,null,{"$f":"IFERROR(INDEX('Podświetlanie modułów'!D:D,MATCH(H333,'Podświetlanie modułów'!B:B,0)),\"\")","v":""},"Kategoria produ","",386,"Kategoria produktów prosta",null,3,{"$f":"J333*$K$2+(V2*(J333*$K$2))","v":396},null,null,4,720,{"$f":"IFERROR(INDEX(Brief!J:J,G333),0)","v":0},"x",0,null,0,0,0,0,0,"https://11.demooo.pl/product-category/bluzy/ "]
["x",null,null,{"$f":"IFERROR(INDEX('Podświetlanie modułów'!D:D,MATCH(H334,'Podświetlanie modułów'!B:B,0)),\"\")","v":""},"Kategoria produ","",387,"Kategoria produktów rozbudowana","od",5,{"$f":"J334*$K$2+(V2*(J334*$K$2))","v":660},null,null,7,1260,{"$f":"IFERROR(INDEX(Brief!J:J,G334),0)","v":0},"x",0,null,0,0,0,0,0]
["x",null,null,{"$f":"IFERROR(INDEX('Podświetlanie modułów'!D:D,MATCH(H335,'Podświetlanie modułów'!B:B,0)),\"\")","v":""},"Koszyk","",388,"Koszyk",null,2,{"$f":"J335*$K$2+(V2*(J335*$K$2))","v":264},null,null,3,540,{"$f":"IFERROR(INDEX(Brief!J:J,G335),0)","v":0},"x",0,null,0,0,0,0,0,"https://11.demooo.pl/koszyk/"]
["x",null,null,{"$f":"IFERROR(INDEX('Podświetlanie modułów'!D:D,MATCH(H336,'Podświetlanie modułów'!B:B,0)),\"\")","v":""},"Zamówienie","",389,"Zamówienie",null,3,{"$f":"J336*$K$2+(V2*(J336*$K$2))","v":396},null,null,4,720,{"$f":"IFERROR(INDEX(Brief!J:J,G336),0)","v":0},"x",0,null,0,0,0,0,0,"https://11.demooo.pl/zamowienie/"]
["x",null,null,{"$f":"IFERROR(INDEX('Podświetlanie modułów'!D:D,MATCH(H337,'Podświetlanie modułów'!B:B,0)),\"\")","v":""},"Podsumowanie","",390,"Podsumowanie",null,2,{"$f":"J337*$K$2+(V2*(J337*$K$2))","v":264},null,null,2,360,{"$f":"IFERROR(INDEX(Brief!J:J,G337),0)","v":0},"x",0,null,0,0,0,0,0]
["x",null,null,{"$f":"IFERROR(INDEX('Podświetlanie modułów'!D:D,MATCH(H338,'Podświetlanie modułów'!B:B,0)),\"\")","v":""},"Strony: Regulam","",{"$f":"IFERROR(MATCH(H338,Brief!AA:AA,0),\"\")","v":391},"Strony: Regulamin, Warunki zakupów",null,0,{"$f":"J338*$K$2+(V2*(J338*$K$2))","v":0},2,{"$f":"L338*$M$2+($W$2*(L338*$M$2))","v":264},1,180,{"$f":"IFERROR(INDEX(Brief!J:J,G338),0)","v":0},"x",{"$f":"ROUNDUP(P338*(K338+M338+O338)*(1+$R$2),-1)","v":0},null,0,0,0,0,0]
["x",null,null,{"$f":"IFERROR(INDEX('Podświetlanie modułów'!D:D,MATCH(H339,'Podświetlanie modułów'!B:B,0)),\"\")","v":""},"Strony: Zaloguj","",{"$f":"IFERROR(MATCH(H339,Brief!AA:AA,0),\"\")","v":392},"Strony: Zaloguj się i Załóż konto",null,1,{"$f":"J339*$K$2+(V2*(J339*$K$2))","v":132},null,null,3,540,{"$f":"IFERROR(INDEX(Brief!J:J,G339),0)","v":0},"x",{"$f":"ROUNDUP(P339*(K339+O339)*(1+$R$2),-1)","v":0},null,0,0,0,0,0]
[null,null,null,{"$f":"IFERROR(INDEX('Podświetlanie modułów'!D:D,MATCH(H340,'Podświetlanie modułów'!B:B,0)),\"\")","v":""},"Dodatkowy moduł","",{"$f":"IFERROR(MATCH(H340,Brief!AA:AA,0),\"\")","v":393},{"$f":"\"Dodatkowy moduł \"&(COUNTIF($E$4:E339,\"Dodatkowy moduł\")+1)","v":"Dodatkowy moduł 82"},null,null,{"$f":"J340*$K$2+(V2*(J340*$K$2))","v":0},null,{"$f":"L340*$M$2+($W$2*(L340*$M$2))","v":0},null,0,{"$f":"IFERROR(INDEX(Brief!J:J,G340),0)","v":0},null,0,null,0,0,0,0,0]
[null,null,null,{"$f":"IFERROR(INDEX('Podświetlanie modułów'!D:D,MATCH(H341,'Podświetlanie modułów'!B:B,0)),\"\")","v":""},"Dodatkowy moduł","",{"$f":"IFERROR(MATCH(H341,Brief!AA:AA,0),\"\")","v":394},{"$f":"\"Dodatkowy moduł \"&(COUNTIF($E$4:E340,\"Dodatkowy moduł\")+1)","v":"Dodatkowy moduł 83"},null,null,{"$f":"J341*$K$2+(V2*(J341*$K$2))","v":0},null,0,null,0,{"$f":"IFERROR(INDEX(Brief!J:J,G341),0)","v":0},null,0,null,0,0,0,0,0]
[null,null,null,{"$f":"IFERROR(INDEX('Podświetlanie modułów'!D:D,MATCH(H342,'Podświetlanie modułów'!B:B,0)),\"\")","v":""},"Dodatkowy moduł","",{"$f":"IFERROR(MATCH(H342,Brief!AA:AA,0),\"\")","v":395},{"$f":"\"Dodatkowy moduł \"&(COUNTIF($E$4:E341,\"Dodatkowy moduł\")+1)","v":"Dodatkowy moduł 84"},null,null,{"$f":"J342*$K$2+(V2*(J342*$K$2))","v":0},null,0,null,0,{"$f":"IFERROR(INDEX(Brief!J:J,G342),0)","v":0},null,0,null,0,0,0,0,0]
[null,null,null,{"$f":"IFERROR(INDEX('Podświetlanie modułów'!D:D,MATCH(H343,'Podświetlanie modułów'!B:B,0)),\"\")","v":""},"Marketing i poz","",{"$f":"IFERROR(MATCH(H343,Brief!AA:AA,0),\"\")","v":""},"Marketing i pozycjonowanie"]
["x",null,null,{"$f":"IFERROR(INDEX('Podświetlanie modułów'!D:D,MATCH(H344,'Podświetlanie modułów'!B:B,0)),\"\")","v":""},"Integracja z Go","",{"$f":"IFERROR(MATCH(H344,Brief!AA:AA,0),\"\")","v":397},"Integracja z Google Merchant Center",null,0,{"$f":"J344*$K$2+(V2*(J344*$K$2))","v":0},null,null,3,540,{"$f":"IFERROR(INDEX(Brief!J:J,G344),0)","v":0},null,0,200,{"$f":"P344","v":0},{"$f":"S344*T344","v":0},{"$f":"P344*J344","v":0},0,{"$f":"P344*N344","v":0},"https://kalithea.pl/produkt/concordia/"]
["x",null,null,{"$f":"IFERROR(INDEX('Podświetlanie modułów'!D:D,MATCH(H345,'Podświetlanie modułów'!B:B,0)),\"\")","v":""},"Integracja z Ce","",{"$f":"IFERROR(MATCH(H345,Brief!AA:AA,0),\"\")","v":398},"Integracja z Ceneo, Nokaut, Homebook i Domodi",null,0,{"$f":"J345*$K$2+(V2*(J345*$K$2))","v":0},null,null,1,180,{"$f":"IFERROR(INDEX(Brief!J:J,G345),0)","v":0},null,0,99,{"$f":"P345","v":0},0,0,0,0]
["x",null,null,{"$f":"IFERROR(INDEX('Podświetlanie modułów'!D:D,MATCH(H346,'Podświetlanie modułów'!B:B,0)),\"\")","v":""},"Integracja z Op","",{"$f":"IFERROR(MATCH(H346,Brief!AA:AA,0),\"\")","v":399},"Integracja z Opineo",null,0,{"$f":"J346*$K$2+(V2*(J346*$K$2))","v":0},null,null,1,180,{"$f":"IFERROR(INDEX(Brief!J:J,G346),0)","v":0},null,0,null,0,0,0,0,0]
["x",null,null,{"$f":"IFERROR(INDEX('Podświetlanie modułów'!D:D,MATCH(H347,'Podświetlanie modułów'!B:B,0)),\"\")","v":""},"Integracja z Al","",{"$f":"IFERROR(MATCH(H347,Brief!AA:AA,0),\"\")","v":400},"Integracja z Allegro",null,0,{"$f":"J347*$K$2+(V2*(J347*$K$2))","v":0},null,null,5,900,{"$f":"IFERROR(INDEX(Brief!J:J,G347),0)","v":0},null,0,499,0,0,0,0,0]
["x",null,null,{"$f":"IFERROR(INDEX('Podświetlanie modułów'!D:D,MATCH(H348,'Podświetlanie modułów'!B:B,0)),\"\")","v":""},"Integracja z OL","",{"$f":"IFERROR(MATCH(H348,Brief!AA:AA,0),\"\")","v":401},"Integracja z OLX",null,0,{"$f":"J348*$K$2+(V2*(J348*$K$2))","v":0},null,null,2,360,{"$f":"IFERROR(INDEX(Brief!J:J,G348),0)","v":0},null,0,199,0,0,0,0,0]
["x",null,null,{"$f":"IFERROR(INDEX('Podświetlanie modułów'!D:D,MATCH(H349,'Podświetlanie modułów'!B:B,0)),\"\")","v":""},"Integracja z Ba","",{"$f":"IFERROR(MATCH(H349,Brief!AA:AA,0),\"\")","v":402},"Integracja z Baselinker",null,0,{"$f":"J349*$K$2+(V2*(J349*$K$2))","v":0},null,null,5,900,{"$f":"IFERROR(INDEX(Brief!J:J,G349),0)","v":0},null,0,null,0,0,0,0,0]
["x",null,null,{"$f":"IFERROR(INDEX('Podświetlanie modułów'!D:D,MATCH(H350,'Podświetlanie modułów'!B:B,0)),\"\")","v":""},"Integracja z Ge","",{"$f":"IFERROR(MATCH(H350,Brief!AA:AA,0),\"\")","v":403},"Integracja z GetResponse",null,null,{"$f":"J350*$K$2+(V2*(J350*$K$2))","v":0},1,{"$f":"L350*$M$2+($W$2*(L350*$M$2))","v":132},3,540,{"$f":"IFERROR(INDEX(Brief!J:J,G350),0)","v":0},null,{"$f":"ROUNDUP(P350*(M350+O350)*(1+$R$2),-1)","v":0},null,0,0,0,0,0]
["x",null,null,{"$f":"IFERROR(INDEX('Podświetlanie modułów'!D:D,MATCH(H351,'Podświetlanie modułów'!B:B,0)),\"\")","v":""},"Integracja z Fr","",{"$f":"IFERROR(MATCH(H351,Brief!AA:AA,0),\"\")","v":404},"Integracja z Fresmail",null,null,{"$f":"J351*$K$2+(V2*(J351*$K$2))","v":0},1,132,3,540,{"$f":"IFERROR(INDEX(Brief!J:J,G351),0)","v":0},null,0,null,0,0,0,0,0]
["x",null,null,{"$f":"IFERROR(INDEX('Podświetlanie modułów'!D:D,MATCH(H352,'Podświetlanie modułów'!B:B,0)),\"\")","v":""},"Integracja z Ma","",{"$f":"IFERROR(MATCH(H352,Brief!AA:AA,0),\"\")","v":405},"Integracja z Mailchimp",null,null,{"$f":"J352*$K$2+(V2*(J352*$K$2))","v":0},1,132,3,540,{"$f":"IFERROR(INDEX(Brief!J:J,G352),0)","v":0},null,0,null,0,0,0,0,0]
["x",null,null,{"$f":"IFERROR(INDEX('Podświetlanie modułów'!D:D,MATCH(H353,'Podświetlanie modułów'!B:B,0)),\"\")","v":""},{"$f":"LEFT(H353,15)","v":"ShopMagic PRO -"},"",{"$f":"IFERROR(MATCH(H353,Brief!AA:AA,0),\"\")","v":406},"ShopMagic PRO - automatyzacja maili",null,null,{"$f":"J353*$K$2+(V2*(J353*$K$2))","v":0},5,660,1,180,{"$f":"IFERROR(INDEX(Brief!J:J,G353),0)","v":0},null,0,199,0,0,0,0,0]
["x",null,null,{"$f":"IFERROR(INDEX('Podświetlanie modułów'!D:D,MATCH(H354,'Podświetlanie modułów'!B:B,0)),\"\")","v":""},"Kupony rabatowe","",{"$f":"IFERROR(MATCH(H354,Brief!AA:AA,0),\"\")","v":407},"Kupony rabatowe (konfiguracja 1 kuponu)",null,null,{"$f":"J354*$K$2+(V2*(J354*$K$2))","v":0},1,132,0,0,{"$f":"IFERROR(INDEX(Brief!J:J,G354),0)","v":0},"x",0,null,0,0,0,0,0]
["x",null,null,{"$f":"IFERROR(INDEX('Podświetlanie modułów'!D:D,MATCH(H355,'Podświetlanie modułów'!B:B,0)),\"\")","v":""},"Flexible Pricin","",{"$f":"IFERROR(MATCH(H355,Brief!AA:AA,0),\"\")","v":408},"Flexible Pricing - zaawansowane promocje (gratisy, promocje)",null,null,{"$f":"J355*$K$2+(V2*(J355*$K$2))","v":0},2,264,0,0,{"$f":"IFERROR(INDEX(Brief!J:J,G355),0)","v":0},null,0,199,0,0,0,0,0]
["x",null,null,{"$f":"IFERROR(INDEX('Podświetlanie modułów'!D:D,MATCH(H356,'Podświetlanie modułów'!B:B,0)),\"\")","v":""},"Flexible Produc","",{"$f":"IFERROR(MATCH(H356,Brief!AA:AA,0),\"\")","v":409},"Flexible Product Fields PRO - dodatkowe opcje do produktów",null,1,{"$f":"J356*$K$2+(V2*(J356*$K$2))","v":132},1,132,0,0,{"$f":"IFERROR(INDEX(Brief!J:J,G356),0)","v":0},null,{"$f":"ROUNDUP(P356*(K356+M356+O356)*(1+$R$2),-1)","v":0},149,0,0,0,0,0]
["x",null,null,{"$f":"IFERROR(INDEX('Podświetlanie modułów'!D:D,MATCH(H357,'Podświetlanie modułów'!B:B,0)),\"\")","v":""},"Quick Cross-Sel","",{"$f":"IFERROR(MATCH(H357,Brief!AA:AA,0),\"\")","v":410},"Quick Cross-Sells - promocje powiązane",null,1,{"$f":"J357*$K$2+(V2*(J357*$K$2))","v":132},1,132,1,180,{"$f":"IFERROR(INDEX(Brief!J:J,G357),0)","v":0},null,{"$f":"ROUNDUP(P357*(K357+M357+O357)*(1+$R$2),-1)","v":0},149,0,0,0,0,0]
["x",null,null,{"$f":"IFERROR(INDEX('Podświetlanie modułów'!D:D,MATCH(H358,'Podświetlanie modułów'!B:B,0)),\"\")","v":""},"Polecane produk","",{"$f":"IFERROR(MATCH(H358,Brief!AA:AA,0),\"\")","v":411},"Polecane produkty",null,0.5,{"$f":"J358*$K$2+(V2*(J358*$K$2))","v":66},0.5,66,1,180,{"$f":"IFERROR(INDEX(Brief!J:J,G358),0)","v":0},"x",{"$f":"ROUNDUP(P358*(K358+M358+O358)*(1+$R$2),-1)","v":0},null,0,0,0,0,0]
["x",null,null,{"$f":"IFERROR(INDEX('Podświetlanie modułów'!D:D,MATCH(H359,'Podświetlanie modułów'!B:B,0)),\"\")","v":""},"Ostatnio ogląda","",{"$f":"IFERROR(MATCH(H359,Brief!AA:AA,0),\"\")","v":412},"Ostatnio oglądane produkty",null,0.5,{"$f":"J359*$K$2+(V2*(J359*$K$2))","v":66},0.5,66,1,180,{"$f":"IFERROR(INDEX(Brief!J:J,G359),0)","v":0},"x",{"$f":"ROUNDUP(P359*(K359+M359+O359)*(1+$R$2),-1)","v":0},null,0,0,0,0,0]
["x",null,null,{"$f":"IFERROR(INDEX('Podświetlanie modułów'!D:D,MATCH(H360,'Podświetlanie modułów'!B:B,0)),\"\")","v":""},"Powiadom mnie o","",{"$f":"IFERROR(MATCH(H360,Brief!AA:AA,0),\"\")","v":413},"Powiadom mnie o dostępności produktu",null,0.5,{"$f":"J360*$K$2+(V2*(J360*$K$2))","v":66},1,132,1,180,{"$f":"IFERROR(INDEX(Brief!J:J,G360),0)","v":0},"x",{"$f":"ROUNDUP(P360*(K360+M360+O360)*(1+$R$2),-1)","v":0},200,0,0,0,0,0,null,null,null,"Back In Stock Notifications"]
[null,null,null,{"$f":"IFERROR(INDEX('Podświetlanie modułów'!D:D,MATCH(H361,'Podświetlanie modułów'!B:B,0)),\"\")","v":""},"Dodatkowy moduł","",{"$f":"IFERROR(MATCH(H361,Brief!AA:AA,0),\"\")","v":414},{"$f":"\"Dodatkowy moduł \"&(COUNTIF($E$4:E360,\"Dodatkowy moduł\")+1)","v":"Dodatkowy moduł 85"},null,null,{"$f":"J361*$K$2+(V2*(J361*$K$2))","v":0},null,0,null,0,{"$f":"IFERROR(INDEX(Brief!J:J,G361),0)","v":0},null,0,null,0,0,0,0,0]
[null,null,null,{"$f":"IFERROR(INDEX('Podświetlanie modułów'!D:D,MATCH(H362,'Podświetlanie modułów'!B:B,0)),\"\")","v":""},"Dodatkowy moduł","",{"$f":"IFERROR(MATCH(H362,Brief!AA:AA,0),\"\")","v":415},{"$f":"\"Dodatkowy moduł \"&(COUNTIF($E$4:E361,\"Dodatkowy moduł\")+1)","v":"Dodatkowy moduł 86"},null,null,{"$f":"J362*$K$2+(V2*(J362*$K$2))","v":0},null,0,null,0,{"$f":"IFERROR(INDEX(Brief!J:J,G362),0)","v":0},null,0,null,0,0,0,0,0]
[null,null,null,{"$f":"IFERROR(INDEX('Podświetlanie modułów'!D:D,MATCH(H363,'Podświetlanie modułów'!B:B,0)),\"\")","v":""},"Dodatkowy moduł","",{"$f":"IFERROR(MATCH(H363,Brief!AA:AA,0),\"\")","v":416},{"$f":"\"Dodatkowy moduł \"&(COUNTIF($E$4:E362,\"Dodatkowy moduł\")+1)","v":"Dodatkowy moduł 87"},null,null,{"$f":"J363*$K$2+(V2*(J363*$K$2))","v":0},null,0,null,0,{"$f":"IFERROR(INDEX(Brief!J:J,G363),0)","v":0},null,0,null,0,0,0,0,0]
[null,null,null,{"$f":"IFERROR(INDEX('Podświetlanie modułów'!D:D,MATCH(H364,'Podświetlanie modułów'!B:B,0)),\"\")","v":""},"Dodatkowy moduł","",{"$f":"IFERROR(MATCH(H364,Brief!AA:AA,0),\"\")","v":417},{"$f":"\"Dodatkowy moduł \"&(COUNTIF($E$4:E363,\"Dodatkowy moduł\")+1)","v":"Dodatkowy moduł 88"},null,null,{"$f":"J364*$K$2+(V2*(J364*$K$2))","v":0},null,0,null,0,{"$f":"IFERROR(INDEX(Brief!J:J,G364),0)","v":0},null,0,null,0,0,0,0,0]
[null,null,null,{"$f":"IFERROR(INDEX('Podświetlanie modułów'!D:D,MATCH(H365,'Podświetlanie modułów'!B:B,0)),\"\")","v":""},"Zarządzanie pro",{"$f":"IF($F$2=\"x\",R365,\"\")","v":""},{"$f":"IFERROR(MATCH(H365,Brief!AA:AA,0),\"\")","v":""},"Zarządzanie produktami"]
["x",null,null,{"$f":"IFERROR(INDEX('Podświetlanie modułów'!D:D,MATCH(H366,'Podświetlanie modułów'!B:B,0)),\"\")","v":""},"Ilość produktów","",{"$f":"IFERROR(MATCH(H366,Brief!AA:AA,0),\"\")","v":419},"Ilość produktów bez limitu",null,0,{"$f":"J366*$K$2+(V2*(J366*$K$2))","v":0},0,{"$f":"L366*$M$2+($W$2*(L366*$M$2))","v":0},0,0,{"$f":"IFERROR(INDEX(Brief!J:J,G366),0)","v":0},"x",0,null,{"$f":"P366","v":0},{"$f":"S366*T366","v":0},{"$f":"P366*J366","v":0},0,{"$f":"P366*N366","v":0}]
["x",null,null,{"$f":"IFERROR(INDEX('Podświetlanie modułów'!D:D,MATCH(H367,'Podświetlanie modułów'!B:B,0)),\"\")","v":""},"Ilość kategorii","",{"$f":"IFERROR(MATCH(H367,Brief!AA:AA,0),\"\")","v":420},"Ilość kategorii i podkategorii bez limitu",null,0,{"$f":"J367*$K$2+(V2*(J367*$K$2))","v":0},0,0,0,0,{"$f":"IFERROR(INDEX(Brief!J:J,G367),0)","v":0},"x",0,null,{"$f":"P367","v":0},0,0,0,0]
["x",null,null,{"$f":"IFERROR(INDEX('Podświetlanie modułów'!D:D,MATCH(H368,'Podświetlanie modułów'!B:B,0)),\"\")","v":""},"Producenci i se","",{"$f":"IFERROR(MATCH(H368,Brief!AA:AA,0),\"\")","v":421},"Producenci i serie",null,1,{"$f":"J368*$K$2+(V2*(J368*$K$2))","v":132},1,132,2,{"$f":"$O$2*N368+($X$2*(N368*$O$2))","v":360},{"$f":"IFERROR(INDEX(Brief!J:J,G368),0)","v":0},"x",{"$f":"ROUNDUP(P368*(K368+M368+O368)*(1+$R$2),-1)","v":0},null,0,0,0,0,0]
["x",null,null,{"$f":"IFERROR(INDEX('Podświetlanie modułów'!D:D,MATCH(H369,'Podświetlanie modułów'!B:B,0)),\"\")","v":""},"Atrybuty produk","",{"$f":"IFERROR(MATCH(H369,Brief!AA:AA,0),\"\")","v":422},"Atrybuty produktów",null,0,{"$f":"J369*$K$2+(V2*(J369*$K$2))","v":0},0,0,0,0,{"$f":"IFERROR(INDEX(Brief!J:J,G369),0)","v":0},"x",0,null,0,0,0,0,0]
["x",null,null,{"$f":"IFERROR(INDEX('Podświetlanie modułów'!D:D,MATCH(H370,'Podświetlanie modułów'!B:B,0)),\"\")","v":""},"Warianty produk","",{"$f":"IFERROR(MATCH(H370,Brief!AA:AA,0),\"\")","v":423},"Warianty produktów",null,0,{"$f":"J370*$K$2+(V2*(J370*$K$2))","v":0},0,0,0,0,{"$f":"IFERROR(INDEX(Brief!J:J,G370),0)","v":0},"x",0,null,0,0,0,0,0]
["x",null,null,{"$f":"IFERROR(INDEX('Podświetlanie modułów'!D:D,MATCH(H371,'Podświetlanie modułów'!B:B,0)),\"\")","v":""},"Stany magazynow","",{"$f":"IFERROR(MATCH(H371,Brief!AA:AA,0),\"\")","v":424},"Stany magazynowe",null,0,{"$f":"J371*$K$2+(V2*(J371*$K$2))","v":0},0,0,0,0,{"$f":"IFERROR(INDEX(Brief!J:J,G371),0)","v":0},"x",0,null,0,0,0,0,0]
["x",null,null,{"$f":"IFERROR(INDEX('Podświetlanie modułów'!D:D,MATCH(H372,'Podświetlanie modułów'!B:B,0)),\"\")","v":""},"Możliwość włącz","",{"$f":"IFERROR(MATCH(H372,Brief!AA:AA,0),\"\")","v":425},"Możliwość włączania i wyłączania produktów",null,0,{"$f":"J372*$K$2+(V2*(J372*$K$2))","v":0},0,0,0,0,{"$f":"IFERROR(INDEX(Brief!J:J,G372),0)","v":0},"x",0,null,0,0,0,0,0]
["x",null,null,{"$f":"IFERROR(INDEX('Podświetlanie modułów'!D:D,MATCH(H373,'Podświetlanie modułów'!B:B,0)),\"\")","v":""},"Ustawianie prom","",{"$f":"IFERROR(MATCH(H373,Brief!AA:AA,0),\"\")","v":426},"Ustawianie promocji, nowości, bestsellerów",null,0,{"$f":"J373*$K$2+(V2*(J373*$K$2))","v":0},0,0,0,0,{"$f":"IFERROR(INDEX(Brief!J:J,G373),0)","v":0},"x",0,null,0,0,0,0,0]
["x",null,null,{"$f":"IFERROR(INDEX('Podświetlanie modułów'!D:D,MATCH(H374,'Podświetlanie modułów'!B:B,0)),\"\")","v":""},"Możliwość tagow","",{"$f":"IFERROR(MATCH(H374,Brief!AA:AA,0),\"\")","v":427},"Możliwość tagowania produktów",null,0,{"$f":"J374*$K$2+(V2*(J374*$K$2))","v":0},0,0,0,0,{"$f":"IFERROR(INDEX(Brief!J:J,G374),0)","v":0},"x",0,null,0,0,0,0,0]
["x",null,null,{"$f":"IFERROR(INDEX('Podświetlanie modułów'!D:D,MATCH(H375,'Podświetlanie modułów'!B:B,0)),\"\")","v":""},"Produkty grupow","",{"$f":"IFERROR(MATCH(H375,Brief!AA:AA,0),\"\")","v":428},"Produkty grupowe",null,0,{"$f":"J375*$K$2+(V2*(J375*$K$2))","v":0},0,0,0,0,{"$f":"IFERROR(INDEX(Brief!J:J,G375),0)","v":0},"x",0,null,0,0,0,0,0]
["x",null,null,{"$f":"IFERROR(INDEX('Podświetlanie modułów'!D:D,MATCH(H376,'Podświetlanie modułów'!B:B,0)),\"\")","v":""},"Produkty wirtua","",{"$f":"IFERROR(MATCH(H376,Brief!AA:AA,0),\"\")","v":429},"Produkty wirtualne np. ebook",null,0,{"$f":"J376*$K$2+(V2*(J376*$K$2))","v":0},0,0,0,0,{"$f":"IFERROR(INDEX(Brief!J:J,G376),0)","v":0},"x",0,null,0,0,0,0,0]
["x",null,null,{"$f":"IFERROR(INDEX('Podświetlanie modułów'!D:D,MATCH(H377,'Podświetlanie modułów'!B:B,0)),\"\")","v":""},"Buttony dla wyb","",{"$f":"IFERROR(MATCH(H377,Brief!AA:AA,0),\"\")","v":430},"Buttony dla wyboru wariantu",null,0.5,{"$f":"J377*$K$2+(V2*(J377*$K$2))","v":66},null,0,1,180,{"$f":"IFERROR(INDEX(Brief!J:J,G377),0)","v":0},"x",{"$f":"ROUNDUP(P377*(K377+O377)*(1+$R$2),-1)","v":0},null,0,0,0,0,0,null,null,null,"Variation Swatches for WooCommerce"]
[null,null,null,{"$f":"IFERROR(INDEX('Podświetlanie modułów'!D:D,MATCH(H378,'Podświetlanie modułów'!B:B,0)),\"\")","v":""},"Dodatkowy moduł","",{"$f":"IFERROR(MATCH(H378,Brief!AA:AA,0),\"\")","v":431},{"$f":"\"Dodatkowy moduł \"&(COUNTIF($E$4:E377,\"Dodatkowy moduł\")+1)","v":"Dodatkowy moduł 89"},null,null,{"$f":"J378*$K$2+(V2*(J378*$K$2))","v":0},null,0,null,0,{"$f":"IFERROR(INDEX(Brief!J:J,G378),0)","v":0},null,0,null,0,0,0,0,0]
[null,null,null,{"$f":"IFERROR(INDEX('Podświetlanie modułów'!D:D,MATCH(H379,'Podświetlanie modułów'!B:B,0)),\"\")","v":""},"Dodatkowy moduł","",{"$f":"IFERROR(MATCH(H379,Brief!AA:AA,0),\"\")","v":432},{"$f":"\"Dodatkowy moduł \"&(COUNTIF($E$4:E378,\"Dodatkowy moduł\")+1)","v":"Dodatkowy moduł 90"},null,null,{"$f":"J379*$K$2+(V2*(J379*$K$2))","v":0},null,0,null,0,{"$f":"IFERROR(INDEX(Brief!J:J,G379),0)","v":0},null,0,null,0,0,0,0,0]
[null,null,null,{"$f":"IFERROR(INDEX('Podświetlanie modułów'!D:D,MATCH(H380,'Podświetlanie modułów'!B:B,0)),\"\")","v":""},"Dodatkowy moduł","",{"$f":"IFERROR(MATCH(H380,Brief!AA:AA,0),\"\")","v":433},{"$f":"\"Dodatkowy moduł \"&(COUNTIF($E$4:E379,\"Dodatkowy moduł\")+1)","v":"Dodatkowy moduł 91"},null,null,{"$f":"J380*$K$2+(V2*(J380*$K$2))","v":0},null,0,null,0,{"$f":"IFERROR(INDEX(Brief!J:J,G380),0)","v":0},null,0,null,0,0,0,0,0]
[null,null,null,{"$f":"IFERROR(INDEX('Podświetlanie modułów'!D:D,MATCH(H381,'Podświetlanie modułów'!B:B,0)),\"\")","v":""},"Dodatkowy moduł","",{"$f":"IFERROR(MATCH(H381,Brief!AA:AA,0),\"\")","v":434},{"$f":"\"Dodatkowy moduł \"&(COUNTIF($E$4:E380,\"Dodatkowy moduł\")+1)","v":"Dodatkowy moduł 92"},null,null,{"$f":"J381*$K$2+(V2*(J381*$K$2))","v":0},null,0,null,0,{"$f":"IFERROR(INDEX(Brief!J:J,G381),0)","v":0},null,0,null,0,0,0,0,0]
[null,null,null,{"$f":"IFERROR(INDEX('Podświetlanie modułów'!D:D,MATCH(H382,'Podświetlanie modułów'!B:B,0)),\"\")","v":""},"Użytkowanie","",{"$f":"IFERROR(MATCH(H382,Brief!AA:AA,0),\"\")","v":""},"Użytkowanie"]
["x",null,null,{"$f":"IFERROR(INDEX('Podświetlanie modułów'!D:D,MATCH(H383,'Podświetlanie modułów'!B:B,0)),\"\")","v":""},"Ulubione produk","",{"$f":"IFERROR(MATCH(H383,Brief!AA:AA,0),\"\")","v":436},"Ulubione produkty (zapamiętywanie)",null,1,{"$f":"J383*$K$2+(V2*(J383*$K$2))","v":132},null,null,1,180,{"$f":"IFERROR(INDEX(Brief!J:J,G383),0)","v":0},"x",0,null,{"$f":"P383","v":0},{"$f":"S383*T383","v":0},{"$f":"P383*J383","v":0},0,{"$f":"P383*N383","v":0},null,null,null,"TI Wishlist"]
["x",null,null,{"$f":"IFERROR(INDEX('Podświetlanie modułów'!D:D,MATCH(H384,'Podświetlanie modułów'!B:B,0)),\"\")","v":""},"Logowanie przez","",{"$f":"IFERROR(MATCH(H384,Brief!AA:AA,0),\"\")","v":437},"Logowanie przez Facebook lub Google",null,0.5,{"$f":"J384*$K$2+(V2*(J384*$K$2))","v":66},null,null,2,360,{"$f":"IFERROR(INDEX(Brief!J:J,G384),0)","v":0},null,0,null,{"$f":"P384","v":0},0,0,{"$f":"P384*L384","v":0},0]
["x",null,null,{"$f":"IFERROR(INDEX('Podświetlanie modułów'!D:D,MATCH(H385,'Podświetlanie modułów'!B:B,0)),\"\")","v":""},"Wyszukiwarka po","",{"$f":"IFERROR(MATCH(H385,Brief!AA:AA,0),\"\")","v":438},"Wyszukiwarka podstawowa",null,0,{"$f":"J385*$K$2+(V2*(J385*$K$2))","v":0},null,null,0,0,{"$f":"IFERROR(INDEX(Brief!J:J,G385),0)","v":0},null,0,null,0,0,0,0,0]
["x",null,null,{"$f":"IFERROR(INDEX('Podświetlanie modułów'!D:D,MATCH(H386,'Podświetlanie modułów'!B:B,0)),\"\")","v":""},"Wyszukiwarka z ","",{"$f":"IFERROR(MATCH(H386,Brief!AA:AA,0),\"\")","v":439},"Wyszukiwarka z sugestiami","od",1,{"$f":"J386*$K$2+(V2*(J386*$K$2))","v":132},null,null,1,180,{"$f":"IFERROR(INDEX(Brief!J:J,G386),0)","v":0},null,0,null,0,0,0,0,0]
["x",null,null,{"$f":"IFERROR(INDEX('Podświetlanie modułów'!D:D,MATCH(H387,'Podświetlanie modułów'!B:B,0)),\"\")","v":""},"Konfiguracja fi","",{"$f":"IFERROR(MATCH(H387,Brief!AA:AA,0),\"\")","v":440},"Konfiguracja filtrów",null,1,{"$f":"J387*$K$2+(V2*(J387*$K$2))","v":132},null,null,2,360,{"$f":"IFERROR(INDEX(Brief!J:J,G387),0)","v":0},"x",{"$f":"ROUNDUP(P387*(K387+O387)*(1+$R$2),-1)","v":0},null,0,0,0,0,0]
["x",null,null,{"$f":"IFERROR(INDEX('Podświetlanie modułów'!D:D,MATCH(H388,'Podświetlanie modułów'!B:B,0)),\"\")","v":""},"Opcja sortowani","",{"$f":"IFERROR(MATCH(H388,Brief!AA:AA,0),\"\")","v":441},"Opcja sortowania","od",0,{"$f":"J388*$K$2+(V2*(J388*$K$2))","v":0},null,null,2,360,{"$f":"IFERROR(INDEX(Brief!J:J,G388),0)","v":0},"x",0,null,0,0,0,0,0]
["x",null,null,{"$f":"IFERROR(INDEX('Podświetlanie modułów'!D:D,MATCH(H389,'Podświetlanie modułów'!B:B,0)),\"\")","v":""},"Opinie i recenz","",{"$f":"IFERROR(MATCH(H389,Brief!AA:AA,0),\"\")","v":442},"Opinie i recenzje produktów",null,1,{"$f":"J389*$K$2+(V2*(J389*$K$2))","v":132},null,null,1,180,{"$f":"IFERROR(INDEX(Brief!J:J,G389),0)","v":0},"x",0,null,0,0,0,0,0]
["x",null,null,{"$f":"IFERROR(INDEX('Podświetlanie modułów'!D:D,MATCH(H390,'Podświetlanie modułów'!B:B,0)),\"\")","v":""},"Przełączanie wi","",{"$f":"IFERROR(MATCH(H390,Brief!AA:AA,0),\"\")","v":443},"Przełączanie widoku listy",null,0.5,{"$f":"J390*$K$2+(V2*(J390*$K$2))","v":66},null,null,1,180,{"$f":"IFERROR(INDEX(Brief!J:J,G390),0)","v":0},"x",0,null,0,0,0,0,0]
["x",null,null,{"$f":"IFERROR(INDEX('Podświetlanie modułów'!D:D,MATCH(H391,'Podświetlanie modułów'!B:B,0)),\"\")","v":""},"Uprawnienia (ad","",{"$f":"IFERROR(MATCH(H391,Brief!AA:AA,0),\"\")","v":444},"Uprawnienia (administrator, kierownik sklepu, redaktor)",null,null,{"$f":"J391*$K$2+(V2*(J391*$K$2))","v":0},null,null,1,180,{"$f":"IFERROR(INDEX(Brief!J:J,G391),0)","v":0},"x",0,null,0,0,0,0,0,null,null,null,"Wtyczka - User Role Editor"]
[null,null,null,{"$f":"IFERROR(INDEX('Podświetlanie modułów'!D:D,MATCH(H392,'Podświetlanie modułów'!B:B,0)),\"\")","v":""},"Dodatkowy moduł","",{"$f":"IFERROR(MATCH(H392,Brief!AA:AA,0),\"\")","v":445},{"$f":"\"Dodatkowy moduł \"&(COUNTIF($E$4:E391,\"Dodatkowy moduł\")+1)","v":"Dodatkowy moduł 93"},null,null,{"$f":"J392*$K$2+(V2*(J392*$K$2))","v":0},null,{"$f":"L392*$M$2+($W$2*(L392*$M$2))","v":0},null,0,{"$f":"IFERROR(INDEX(Brief!J:J,G392),0)","v":0},null,0,null,0,0,0,0,0]
[null,null,null,{"$f":"IFERROR(INDEX('Podświetlanie modułów'!D:D,MATCH(H393,'Podświetlanie modułów'!B:B,0)),\"\")","v":""},"Dodatkowy moduł","",{"$f":"IFERROR(MATCH(H393,Brief!AA:AA,0),\"\")","v":446},{"$f":"\"Dodatkowy moduł \"&(COUNTIF($E$4:E392,\"Dodatkowy moduł\")+1)","v":"Dodatkowy moduł 94"},null,null,{"$f":"J393*$K$2+(V2*(J393*$K$2))","v":0},null,{"$f":"L393*$M$2+($W$2*(L393*$M$2))","v":0},null,0,{"$f":"IFERROR(INDEX(Brief!J:J,G393),0)","v":0},null,0,null,0,0,0,0,0]
[null,null,null,{"$f":"IFERROR(INDEX('Podświetlanie modułów'!D:D,MATCH(H394,'Podświetlanie modułów'!B:B,0)),\"\")","v":""},"Dodatkowy moduł","",{"$f":"IFERROR(MATCH(H394,Brief!AA:AA,0),\"\")","v":447},{"$f":"\"Dodatkowy moduł \"&(COUNTIF($E$4:E393,\"Dodatkowy moduł\")+1)","v":"Dodatkowy moduł 95"},null,null,{"$f":"J394*$K$2+(V2*(J394*$K$2))","v":0},null,0,null,0,{"$f":"IFERROR(INDEX(Brief!J:J,G394),0)","v":0},null,0,null,0,0,0,0,0]
[null,null,null,{"$f":"IFERROR(INDEX('Podświetlanie modułów'!D:D,MATCH(H395,'Podświetlanie modułów'!B:B,0)),\"\")","v":""},"Dodatkowy moduł","",{"$f":"IFERROR(MATCH(H395,Brief!AA:AA,0),\"\")","v":448},{"$f":"\"Dodatkowy moduł \"&(COUNTIF($E$4:E394,\"Dodatkowy moduł\")+1)","v":"Dodatkowy moduł 96"},null,null,{"$f":"J395*$K$2+(V2*(J395*$K$2))","v":0},null,0,null,0,{"$f":"IFERROR(INDEX(Brief!J:J,G395),0)","v":0},null,0,null,0,0,0,0,0]
[null,null,null,{"$f":"IFERROR(INDEX('Podświetlanie modułów'!D:D,MATCH(H396,'Podświetlanie modułów'!B:B,0)),\"\")","v":""},"Dodatkowy moduł","",{"$f":"IFERROR(MATCH(H396,Brief!AA:AA,0),\"\")","v":449},{"$f":"\"Dodatkowy moduł \"&(COUNTIF($E$4:E395,\"Dodatkowy moduł\")+1)","v":"Dodatkowy moduł 97"},null,null,{"$f":"J396*$K$2+(V2*(J396*$K$2))","v":0},null,0,null,0,{"$f":"IFERROR(INDEX(Brief!J:J,G396),0)","v":0},null,0,null,0,0,0,0,0]
[null,null,null,{"$f":"IFERROR(INDEX('Podświetlanie modułów'!D:D,MATCH(H397,'Podświetlanie modułów'!B:B,0)),\"\")","v":""},"Zamówienia","",{"$f":"IFERROR(MATCH(H397,Brief!AA:AA,0),\"\")","v":""},"Zamówienia"]
["x",null,null,{"$f":"IFERROR(INDEX('Podświetlanie modułów'!D:D,MATCH(H398,'Podświetlanie modułów'!B:B,0)),\"\")","v":""},"Panel zamówień","",{"$f":"IFERROR(MATCH(H398,Brief!AA:AA,0),\"\")","v":451},"Panel zamówień",null,0,{"$f":"J398*$K$2+(V2*(J398*$K$2))","v":0},0,{"$f":"L398*$M$2","v":0},0,0,{"$f":"IFERROR(INDEX(Brief!J:J,G398),0)","v":0},"x",0,null,{"$f":"P398","v":0},{"$f":"S398*T398","v":0},{"$f":"P398*J398","v":0},0,{"$f":"P398*N398","v":0}]
["x",null,null,{"$f":"IFERROR(INDEX('Podświetlanie modułów'!D:D,MATCH(H399,'Podświetlanie modułów'!B:B,0)),\"\")","v":""},"Automatyczne ge","",{"$f":"IFERROR(MATCH(H399,Brief!AA:AA,0),\"\")","v":452},"Automatyczne generowanie powiadomień mailowych o zmianie statusu realizacji",null,null,{"$f":"J399*$K$2+(V2*(J399*$K$2))","v":0},0.5,{"$f":"L399*$M$2+($W$2*(L399*$M$2))","v":66},0,0,{"$f":"IFERROR(INDEX(Brief!J:J,G399),0)","v":0},"x",{"$f":"ROUNDUP(P399*(M399+O399)*(1+$R$2),-1)","v":0},null,{"$f":"P399","v":0},{"$f":"S399*T399","v":0},0,0,{"$f":"P399*N399","v":0}]
["x",null,null,{"$f":"IFERROR(INDEX('Podświetlanie modułów'!D:D,MATCH(H400,'Podświetlanie modułów'!B:B,0)),\"\")","v":""},"Możliwość skład","",{"$f":"IFERROR(MATCH(H400,Brief!AA:AA,0),\"\")","v":453},"Możliwość składania zamówień gościnnych lub jako zarejestrowany",null,0,{"$f":"J400*$K$2+(V2*(J400*$K$2))","v":0},0,{"$f":"L400*$M$2","v":0},0,0,{"$f":"IFERROR(INDEX(Brief!J:J,G400),0)","v":0},"x",0,null,0,{"$f":"S400*T400","v":0},0,0,{"$f":"P400*N400","v":0}]
["x",null,null,{"$f":"IFERROR(INDEX('Podświetlanie modułów'!D:D,MATCH(H401,'Podświetlanie modułów'!B:B,0)),\"\")","v":""},"Statystyki sprz","",{"$f":"IFERROR(MATCH(H401,Brief!AA:AA,0),\"\")","v":454},"Statystyki sprzedaży",null,0,{"$f":"J401*$K$2+(V2*(J401*$K$2))","v":0},0,0,0,0,{"$f":"IFERROR(INDEX(Brief!J:J,G401),0)","v":0},"x",0,null,0,{"$f":"S401*T401","v":0},0,0,{"$f":"P401*N401","v":0}]
["x",null,null,{"$f":"IFERROR(INDEX('Podświetlanie modułów'!D:D,MATCH(H402,'Podświetlanie modułów'!B:B,0)),\"\")","v":""},"Powiadomienia o","",{"$f":"IFERROR(MATCH(H402,Brief!AA:AA,0),\"\")","v":455},"Powiadomienia o niskim stanie magazynowym",null,0,{"$f":"J402*$K$2+(V2*(J402*$K$2))","v":0},0,0,0,0,{"$f":"IFERROR(INDEX(Brief!J:J,G402),0)","v":0},"x",0,null,0,{"$f":"S402*T402","v":0},0,0,{"$f":"P402*N402","v":0}]
[null,null,null,{"$f":"IFERROR(INDEX('Podświetlanie modułów'!D:D,MATCH(H403,'Podświetlanie modułów'!B:B,0)),\"\")","v":""},"Dodatkowy moduł","",{"$f":"IFERROR(MATCH(H403,Brief!AA:AA,0),\"\")","v":456},{"$f":"\"Dodatkowy moduł \"&(COUNTIF($E$4:E402,\"Dodatkowy moduł\")+1)","v":"Dodatkowy moduł 98"},null,null,{"$f":"J403*$K$2+(V2*(J403*$K$2))","v":0},null,0,null,0,{"$f":"IFERROR(INDEX(Brief!J:J,G403),0)","v":0},null,0,null,0,{"$f":"S403*T403","v":0},0,0,{"$f":"P403*N403","v":0}]
[null,null,null,{"$f":"IFERROR(INDEX('Podświetlanie modułów'!D:D,MATCH(H404,'Podświetlanie modułów'!B:B,0)),\"\")","v":""},"Dodatkowy moduł","",{"$f":"IFERROR(MATCH(H404,Brief!AA:AA,0),\"\")","v":457},{"$f":"\"Dodatkowy moduł \"&(COUNTIF($E$4:E403,\"Dodatkowy moduł\")+1)","v":"Dodatkowy moduł 99"},null,null,{"$f":"J404*$K$2+(V2*(J404*$K$2))","v":0},null,0,null,0,{"$f":"IFERROR(INDEX(Brief!J:J,G404),0)","v":0},null,0,null,0,0,0,0,0]
[null,null,null,{"$f":"IFERROR(INDEX('Podświetlanie modułów'!D:D,MATCH(H405,'Podświetlanie modułów'!B:B,0)),\"\")","v":""},"Dodatkowy moduł","",{"$f":"IFERROR(MATCH(H405,Brief!AA:AA,0),\"\")","v":458},{"$f":"\"Dodatkowy moduł \"&(COUNTIF($E$4:E404,\"Dodatkowy moduł\")+1)","v":"Dodatkowy moduł 100"},null,null,{"$f":"J405*$K$2+(V2*(J405*$K$2))","v":0},null,0,null,0,{"$f":"IFERROR(INDEX(Brief!J:J,G405),0)","v":0},null,0,null,0,0,0,0,0]
[null,null,null,{"$f":"IFERROR(INDEX('Podświetlanie modułów'!D:D,MATCH(H406,'Podświetlanie modułów'!B:B,0)),\"\")","v":""},"Dodatkowy moduł","",{"$f":"IFERROR(MATCH(H406,Brief!AA:AA,0),\"\")","v":459},{"$f":"\"Dodatkowy moduł \"&(COUNTIF($E$4:E405,\"Dodatkowy moduł\")+1)","v":"Dodatkowy moduł 101"},null,null,{"$f":"J406*$K$2+(V2*(J406*$K$2))","v":0},null,0,null,0,{"$f":"IFERROR(INDEX(Brief!J:J,G406),0)","v":0},null,0,null,0,0,0,0,0]
[null,null,null,{"$f":"IFERROR(INDEX('Podświetlanie modułów'!D:D,MATCH(H407,'Podświetlanie modułów'!B:B,0)),\"\")","v":""},"Dodatkowy moduł","",{"$f":"IFERROR(MATCH(H407,Brief!AA:AA,0),\"\")","v":460},{"$f":"\"Dodatkowy moduł \"&(COUNTIF($E$4:E406,\"Dodatkowy moduł\")+1)","v":"Dodatkowy moduł 102"},null,null,{"$f":"J407*$K$2+(V2*(J407*$K$2))","v":0},null,0,null,0,{"$f":"IFERROR(INDEX(Brief!J:J,G407),0)","v":0},null,0,null,0,0,0,0,0]
[null,null,null,{"$f":"IFERROR(INDEX('Podświetlanie modułów'!D:D,MATCH(H408,'Podświetlanie modułów'!B:B,0)),\"\")","v":""},"Płatności i pod","",{"$f":"IFERROR(MATCH(H408,Brief!AA:AA,0),\"\")","v":""},"Płatności i podatki"]
["x",null,null,{"$f":"IFERROR(INDEX('Podświetlanie modułów'!D:D,MATCH(H409,'Podświetlanie modułów'!B:B,0)),\"\")","v":""},"Integracja z Pa","",{"$f":"IFERROR(MATCH(H409,Brief!AA:AA,0),\"\")","v":462},"Integracja z PayU",null,0,{"$f":"J409*$K$2+(V2*(J409*$K$2))","v":0},0.5,{"$f":"L409*$M$2+($W$2*(L409*$M$2))","v":66},0,0,{"$f":"IFERROR(INDEX(Brief!J:J,G409),0)","v":0},null,{"$f":"ROUNDUP(P409*(M409+O409)*(1+$R$2),-1)","v":0},99,{"$f":"P409","v":0},{"$f":"S409*T409","v":0},{"$f":"P409*J409","v":0},0,{"$f":"P409*N409","v":0}]
["x",null,null,{"$f":"IFERROR(INDEX('Podświetlanie modułów'!D:D,MATCH(H410,'Podświetlanie modułów'!B:B,0)),\"\")","v":""},"Integracja z Pr","",{"$f":"IFERROR(MATCH(H410,Brief!AA:AA,0),\"\")","v":463},"Integracja z Przelewy24",null,0,{"$f":"J410*$K$2+(V2*(J410*$K$2))","v":0},0.5,66,0,0,{"$f":"IFERROR(INDEX(Brief!J:J,G410),0)","v":0},"x",0,0,{"$f":"P410","v":0},0,0,0,0]
["x",null,null,{"$f":"IFERROR(INDEX('Podświetlanie modułów'!D:D,MATCH(H411,'Podświetlanie modułów'!B:B,0)),\"\")","v":""},"Integracja z Pa","",{"$f":"IFERROR(MATCH(H411,Brief!AA:AA,0),\"\")","v":464},"Integracja z PayPal",null,0,{"$f":"J411*$K$2+(V2*(J411*$K$2))","v":0},0.5,66,0,0,{"$f":"IFERROR(INDEX(Brief!J:J,G411),0)","v":0},"x",0,0,0,0,0,0,0]
["x",null,null,{"$f":"IFERROR(INDEX('Podświetlanie modułów'!D:D,MATCH(H412,'Podświetlanie modułów'!B:B,0)),\"\")","v":""},"Integracja z Do","",{"$f":"IFERROR(MATCH(H412,Brief!AA:AA,0),\"\")","v":465},"Integracja z DotPay",null,0,{"$f":"J412*$K$2+(V2*(J412*$K$2))","v":0},0.5,66,0,0,{"$f":"IFERROR(INDEX(Brief!J:J,G412),0)","v":0},null,0,99,0,0,0,0,0]
["x",null,null,{"$f":"IFERROR(INDEX('Podświetlanie modułów'!D:D,MATCH(H413,'Podświetlanie modułów'!B:B,0)),\"\")","v":""},"Integracja z tP","",{"$f":"IFERROR(MATCH(H413,Brief!AA:AA,0),\"\")","v":466},"Integracja z tPay",null,0,{"$f":"J413*$K$2+(V2*(J413*$K$2))","v":0},0.5,66,0,0,{"$f":"IFERROR(INDEX(Brief!J:J,G413),0)","v":0},null,0,99,0,0,0,0,0]
["x",null,null,{"$f":"IFERROR(INDEX('Podświetlanie modułów'!D:D,MATCH(H414,'Podświetlanie modułów'!B:B,0)),\"\")","v":""},"Stawki podatkow","",{"$f":"IFERROR(MATCH(H414,Brief!AA:AA,0),\"\")","v":467},"Stawki podatkowe",null,0,{"$f":"J414*$K$2+(V2*(J414*$K$2))","v":0},1,132,0,0,{"$f":"IFERROR(INDEX(Brief!J:J,G414),0)","v":0},"x",0,null,0,0,0,0,0]
[null,null,null,{"$f":"IFERROR(INDEX('Podświetlanie modułów'!D:D,MATCH(H415,'Podświetlanie modułów'!B:B,0)),\"\")","v":""},"Dodatkowy moduł","",{"$f":"IFERROR(MATCH(H415,Brief!AA:AA,0),\"\")","v":468},{"$f":"\"Dodatkowy moduł \"&(COUNTIF($E$4:E414,\"Dodatkowy moduł\")+1)","v":"Dodatkowy moduł 103"},null,null,{"$f":"J415*$K$2+(V2*(J415*$K$2))","v":0},null,{"$f":"L415*$M$2","v":0},null,0,{"$f":"IFERROR(INDEX(Brief!J:J,G415),0)","v":0},null,0,null,0,0,0,0,0]
[null,null,null,{"$f":"IFERROR(INDEX('Podświetlanie modułów'!D:D,MATCH(H416,'Podświetlanie modułów'!B:B,0)),\"\")","v":""},{"$f":"LEFT(H416,15)","v":"Dodatkowy moduł"},"",{"$f":"IFERROR(MATCH(H416,Brief!AA:AA,0),\"\")","v":469},{"$f":"\"Dodatkowy moduł \"&(COUNTIF($E$4:E415,\"Dodatkowy moduł\")+1)","v":"Dodatkowy moduł 104"},null,null,{"$f":"J416*$K$2+(V2*(J416*$K$2))","v":0},null,0,null,0,{"$f":"IFERROR(INDEX(Brief!J:J,G416),0)","v":0},null,0,null,0,0,0,0,0]
[null,null,null,{"$f":"IFERROR(INDEX('Podświetlanie modułów'!D:D,MATCH(H417,'Podświetlanie modułów'!B:B,0)),\"\")","v":""},"Dodatkowy moduł","",{"$f":"IFERROR(MATCH(H417,Brief!AA:AA,0),\"\")","v":470},{"$f":"\"Dodatkowy moduł \"&(COUNTIF($E$4:E416,\"Dodatkowy moduł\")+1)","v":"Dodatkowy moduł 105"},null,null,{"$f":"J417*$K$2+(V2*(J417*$K$2))","v":0},null,0,null,0,{"$f":"IFERROR(INDEX(Brief!J:J,G417),0)","v":0},null,0,null,0,0,0,0,0]
[null,null,null,{"$f":"IFERROR(INDEX('Podświetlanie modułów'!D:D,MATCH(H418,'Podświetlanie modułów'!B:B,0)),\"\")","v":""},"Dodatkowy moduł","",{"$f":"IFERROR(MATCH(H418,Brief!AA:AA,0),\"\")","v":471},{"$f":"\"Dodatkowy moduł \"&(COUNTIF($E$4:E417,\"Dodatkowy moduł\")+1)","v":"Dodatkowy moduł 106"},null,null,{"$f":"J418*$K$2+(V2*(J418*$K$2))","v":0},null,0,null,0,{"$f":"IFERROR(INDEX(Brief!J:J,G418),0)","v":0},null,0,null,0,0,0,0,0]
[null,null,null,{"$f":"IFERROR(INDEX('Podświetlanie modułów'!D:D,MATCH(H419,'Podświetlanie modułów'!B:B,0)),\"\")","v":""},"Dodatkowy moduł","",{"$f":"IFERROR(MATCH(H419,Brief!AA:AA,0),\"\")","v":472},{"$f":"\"Dodatkowy moduł \"&(COUNTIF($E$4:E418,\"Dodatkowy moduł\")+1)","v":"Dodatkowy moduł 107"},null,null,{"$f":"J419*$K$2+(V2*(J419*$K$2))","v":0},null,0,null,0,{"$f":"IFERROR(INDEX(Brief!J:J,G419),0)","v":0},null,0,null,0,0,0,0,0]
[null,null,null,{"$f":"IFERROR(INDEX('Podświetlanie modułów'!D:D,MATCH(H420,'Podświetlanie modułów'!B:B,0)),\"\")","v":""},"Wysyłka","",{"$f":"IFERROR(MATCH(H420,Brief!AA:AA,0),\"\")","v":""},"Wysyłka"]
["x",null,null,{"$f":"IFERROR(INDEX('Podświetlanie modułów'!D:D,MATCH(H421,'Podświetlanie modułów'!B:B,0)),\"\")","v":""},"Darmowa wysyłka","",{"$f":"IFERROR(MATCH(H421,Brief!AA:AA,0),\"\")","v":474},"Darmowa wysyłka w oparciu o wielkość zamówienia",null,null,{"$f":"J421*$K$2+(V2*(J421*$K$2))","v":0},0.5,{"$f":"L421*$M$2+($W$2*(L421*$M$2))","v":66},null,0,{"$f":"IFERROR(INDEX(Brief!J:J,G421),0)","v":0},"x",{"$f":"ROUNDUP(P421*(M421+O421)*(1+$R$2),-1)","v":0},null,{"$f":"P421","v":0},{"$f":"S421*T421","v":0},{"$f":"P421*J421","v":0},0,{"$f":"P421*N421","v":0}]
["x",null,null,{"$f":"IFERROR(INDEX('Podświetlanie modułów'!D:D,MATCH(H422,'Podświetlanie modułów'!B:B,0)),\"\")","v":""},"Integracja z DP","",{"$f":"IFERROR(MATCH(H422,Brief!AA:AA,0),\"\")","v":475},"Integracja z DPD",null,0,{"$f":"J422*$K$2+(V2*(J422*$K$2))","v":0},1,132,0,0,{"$f":"IFERROR(INDEX(Brief!J:J,G422),0)","v":0},"x",0,199,{"$f":"P422","v":0},0,0,0,0]
["x",null,null,{"$f":"IFERROR(INDEX('Podświetlanie modułów'!D:D,MATCH(H423,'Podświetlanie modułów'!B:B,0)),\"\")","v":""},"Integracja z Pa","",{"$f":"IFERROR(MATCH(H423,Brief!AA:AA,0),\"\")","v":476},"Integracja z Paczkomaty",null,0,{"$f":"J423*$K$2+(V2*(J423*$K$2))","v":0},0.5,66,0,0,{"$f":"IFERROR(INDEX(Brief!J:J,G423),0)","v":0},"x",0,199,0,0,0,0,0]
["x",null,null,{"$f":"IFERROR(INDEX('Podświetlanie modułów'!D:D,MATCH(H424,'Podświetlanie modułów'!B:B,0)),\"\")","v":""},"Integracja z Fu","",{"$f":"IFERROR(MATCH(H424,Brief!AA:AA,0),\"\")","v":477},"Integracja z Furgonetka",null,0,{"$f":"J424*$K$2+(V2*(J424*$K$2))","v":0},1,132,0,0,{"$f":"IFERROR(INDEX(Brief!J:J,G424),0)","v":0},null,0,199,0,0,0,0,0]
["x",null,null,{"$f":"IFERROR(INDEX('Podświetlanie modułów'!D:D,MATCH(H425,'Podświetlanie modułów'!B:B,0)),\"\")","v":""},"Integracja z DH","",{"$f":"IFERROR(MATCH(H425,Brief!AA:AA,0),\"\")","v":478},"Integracja z DHL",null,0,{"$f":"J425*$K$2+(V2*(J425*$K$2))","v":0},1,132,0,0,{"$f":"IFERROR(INDEX(Brief!J:J,G425),0)","v":0},null,0,199,0,0,0,0,0]
["x",null,null,{"$f":"IFERROR(INDEX('Podświetlanie modułów'!D:D,MATCH(H426,'Podświetlanie modułów'!B:B,0)),\"\")","v":""},"Integracja z UP","",{"$f":"IFERROR(MATCH(H426,Brief!AA:AA,0),\"\")","v":479},"Integracja z UPS",null,0,{"$f":"J426*$K$2+(V2*(J426*$K$2))","v":0},1,132,0,0,{"$f":"IFERROR(INDEX(Brief!J:J,G426),0)","v":0},null,0,99,0,0,0,0,0]
["x",null,null,{"$f":"IFERROR(INDEX('Podświetlanie modułów'!D:D,MATCH(H427,'Podświetlanie modułów'!B:B,0)),\"\")","v":""},"Integracja z Fe","",{"$f":"IFERROR(MATCH(H427,Brief!AA:AA,0),\"\")","v":480},"Integracja z FedEx",null,0,{"$f":"J427*$K$2+(V2*(J427*$K$2))","v":0},1,132,0,0,{"$f":"IFERROR(INDEX(Brief!J:J,G427),0)","v":0},null,0,99,0,0,0,0,0]
["x",null,null,{"$f":"IFERROR(INDEX('Podświetlanie modułów'!D:D,MATCH(H428,'Podświetlanie modułów'!B:B,0)),\"\")","v":""},"Integracja z Po","",{"$f":"IFERROR(MATCH(H428,Brief!AA:AA,0),\"\")","v":481},"Integracja z Poczta Polska",null,0,{"$f":"J428*$K$2+(V2*(J428*$K$2))","v":0},1,132,0,0,{"$f":"IFERROR(INDEX(Brief!J:J,G428),0)","v":0},null,0,199,0,0,0,0,0]
["x",null,null,{"$f":"IFERROR(INDEX('Podświetlanie modułów'!D:D,MATCH(H429,'Podświetlanie modułów'!B:B,0)),\"\")","v":""},"Integracja z Pa",{"$f":"IF($F$2=\"x\",R429,\"\")","v":""},{"$f":"IFERROR(MATCH(H429,Brief!AA:AA,0),\"\")","v":482},"Integracja z Paczka w Ruchu",null,0,{"$f":"J429*$K$2+(V2*(J429*$K$2))","v":0},1,132,0,0,{"$f":"IFERROR(INDEX(Brief!J:J,G429),0)","v":0},null,0,199,0,0,0,0,0]
["x",null,null,{"$f":"IFERROR(INDEX('Podświetlanie modułów'!D:D,MATCH(H430,'Podświetlanie modułów'!B:B,0)),\"\")","v":""},"Konfiguracja kl","",{"$f":"IFERROR(MATCH(H430,Brief!AA:AA,0),\"\")","v":483},"Konfiguracja klas wysyłkowych",null,0,{"$f":"J430*$K$2+(V2*(J430*$K$2))","v":0},1,132,0,0,{"$f":"IFERROR(INDEX(Brief!J:J,G430),0)","v":0},"x",0,199,0,0,0,0,0]
["x",null,null,{"$f":"IFERROR(INDEX('Podświetlanie modułów'!D:D,MATCH(H431,'Podświetlanie modułów'!B:B,0)),\"\")","v":""},"Konfiguracja za","",{"$f":"IFERROR(MATCH(H431,Brief!AA:AA,0),\"\")","v":484},"Konfiguracja zaawansowanych klas wysyłkowych (flexible shipping)",null,0,{"$f":"J431*$K$2+(V2*(J431*$K$2))","v":0},0,0,3,540,{"$f":"IFERROR(INDEX(Brief!J:J,G431),0)","v":0},null,0,199,0,0,0,0,0]
[null,null,null,{"$f":"IFERROR(INDEX('Podświetlanie modułów'!D:D,MATCH(H432,'Podświetlanie modułów'!B:B,0)),\"\")","v":""},"Dodatkowy moduł","",{"$f":"IFERROR(MATCH(H432,Brief!AA:AA,0),\"\")","v":485},{"$f":"\"Dodatkowy moduł \"&(COUNTIF($E$4:E431,\"Dodatkowy moduł\")+1)","v":"Dodatkowy moduł 108"},null,null,{"$f":"J432*$K$2+(V2*(J432*$K$2))","v":0},null,0,null,{"$f":"$O$2*N432+($X$2*(N432*$O$2))","v":0},{"$f":"IFERROR(INDEX(Brief!J:J,G432),0)","v":0},null,0,null,0,0,0,0,0]
[null,null,null,{"$f":"IFERROR(INDEX('Podświetlanie modułów'!D:D,MATCH(H433,'Podświetlanie modułów'!B:B,0)),\"\")","v":""},"Dodatkowy moduł","",{"$f":"IFERROR(MATCH(H433,Brief!AA:AA,0),\"\")","v":486},{"$f":"\"Dodatkowy moduł \"&(COUNTIF($E$4:E432,\"Dodatkowy moduł\")+1)","v":"Dodatkowy moduł 109"},null,null,{"$f":"J433*$K$2+(V2*(J433*$K$2))","v":0},null,0,null,0,{"$f":"IFERROR(INDEX(Brief!J:J,G433),0)","v":0},null,0,null,0,0,0,0,0]
[null,null,null,{"$f":"IFERROR(INDEX('Podświetlanie modułów'!D:D,MATCH(H434,'Podświetlanie modułów'!B:B,0)),\"\")","v":""},"Dodatkowy moduł","",{"$f":"IFERROR(MATCH(H434,Brief!AA:AA,0),\"\")","v":487},{"$f":"\"Dodatkowy moduł \"&(COUNTIF($E$4:E433,\"Dodatkowy moduł\")+1)","v":"Dodatkowy moduł 110"},null,null,{"$f":"J434*$K$2+(V2*(J434*$K$2))","v":0},null,0,null,0,{"$f":"IFERROR(INDEX(Brief!J:J,G434),0)","v":0},null,0,null,0,0,0,0,0]
[null,null,null,{"$f":"IFERROR(INDEX('Podświetlanie modułów'!D:D,MATCH(H435,'Podświetlanie modułów'!B:B,0)),\"\")","v":""},"Dodatkowy moduł","",{"$f":"IFERROR(MATCH(H435,Brief!AA:AA,0),\"\")","v":488},{"$f":"\"Dodatkowy moduł \"&(COUNTIF($E$4:E434,\"Dodatkowy moduł\")+1)","v":"Dodatkowy moduł 111"},null,null,{"$f":"J435*$K$2+(V2*(J435*$K$2))","v":0},null,0,null,0,{"$f":"IFERROR(INDEX(Brief!J:J,G435),0)","v":0},null,0,null,0,0,0,0,0]
[null,null,null,{"$f":"IFERROR(INDEX('Podświetlanie modułów'!D:D,MATCH(H436,'Podświetlanie modułów'!B:B,0)),\"\")","v":""},"Dodatkowy moduł","",{"$f":"IFERROR(MATCH(H436,Brief!AA:AA,0),\"\")","v":489},{"$f":"\"Dodatkowy moduł \"&(COUNTIF($E$4:E435,\"Dodatkowy moduł\")+1)","v":"Dodatkowy moduł 112"},null,null,{"$f":"J436*$K$2+(V2*(J436*$K$2))","v":0},null,0,null,0,{"$f":"IFERROR(INDEX(Brief!J:J,G436),0)","v":0},null,0,null,0,0,0,0,0]
[null,null,null,{"$f":"IFERROR(INDEX('Podświetlanie modułów'!D:D,MATCH(H437,'Podświetlanie modułów'!B:B,0)),\"\")","v":""},"Polityka prywat","",{"$f":"IFERROR(MATCH(H437,Brief!AA:AA,0),\"\")","v":""},"Polityka prywatności"]
["x",null,null,{"$f":"IFERROR(INDEX('Podświetlanie modułów'!D:D,MATCH(H438,'Podświetlanie modułów'!B:B,0)),\"\")","v":""},"Klauzule i zgod","",{"$f":"IFERROR(MATCH(H438,Brief!AA:AA,0),\"\")","v":491},"Klauzule i zgody prawne do zamówienia i rejestracji konta",null,0,{"$f":"J438*$K$2+(V2*(J438*$K$2))","v":0},1,132,0,0,{"$f":"IFERROR(INDEX(Brief!J:J,G438),0)","v":0},"x",{"$f":"ROUNDUP(P438*(M438+O438)*(1+$R$2),-1)","v":0},0,{"$f":"P438","v":0},{"$f":"S438*T438","v":0},{"$f":"P438*J438","v":0},0,{"$f":"P438*N438","v":0}]
[null,null,null,{"$f":"IFERROR(INDEX('Podświetlanie modułów'!D:D,MATCH(H439,'Podświetlanie modułów'!B:B,0)),\"\")","v":""},"Dodatkowy moduł","",{"$f":"IFERROR(MATCH(H439,Brief!AA:AA,0),\"\")","v":492},{"$f":"\"Dodatkowy moduł \"&(COUNTIF($E$4:E438,\"Dodatkowy moduł\")+1)","v":"Dodatkowy moduł 113"},null,null,{"$f":"J439*$K$2+(V2*(J439*$K$2))","v":0},null,0,null,0,{"$f":"IFERROR(INDEX(Brief!J:J,G439),0)","v":0},null,0,null,0,{"$f":"S439*T439","v":0},0,0,{"$f":"P439*N439","v":0}]
[null,null,null,{"$f":"IFERROR(INDEX('Podświetlanie modułów'!D:D,MATCH(H440,'Podświetlanie modułów'!B:B,0)),\"\")","v":""},"Dodatkowy moduł","",{"$f":"IFERROR(MATCH(H440,Brief!AA:AA,0),\"\")","v":493},{"$f":"\"Dodatkowy moduł \"&(COUNTIF($E$4:E439,\"Dodatkowy moduł\")+1)","v":"Dodatkowy moduł 114"},null,null,{"$f":"J440*$K$2+(V2*(J440*$K$2))","v":0},null,0,null,0,{"$f":"IFERROR(INDEX(Brief!J:J,G440),0)","v":0},null,0,null,0,0,0,0,0]
[null,null,null,{"$f":"IFERROR(INDEX('Podświetlanie modułów'!D:D,MATCH(H441,'Podświetlanie modułów'!B:B,0)),\"\")","v":""},"Dodatkowy moduł","",{"$f":"IFERROR(MATCH(H441,Brief!AA:AA,0),\"\")","v":494},{"$f":"\"Dodatkowy moduł \"&(COUNTIF($E$4:E440,\"Dodatkowy moduł\")+1)","v":"Dodatkowy moduł 115"},null,null,{"$f":"J441*$K$2+(V2*(J441*$K$2))","v":0},null,0,null,0,{"$f":"IFERROR(INDEX(Brief!J:J,G441),0)","v":0},null,0,null,0,0,0,0,0]
[null,null,null,{"$f":"IFERROR(INDEX('Podświetlanie modułów'!D:D,MATCH(H442,'Podświetlanie modułów'!B:B,0)),\"\")","v":""},"Dodatkowy moduł","",{"$f":"IFERROR(MATCH(H442,Brief!AA:AA,0),\"\")","v":495},{"$f":"\"Dodatkowy moduł \"&(COUNTIF($E$4:E441,\"Dodatkowy moduł\")+1)","v":"Dodatkowy moduł 116"},null,null,{"$f":"J442*$K$2+(V2*(J442*$K$2))","v":0},null,0,null,0,{"$f":"IFERROR(INDEX(Brief!J:J,G442),0)","v":0},null,0,null,0,0,0,0,0]
[null,null,null,{"$f":"IFERROR(INDEX('Podświetlanie modułów'!D:D,MATCH(H443,'Podświetlanie modułów'!B:B,0)),\"\")","v":""},"Dodatkowy moduł","",{"$f":"IFERROR(MATCH(H443,Brief!AA:AA,0),\"\")","v":496},{"$f":"\"Dodatkowy moduł \"&(COUNTIF($E$4:E442,\"Dodatkowy moduł\")+1)","v":"Dodatkowy moduł 117"},null,null,{"$f":"J443*$K$2+(V2*(J443*$K$2))","v":0},null,0,null,0,{"$f":"IFERROR(INDEX(Brief!J:J,G443),0)","v":0},null,0,null,0,0,0,0,0]
[null,null,null,{"$f":"IFERROR(INDEX('Podświetlanie modułów'!D:D,MATCH(H444,'Podświetlanie modułów'!B:B,0)),\"\")","v":""},"Magazyn i księg","",{"$f":"IFERROR(MATCH(H444,Brief!AA:AA,0),\"\")","v":""},"Magazyn i księgowość"]
["x",null,null,{"$f":"IFERROR(INDEX('Podświetlanie modułów'!D:D,MATCH(H445,'Podświetlanie modułów'!B:B,0)),\"\")","v":""},"Integracja z Su","",{"$f":"IFERROR(MATCH(H445,Brief!AA:AA,0),\"\")","v":498},"Integracja z SubiektGT",null,0,{"$f":"J445*$K$2+(V2*(J445*$K$2))","v":0},0,0,1,180,{"$f":"IFERROR(INDEX(Brief!J:J,G445),0)","v":0},null,0,790,{"$f":"P445","v":0},{"$f":"S445*T445","v":0},{"$f":"P445*J445","v":0},0,{"$f":"P445*N445","v":0},null,null,null,"https://integratory.pl/tag-produktu/woocommerce/"]
["x",null,null,{"$f":"IFERROR(INDEX('Podświetlanie modułów'!D:D,MATCH(H446,'Podświetlanie modułów'!B:B,0)),\"\")","v":""},"Integracja z Sa","",{"$f":"IFERROR(MATCH(H446,Brief!AA:AA,0),\"\")","v":499},"Integracja z Sage Symfonia",null,0,{"$f":"J446*$K$2+(V2*(J446*$K$2))","v":0},0,0,1,180,{"$f":"IFERROR(INDEX(Brief!J:J,G446),0)","v":0},null,0,860,{"$f":"P446","v":0},0,0,0,0,null,null,null,"https://integratory.pl/tag-produktu/woocommerce/"]
["x",null,null,{"$f":"IFERROR(INDEX('Podświetlanie modułów'!D:D,MATCH(H447,'Podświetlanie modułów'!B:B,0)),\"\")","v":""},"Integracja z iF","",{"$f":"IFERROR(MATCH(H447,Brief!AA:AA,0),\"\")","v":500},"Integracja z iFirma",null,0,{"$f":"J447*$K$2+(V2*(J447*$K$2))","v":0},0,0,5,900,{"$f":"IFERROR(INDEX(Brief!J:J,G447),0)","v":0},null,0,199,0,0,0,{"$f":"P447*L447","v":0},0]
["x",null,null,{"$f":"IFERROR(INDEX('Podświetlanie modułów'!D:D,MATCH(H448,'Podświetlanie modułów'!B:B,0)),\"\")","v":""},"Integracja z wF","",{"$f":"IFERROR(MATCH(H448,Brief!AA:AA,0),\"\")","v":501},"Integracja z wFirma",null,0,{"$f":"J448*$K$2+(V2*(J448*$K$2))","v":0},0,0,5,900,{"$f":"IFERROR(INDEX(Brief!J:J,G448),0)","v":0},null,0,199,0,0,0,0,0]
["x",null,null,{"$f":"IFERROR(INDEX('Podświetlanie modułów'!D:D,MATCH(H449,'Podświetlanie modułów'!B:B,0)),\"\")","v":""},"Integracja z fa","",{"$f":"IFERROR(MATCH(H449,Brief!AA:AA,0),\"\")","v":502},"Integracja z fakturownia",null,0,{"$f":"J449*$K$2+(V2*(J449*$K$2))","v":0},0,0,5,900,{"$f":"IFERROR(INDEX(Brief!J:J,G449),0)","v":0},null,0,199,0,0,0,0,0]
["x",null,null,{"$f":"IFERROR(INDEX('Podświetlanie modułów'!D:D,MATCH(H450,'Podświetlanie modułów'!B:B,0)),\"\")","v":""},"Integracja z in","",{"$f":"IFERROR(MATCH(H450,Brief!AA:AA,0),\"\")","v":503},"Integracja z inFakt",null,0,{"$f":"J450*$K$2+(V2*(J450*$K$2))","v":0},0,0,5,900,{"$f":"IFERROR(INDEX(Brief!J:J,G450),0)","v":0},null,{"$f":"ROUNDUP(P450*(K450+O450)*(1+$R$2),-1)","v":0},199,0,0,0,0,0]
["x",null,null,{"$f":"IFERROR(INDEX('Podświetlanie modułów'!D:D,MATCH(H451,'Podświetlanie modułów'!B:B,0)),\"\")","v":""},"Faktury WooComm","",{"$f":"IFERROR(MATCH(H451,Brief!AA:AA,0),\"\")","v":504},"Faktury WooCommerce",null,0,{"$f":"J451*$K$2+(V2*(J451*$K$2))","v":0},0,0,1,180,{"$f":"IFERROR(INDEX(Brief!J:J,G451),0)","v":0},null,0,199,0,0,0,0,0]
["x",null,null,{"$f":"IFERROR(INDEX('Podświetlanie modułów'!D:D,MATCH(H452,'Podświetlanie modułów'!B:B,0)),\"\")","v":""},"Integracja z As","",{"$f":"IFERROR(MATCH(H452,Brief!AA:AA,0),\"\")","v":505},"Integracja z Asseco WAPRO WF-MAG",null,0,{"$f":"J452*$K$2+(V2*(J452*$K$2))","v":0},0,0,5,{"$f":"$O$2*N452+($X$2*(N452*$O$2))","v":900},{"$f":"IFERROR(INDEX(Brief!J:J,G452),0)","v":0},null,{"$f":"ROUNDUP(P452*(K452+O452)*(1+$R$2),-1)","v":0},860,0,0,0,0,0]
[null,null,null,{"$f":"IFERROR(INDEX('Podświetlanie modułów'!D:D,MATCH(H453,'Podświetlanie modułów'!B:B,0)),\"\")","v":""},"Dodatkowy moduł","",{"$f":"IFERROR(MATCH(H453,Brief!AA:AA,0),\"\")","v":506},{"$f":"\"Dodatkowy moduł \"&(COUNTIF($E$4:E452,\"Dodatkowy moduł\")+1)","v":"Dodatkowy moduł 118"},null,null,{"$f":"J453*$K$2+(V2*(J453*$K$2))","v":0},null,0,null,0,{"$f":"IFERROR(INDEX(Brief!J:J,G453),0)","v":0},null,0,null,0,0,0,0,0]
[null,null,null,{"$f":"IFERROR(INDEX('Podświetlanie modułów'!D:D,MATCH(H454,'Podświetlanie modułów'!B:B,0)),\"\")","v":""},"Dodatkowy moduł","",{"$f":"IFERROR(MATCH(H454,Brief!AA:AA,0),\"\")","v":507},{"$f":"\"Dodatkowy moduł \"&(COUNTIF($E$4:E453,\"Dodatkowy moduł\")+1)","v":"Dodatkowy moduł 119"},null,null,{"$f":"J454*$K$2+(V2*(J454*$K$2))","v":0},null,0,null,0,{"$f":"IFERROR(INDEX(Brief!J:J,G454),0)","v":0},null,0,null,0,{"$f":"S454*T454","v":0},0,0,{"$f":"P454*N454","v":0}]
[null,null,null,{"$f":"IFERROR(INDEX('Podświetlanie modułów'!D:D,MATCH(H455,'Podświetlanie modułów'!B:B,0)),\"\")","v":""},"Dodatkowy moduł","",{"$f":"IFERROR(MATCH(H455,Brief!AA:AA,0),\"\")","v":508},{"$f":"\"Dodatkowy moduł \"&(COUNTIF($E$4:E454,\"Dodatkowy moduł\")+1)","v":"Dodatkowy moduł 120"},null,null,{"$f":"J455*$K$2+(V2*(J455*$K$2))","v":0},null,0,null,0,{"$f":"IFERROR(INDEX(Brief!J:J,G455),0)","v":0},null,0,null,0,0,0,0,0]
[null,null,null,{"$f":"IFERROR(INDEX('Podświetlanie modułów'!D:D,MATCH(H456,'Podświetlanie modułów'!B:B,0)),\"\")","v":""},"Dodatkowy moduł","",{"$f":"IFERROR(MATCH(H456,Brief!AA:AA,0),\"\")","v":509},{"$f":"\"Dodatkowy moduł \"&(COUNTIF($E$4:E455,\"Dodatkowy moduł\")+1)","v":"Dodatkowy moduł 121"},null,null,{"$f":"J456*$K$2+(V2*(J456*$K$2))","v":0},null,0,null,0,{"$f":"IFERROR(INDEX(Brief!J:J,G456),0)","v":0},null,0,null,0,0,0,0,0]
[null,null,null,{"$f":"IFERROR(INDEX('Podświetlanie modułów'!D:D,MATCH(H457,'Podświetlanie modułów'!B:B,0)),\"\")","v":""},"Dodatkowy moduł","",{"$f":"IFERROR(MATCH(H457,Brief!AA:AA,0),\"\")","v":510},{"$f":"\"Dodatkowy moduł \"&(COUNTIF($E$4:E456,\"Dodatkowy moduł\")+1)","v":"Dodatkowy moduł 122"},null,null,{"$f":"J457*$K$2+(V2*(J457*$K$2))","v":0},null,0,null,0,{"$f":"IFERROR(INDEX(Brief!J:J,G457),0)","v":0},null,0,null,0,0,0,0,0]
[null,null,null,{"$f":"IFERROR(INDEX('Podświetlanie modułów'!D:D,MATCH(H458,'Podświetlanie modułów'!B:B,0)),\"\")","v":""},"Języki","",{"$f":"IFERROR(MATCH(H458,Brief!AA:AA,0),\"\")","v":""},"Języki"]
["x",null,null,{"$f":"IFERROR(INDEX('Podświetlanie modułów'!D:D,MATCH(H459,'Podświetlanie modułów'!B:B,0)),\"\")","v":""},"Dodatkowe wersj","",{"$f":"IFERROR(MATCH(H459,Brief!AA:AA,0),\"\")","v":512},"Dodatkowe wersje językowe",null,null,null,null,null,0.4,{"$f":"0.4*R460","v":0},{"$f":"IF(Brief!M512=6,0,Brief!M512)","v":0},null,0,null,null,null,null,{"$f":"(O459*0.6)/100","v":0},{"$f":"(O459*0.4)/130","v":0}]
["Podsumowanie",null,null,null,null,null,null,null,"Finanse",null,null,null,null,"Suma (bez jezyków)",null,null,null,{"$f":"SUM(R4:R457)","v":0}]
[null,null,null,null,null,null,null,null,null,null,null,null,null,"Koszt licencji",null,null,null,{"$f":"SUM(U166:U457)","v":0}]
[null,null,null,null,null,null,null,null,null,null,null,null,null,"Koszt całkowity",null,null,null,{"$f":"SUM(R4:R457)+R459","v":0}]
[null,null,null,null,null,null,null,null,"Dni",null,null,null,null,"Projekt",null,null,null,{"$f":"V463/8","v":0},null,null,null,{"$f":"SUM(V4:V457)","v":0}]
[null,null,null,null,null,null,null,null,null,null,null,null,null,null,null,null,null,null,null,null,null,null,{"$f":"SUM(W4:W457)","v":0}]
[null,null,null,null,null,null,null,null,null,null,null,null,null,"Content Manager + Programowanie",null,null,null,{"$f":"(X465/8)+(W464/8)","v":0},null,null,null,null,null,{"$f":"SUM(X4:X457)","v":0}]
[]
[null,null,null,{"$f":"IFERROR(INDEX('Podświetlanie modułów'!D:D,MATCH(H467,'Podświetlanie modułów'!B:B,0)),\"\")","v":""}]
[null,null,null,{"$f":"IFERROR(INDEX('Podświetlanie modułów'!D:D,MATCH(H468,'Podświetlanie modułów'!B:B,0)),\"\")","v":""}]
[null,null,null,{"$f":"IFERROR(INDEX('Podświetlanie modułów'!D:D,MATCH(H469,'Podświetlanie modułów'!B:B,0)),\"\")","v":""}]

{"sheet":"Podświetlanie modułów","index":7,"n_rows":2338,"n_cols":10,"rows_kept":2338,"cut":false,"hidden":true,"merged":[[2,9,4,9]]}
[]
[null,"Komórka do poświetlenie w zakładce kalkulacja","Powiązana podstrona z briefu","Wartość"]
[null,"Linia czasu (historia)","Historia",{"$f":"IFERROR(INDEX(Brief!$M$15:$M$49,MATCH(C3,Brief!$G$15:$G$44,0))*1,\"\")","v":0},null,{"$f":"B3","v":"Linia czasu (historia)"},{"$f":"SUMIF(B:B,F3,D:D)","v":0},{"$f":"IF(G3>0,1,0)","v":0},null,"Uwaga: nazwa komórki w zakładce kalkuklacja i nazwa powiązanej podstrony z briefu musi być dokładnie taka sama jak opowiadające komórki w zakładkach kalkulacja i brief -> sugeruję opcję kopiuj + wklej lub podlinkowanie odpowiednich komórek za pośrednictwem = i odpowiedniej komórki niż ręczne wpisywanie"]
[null,{"$f":"Kalkulacja!H9","v":"Fotomontaż ze zdjęć 1 szt"},{"$f":"Brief!G35","v":"Galeria"},{"$f":"IFERROR(INDEX(Brief!$M$15:$M$49,MATCH(C4,Brief!$G$15:$G$44,0))*1,\"\")","v":0},null,{"$f":"B4","v":"Fotomontaż ze zdjęć 1 szt"},{"$f":"SUMIF(B:B,F4,D:D)","v":0},{"$f":"IF(G4>0,1,0)","v":0}]
[null,"Lista pracowników + strona o pracowniku","Zespół",{"$f":"IFERROR(INDEX(Brief!$M$15:$M$49,MATCH(C5,Brief!$G$15:$G$44,0))*1,\"\")","v":0},null,"Lista pracowników + strona o pracowniku",0,0]
[null,"Wpisy","Aktualności",{"$f":"IFERROR(INDEX(Brief!$M$15:$M$49,MATCH(C6,Brief!$G$15:$G$44,0))*1,\"\")","v":0},null,"Wpisy",0,0]
[null,"Wpisy","Blog",{"$f":"IFERROR(INDEX(Brief!$M$15:$M$49,MATCH(C7,Brief!$G$15:$G$44,0))*1,\"\")","v":0},null,"Wpisy",0,0]
[null,{"$f":"Kalkulacja!H217","v":"Oferty pracy + formularz aplikacji"},{"$f":"Brief!G43","v":"Kariera / Oferty pracy"},{"$f":"IFERROR(INDEX(Brief!$M$15:$M$49,MATCH(C8,Brief!$G$15:$G$44,0))*1,\"\")","v":0},null,"Oferty pracy + formularz aplikacji",0,0]
[null,"Dedykowane wpisy np. poradnik, przepisy kulinarne, case study, realizacje, projekty, portfolio itp.","Porady",{"$f":"IFERROR(INDEX(Brief!$M$15:$M$49,MATCH(C9,Brief!$G$15:$G$44,0))*1,\"\")","v":0},null,"Dedykowane wpisy np. poradnik, przepisy kulinarne, case study, realizacje, projekty, portfolio itp.",0,0]
[null,"Dedykowane wpisy np. poradnik, przepisy kulinarne, case study, realizacje, projekty, portfolio itp.","Przepisy",{"$f":"IFERROR(INDEX(Brief!$M$15:$M$49,MATCH(C10,Brief!$G$15:$G$44,0))*1,\"\")","v":0},null,"Dedykowane wpisy np. poradnik, przepisy kulinarne, case study, realizacje, projekty, portfolio itp.",0,0]
[null,"Wpisy","Akademia",{"$f":"IFERROR(INDEX(Brief!$M$15:$M$49,MATCH(C11,Brief!$G$15:$G$44,0))*1,\"\")","v":0},null,"Wpisy",0,0]
[null,"Wpisy","Publikacje",{"$f":"IFERROR(INDEX(Brief!$M$15:$M$49,MATCH(C12,Brief!$G$15:$G$44,0))*1,\"\")","v":0},null,"Wpisy",0,0]
[null,"Katalog produktów (bez opcji sklepu) producenci, serie, linie, typy, grupy, kategorie itp.","Produkty",{"$f":"IFERROR(INDEX(Brief!$M$15:$M$49,MATCH(C13,Brief!$G$15:$G$44,0))*1,\"\")","v":0},null,"Katalog produktów (bez opcji sklepu) producenci, serie, linie, typy, grupy, kategorie itp.",0,0]
[null,"Cenniki zaawansowane + popup z opisem","Cennik",{"$f":"IFERROR(INDEX(Brief!$M$15:$M$49,MATCH(C14,Brief!$G$15:$G$44,0))*1,\"\")","v":0},null,"Cenniki zaawansowane + popup z opisem",0,0]
[null,"Mapa lokalizacji sklepów / oddziałów / punktów","Gdzie kupię",{"$f":"IFERROR(INDEX(Brief!$M$15:$M$49,MATCH(C15,Brief!$G$15:$G$44,0))*1,\"\")","v":0},null,"Mapa lokalizacji sklepów / oddziałów / punktów",0,0]
[null,"Galeria zdjęć (podstawowa w WordPress)","Galeria",{"$f":"IFERROR(INDEX(Brief!$M$15:$M$49,MATCH(C16,Brief!$G$15:$G$44,0))*1,\"\")","v":0},null,"Galeria zdjęć (podstawowa w WordPress)",0,0]
[null,"Dedykowane wpisy np. poradnik, przepisy kulinarne, case study, realizacje, projekty, portfolio itp.","Galeria",{"$f":"IFERROR(INDEX(Brief!$M$15:$M$49,MATCH(C17,Brief!$G$15:$G$44,0))*1,\"\")","v":0},null,"Dedykowane wpisy np. poradnik, przepisy kulinarne, case study, realizacje, projekty, portfolio itp.",0,0]
[null,"Katalog produktów (bez opcji sklepu) producenci, serie, linie, typy, grupy, kategorie itp.","Realizacje",{"$f":"IFERROR(INDEX(Brief!$M$15:$M$49,MATCH(C18,Brief!$G$15:$G$44,0))*1,\"\")","v":0},null,"Katalog produktów (bez opcji sklepu) producenci, serie, linie, typy, grupy, kategorie itp.",0,0]
[null,"Moduł opinii","Opinie / Referencje",{"$f":"IFERROR(INDEX(Brief!$M$15:$M$49,MATCH(C19,Brief!$G$15:$G$44,0))*1,\"\")","v":0},null,"Moduł opinii",0,0]
[null,"Załączniki i pliki do pobrania (osobny moduł)","Do pobrania",{"$f":"IFERROR(INDEX(Brief!$M$15:$M$49,MATCH(C20,Brief!$G$15:$G$44,0))*1,\"\")","v":0},null,"Załączniki i pliki do pobrania (osobny moduł)",0,0]
[null,"Formularz kontaktowy (5 pól)","Kontakt",{"$f":"IFERROR(INDEX(Brief!$M$15:$M$49,MATCH(C21,Brief!$G$15:$G$44,0))*1,\"\")","v":0},null,"Formularz kontaktowy (5 pól)",0,0]
[null,"Mapa prosta Google Mapy","Kontakt",{"$f":"IFERROR(INDEX(Brief!$M$15:$M$49,MATCH(C22,Brief!$G$15:$G$44,0))*1,\"\")","v":0},null,"Mapa prosta Google Mapy",0,0]
[null,null,null,{"$f":"IFERROR(INDEX(Brief!$M$15:$M$49,MATCH(C23,Brief!$G$15:$G$44,0))*1,\"\")","v":""},null,0,0,0]
[null,null,null,{"$f":"IFERROR(INDEX(Brief!$M$15:$M$49,MATCH(C24,Brief!$G$15:$G$44,0))*1,\"\")","v":""},null,0,0,0]
[null,null,null,{"$f":"IFERROR(INDEX(Brief!$M$15:$M$49,MATCH(C25,Brief!$G$15:$G$44,0))*1,\"\")","v":""},null,0,0,0]
[null,null,null,{"$f":"IFERROR(INDEX(Brief!$M$15:$M$49,MATCH(C26,Brief!$G$15:$G$44,0))*1,\"\")","v":""},null,0,0,0]
[null,null,null,{"$f":"IFERROR(INDEX(Brief!$M$15:$M$49,MATCH(C27,Brief!$G$15:$G$44,0))*1,\"\")","v":""},null,0,0,0]
[null,null,null,{"$f":"IFERROR(INDEX(Brief!$M$15:$M$49,MATCH(C28,Brief!$G$15:$G$44,0))*1,\"\")","v":""},null,0,0,0]
[null,null,null,{"$f":"IFERROR(INDEX(Brief!$M$15:$M$49,MATCH(C29,Brief!$G$15:$G$44,0))*1,\"\")","v":""},null,0,0,0]
[null,null,null,{"$f":"IFERROR(INDEX(Brief!$M$15:$M$49,MATCH(C30,Brief!$G$15:$G$44,0))*1,\"\")","v":""},null,0,0,0]
[null,null,null,{"$f":"IFERROR(INDEX(Brief!$M$15:$M$49,MATCH(C31,Brief!$G$15:$G$44,0))*1,\"\")","v":""},null,0,0,0]
[null,null,null,{"$f":"IFERROR(INDEX(Brief!$M$15:$M$49,MATCH(C32,Brief!$G$15:$G$44,0))*1,\"\")","v":""},null,0,0,0]
[null,null,null,{"$f":"IFERROR(INDEX(Brief!$M$15:$M$49,MATCH(C33,Brief!$G$15:$G$44,0))*1,\"\")","v":""},null,0,0,0]
[null,null,null,{"$f":"IFERROR(INDEX(Brief!$M$15:$M$49,MATCH(C34,Brief!$G$15:$G$44,0))*1,\"\")","v":""},null,0,0,0]
[null,null,null,{"$f":"IFERROR(INDEX(Brief!$M$15:$M$49,MATCH(C35,Brief!$G$15:$G$44,0))*1,\"\")","v":""},null,0,0,0]
[null,null,null,{"$f":"IFERROR(INDEX(Brief!$M$15:$M$49,MATCH(C36,Brief!$G$15:$G$44,0))*1,\"\")","v":""},null,0,0,0]
[null,null,null,{"$f":"IFERROR(INDEX(Brief!$M$15:$M$49,MATCH(C37,Brief!$G$15:$G$44,0))*1,\"\")","v":""},null,0,0,0]
[null,null,null,{"$f":"IFERROR(INDEX(Brief!$M$15:$M$49,MATCH(C38,Brief!$G$15:$G$44,0))*1,\"\")","v":""},null,0,0,0]
[null,null,null,{"$f":"IFERROR(INDEX(Brief!$M$15:$M$49,MATCH(C39,Brief!$G$15:$G$44,0))*1,\"\")","v":""},null,0,0,0]
[null,null,null,{"$f":"IFERROR(INDEX(Brief!$M$15:$M$49,MATCH(C40,Brief!$G$15:$G$44,0))*1,\"\")","v":""},null,0,0,0]
[null,null,null,{"$f":"IFERROR(INDEX(Brief!$M$15:$M$49,MATCH(C41,Brief!$G$15:$G$44,0))*1,\"\")","v":""},null,0,0,0]
[null,null,null,{"$f":"IFERROR(INDEX(Brief!$M$15:$M$49,MATCH(C42,Brief!$G$15:$G$44,0))*1,\"\")","v":""},null,0,0,0]
[null,null,null,{"$f":"IFERROR(INDEX(Brief!$M$15:$M$49,MATCH(C43,Brief!$G$15:$G$44,0))*1,\"\")","v":""},null,0,0,0]
[null,null,null,{"$f":"IFERROR(INDEX(Brief!$M$15:$M$49,MATCH(C44,Brief!$G$15:$G$44,0))*1,\"\")","v":""},null,0,0,0]
[null,null,null,{"$f":"IFERROR(INDEX(Brief!$M$15:$M$49,MATCH(C45,Brief!$G$15:$G$44,0))*1,\"\")","v":""},null,0,0,0]
[null,null,null,{"$f":"IFERROR(INDEX(Brief!$M$15:$M$49,MATCH(C46,Brief!$G$15:$G$44,0))*1,\"\")","v":""},null,0,0,0]
[null,null,null,{"$f":"IFERROR(INDEX(Brief!$M$15:$M$49,MATCH(C47,Brief!$G$15:$G$44,0))*1,\"\")","v":""},null,0,0,0]
[null,null,null,{"$f":"IFERROR(INDEX(Brief!$M$15:$M$49,MATCH(C48,Brief!$G$15:$G$44,0))*1,\"\")","v":""},null,0,0,0]
[null,null,null,{"$f":"IFERROR(INDEX(Brief!$M$15:$M$49,MATCH(C49,Brief!$G$15:$G$44,0))*1,\"\")","v":""},null,0,0,0]
[null,null,null,{"$f":"IFERROR(INDEX(Brief!$M$15:$M$49,MATCH(C50,Brief!$G$15:$G$44,0))*1,\"\")","v":""},null,0,0,0]
[null,null,null,{"$f":"IFERROR(INDEX(Brief!$M$15:$M$49,MATCH(C51,Brief!$G$15:$G$44,0))*1,\"\")","v":""},null,0,0,0]
[null,null,null,{"$f":"IFERROR(INDEX(Brief!$M$15:$M$49,MATCH(C52,Brief!$G$15:$G$44,0))*1,\"\")","v":""},null,0,0,0]
[null,null,null,{"$f":"IFERROR(INDEX(Brief!$M$15:$M$49,MATCH(C53,Brief!$G$15:$G$44,0))*1,\"\")","v":""},null,0,0,0]
[null,null,null,{"$f":"IFERROR(INDEX(Brief!$M$15:$M$49,MATCH(C54,Brief!$G$15:$G$44,0))*1,\"\")","v":""},null,0,0,0]
[null,null,null,{"$f":"IFERROR(INDEX(Brief!$M$15:$M$49,MATCH(C55,Brief!$G$15:$G$44,0))*1,\"\")","v":""},null,0,0,0]
[null,null,null,{"$f":"IFERROR(INDEX(Brief!$M$15:$M$49,MATCH(C56,Brief!$G$15:$G$44,0))*1,\"\")","v":""},null,0,0,0]
[null,null,null,{"$f":"IFERROR(INDEX(Brief!$M$15:$M$49,MATCH(C57,Brief!$G$15:$G$44,0))*1,\"\")","v":""},null,0,0,0]
[null,null,null,{"$f":"IFERROR(INDEX(Brief!$M$15:$M$49,MATCH(C58,Brief!$G$15:$G$44,0))*1,\"\")","v":""},null,0,0,0]
[null,null,null,{"$f":"IFERROR(INDEX(Brief!$M$15:$M$49,MATCH(C59,Brief!$G$15:$G$44,0))*1,\"\")","v":""},null,0,0,0]
[null,null,null,{"$f":"IFERROR(INDEX(Brief!$M$15:$M$49,MATCH(C60,Brief!$G$15:$G$44,0))*1,\"\")","v":""},null,0,0,0]
[null,null,null,{"$f":"IFERROR(INDEX(Brief!$M$15:$M$49,MATCH(C61,Brief!$G$15:$G$44,0))*1,\"\")","v":""},null,0,0,0]
[null,null,null,{"$f":"IFERROR(INDEX(Brief!$M$15:$M$49,MATCH(C62,Brief!$G$15:$G$44,0))*1,\"\")","v":""},null,0,0,0]
[null,null,null,{"$f":"IFERROR(INDEX(Brief!$M$15:$M$49,MATCH(C63,Brief!$G$15:$G$44,0))*1,\"\")","v":""},null,0,0,0]
[null,null,null,{"$f":"IFERROR(INDEX(Brief!$M$15:$M$49,MATCH(C64,Brief!$G$15:$G$44,0))*1,\"\")","v":""},null,0,0,0]
[null,null,null,{"$f":"IFERROR(INDEX(Brief!$M$15:$M$49,MATCH(C65,Brief!$G$15:$G$44,0))*1,\"\")","v":""},null,0,0,0]
[null,null,null,{"$f":"IFERROR(INDEX(Brief!$M$15:$M$49,MATCH(C66,Brief!$G$15:$G$44,0))*1,\"\")","v":""},null,0,0,0]
[null,null,null,{"$f":"IFERROR(INDEX(Brief!$M$15:$M$49,MATCH(C67,Brief!$G$15:$G$44,0))*1,\"\")","v":""},null,0,0,0]
[null,null,null,{"$f":"IFERROR(INDEX(Brief!$M$15:$M$49,MATCH(C68,Brief!$G$15:$G$44,0))*1,\"\")","v":""},null,{"$f":"B68","v":0},{"$f":"SUMIF(B:B,F68,D:D)","v":0},{"$f":"IF(G68>0,1,0)","v":0}]
[null,null,null,{"$f":"IFERROR(INDEX(Brief!$M$15:$M$49,MATCH(C69,Brief!$G$15:$G$44,0))*1,\"\")","v":""},null,0,0,0]
[null,null,null,{"$f":"IFERROR(INDEX(Brief!$M$15:$M$49,MATCH(C70,Brief!$G$15:$G$44,0))*1,\"\")","v":""},null,0,0,0]
[null,null,null,{"$f":"IFERROR(INDEX(Brief!$M$15:$M$49,MATCH(C71,Brief!$G$15:$G$44,0))*1,\"\")","v":""},null,0,0,0]
[null,null,null,{"$f":"IFERROR(INDEX(Brief!$M$15:$M$49,MATCH(C72,Brief!$G$15:$G$44,0))*1,\"\")","v":""},null,0,0,0]
[null,null,null,{"$f":"IFERROR(INDEX(Brief!$M$15:$M$49,MATCH(C73,Brief!$G$15:$G$44,0))*1,\"\")","v":""},null,0,0,0]
[null,null,null,{"$f":"IFERROR(INDEX(Brief!$M$15:$M$49,MATCH(C74,Brief!$G$15:$G$44,0))*1,\"\")","v":""},null,0,0,0]
[null,null,null,{"$f":"IFERROR(INDEX(Brief!$M$15:$M$49,MATCH(C75,Brief!$G$15:$G$44,0))*1,\"\")","v":""},null,0,0,0]
[null,null,null,{"$f":"IFERROR(INDEX(Brief!$M$15:$M$49,MATCH(C76,Brief!$G$15:$G$44,0))*1,\"\")","v":""},null,0,0,0]
[null,null,null,{"$f":"IFERROR(INDEX(Brief!$M$15:$M$49,MATCH(C77,Brief!$G$15:$G$44,0))*1,\"\")","v":""},null,0,0,0]
[null,null,null,{"$f":"IFERROR(INDEX(Brief!$M$15:$M$49,MATCH(C78,Brief!$G$15:$G$44,0))*1,\"\")","v":""},null,0,0,0]
[null,null,null,{"$f":"IFERROR(INDEX(Brief!$M$15:$M$49,MATCH(C79,Brief!$G$15:$G$44,0))*1,\"\")","v":""},null,0,0,0]
[null,null,null,{"$f":"IFERROR(INDEX(Brief!$M$15:$M$49,MATCH(C80,Brief!$G$15:$G$44,0))*1,\"\")","v":""},null,0,0,0]
[null,null,null,{"$f":"IFERROR(INDEX(Brief!$M$15:$M$49,MATCH(C81,Brief!$G$15:$G$44,0))*1,\"\")","v":""},null,0,0,0]
[null,null,null,{"$f":"IFERROR(INDEX(Brief!$M$15:$M$49,MATCH(C82,Brief!$G$15:$G$44,0))*1,\"\")","v":""},null,0,0,0]
[null,null,null,{"$f":"IFERROR(INDEX(Brief!$M$15:$M$49,MATCH(C83,Brief!$G$15:$G$44,0))*1,\"\")","v":""},null,0,0,0]
[null,null,null,{"$f":"IFERROR(INDEX(Brief!$M$15:$M$49,MATCH(C84,Brief!$G$15:$G$44,0))*1,\"\")","v":""},null,0,0,0]
[null,null,null,{"$f":"IFERROR(INDEX(Brief!$M$15:$M$49,MATCH(C85,Brief!$G$15:$G$44,0))*1,\"\")","v":""},null,0,0,0]
[null,null,null,{"$f":"IFERROR(INDEX(Brief!$M$15:$M$49,MATCH(C86,Brief!$G$15:$G$44,0))*1,\"\")","v":""},null,0,0,0]
[null,null,null,{"$f":"IFERROR(INDEX(Brief!$M$15:$M$49,MATCH(C87,Brief!$G$15:$G$44,0))*1,\"\")","v":""},null,0,0,0]
[null,null,null,{"$f":"IFERROR(INDEX(Brief!$M$15:$M$49,MATCH(C88,Brief!$G$15:$G$44,0))*1,\"\")","v":""},null,0,0,0]
[null,null,null,{"$f":"IFERROR(INDEX(Brief!$M$15:$M$49,MATCH(C89,Brief!$G$15:$G$44,0))*1,\"\")","v":""},null,0,0,0]
[null,null,null,{"$f":"IFERROR(INDEX(Brief!$M$15:$M$49,MATCH(C90,Brief!$G$15:$G$44,0))*1,\"\")","v":""},null,0,0,0]
[null,null,null,{"$f":"IFERROR(INDEX(Brief!$M$15:$M$49,MATCH(C91,Brief!$G$15:$G$44,0))*1,\"\")","v":""},null,0,0,0]
[null,null,null,{"$f":"IFERROR(INDEX(Brief!$M$15:$M$49,MATCH(C92,Brief!$G$15:$G$44,0))*1,\"\")","v":""},null,0,0,0]
[null,null,null,{"$f":"IFERROR(INDEX(Brief!$M$15:$M$49,MATCH(C93,Brief!$G$15:$G$44,0))*1,\"\")","v":""},null,0,0,0]
[null,null,null,{"$f":"IFERROR(INDEX(Brief!$M$15:$M$49,MATCH(C94,Brief!$G$15:$G$44,0))*1,\"\")","v":""},null,0,0,0]
[null,null,null,{"$f":"IFERROR(INDEX(Brief!$M$15:$M$49,MATCH(C95,Brief!$G$15:$G$44,0))*1,\"\")","v":""},null,0,0,0]
[null,null,null,{"$f":"IFERROR(INDEX(Brief!$M$15:$M$49,MATCH(C96,Brief!$G$15:$G$44,0))*1,\"\")","v":""},null,0,0,0]
[null,null,null,{"$f":"IFERROR(INDEX(Brief!$M$15:$M$49,MATCH(C97,Brief!$G$15:$G$44,0))*1,\"\")","v":""},null,0,0,0]
[null,null,null,{"$f":"IFERROR(INDEX(Brief!$M$15:$M$49,MATCH(C98,Brief!$G$15:$G$44,0))*1,\"\")","v":""},null,0,0,0]
[null,null,null,{"$f":"IFERROR(INDEX(Brief!$M$15:$M$49,MATCH(C99,Brief!$G$15:$G$44,0))*1,\"\")","v":""},null,0,0,0]
[null,null,null,{"$f":"IFERROR(INDEX(Brief!$M$15:$M$49,MATCH(C100,Brief!$G$15:$G$44,0))*1,\"\")","v":""},null,0,0,0]
[null,null,null,{"$f":"IFERROR(INDEX(Brief!$M$15:$M$49,MATCH(C101,Brief!$G$15:$G$44,0))*1,\"\")","v":""},null,0,0,0]
[null,null,null,{"$f":"IFERROR(INDEX(Brief!$M$15:$M$49,MATCH(C102,Brief!$G$15:$G$44,0))*1,\"\")","v":""},null,0,0,0]
[null,null,null,{"$f":"IFERROR(INDEX(Brief!$M$15:$M$49,MATCH(C103,Brief!$G$15:$G$44,0))*1,\"\")","v":""},null,0,0,0]
[null,null,null,{"$f":"IFERROR(INDEX(Brief!$M$15:$M$49,MATCH(C104,Brief!$G$15:$G$44,0))*1,\"\")","v":""},null,0,0,0]
[null,null,null,{"$f":"IFERROR(INDEX(Brief!$M$15:$M$49,MATCH(C105,Brief!$G$15:$G$44,0))*1,\"\")","v":""},null,0,0,0]
[null,null,null,{"$f":"IFERROR(INDEX(Brief!$M$15:$M$49,MATCH(C106,Brief!$G$15:$G$44,0))*1,\"\")","v":""},null,0,0,0]
[null,null,null,{"$f":"IFERROR(INDEX(Brief!$M$15:$M$49,MATCH(C107,Brief!$G$15:$G$44,0))*1,\"\")","v":""},null,0,0,0]
[null,null,null,{"$f":"IFERROR(INDEX(Brief!$M$15:$M$49,MATCH(C108,Brief!$G$15:$G$44,0))*1,\"\")","v":""},null,0,0,0]
[null,null,null,{"$f":"IFERROR(INDEX(Brief!$M$15:$M$49,MATCH(C109,Brief!$G$15:$G$44,0))*1,\"\")","v":""},null,0,0,0]
[null,null,null,{"$f":"IFERROR(INDEX(Brief!$M$15:$M$49,MATCH(C110,Brief!$G$15:$G$44,0))*1,\"\")","v":""},null,0,0,0]
[null,null,null,{"$f":"IFERROR(INDEX(Brief!$M$15:$M$49,MATCH(C111,Brief!$G$15:$G$44,0))*1,\"\")","v":""},null,0,0,0]
[null,null,null,{"$f":"IFERROR(INDEX(Brief!$M$15:$M$49,MATCH(C112,Brief!$G$15:$G$44,0))*1,\"\")","v":""},null,0,0,0]
[null,null,null,{"$f":"IFERROR(INDEX(Brief!$M$15:$M$49,MATCH(C113,Brief!$G$15:$G$44,0))*1,\"\")","v":""},null,0,0,0]
[null,null,null,{"$f":"IFERROR(INDEX(Brief!$M$15:$M$49,MATCH(C114,Brief!$G$15:$G$44,0))*1,\"\")","v":""},null,0,0,0]
[null,null,null,{"$f":"IFERROR(INDEX(Brief!$M$15:$M$49,MATCH(C115,Brief!$G$15:$G$44,0))*1,\"\")","v":""},null,0,0,0]
[null,null,null,{"$f":"IFERROR(INDEX(Brief!$M$15:$M$49,MATCH(C116,Brief!$G$15:$G$44,0))*1,\"\")","v":""},null,0,0,0]
[null,null,null,{"$f":"IFERROR(INDEX(Brief!$M$15:$M$49,MATCH(C117,Brief!$G$15:$G$44,0))*1,\"\")","v":""},null,0,0,0]
[null,null,null,{"$f":"IFERROR(INDEX(Brief!$M$15:$M$49,MATCH(C118,Brief!$G$15:$G$44,0))*1,\"\")","v":""},null,0,0,0]
[null,null,null,{"$f":"IFERROR(INDEX(Brief!$M$15:$M$49,MATCH(C119,Brief!$G$15:$G$44,0))*1,\"\")","v":""},null,0,0,0]
[null,null,null,{"$f":"IFERROR(INDEX(Brief!$M$15:$M$49,MATCH(C120,Brief!$G$15:$G$44,0))*1,\"\")","v":""},null,0,0,0]
[null,null,null,{"$f":"IFERROR(INDEX(Brief!$M$15:$M$49,MATCH(C121,Brief!$G$15:$G$44,0))*1,\"\")","v":""},null,0,0,0]
[null,null,null,{"$f":"IFERROR(INDEX(Brief!$M$15:$M$49,MATCH(C122,Brief!$G$15:$G$44,0))*1,\"\")","v":""},null,0,0,0]
[null,null,null,{"$f":"IFERROR(INDEX(Brief!$M$15:$M$49,MATCH(C123,Brief!$G$15:$G$44,0))*1,\"\")","v":""},null,0,0,0]
[null,null,null,{"$f":"IFERROR(INDEX(Brief!$M$15:$M$49,MATCH(C124,Brief!$G$15:$G$44,0))*1,\"\")","v":""},null,0,0,0]
[null,null,null,{"$f":"IFERROR(INDEX(Brief!$M$15:$M$49,MATCH(C125,Brief!$G$15:$G$44,0))*1,\"\")","v":""},null,0,0,0]
[null,null,null,{"$f":"IFERROR(INDEX(Brief!$M$15:$M$49,MATCH(C126,Brief!$G$15:$G$44,0))*1,\"\")","v":""},null,0,0,0]
[null,null,null,{"$f":"IFERROR(INDEX(Brief!$M$15:$M$49,MATCH(C127,Brief!$G$15:$G$44,0))*1,\"\")","v":""},null,0,0,0]
[null,null,null,{"$f":"IFERROR(INDEX(Brief!$M$15:$M$49,MATCH(C128,Brief!$G$15:$G$44,0))*1,\"\")","v":""},null,0,0,0]
[null,null,null,{"$f":"IFERROR(INDEX(Brief!$M$15:$M$49,MATCH(C129,Brief!$G$15:$G$44,0))*1,\"\")","v":""},null,0,0,0]
[null,null,null,{"$f":"IFERROR(INDEX(Brief!$M$15:$M$49,MATCH(C130,Brief!$G$15:$G$44,0))*1,\"\")","v":""},null,0,0,0]
[null,null,null,{"$f":"IFERROR(INDEX(Brief!$M$15:$M$49,MATCH(C131,Brief!$G$15:$G$44,0))*1,\"\")","v":""},null,0,0,0]
[null,null,null,{"$f":"IFERROR(INDEX(Brief!$M$15:$M$49,MATCH(C132,Brief!$G$15:$G$44,0))*1,\"\")","v":""},null,{"$f":"B132","v":0},{"$f":"SUMIF(B:B,F132,D:D)","v":0},{"$f":"IF(G132>0,1,0)","v":0}]
[null,null,null,{"$f":"IFERROR(INDEX(Brief!$M$15:$M$49,MATCH(C133,Brief!$G$15:$G$44,0))*1,\"\")","v":""},null,0,0,0]
[null,null,null,{"$f":"IFERROR(INDEX(Brief!$M$15:$M$49,MATCH(C134,Brief!$G$15:$G$44,0))*1,\"\")","v":""},null,0,0,0]
[null,null,null,{"$f":"IFERROR(INDEX(Brief!$M$15:$M$49,MATCH(C135,Brief!$G$15:$G$44,0))*1,\"\")","v":""},null,0,0,0]
[null,null,null,{"$f":"IFERROR(INDEX(Brief!$M$15:$M$49,MATCH(C136,Brief!$G$15:$G$44,0))*1,\"\")","v":""},null,0,0,0]
[null,null,null,{"$f":"IFERROR(INDEX(Brief!$M$15:$M$49,MATCH(C137,Brief!$G$15:$G$44,0))*1,\"\")","v":""},null,0,0,0]
[null,null,null,{"$f":"IFERROR(INDEX(Brief!$M$15:$M$49,MATCH(C138,Brief!$G$15:$G$44,0))*1,\"\")","v":""},null,0,0,0]
[null,null,null,{"$f":"IFERROR(INDEX(Brief!$M$15:$M$49,MATCH(C139,Brief!$G$15:$G$44,0))*1,\"\")","v":""},null,0,0,0]
[null,null,null,{"$f":"IFERROR(INDEX(Brief!$M$15:$M$49,MATCH(C140,Brief!$G$15:$G$44,0))*1,\"\")","v":""},null,0,0,0]
[null,null,null,{"$f":"IFERROR(INDEX(Brief!$M$15:$M$49,MATCH(C141,Brief!$G$15:$G$44,0))*1,\"\")","v":""},null,0,0,0]
[null,null,null,{"$f":"IFERROR(INDEX(Brief!$M$15:$M$49,MATCH(C142,Brief!$G$15:$G$44,0))*1,\"\")","v":""},null,0,0,0]
[null,null,null,{"$f":"IFERROR(INDEX(Brief!$M$15:$M$49,MATCH(C143,Brief!$G$15:$G$44,0))*1,\"\")","v":""},null,0,0,0]
[null,null,null,{"$f":"IFERROR(INDEX(Brief!$M$15:$M$49,MATCH(C144,Brief!$G$15:$G$44,0))*1,\"\")","v":""},null,0,0,0]
[null,null,null,{"$f":"IFERROR(INDEX(Brief!$M$15:$M$49,MATCH(C145,Brief!$G$15:$G$44,0))*1,\"\")","v":""},null,0,0,0]
[null,null,null,{"$f":"IFERROR(INDEX(Brief!$M$15:$M$49,MATCH(C146,Brief!$G$15:$G$44,0))*1,\"\")","v":""},null,0,0,0]
[null,null,null,{"$f":"IFERROR(INDEX(Brief!$M$15:$M$49,MATCH(C147,Brief!$G$15:$G$44,0))*1,\"\")","v":""},null,0,0,0]
[null,null,null,{"$f":"IFERROR(INDEX(Brief!$M$15:$M$49,MATCH(C148,Brief!$G$15:$G$44,0))*1,\"\")","v":""},null,0,0,0]
[null,null,null,{"$f":"IFERROR(INDEX(Brief!$M$15:$M$49,MATCH(C149,Brief!$G$15:$G$44,0))*1,\"\")","v":""},null,0,0,0]
[null,null,null,{"$f":"IFERROR(INDEX(Brief!$M$15:$M$49,MATCH(C150,Brief!$G$15:$G$44,0))*1,\"\")","v":""},null,0,0,0]
[null,null,null,{"$f":"IFERROR(INDEX(Brief!$M$15:$M$49,MATCH(C151,Brief!$G$15:$G$44,0))*1,\"\")","v":""},null,0,0,0]
[null,null,null,{"$f":"IFERROR(INDEX(Brief!$M$15:$M$49,MATCH(C152,Brief!$G$15:$G$44,0))*1,\"\")","v":""},null,0,0,0]
[null,null,null,{"$f":"IFERROR(INDEX(Brief!$M$15:$M$49,MATCH(C153,Brief!$G$15:$G$44,0))*1,\"\")","v":""},null,0,0,0]
[null,null,null,{"$f":"IFERROR(INDEX(Brief!$M$15:$M$49,MATCH(C154,Brief!$G$15:$G$44,0))*1,\"\")","v":""},null,0,0,0]
[null,null,null,{"$f":"IFERROR(INDEX(Brief!$M$15:$M$49,MATCH(C155,Brief!$G$15:$G$44,0))*1,\"\")","v":""},null,0,0,0]
[null,null,null,{"$f":"IFERROR(INDEX(Brief!$M$15:$M$49,MATCH(C156,Brief!$G$15:$G$44,0))*1,\"\")","v":""},null,0,0,0]
[null,null,null,{"$f":"IFERROR(INDEX(Brief!$M$15:$M$49,MATCH(C157,Brief!$G$15:$G$44,0))*1,\"\")","v":""},null,0,0,0]
[null,null,null,{"$f":"IFERROR(INDEX(Brief!$M$15:$M$49,MATCH(C158,Brief!$G$15:$G$44,0))*1,\"\")","v":""},null,0,0,0]
[null,null,null,{"$f":"IFERROR(INDEX(Brief!$M$15:$M$49,MATCH(C159,Brief!$G$15:$G$44,0))*1,\"\")","v":""},null,0,0,0]
[null,null,null,{"$f":"IFERROR(INDEX(Brief!$M$15:$M$49,MATCH(C160,Brief!$G$15:$G$44,0))*1,\"\")","v":""},null,0,0,0]
[null,null,null,{"$f":"IFERROR(INDEX(Brief!$M$15:$M$49,MATCH(C161,Brief!$G$15:$G$44,0))*1,\"\")","v":""},null,0,0,0]
[null,null,null,{"$f":"IFERROR(INDEX(Brief!$M$15:$M$49,MATCH(C162,Brief!$G$15:$G$44,0))*1,\"\")","v":""},null,0,0,0]
[null,null,null,{"$f":"IFERROR(INDEX(Brief!$M$15:$M$49,MATCH(C163,Brief!$G$15:$G$44,0))*1,\"\")","v":""},null,0,0,0]
[null,null,null,{"$f":"IFERROR(INDEX(Brief!$M$15:$M$49,MATCH(C164,Brief!$G$15:$G$44,0))*1,\"\")","v":""},null,0,0,0]
[null,null,null,{"$f":"IFERROR(INDEX(Brief!$M$15:$M$49,MATCH(C165,Brief!$G$15:$G$44,0))*1,\"\")","v":""},null,0,0,0]
[null,null,null,{"$f":"IFERROR(INDEX(Brief!$M$15:$M$49,MATCH(C166,Brief!$G$15:$G$44,0))*1,\"\")","v":""},null,0,0,0]
[null,null,null,{"$f":"IFERROR(INDEX(Brief!$M$15:$M$49,MATCH(C167,Brief!$G$15:$G$44,0))*1,\"\")","v":""},null,0,0,0]
[null,null,null,{"$f":"IFERROR(INDEX(Brief!$M$15:$M$49,MATCH(C168,Brief!$G$15:$G$44,0))*1,\"\")","v":""},null,0,0,0]
[null,null,null,{"$f":"IFERROR(INDEX(Brief!$M$15:$M$49,MATCH(C169,Brief!$G$15:$G$44,0))*1,\"\")","v":""},null,0,0,0]
[null,null,null,{"$f":"IFERROR(INDEX(Brief!$M$15:$M$49,MATCH(C170,Brief!$G$15:$G$44,0))*1,\"\")","v":""},null,0,0,0]
[null,null,null,{"$f":"IFERROR(INDEX(Brief!$M$15:$M$49,MATCH(C171,Brief!$G$15:$G$44,0))*1,\"\")","v":""},null,0,0,0]
[null,null,null,{"$f":"IFERROR(INDEX(Brief!$M$15:$M$49,MATCH(C172,Brief!$G$15:$G$44,0))*1,\"\")","v":""},null,0,0,0]
[null,null,null,{"$f":"IFERROR(INDEX(Brief!$M$15:$M$49,MATCH(C173,Brief!$G$15:$G$44,0))*1,\"\")","v":""},null,0,0,0]
[null,null,null,{"$f":"IFERROR(INDEX(Brief!$M$15:$M$49,MATCH(C174,Brief!$G$15:$G$44,0))*1,\"\")","v":""},null,0,0,0]
[null,null,null,{"$f":"IFERROR(INDEX(Brief!$M$15:$M$49,MATCH(C175,Brief!$G$15:$G$44,0))*1,\"\")","v":""},null,0,0,0]
[null,null,null,{"$f":"IFERROR(INDEX(Brief!$M$15:$M$49,MATCH(C176,Brief!$G$15:$G$44,0))*1,\"\")","v":""},null,0,0,0]
[null,null,null,{"$f":"IFERROR(INDEX(Brief!$M$15:$M$49,MATCH(C177,Brief!$G$15:$G$44,0))*1,\"\")","v":""},null,0,0,0]
[null,null,null,{"$f":"IFERROR(INDEX(Brief!$M$15:$M$49,MATCH(C178,Brief!$G$15:$G$44,0))*1,\"\")","v":""},null,0,0,0]
[null,null,null,{"$f":"IFERROR(INDEX(Brief!$M$15:$M$49,MATCH(C179,Brief!$G$15:$G$44,0))*1,\"\")","v":""},null,0,0,0]
[null,null,null,{"$f":"IFERROR(INDEX(Brief!$M$15:$M$49,MATCH(C180,Brief!$G$15:$G$44,0))*1,\"\")","v":""},null,0,0,0]
[null,null,null,{"$f":"IFERROR(INDEX(Brief!$M$15:$M$49,MATCH(C181,Brief!$G$15:$G$44,0))*1,\"\")","v":""},null,0,0,0]
[null,null,null,{"$f":"IFERROR(INDEX(Brief!$M$15:$M$49,MATCH(C182,Brief!$G$15:$G$44,0))*1,\"\")","v":""},null,0,0,0]
[null,null,null,{"$f":"IFERROR(INDEX(Brief!$M$15:$M$49,MATCH(C183,Brief!$G$15:$G$44,0))*1,\"\")","v":""},null,0,0,0]
[null,null,null,{"$f":"IFERROR(INDEX(Brief!$M$15:$M$49,MATCH(C184,Brief!$G$15:$G$44,0))*1,\"\")","v":""},null,0,0,0]
[null,null,null,{"$f":"IFERROR(INDEX(Brief!$M$15:$M$49,MATCH(C185,Brief!$G$15:$G$44,0))*1,\"\")","v":""},null,0,0,0]
[null,null,null,{"$f":"IFERROR(INDEX(Brief!$M$15:$M$49,MATCH(C186,Brief!$G$15:$G$44,0))*1,\"\")","v":""},null,0,0,0]
[null,null,null,{"$f":"IFERROR(INDEX(Brief!$M$15:$M$49,MATCH(C187,Brief!$G$15:$G$44,0))*1,\"\")","v":""},null,0,0,0]
[null,null,null,{"$f":"IFERROR(INDEX(Brief!$M$15:$M$49,MATCH(C188,Brief!$G$15:$G$44,0))*1,\"\")","v":""},null,0,0,0]
[null,null,null,{"$f":"IFERROR(INDEX(Brief!$M$15:$M$49,MATCH(C189,Brief!$G$15:$G$44,0))*1,\"\")","v":""},null,0,0,0]
[null,null,null,{"$f":"IFERROR(INDEX(Brief!$M$15:$M$49,MATCH(C190,Brief!$G$15:$G$44,0))*1,\"\")","v":""},null,0,0,0]
[null,null,null,{"$f":"IFERROR(INDEX(Brief!$M$15:$M$49,MATCH(C191,Brief!$G$15:$G$44,0))*1,\"\")","v":""},null,0,0,0]
[null,null,null,{"$f":"IFERROR(INDEX(Brief!$M$15:$M$49,MATCH(C192,Brief!$G$15:$G$44,0))*1,\"\")","v":""},null,0,0,0]
[null,null,null,{"$f":"IFERROR(INDEX(Brief!$M$15:$M$49,MATCH(C193,Brief!$G$15:$G$44,0))*1,\"\")","v":""},null,0,0,0]
[null,null,null,{"$f":"IFERROR(INDEX(Brief!$M$15:$M$49,MATCH(C194,Brief!$G$15:$G$44,0))*1,\"\")","v":""},null,0,0,0]
[null,null,null,{"$f":"IFERROR(INDEX(Brief!$M$15:$M$49,MATCH(C195,Brief!$G$15:$G$44,0))*1,\"\")","v":""},null,0,0,0]
[null,null,null,{"$f":"IFERROR(INDEX(Brief!$M$15:$M$49,MATCH(C196,Brief!$G$15:$G$44,0))*1,\"\")","v":""},null,{"$f":"B196","v":0},{"$f":"SUMIF(B:B,F196,D:D)","v":0},{"$f":"IF(G196>0,1,0)","v":0}]
[null,null,null,{"$f":"IFERROR(INDEX(Brief!$M$15:$M$49,MATCH(C197,Brief!$G$15:$G$44,0))*1,\"\")","v":""},null,0,0,0]
[null,null,null,{"$f":"IFERROR(INDEX(Brief!$M$15:$M$49,MATCH(C198,Brief!$G$15:$G$44,0))*1,\"\")","v":""},null,0,0,0]
[null,null,null,{"$f":"IFERROR(INDEX(Brief!$M$15:$M$49,MATCH(C199,Brief!$G$15:$G$44,0))*1,\"\")","v":""},null,0,0,0]
[null,null,null,{"$f":"IFERROR(INDEX(Brief!$M$15:$M$49,MATCH(C200,Brief!$G$15:$G$44,0))*1,\"\")","v":""},null,0,0,0]
[null,null,null,{"$f":"IFERROR(INDEX(Brief!$M$15:$M$49,MATCH(C201,Brief!$G$15:$G$44,0))*1,\"\")","v":""},null,0,0,0]
[null,null,null,{"$f":"IFERROR(INDEX(Brief!$M$15:$M$49,MATCH(C202,Brief!$G$15:$G$44,0))*1,\"\")","v":""},null,0,0,0]
[null,null,null,{"$f":"IFERROR(INDEX(Brief!$M$15:$M$49,MATCH(C203,Brief!$G$15:$G$44,0))*1,\"\")","v":""},null,0,0,0]
[null,null,null,{"$f":"IFERROR(INDEX(Brief!$M$15:$M$49,MATCH(C204,Brief!$G$15:$G$44,0))*1,\"\")","v":""},null,0,0,0]
[null,null,null,{"$f":"IFERROR(INDEX(Brief!$M$15:$M$49,MATCH(C205,Brief!$G$15:$G$44,0))*1,\"\")","v":""},null,0,0,0]
[null,null,null,{"$f":"IFERROR(INDEX(Brief!$M$15:$M$49,MATCH(C206,Brief!$G$15:$G$44,0))*1,\"\")","v":""},null,0,0,0]
[null,null,null,{"$f":"IFERROR(INDEX(Brief!$M$15:$M$49,MATCH(C207,Brief!$G$15:$G$44,0))*1,\"\")","v":""},null,0,0,0]
[null,null,null,{"$f":"IFERROR(INDEX(Brief!$M$15:$M$49,MATCH(C208,Brief!$G$15:$G$44,0))*1,\"\")","v":""},null,0,0,0]
[null,null,null,{"$f":"IFERROR(INDEX(Brief!$M$15:$M$49,MATCH(C209,Brief!$G$15:$G$44,0))*1,\"\")","v":""},null,0,0,0]
[null,null,null,{"$f":"IFERROR(INDEX(Brief!$M$15:$M$49,MATCH(C210,Brief!$G$15:$G$44,0))*1,\"\")","v":""},null,0,0,0]
[null,null,null,{"$f":"IFERROR(INDEX(Brief!$M$15:$M$49,MATCH(C211,Brief!$G$15:$G$44,0))*1,\"\")","v":""},null,0,0,0]
[null,null,null,{"$f":"IFERROR(INDEX(Brief!$M$15:$M$49,MATCH(C212,Brief!$G$15:$G$44,0))*1,\"\")","v":""},null,0,0,0]
[null,null,null,{"$f":"IFERROR(INDEX(Brief!$M$15:$M$49,MATCH(C213,Brief!$G$15:$G$44,0))*1,\"\")","v":""},null,0,0,0]
[null,null,null,{"$f":"IFERROR(INDEX(Brief!$M$15:$M$49,MATCH(C214,Brief!$G$15:$G$44,0))*1,\"\")","v":""},null,0,0,0]
[null,null,null,{"$f":"IFERROR(INDEX(Brief!$M$15:$M$49,MATCH(C215,Brief!$G$15:$G$44,0))*1,\"\")","v":""},null,0,0,0]
[null,null,null,{"$f":"IFERROR(INDEX(Brief!$M$15:$M$49,MATCH(C216,Brief!$G$15:$G$44,0))*1,\"\")","v":""},null,0,0,0]
[null,null,null,{"$f":"IFERROR(INDEX(Brief!$M$15:$M$49,MATCH(C217,Brief!$G$15:$G$44,0))*1,\"\")","v":""},null,0,0,0]
[null,null,null,{"$f":"IFERROR(INDEX(Brief!$M$15:$M$49,MATCH(C218,Brief!$G$15:$G$44,0))*1,\"\")","v":""},null,0,0,0]
[null,null,null,{"$f":"IFERROR(INDEX(Brief!$M$15:$M$49,MATCH(C219,Brief!$G$15:$G$44,0))*1,\"\")","v":""},null,0,0,0]
[null,null,null,{"$f":"IFERROR(INDEX(Brief!$M$15:$M$49,MATCH(C220,Brief!$G$15:$G$44,0))*1,\"\")","v":""},null,0,0,0]
[null,null,null,{"$f":"IFERROR(INDEX(Brief!$M$15:$M$49,MATCH(C221,Brief!$G$15:$G$44,0))*1,\"\")","v":""},null,0,0,0]
[null,null,null,{"$f":"IFERROR(INDEX(Brief!$M$15:$M$49,MATCH(C222,Brief!$G$15:$G$44,0))*1,\"\")","v":""},null,0,0,0]
[null,null,null,{"$f":"IFERROR(INDEX(Brief!$M$15:$M$49,MATCH(C223,Brief!$G$15:$G$44,0))*1,\"\")","v":""},null,0,0,0]
[null,null,null,{"$f":"IFERROR(INDEX(Brief!$M$15:$M$49,MATCH(C224,Brief!$G$15:$G$44,0))*1,\"\")","v":""},null,0,0,0]
[null,null,null,{"$f":"IFERROR(INDEX(Brief!$M$15:$M$49,MATCH(C225,Brief!$G$15:$G$44,0))*1,\"\")","v":""},null,0,0,0]
[null,null,null,{"$f":"IFERROR(INDEX(Brief!$M$15:$M$49,MATCH(C226,Brief!$G$15:$G$44,0))*1,\"\")","v":""},null,0,0,0]
[null,null,null,{"$f":"IFERROR(INDEX(Brief!$M$15:$M$49,MATCH(C227,Brief!$G$15:$G$44,0))*1,\"\")","v":""},null,0,0,0]
[null,null,null,{"$f":"IFERROR(INDEX(Brief!$M$15:$M$49,MATCH(C228,Brief!$G$15:$G$44,0))*1,\"\")","v":""},null,0,0,0]
[null,null,null,{"$f":"IFERROR(INDEX(Brief!$M$15:$M$49,MATCH(C229,Brief!$G$15:$G$44,0))*1,\"\")","v":""},null,0,0,0]
[null,null,null,{"$f":"IFERROR(INDEX(Brief!$M$15:$M$49,MATCH(C230,Brief!$G$15:$G$44,0))*1,\"\")","v":""},null,0,0,0]
[null,null,null,{"$f":"IFERROR(INDEX(Brief!$M$15:$M$49,MATCH(C231,Brief!$G$15:$G$44,0))*1,\"\")","v":""},null,0,0,0]
[null,null,null,{"$f":"IFERROR(INDEX(Brief!$M$15:$M$49,MATCH(C232,Brief!$G$15:$G$44,0))*1,\"\")","v":""},null,0,0,0]
[null,null,null,{"$f":"IFERROR(INDEX(Brief!$M$15:$M$49,MATCH(C233,Brief!$G$15:$G$44,0))*1,\"\")","v":""},null,0,0,0]
[null,null,null,{"$f":"IFERROR(INDEX(Brief!$M$15:$M$49,MATCH(C234,Brief!$G$15:$G$44,0))*1,\"\")","v":""},null,0,0,0]
[null,null,null,{"$f":"IFERROR(INDEX(Brief!$M$15:$M$49,MATCH(C235,Brief!$G$15:$G$44,0))*1,\"\")","v":""},null,0,0,0]
[null,null,null,{"$f":"IFERROR(INDEX(Brief!$M$15:$M$49,MATCH(C236,Brief!$G$15:$G$44,0))*1,\"\")","v":""},null,0,0,0]
[null,null,null,{"$f":"IFERROR(INDEX(Brief!$M$15:$M$49,MATCH(C237,Brief!$G$15:$G$44,0))*1,\"\")","v":""},null,0,0,0]
[null,null,null,{"$f":"IFERROR(INDEX(Brief!$M$15:$M$49,MATCH(C238,Brief!$G$15:$G$44,0))*1,\"\")","v":""},null,0,0,0]
[null,null,null,{"$f":"IFERROR(INDEX(Brief!$M$15:$M$49,MATCH(C239,Brief!$G$15:$G$44,0))*1,\"\")","v":""},null,0,0,0]
[null,null,null,{"$f":"IFERROR(INDEX(Brief!$M$15:$M$49,MATCH(C240,Brief!$G$15:$G$44,0))*1,\"\")","v":""},null,0,0,0]
[null,null,null,{"$f":"IFERROR(INDEX(Brief!$M$15:$M$49,MATCH(C241,Brief!$G$15:$G$44,0))*1,\"\")","v":""},null,0,0,0]
[null,null,null,{"$f":"IFERROR(INDEX(Brief!$M$15:$M$49,MATCH(C242,Brief!$G$15:$G$44,0))*1,\"\")","v":""},null,0,0,0]
[null,null,null,{"$f":"IFERROR(INDEX(Brief!$M$15:$M$49,MATCH(C243,Brief!$G$15:$G$44,0))*1,\"\")","v":""},null,0,0,0]
[null,null,null,{"$f":"IFERROR(INDEX(Brief!$M$15:$M$49,MATCH(C244,Brief!$G$15:$G$44,0))*1,\"\")","v":""},null,0,0,0]
[null,null,null,{"$f":"IFERROR(INDEX(Brief!$M$15:$M$49,MATCH(C245,Brief!$G$15:$G$44,0))*1,\"\")","v":""},null,0,0,0]
[null,null,null,{"$f":"IFERROR(INDEX(Brief!$M$15:$M$49,MATCH(C246,Brief!$G$15:$G$44,0))*1,\"\")","v":""},null,0,0,0]
[null,null,null,{"$f":"IFERROR(INDEX(Brief!$M$15:$M$49,MATCH(C247,Brief!$G$15:$G$44,0))*1,\"\")","v":""},null,0,0,0]
[null,null,null,{"$f":"IFERROR(INDEX(Brief!$M$15:$M$49,MATCH(C248,Brief!$G$15:$G$44,0))*1,\"\")","v":""},null,0,0,0]
[null,null,null,{"$f":"IFERROR(INDEX(Brief!$M$15:$M$49,MATCH(C249,Brief!$G$15:$G$44,0))*1,\"\")","v":""},null,0,0,0]
[null,null,null,{"$f":"IFERROR(INDEX(Brief!$M$15:$M$49,MATCH(C250,Brief!$G$15:$G$44,0))*1,\"\")","v":""},null,0,0,0]
[null,null,null,{"$f":"IFERROR(INDEX(Brief!$M$15:$M$49,MATCH(C251,Brief!$G$15:$G$44,0))*1,\"\")","v":""},null,0,0,0]
[null,null,null,{"$f":"IFERROR(INDEX(Brief!$M$15:$M$49,MATCH(C252,Brief!$G$15:$G$44,0))*1,\"\")","v":""},null,0,0,0]
[null,null,null,{"$f":"IFERROR(INDEX(Brief!$M$15:$M$49,MATCH(C253,Brief!$G$15:$G$44,0))*1,\"\")","v":""},null,0,0,0]
[null,null,null,{"$f":"IFERROR(INDEX(Brief!$M$15:$M$49,MATCH(C254,Brief!$G$15:$G$44,0))*1,\"\")","v":""},null,0,0,0]
[null,null,null,{"$f":"IFERROR(INDEX(Brief!$M$15:$M$49,MATCH(C255,Brief!$G$15:$G$44,0))*1,\"\")","v":""},null,0,0,0]
[null,null,null,{"$f":"IFERROR(INDEX(Brief!$M$15:$M$49,MATCH(C256,Brief!$G$15:$G$44,0))*1,\"\")","v":""},null,0,0,0]
[null,null,null,{"$f":"IFERROR(INDEX(Brief!$M$15:$M$49,MATCH(C257,Brief!$G$15:$G$44,0))*1,\"\")","v":""},null,0,0,0]
[null,null,null,{"$f":"IFERROR(INDEX(Brief!$M$15:$M$49,MATCH(C258,Brief!$G$15:$G$44,0))*1,\"\")","v":""},null,0,0,0]
[null,null,null,{"$f":"IFERROR(INDEX(Brief!$M$15:$M$49,MATCH(C259,Brief!$G$15:$G$44,0))*1,\"\")","v":""},null,0,0,0]
[null,null,null,{"$f":"IFERROR(INDEX(Brief!$M$15:$M$49,MATCH(C260,Brief!$G$15:$G$44,0))*1,\"\")","v":""},null,{"$f":"B260","v":0},{"$f":"SUMIF(B:B,F260,D:D)","v":0},{"$f":"IF(G260>0,1,0)","v":0}]
[null,null,null,{"$f":"IFERROR(INDEX(Brief!$M$15:$M$49,MATCH(C261,Brief!$G$15:$G$44,0))*1,\"\")","v":""},null,0,0,0]
[null,null,null,{"$f":"IFERROR(INDEX(Brief!$M$15:$M$49,MATCH(C262,Brief!$G$15:$G$44,0))*1,\"\")","v":""},null,0,0,0]
[null,null,null,{"$f":"IFERROR(INDEX(Brief!$M$15:$M$49,MATCH(C263,Brief!$G$15:$G$44,0))*1,\"\")","v":""},null,0,0,0]
[null,null,null,{"$f":"IFERROR(INDEX(Brief!$M$15:$M$49,MATCH(C264,Brief!$G$15:$G$44,0))*1,\"\")","v":""},null,0,0,0]
[null,null,null,{"$f":"IFERROR(INDEX(Brief!$M$15:$M$49,MATCH(C265,Brief!$G$15:$G$44,0))*1,\"\")","v":""},null,0,0,0]
[null,null,null,{"$f":"IFERROR(INDEX(Brief!$M$15:$M$49,MATCH(C266,Brief!$G$15:$G$44,0))*1,\"\")","v":""},null,0,0,0]
[null,null,null,{"$f":"IFERROR(INDEX(Brief!$M$15:$M$49,MATCH(C267,Brief!$G$15:$G$44,0))*1,\"\")","v":""},null,0,0,0]
[null,null,null,{"$f":"IFERROR(INDEX(Brief!$M$15:$M$49,MATCH(C268,Brief!$G$15:$G$44,0))*1,\"\")","v":""},null,0,0,0]
[null,null,null,{"$f":"IFERROR(INDEX(Brief!$M$15:$M$49,MATCH(C269,Brief!$G$15:$G$44,0))*1,\"\")","v":""},null,0,0,0]
[null,null,null,{"$f":"IFERROR(INDEX(Brief!$M$15:$M$49,MATCH(C270,Brief!$G$15:$G$44,0))*1,\"\")","v":""},null,0,0,0]
[null,null,null,{"$f":"IFERROR(INDEX(Brief!$M$15:$M$49,MATCH(C271,Brief!$G$15:$G$44,0))*1,\"\")","v":""},null,0,0,0]
[null,null,null,{"$f":"IFERROR(INDEX(Brief!$M$15:$M$49,MATCH(C272,Brief!$G$15:$G$44,0))*1,\"\")","v":""},null,0,0,0]
[null,null,null,{"$f":"IFERROR(INDEX(Brief!$M$15:$M$49,MATCH(C273,Brief!$G$15:$G$44,0))*1,\"\")","v":""},null,0,0,0]
[null,null,null,{"$f":"IFERROR(INDEX(Brief!$M$15:$M$49,MATCH(C274,Brief!$G$15:$G$44,0))*1,\"\")","v":""},null,0,0,0]
[null,null,null,{"$f":"IFERROR(INDEX(Brief!$M$15:$M$49,MATCH(C275,Brief!$G$15:$G$44,0))*1,\"\")","v":""},null,0,0,0]
[null,null,null,{"$f":"IFERROR(INDEX(Brief!$M$15:$M$49,MATCH(C276,Brief!$G$15:$G$44,0))*1,\"\")","v":""},null,0,0,0]
[null,null,null,{"$f":"IFERROR(INDEX(Brief!$M$15:$M$49,MATCH(C277,Brief!$G$15:$G$44,0))*1,\"\")","v":""},null,0,0,0]
[null,null,null,{"$f":"IFERROR(INDEX(Brief!$M$15:$M$49,MATCH(C278,Brief!$G$15:$G$44,0))*1,\"\")","v":""},null,0,0,0]
[null,null,null,{"$f":"IFERROR(INDEX(Brief!$M$15:$M$49,MATCH(C279,Brief!$G$15:$G$44,0))*1,\"\")","v":""},null,0,0,0]
[null,null,null,{"$f":"IFERROR(INDEX(Brief!$M$15:$M$49,MATCH(C280,Brief!$G$15:$G$44,0))*1,\"\")","v":""},null,0,0,0]
[null,null,null,{"$f":"IFERROR(INDEX(Brief!$M$15:$M$49,MATCH(C281,Brief!$G$15:$G$44,0))*1,\"\")","v":""},null,0,0,0]
[null,null,null,{"$f":"IFERROR(INDEX(Brief!$M$15:$M$49,MATCH(C282,Brief!$G$15:$G$44,0))*1,\"\")","v":""},null,0,0,0]
[null,null,null,{"$f":"IFERROR(INDEX(Brief!$M$15:$M$49,MATCH(C283,Brief!$G$15:$G$44,0))*1,\"\")","v":""},null,0,0,0]
[null,null,null,{"$f":"IFERROR(INDEX(Brief!$M$15:$M$49,MATCH(C284,Brief!$G$15:$G$44,0))*1,\"\")","v":""},null,0,0,0]
[null,null,null,{"$f":"IFERROR(INDEX(Brief!$M$15:$M$49,MATCH(C285,Brief!$G$15:$G$44,0))*1,\"\")","v":""},null,0,0,0]
[null,null,null,{"$f":"IFERROR(INDEX(Brief!$M$15:$M$49,MATCH(C286,Brief!$G$15:$G$44,0))*1,\"\")","v":""},null,0,0,0]
[null,null,null,{"$f":"IFERROR(INDEX(Brief!$M$15:$M$49,MATCH(C287,Brief!$G$15:$G$44,0))*1,\"\")","v":""},null,0,0,0]
[null,null,null,{"$f":"IFERROR(INDEX(Brief!$M$15:$M$49,MATCH(C288,Brief!$G$15:$G$44,0))*1,\"\")","v":""},null,0,0,0]
[null,null,null,{"$f":"IFERROR(INDEX(Brief!$M$15:$M$49,MATCH(C289,Brief!$G$15:$G$44,0))*1,\"\")","v":""},null,0,0,0]
[null,null,null,{"$f":"IFERROR(INDEX(Brief!$M$15:$M$49,MATCH(C290,Brief!$G$15:$G$44,0))*1,\"\")","v":""},null,0,0,0]
[null,null,null,{"$f":"IFERROR(INDEX(Brief!$M$15:$M$49,MATCH(C291,Brief!$G$15:$G$44,0))*1,\"\")","v":""},null,0,0,0]
[null,null,null,{"$f":"IFERROR(INDEX(Brief!$M$15:$M$49,MATCH(C292,Brief!$G$15:$G$44,0))*1,\"\")","v":""},null,0,0,0]
[null,null,null,{"$f":"IFERROR(INDEX(Brief!$M$15:$M$49,MATCH(C293,Brief!$G$15:$G$44,0))*1,\"\")","v":""},null,0,0,0]
[null,null,null,{"$f":"IFERROR(INDEX(Brief!$M$15:$M$49,MATCH(C294,Brief!$G$15:$G$44,0))*1,\"\")","v":""},null,0,0,0]
[null,null,null,{"$f":"IFERROR(INDEX(Brief!$M$15:$M$49,MATCH(C295,Brief!$G$15:$G$44,0))*1,\"\")","v":""},null,0,0,0]
[null,null,null,{"$f":"IFERROR(INDEX(Brief!$M$15:$M$49,MATCH(C296,Brief!$G$15:$G$44,0))*1,\"\")","v":""},null,0,0,0]
[null,null,null,{"$f":"IFERROR(INDEX(Brief!$M$15:$M$49,MATCH(C297,Brief!$G$15:$G$44,0))*1,\"\")","v":""},null,0,0,0]
[null,null,null,{"$f":"IFERROR(INDEX(Brief!$M$15:$M$49,MATCH(C298,Brief!$G$15:$G$44,0))*1,\"\")","v":""},null,0,0,0]
[null,null,null,{"$f":"IFERROR(INDEX(Brief!$M$15:$M$49,MATCH(C299,Brief!$G$15:$G$44,0))*1,\"\")","v":""},null,0,0,0]
[null,null,null,{"$f":"IFERROR(INDEX(Brief!$M$15:$M$49,MATCH(C300,Brief!$G$15:$G$44,0))*1,\"\")","v":""},null,0,0,0]
[null,null,null,{"$f":"IFERROR(INDEX(Brief!$M$15:$M$49,MATCH(C301,Brief!$G$15:$G$44,0))*1,\"\")","v":""},null,0,0,0]
[null,null,null,{"$f":"IFERROR(INDEX(Brief!$M$15:$M$49,MATCH(C302,Brief!$G$15:$G$44,0))*1,\"\")","v":""},null,0,0,0]
[null,null,null,{"$f":"IFERROR(INDEX(Brief!$M$15:$M$49,MATCH(C303,Brief!$G$15:$G$44,0))*1,\"\")","v":""},null,0,0,0]
[null,null,null,{"$f":"IFERROR(INDEX(Brief!$M$15:$M$49,MATCH(C304,Brief!$G$15:$G$44,0))*1,\"\")","v":""},null,0,0,0]
[null,null,null,{"$f":"IFERROR(INDEX(Brief!$M$15:$M$49,MATCH(C305,Brief!$G$15:$G$44,0))*1,\"\")","v":""},null,0,0,0]
[null,null,null,{"$f":"IFERROR(INDEX(Brief!$M$15:$M$49,MATCH(C306,Brief!$G$15:$G$44,0))*1,\"\")","v":""},null,0,0,0]
[null,null,null,{"$f":"IFERROR(INDEX(Brief!$M$15:$M$49,MATCH(C307,Brief!$G$15:$G$44,0))*1,\"\")","v":""},null,0,0,0]
[null,null,null,{"$f":"IFERROR(INDEX(Brief!$M$15:$M$49,MATCH(C308,Brief!$G$15:$G$44,0))*1,\"\")","v":""},null,0,0,0]
[null,null,null,{"$f":"IFERROR(INDEX(Brief!$M$15:$M$49,MATCH(C309,Brief!$G$15:$G$44,0))*1,\"\")","v":""},null,0,0,0]
[null,null,null,{"$f":"IFERROR(INDEX(Brief!$M$15:$M$49,MATCH(C310,Brief!$G$15:$G$44,0))*1,\"\")","v":""},null,0,0,0]
[null,null,null,{"$f":"IFERROR(INDEX(Brief!$M$15:$M$49,MATCH(C311,Brief!$G$15:$G$44,0))*1,\"\")","v":""},null,0,0,0]
[null,null,null,{"$f":"IFERROR(INDEX(Brief!$M$15:$M$49,MATCH(C312,Brief!$G$15:$G$44,0))*1,\"\")","v":""},null,0,0,0]
[null,null,null,{"$f":"IFERROR(INDEX(Brief!$M$15:$M$49,MATCH(C313,Brief!$G$15:$G$44,0))*1,\"\")","v":""},null,0,0,0]
[null,null,null,{"$f":"IFERROR(INDEX(Brief!$M$15:$M$49,MATCH(C314,Brief!$G$15:$G$44,0))*1,\"\")","v":""},null,0,0,0]
[null,null,null,{"$f":"IFERROR(INDEX(Brief!$M$15:$M$49,MATCH(C315,Brief!$G$15:$G$44,0))*1,\"\")","v":""},null,0,0,0]
[null,null,null,{"$f":"IFERROR(INDEX(Brief!$M$15:$M$49,MATCH(C316,Brief!$G$15:$G$44,0))*1,\"\")","v":""},null,0,0,0]
[null,null,null,{"$f":"IFERROR(INDEX(Brief!$M$15:$M$49,MATCH(C317,Brief!$G$15:$G$44,0))*1,\"\")","v":""},null,0,0,0]
[null,null,null,{"$f":"IFERROR(INDEX(Brief!$M$15:$M$49,MATCH(C318,Brief!$G$15:$G$44,0))*1,\"\")","v":""},null,0,0,0]
[null,null,null,{"$f":"IFERROR(INDEX(Brief!$M$15:$M$49,MATCH(C319,Brief!$G$15:$G$44,0))*1,\"\")","v":""},null,0,0,0]
[null,null,null,{"$f":"IFERROR(INDEX(Brief!$M$15:$M$49,MATCH(C320,Brief!$G$15:$G$44,0))*1,\"\")","v":""},null,0,0,0]
[null,null,null,{"$f":"IFERROR(INDEX(Brief!$M$15:$M$49,MATCH(C321,Brief!$G$15:$G$44,0))*1,\"\")","v":""},null,0,0,0]
[null,null,null,{"$f":"IFERROR(INDEX(Brief!$M$15:$M$49,MATCH(C322,Brief!$G$15:$G$44,0))*1,\"\")","v":""},null,0,0,0]
[null,null,null,{"$f":"IFERROR(INDEX(Brief!$M$15:$M$49,MATCH(C323,Brief!$G$15:$G$44,0))*1,\"\")","v":""},null,0,0,0]
[null,null,null,{"$f":"IFERROR(INDEX(Brief!$M$15:$M$49,MATCH(C324,Brief!$G$15:$G$44,0))*1,\"\")","v":""},null,{"$f":"B324","v":0},{"$f":"SUMIF(B:B,F324,D:D)","v":0},{"$f":"IF(G324>0,1,0)","v":0}]
[null,null,null,{"$f":"IFERROR(INDEX(Brief!$M$15:$M$49,MATCH(C325,Brief!$G$15:$G$44,0))*1,\"\")","v":""},null,0,0,0]
[null,null,null,{"$f":"IFERROR(INDEX(Brief!$M$15:$M$49,MATCH(C326,Brief!$G$15:$G$44,0))*1,\"\")","v":""},null,0,0,0]
[null,null,null,{"$f":"IFERROR(INDEX(Brief!$M$15:$M$49,MATCH(C327,Brief!$G$15:$G$44,0))*1,\"\")","v":""},null,0,0,0]
[null,null,null,{"$f":"IFERROR(INDEX(Brief!$M$15:$M$49,MATCH(C328,Brief!$G$15:$G$44,0))*1,\"\")","v":""},null,0,0,0]
[null,null,null,{"$f":"IFERROR(INDEX(Brief!$M$15:$M$49,MATCH(C329,Brief!$G$15:$G$44,0))*1,\"\")","v":""},null,0,0,0]
[null,null,null,{"$f":"IFERROR(INDEX(Brief!$M$15:$M$49,MATCH(C330,Brief!$G$15:$G$44,0))*1,\"\")","v":""},null,0,0,0]
[null,null,null,{"$f":"IFERROR(INDEX(Brief!$M$15:$M$49,MATCH(C331,Brief!$G$15:$G$44,0))*1,\"\")","v":""},null,0,0,0]
[null,null,null,{"$f":"IFERROR(INDEX(Brief!$M$15:$M$49,MATCH(C332,Brief!$G$15:$G$44,0))*1,\"\")","v":""},null,0,0,0]
[null,null,null,{"$f":"IFERROR(INDEX(Brief!$M$15:$M$49,MATCH(C333,Brief!$G$15:$G$44,0))*1,\"\")","v":""},null,0,0,0]
[null,null,null,{"$f":"IFERROR(INDEX(Brief!$M$15:$M$49,MATCH(C334,Brief!$G$15:$G$44,0))*1,\"\")","v":""},null,0,0,0]
[null,null,null,{"$f":"IFERROR(INDEX(Brief!$M$15:$M$49,MATCH(C335,Brief!$G$15:$G$44,0))*1,\"\")","v":""},null,0,0,0]
[null,null,null,{"$f":"IFERROR(INDEX(Brief!$M$15:$M$49,MATCH(C336,Brief!$G$15:$G$44,0))*1,\"\")","v":""},null,0,0,0]
[null,null,null,{"$f":"IFERROR(INDEX(Brief!$M$15:$M$49,MATCH(C337,Brief!$G$15:$G$44,0))*1,\"\")","v":""},null,0,0,0]
[null,null,null,{"$f":"IFERROR(INDEX(Brief!$M$15:$M$49,MATCH(C338,Brief!$G$15:$G$44,0))*1,\"\")","v":""},null,0,0,0]
[null,null,null,{"$f":"IFERROR(INDEX(Brief!$M$15:$M$49,MATCH(C339,Brief!$G$15:$G$44,0))*1,\"\")","v":""},null,0,0,0]
[null,null,null,{"$f":"IFERROR(INDEX(Brief!$M$15:$M$49,MATCH(C340,Brief!$G$15:$G$44,0))*1,\"\")","v":""},null,0,0,0]
[null,null,null,{"$f":"IFERROR(INDEX(Brief!$M$15:$M$49,MATCH(C341,Brief!$G$15:$G$44,0))*1,\"\")","v":""},null,0,0,0]
[null,null,null,{"$f":"IFERROR(INDEX(Brief!$M$15:$M$49,MATCH(C342,Brief!$G$15:$G$44,0))*1,\"\")","v":""},null,0,0,0]
[null,null,null,{"$f":"IFERROR(INDEX(Brief!$M$15:$M$49,MATCH(C343,Brief!$G$15:$G$44,0))*1,\"\")","v":""},null,0,0,0]
[null,null,null,{"$f":"IFERROR(INDEX(Brief!$M$15:$M$49,MATCH(C344,Brief!$G$15:$G$44,0))*1,\"\")","v":""},null,0,0,0]
[null,null,null,{"$f":"IFERROR(INDEX(Brief!$M$15:$M$49,MATCH(C345,Brief!$G$15:$G$44,0))*1,\"\")","v":""},null,0,0,0]
[null,null,null,{"$f":"IFERROR(INDEX(Brief!$M$15:$M$49,MATCH(C346,Brief!$G$15:$G$44,0))*1,\"\")","v":""},null,0,0,0]
[null,null,null,{"$f":"IFERROR(INDEX(Brief!$M$15:$M$49,MATCH(C347,Brief!$G$15:$G$44,0))*1,\"\")","v":""},null,0,0,0]
[null,null,null,{"$f":"IFERROR(INDEX(Brief!$M$15:$M$49,MATCH(C348,Brief!$G$15:$G$44,0))*1,\"\")","v":""},null,0,0,0]
[null,null,null,{"$f":"IFERROR(INDEX(Brief!$M$15:$M$49,MATCH(C349,Brief!$G$15:$G$44,0))*1,\"\")","v":""},null,0,0,0]
[null,null,null,{"$f":"IFERROR(INDEX(Brief!$M$15:$M$49,MATCH(C350,Brief!$G$15:$G$44,0))*1,\"\")","v":""},null,0,0,0]
[null,null,null,{"$f":"IFERROR(INDEX(Brief!$M$15:$M$49,MATCH(C351,Brief!$G$15:$G$44,0))*1,\"\")","v":""},null,0,0,0]
[null,null,null,{"$f":"IFERROR(INDEX(Brief!$M$15:$M$49,MATCH(C352,Brief!$G$15:$G$44,0))*1,\"\")","v":""},null,0,0,0]
[null,null,null,{"$f":"IFERROR(INDEX(Brief!$M$15:$M$49,MATCH(C353,Brief!$G$15:$G$44,0))*1,\"\")","v":""},null,0,0,0]
[null,null,null,{"$f":"IFERROR(INDEX(Brief!$M$15:$M$49,MATCH(C354,Brief!$G$15:$G$44,0))*1,\"\")","v":""},null,0,0,0]
[null,null,null,{"$f":"IFERROR(INDEX(Brief!$M$15:$M$49,MATCH(C355,Brief!$G$15:$G$44,0))*1,\"\")","v":""},null,0,0,0]
[null,null,null,{"$f":"IFERROR(INDEX(Brief!$M$15:$M$49,MATCH(C356,Brief!$G$15:$G$44,0))*1,\"\")","v":""},null,0,0,0]
[null,null,null,{"$f":"IFERROR(INDEX(Brief!$M$15:$M$49,MATCH(C357,Brief!$G$15:$G$44,0))*1,\"\")","v":""},null,0,0,0]
[null,null,null,{"$f":"IFERROR(INDEX(Brief!$M$15:$M$49,MATCH(C358,Brief!$G$15:$G$44,0))*1,\"\")","v":""},null,0,0,0]
[null,null,null,{"$f":"IFERROR(INDEX(Brief!$M$15:$M$49,MATCH(C359,Brief!$G$15:$G$44,0))*1,\"\")","v":""},null,0,0,0]
[null,null,null,{"$f":"IFERROR(INDEX(Brief!$M$15:$M$49,MATCH(C360,Brief!$G$15:$G$44,0))*1,\"\")","v":""},null,0,0,0]
[null,null,null,{"$f":"IFERROR(INDEX(Brief!$M$15:$M$49,MATCH(C361,Brief!$G$15:$G$44,0))*1,\"\")","v":""},null,0,0,0]
[null,null,null,{"$f":"IFERROR(INDEX(Brief!$M$15:$M$49,MATCH(C362,Brief!$G$15:$G$44,0))*1,\"\")","v":""},null,0,0,0]
[null,null,null,{"$f":"IFERROR(INDEX(Brief!$M$15:$M$49,MATCH(C363,Brief!$G$15:$G$44,0))*1,\"\")","v":""},null,0,0,0]
[null,null,null,{"$f":"IFERROR(INDEX(Brief!$M$15:$M$49,MATCH(C364,Brief!$G$15:$G$44,0))*1,\"\")","v":""},null,0,0,0]
[null,null,null,{"$f":"IFERROR(INDEX(Brief!$M$15:$M$49,MATCH(C365,Brief!$G$15:$G$44,0))*1,\"\")","v":""},null,0,0,0]
[null,null,null,{"$f":"IFERROR(INDEX(Brief!$M$15:$M$49,MATCH(C366,Brief!$G$15:$G$44,0))*1,\"\")","v":""},null,0,0,0]
[null,null,null,{"$f":"IFERROR(INDEX(Brief!$M$15:$M$49,MATCH(C367,Brief!$G$15:$G$44,0))*1,\"\")","v":""},null,0,0,0]
[null,null,null,{"$f":"IFERROR(INDEX(Brief!$M$15:$M$49,MATCH(C368,Brief!$G$15:$G$44,0))*1,\"\")","v":""},null,0,0,0]
[null,null,null,{"$f":"IFERROR(INDEX(Brief!$M$15:$M$49,MATCH(C369,Brief!$G$15:$G$44,0))*1,\"\")","v":""},null,0,0,0]
[null,null,null,{"$f":"IFERROR(INDEX(Brief!$M$15:$M$49,MATCH(C370,Brief!$G$15:$G$44,0))*1,\"\")","v":""},null,0,0,0]
[null,null,null,{"$f":"IFERROR(INDEX(Brief!$M$15:$M$49,MATCH(C371,Brief!$G$15:$G$44,0))*1,\"\")","v":""},null,0,0,0]
[null,null,null,{"$f":"IFERROR(INDEX(Brief!$M$15:$M$49,MATCH(C372,Brief!$G$15:$G$44,0))*1,\"\")","v":""},null,0,0,0]
[null,null,null,{"$f":"IFERROR(INDEX(Brief!$M$15:$M$49,MATCH(C373,Brief!$G$15:$G$44,0))*1,\"\")","v":""},null,0,0,0]
[null,null,null,{"$f":"IFERROR(INDEX(Brief!$M$15:$M$49,MATCH(C374,Brief!$G$15:$G$44,0))*1,\"\")","v":""},null,0,0,0]
[null,null,null,{"$f":"IFERROR(INDEX(Brief!$M$15:$M$49,MATCH(C375,Brief!$G$15:$G$44,0))*1,\"\")","v":""},null,0,0,0]
[null,null,null,{"$f":"IFERROR(INDEX(Brief!$M$15:$M$49,MATCH(C376,Brief!$G$15:$G$44,0))*1,\"\")","v":""},null,0,0,0]
[null,null,null,{"$f":"IFERROR(INDEX(Brief!$M$15:$M$49,MATCH(C377,Brief!$G$15:$G$44,0))*1,\"\")","v":""},null,0,0,0]
[null,null,null,{"$f":"IFERROR(INDEX(Brief!$M$15:$M$49,MATCH(C378,Brief!$G$15:$G$44,0))*1,\"\")","v":""},null,0,0,0]
[null,null,null,{"$f":"IFERROR(INDEX(Brief!$M$15:$M$49,MATCH(C379,Brief!$G$15:$G$44,0))*1,\"\")","v":""},null,0,0,0]
[null,null,null,{"$f":"IFERROR(INDEX(Brief!$M$15:$M$49,MATCH(C380,Brief!$G$15:$G$44,0))*1,\"\")","v":""},null,0,0,0]
[null,null,null,{"$f":"IFERROR(INDEX(Brief!$M$15:$M$49,MATCH(C381,Brief!$G$15:$G$44,0))*1,\"\")","v":""},null,0,0,0]
[null,null,null,{"$f":"IFERROR(INDEX(Brief!$M$15:$M$49,MATCH(C382,Brief!$G$15:$G$44,0))*1,\"\")","v":""},null,0,0,0]
[null,null,null,{"$f":"IFERROR(INDEX(Brief!$M$15:$M$49,MATCH(C383,Brief!$G$15:$G$44,0))*1,\"\")","v":""},null,0,0,0]
[null,null,null,{"$f":"IFERROR(INDEX(Brief!$M$15:$M$49,MATCH(C384,Brief!$G$15:$G$44,0))*1,\"\")","v":""},null,0,0,0]
[null,null,null,{"$f":"IFERROR(INDEX(Brief!$M$15:$M$49,MATCH(C385,Brief!$G$15:$G$44,0))*1,\"\")","v":""},null,0,0,0]
[null,null,null,{"$f":"IFERROR(INDEX(Brief!$M$15:$M$49,MATCH(C386,Brief!$G$15:$G$44,0))*1,\"\")","v":""},null,0,0,0]
[null,null,null,{"$f":"IFERROR(INDEX(Brief!$M$15:$M$49,MATCH(C387,Brief!$G$15:$G$44,0))*1,\"\")","v":""},null,0,0,0]
[null,null,null,{"$f":"IFERROR(INDEX(Brief!$M$15:$M$49,MATCH(C388,Brief!$G$15:$G$44,0))*1,\"\")","v":""},null,{"$f":"B388","v":0},{"$f":"SUMIF(B:B,F388,D:D)","v":0},{"$f":"IF(G388>0,1,0)","v":0}]
[null,null,null,{"$f":"IFERROR(INDEX(Brief!$M$15:$M$49,MATCH(C389,Brief!$G$15:$G$44,0))*1,\"\")","v":""},null,0,0,0]
[null,null,null,{"$f":"IFERROR(INDEX(Brief!$M$15:$M$49,MATCH(C390,Brief!$G$15:$G$44,0))*1,\"\")","v":""},null,0,0,0]
[null,null,null,{"$f":"IFERROR(INDEX(Brief!$M$15:$M$49,MATCH(C391,Brief!$G$15:$G$44,0))*1,\"\")","v":""},null,0,0,0]
[null,null,null,{"$f":"IFERROR(INDEX(Brief!$M$15:$M$49,MATCH(C392,Brief!$G$15:$G$44,0))*1,\"\")","v":""},null,0,0,0]
[null,null,null,{"$f":"IFERROR(INDEX(Brief!$M$15:$M$49,MATCH(C393,Brief!$G$15:$G$44,0))*1,\"\")","v":""},null,0,0,0]
[null,null,null,{"$f":"IFERROR(INDEX(Brief!$M$15:$M$49,MATCH(C394,Brief!$G$15:$G$44,0))*1,\"\")","v":""},null,0,0,0]
[null,null,null,{"$f":"IFERROR(INDEX(Brief!$M$15:$M$49,MATCH(C395,Brief!$G$15:$G$44,0))*1,\"\")","v":""},null,0,0,0]
[null,null,null,{"$f":"IFERROR(INDEX(Brief!$M$15:$M$49,MATCH(C396,Brief!$G$15:$G$44,0))*1,\"\")","v":""},null,0,0,0]
[null,null,null,{"$f":"IFERROR(INDEX(Brief!$M$15:$M$49,MATCH(C397,Brief!$G$15:$G$44,0))*1,\"\")","v":""},null,0,0,0]
[null,null,null,{"$f":"IFERROR(INDEX(Brief!$M$15:$M$49,MATCH(C398,Brief!$G$15:$G$44,0))*1,\"\")","v":""},null,0,0,0]
[null,null,null,{"$f":"IFERROR(INDEX(Brief!$M$15:$M$49,MATCH(C399,Brief!$G$15:$G$44,0))*1,\"\")","v":""},null,0,0,0]
[null,null,null,{"$f":"IFERROR(INDEX(Brief!$M$15:$M$49,MATCH(C400,Brief!$G$15:$G$44,0))*1,\"\")","v":""},null,0,0,0]
[null,null,null,{"$f":"IFERROR(INDEX(Brief!$M$15:$M$49,MATCH(C401,Brief!$G$15:$G$44,0))*1,\"\")","v":""},null,0,0,0]
[null,null,null,{"$f":"IFERROR(INDEX(Brief!$M$15:$M$49,MATCH(C402,Brief!$G$15:$G$44,0))*1,\"\")","v":""},null,0,0,0]
[null,null,null,{"$f":"IFERROR(INDEX(Brief!$M$15:$M$49,MATCH(C403,Brief!$G$15:$G$44,0))*1,\"\")","v":""},null,0,0,0]
[null,null,null,{"$f":"IFERROR(INDEX(Brief!$M$15:$M$49,MATCH(C404,Brief!$G$15:$G$44,0))*1,\"\")","v":""},null,0,0,0]
[null,null,null,{"$f":"IFERROR(INDEX(Brief!$M$15:$M$49,MATCH(C405,Brief!$G$15:$G$44,0))*1,\"\")","v":""},null,0,0,0]
[null,null,null,{"$f":"IFERROR(INDEX(Brief!$M$15:$M$49,MATCH(C406,Brief!$G$15:$G$44,0))*1,\"\")","v":""},null,0,0,0]
[null,null,null,{"$f":"IFERROR(INDEX(Brief!$M$15:$M$49,MATCH(C407,Brief!$G$15:$G$44,0))*1,\"\")","v":""},null,0,0,0]
[null,null,null,{"$f":"IFERROR(INDEX(Brief!$M$15:$M$49,MATCH(C408,Brief!$G$15:$G$44,0))*1,\"\")","v":""},null,0,0,0]
[null,null,null,{"$f":"IFERROR(INDEX(Brief!$M$15:$M$49,MATCH(C409,Brief!$G$15:$G$44,0))*1,\"\")","v":""},null,0,0,0]
[null,null,null,{"$f":"IFERROR(INDEX(Brief!$M$15:$M$49,MATCH(C410,Brief!$G$15:$G$44,0))*1,\"\")","v":""},null,0,0,0]
[null,null,null,{"$f":"IFERROR(INDEX(Brief!$M$15:$M$49,MATCH(C411,Brief!$G$15:$G$44,0))*1,\"\")","v":""},null,0,0,0]
[null,null,null,{"$f":"IFERROR(INDEX(Brief!$M$15:$M$49,MATCH(C412,Brief!$G$15:$G$44,0))*1,\"\")","v":""},null,0,0,0]
[null,null,null,{"$f":"IFERROR(INDEX(Brief!$M$15:$M$49,MATCH(C413,Brief!$G$15:$G$44,0))*1,\"\")","v":""},null,0,0,0]
[null,null,null,{"$f":"IFERROR(INDEX(Brief!$M$15:$M$49,MATCH(C414,Brief!$G$15:$G$44,0))*1,\"\")","v":""},null,0,0,0]
[null,null,null,{"$f":"IFERROR(INDEX(Brief!$M$15:$M$49,MATCH(C415,Brief!$G$15:$G$44,0))*1,\"\")","v":""},null,0,0,0]
[null,null,null,{"$f":"IFERROR(INDEX(Brief!$M$15:$M$49,MATCH(C416,Brief!$G$15:$G$44,0))*1,\"\")","v":""},null,0,0,0]
[null,null,null,{"$f":"IFERROR(INDEX(Brief!$M$15:$M$49,MATCH(C417,Brief!$G$15:$G$44,0))*1,\"\")","v":""},null,0,0,0]
[null,null,null,{"$f":"IFERROR(INDEX(Brief!$M$15:$M$49,MATCH(C418,Brief!$G$15:$G$44,0))*1,\"\")","v":""},null,0,0,0]
[null,null,null,{"$f":"IFERROR(INDEX(Brief!$M$15:$M$49,MATCH(C419,Brief!$G$15:$G$44,0))*1,\"\")","v":""},null,0,0,0]
[null,null,null,{"$f":"IFERROR(INDEX(Brief!$M$15:$M$49,MATCH(C420,Brief!$G$15:$G$44,0))*1,\"\")","v":""},null,0,0,0]
[null,null,null,{"$f":"IFERROR(INDEX(Brief!$M$15:$M$49,MATCH(C421,Brief!$G$15:$G$44,0))*1,\"\")","v":""},null,0,0,0]
[null,null,null,{"$f":"IFERROR(INDEX(Brief!$M$15:$M$49,MATCH(C422,Brief!$G$15:$G$44,0))*1,\"\")","v":""},null,0,0,0]
[null,null,null,{"$f":"IFERROR(INDEX(Brief!$M$15:$M$49,MATCH(C423,Brief!$G$15:$G$44,0))*1,\"\")","v":""},null,0,0,0]
[null,null,null,{"$f":"IFERROR(INDEX(Brief!$M$15:$M$49,MATCH(C424,Brief!$G$15:$G$44,0))*1,\"\")","v":""},null,0,0,0]
[null,null,null,{"$f":"IFERROR(INDEX(Brief!$M$15:$M$49,MATCH(C425,Brief!$G$15:$G$44,0))*1,\"\")","v":""},null,0,0,0]
[null,null,null,{"$f":"IFERROR(INDEX(Brief!$M$15:$M$49,MATCH(C426,Brief!$G$15:$G$44,0))*1,\"\")","v":""},null,0,0,0]
[null,null,null,{"$f":"IFERROR(INDEX(Brief!$M$15:$M$49,MATCH(C427,Brief!$G$15:$G$44,0))*1,\"\")","v":""},null,0,0,0]
[null,null,null,{"$f":"IFERROR(INDEX(Brief!$M$15:$M$49,MATCH(C428,Brief!$G$15:$G$44,0))*1,\"\")","v":""},null,0,0,0]
[null,null,null,{"$f":"IFERROR(INDEX(Brief!$M$15:$M$49,MATCH(C429,Brief!$G$15:$G$44,0))*1,\"\")","v":""},null,0,0,0]
[null,null,null,{"$f":"IFERROR(INDEX(Brief!$M$15:$M$49,MATCH(C430,Brief!$G$15:$G$44,0))*1,\"\")","v":""},null,0,0,0]
[null,null,null,{"$f":"IFERROR(INDEX(Brief!$M$15:$M$49,MATCH(C431,Brief!$G$15:$G$44,0))*1,\"\")","v":""},null,0,0,0]
[null,null,null,{"$f":"IFERROR(INDEX(Brief!$M$15:$M$49,MATCH(C432,Brief!$G$15:$G$44,0))*1,\"\")","v":""},null,0,0,0]
[null,null,null,{"$f":"IFERROR(INDEX(Brief!$M$15:$M$49,MATCH(C433,Brief!$G$15:$G$44,0))*1,\"\")","v":""},null,0,0,0]
[null,null,null,{"$f":"IFERROR(INDEX(Brief!$M$15:$M$49,MATCH(C434,Brief!$G$15:$G$44,0))*1,\"\")","v":""},null,0,0,0]
[null,null,null,{"$f":"IFERROR(INDEX(Brief!$M$15:$M$49,MATCH(C435,Brief!$G$15:$G$44,0))*1,\"\")","v":""},null,0,0,0]
[null,null,null,{"$f":"IFERROR(INDEX(Brief!$M$15:$M$49,MATCH(C436,Brief!$G$15:$G$44,0))*1,\"\")","v":""},null,0,0,0]
[null,null,null,{"$f":"IFERROR(INDEX(Brief!$M$15:$M$49,MATCH(C437,Brief!$G$15:$G$44,0))*1,\"\")","v":""},null,0,0,0]
[null,null,null,{"$f":"IFERROR(INDEX(Brief!$M$15:$M$49,MATCH(C438,Brief!$G$15:$G$44,0))*1,\"\")","v":""},null,0,0,0]
[null,null,null,{"$f":"IFERROR(INDEX(Brief!$M$15:$M$49,MATCH(C439,Brief!$G$15:$G$44,0))*1,\"\")","v":""},null,0,0,0]
[null,null,null,{"$f":"IFERROR(INDEX(Brief!$M$15:$M$49,MATCH(C440,Brief!$G$15:$G$44,0))*1,\"\")","v":""},null,0,0,0]
[null,null,null,{"$f":"IFERROR(INDEX(Brief!$M$15:$M$49,MATCH(C441,Brief!$G$15:$G$44,0))*1,\"\")","v":""},null,0,0,0]
[null,null,null,{"$f":"IFERROR(INDEX(Brief!$M$15:$M$49,MATCH(C442,Brief!$G$15:$G$44,0))*1,\"\")","v":""},null,0,0,0]
[null,null,null,{"$f":"IFERROR(INDEX(Brief!$M$15:$M$49,MATCH(C443,Brief!$G$15:$G$44,0))*1,\"\")","v":""},null,0,0,0]
[null,null,null,{"$f":"IFERROR(INDEX(Brief!$M$15:$M$49,MATCH(C444,Brief!$G$15:$G$44,0))*1,\"\")","v":""},null,0,0,0]
[null,null,null,{"$f":"IFERROR(INDEX(Brief!$M$15:$M$49,MATCH(C445,Brief!$G$15:$G$44,0))*1,\"\")","v":""},null,0,0,0]
[null,null,null,{"$f":"IFERROR(INDEX(Brief!$M$15:$M$49,MATCH(C446,Brief!$G$15:$G$44,0))*1,\"\")","v":""},null,0,0,0]
[null,null,null,{"$f":"IFERROR(INDEX(Brief!$M$15:$M$49,MATCH(C447,Brief!$G$15:$G$44,0))*1,\"\")","v":""},null,0,0,0]
[null,null,null,{"$f":"IFERROR(INDEX(Brief!$M$15:$M$49,MATCH(C448,Brief!$G$15:$G$44,0))*1,\"\")","v":""},null,0,0,0]
[null,null,null,{"$f":"IFERROR(INDEX(Brief!$M$15:$M$49,MATCH(C449,Brief!$G$15:$G$44,0))*1,\"\")","v":""},null,0,0,0]
[null,null,null,{"$f":"IFERROR(INDEX(Brief!$M$15:$M$49,MATCH(C450,Brief!$G$15:$G$44,0))*1,\"\")","v":""},null,0,0,0]
[null,null,null,{"$f":"IFERROR(INDEX(Brief!$M$15:$M$49,MATCH(C451,Brief!$G$15:$G$44,0))*1,\"\")","v":""},null,0,0,0]
[null,null,null,{"$f":"IFERROR(INDEX(Brief!$M$15:$M$49,MATCH(C452,Brief!$G$15:$G$44,0))*1,\"\")","v":""},null,{"$f":"B452","v":0},{"$f":"SUMIF(B:B,F452,D:D)","v":0},{"$f":"IF(G452>0,1,0)","v":0}]
[null,null,null,{"$f":"IFERROR(INDEX(Brief!$M$15:$M$49,MATCH(C453,Brief!$G$15:$G$44,0))*1,\"\")","v":""},null,0,0,0]
[null,null,null,{"$f":"IFERROR(INDEX(Brief!$M$15:$M$49,MATCH(C454,Brief!$G$15:$G$44,0))*1,\"\")","v":""},null,0,0,0]
[null,null,null,{"$f":"IFERROR(INDEX(Brief!$M$15:$M$49,MATCH(C455,Brief!$G$15:$G$44,0))*1,\"\")","v":""},null,0,0,0]
[null,null,null,{"$f":"IFERROR(INDEX(Brief!$M$15:$M$49,MATCH(C456,Brief!$G$15:$G$44,0))*1,\"\")","v":""},null,0,0,0]
[null,null,null,{"$f":"IFERROR(INDEX(Brief!$M$15:$M$49,MATCH(C457,Brief!$G$15:$G$44,0))*1,\"\")","v":""},null,0,0,0]
[null,null,null,{"$f":"IFERROR(INDEX(Brief!$M$15:$M$49,MATCH(C458,Brief!$G$15:$G$44,0))*1,\"\")","v":""},null,0,0,0]
[null,null,null,{"$f":"IFERROR(INDEX(Brief!$M$15:$M$49,MATCH(C459,Brief!$G$15:$G$44,0))*1,\"\")","v":""},null,0,0,0]
[null,null,null,{"$f":"IFERROR(INDEX(Brief!$M$15:$M$49,MATCH(C460,Brief!$G$15:$G$44,0))*1,\"\")","v":""},null,0,0,0]
[null,null,null,{"$f":"IFERROR(INDEX(Brief!$M$15:$M$49,MATCH(C461,Brief!$G$15:$G$44,0))*1,\"\")","v":""},null,0,0,0]
[null,null,null,{"$f":"IFERROR(INDEX(Brief!$M$15:$M$49,MATCH(C462,Brief!$G$15:$G$44,0))*1,\"\")","v":""},null,0,0,0]
[null,null,null,{"$f":"IFERROR(INDEX(Brief!$M$15:$M$49,MATCH(C463,Brief!$G$15:$G$44,0))*1,\"\")","v":""},null,0,0,0]
[null,null,null,{"$f":"IFERROR(INDEX(Brief!$M$15:$M$49,MATCH(C464,Brief!$G$15:$G$44,0))*1,\"\")","v":""},null,0,0,0]
[null,null,null,{"$f":"IFERROR(INDEX(Brief!$M$15:$M$49,MATCH(C465,Brief!$G$15:$G$44,0))*1,\"\")","v":""},null,0,0,0]
[null,null,null,{"$f":"IFERROR(INDEX(Brief!$M$15:$M$49,MATCH(C466,Brief!$G$15:$G$44,0))*1,\"\")","v":""},null,0,0,0]
[null,null,null,{"$f":"IFERROR(INDEX(Brief!$M$15:$M$49,MATCH(C467,Brief!$G$15:$G$44,0))*1,\"\")","v":""},null,0,0,0]
[null,null,null,{"$f":"IFERROR(INDEX(Brief!$M$15:$M$49,MATCH(C468,Brief!$G$15:$G$44,0))*1,\"\")","v":""},null,0,0,0]
[null,null,null,{"$f":"IFERROR(INDEX(Brief!$M$15:$M$49,MATCH(C469,Brief!$G$15:$G$44,0))*1,\"\")","v":""},null,0,0,0]
[null,null,null,{"$f":"IFERROR(INDEX(Brief!$M$15:$M$49,MATCH(C470,Brief!$G$15:$G$44,0))*1,\"\")","v":""},null,0,0,0]
[null,null,null,{"$f":"IFERROR(INDEX(Brief!$M$15:$M$49,MATCH(C471,Brief!$G$15:$G$44,0))*1,\"\")","v":""},null,0,0,0]
[null,null,null,{"$f":"IFERROR(INDEX(Brief!$M$15:$M$49,MATCH(C472,Brief!$G$15:$G$44,0))*1,\"\")","v":""},null,0,0,0]
[null,null,null,{"$f":"IFERROR(INDEX(Brief!$M$15:$M$49,MATCH(C473,Brief!$G$15:$G$44,0))*1,\"\")","v":""},null,0,0,0]
[null,null,null,{"$f":"IFERROR(INDEX(Brief!$M$15:$M$49,MATCH(C474,Brief!$G$15:$G$44,0))*1,\"\")","v":""},null,0,0,0]
[null,null,null,{"$f":"IFERROR(INDEX(Brief!$M$15:$M$49,MATCH(C475,Brief!$G$15:$G$44,0))*1,\"\")","v":""},null,0,0,0]
[null,null,null,{"$f":"IFERROR(INDEX(Brief!$M$15:$M$49,MATCH(C476,Brief!$G$15:$G$44,0))*1,\"\")","v":""},null,0,0,0]
[null,null,null,{"$f":"IFERROR(INDEX(Brief!$M$15:$M$49,MATCH(C477,Brief!$G$15:$G$44,0))*1,\"\")","v":""},null,0,0,0]
[null,null,null,{"$f":"IFERROR(INDEX(Brief!$M$15:$M$49,MATCH(C478,Brief!$G$15:$G$44,0))*1,\"\")","v":""},null,0,0,0]
[null,null,null,{"$f":"IFERROR(INDEX(Brief!$M$15:$M$49,MATCH(C479,Brief!$G$15:$G$44,0))*1,\"\")","v":""},null,0,0,0]
[null,null,null,{"$f":"IFERROR(INDEX(Brief!$M$15:$M$49,MATCH(C480,Brief!$G$15:$G$44,0))*1,\"\")","v":""},null,0,0,0]
[null,null,null,{"$f":"IFERROR(INDEX(Brief!$M$15:$M$49,MATCH(C481,Brief!$G$15:$G$44,0))*1,\"\")","v":""},null,0,0,0]
[null,null,null,{"$f":"IFERROR(INDEX(Brief!$M$15:$M$49,MATCH(C482,Brief!$G$15:$G$44,0))*1,\"\")","v":""},null,0,0,0]
[null,null,null,{"$f":"IFERROR(INDEX(Brief!$M$15:$M$49,MATCH(C483,Brief!$G$15:$G$44,0))*1,\"\")","v":""},null,0,0,0]
[null,null,null,{"$f":"IFERROR(INDEX(Brief!$M$15:$M$49,MATCH(C484,Brief!$G$15:$G$44,0))*1,\"\")","v":""},null,0,0,0]
[null,null,null,{"$f":"IFERROR(INDEX(Brief!$M$15:$M$49,MATCH(C485,Brief!$G$15:$G$44,0))*1,\"\")","v":""},null,0,0,0]
[null,null,null,{"$f":"IFERROR(INDEX(Brief!$M$15:$M$49,MATCH(C486,Brief!$G$15:$G$44,0))*1,\"\")","v":""},null,0,0,0]
[null,null,null,{"$f":"IFERROR(INDEX(Brief!$M$15:$M$49,MATCH(C487,Brief!$G$15:$G$44,0))*1,\"\")","v":""},null,0,0,0]
[null,null,null,{"$f":"IFERROR(INDEX(Brief!$M$15:$M$49,MATCH(C488,Brief!$G$15:$G$44,0))*1,\"\")","v":""},null,0,0,0]
[null,null,null,{"$f":"IFERROR(INDEX(Brief!$M$15:$M$49,MATCH(C489,Brief!$G$15:$G$44,0))*1,\"\")","v":""},null,0,0,0]
[null,null,null,{"$f":"IFERROR(INDEX(Brief!$M$15:$M$49,MATCH(C490,Brief!$G$15:$G$44,0))*1,\"\")","v":""},null,0,0,0]
[null,null,null,{"$f":"IFERROR(INDEX(Brief!$M$15:$M$49,MATCH(C491,Brief!$G$15:$G$44,0))*1,\"\")","v":""},null,0,0,0]
[null,null,null,{"$f":"IFERROR(INDEX(Brief!$M$15:$M$49,MATCH(C492,Brief!$G$15:$G$44,0))*1,\"\")","v":""},null,0,0,0]
[null,null,null,{"$f":"IFERROR(INDEX(Brief!$M$15:$M$49,MATCH(C493,Brief!$G$15:$G$44,0))*1,\"\")","v":""},null,0,0,0]
[null,null,null,{"$f":"IFERROR(INDEX(Brief!$M$15:$M$49,MATCH(C494,Brief!$G$15:$G$44,0))*1,\"\")","v":""},null,0,0,0]
[null,null,null,{"$f":"IFERROR(INDEX(Brief!$M$15:$M$49,MATCH(C495,Brief!$G$15:$G$44,0))*1,\"\")","v":""},null,0,0,0]
[null,null,null,{"$f":"IFERROR(INDEX(Brief!$M$15:$M$49,MATCH(C496,Brief!$G$15:$G$44,0))*1,\"\")","v":""},null,0,0,0]
[null,null,null,{"$f":"IFERROR(INDEX(Brief!$M$15:$M$49,MATCH(C497,Brief!$G$15:$G$44,0))*1,\"\")","v":""},null,0,0,0]
[null,null,null,{"$f":"IFERROR(INDEX(Brief!$M$15:$M$49,MATCH(C498,Brief!$G$15:$G$44,0))*1,\"\")","v":""},null,0,0,0]
[null,null,null,{"$f":"IFERROR(INDEX(Brief!$M$15:$M$49,MATCH(C499,Brief!$G$15:$G$44,0))*1,\"\")","v":""},null,0,0,0]
[null,null,null,{"$f":"IFERROR(INDEX(Brief!$M$15:$M$49,MATCH(C500,Brief!$G$15:$G$44,0))*1,\"\")","v":""},null,0,0,0]
[null,null,null,{"$f":"IFERROR(INDEX(Brief!$M$15:$M$49,MATCH(C501,Brief!$G$15:$G$44,0))*1,\"\")","v":""},null,0,0,0]
[null,null,null,{"$f":"IFERROR(INDEX(Brief!$M$15:$M$49,MATCH(C502,Brief!$G$15:$G$44,0))*1,\"\")","v":""},null,0,0,0]
[null,null,null,{"$f":"IFERROR(INDEX(Brief!$M$15:$M$49,MATCH(C503,Brief!$G$15:$G$44,0))*1,\"\")","v":""},null,0,0,0]
[null,null,null,{"$f":"IFERROR(INDEX(Brief!$M$15:$M$49,MATCH(C504,Brief!$G$15:$G$44,0))*1,\"\")","v":""},null,0,0,0]
[null,null,null,{"$f":"IFERROR(INDEX(Brief!$M$15:$M$49,MATCH(C505,Brief!$G$15:$G$44,0))*1,\"\")","v":""},null,0,0,0]
[null,null,null,{"$f":"IFERROR(INDEX(Brief!$M$15:$M$49,MATCH(C506,Brief!$G$15:$G$44,0))*1,\"\")","v":""},null,0,0,0]
[null,null,null,{"$f":"IFERROR(INDEX(Brief!$M$15:$M$49,MATCH(C507,Brief!$G$15:$G$44,0))*1,\"\")","v":""},null,0,0,0]
[null,null,null,{"$f":"IFERROR(INDEX(Brief!$M$15:$M$49,MATCH(C508,Brief!$G$15:$G$44,0))*1,\"\")","v":""},null,0,0,0]
[null,null,null,{"$f":"IFERROR(INDEX(Brief!$M$15:$M$49,MATCH(C509,Brief!$G$15:$G$44,0))*1,\"\")","v":""},null,0,0,0]
[null,null,null,{"$f":"IFERROR(INDEX(Brief!$M$15:$M$49,MATCH(C510,Brief!$G$15:$G$44,0))*1,\"\")","v":""},null,0,0,0]
[null,null,null,{"$f":"IFERROR(INDEX(Brief!$M$15:$M$49,MATCH(C511,Brief!$G$15:$G$44,0))*1,\"\")","v":""},null,0,0,0]
[null,null,null,{"$f":"IFERROR(INDEX(Brief!$M$15:$M$49,MATCH(C512,Brief!$G$15:$G$44,0))*1,\"\")","v":""},null,0,0,0]
[null,null,null,{"$f":"IFERROR(INDEX(Brief!$M$15:$M$49,MATCH(C513,Brief!$G$15:$G$44,0))*1,\"\")","v":""},null,0,0,0]
[null,null,null,{"$f":"IFERROR(INDEX(Brief!$M$15:$M$49,MATCH(C514,Brief!$G$15:$G$44,0))*1,\"\")","v":""},null,0,0,0]
[null,null,null,{"$f":"IFERROR(INDEX(Brief!$M$15:$M$49,MATCH(C515,Brief!$G$15:$G$44,0))*1,\"\")","v":""},null,0,0,0]
[null,null,null,{"$f":"IFERROR(INDEX(Brief!$M$15:$M$49,MATCH(C516,Brief!$G$15:$G$44,0))*1,\"\")","v":""},null,{"$f":"B516","v":0},{"$f":"SUMIF(B:B,F516,D:D)","v":0},{"$f":"IF(G516>0,1,0)","v":0}]
[null,null,null,{"$f":"IFERROR(INDEX(Brief!$M$15:$M$49,MATCH(C517,Brief!$G$15:$G$44,0))*1,\"\")","v":""},null,0,0,0]
[null,null,null,{"$f":"IFERROR(INDEX(Brief!$M$15:$M$49,MATCH(C518,Brief!$G$15:$G$44,0))*1,\"\")","v":""},null,0,0,0]
[null,null,null,{"$f":"IFERROR(INDEX(Brief!$M$15:$M$49,MATCH(C519,Brief!$G$15:$G$44,0))*1,\"\")","v":""},null,0,0,0]
[null,null,null,{"$f":"IFERROR(INDEX(Brief!$M$15:$M$49,MATCH(C520,Brief!$G$15:$G$44,0))*1,\"\")","v":""},null,0,0,0]
[null,null,null,{"$f":"IFERROR(INDEX(Brief!$M$15:$M$49,MATCH(C521,Brief!$G$15:$G$44,0))*1,\"\")","v":""},null,0,0,0]
[null,null,null,{"$f":"IFERROR(INDEX(Brief!$M$15:$M$49,MATCH(C522,Brief!$G$15:$G$44,0))*1,\"\")","v":""},null,0,0,0]
[null,null,null,{"$f":"IFERROR(INDEX(Brief!$M$15:$M$49,MATCH(C523,Brief!$G$15:$G$44,0))*1,\"\")","v":""},null,0,0,0]
[null,null,null,{"$f":"IFERROR(INDEX(Brief!$M$15:$M$49,MATCH(C524,Brief!$G$15:$G$44,0))*1,\"\")","v":""},null,0,0,0]
[null,null,null,{"$f":"IFERROR(INDEX(Brief!$M$15:$M$49,MATCH(C525,Brief!$G$15:$G$44,0))*1,\"\")","v":""},null,0,0,0]
[null,null,null,{"$f":"IFERROR(INDEX(Brief!$M$15:$M$49,MATCH(C526,Brief!$G$15:$G$44,0))*1,\"\")","v":""},null,0,0,0]
[null,null,null,{"$f":"IFERROR(INDEX(Brief!$M$15:$M$49,MATCH(C527,Brief!$G$15:$G$44,0))*1,\"\")","v":""},null,0,0,0]
[null,null,null,{"$f":"IFERROR(INDEX(Brief!$M$15:$M$49,MATCH(C528,Brief!$G$15:$G$44,0))*1,\"\")","v":""},null,0,0,0]
[null,null,null,{"$f":"IFERROR(INDEX(Brief!$M$15:$M$49,MATCH(C529,Brief!$G$15:$G$44,0))*1,\"\")","v":""},null,0,0,0]
[null,null,null,{"$f":"IFERROR(INDEX(Brief!$M$15:$M$49,MATCH(C530,Brief!$G$15:$G$44,0))*1,\"\")","v":""},null,0,0,0]
[null,null,null,{"$f":"IFERROR(INDEX(Brief!$M$15:$M$49,MATCH(C531,Brief!$G$15:$G$44,0))*1,\"\")","v":""},null,0,0,0]
[null,null,null,{"$f":"IFERROR(INDEX(Brief!$M$15:$M$49,MATCH(C532,Brief!$G$15:$G$44,0))*1,\"\")","v":""},null,0,0,0]
[null,null,null,{"$f":"IFERROR(INDEX(Brief!$M$15:$M$49,MATCH(C533,Brief!$G$15:$G$44,0))*1,\"\")","v":""},null,0,0,0]
[null,null,null,{"$f":"IFERROR(INDEX(Brief!$M$15:$M$49,MATCH(C534,Brief!$G$15:$G$44,0))*1,\"\")","v":""},null,0,0,0]
[null,null,null,{"$f":"IFERROR(INDEX(Brief!$M$15:$M$49,MATCH(C535,Brief!$G$15:$G$44,0))*1,\"\")","v":""},null,0,0,0]
[null,null,null,{"$f":"IFERROR(INDEX(Brief!$M$15:$M$49,MATCH(C536,Brief!$G$15:$G$44,0))*1,\"\")","v":""},null,0,0,0]
[null,null,null,{"$f":"IFERROR(INDEX(Brief!$M$15:$M$49,MATCH(C537,Brief!$G$15:$G$44,0))*1,\"\")","v":""},null,0,0,0]
[null,null,null,{"$f":"IFERROR(INDEX(Brief!$M$15:$M$49,MATCH(C538,Brief!$G$15:$G$44,0))*1,\"\")","v":""},null,0,0,0]
[null,null,null,{"$f":"IFERROR(INDEX(Brief!$M$15:$M$49,MATCH(C539,Brief!$G$15:$G$44,0))*1,\"\")","v":""},null,0,0,0]
[null,null,null,{"$f":"IFERROR(INDEX(Brief!$M$15:$M$49,MATCH(C540,Brief!$G$15:$G$44,0))*1,\"\")","v":""},null,0,0,0]
[null,null,null,{"$f":"IFERROR(INDEX(Brief!$M$15:$M$49,MATCH(C541,Brief!$G$15:$G$44,0))*1,\"\")","v":""},null,0,0,0]
[null,null,null,{"$f":"IFERROR(INDEX(Brief!$M$15:$M$49,MATCH(C542,Brief!$G$15:$G$44,0))*1,\"\")","v":""},null,0,0,0]
[null,null,null,{"$f":"IFERROR(INDEX(Brief!$M$15:$M$49,MATCH(C543,Brief!$G$15:$G$44,0))*1,\"\")","v":""},null,0,0,0]
[null,null,null,{"$f":"IFERROR(INDEX(Brief!$M$15:$M$49,MATCH(C544,Brief!$G$15:$G$44,0))*1,\"\")","v":""},null,0,0,0]
[null,null,null,{"$f":"IFERROR(INDEX(Brief!$M$15:$M$49,MATCH(C545,Brief!$G$15:$G$44,0))*1,\"\")","v":""},null,0,0,0]
[null,null,null,{"$f":"IFERROR(INDEX(Brief!$M$15:$M$49,MATCH(C546,Brief!$G$15:$G$44,0))*1,\"\")","v":""},null,0,0,0]
[null,null,null,{"$f":"IFERROR(INDEX(Brief!$M$15:$M$49,MATCH(C547,Brief!$G$15:$G$44,0))*1,\"\")","v":""},null,0,0,0]
[null,null,null,{"$f":"IFERROR(INDEX(Brief!$M$15:$M$49,MATCH(C548,Brief!$G$15:$G$44,0))*1,\"\")","v":""},null,0,0,0]
[null,null,null,{"$f":"IFERROR(INDEX(Brief!$M$15:$M$49,MATCH(C549,Brief!$G$15:$G$44,0))*1,\"\")","v":""},null,0,0,0]
[null,null,null,{"$f":"IFERROR(INDEX(Brief!$M$15:$M$49,MATCH(C550,Brief!$G$15:$G$44,0))*1,\"\")","v":""},null,0,0,0]
[null,null,null,{"$f":"IFERROR(INDEX(Brief!$M$15:$M$49,MATCH(C551,Brief!$G$15:$G$44,0))*1,\"\")","v":""},null,0,0,0]
[null,null,null,{"$f":"IFERROR(INDEX(Brief!$M$15:$M$49,MATCH(C552,Brief!$G$15:$G$44,0))*1,\"\")","v":""},null,0,0,0]
[null,null,null,{"$f":"IFERROR(INDEX(Brief!$M$15:$M$49,MATCH(C553,Brief!$G$15:$G$44,0))*1,\"\")","v":""},null,0,0,0]
[null,null,null,{"$f":"IFERROR(INDEX(Brief!$M$15:$M$49,MATCH(C554,Brief!$G$15:$G$44,0))*1,\"\")","v":""},null,0,0,0]
[null,null,null,{"$f":"IFERROR(INDEX(Brief!$M$15:$M$49,MATCH(C555,Brief!$G$15:$G$44,0))*1,\"\")","v":""},null,0,0,0]
[null,null,null,{"$f":"IFERROR(INDEX(Brief!$M$15:$M$49,MATCH(C556,Brief!$G$15:$G$44,0))*1,\"\")","v":""},null,0,0,0]
[null,null,null,{"$f":"IFERROR(INDEX(Brief!$M$15:$M$49,MATCH(C557,Brief!$G$15:$G$44,0))*1,\"\")","v":""},null,0,0,0]
[null,null,null,{"$f":"IFERROR(INDEX(Brief!$M$15:$M$49,MATCH(C558,Brief!$G$15:$G$44,0))*1,\"\")","v":""},null,0,0,0]
[null,null,null,{"$f":"IFERROR(INDEX(Brief!$M$15:$M$49,MATCH(C559,Brief!$G$15:$G$44,0))*1,\"\")","v":""},null,0,0,0]
[null,null,null,{"$f":"IFERROR(INDEX(Brief!$M$15:$M$49,MATCH(C560,Brief!$G$15:$G$44,0))*1,\"\")","v":""},null,0,0,0]
[null,null,null,{"$f":"IFERROR(INDEX(Brief!$M$15:$M$49,MATCH(C561,Brief!$G$15:$G$44,0))*1,\"\")","v":""},null,0,0,0]
[null,null,null,{"$f":"IFERROR(INDEX(Brief!$M$15:$M$49,MATCH(C562,Brief!$G$15:$G$44,0))*1,\"\")","v":""},null,0,0,0]
[null,null,null,{"$f":"IFERROR(INDEX(Brief!$M$15:$M$49,MATCH(C563,Brief!$G$15:$G$44,0))*1,\"\")","v":""},null,0,0,0]
[null,null,null,{"$f":"IFERROR(INDEX(Brief!$M$15:$M$49,MATCH(C564,Brief!$G$15:$G$44,0))*1,\"\")","v":""},null,0,0,0]
[null,null,null,{"$f":"IFERROR(INDEX(Brief!$M$15:$M$49,MATCH(C565,Brief!$G$15:$G$44,0))*1,\"\")","v":""},null,0,0,0]
[null,null,null,{"$f":"IFERROR(INDEX(Brief!$M$15:$M$49,MATCH(C566,Brief!$G$15:$G$44,0))*1,\"\")","v":""},null,0,0,0]
[null,null,null,{"$f":"IFERROR(INDEX(Brief!$M$15:$M$49,MATCH(C567,Brief!$G$15:$G$44,0))*1,\"\")","v":""},null,0,0,0]
[null,null,null,{"$f":"IFERROR(INDEX(Brief!$M$15:$M$49,MATCH(C568,Brief!$G$15:$G$44,0))*1,\"\")","v":""},null,0,0,0]
[null,null,null,{"$f":"IFERROR(INDEX(Brief!$M$15:$M$49,MATCH(C569,Brief!$G$15:$G$44,0))*1,\"\")","v":""},null,0,0,0]
[null,null,null,{"$f":"IFERROR(INDEX(Brief!$M$15:$M$49,MATCH(C570,Brief!$G$15:$G$44,0))*1,\"\")","v":""},null,0,0,0]
[null,null,null,{"$f":"IFERROR(INDEX(Brief!$M$15:$M$49,MATCH(C571,Brief!$G$15:$G$44,0))*1,\"\")","v":""},null,0,0,0]
[null,null,null,{"$f":"IFERROR(INDEX(Brief!$M$15:$M$49,MATCH(C572,Brief!$G$15:$G$44,0))*1,\"\")","v":""},null,0,0,0]
[null,null,null,{"$f":"IFERROR(INDEX(Brief!$M$15:$M$49,MATCH(C573,Brief!$G$15:$G$44,0))*1,\"\")","v":""},null,0,0,0]
[null,null,null,{"$f":"IFERROR(INDEX(Brief!$M$15:$M$49,MATCH(C574,Brief!$G$15:$G$44,0))*1,\"\")","v":""},null,0,0,0]
[null,null,null,{"$f":"IFERROR(INDEX(Brief!$M$15:$M$49,MATCH(C575,Brief!$G$15:$G$44,0))*1,\"\")","v":""},null,0,0,0]
[null,null,null,{"$f":"IFERROR(INDEX(Brief!$M$15:$M$49,MATCH(C576,Brief!$G$15:$G$44,0))*1,\"\")","v":""},null,0,0,0]
[null,null,null,{"$f":"IFERROR(INDEX(Brief!$M$15:$M$49,MATCH(C577,Brief!$G$15:$G$44,0))*1,\"\")","v":""},null,0,0,0]
[null,null,null,{"$f":"IFERROR(INDEX(Brief!$M$15:$M$49,MATCH(C578,Brief!$G$15:$G$44,0))*1,\"\")","v":""},null,0,0,0]
[null,null,null,{"$f":"IFERROR(INDEX(Brief!$M$15:$M$49,MATCH(C579,Brief!$G$15:$G$44,0))*1,\"\")","v":""},null,0,0,0]
[null,null,null,{"$f":"IFERROR(INDEX(Brief!$M$15:$M$49,MATCH(C580,Brief!$G$15:$G$44,0))*1,\"\")","v":""},null,{"$f":"B580","v":0},{"$f":"SUMIF(B:B,F580,D:D)","v":0},{"$f":"IF(G580>0,1,0)","v":0}]
[null,null,null,{"$f":"IFERROR(INDEX(Brief!$M$15:$M$49,MATCH(C581,Brief!$G$15:$G$44,0))*1,\"\")","v":""},null,0,0,0]
[null,null,null,{"$f":"IFERROR(INDEX(Brief!$M$15:$M$49,MATCH(C582,Brief!$G$15:$G$44,0))*1,\"\")","v":""},null,0,0,0]
[null,null,null,{"$f":"IFERROR(INDEX(Brief!$M$15:$M$49,MATCH(C583,Brief!$G$15:$G$44,0))*1,\"\")","v":""},null,0,0,0]
[null,null,null,{"$f":"IFERROR(INDEX(Brief!$M$15:$M$49,MATCH(C584,Brief!$G$15:$G$44,0))*1,\"\")","v":""},null,0,0,0]
[null,null,null,{"$f":"IFERROR(INDEX(Brief!$M$15:$M$49,MATCH(C585,Brief!$G$15:$G$44,0))*1,\"\")","v":""},null,0,0,0]
[null,null,null,{"$f":"IFERROR(INDEX(Brief!$M$15:$M$49,MATCH(C586,Brief!$G$15:$G$44,0))*1,\"\")","v":""},null,0,0,0]
[null,null,null,{"$f":"IFERROR(INDEX(Brief!$M$15:$M$49,MATCH(C587,Brief!$G$15:$G$44,0))*1,\"\")","v":""},null,0,0,0]
[null,null,null,{"$f":"IFERROR(INDEX(Brief!$M$15:$M$49,MATCH(C588,Brief!$G$15:$G$44,0))*1,\"\")","v":""},null,0,0,0]
[null,null,null,{"$f":"IFERROR(INDEX(Brief!$M$15:$M$49,MATCH(C589,Brief!$G$15:$G$44,0))*1,\"\")","v":""},null,0,0,0]
[null,null,null,{"$f":"IFERROR(INDEX(Brief!$M$15:$M$49,MATCH(C590,Brief!$G$15:$G$44,0))*1,\"\")","v":""},null,0,0,0]
[null,null,null,{"$f":"IFERROR(INDEX(Brief!$M$15:$M$49,MATCH(C591,Brief!$G$15:$G$44,0))*1,\"\")","v":""},null,0,0,0]
[null,null,null,{"$f":"IFERROR(INDEX(Brief!$M$15:$M$49,MATCH(C592,Brief!$G$15:$G$44,0))*1,\"\")","v":""},null,0,0,0]
[null,null,null,{"$f":"IFERROR(INDEX(Brief!$M$15:$M$49,MATCH(C593,Brief!$G$15:$G$44,0))*1,\"\")","v":""}]
[null,null,null,{"$f":"IFERROR(INDEX(Brief!$M$15:$M$49,MATCH(C594,Brief!$G$15:$G$44,0))*1,\"\")","v":""}]
[null,null,null,{"$f":"IFERROR(INDEX(Brief!$M$15:$M$49,MATCH(C595,Brief!$G$15:$G$44,0))*1,\"\")","v":""}]
[null,null,null,{"$f":"IFERROR(INDEX(Brief!$M$15:$M$49,MATCH(C596,Brief!$G$15:$G$44,0))*1,\"\")","v":""}]
[null,null,null,{"$f":"IFERROR(INDEX(Brief!$M$15:$M$49,MATCH(C597,Brief!$G$15:$G$44,0))*1,\"\")","v":""}]
[null,null,null,{"$f":"IFERROR(INDEX(Brief!$M$15:$M$49,MATCH(C598,Brief!$G$15:$G$44,0))*1,\"\")","v":""}]
[null,null,null,{"$f":"IFERROR(INDEX(Brief!$M$15:$M$49,MATCH(C599,Brief!$G$15:$G$44,0))*1,\"\")","v":""}]
[null,null,null,{"$f":"IFERROR(INDEX(Brief!$M$15:$M$49,MATCH(C600,Brief!$G$15:$G$44,0))*1,\"\")","v":""}]
[null,null,null,{"$f":"IFERROR(INDEX(Brief!$M$15:$M$49,MATCH(C601,Brief!$G$15:$G$44,0))*1,\"\")","v":""}]
[null,null,null,{"$f":"IFERROR(INDEX(Brief!$M$15:$M$49,MATCH(C602,Brief!$G$15:$G$44,0))*1,\"\")","v":""}]
[null,null,null,{"$f":"IFERROR(INDEX(Brief!$M$15:$M$49,MATCH(C603,Brief!$G$15:$G$44,0))*1,\"\")","v":""}]
[null,null,null,{"$f":"IFERROR(INDEX(Brief!$M$15:$M$49,MATCH(C604,Brief!$G$15:$G$44,0))*1,\"\")","v":""}]
[null,null,null,{"$f":"IFERROR(INDEX(Brief!$M$15:$M$49,MATCH(C605,Brief!$G$15:$G$44,0))*1,\"\")","v":""}]
[null,null,null,{"$f":"IFERROR(INDEX(Brief!$M$15:$M$49,MATCH(C606,Brief!$G$15:$G$44,0))*1,\"\")","v":""}]
[null,null,null,{"$f":"IFERROR(INDEX(Brief!$M$15:$M$49,MATCH(C607,Brief!$G$15:$G$44,0))*1,\"\")","v":""}]
[null,null,null,{"$f":"IFERROR(INDEX(Brief!$M$15:$M$49,MATCH(C608,Brief!$G$15:$G$44,0))*1,\"\")","v":""}]
[null,null,null,{"$f":"IFERROR(INDEX(Brief!$M$15:$M$49,MATCH(C609,Brief!$G$15:$G$44,0))*1,\"\")","v":""}]
[null,null,null,{"$f":"IFERROR(INDEX(Brief!$M$15:$M$49,MATCH(C610,Brief!$G$15:$G$44,0))*1,\"\")","v":""}]
[null,null,null,{"$f":"IFERROR(INDEX(Brief!$M$15:$M$49,MATCH(C611,Brief!$G$15:$G$44,0))*1,\"\")","v":""}]
[null,null,null,{"$f":"IFERROR(INDEX(Brief!$M$15:$M$49,MATCH(C612,Brief!$G$15:$G$44,0))*1,\"\")","v":""}]
[null,null,null,{"$f":"IFERROR(INDEX(Brief!$M$15:$M$49,MATCH(C613,Brief!$G$15:$G$44,0))*1,\"\")","v":""}]
[null,null,null,{"$f":"IFERROR(INDEX(Brief!$M$15:$M$49,MATCH(C614,Brief!$G$15:$G$44,0))*1,\"\")","v":""}]
[null,null,null,{"$f":"IFERROR(INDEX(Brief!$M$15:$M$49,MATCH(C615,Brief!$G$15:$G$44,0))*1,\"\")","v":""}]
[null,null,null,{"$f":"IFERROR(INDEX(Brief!$M$15:$M$49,MATCH(C616,Brief!$G$15:$G$44,0))*1,\"\")","v":""}]
[null,null,null,{"$f":"IFERROR(INDEX(Brief!$M$15:$M$49,MATCH(C617,Brief!$G$15:$G$44,0))*1,\"\")","v":""}]
[null,null,null,{"$f":"IFERROR(INDEX(Brief!$M$15:$M$49,MATCH(C618,Brief!$G$15:$G$44,0))*1,\"\")","v":""}]
[null,null,null,{"$f":"IFERROR(INDEX(Brief!$M$15:$M$49,MATCH(C619,Brief!$G$15:$G$44,0))*1,\"\")","v":""}]
[null,null,null,{"$f":"IFERROR(INDEX(Brief!$M$15:$M$49,MATCH(C620,Brief!$G$15:$G$44,0))*1,\"\")","v":""}]
[null,null,null,{"$f":"IFERROR(INDEX(Brief!$M$15:$M$49,MATCH(C621,Brief!$G$15:$G$44,0))*1,\"\")","v":""}]
[null,null,null,{"$f":"IFERROR(INDEX(Brief!$M$15:$M$49,MATCH(C622,Brief!$G$15:$G$44,0))*1,\"\")","v":""}]
[null,null,null,{"$f":"IFERROR(INDEX(Brief!$M$15:$M$49,MATCH(C623,Brief!$G$15:$G$44,0))*1,\"\")","v":""}]
[null,null,null,{"$f":"IFERROR(INDEX(Brief!$M$15:$M$49,MATCH(C624,Brief!$G$15:$G$44,0))*1,\"\")","v":""}]
[null,null,null,{"$f":"IFERROR(INDEX(Brief!$M$15:$M$49,MATCH(C625,Brief!$G$15:$G$44,0))*1,\"\")","v":""}]
[null,null,null,{"$f":"IFERROR(INDEX(Brief!$M$15:$M$49,MATCH(C626,Brief!$G$15:$G$44,0))*1,\"\")","v":""}]
[null,null,null,{"$f":"IFERROR(INDEX(Brief!$M$15:$M$49,MATCH(C627,Brief!$G$15:$G$44,0))*1,\"\")","v":""}]
[null,null,null,{"$f":"IFERROR(INDEX(Brief!$M$15:$M$49,MATCH(C628,Brief!$G$15:$G$44,0))*1,\"\")","v":""}]
[null,null,null,{"$f":"IFERROR(INDEX(Brief!$M$15:$M$49,MATCH(C629,Brief!$G$15:$G$44,0))*1,\"\")","v":""}]
[null,null,null,{"$f":"IFERROR(INDEX(Brief!$M$15:$M$49,MATCH(C630,Brief!$G$15:$G$44,0))*1,\"\")","v":""}]
[null,null,null,{"$f":"IFERROR(INDEX(Brief!$M$15:$M$49,MATCH(C631,Brief!$G$15:$G$44,0))*1,\"\")","v":""}]
[null,null,null,{"$f":"IFERROR(INDEX(Brief!$M$15:$M$49,MATCH(C632,Brief!$G$15:$G$44,0))*1,\"\")","v":""}]
[null,null,null,{"$f":"IFERROR(INDEX(Brief!$M$15:$M$49,MATCH(C633,Brief!$G$15:$G$44,0))*1,\"\")","v":""}]
[null,null,null,{"$f":"IFERROR(INDEX(Brief!$M$15:$M$49,MATCH(C634,Brief!$G$15:$G$44,0))*1,\"\")","v":""}]
[null,null,null,{"$f":"IFERROR(INDEX(Brief!$M$15:$M$49,MATCH(C635,Brief!$G$15:$G$44,0))*1,\"\")","v":""}]
[null,null,null,{"$f":"IFERROR(INDEX(Brief!$M$15:$M$49,MATCH(C636,Brief!$G$15:$G$44,0))*1,\"\")","v":""}]
[null,null,null,{"$f":"IFERROR(INDEX(Brief!$M$15:$M$49,MATCH(C637,Brief!$G$15:$G$44,0))*1,\"\")","v":""}]
[null,null,null,{"$f":"IFERROR(INDEX(Brief!$M$15:$M$49,MATCH(C638,Brief!$G$15:$G$44,0))*1,\"\")","v":""}]
[null,null,null,{"$f":"IFERROR(INDEX(Brief!$M$15:$M$49,MATCH(C639,Brief!$G$15:$G$44,0))*1,\"\")","v":""}]
[null,null,null,{"$f":"IFERROR(INDEX(Brief!$M$15:$M$49,MATCH(C640,Brief!$G$15:$G$44,0))*1,\"\")","v":""}]
[null,null,null,{"$f":"IFERROR(INDEX(Brief!$M$15:$M$49,MATCH(C641,Brief!$G$15:$G$44,0))*1,\"\")","v":""}]
[null,null,null,{"$f":"IFERROR(INDEX(Brief!$M$15:$M$49,MATCH(C642,Brief!$G$15:$G$44,0))*1,\"\")","v":""}]
[null,null,null,{"$f":"IFERROR(INDEX(Brief!$M$15:$M$49,MATCH(C643,Brief!$G$15:$G$44,0))*1,\"\")","v":""}]
[null,null,null,{"$f":"IFERROR(INDEX(Brief!$M$15:$M$49,MATCH(C644,Brief!$G$15:$G$44,0))*1,\"\")","v":""}]
[null,null,null,{"$f":"IFERROR(INDEX(Brief!$M$15:$M$49,MATCH(C645,Brief!$G$15:$G$44,0))*1,\"\")","v":""}]
[null,null,null,{"$f":"IFERROR(INDEX(Brief!$M$15:$M$49,MATCH(C646,Brief!$G$15:$G$44,0))*1,\"\")","v":""}]
[null,null,null,{"$f":"IFERROR(INDEX(Brief!$M$15:$M$49,MATCH(C647,Brief!$G$15:$G$44,0))*1,\"\")","v":""}]
[null,null,null,{"$f":"IFERROR(INDEX(Brief!$M$15:$M$49,MATCH(C648,Brief!$G$15:$G$44,0))*1,\"\")","v":""}]
[null,null,null,{"$f":"IFERROR(INDEX(Brief!$M$15:$M$49,MATCH(C649,Brief!$G$15:$G$44,0))*1,\"\")","v":""}]
[null,null,null,{"$f":"IFERROR(INDEX(Brief!$M$15:$M$49,MATCH(C650,Brief!$G$15:$G$44,0))*1,\"\")","v":""}]
[null,null,null,{"$f":"IFERROR(INDEX(Brief!$M$15:$M$49,MATCH(C651,Brief!$G$15:$G$44,0))*1,\"\")","v":""}]
[null,null,null,{"$f":"IFERROR(INDEX(Brief!$M$15:$M$49,MATCH(C652,Brief!$G$15:$G$44,0))*1,\"\")","v":""}]
[null,null,null,{"$f":"IFERROR(INDEX(Brief!$M$15:$M$49,MATCH(C653,Brief!$G$15:$G$44,0))*1,\"\")","v":""}]
[null,null,null,{"$f":"IFERROR(INDEX(Brief!$M$15:$M$49,MATCH(C654,Brief!$G$15:$G$44,0))*1,\"\")","v":""}]
[null,null,null,{"$f":"IFERROR(INDEX(Brief!$M$15:$M$49,MATCH(C655,Brief!$G$15:$G$44,0))*1,\"\")","v":""}]
[null,null,null,{"$f":"IFERROR(INDEX(Brief!$M$15:$M$49,MATCH(C656,Brief!$G$15:$G$44,0))*1,\"\")","v":""}]
[null,null,null,{"$f":"IFERROR(INDEX(Brief!$M$15:$M$49,MATCH(C657,Brief!$G$15:$G$44,0))*1,\"\")","v":""}]
[null,null,null,{"$f":"IFERROR(INDEX(Brief!$M$15:$M$49,MATCH(C658,Brief!$G$15:$G$44,0))*1,\"\")","v":""}]
[null,null,null,{"$f":"IFERROR(INDEX(Brief!$M$15:$M$49,MATCH(C659,Brief!$G$15:$G$44,0))*1,\"\")","v":""}]
[null,null,null,{"$f":"IFERROR(INDEX(Brief!$M$15:$M$49,MATCH(C660,Brief!$G$15:$G$44,0))*1,\"\")","v":""}]
[null,null,null,{"$f":"IFERROR(INDEX(Brief!$M$15:$M$49,MATCH(C661,Brief!$G$15:$G$44,0))*1,\"\")","v":""}]
[null,null,null,{"$f":"IFERROR(INDEX(Brief!$M$15:$M$49,MATCH(C662,Brief!$G$15:$G$44,0))*1,\"\")","v":""}]
[null,null,null,{"$f":"IFERROR(INDEX(Brief!$M$15:$M$49,MATCH(C663,Brief!$G$15:$G$44,0))*1,\"\")","v":""}]
[null,null,null,{"$f":"IFERROR(INDEX(Brief!$M$15:$M$49,MATCH(C664,Brief!$G$15:$G$44,0))*1,\"\")","v":""}]
[null,null,null,{"$f":"IFERROR(INDEX(Brief!$M$15:$M$49,MATCH(C665,Brief!$G$15:$G$44,0))*1,\"\")","v":""}]
[null,null,null,{"$f":"IFERROR(INDEX(Brief!$M$15:$M$49,MATCH(C666,Brief!$G$15:$G$44,0))*1,\"\")","v":""}]
[null,null,null,{"$f":"IFERROR(INDEX(Brief!$M$15:$M$49,MATCH(C667,Brief!$G$15:$G$44,0))*1,\"\")","v":""}]
[null,null,null,{"$f":"IFERROR(INDEX(Brief!$M$15:$M$49,MATCH(C668,Brief!$G$15:$G$44,0))*1,\"\")","v":""}]
[null,null,null,{"$f":"IFERROR(INDEX(Brief!$M$15:$M$49,MATCH(C669,Brief!$G$15:$G$44,0))*1,\"\")","v":""}]
[null,null,null,{"$f":"IFERROR(INDEX(Brief!$M$15:$M$49,MATCH(C670,Brief!$G$15:$G$44,0))*1,\"\")","v":""}]
[null,null,null,{"$f":"IFERROR(INDEX(Brief!$M$15:$M$49,MATCH(C671,Brief!$G$15:$G$44,0))*1,\"\")","v":""}]
[null,null,null,{"$f":"IFERROR(INDEX(Brief!$M$15:$M$49,MATCH(C672,Brief!$G$15:$G$44,0))*1,\"\")","v":""}]
[null,null,null,{"$f":"IFERROR(INDEX(Brief!$M$15:$M$49,MATCH(C673,Brief!$G$15:$G$44,0))*1,\"\")","v":""}]
[null,null,null,{"$f":"IFERROR(INDEX(Brief!$M$15:$M$49,MATCH(C674,Brief!$G$15:$G$44,0))*1,\"\")","v":""}]
[null,null,null,{"$f":"IFERROR(INDEX(Brief!$M$15:$M$49,MATCH(C675,Brief!$G$15:$G$44,0))*1,\"\")","v":""}]
[null,null,null,{"$f":"IFERROR(INDEX(Brief!$M$15:$M$49,MATCH(C676,Brief!$G$15:$G$44,0))*1,\"\")","v":""}]
[null,null,null,{"$f":"IFERROR(INDEX(Brief!$M$15:$M$49,MATCH(C677,Brief!$G$15:$G$44,0))*1,\"\")","v":""}]
[null,null,null,{"$f":"IFERROR(INDEX(Brief!$M$15:$M$49,MATCH(C678,Brief!$G$15:$G$44,0))*1,\"\")","v":""}]
[null,null,null,{"$f":"IFERROR(INDEX(Brief!$M$15:$M$49,MATCH(C679,Brief!$G$15:$G$44,0))*1,\"\")","v":""}]
[null,null,null,{"$f":"IFERROR(INDEX(Brief!$M$15:$M$49,MATCH(C680,Brief!$G$15:$G$44,0))*1,\"\")","v":""}]
[null,null,null,{"$f":"IFERROR(INDEX(Brief!$M$15:$M$49,MATCH(C681,Brief!$G$15:$G$44,0))*1,\"\")","v":""}]
[null,null,null,{"$f":"IFERROR(INDEX(Brief!$M$15:$M$49,MATCH(C682,Brief!$G$15:$G$44,0))*1,\"\")","v":""}]
[null,null,null,{"$f":"IFERROR(INDEX(Brief!$M$15:$M$49,MATCH(C683,Brief!$G$15:$G$44,0))*1,\"\")","v":""}]
[null,null,null,{"$f":"IFERROR(INDEX(Brief!$M$15:$M$49,MATCH(C684,Brief!$G$15:$G$44,0))*1,\"\")","v":""}]
[null,null,null,{"$f":"IFERROR(INDEX(Brief!$M$15:$M$49,MATCH(C685,Brief!$G$15:$G$44,0))*1,\"\")","v":""}]
[null,null,null,{"$f":"IFERROR(INDEX(Brief!$M$15:$M$49,MATCH(C686,Brief!$G$15:$G$44,0))*1,\"\")","v":""}]
[null,null,null,{"$f":"IFERROR(INDEX(Brief!$M$15:$M$49,MATCH(C687,Brief!$G$15:$G$44,0))*1,\"\")","v":""}]
[null,null,null,{"$f":"IFERROR(INDEX(Brief!$M$15:$M$49,MATCH(C688,Brief!$G$15:$G$44,0))*1,\"\")","v":""}]
[null,null,null,{"$f":"IFERROR(INDEX(Brief!$M$15:$M$49,MATCH(C689,Brief!$G$15:$G$44,0))*1,\"\")","v":""}]
[null,null,null,{"$f":"IFERROR(INDEX(Brief!$M$15:$M$49,MATCH(C690,Brief!$G$15:$G$44,0))*1,\"\")","v":""}]
[null,null,null,{"$f":"IFERROR(INDEX(Brief!$M$15:$M$49,MATCH(C691,Brief!$G$15:$G$44,0))*1,\"\")","v":""}]
[null,null,null,{"$f":"IFERROR(INDEX(Brief!$M$15:$M$49,MATCH(C692,Brief!$G$15:$G$44,0))*1,\"\")","v":""}]
[null,null,null,{"$f":"IFERROR(INDEX(Brief!$M$15:$M$49,MATCH(C693,Brief!$G$15:$G$44,0))*1,\"\")","v":""}]
[null,null,null,{"$f":"IFERROR(INDEX(Brief!$M$15:$M$49,MATCH(C694,Brief!$G$15:$G$44,0))*1,\"\")","v":""}]
[null,null,null,{"$f":"IFERROR(INDEX(Brief!$M$15:$M$49,MATCH(C695,Brief!$G$15:$G$44,0))*1,\"\")","v":""}]
[null,null,null,{"$f":"IFERROR(INDEX(Brief!$M$15:$M$49,MATCH(C696,Brief!$G$15:$G$44,0))*1,\"\")","v":""}]
[null,null,null,{"$f":"IFERROR(INDEX(Brief!$M$15:$M$49,MATCH(C697,Brief!$G$15:$G$44,0))*1,\"\")","v":""}]
[null,null,null,{"$f":"IFERROR(INDEX(Brief!$M$15:$M$49,MATCH(C698,Brief!$G$15:$G$44,0))*1,\"\")","v":""}]
[null,null,null,{"$f":"IFERROR(INDEX(Brief!$M$15:$M$49,MATCH(C699,Brief!$G$15:$G$44,0))*1,\"\")","v":""}]
[null,null,null,{"$f":"IFERROR(INDEX(Brief!$M$15:$M$49,MATCH(C700,Brief!$G$15:$G$44,0))*1,\"\")","v":""}]
[null,null,null,{"$f":"IFERROR(INDEX(Brief!$M$15:$M$49,MATCH(C701,Brief!$G$15:$G$44,0))*1,\"\")","v":""}]
[null,null,null,{"$f":"IFERROR(INDEX(Brief!$M$15:$M$49,MATCH(C702,Brief!$G$15:$G$44,0))*1,\"\")","v":""}]
[null,null,null,{"$f":"IFERROR(INDEX(Brief!$M$15:$M$49,MATCH(C703,Brief!$G$15:$G$44,0))*1,\"\")","v":""}]
[null,null,null,{"$f":"IFERROR(INDEX(Brief!$M$15:$M$49,MATCH(C704,Brief!$G$15:$G$44,0))*1,\"\")","v":""}]
[null,null,null,{"$f":"IFERROR(INDEX(Brief!$M$15:$M$49,MATCH(C705,Brief!$G$15:$G$44,0))*1,\"\")","v":""}]
[null,null,null,{"$f":"IFERROR(INDEX(Brief!$M$15:$M$49,MATCH(C706,Brief!$G$15:$G$44,0))*1,\"\")","v":""}]
[null,null,null,{"$f":"IFERROR(INDEX(Brief!$M$15:$M$49,MATCH(C707,Brief!$G$15:$G$44,0))*1,\"\")","v":""}]
[null,null,null,{"$f":"IFERROR(INDEX(Brief!$M$15:$M$49,MATCH(C708,Brief!$G$15:$G$44,0))*1,\"\")","v":""}]
[null,null,null,{"$f":"IFERROR(INDEX(Brief!$M$15:$M$49,MATCH(C709,Brief!$G$15:$G$44,0))*1,\"\")","v":""}]
[null,null,null,{"$f":"IFERROR(INDEX(Brief!$M$15:$M$49,MATCH(C710,Brief!$G$15:$G$44,0))*1,\"\")","v":""}]
[null,null,null,{"$f":"IFERROR(INDEX(Brief!$M$15:$M$49,MATCH(C711,Brief!$G$15:$G$44,0))*1,\"\")","v":""}]
[null,null,null,{"$f":"IFERROR(INDEX(Brief!$M$15:$M$49,MATCH(C712,Brief!$G$15:$G$44,0))*1,\"\")","v":""}]
[null,null,null,{"$f":"IFERROR(INDEX(Brief!$M$15:$M$49,MATCH(C713,Brief!$G$15:$G$44,0))*1,\"\")","v":""}]
[null,null,null,{"$f":"IFERROR(INDEX(Brief!$M$15:$M$49,MATCH(C714,Brief!$G$15:$G$44,0))*1,\"\")","v":""}]
[null,null,null,{"$f":"IFERROR(INDEX(Brief!$M$15:$M$49,MATCH(C715,Brief!$G$15:$G$44,0))*1,\"\")","v":""}]
[null,null,null,{"$f":"IFERROR(INDEX(Brief!$M$15:$M$49,MATCH(C716,Brief!$G$15:$G$44,0))*1,\"\")","v":""}]
[null,null,null,{"$f":"IFERROR(INDEX(Brief!$M$15:$M$49,MATCH(C717,Brief!$G$15:$G$44,0))*1,\"\")","v":""}]
[null,null,null,{"$f":"IFERROR(INDEX(Brief!$M$15:$M$49,MATCH(C718,Brief!$G$15:$G$44,0))*1,\"\")","v":""}]
[null,null,null,{"$f":"IFERROR(INDEX(Brief!$M$15:$M$49,MATCH(C719,Brief!$G$15:$G$44,0))*1,\"\")","v":""}]
[null,null,null,{"$f":"IFERROR(INDEX(Brief!$M$15:$M$49,MATCH(C720,Brief!$G$15:$G$44,0))*1,\"\")","v":""}]
[null,null,null,{"$f":"IFERROR(INDEX(Brief!$M$15:$M$49,MATCH(C721,Brief!$G$15:$G$44,0))*1,\"\")","v":""}]
[null,null,null,{"$f":"IFERROR(INDEX(Brief!$M$15:$M$49,MATCH(C722,Brief!$G$15:$G$44,0))*1,\"\")","v":""}]
[null,null,null,{"$f":"IFERROR(INDEX(Brief!$M$15:$M$49,MATCH(C723,Brief!$G$15:$G$44,0))*1,\"\")","v":""}]
[null,null,null,{"$f":"IFERROR(INDEX(Brief!$M$15:$M$49,MATCH(C724,Brief!$G$15:$G$44,0))*1,\"\")","v":""}]
[null,null,null,{"$f":"IFERROR(INDEX(Brief!$M$15:$M$49,MATCH(C725,Brief!$G$15:$G$44,0))*1,\"\")","v":""}]
[null,null,null,{"$f":"IFERROR(INDEX(Brief!$M$15:$M$49,MATCH(C726,Brief!$G$15:$G$44,0))*1,\"\")","v":""}]
[null,null,null,{"$f":"IFERROR(INDEX(Brief!$M$15:$M$49,MATCH(C727,Brief!$G$15:$G$44,0))*1,\"\")","v":""}]
[null,null,null,{"$f":"IFERROR(INDEX(Brief!$M$15:$M$49,MATCH(C728,Brief!$G$15:$G$44,0))*1,\"\")","v":""}]
[null,null,null,{"$f":"IFERROR(INDEX(Brief!$M$15:$M$49,MATCH(C729,Brief!$G$15:$G$44,0))*1,\"\")","v":""}]
[null,null,null,{"$f":"IFERROR(INDEX(Brief!$M$15:$M$49,MATCH(C730,Brief!$G$15:$G$44,0))*1,\"\")","v":""}]
[null,null,null,{"$f":"IFERROR(INDEX(Brief!$M$15:$M$49,MATCH(C731,Brief!$G$15:$G$44,0))*1,\"\")","v":""}]
[null,null,null,{"$f":"IFERROR(INDEX(Brief!$M$15:$M$49,MATCH(C732,Brief!$G$15:$G$44,0))*1,\"\")","v":""}]
[null,null,null,{"$f":"IFERROR(INDEX(Brief!$M$15:$M$49,MATCH(C733,Brief!$G$15:$G$44,0))*1,\"\")","v":""}]
[null,null,null,{"$f":"IFERROR(INDEX(Brief!$M$15:$M$49,MATCH(C734,Brief!$G$15:$G$44,0))*1,\"\")","v":""}]
[null,null,null,{"$f":"IFERROR(INDEX(Brief!$M$15:$M$49,MATCH(C735,Brief!$G$15:$G$44,0))*1,\"\")","v":""}]
[null,null,null,{"$f":"IFERROR(INDEX(Brief!$M$15:$M$49,MATCH(C736,Brief!$G$15:$G$44,0))*1,\"\")","v":""}]
[null,null,null,{"$f":"IFERROR(INDEX(Brief!$M$15:$M$49,MATCH(C737,Brief!$G$15:$G$44,0))*1,\"\")","v":""}]
[null,null,null,{"$f":"IFERROR(INDEX(Brief!$M$15:$M$49,MATCH(C738,Brief!$G$15:$G$44,0))*1,\"\")","v":""}]
[null,null,null,{"$f":"IFERROR(INDEX(Brief!$M$15:$M$49,MATCH(C739,Brief!$G$15:$G$44,0))*1,\"\")","v":""}]
[null,null,null,{"$f":"IFERROR(INDEX(Brief!$M$15:$M$49,MATCH(C740,Brief!$G$15:$G$44,0))*1,\"\")","v":""}]
[null,null,null,{"$f":"IFERROR(INDEX(Brief!$M$15:$M$49,MATCH(C741,Brief!$G$15:$G$44,0))*1,\"\")","v":""}]
[null,null,null,{"$f":"IFERROR(INDEX(Brief!$M$15:$M$49,MATCH(C742,Brief!$G$15:$G$44,0))*1,\"\")","v":""}]
[null,null,null,{"$f":"IFERROR(INDEX(Brief!$M$15:$M$49,MATCH(C743,Brief!$G$15:$G$44,0))*1,\"\")","v":""}]
[null,null,null,{"$f":"IFERROR(INDEX(Brief!$M$15:$M$49,MATCH(C744,Brief!$G$15:$G$44,0))*1,\"\")","v":""}]
[null,null,null,{"$f":"IFERROR(INDEX(Brief!$M$15:$M$49,MATCH(C745,Brief!$G$15:$G$44,0))*1,\"\")","v":""}]
[null,null,null,{"$f":"IFERROR(INDEX(Brief!$M$15:$M$49,MATCH(C746,Brief!$G$15:$G$44,0))*1,\"\")","v":""}]
[null,null,null,{"$f":"IFERROR(INDEX(Brief!$M$15:$M$49,MATCH(C747,Brief!$G$15:$G$44,0))*1,\"\")","v":""}]
[null,null,null,{"$f":"IFERROR(INDEX(Brief!$M$15:$M$49,MATCH(C748,Brief!$G$15:$G$44,0))*1,\"\")","v":""}]
[null,null,null,{"$f":"IFERROR(INDEX(Brief!$M$15:$M$49,MATCH(C749,Brief!$G$15:$G$44,0))*1,\"\")","v":""}]
[null,null,null,{"$f":"IFERROR(INDEX(Brief!$M$15:$M$49,MATCH(C750,Brief!$G$15:$G$44,0))*1,\"\")","v":""}]
[null,null,null,{"$f":"IFERROR(INDEX(Brief!$M$15:$M$49,MATCH(C751,Brief!$G$15:$G$44,0))*1,\"\")","v":""}]
[null,null,null,{"$f":"IFERROR(INDEX(Brief!$M$15:$M$49,MATCH(C752,Brief!$G$15:$G$44,0))*1,\"\")","v":""}]
[null,null,null,{"$f":"IFERROR(INDEX(Brief!$M$15:$M$49,MATCH(C753,Brief!$G$15:$G$44,0))*1,\"\")","v":""}]
[null,null,null,{"$f":"IFERROR(INDEX(Brief!$M$15:$M$49,MATCH(C754,Brief!$G$15:$G$44,0))*1,\"\")","v":""}]
[null,null,null,{"$f":"IFERROR(INDEX(Brief!$M$15:$M$49,MATCH(C755,Brief!$G$15:$G$44,0))*1,\"\")","v":""}]
[null,null,null,{"$f":"IFERROR(INDEX(Brief!$M$15:$M$49,MATCH(C756,Brief!$G$15:$G$44,0))*1,\"\")","v":""}]
[null,null,null,{"$f":"IFERROR(INDEX(Brief!$M$15:$M$49,MATCH(C757,Brief!$G$15:$G$44,0))*1,\"\")","v":""}]
[null,null,null,{"$f":"IFERROR(INDEX(Brief!$M$15:$M$49,MATCH(C758,Brief!$G$15:$G$44,0))*1,\"\")","v":""}]
[null,null,null,{"$f":"IFERROR(INDEX(Brief!$M$15:$M$49,MATCH(C759,Brief!$G$15:$G$44,0))*1,\"\")","v":""}]
[null,null,null,{"$f":"IFERROR(INDEX(Brief!$M$15:$M$49,MATCH(C760,Brief!$G$15:$G$44,0))*1,\"\")","v":""}]
[null,null,null,{"$f":"IFERROR(INDEX(Brief!$M$15:$M$49,MATCH(C761,Brief!$G$15:$G$44,0))*1,\"\")","v":""}]
[null,null,null,{"$f":"IFERROR(INDEX(Brief!$M$15:$M$49,MATCH(C762,Brief!$G$15:$G$44,0))*1,\"\")","v":""}]
[null,null,null,{"$f":"IFERROR(INDEX(Brief!$M$15:$M$49,MATCH(C763,Brief!$G$15:$G$44,0))*1,\"\")","v":""}]
[null,null,null,{"$f":"IFERROR(INDEX(Brief!$M$15:$M$49,MATCH(C764,Brief!$G$15:$G$44,0))*1,\"\")","v":""}]
[null,null,null,{"$f":"IFERROR(INDEX(Brief!$M$15:$M$49,MATCH(C765,Brief!$G$15:$G$44,0))*1,\"\")","v":""}]
[null,null,null,{"$f":"IFERROR(INDEX(Brief!$M$15:$M$49,MATCH(C766,Brief!$G$15:$G$44,0))*1,\"\")","v":""}]
[null,null,null,{"$f":"IFERROR(INDEX(Brief!$M$15:$M$49,MATCH(C767,Brief!$G$15:$G$44,0))*1,\"\")","v":""}]
[null,null,null,{"$f":"IFERROR(INDEX(Brief!$M$15:$M$49,MATCH(C768,Brief!$G$15:$G$44,0))*1,\"\")","v":""}]
[null,null,null,{"$f":"IFERROR(INDEX(Brief!$M$15:$M$49,MATCH(C769,Brief!$G$15:$G$44,0))*1,\"\")","v":""}]
[null,null,null,{"$f":"IFERROR(INDEX(Brief!$M$15:$M$49,MATCH(C770,Brief!$G$15:$G$44,0))*1,\"\")","v":""}]
[null,null,null,{"$f":"IFERROR(INDEX(Brief!$M$15:$M$49,MATCH(C771,Brief!$G$15:$G$44,0))*1,\"\")","v":""}]
[null,null,null,{"$f":"IFERROR(INDEX(Brief!$M$15:$M$49,MATCH(C772,Brief!$G$15:$G$44,0))*1,\"\")","v":""}]
[null,null,null,{"$f":"IFERROR(INDEX(Brief!$M$15:$M$49,MATCH(C773,Brief!$G$15:$G$44,0))*1,\"\")","v":""}]
[null,null,null,{"$f":"IFERROR(INDEX(Brief!$M$15:$M$49,MATCH(C774,Brief!$G$15:$G$44,0))*1,\"\")","v":""}]
[null,null,null,{"$f":"IFERROR(INDEX(Brief!$M$15:$M$49,MATCH(C775,Brief!$G$15:$G$44,0))*1,\"\")","v":""}]
[null,null,null,{"$f":"IFERROR(INDEX(Brief!$M$15:$M$49,MATCH(C776,Brief!$G$15:$G$44,0))*1,\"\")","v":""}]
[null,null,null,{"$f":"IFERROR(INDEX(Brief!$M$15:$M$49,MATCH(C777,Brief!$G$15:$G$44,0))*1,\"\")","v":""}]
[null,null,null,{"$f":"IFERROR(INDEX(Brief!$M$15:$M$49,MATCH(C778,Brief!$G$15:$G$44,0))*1,\"\")","v":""}]
[null,null,null,{"$f":"IFERROR(INDEX(Brief!$M$15:$M$49,MATCH(C779,Brief!$G$15:$G$44,0))*1,\"\")","v":""}]
[null,null,null,{"$f":"IFERROR(INDEX(Brief!$M$15:$M$49,MATCH(C780,Brief!$G$15:$G$44,0))*1,\"\")","v":""}]
[null,null,null,{"$f":"IFERROR(INDEX(Brief!$M$15:$M$49,MATCH(C781,Brief!$G$15:$G$44,0))*1,\"\")","v":""}]
[null,null,null,{"$f":"IFERROR(INDEX(Brief!$M$15:$M$49,MATCH(C782,Brief!$G$15:$G$44,0))*1,\"\")","v":""}]
[null,null,null,{"$f":"IFERROR(INDEX(Brief!$M$15:$M$49,MATCH(C783,Brief!$G$15:$G$44,0))*1,\"\")","v":""}]
[null,null,null,{"$f":"IFERROR(INDEX(Brief!$M$15:$M$49,MATCH(C784,Brief!$G$15:$G$44,0))*1,\"\")","v":""}]
[null,null,null,{"$f":"IFERROR(INDEX(Brief!$M$15:$M$49,MATCH(C785,Brief!$G$15:$G$44,0))*1,\"\")","v":""}]
[null,null,null,{"$f":"IFERROR(INDEX(Brief!$M$15:$M$49,MATCH(C786,Brief!$G$15:$G$44,0))*1,\"\")","v":""}]
[null,null,null,{"$f":"IFERROR(INDEX(Brief!$M$15:$M$49,MATCH(C787,Brief!$G$15:$G$44,0))*1,\"\")","v":""}]
[null,null,null,{"$f":"IFERROR(INDEX(Brief!$M$15:$M$49,MATCH(C788,Brief!$G$15:$G$44,0))*1,\"\")","v":""}]
[null,null,null,{"$f":"IFERROR(INDEX(Brief!$M$15:$M$49,MATCH(C789,Brief!$G$15:$G$44,0))*1,\"\")","v":""}]
[null,null,null,{"$f":"IFERROR(INDEX(Brief!$M$15:$M$49,MATCH(C790,Brief!$G$15:$G$44,0))*1,\"\")","v":""}]
[null,null,null,{"$f":"IFERROR(INDEX(Brief!$M$15:$M$49,MATCH(C791,Brief!#REF!,0))*1,\"\")","v":""}]
[null,null,null,{"$f":"IFERROR(INDEX(Brief!$M$15:$M$49,MATCH(C792,Brief!#REF!,0))*1,\"\")","v":""}]
[null,null,null,{"$f":"IFERROR(INDEX(Brief!$M$15:$M$49,MATCH(C793,Brief!#REF!,0))*1,\"\")","v":""}]
[null,null,null,{"$f":"IFERROR(INDEX(Brief!$M$15:$M$49,MATCH(C794,Brief!#REF!,0))*1,\"\")","v":""}]
[null,null,null,{"$f":"IFERROR(INDEX(Brief!$M$15:$M$49,MATCH(C795,Brief!#REF!,0))*1,\"\")","v":""}]
[null,null,null,{"$f":"IFERROR(INDEX(Brief!$M$15:$M$49,MATCH(C796,Brief!#REF!,0))*1,\"\")","v":""}]
[null,null,null,{"$f":"IFERROR(INDEX(Brief!$M$15:$M$49,MATCH(C797,Brief!#REF!,0))*1,\"\")","v":""}]
[null,null,null,{"$f":"IFERROR(INDEX(Brief!$M$15:$M$49,MATCH(C798,Brief!#REF!,0))*1,\"\")","v":""}]
[null,null,null,{"$f":"IFERROR(INDEX(Brief!$M$15:$M$49,MATCH(C799,Brief!#REF!,0))*1,\"\")","v":""}]
[null,null,null,{"$f":"IFERROR(INDEX(Brief!$M$15:$M$49,MATCH(C800,Brief!#REF!,0))*1,\"\")","v":""}]
[null,null,null,{"$f":"IFERROR(INDEX(Brief!$M$15:$M$49,MATCH(C801,Brief!#REF!,0))*1,\"\")","v":""}]
[null,null,null,{"$f":"IFERROR(INDEX(Brief!$M$15:$M$49,MATCH(C802,Brief!#REF!,0))*1,\"\")","v":""}]
[null,null,null,{"$f":"IFERROR(INDEX(Brief!$M$15:$M$49,MATCH(C803,Brief!#REF!,0))*1,\"\")","v":""}]
[null,null,null,{"$f":"IFERROR(INDEX(Brief!$M$15:$M$49,MATCH(C804,Brief!#REF!,0))*1,\"\")","v":""}]
[null,null,null,{"$f":"IFERROR(INDEX(Brief!$M$15:$M$49,MATCH(C805,Brief!#REF!,0))*1,\"\")","v":""}]
[null,null,null,{"$f":"IFERROR(INDEX(Brief!$M$15:$M$49,MATCH(C806,Brief!#REF!,0))*1,\"\")","v":""}]
[null,null,null,{"$f":"IFERROR(INDEX(Brief!$M$15:$M$49,MATCH(C807,Brief!#REF!,0))*1,\"\")","v":""}]
[null,null,null,{"$f":"IFERROR(INDEX(Brief!$M$15:$M$49,MATCH(C808,Brief!#REF!,0))*1,\"\")","v":""}]
[null,null,null,{"$f":"IFERROR(INDEX(Brief!$M$15:$M$49,MATCH(C809,Brief!#REF!,0))*1,\"\")","v":""}]
[null,null,null,{"$f":"IFERROR(INDEX(Brief!$M$15:$M$49,MATCH(C810,Brief!#REF!,0))*1,\"\")","v":""}]
[null,null,null,{"$f":"IFERROR(INDEX(Brief!$M$15:$M$49,MATCH(C811,Brief!#REF!,0))*1,\"\")","v":""}]
[null,null,null,{"$f":"IFERROR(INDEX(Brief!$M$15:$M$49,MATCH(C812,Brief!#REF!,0))*1,\"\")","v":""}]
[null,null,null,{"$f":"IFERROR(INDEX(Brief!$M$15:$M$49,MATCH(C813,Brief!#REF!,0))*1,\"\")","v":""}]
[null,null,null,{"$f":"IFERROR(INDEX(Brief!$M$15:$M$49,MATCH(C814,Brief!#REF!,0))*1,\"\")","v":""}]
[null,null,null,{"$f":"IFERROR(INDEX(Brief!$M$15:$M$49,MATCH(C815,Brief!#REF!,0))*1,\"\")","v":""}]
[null,null,null,{"$f":"IFERROR(INDEX(Brief!$M$15:$M$49,MATCH(C816,Brief!#REF!,0))*1,\"\")","v":""}]
[null,null,null,{"$f":"IFERROR(INDEX(Brief!$M$15:$M$49,MATCH(C817,Brief!#REF!,0))*1,\"\")","v":""}]
[null,null,null,{"$f":"IFERROR(INDEX(Brief!$M$15:$M$49,MATCH(C818,Brief!#REF!,0))*1,\"\")","v":""}]
[null,null,null,{"$f":"IFERROR(INDEX(Brief!$M$15:$M$49,MATCH(C819,Brief!#REF!,0))*1,\"\")","v":""}]
[null,null,null,{"$f":"IFERROR(INDEX(Brief!$M$15:$M$49,MATCH(C820,Brief!#REF!,0))*1,\"\")","v":""}]
[null,null,null,{"$f":"IFERROR(INDEX(Brief!$M$15:$M$49,MATCH(C821,Brief!#REF!,0))*1,\"\")","v":""}]
[null,null,null,{"$f":"IFERROR(INDEX(Brief!$M$15:$M$49,MATCH(C822,Brief!#REF!,0))*1,\"\")","v":""}]
[null,null,null,{"$f":"IFERROR(INDEX(Brief!$M$15:$M$49,MATCH(C823,Brief!#REF!,0))*1,\"\")","v":""}]
[null,null,null,{"$f":"IFERROR(INDEX(Brief!$M$15:$M$49,MATCH(C824,Brief!#REF!,0))*1,\"\")","v":""}]
[null,null,null,{"$f":"IFERROR(INDEX(Brief!$M$15:$M$49,MATCH(C825,Brief!#REF!,0))*1,\"\")","v":""}]
[null,null,null,{"$f":"IFERROR(INDEX(Brief!$M$15:$M$49,MATCH(C826,Brief!#REF!,0))*1,\"\")","v":""}]
[null,null,null,{"$f":"IFERROR(INDEX(Brief!$M$15:$M$49,MATCH(C827,Brief!#REF!,0))*1,\"\")","v":""}]
[null,null,null,{"$f":"IFERROR(INDEX(Brief!$M$15:$M$49,MATCH(C828,Brief!#REF!,0))*1,\"\")","v":""}]
[null,null,null,{"$f":"IFERROR(INDEX(Brief!$M$15:$M$49,MATCH(C829,Brief!#REF!,0))*1,\"\")","v":""}]
[null,null,null,{"$f":"IFERROR(INDEX(Brief!$M$15:$M$49,MATCH(C830,Brief!#REF!,0))*1,\"\")","v":""}]
[null,null,null,{"$f":"IFERROR(INDEX(Brief!$M$15:$M$49,MATCH(C831,Brief!#REF!,0))*1,\"\")","v":""}]
[null,null,null,{"$f":"IFERROR(INDEX(Brief!$M$15:$M$49,MATCH(C832,Brief!#REF!,0))*1,\"\")","v":""}]
[null,null,null,{"$f":"IFERROR(INDEX(Brief!$M$15:$M$49,MATCH(C833,Brief!#REF!,0))*1,\"\")","v":""}]
[null,null,null,{"$f":"IFERROR(INDEX(Brief!$M$15:$M$49,MATCH(C834,Brief!#REF!,0))*1,\"\")","v":""}]
[null,null,null,{"$f":"IFERROR(INDEX(Brief!$M$15:$M$49,MATCH(C835,Brief!#REF!,0))*1,\"\")","v":""}]
[null,null,null,{"$f":"IFERROR(INDEX(Brief!$M$15:$M$49,MATCH(C836,Brief!#REF!,0))*1,\"\")","v":""}]
[null,null,null,{"$f":"IFERROR(INDEX(Brief!$M$15:$M$49,MATCH(C837,Brief!#REF!,0))*1,\"\")","v":""}]
[null,null,null,{"$f":"IFERROR(INDEX(Brief!$M$15:$M$49,MATCH(C838,Brief!#REF!,0))*1,\"\")","v":""}]
[null,null,null,{"$f":"IFERROR(INDEX(Brief!$M$15:$M$49,MATCH(C839,Brief!#REF!,0))*1,\"\")","v":""}]
[null,null,null,{"$f":"IFERROR(INDEX(Brief!$M$15:$M$49,MATCH(C840,Brief!#REF!,0))*1,\"\")","v":""}]
[null,null,null,{"$f":"IFERROR(INDEX(Brief!$M$15:$M$49,MATCH(C841,Brief!#REF!,0))*1,\"\")","v":""}]
[null,null,null,{"$f":"IFERROR(INDEX(Brief!$M$15:$M$49,MATCH(C842,Brief!#REF!,0))*1,\"\")","v":""}]
[null,null,null,{"$f":"IFERROR(INDEX(Brief!$M$15:$M$49,MATCH(C843,Brief!#REF!,0))*1,\"\")","v":""}]
[null,null,null,{"$f":"IFERROR(INDEX(Brief!$M$15:$M$49,MATCH(C844,Brief!#REF!,0))*1,\"\")","v":""}]
[null,null,null,{"$f":"IFERROR(INDEX(Brief!$M$15:$M$49,MATCH(C845,Brief!#REF!,0))*1,\"\")","v":""}]
[null,null,null,{"$f":"IFERROR(INDEX(Brief!$M$15:$M$49,MATCH(C846,Brief!#REF!,0))*1,\"\")","v":""}]
[null,null,null,{"$f":"IFERROR(INDEX(Brief!$M$15:$M$49,MATCH(C847,Brief!#REF!,0))*1,\"\")","v":""}]
[null,null,null,{"$f":"IFERROR(INDEX(Brief!$M$15:$M$49,MATCH(C848,Brief!#REF!,0))*1,\"\")","v":""}]
[null,null,null,{"$f":"IFERROR(INDEX(Brief!$M$15:$M$49,MATCH(C849,Brief!#REF!,0))*1,\"\")","v":""}]
[null,null,null,{"$f":"IFERROR(INDEX(Brief!$M$15:$M$49,MATCH(C850,Brief!#REF!,0))*1,\"\")","v":""}]
[null,null,null,{"$f":"IFERROR(INDEX(Brief!$M$15:$M$49,MATCH(C851,Brief!#REF!,0))*1,\"\")","v":""}]
[null,null,null,{"$f":"IFERROR(INDEX(Brief!$M$15:$M$49,MATCH(C852,Brief!#REF!,0))*1,\"\")","v":""}]
[null,null,null,{"$f":"IFERROR(INDEX(Brief!$M$15:$M$49,MATCH(C853,Brief!#REF!,0))*1,\"\")","v":""}]
[null,null,null,{"$f":"IFERROR(INDEX(Brief!$M$15:$M$49,MATCH(C854,Brief!#REF!,0))*1,\"\")","v":""}]
[null,null,null,{"$f":"IFERROR(INDEX(Brief!$M$15:$M$49,MATCH(C855,Brief!#REF!,0))*1,\"\")","v":""}]
[null,null,null,{"$f":"IFERROR(INDEX(Brief!$M$15:$M$49,MATCH(C856,Brief!#REF!,0))*1,\"\")","v":""}]
[null,null,null,{"$f":"IFERROR(INDEX(Brief!$M$15:$M$49,MATCH(C857,Brief!#REF!,0))*1,\"\")","v":""}]
[null,null,null,{"$f":"IFERROR(INDEX(Brief!$M$15:$M$49,MATCH(C858,Brief!#REF!,0))*1,\"\")","v":""}]
[null,null,null,{"$f":"IFERROR(INDEX(Brief!$M$15:$M$49,MATCH(C859,Brief!#REF!,0))*1,\"\")","v":""}]
[null,null,null,{"$f":"IFERROR(INDEX(Brief!$M$15:$M$49,MATCH(C860,Brief!#REF!,0))*1,\"\")","v":""}]
[null,null,null,{"$f":"IFERROR(INDEX(Brief!$M$15:$M$49,MATCH(C861,Brief!#REF!,0))*1,\"\")","v":""}]
[null,null,null,{"$f":"IFERROR(INDEX(Brief!$M$15:$M$49,MATCH(C862,Brief!#REF!,0))*1,\"\")","v":""}]
[null,null,null,{"$f":"IFERROR(INDEX(Brief!$M$15:$M$49,MATCH(C863,Brief!#REF!,0))*1,\"\")","v":""}]
[null,null,null,{"$f":"IFERROR(INDEX(Brief!$M$15:$M$49,MATCH(C864,Brief!#REF!,0))*1,\"\")","v":""}]
[null,null,null,{"$f":"IFERROR(INDEX(Brief!$M$15:$M$49,MATCH(C865,Brief!#REF!,0))*1,\"\")","v":""}]
[null,null,null,{"$f":"IFERROR(INDEX(Brief!$M$15:$M$49,MATCH(C866,Brief!#REF!,0))*1,\"\")","v":""}]
[null,null,null,{"$f":"IFERROR(INDEX(Brief!$M$15:$M$49,MATCH(C867,Brief!#REF!,0))*1,\"\")","v":""}]
[null,null,null,{"$f":"IFERROR(INDEX(Brief!$M$15:$M$49,MATCH(C868,Brief!#REF!,0))*1,\"\")","v":""}]
[null,null,null,{"$f":"IFERROR(INDEX(Brief!$M$15:$M$49,MATCH(C869,Brief!#REF!,0))*1,\"\")","v":""}]
[null,null,null,{"$f":"IFERROR(INDEX(Brief!$M$15:$M$49,MATCH(C870,Brief!#REF!,0))*1,\"\")","v":""}]
[null,null,null,{"$f":"IFERROR(INDEX(Brief!$M$15:$M$49,MATCH(C871,Brief!#REF!,0))*1,\"\")","v":""}]
[null,null,null,{"$f":"IFERROR(INDEX(Brief!$M$15:$M$49,MATCH(C872,Brief!#REF!,0))*1,\"\")","v":""}]
[null,null,null,{"$f":"IFERROR(INDEX(Brief!$M$15:$M$49,MATCH(C873,Brief!#REF!,0))*1,\"\")","v":""}]
[null,null,null,{"$f":"IFERROR(INDEX(Brief!$M$15:$M$49,MATCH(C874,Brief!#REF!,0))*1,\"\")","v":""}]
[null,null,null,{"$f":"IFERROR(INDEX(Brief!$M$15:$M$49,MATCH(C875,Brief!#REF!,0))*1,\"\")","v":""}]
[null,null,null,{"$f":"IFERROR(INDEX(Brief!$M$15:$M$49,MATCH(C876,Brief!#REF!,0))*1,\"\")","v":""}]
[null,null,null,{"$f":"IFERROR(INDEX(Brief!$M$15:$M$49,MATCH(C877,Brief!#REF!,0))*1,\"\")","v":""}]
[null,null,null,{"$f":"IFERROR(INDEX(Brief!$M$15:$M$49,MATCH(C878,Brief!#REF!,0))*1,\"\")","v":""}]
[null,null,null,{"$f":"IFERROR(INDEX(Brief!$M$15:$M$49,MATCH(C879,Brief!#REF!,0))*1,\"\")","v":""}]
[null,null,null,{"$f":"IFERROR(INDEX(Brief!$M$15:$M$49,MATCH(C880,Brief!#REF!,0))*1,\"\")","v":""}]
[null,null,null,{"$f":"IFERROR(INDEX(Brief!$M$15:$M$49,MATCH(C881,Brief!#REF!,0))*1,\"\")","v":""}]
[null,null,null,{"$f":"IFERROR(INDEX(Brief!$M$15:$M$49,MATCH(C882,Brief!#REF!,0))*1,\"\")","v":""}]
[null,null,null,{"$f":"IFERROR(INDEX(Brief!$M$15:$M$49,MATCH(C883,Brief!#REF!,0))*1,\"\")","v":""}]
[null,null,null,{"$f":"IFERROR(INDEX(Brief!$M$15:$M$49,MATCH(C884,Brief!#REF!,0))*1,\"\")","v":""}]
[null,null,null,{"$f":"IFERROR(INDEX(Brief!$M$15:$M$49,MATCH(C885,Brief!#REF!,0))*1,\"\")","v":""}]
[null,null,null,{"$f":"IFERROR(INDEX(Brief!$M$15:$M$49,MATCH(C886,Brief!#REF!,0))*1,\"\")","v":""}]
[null,null,null,{"$f":"IFERROR(INDEX(Brief!$M$15:$M$49,MATCH(C887,Brief!#REF!,0))*1,\"\")","v":""}]
[null,null,null,{"$f":"IFERROR(INDEX(Brief!$M$15:$M$49,MATCH(C888,Brief!#REF!,0))*1,\"\")","v":""}]
[null,null,null,{"$f":"IFERROR(INDEX(Brief!$M$15:$M$49,MATCH(C889,Brief!#REF!,0))*1,\"\")","v":""}]
[null,null,null,{"$f":"IFERROR(INDEX(Brief!$M$15:$M$49,MATCH(C890,Brief!#REF!,0))*1,\"\")","v":""}]
[null,null,null,{"$f":"IFERROR(INDEX(Brief!$M$15:$M$49,MATCH(C891,Brief!#REF!,0))*1,\"\")","v":""}]
[null,null,null,{"$f":"IFERROR(INDEX(Brief!$M$15:$M$49,MATCH(C892,Brief!#REF!,0))*1,\"\")","v":""}]
[null,null,null,{"$f":"IFERROR(INDEX(Brief!$M$15:$M$49,MATCH(C893,Brief!#REF!,0))*1,\"\")","v":""}]
[null,null,null,{"$f":"IFERROR(INDEX(Brief!$M$15:$M$49,MATCH(C894,Brief!#REF!,0))*1,\"\")","v":""}]
[null,null,null,{"$f":"IFERROR(INDEX(Brief!$M$15:$M$49,MATCH(C895,Brief!#REF!,0))*1,\"\")","v":""}]
[null,null,null,{"$f":"IFERROR(INDEX(Brief!$M$15:$M$49,MATCH(C896,Brief!#REF!,0))*1,\"\")","v":""}]
[null,null,null,{"$f":"IFERROR(INDEX(Brief!$M$15:$M$49,MATCH(C897,Brief!#REF!,0))*1,\"\")","v":""}]
[null,null,null,{"$f":"IFERROR(INDEX(Brief!$M$15:$M$49,MATCH(C898,Brief!#REF!,0))*1,\"\")","v":""}]
[null,null,null,{"$f":"IFERROR(INDEX(Brief!$M$15:$M$49,MATCH(C899,Brief!#REF!,0))*1,\"\")","v":""}]
[null,null,null,{"$f":"IFERROR(INDEX(Brief!$M$15:$M$49,MATCH(C900,Brief!#REF!,0))*1,\"\")","v":""}]
[null,null,null,{"$f":"IFERROR(INDEX(Brief!$M$15:$M$49,MATCH(C901,Brief!#REF!,0))*1,\"\")","v":""}]
[null,null,null,{"$f":"IFERROR(INDEX(Brief!$M$15:$M$49,MATCH(C902,Brief!#REF!,0))*1,\"\")","v":""}]
[null,null,null,{"$f":"IFERROR(INDEX(Brief!$M$15:$M$49,MATCH(C903,Brief!#REF!,0))*1,\"\")","v":""}]
[null,null,null,{"$f":"IFERROR(INDEX(Brief!$M$15:$M$49,MATCH(C904,Brief!#REF!,0))*1,\"\")","v":""}]
[null,null,null,{"$f":"IFERROR(INDEX(Brief!$M$15:$M$49,MATCH(C905,Brief!#REF!,0))*1,\"\")","v":""}]
[null,null,null,{"$f":"IFERROR(INDEX(Brief!$M$15:$M$49,MATCH(C906,Brief!#REF!,0))*1,\"\")","v":""}]
[null,null,null,{"$f":"IFERROR(INDEX(Brief!$M$15:$M$49,MATCH(C907,Brief!#REF!,0))*1,\"\")","v":""}]
[null,null,null,{"$f":"IFERROR(INDEX(Brief!$M$15:$M$49,MATCH(C908,Brief!#REF!,0))*1,\"\")","v":""}]
[null,null,null,{"$f":"IFERROR(INDEX(Brief!$M$15:$M$49,MATCH(C909,Brief!#REF!,0))*1,\"\")","v":""}]
[null,null,null,{"$f":"IFERROR(INDEX(Brief!$M$15:$M$49,MATCH(C910,Brief!#REF!,0))*1,\"\")","v":""}]
[null,null,null,{"$f":"IFERROR(INDEX(Brief!$M$15:$M$49,MATCH(C911,Brief!#REF!,0))*1,\"\")","v":""}]
[null,null,null,{"$f":"IFERROR(INDEX(Brief!$M$15:$M$49,MATCH(C912,Brief!#REF!,0))*1,\"\")","v":""}]
[null,null,null,{"$f":"IFERROR(INDEX(Brief!$M$15:$M$49,MATCH(C913,Brief!#REF!,0))*1,\"\")","v":""}]
[null,null,null,{"$f":"IFERROR(INDEX(Brief!$M$15:$M$49,MATCH(C914,Brief!#REF!,0))*1,\"\")","v":""}]
[null,null,null,{"$f":"IFERROR(INDEX(Brief!$M$15:$M$49,MATCH(C915,Brief!#REF!,0))*1,\"\")","v":""}]
[null,null,null,{"$f":"IFERROR(INDEX(Brief!$M$15:$M$49,MATCH(C916,Brief!#REF!,0))*1,\"\")","v":""}]
[null,null,null,{"$f":"IFERROR(INDEX(Brief!$M$15:$M$49,MATCH(C917,Brief!#REF!,0))*1,\"\")","v":""}]
[null,null,null,{"$f":"IFERROR(INDEX(Brief!$M$15:$M$49,MATCH(C918,Brief!#REF!,0))*1,\"\")","v":""}]
[null,null,null,{"$f":"IFERROR(INDEX(Brief!$M$15:$M$49,MATCH(C919,Brief!#REF!,0))*1,\"\")","v":""}]
[null,null,null,{"$f":"IFERROR(INDEX(Brief!$M$15:$M$49,MATCH(C920,Brief!#REF!,0))*1,\"\")","v":""}]
[null,null,null,{"$f":"IFERROR(INDEX(Brief!$M$15:$M$49,MATCH(C921,Brief!#REF!,0))*1,\"\")","v":""}]
[null,null,null,{"$f":"IFERROR(INDEX(Brief!$M$15:$M$49,MATCH(C922,Brief!#REF!,0))*1,\"\")","v":""}]
[null,null,null,{"$f":"IFERROR(INDEX(Brief!$M$15:$M$49,MATCH(C923,Brief!#REF!,0))*1,\"\")","v":""}]
[null,null,null,{"$f":"IFERROR(INDEX(Brief!$M$15:$M$49,MATCH(C924,Brief!#REF!,0))*1,\"\")","v":""}]
[null,null,null,{"$f":"IFERROR(INDEX(Brief!$M$15:$M$49,MATCH(C925,Brief!#REF!,0))*1,\"\")","v":""}]
[null,null,null,{"$f":"IFERROR(INDEX(Brief!$M$15:$M$49,MATCH(C926,Brief!#REF!,0))*1,\"\")","v":""}]
[null,null,null,{"$f":"IFERROR(INDEX(Brief!$M$15:$M$49,MATCH(C927,Brief!#REF!,0))*1,\"\")","v":""}]
[null,null,null,{"$f":"IFERROR(INDEX(Brief!$M$15:$M$49,MATCH(C928,Brief!#REF!,0))*1,\"\")","v":""}]
[null,null,null,{"$f":"IFERROR(INDEX(Brief!$M$15:$M$49,MATCH(C929,Brief!#REF!,0))*1,\"\")","v":""}]
[null,null,null,{"$f":"IFERROR(INDEX(Brief!$M$15:$M$49,MATCH(C930,Brief!#REF!,0))*1,\"\")","v":""}]
[null,null,null,{"$f":"IFERROR(INDEX(Brief!$M$15:$M$49,MATCH(C931,Brief!#REF!,0))*1,\"\")","v":""}]
[null,null,null,{"$f":"IFERROR(INDEX(Brief!$M$15:$M$49,MATCH(C932,Brief!#REF!,0))*1,\"\")","v":""}]
[null,null,null,{"$f":"IFERROR(INDEX(Brief!$M$15:$M$49,MATCH(C933,Brief!#REF!,0))*1,\"\")","v":""}]
[null,null,null,{"$f":"IFERROR(INDEX(Brief!$M$15:$M$49,MATCH(C934,Brief!#REF!,0))*1,\"\")","v":""}]
[null,null,null,{"$f":"IFERROR(INDEX(Brief!$M$15:$M$49,MATCH(C935,Brief!#REF!,0))*1,\"\")","v":""}]
[null,null,null,{"$f":"IFERROR(INDEX(Brief!$M$15:$M$49,MATCH(C936,Brief!#REF!,0))*1,\"\")","v":""}]
[null,null,null,{"$f":"IFERROR(INDEX(Brief!$M$15:$M$49,MATCH(C937,Brief!#REF!,0))*1,\"\")","v":""}]
[null,null,null,{"$f":"IFERROR(INDEX(Brief!$M$15:$M$49,MATCH(C938,Brief!#REF!,0))*1,\"\")","v":""}]
[null,null,null,{"$f":"IFERROR(INDEX(Brief!$M$15:$M$49,MATCH(C939,Brief!#REF!,0))*1,\"\")","v":""}]
[null,null,null,{"$f":"IFERROR(INDEX(Brief!$M$15:$M$49,MATCH(C940,Brief!#REF!,0))*1,\"\")","v":""}]
[null,null,null,{"$f":"IFERROR(INDEX(Brief!$M$15:$M$49,MATCH(C941,Brief!#REF!,0))*1,\"\")","v":""}]
[null,null,null,{"$f":"IFERROR(INDEX(Brief!$M$15:$M$49,MATCH(C942,Brief!#REF!,0))*1,\"\")","v":""}]
[null,null,null,{"$f":"IFERROR(INDEX(Brief!$M$15:$M$49,MATCH(C943,Brief!#REF!,0))*1,\"\")","v":""}]
[null,null,null,{"$f":"IFERROR(INDEX(Brief!$M$15:$M$49,MATCH(C944,Brief!#REF!,0))*1,\"\")","v":""}]
[null,null,null,{"$f":"IFERROR(INDEX(Brief!$M$15:$M$49,MATCH(C945,Brief!#REF!,0))*1,\"\")","v":""}]
[null,null,null,{"$f":"IFERROR(INDEX(Brief!$M$15:$M$49,MATCH(C946,Brief!#REF!,0))*1,\"\")","v":""}]
[null,null,null,{"$f":"IFERROR(INDEX(Brief!$M$15:$M$49,MATCH(C947,Brief!#REF!,0))*1,\"\")","v":""}]
[null,null,null,{"$f":"IFERROR(INDEX(Brief!$M$15:$M$49,MATCH(C948,Brief!#REF!,0))*1,\"\")","v":""}]
[null,null,null,{"$f":"IFERROR(INDEX(Brief!$M$15:$M$49,MATCH(C949,Brief!#REF!,0))*1,\"\")","v":""}]
[null,null,null,{"$f":"IFERROR(INDEX(Brief!$M$15:$M$49,MATCH(C950,Brief!#REF!,0))*1,\"\")","v":""}]
[null,null,null,{"$f":"IFERROR(INDEX(Brief!$M$15:$M$49,MATCH(C951,Brief!#REF!,0))*1,\"\")","v":""}]
[null,null,null,{"$f":"IFERROR(INDEX(Brief!$M$15:$M$49,MATCH(C952,Brief!#REF!,0))*1,\"\")","v":""}]
[null,null,null,{"$f":"IFERROR(INDEX(Brief!$M$15:$M$49,MATCH(C953,Brief!#REF!,0))*1,\"\")","v":""}]
[null,null,null,{"$f":"IFERROR(INDEX(Brief!$M$15:$M$49,MATCH(C954,Brief!#REF!,0))*1,\"\")","v":""}]
[null,null,null,{"$f":"IFERROR(INDEX(Brief!$M$15:$M$49,MATCH(C955,Brief!#REF!,0))*1,\"\")","v":""}]
[null,null,null,{"$f":"IFERROR(INDEX(Brief!$M$15:$M$49,MATCH(C956,Brief!#REF!,0))*1,\"\")","v":""}]
[null,null,null,{"$f":"IFERROR(INDEX(Brief!$M$15:$M$49,MATCH(C957,Brief!#REF!,0))*1,\"\")","v":""}]
[null,null,null,{"$f":"IFERROR(INDEX(Brief!$M$15:$M$49,MATCH(C958,Brief!#REF!,0))*1,\"\")","v":""}]
[null,null,null,{"$f":"IFERROR(INDEX(Brief!$M$15:$M$49,MATCH(C959,Brief!#REF!,0))*1,\"\")","v":""}]
[null,null,null,{"$f":"IFERROR(INDEX(Brief!$M$15:$M$49,MATCH(C960,Brief!#REF!,0))*1,\"\")","v":""}]
[null,null,null,{"$f":"IFERROR(INDEX(Brief!$M$15:$M$49,MATCH(C961,Brief!#REF!,0))*1,\"\")","v":""}]
[null,null,null,{"$f":"IFERROR(INDEX(Brief!$M$15:$M$49,MATCH(C962,Brief!#REF!,0))*1,\"\")","v":""}]
[null,null,null,{"$f":"IFERROR(INDEX(Brief!$M$15:$M$49,MATCH(C963,Brief!#REF!,0))*1,\"\")","v":""}]
[null,null,null,{"$f":"IFERROR(INDEX(Brief!$M$15:$M$49,MATCH(C964,Brief!#REF!,0))*1,\"\")","v":""}]
[null,null,null,{"$f":"IFERROR(INDEX(Brief!$M$15:$M$49,MATCH(C965,Brief!#REF!,0))*1,\"\")","v":""}]
[null,null,null,{"$f":"IFERROR(INDEX(Brief!$M$15:$M$49,MATCH(C966,Brief!#REF!,0))*1,\"\")","v":""}]
[null,null,null,{"$f":"IFERROR(INDEX(Brief!$M$15:$M$49,MATCH(C967,Brief!#REF!,0))*1,\"\")","v":""}]
[null,null,null,{"$f":"IFERROR(INDEX(Brief!$M$15:$M$49,MATCH(C968,Brief!#REF!,0))*1,\"\")","v":""}]
[null,null,null,{"$f":"IFERROR(INDEX(Brief!$M$15:$M$49,MATCH(C969,Brief!#REF!,0))*1,\"\")","v":""}]
[null,null,null,{"$f":"IFERROR(INDEX(Brief!$M$15:$M$49,MATCH(C970,Brief!#REF!,0))*1,\"\")","v":""}]
[null,null,null,{"$f":"IFERROR(INDEX(Brief!$M$15:$M$49,MATCH(C971,Brief!#REF!,0))*1,\"\")","v":""}]
[null,null,null,{"$f":"IFERROR(INDEX(Brief!$M$15:$M$49,MATCH(C972,Brief!#REF!,0))*1,\"\")","v":""}]
[null,null,null,{"$f":"IFERROR(INDEX(Brief!$M$15:$M$49,MATCH(C973,Brief!#REF!,0))*1,\"\")","v":""}]
[null,null,null,{"$f":"IFERROR(INDEX(Brief!$M$15:$M$49,MATCH(C974,Brief!#REF!,0))*1,\"\")","v":""}]
[null,null,null,{"$f":"IFERROR(INDEX(Brief!$M$15:$M$49,MATCH(C975,Brief!#REF!,0))*1,\"\")","v":""}]
[null,null,null,{"$f":"IFERROR(INDEX(Brief!$M$15:$M$49,MATCH(C976,Brief!#REF!,0))*1,\"\")","v":""}]
[null,null,null,{"$f":"IFERROR(INDEX(Brief!$M$15:$M$49,MATCH(C977,Brief!#REF!,0))*1,\"\")","v":""}]
[null,null,null,{"$f":"IFERROR(INDEX(Brief!$M$15:$M$49,MATCH(C978,Brief!#REF!,0))*1,\"\")","v":""}]
[null,null,null,{"$f":"IFERROR(INDEX(Brief!$M$15:$M$49,MATCH(C979,Brief!#REF!,0))*1,\"\")","v":""}]
[null,null,null,{"$f":"IFERROR(INDEX(Brief!$M$15:$M$49,MATCH(C980,Brief!#REF!,0))*1,\"\")","v":""}]
[null,null,null,{"$f":"IFERROR(INDEX(Brief!$M$15:$M$49,MATCH(C981,Brief!#REF!,0))*1,\"\")","v":""}]
[null,null,null,{"$f":"IFERROR(INDEX(Brief!$M$15:$M$49,MATCH(C982,Brief!#REF!,0))*1,\"\")","v":""}]
[null,null,null,{"$f":"IFERROR(INDEX(Brief!$M$15:$M$49,MATCH(C983,Brief!#REF!,0))*1,\"\")","v":""}]
[null,null,null,{"$f":"IFERROR(INDEX(Brief!$M$15:$M$49,MATCH(C984,Brief!#REF!,0))*1,\"\")","v":""}]
[null,null,null,{"$f":"IFERROR(INDEX(Brief!$M$15:$M$49,MATCH(C985,Brief!#REF!,0))*1,\"\")","v":""}]
[null,null,null,{"$f":"IFERROR(INDEX(Brief!$M$15:$M$49,MATCH(C986,Brief!#REF!,0))*1,\"\")","v":""}]
[null,null,null,{"$f":"IFERROR(INDEX(Brief!$M$15:$M$49,MATCH(C987,Brief!#REF!,0))*1,\"\")","v":""}]
[null,null,null,{"$f":"IFERROR(INDEX(Brief!$M$15:$M$49,MATCH(C988,Brief!#REF!,0))*1,\"\")","v":""}]
[null,null,null,{"$f":"IFERROR(INDEX(Brief!$M$15:$M$49,MATCH(C989,Brief!#REF!,0))*1,\"\")","v":""}]
[null,null,null,{"$f":"IFERROR(INDEX(Brief!$M$15:$M$49,MATCH(C990,Brief!#REF!,0))*1,\"\")","v":""}]
[null,null,null,{"$f":"IFERROR(INDEX(Brief!$M$15:$M$49,MATCH(C991,Brief!#REF!,0))*1,\"\")","v":""}]
[null,null,null,{"$f":"IFERROR(INDEX(Brief!$M$15:$M$49,MATCH(C992,Brief!#REF!,0))*1,\"\")","v":""}]
[null,null,null,{"$f":"IFERROR(INDEX(Brief!$M$15:$M$49,MATCH(C993,Brief!#REF!,0))*1,\"\")","v":""}]
[null,null,null,{"$f":"IFERROR(INDEX(Brief!$M$15:$M$49,MATCH(C994,Brief!#REF!,0))*1,\"\")","v":""}]
[null,null,null,{"$f":"IFERROR(INDEX(Brief!$M$15:$M$49,MATCH(C995,Brief!#REF!,0))*1,\"\")","v":""}]
[null,null,null,{"$f":"IFERROR(INDEX(Brief!$M$15:$M$49,MATCH(C996,Brief!#REF!,0))*1,\"\")","v":""}]
[null,null,null,{"$f":"IFERROR(INDEX(Brief!$M$15:$M$49,MATCH(C997,Brief!#REF!,0))*1,\"\")","v":""}]
[null,null,null,{"$f":"IFERROR(INDEX(Brief!$M$15:$M$49,MATCH(C998,Brief!#REF!,0))*1,\"\")","v":""}]
[null,null,null,{"$f":"IFERROR(INDEX(Brief!$M$15:$M$49,MATCH(C999,Brief!#REF!,0))*1,\"\")","v":""}]
[null,null,null,{"$f":"IFERROR(INDEX(Brief!$M$15:$M$49,MATCH(C1000,Brief!#REF!,0))*1,\"\")","v":""}]
[null,null,null,{"$f":"IFERROR(INDEX(Brief!$M$15:$M$49,MATCH(C1001,Brief!#REF!,0))*1,\"\")","v":""}]
[null,null,null,{"$f":"IFERROR(INDEX(Brief!$M$15:$M$49,MATCH(C1002,Brief!#REF!,0))*1,\"\")","v":""}]
[null,null,null,{"$f":"IFERROR(INDEX(Brief!$M$15:$M$49,MATCH(C1003,Brief!#REF!,0))*1,\"\")","v":""}]
[null,null,null,{"$f":"IFERROR(INDEX(Brief!$M$15:$M$49,MATCH(C1004,Brief!#REF!,0))*1,\"\")","v":""}]
[null,null,null,{"$f":"IFERROR(INDEX(Brief!$M$15:$M$49,MATCH(C1005,Brief!#REF!,0))*1,\"\")","v":""}]
[null,null,null,{"$f":"IFERROR(INDEX(Brief!$M$15:$M$49,MATCH(C1006,Brief!#REF!,0))*1,\"\")","v":""}]
[null,null,null,{"$f":"IFERROR(INDEX(Brief!$M$15:$M$49,MATCH(C1007,Brief!#REF!,0))*1,\"\")","v":""}]
[null,null,null,{"$f":"IFERROR(INDEX(Brief!$M$15:$M$49,MATCH(C1008,Brief!#REF!,0))*1,\"\")","v":""}]
[null,null,null,{"$f":"IFERROR(INDEX(Brief!$M$15:$M$49,MATCH(C1009,Brief!#REF!,0))*1,\"\")","v":""}]
[null,null,null,{"$f":"IFERROR(INDEX(Brief!$M$15:$M$49,MATCH(C1010,Brief!#REF!,0))*1,\"\")","v":""}]
[null,null,null,{"$f":"IFERROR(INDEX(Brief!$M$15:$M$49,MATCH(C1011,Brief!#REF!,0))*1,\"\")","v":""}]
[null,null,null,{"$f":"IFERROR(INDEX(Brief!$M$15:$M$49,MATCH(C1012,Brief!#REF!,0))*1,\"\")","v":""}]
[null,null,null,{"$f":"IFERROR(INDEX(Brief!$M$15:$M$49,MATCH(C1013,Brief!#REF!,0))*1,\"\")","v":""}]
[null,null,null,{"$f":"IFERROR(INDEX(Brief!$M$15:$M$49,MATCH(C1014,Brief!#REF!,0))*1,\"\")","v":""}]
[null,null,null,{"$f":"IFERROR(INDEX(Brief!$M$15:$M$49,MATCH(C1015,Brief!#REF!,0))*1,\"\")","v":""}]
[null,null,null,{"$f":"IFERROR(INDEX(Brief!$M$15:$M$49,MATCH(C1016,Brief!#REF!,0))*1,\"\")","v":""}]
[null,null,null,{"$f":"IFERROR(INDEX(Brief!$M$15:$M$49,MATCH(C1017,Brief!#REF!,0))*1,\"\")","v":""}]
[null,null,null,{"$f":"IFERROR(INDEX(Brief!$M$15:$M$49,MATCH(C1018,Brief!#REF!,0))*1,\"\")","v":""}]
[null,null,null,{"$f":"IFERROR(INDEX(Brief!$M$15:$M$49,MATCH(C1019,Brief!#REF!,0))*1,\"\")","v":""}]
[null,null,null,{"$f":"IFERROR(INDEX(Brief!$M$15:$M$49,MATCH(C1020,Brief!#REF!,0))*1,\"\")","v":""}]
[null,null,null,{"$f":"IFERROR(INDEX(Brief!$M$15:$M$49,MATCH(C1021,Brief!#REF!,0))*1,\"\")","v":""}]
[null,null,null,{"$f":"IFERROR(INDEX(Brief!$M$15:$M$49,MATCH(C1022,Brief!#REF!,0))*1,\"\")","v":""}]
[null,null,null,{"$f":"IFERROR(INDEX(Brief!$M$15:$M$49,MATCH(C1023,Brief!#REF!,0))*1,\"\")","v":""}]
[null,null,null,{"$f":"IFERROR(INDEX(Brief!$M$15:$M$49,MATCH(C1024,Brief!#REF!,0))*1,\"\")","v":""}]
[null,null,null,{"$f":"IFERROR(INDEX(Brief!$M$15:$M$49,MATCH(C1025,Brief!#REF!,0))*1,\"\")","v":""}]
[null,null,null,{"$f":"IFERROR(INDEX(Brief!$M$15:$M$49,MATCH(C1026,Brief!#REF!,0))*1,\"\")","v":""}]
[null,null,null,{"$f":"IFERROR(INDEX(Brief!$M$15:$M$49,MATCH(C1027,Brief!#REF!,0))*1,\"\")","v":""}]
[null,null,null,{"$f":"IFERROR(INDEX(Brief!$M$15:$M$49,MATCH(C1028,Brief!#REF!,0))*1,\"\")","v":""}]
[null,null,null,{"$f":"IFERROR(INDEX(Brief!$M$15:$M$49,MATCH(C1029,Brief!#REF!,0))*1,\"\")","v":""}]
[null,null,null,{"$f":"IFERROR(INDEX(Brief!$M$15:$M$49,MATCH(C1030,Brief!#REF!,0))*1,\"\")","v":""}]
[null,null,null,{"$f":"IFERROR(INDEX(Brief!$M$15:$M$49,MATCH(C1031,Brief!#REF!,0))*1,\"\")","v":""}]
[null,null,null,{"$f":"IFERROR(INDEX(Brief!$M$15:$M$49,MATCH(C1032,Brief!#REF!,0))*1,\"\")","v":""}]
[null,null,null,{"$f":"IFERROR(INDEX(Brief!$M$15:$M$49,MATCH(C1033,Brief!#REF!,0))*1,\"\")","v":""}]
[null,null,null,{"$f":"IFERROR(INDEX(Brief!$M$15:$M$49,MATCH(C1034,Brief!#REF!,0))*1,\"\")","v":""}]
[null,null,null,{"$f":"IFERROR(INDEX(Brief!$M$15:$M$49,MATCH(C1035,Brief!#REF!,0))*1,\"\")","v":""}]
[null,null,null,{"$f":"IFERROR(INDEX(Brief!$M$15:$M$49,MATCH(C1036,Brief!#REF!,0))*1,\"\")","v":""}]
[null,null,null,{"$f":"IFERROR(INDEX(Brief!$M$15:$M$49,MATCH(C1037,Brief!#REF!,0))*1,\"\")","v":""}]
[null,null,null,{"$f":"IFERROR(INDEX(Brief!$M$15:$M$49,MATCH(C1038,Brief!#REF!,0))*1,\"\")","v":""}]
[null,null,null,{"$f":"IFERROR(INDEX(Brief!$M$15:$M$49,MATCH(C1039,Brief!#REF!,0))*1,\"\")","v":""}]
[null,null,null,{"$f":"IFERROR(INDEX(Brief!$M$15:$M$49,MATCH(C1040,Brief!#REF!,0))*1,\"\")","v":""}]
[null,null,null,{"$f":"IFERROR(INDEX(Brief!$M$15:$M$49,MATCH(C1041,Brief!#REF!,0))*1,\"\")","v":""}]
[null,null,null,{"$f":"IFERROR(INDEX(Brief!$M$15:$M$49,MATCH(C1042,Brief!#REF!,0))*1,\"\")","v":""}]
[null,null,null,{"$f":"IFERROR(INDEX(Brief!$M$15:$M$49,MATCH(C1043,Brief!#REF!,0))*1,\"\")","v":""}]
[null,null,null,{"$f":"IFERROR(INDEX(Brief!$M$15:$M$49,MATCH(C1044,Brief!#REF!,0))*1,\"\")","v":""}]
[null,null,null,{"$f":"IFERROR(INDEX(Brief!$M$15:$M$49,MATCH(C1045,Brief!#REF!,0))*1,\"\")","v":""}]
[null,null,null,{"$f":"IFERROR(INDEX(Brief!$M$15:$M$49,MATCH(C1046,Brief!#REF!,0))*1,\"\")","v":""}]
[null,null,null,{"$f":"IFERROR(INDEX(Brief!$M$15:$M$49,MATCH(C1047,Brief!#REF!,0))*1,\"\")","v":""}]
[null,null,null,{"$f":"IFERROR(INDEX(Brief!$M$15:$M$49,MATCH(C1048,Brief!#REF!,0))*1,\"\")","v":""}]
[null,null,null,{"$f":"IFERROR(INDEX(Brief!$M$15:$M$49,MATCH(C1049,Brief!#REF!,0))*1,\"\")","v":""}]
[null,null,null,{"$f":"IFERROR(INDEX(Brief!$M$15:$M$49,MATCH(C1050,Brief!#REF!,0))*1,\"\")","v":""}]
[null,null,null,{"$f":"IFERROR(INDEX(Brief!$M$15:$M$49,MATCH(C1051,Brief!#REF!,0))*1,\"\")","v":""}]
[null,null,null,{"$f":"IFERROR(INDEX(Brief!$M$15:$M$49,MATCH(C1052,Brief!#REF!,0))*1,\"\")","v":""}]
[null,null,null,{"$f":"IFERROR(INDEX(Brief!$M$15:$M$49,MATCH(C1053,Brief!#REF!,0))*1,\"\")","v":""}]
[null,null,null,{"$f":"IFERROR(INDEX(Brief!$M$15:$M$49,MATCH(C1054,Brief!#REF!,0))*1,\"\")","v":""}]
[null,null,null,{"$f":"IFERROR(INDEX(Brief!$M$15:$M$49,MATCH(C1055,Brief!#REF!,0))*1,\"\")","v":""}]
[null,null,null,{"$f":"IFERROR(INDEX(Brief!$M$15:$M$49,MATCH(C1056,Brief!#REF!,0))*1,\"\")","v":""}]
[null,null,null,{"$f":"IFERROR(INDEX(Brief!$M$15:$M$49,MATCH(C1057,Brief!#REF!,0))*1,\"\")","v":""}]
[null,null,null,{"$f":"IFERROR(INDEX(Brief!$M$15:$M$49,MATCH(C1058,Brief!#REF!,0))*1,\"\")","v":""}]
[null,null,null,{"$f":"IFERROR(INDEX(Brief!$M$15:$M$49,MATCH(C1059,Brief!#REF!,0))*1,\"\")","v":""}]
[null,null,null,{"$f":"IFERROR(INDEX(Brief!$M$15:$M$49,MATCH(C1060,Brief!#REF!,0))*1,\"\")","v":""}]
[null,null,null,{"$f":"IFERROR(INDEX(Brief!$M$15:$M$49,MATCH(C1061,Brief!#REF!,0))*1,\"\")","v":""}]
[null,null,null,{"$f":"IFERROR(INDEX(Brief!$M$15:$M$49,MATCH(C1062,Brief!#REF!,0))*1,\"\")","v":""}]
[null,null,null,{"$f":"IFERROR(INDEX(Brief!$M$15:$M$49,MATCH(C1063,Brief!#REF!,0))*1,\"\")","v":""}]
[null,null,null,{"$f":"IFERROR(INDEX(Brief!$M$15:$M$49,MATCH(C1064,Brief!#REF!,0))*1,\"\")","v":""}]
[null,null,null,{"$f":"IFERROR(INDEX(Brief!$M$15:$M$49,MATCH(C1065,Brief!#REF!,0))*1,\"\")","v":""}]
[null,null,null,{"$f":"IFERROR(INDEX(Brief!$M$15:$M$49,MATCH(C1066,Brief!#REF!,0))*1,\"\")","v":""}]
[null,null,null,{"$f":"IFERROR(INDEX(Brief!$M$15:$M$49,MATCH(C1067,Brief!#REF!,0))*1,\"\")","v":""}]
[null,null,null,{"$f":"IFERROR(INDEX(Brief!$M$15:$M$49,MATCH(C1068,Brief!#REF!,0))*1,\"\")","v":""}]
[null,null,null,{"$f":"IFERROR(INDEX(Brief!$M$15:$M$49,MATCH(C1069,Brief!#REF!,0))*1,\"\")","v":""}]
[null,null,null,{"$f":"IFERROR(INDEX(Brief!$M$15:$M$49,MATCH(C1070,Brief!#REF!,0))*1,\"\")","v":""}]
[null,null,null,{"$f":"IFERROR(INDEX(Brief!$M$15:$M$49,MATCH(C1071,Brief!#REF!,0))*1,\"\")","v":""}]
[null,null,null,{"$f":"IFERROR(INDEX(Brief!$M$15:$M$49,MATCH(C1072,Brief!#REF!,0))*1,\"\")","v":""}]
[null,null,null,{"$f":"IFERROR(INDEX(Brief!$M$15:$M$49,MATCH(C1073,Brief!#REF!,0))*1,\"\")","v":""}]
[null,null,null,{"$f":"IFERROR(INDEX(Brief!$M$15:$M$49,MATCH(C1074,Brief!#REF!,0))*1,\"\")","v":""}]
[null,null,null,{"$f":"IFERROR(INDEX(Brief!$M$15:$M$49,MATCH(C1075,Brief!#REF!,0))*1,\"\")","v":""}]
[null,null,null,{"$f":"IFERROR(INDEX(Brief!$M$15:$M$49,MATCH(C1076,Brief!#REF!,0))*1,\"\")","v":""}]
[null,null,null,{"$f":"IFERROR(INDEX(Brief!$M$15:$M$49,MATCH(C1077,Brief!#REF!,0))*1,\"\")","v":""}]
[null,null,null,{"$f":"IFERROR(INDEX(Brief!$M$15:$M$49,MATCH(C1078,Brief!#REF!,0))*1,\"\")","v":""}]
[null,null,null,{"$f":"IFERROR(INDEX(Brief!$M$15:$M$49,MATCH(C1079,Brief!#REF!,0))*1,\"\")","v":""}]
[null,null,null,{"$f":"IFERROR(INDEX(Brief!$M$15:$M$49,MATCH(C1080,Brief!#REF!,0))*1,\"\")","v":""}]
[null,null,null,{"$f":"IFERROR(INDEX(Brief!$M$15:$M$49,MATCH(C1081,Brief!#REF!,0))*1,\"\")","v":""}]
[null,null,null,{"$f":"IFERROR(INDEX(Brief!$M$15:$M$49,MATCH(C1082,Brief!#REF!,0))*1,\"\")","v":""}]
[null,null,null,{"$f":"IFERROR(INDEX(Brief!$M$15:$M$49,MATCH(C1083,Brief!#REF!,0))*1,\"\")","v":""}]
[null,null,null,{"$f":"IFERROR(INDEX(Brief!$M$15:$M$49,MATCH(C1084,Brief!#REF!,0))*1,\"\")","v":""}]
[null,null,null,{"$f":"IFERROR(INDEX(Brief!$M$15:$M$49,MATCH(C1085,Brief!#REF!,0))*1,\"\")","v":""}]
[null,null,null,{"$f":"IFERROR(INDEX(Brief!$M$15:$M$49,MATCH(C1086,Brief!#REF!,0))*1,\"\")","v":""}]
[null,null,null,{"$f":"IFERROR(INDEX(Brief!$M$15:$M$49,MATCH(C1087,Brief!#REF!,0))*1,\"\")","v":""}]
[null,null,null,{"$f":"IFERROR(INDEX(Brief!$M$15:$M$49,MATCH(C1088,Brief!#REF!,0))*1,\"\")","v":""}]
[null,null,null,{"$f":"IFERROR(INDEX(Brief!$M$15:$M$49,MATCH(C1089,Brief!#REF!,0))*1,\"\")","v":""}]
[null,null,null,{"$f":"IFERROR(INDEX(Brief!$M$15:$M$49,MATCH(C1090,Brief!#REF!,0))*1,\"\")","v":""}]
[null,null,null,{"$f":"IFERROR(INDEX(Brief!$M$15:$M$49,MATCH(C1091,Brief!#REF!,0))*1,\"\")","v":""}]
[null,null,null,{"$f":"IFERROR(INDEX(Brief!$M$15:$M$49,MATCH(C1092,Brief!#REF!,0))*1,\"\")","v":""}]
[null,null,null,{"$f":"IFERROR(INDEX(Brief!$M$15:$M$49,MATCH(C1093,Brief!#REF!,0))*1,\"\")","v":""}]
[null,null,null,{"$f":"IFERROR(INDEX(Brief!$M$15:$M$49,MATCH(C1094,Brief!#REF!,0))*1,\"\")","v":""}]
[null,null,null,{"$f":"IFERROR(INDEX(Brief!$M$15:$M$49,MATCH(C1095,Brief!#REF!,0))*1,\"\")","v":""}]
[null,null,null,{"$f":"IFERROR(INDEX(Brief!$M$15:$M$49,MATCH(C1096,Brief!#REF!,0))*1,\"\")","v":""}]
[null,null,null,{"$f":"IFERROR(INDEX(Brief!$M$15:$M$49,MATCH(C1097,Brief!#REF!,0))*1,\"\")","v":""}]
[null,null,null,{"$f":"IFERROR(INDEX(Brief!$M$15:$M$49,MATCH(C1098,Brief!#REF!,0))*1,\"\")","v":""}]
[null,null,null,{"$f":"IFERROR(INDEX(Brief!$M$15:$M$49,MATCH(C1099,Brief!#REF!,0))*1,\"\")","v":""}]
[null,null,null,{"$f":"IFERROR(INDEX(Brief!$M$15:$M$49,MATCH(C1100,Brief!#REF!,0))*1,\"\")","v":""}]
[null,null,null,{"$f":"IFERROR(INDEX(Brief!$M$15:$M$49,MATCH(C1101,Brief!#REF!,0))*1,\"\")","v":""}]
[null,null,null,{"$f":"IFERROR(INDEX(Brief!$M$15:$M$49,MATCH(C1102,Brief!#REF!,0))*1,\"\")","v":""}]
[null,null,null,{"$f":"IFERROR(INDEX(Brief!$M$15:$M$49,MATCH(C1103,Brief!#REF!,0))*1,\"\")","v":""}]
[null,null,null,{"$f":"IFERROR(INDEX(Brief!$M$15:$M$49,MATCH(C1104,Brief!#REF!,0))*1,\"\")","v":""}]
[null,null,null,{"$f":"IFERROR(INDEX(Brief!$M$15:$M$49,MATCH(C1105,Brief!#REF!,0))*1,\"\")","v":""}]
[null,null,null,{"$f":"IFERROR(INDEX(Brief!$M$15:$M$49,MATCH(C1106,Brief!#REF!,0))*1,\"\")","v":""}]
[null,null,null,{"$f":"IFERROR(INDEX(Brief!$M$15:$M$49,MATCH(C1107,Brief!#REF!,0))*1,\"\")","v":""}]
[null,null,null,{"$f":"IFERROR(INDEX(Brief!$M$15:$M$49,MATCH(C1108,Brief!#REF!,0))*1,\"\")","v":""}]
[null,null,null,{"$f":"IFERROR(INDEX(Brief!$M$15:$M$49,MATCH(C1109,Brief!#REF!,0))*1,\"\")","v":""}]
[null,null,null,{"$f":"IFERROR(INDEX(Brief!$M$15:$M$49,MATCH(C1110,Brief!#REF!,0))*1,\"\")","v":""}]
[null,null,null,{"$f":"IFERROR(INDEX(Brief!$M$15:$M$49,MATCH(C1111,Brief!#REF!,0))*1,\"\")","v":""}]
[null,null,null,{"$f":"IFERROR(INDEX(Brief!$M$15:$M$49,MATCH(C1112,Brief!#REF!,0))*1,\"\")","v":""}]
[null,null,null,{"$f":"IFERROR(INDEX(Brief!$M$15:$M$49,MATCH(C1113,Brief!#REF!,0))*1,\"\")","v":""}]
[null,null,null,{"$f":"IFERROR(INDEX(Brief!$M$15:$M$49,MATCH(C1114,Brief!#REF!,0))*1,\"\")","v":""}]
[null,null,null,{"$f":"IFERROR(INDEX(Brief!$M$15:$M$49,MATCH(C1115,Brief!#REF!,0))*1,\"\")","v":""}]
[null,null,null,{"$f":"IFERROR(INDEX(Brief!$M$15:$M$49,MATCH(C1116,Brief!#REF!,0))*1,\"\")","v":""}]
[null,null,null,{"$f":"IFERROR(INDEX(Brief!$M$15:$M$49,MATCH(C1117,Brief!#REF!,0))*1,\"\")","v":""}]
[null,null,null,{"$f":"IFERROR(INDEX(Brief!$M$15:$M$49,MATCH(C1118,Brief!#REF!,0))*1,\"\")","v":""}]
[null,null,null,{"$f":"IFERROR(INDEX(Brief!$M$15:$M$49,MATCH(C1119,Brief!#REF!,0))*1,\"\")","v":""}]
[null,null,null,{"$f":"IFERROR(INDEX(Brief!$M$15:$M$49,MATCH(C1120,Brief!#REF!,0))*1,\"\")","v":""}]
[null,null,null,{"$f":"IFERROR(INDEX(Brief!$M$15:$M$49,MATCH(C1121,Brief!#REF!,0))*1,\"\")","v":""}]
[null,null,null,{"$f":"IFERROR(INDEX(Brief!$M$15:$M$49,MATCH(C1122,Brief!#REF!,0))*1,\"\")","v":""}]
[null,null,null,{"$f":"IFERROR(INDEX(Brief!$M$15:$M$49,MATCH(C1123,Brief!#REF!,0))*1,\"\")","v":""}]
[null,null,null,{"$f":"IFERROR(INDEX(Brief!$M$15:$M$49,MATCH(C1124,Brief!#REF!,0))*1,\"\")","v":""}]
[null,null,null,{"$f":"IFERROR(INDEX(Brief!$M$15:$M$49,MATCH(C1125,Brief!#REF!,0))*1,\"\")","v":""}]
[null,null,null,{"$f":"IFERROR(INDEX(Brief!$M$15:$M$49,MATCH(C1126,Brief!#REF!,0))*1,\"\")","v":""}]
[null,null,null,{"$f":"IFERROR(INDEX(Brief!$M$15:$M$49,MATCH(C1127,Brief!#REF!,0))*1,\"\")","v":""}]
[null,null,null,{"$f":"IFERROR(INDEX(Brief!$M$15:$M$49,MATCH(C1128,Brief!#REF!,0))*1,\"\")","v":""}]
[null,null,null,{"$f":"IFERROR(INDEX(Brief!$M$15:$M$49,MATCH(C1129,Brief!#REF!,0))*1,\"\")","v":""}]
[null,null,null,{"$f":"IFERROR(INDEX(Brief!$M$15:$M$49,MATCH(C1130,Brief!#REF!,0))*1,\"\")","v":""}]
[null,null,null,{"$f":"IFERROR(INDEX(Brief!$M$15:$M$49,MATCH(C1131,Brief!#REF!,0))*1,\"\")","v":""}]
[null,null,null,{"$f":"IFERROR(INDEX(Brief!$M$15:$M$49,MATCH(C1132,Brief!#REF!,0))*1,\"\")","v":""}]
[null,null,null,{"$f":"IFERROR(INDEX(Brief!$M$15:$M$49,MATCH(C1133,Brief!#REF!,0))*1,\"\")","v":""}]
[null,null,null,{"$f":"IFERROR(INDEX(Brief!$M$15:$M$49,MATCH(C1134,Brief!#REF!,0))*1,\"\")","v":""}]
[null,null,null,{"$f":"IFERROR(INDEX(Brief!$M$15:$M$49,MATCH(C1135,Brief!#REF!,0))*1,\"\")","v":""}]
[null,null,null,{"$f":"IFERROR(INDEX(Brief!$M$15:$M$49,MATCH(C1136,Brief!#REF!,0))*1,\"\")","v":""}]
[null,null,null,{"$f":"IFERROR(INDEX(Brief!$M$15:$M$49,MATCH(C1137,Brief!#REF!,0))*1,\"\")","v":""}]
[null,null,null,{"$f":"IFERROR(INDEX(Brief!$M$15:$M$49,MATCH(C1138,Brief!#REF!,0))*1,\"\")","v":""}]
[null,null,null,{"$f":"IFERROR(INDEX(Brief!$M$15:$M$49,MATCH(C1139,Brief!#REF!,0))*1,\"\")","v":""}]
[null,null,null,{"$f":"IFERROR(INDEX(Brief!$M$15:$M$49,MATCH(C1140,Brief!#REF!,0))*1,\"\")","v":""}]
[null,null,null,{"$f":"IFERROR(INDEX(Brief!$M$15:$M$49,MATCH(C1141,Brief!#REF!,0))*1,\"\")","v":""}]
[null,null,null,{"$f":"IFERROR(INDEX(Brief!$M$15:$M$49,MATCH(C1142,Brief!#REF!,0))*1,\"\")","v":""}]
[null,null,null,{"$f":"IFERROR(INDEX(Brief!$M$15:$M$49,MATCH(C1143,Brief!#REF!,0))*1,\"\")","v":""}]
[null,null,null,{"$f":"IFERROR(INDEX(Brief!$M$15:$M$49,MATCH(C1144,Brief!#REF!,0))*1,\"\")","v":""}]
[null,null,null,{"$f":"IFERROR(INDEX(Brief!$M$15:$M$49,MATCH(C1145,Brief!#REF!,0))*1,\"\")","v":""}]
[null,null,null,{"$f":"IFERROR(INDEX(Brief!$M$15:$M$49,MATCH(C1146,Brief!#REF!,0))*1,\"\")","v":""}]
[null,null,null,{"$f":"IFERROR(INDEX(Brief!$M$15:$M$49,MATCH(C1147,Brief!#REF!,0))*1,\"\")","v":""}]
[null,null,null,{"$f":"IFERROR(INDEX(Brief!$M$15:$M$49,MATCH(C1148,Brief!#REF!,0))*1,\"\")","v":""}]
[null,null,null,{"$f":"IFERROR(INDEX(Brief!$M$15:$M$49,MATCH(C1149,Brief!#REF!,0))*1,\"\")","v":""}]
[null,null,null,{"$f":"IFERROR(INDEX(Brief!$M$15:$M$49,MATCH(C1150,Brief!#REF!,0))*1,\"\")","v":""}]
[null,null,null,{"$f":"IFERROR(INDEX(Brief!$M$15:$M$49,MATCH(C1151,Brief!#REF!,0))*1,\"\")","v":""}]
[null,null,null,{"$f":"IFERROR(INDEX(Brief!$M$15:$M$49,MATCH(C1152,Brief!#REF!,0))*1,\"\")","v":""}]
[null,null,null,{"$f":"IFERROR(INDEX(Brief!$M$15:$M$49,MATCH(C1153,Brief!#REF!,0))*1,\"\")","v":""}]
[null,null,null,{"$f":"IFERROR(INDEX(Brief!$M$15:$M$49,MATCH(C1154,Brief!#REF!,0))*1,\"\")","v":""}]
[null,null,null,{"$f":"IFERROR(INDEX(Brief!$M$15:$M$49,MATCH(C1155,Brief!#REF!,0))*1,\"\")","v":""}]
[null,null,null,{"$f":"IFERROR(INDEX(Brief!$M$15:$M$49,MATCH(C1156,Brief!#REF!,0))*1,\"\")","v":""}]
[null,null,null,{"$f":"IFERROR(INDEX(Brief!$M$15:$M$49,MATCH(C1157,Brief!#REF!,0))*1,\"\")","v":""}]
[null,null,null,{"$f":"IFERROR(INDEX(Brief!$M$15:$M$49,MATCH(C1158,Brief!#REF!,0))*1,\"\")","v":""}]
[null,null,null,{"$f":"IFERROR(INDEX(Brief!$M$15:$M$49,MATCH(C1159,Brief!#REF!,0))*1,\"\")","v":""}]
[null,null,null,{"$f":"IFERROR(INDEX(Brief!$M$15:$M$49,MATCH(C1160,Brief!#REF!,0))*1,\"\")","v":""}]
[null,null,null,{"$f":"IFERROR(INDEX(Brief!$M$15:$M$49,MATCH(C1161,Brief!#REF!,0))*1,\"\")","v":""}]
[null,null,null,{"$f":"IFERROR(INDEX(Brief!$M$15:$M$49,MATCH(C1162,Brief!#REF!,0))*1,\"\")","v":""}]
[null,null,null,{"$f":"IFERROR(INDEX(Brief!$M$15:$M$49,MATCH(C1163,Brief!#REF!,0))*1,\"\")","v":""}]
[null,null,null,{"$f":"IFERROR(INDEX(Brief!$M$15:$M$49,MATCH(C1164,Brief!#REF!,0))*1,\"\")","v":""}]
[null,null,null,{"$f":"IFERROR(INDEX(Brief!$M$15:$M$49,MATCH(C1165,Brief!#REF!,0))*1,\"\")","v":""}]
[null,null,null,{"$f":"IFERROR(INDEX(Brief!$M$15:$M$49,MATCH(C1166,Brief!#REF!,0))*1,\"\")","v":""}]
[null,null,null,{"$f":"IFERROR(INDEX(Brief!$M$15:$M$49,MATCH(C1167,Brief!#REF!,0))*1,\"\")","v":""}]
[null,null,null,{"$f":"IFERROR(INDEX(Brief!$M$15:$M$49,MATCH(C1168,Brief!#REF!,0))*1,\"\")","v":""}]
[null,null,null,{"$f":"IFERROR(INDEX(Brief!$M$15:$M$49,MATCH(C1169,Brief!#REF!,0))*1,\"\")","v":""}]
[null,null,null,{"$f":"IFERROR(INDEX(Brief!$M$15:$M$49,MATCH(C1170,Brief!#REF!,0))*1,\"\")","v":""}]
[null,null,null,{"$f":"IFERROR(INDEX(Brief!$M$15:$M$49,MATCH(C1171,Brief!#REF!,0))*1,\"\")","v":""}]
[null,null,null,{"$f":"IFERROR(INDEX(Brief!$M$15:$M$49,MATCH(C1172,Brief!#REF!,0))*1,\"\")","v":""}]
[null,null,null,{"$f":"IFERROR(INDEX(Brief!$M$15:$M$49,MATCH(C1173,Brief!#REF!,0))*1,\"\")","v":""}]
[null,null,null,{"$f":"IFERROR(INDEX(Brief!$M$15:$M$49,MATCH(C1174,Brief!#REF!,0))*1,\"\")","v":""}]
[null,null,null,{"$f":"IFERROR(INDEX(Brief!$M$15:$M$49,MATCH(C1175,Brief!#REF!,0))*1,\"\")","v":""}]
[null,null,null,{"$f":"IFERROR(INDEX(Brief!$M$15:$M$49,MATCH(C1176,Brief!#REF!,0))*1,\"\")","v":""}]
[null,null,null,{"$f":"IFERROR(INDEX(Brief!$M$15:$M$49,MATCH(C1177,Brief!#REF!,0))*1,\"\")","v":""}]
[null,null,null,{"$f":"IFERROR(INDEX(Brief!$M$15:$M$49,MATCH(C1178,Brief!#REF!,0))*1,\"\")","v":""}]
[null,null,null,{"$f":"IFERROR(INDEX(Brief!$M$15:$M$49,MATCH(C1179,Brief!#REF!,0))*1,\"\")","v":""}]
[null,null,null,{"$f":"IFERROR(INDEX(Brief!$M$15:$M$49,MATCH(C1180,Brief!#REF!,0))*1,\"\")","v":""}]
[null,null,null,{"$f":"IFERROR(INDEX(Brief!$M$15:$M$49,MATCH(C1181,Brief!#REF!,0))*1,\"\")","v":""}]
[null,null,null,{"$f":"IFERROR(INDEX(Brief!$M$15:$M$49,MATCH(C1182,Brief!#REF!,0))*1,\"\")","v":""}]
[null,null,null,{"$f":"IFERROR(INDEX(Brief!$M$15:$M$49,MATCH(C1183,Brief!#REF!,0))*1,\"\")","v":""}]
[null,null,null,{"$f":"IFERROR(INDEX(Brief!$M$15:$M$49,MATCH(C1184,Brief!#REF!,0))*1,\"\")","v":""}]
[null,null,null,{"$f":"IFERROR(INDEX(Brief!$M$15:$M$49,MATCH(C1185,Brief!#REF!,0))*1,\"\")","v":""}]
[null,null,null,{"$f":"IFERROR(INDEX(Brief!$M$15:$M$49,MATCH(C1186,Brief!#REF!,0))*1,\"\")","v":""}]
[null,null,null,{"$f":"IFERROR(INDEX(Brief!$M$15:$M$49,MATCH(C1187,Brief!#REF!,0))*1,\"\")","v":""}]
[null,null,null,{"$f":"IFERROR(INDEX(Brief!$M$15:$M$49,MATCH(C1188,Brief!#REF!,0))*1,\"\")","v":""}]
[null,null,null,{"$f":"IFERROR(INDEX(Brief!$M$15:$M$49,MATCH(C1189,Brief!#REF!,0))*1,\"\")","v":""}]
[null,null,null,{"$f":"IFERROR(INDEX(Brief!$M$15:$M$49,MATCH(C1190,Brief!#REF!,0))*1,\"\")","v":""}]
[null,null,null,{"$f":"IFERROR(INDEX(Brief!$M$15:$M$49,MATCH(C1191,Brief!#REF!,0))*1,\"\")","v":""}]
[null,null,null,{"$f":"IFERROR(INDEX(Brief!$M$15:$M$49,MATCH(C1192,Brief!#REF!,0))*1,\"\")","v":""}]
[null,null,null,{"$f":"IFERROR(INDEX(Brief!$M$15:$M$49,MATCH(C1193,Brief!#REF!,0))*1,\"\")","v":""}]
[null,null,null,{"$f":"IFERROR(INDEX(Brief!$M$15:$M$49,MATCH(C1194,Brief!#REF!,0))*1,\"\")","v":""}]
[null,null,null,{"$f":"IFERROR(INDEX(Brief!$M$15:$M$49,MATCH(C1195,Brief!#REF!,0))*1,\"\")","v":""}]
[null,null,null,{"$f":"IFERROR(INDEX(Brief!$M$15:$M$49,MATCH(C1196,Brief!#REF!,0))*1,\"\")","v":""}]
[null,null,null,{"$f":"IFERROR(INDEX(Brief!$M$15:$M$49,MATCH(C1197,Brief!#REF!,0))*1,\"\")","v":""}]
[null,null,null,{"$f":"IFERROR(INDEX(Brief!$M$15:$M$49,MATCH(C1198,Brief!#REF!,0))*1,\"\")","v":""}]
[null,null,null,{"$f":"IFERROR(INDEX(Brief!$M$15:$M$49,MATCH(C1199,Brief!#REF!,0))*1,\"\")","v":""}]
[null,null,null,{"$f":"IFERROR(INDEX(Brief!$M$15:$M$49,MATCH(C1200,Brief!#REF!,0))*1,\"\")","v":""}]
[null,null,null,{"$f":"IFERROR(INDEX(Brief!$M$15:$M$49,MATCH(C1201,Brief!#REF!,0))*1,\"\")","v":""}]
[null,null,null,{"$f":"IFERROR(INDEX(Brief!$M$15:$M$49,MATCH(C1202,Brief!#REF!,0))*1,\"\")","v":""}]
[null,null,null,{"$f":"IFERROR(INDEX(Brief!$M$15:$M$49,MATCH(C1203,Brief!#REF!,0))*1,\"\")","v":""}]
[null,null,null,{"$f":"IFERROR(INDEX(Brief!$M$15:$M$49,MATCH(C1204,Brief!#REF!,0))*1,\"\")","v":""}]
[null,null,null,{"$f":"IFERROR(INDEX(Brief!$M$15:$M$49,MATCH(C1205,Brief!#REF!,0))*1,\"\")","v":""}]
[null,null,null,{"$f":"IFERROR(INDEX(Brief!$M$15:$M$49,MATCH(C1206,Brief!#REF!,0))*1,\"\")","v":""}]
[null,null,null,{"$f":"IFERROR(INDEX(Brief!$M$15:$M$49,MATCH(C1207,Brief!#REF!,0))*1,\"\")","v":""}]
[null,null,null,{"$f":"IFERROR(INDEX(Brief!$M$15:$M$49,MATCH(C1208,Brief!#REF!,0))*1,\"\")","v":""}]
[null,null,null,{"$f":"IFERROR(INDEX(Brief!$M$15:$M$49,MATCH(C1209,Brief!#REF!,0))*1,\"\")","v":""}]
[null,null,null,{"$f":"IFERROR(INDEX(Brief!$M$15:$M$49,MATCH(C1210,Brief!#REF!,0))*1,\"\")","v":""}]
[null,null,null,{"$f":"IFERROR(INDEX(Brief!$M$15:$M$49,MATCH(C1211,Brief!#REF!,0))*1,\"\")","v":""}]
[null,null,null,{"$f":"IFERROR(INDEX(Brief!$M$15:$M$49,MATCH(C1212,Brief!#REF!,0))*1,\"\")","v":""}]
[null,null,null,{"$f":"IFERROR(INDEX(Brief!$M$15:$M$49,MATCH(C1213,Brief!#REF!,0))*1,\"\")","v":""}]
[null,null,null,{"$f":"IFERROR(INDEX(Brief!$M$15:$M$49,MATCH(C1214,Brief!#REF!,0))*1,\"\")","v":""}]
[null,null,null,{"$f":"IFERROR(INDEX(Brief!$M$15:$M$49,MATCH(C1215,Brief!#REF!,0))*1,\"\")","v":""}]
[null,null,null,{"$f":"IFERROR(INDEX(Brief!$M$15:$M$49,MATCH(C1216,Brief!#REF!,0))*1,\"\")","v":""}]
[null,null,null,{"$f":"IFERROR(INDEX(Brief!$M$15:$M$49,MATCH(C1217,Brief!#REF!,0))*1,\"\")","v":""}]
[null,null,null,{"$f":"IFERROR(INDEX(Brief!$M$15:$M$49,MATCH(C1218,Brief!#REF!,0))*1,\"\")","v":""}]
[null,null,null,{"$f":"IFERROR(INDEX(Brief!$M$15:$M$49,MATCH(C1219,Brief!#REF!,0))*1,\"\")","v":""}]
[null,null,null,{"$f":"IFERROR(INDEX(Brief!$M$15:$M$49,MATCH(C1220,Brief!#REF!,0))*1,\"\")","v":""}]
[null,null,null,{"$f":"IFERROR(INDEX(Brief!$M$15:$M$49,MATCH(C1221,Brief!#REF!,0))*1,\"\")","v":""}]
[null,null,null,{"$f":"IFERROR(INDEX(Brief!$M$15:$M$49,MATCH(C1222,Brief!#REF!,0))*1,\"\")","v":""}]
[null,null,null,{"$f":"IFERROR(INDEX(Brief!$M$15:$M$49,MATCH(C1223,Brief!#REF!,0))*1,\"\")","v":""}]
[null,null,null,{"$f":"IFERROR(INDEX(Brief!$M$15:$M$49,MATCH(C1224,Brief!#REF!,0))*1,\"\")","v":""}]
[null,null,null,{"$f":"IFERROR(INDEX(Brief!$M$15:$M$49,MATCH(C1225,Brief!#REF!,0))*1,\"\")","v":""}]
[null,null,null,{"$f":"IFERROR(INDEX(Brief!$M$15:$M$49,MATCH(C1226,Brief!#REF!,0))*1,\"\")","v":""}]
[null,null,null,{"$f":"IFERROR(INDEX(Brief!$M$15:$M$49,MATCH(C1227,Brief!#REF!,0))*1,\"\")","v":""}]
[null,null,null,{"$f":"IFERROR(INDEX(Brief!$M$15:$M$49,MATCH(C1228,Brief!#REF!,0))*1,\"\")","v":""}]
[null,null,null,{"$f":"IFERROR(INDEX(Brief!$M$15:$M$49,MATCH(C1229,Brief!#REF!,0))*1,\"\")","v":""}]
[null,null,null,{"$f":"IFERROR(INDEX(Brief!$M$15:$M$49,MATCH(C1230,Brief!#REF!,0))*1,\"\")","v":""}]
[null,null,null,{"$f":"IFERROR(INDEX(Brief!$M$15:$M$49,MATCH(C1231,Brief!#REF!,0))*1,\"\")","v":""}]
[null,null,null,{"$f":"IFERROR(INDEX(Brief!$M$15:$M$49,MATCH(C1232,Brief!#REF!,0))*1,\"\")","v":""}]
[null,null,null,{"$f":"IFERROR(INDEX(Brief!$M$15:$M$49,MATCH(C1233,Brief!#REF!,0))*1,\"\")","v":""}]
[null,null,null,{"$f":"IFERROR(INDEX(Brief!$M$15:$M$49,MATCH(C1234,Brief!#REF!,0))*1,\"\")","v":""}]
[null,null,null,{"$f":"IFERROR(INDEX(Brief!$M$15:$M$49,MATCH(C1235,Brief!#REF!,0))*1,\"\")","v":""}]
[null,null,null,{"$f":"IFERROR(INDEX(Brief!$M$15:$M$49,MATCH(C1236,Brief!#REF!,0))*1,\"\")","v":""}]
[null,null,null,{"$f":"IFERROR(INDEX(Brief!$M$15:$M$49,MATCH(C1237,Brief!#REF!,0))*1,\"\")","v":""}]
[null,null,null,{"$f":"IFERROR(INDEX(Brief!$M$15:$M$49,MATCH(C1238,Brief!#REF!,0))*1,\"\")","v":""}]
[null,null,null,{"$f":"IFERROR(INDEX(Brief!$M$15:$M$49,MATCH(C1239,Brief!#REF!,0))*1,\"\")","v":""}]
[null,null,null,{"$f":"IFERROR(INDEX(Brief!$M$15:$M$49,MATCH(C1240,Brief!#REF!,0))*1,\"\")","v":""}]
[null,null,null,{"$f":"IFERROR(INDEX(Brief!$M$15:$M$49,MATCH(C1241,Brief!#REF!,0))*1,\"\")","v":""}]
[null,null,null,{"$f":"IFERROR(INDEX(Brief!$M$15:$M$49,MATCH(C1242,Brief!#REF!,0))*1,\"\")","v":""}]
[null,null,null,{"$f":"IFERROR(INDEX(Brief!$M$15:$M$49,MATCH(C1243,Brief!#REF!,0))*1,\"\")","v":""}]
[null,null,null,{"$f":"IFERROR(INDEX(Brief!$M$15:$M$49,MATCH(C1244,Brief!#REF!,0))*1,\"\")","v":""}]
[null,null,null,{"$f":"IFERROR(INDEX(Brief!$M$15:$M$49,MATCH(C1245,Brief!#REF!,0))*1,\"\")","v":""}]
[null,null,null,{"$f":"IFERROR(INDEX(Brief!$M$15:$M$49,MATCH(C1246,Brief!#REF!,0))*1,\"\")","v":""}]
[null,null,null,{"$f":"IFERROR(INDEX(Brief!$M$15:$M$49,MATCH(C1247,Brief!#REF!,0))*1,\"\")","v":""}]
[null,null,null,{"$f":"IFERROR(INDEX(Brief!$M$15:$M$49,MATCH(C1248,Brief!#REF!,0))*1,\"\")","v":""}]
[null,null,null,{"$f":"IFERROR(INDEX(Brief!$M$15:$M$49,MATCH(C1249,Brief!#REF!,0))*1,\"\")","v":""}]
[null,null,null,{"$f":"IFERROR(INDEX(Brief!$M$15:$M$49,MATCH(C1250,Brief!#REF!,0))*1,\"\")","v":""}]
[null,null,null,{"$f":"IFERROR(INDEX(Brief!$M$15:$M$49,MATCH(C1251,Brief!#REF!,0))*1,\"\")","v":""}]
[null,null,null,{"$f":"IFERROR(INDEX(Brief!$M$15:$M$49,MATCH(C1252,Brief!#REF!,0))*1,\"\")","v":""}]
[null,null,null,{"$f":"IFERROR(INDEX(Brief!$M$15:$M$49,MATCH(C1253,Brief!#REF!,0))*1,\"\")","v":""}]
[null,null,null,{"$f":"IFERROR(INDEX(Brief!$M$15:$M$49,MATCH(C1254,Brief!#REF!,0))*1,\"\")","v":""}]
[null,null,null,{"$f":"IFERROR(INDEX(Brief!$M$15:$M$49,MATCH(C1255,Brief!#REF!,0))*1,\"\")","v":""}]
[null,null,null,{"$f":"IFERROR(INDEX(Brief!$M$15:$M$49,MATCH(C1256,Brief!#REF!,0))*1,\"\")","v":""}]
[null,null,null,{"$f":"IFERROR(INDEX(Brief!$M$15:$M$49,MATCH(C1257,Brief!#REF!,0))*1,\"\")","v":""}]
[null,null,null,{"$f":"IFERROR(INDEX(Brief!$M$15:$M$49,MATCH(C1258,Brief!#REF!,0))*1,\"\")","v":""}]
[null,null,null,{"$f":"IFERROR(INDEX(Brief!$M$15:$M$49,MATCH(C1259,Brief!#REF!,0))*1,\"\")","v":""}]
[null,null,null,{"$f":"IFERROR(INDEX(Brief!$M$15:$M$49,MATCH(C1260,Brief!#REF!,0))*1,\"\")","v":""}]
[null,null,null,{"$f":"IFERROR(INDEX(Brief!$M$15:$M$49,MATCH(C1261,Brief!#REF!,0))*1,\"\")","v":""}]
[null,null,null,{"$f":"IFERROR(INDEX(Brief!$M$15:$M$49,MATCH(C1262,Brief!#REF!,0))*1,\"\")","v":""}]
[null,null,null,{"$f":"IFERROR(INDEX(Brief!$M$15:$M$49,MATCH(C1263,Brief!#REF!,0))*1,\"\")","v":""}]
[null,null,null,{"$f":"IFERROR(INDEX(Brief!$M$15:$M$49,MATCH(C1264,Brief!#REF!,0))*1,\"\")","v":""}]
[null,null,null,{"$f":"IFERROR(INDEX(Brief!$M$15:$M$49,MATCH(C1265,Brief!#REF!,0))*1,\"\")","v":""}]
[null,null,null,{"$f":"IFERROR(INDEX(Brief!$M$15:$M$49,MATCH(C1266,Brief!#REF!,0))*1,\"\")","v":""}]
[null,null,null,{"$f":"IFERROR(INDEX(Brief!$M$15:$M$49,MATCH(C1267,Brief!#REF!,0))*1,\"\")","v":""}]
[null,null,null,{"$f":"IFERROR(INDEX(Brief!$M$15:$M$49,MATCH(C1268,Brief!#REF!,0))*1,\"\")","v":""}]
[null,null,null,{"$f":"IFERROR(INDEX(Brief!$M$15:$M$49,MATCH(C1269,Brief!#REF!,0))*1,\"\")","v":""}]
[null,null,null,{"$f":"IFERROR(INDEX(Brief!$M$15:$M$49,MATCH(C1270,Brief!#REF!,0))*1,\"\")","v":""}]
[null,null,null,{"$f":"IFERROR(INDEX(Brief!$M$15:$M$49,MATCH(C1271,Brief!#REF!,0))*1,\"\")","v":""}]
[null,null,null,{"$f":"IFERROR(INDEX(Brief!$M$15:$M$49,MATCH(C1272,Brief!#REF!,0))*1,\"\")","v":""}]
[null,null,null,{"$f":"IFERROR(INDEX(Brief!$M$15:$M$49,MATCH(C1273,Brief!#REF!,0))*1,\"\")","v":""}]
[null,null,null,{"$f":"IFERROR(INDEX(Brief!$M$15:$M$49,MATCH(C1274,Brief!#REF!,0))*1,\"\")","v":""}]
[null,null,null,{"$f":"IFERROR(INDEX(Brief!$M$15:$M$49,MATCH(C1275,Brief!#REF!,0))*1,\"\")","v":""}]
[null,null,null,{"$f":"IFERROR(INDEX(Brief!$M$15:$M$49,MATCH(C1276,Brief!#REF!,0))*1,\"\")","v":""}]
[null,null,null,{"$f":"IFERROR(INDEX(Brief!$M$15:$M$49,MATCH(C1277,Brief!#REF!,0))*1,\"\")","v":""}]
[null,null,null,{"$f":"IFERROR(INDEX(Brief!$M$15:$M$49,MATCH(C1278,Brief!#REF!,0))*1,\"\")","v":""}]
[null,null,null,{"$f":"IFERROR(INDEX(Brief!$M$15:$M$49,MATCH(C1279,Brief!#REF!,0))*1,\"\")","v":""}]
[null,null,null,{"$f":"IFERROR(INDEX(Brief!$M$15:$M$49,MATCH(C1280,Brief!#REF!,0))*1,\"\")","v":""}]
[null,null,null,{"$f":"IFERROR(INDEX(Brief!$M$15:$M$49,MATCH(C1281,Brief!#REF!,0))*1,\"\")","v":""}]
[null,null,null,{"$f":"IFERROR(INDEX(Brief!$M$15:$M$49,MATCH(C1282,Brief!#REF!,0))*1,\"\")","v":""}]
[null,null,null,{"$f":"IFERROR(INDEX(Brief!$M$15:$M$49,MATCH(C1283,Brief!#REF!,0))*1,\"\")","v":""}]
[null,null,null,{"$f":"IFERROR(INDEX(Brief!$M$15:$M$49,MATCH(C1284,Brief!#REF!,0))*1,\"\")","v":""}]
[null,null,null,{"$f":"IFERROR(INDEX(Brief!$M$15:$M$49,MATCH(C1285,Brief!#REF!,0))*1,\"\")","v":""}]
[null,null,null,{"$f":"IFERROR(INDEX(Brief!$M$15:$M$49,MATCH(C1286,Brief!#REF!,0))*1,\"\")","v":""}]
[null,null,null,{"$f":"IFERROR(INDEX(Brief!$M$15:$M$49,MATCH(C1287,Brief!#REF!,0))*1,\"\")","v":""}]
[null,null,null,{"$f":"IFERROR(INDEX(Brief!$M$15:$M$49,MATCH(C1288,Brief!#REF!,0))*1,\"\")","v":""}]
[null,null,null,{"$f":"IFERROR(INDEX(Brief!$M$15:$M$49,MATCH(C1289,Brief!#REF!,0))*1,\"\")","v":""}]
[null,null,null,{"$f":"IFERROR(INDEX(Brief!$M$15:$M$49,MATCH(C1290,Brief!#REF!,0))*1,\"\")","v":""}]
[null,null,null,{"$f":"IFERROR(INDEX(Brief!$M$15:$M$49,MATCH(C1291,Brief!#REF!,0))*1,\"\")","v":""}]
[null,null,null,{"$f":"IFERROR(INDEX(Brief!$M$15:$M$49,MATCH(C1292,Brief!#REF!,0))*1,\"\")","v":""}]
[null,null,null,{"$f":"IFERROR(INDEX(Brief!$M$15:$M$49,MATCH(C1293,Brief!#REF!,0))*1,\"\")","v":""}]
[null,null,null,{"$f":"IFERROR(INDEX(Brief!$M$15:$M$49,MATCH(C1294,Brief!#REF!,0))*1,\"\")","v":""}]
[null,null,null,{"$f":"IFERROR(INDEX(Brief!$M$15:$M$49,MATCH(C1295,Brief!#REF!,0))*1,\"\")","v":""}]
[null,null,null,{"$f":"IFERROR(INDEX(Brief!$M$15:$M$49,MATCH(C1296,Brief!#REF!,0))*1,\"\")","v":""}]
[null,null,null,{"$f":"IFERROR(INDEX(Brief!$M$15:$M$49,MATCH(C1297,Brief!#REF!,0))*1,\"\")","v":""}]
[null,null,null,{"$f":"IFERROR(INDEX(Brief!$M$15:$M$49,MATCH(C1298,Brief!#REF!,0))*1,\"\")","v":""}]
[null,null,null,{"$f":"IFERROR(INDEX(Brief!$M$15:$M$49,MATCH(C1299,Brief!#REF!,0))*1,\"\")","v":""}]
[null,null,null,{"$f":"IFERROR(INDEX(Brief!$M$15:$M$49,MATCH(C1300,Brief!#REF!,0))*1,\"\")","v":""}]
[null,null,null,{"$f":"IFERROR(INDEX(Brief!$M$15:$M$49,MATCH(C1301,Brief!#REF!,0))*1,\"\")","v":""}]
[null,null,null,{"$f":"IFERROR(INDEX(Brief!$M$15:$M$49,MATCH(C1302,Brief!#REF!,0))*1,\"\")","v":""}]
[null,null,null,{"$f":"IFERROR(INDEX(Brief!$M$15:$M$49,MATCH(C1303,Brief!#REF!,0))*1,\"\")","v":""}]
[null,null,null,{"$f":"IFERROR(INDEX(Brief!$M$15:$M$49,MATCH(C1304,Brief!#REF!,0))*1,\"\")","v":""}]
[null,null,null,{"$f":"IFERROR(INDEX(Brief!$M$15:$M$49,MATCH(C1305,Brief!#REF!,0))*1,\"\")","v":""}]
[null,null,null,{"$f":"IFERROR(INDEX(Brief!$M$15:$M$49,MATCH(C1306,Brief!#REF!,0))*1,\"\")","v":""}]
[null,null,null,{"$f":"IFERROR(INDEX(Brief!$M$15:$M$49,MATCH(C1307,Brief!#REF!,0))*1,\"\")","v":""}]
[null,null,null,{"$f":"IFERROR(INDEX(Brief!$M$15:$M$49,MATCH(C1308,Brief!#REF!,0))*1,\"\")","v":""}]
[null,null,null,{"$f":"IFERROR(INDEX(Brief!$M$15:$M$49,MATCH(C1309,Brief!#REF!,0))*1,\"\")","v":""}]
[null,null,null,{"$f":"IFERROR(INDEX(Brief!$M$15:$M$49,MATCH(C1310,Brief!#REF!,0))*1,\"\")","v":""}]
[null,null,null,{"$f":"IFERROR(INDEX(Brief!$M$15:$M$49,MATCH(C1311,Brief!#REF!,0))*1,\"\")","v":""}]
[null,null,null,{"$f":"IFERROR(INDEX(Brief!$M$15:$M$49,MATCH(C1312,Brief!#REF!,0))*1,\"\")","v":""}]
[null,null,null,{"$f":"IFERROR(INDEX(Brief!$M$15:$M$49,MATCH(C1313,Brief!#REF!,0))*1,\"\")","v":""}]
[null,null,null,{"$f":"IFERROR(INDEX(Brief!$M$15:$M$49,MATCH(C1314,Brief!#REF!,0))*1,\"\")","v":""}]
[null,null,null,{"$f":"IFERROR(INDEX(Brief!$M$15:$M$49,MATCH(C1315,Brief!#REF!,0))*1,\"\")","v":""}]
[null,null,null,{"$f":"IFERROR(INDEX(Brief!$M$15:$M$49,MATCH(C1316,Brief!#REF!,0))*1,\"\")","v":""}]
[null,null,null,{"$f":"IFERROR(INDEX(Brief!$M$15:$M$49,MATCH(C1317,Brief!#REF!,0))*1,\"\")","v":""}]
[null,null,null,{"$f":"IFERROR(INDEX(Brief!$M$15:$M$49,MATCH(C1318,Brief!#REF!,0))*1,\"\")","v":""}]
[null,null,null,{"$f":"IFERROR(INDEX(Brief!$M$15:$M$49,MATCH(C1319,Brief!#REF!,0))*1,\"\")","v":""}]
[null,null,null,{"$f":"IFERROR(INDEX(Brief!$M$15:$M$49,MATCH(C1320,Brief!#REF!,0))*1,\"\")","v":""}]
[null,null,null,{"$f":"IFERROR(INDEX(Brief!$M$15:$M$49,MATCH(C1321,Brief!#REF!,0))*1,\"\")","v":""}]
[null,null,null,{"$f":"IFERROR(INDEX(Brief!$M$15:$M$49,MATCH(C1322,Brief!#REF!,0))*1,\"\")","v":""}]
[null,null,null,{"$f":"IFERROR(INDEX(Brief!$M$15:$M$49,MATCH(C1323,Brief!#REF!,0))*1,\"\")","v":""}]
[null,null,null,{"$f":"IFERROR(INDEX(Brief!$M$15:$M$49,MATCH(C1324,Brief!#REF!,0))*1,\"\")","v":""}]
[null,null,null,{"$f":"IFERROR(INDEX(Brief!$M$15:$M$49,MATCH(C1325,Brief!#REF!,0))*1,\"\")","v":""}]
[null,null,null,{"$f":"IFERROR(INDEX(Brief!$M$15:$M$49,MATCH(C1326,Brief!#REF!,0))*1,\"\")","v":""}]
[null,null,null,{"$f":"IFERROR(INDEX(Brief!$M$15:$M$49,MATCH(C1327,Brief!#REF!,0))*1,\"\")","v":""}]
[null,null,null,{"$f":"IFERROR(INDEX(Brief!$M$15:$M$49,MATCH(C1328,Brief!#REF!,0))*1,\"\")","v":""}]
[null,null,null,{"$f":"IFERROR(INDEX(Brief!$M$15:$M$49,MATCH(C1329,Brief!#REF!,0))*1,\"\")","v":""}]
[null,null,null,{"$f":"IFERROR(INDEX(Brief!$M$15:$M$49,MATCH(C1330,Brief!#REF!,0))*1,\"\")","v":""}]
[null,null,null,{"$f":"IFERROR(INDEX(Brief!$M$15:$M$49,MATCH(C1331,Brief!#REF!,0))*1,\"\")","v":""}]
[null,null,null,{"$f":"IFERROR(INDEX(Brief!$M$15:$M$49,MATCH(C1332,Brief!#REF!,0))*1,\"\")","v":""}]
[null,null,null,{"$f":"IFERROR(INDEX(Brief!$M$15:$M$49,MATCH(C1333,Brief!#REF!,0))*1,\"\")","v":""}]
[null,null,null,{"$f":"IFERROR(INDEX(Brief!$M$15:$M$49,MATCH(C1334,Brief!#REF!,0))*1,\"\")","v":""}]
[null,null,null,{"$f":"IFERROR(INDEX(Brief!$M$15:$M$49,MATCH(C1335,Brief!#REF!,0))*1,\"\")","v":""}]
[null,null,null,{"$f":"IFERROR(INDEX(Brief!$M$15:$M$49,MATCH(C1336,Brief!#REF!,0))*1,\"\")","v":""}]
[null,null,null,{"$f":"IFERROR(INDEX(Brief!$M$15:$M$49,MATCH(C1337,Brief!#REF!,0))*1,\"\")","v":""}]
[null,null,null,{"$f":"IFERROR(INDEX(Brief!$M$15:$M$49,MATCH(C1338,Brief!#REF!,0))*1,\"\")","v":""}]
[null,null,null,{"$f":"IFERROR(INDEX(Brief!$M$15:$M$49,MATCH(C1339,Brief!#REF!,0))*1,\"\")","v":""}]
[null,null,null,{"$f":"IFERROR(INDEX(Brief!$M$15:$M$49,MATCH(C1340,Brief!#REF!,0))*1,\"\")","v":""}]
[null,null,null,{"$f":"IFERROR(INDEX(Brief!$M$15:$M$49,MATCH(C1341,Brief!#REF!,0))*1,\"\")","v":""}]
[null,null,null,{"$f":"IFERROR(INDEX(Brief!$M$15:$M$49,MATCH(C1342,Brief!#REF!,0))*1,\"\")","v":""}]
[null,null,null,{"$f":"IFERROR(INDEX(Brief!$M$15:$M$49,MATCH(C1343,Brief!#REF!,0))*1,\"\")","v":""}]
[null,null,null,{"$f":"IFERROR(INDEX(Brief!$M$15:$M$49,MATCH(C1344,Brief!#REF!,0))*1,\"\")","v":""}]
[null,null,null,{"$f":"IFERROR(INDEX(Brief!$M$15:$M$49,MATCH(C1345,Brief!#REF!,0))*1,\"\")","v":""}]
[null,null,null,{"$f":"IFERROR(INDEX(Brief!$M$15:$M$49,MATCH(C1346,Brief!#REF!,0))*1,\"\")","v":""}]
[null,null,null,{"$f":"IFERROR(INDEX(Brief!$M$15:$M$49,MATCH(C1347,Brief!#REF!,0))*1,\"\")","v":""}]
[null,null,null,{"$f":"IFERROR(INDEX(Brief!$M$15:$M$49,MATCH(C1348,Brief!#REF!,0))*1,\"\")","v":""}]
[null,null,null,{"$f":"IFERROR(INDEX(Brief!$M$15:$M$49,MATCH(C1349,Brief!#REF!,0))*1,\"\")","v":""}]
[null,null,null,{"$f":"IFERROR(INDEX(Brief!$M$15:$M$49,MATCH(C1350,Brief!#REF!,0))*1,\"\")","v":""}]
[null,null,null,{"$f":"IFERROR(INDEX(Brief!$M$15:$M$49,MATCH(C1351,Brief!#REF!,0))*1,\"\")","v":""}]
[null,null,null,{"$f":"IFERROR(INDEX(Brief!$M$15:$M$49,MATCH(C1352,Brief!#REF!,0))*1,\"\")","v":""}]
[null,null,null,{"$f":"IFERROR(INDEX(Brief!$M$15:$M$49,MATCH(C1353,Brief!#REF!,0))*1,\"\")","v":""}]
[null,null,null,{"$f":"IFERROR(INDEX(Brief!$M$15:$M$49,MATCH(C1354,Brief!#REF!,0))*1,\"\")","v":""}]
[null,null,null,{"$f":"IFERROR(INDEX(Brief!$M$15:$M$49,MATCH(C1355,Brief!#REF!,0))*1,\"\")","v":""}]
[null,null,null,{"$f":"IFERROR(INDEX(Brief!$M$15:$M$49,MATCH(C1356,Brief!#REF!,0))*1,\"\")","v":""}]
[null,null,null,{"$f":"IFERROR(INDEX(Brief!$M$15:$M$49,MATCH(C1357,Brief!#REF!,0))*1,\"\")","v":""}]
[null,null,null,{"$f":"IFERROR(INDEX(Brief!$M$15:$M$49,MATCH(C1358,Brief!#REF!,0))*1,\"\")","v":""}]
[null,null,null,{"$f":"IFERROR(INDEX(Brief!$M$15:$M$49,MATCH(C1359,Brief!#REF!,0))*1,\"\")","v":""}]
[null,null,null,{"$f":"IFERROR(INDEX(Brief!$M$15:$M$49,MATCH(C1360,Brief!#REF!,0))*1,\"\")","v":""}]
[null,null,null,{"$f":"IFERROR(INDEX(Brief!$M$15:$M$49,MATCH(C1361,Brief!#REF!,0))*1,\"\")","v":""}]
[null,null,null,{"$f":"IFERROR(INDEX(Brief!$M$15:$M$49,MATCH(C1362,Brief!#REF!,0))*1,\"\")","v":""}]
[null,null,null,{"$f":"IFERROR(INDEX(Brief!$M$15:$M$49,MATCH(C1363,Brief!#REF!,0))*1,\"\")","v":""}]
[null,null,null,{"$f":"IFERROR(INDEX(Brief!$M$15:$M$49,MATCH(C1364,Brief!#REF!,0))*1,\"\")","v":""}]
[null,null,null,{"$f":"IFERROR(INDEX(Brief!$M$15:$M$49,MATCH(C1365,Brief!#REF!,0))*1,\"\")","v":""}]
[null,null,null,{"$f":"IFERROR(INDEX(Brief!$M$15:$M$49,MATCH(C1366,Brief!#REF!,0))*1,\"\")","v":""}]
[null,null,null,{"$f":"IFERROR(INDEX(Brief!$M$15:$M$49,MATCH(C1367,Brief!#REF!,0))*1,\"\")","v":""}]
[null,null,null,{"$f":"IFERROR(INDEX(Brief!$M$15:$M$49,MATCH(C1368,Brief!#REF!,0))*1,\"\")","v":""}]
[null,null,null,{"$f":"IFERROR(INDEX(Brief!$M$15:$M$49,MATCH(C1369,Brief!#REF!,0))*1,\"\")","v":""}]
[null,null,null,{"$f":"IFERROR(INDEX(Brief!$M$15:$M$49,MATCH(C1370,Brief!#REF!,0))*1,\"\")","v":""}]
[null,null,null,{"$f":"IFERROR(INDEX(Brief!$M$15:$M$49,MATCH(C1371,Brief!#REF!,0))*1,\"\")","v":""}]
[null,null,null,{"$f":"IFERROR(INDEX(Brief!$M$15:$M$49,MATCH(C1372,Brief!#REF!,0))*1,\"\")","v":""}]
[null,null,null,{"$f":"IFERROR(INDEX(Brief!$M$15:$M$49,MATCH(C1373,Brief!#REF!,0))*1,\"\")","v":""}]
[null,null,null,{"$f":"IFERROR(INDEX(Brief!$M$15:$M$49,MATCH(C1374,Brief!#REF!,0))*1,\"\")","v":""}]
[null,null,null,{"$f":"IFERROR(INDEX(Brief!$M$15:$M$49,MATCH(C1375,Brief!#REF!,0))*1,\"\")","v":""}]
[null,null,null,{"$f":"IFERROR(INDEX(Brief!$M$15:$M$49,MATCH(C1376,Brief!#REF!,0))*1,\"\")","v":""}]
[null,null,null,{"$f":"IFERROR(INDEX(Brief!$M$15:$M$49,MATCH(C1377,Brief!#REF!,0))*1,\"\")","v":""}]
[null,null,null,{"$f":"IFERROR(INDEX(Brief!$M$15:$M$49,MATCH(C1378,Brief!#REF!,0))*1,\"\")","v":""}]
[null,null,null,{"$f":"IFERROR(INDEX(Brief!$M$15:$M$49,MATCH(C1379,Brief!#REF!,0))*1,\"\")","v":""}]
[null,null,null,{"$f":"IFERROR(INDEX(Brief!$M$15:$M$49,MATCH(C1380,Brief!#REF!,0))*1,\"\")","v":""}]
[null,null,null,{"$f":"IFERROR(INDEX(Brief!$M$15:$M$49,MATCH(C1381,Brief!#REF!,0))*1,\"\")","v":""}]
[null,null,null,{"$f":"IFERROR(INDEX(Brief!$M$15:$M$49,MATCH(C1382,Brief!#REF!,0))*1,\"\")","v":""}]
[null,null,null,{"$f":"IFERROR(INDEX(Brief!$M$15:$M$49,MATCH(C1383,Brief!#REF!,0))*1,\"\")","v":""}]
[null,null,null,{"$f":"IFERROR(INDEX(Brief!$M$15:$M$49,MATCH(C1384,Brief!#REF!,0))*1,\"\")","v":""}]
[null,null,null,{"$f":"IFERROR(INDEX(Brief!$M$15:$M$49,MATCH(C1385,Brief!#REF!,0))*1,\"\")","v":""}]
[null,null,null,{"$f":"IFERROR(INDEX(Brief!$M$15:$M$49,MATCH(C1386,Brief!#REF!,0))*1,\"\")","v":""}]
[null,null,null,{"$f":"IFERROR(INDEX(Brief!$M$15:$M$49,MATCH(C1387,Brief!#REF!,0))*1,\"\")","v":""}]
[null,null,null,{"$f":"IFERROR(INDEX(Brief!$M$15:$M$49,MATCH(C1388,Brief!#REF!,0))*1,\"\")","v":""}]
[null,null,null,{"$f":"IFERROR(INDEX(Brief!$M$15:$M$49,MATCH(C1389,Brief!#REF!,0))*1,\"\")","v":""}]
[null,null,null,{"$f":"IFERROR(INDEX(Brief!$M$15:$M$49,MATCH(C1390,Brief!#REF!,0))*1,\"\")","v":""}]
[null,null,null,{"$f":"IFERROR(INDEX(Brief!$M$15:$M$49,MATCH(C1391,Brief!#REF!,0))*1,\"\")","v":""}]
[null,null,null,{"$f":"IFERROR(INDEX(Brief!$M$15:$M$49,MATCH(C1392,Brief!#REF!,0))*1,\"\")","v":""}]
[null,null,null,{"$f":"IFERROR(INDEX(Brief!$M$15:$M$49,MATCH(C1393,Brief!#REF!,0))*1,\"\")","v":""}]
[null,null,null,{"$f":"IFERROR(INDEX(Brief!$M$15:$M$49,MATCH(C1394,Brief!#REF!,0))*1,\"\")","v":""}]
[null,null,null,{"$f":"IFERROR(INDEX(Brief!$M$15:$M$49,MATCH(C1395,Brief!#REF!,0))*1,\"\")","v":""}]
[null,null,null,{"$f":"IFERROR(INDEX(Brief!$M$15:$M$49,MATCH(C1396,Brief!#REF!,0))*1,\"\")","v":""}]
[null,null,null,{"$f":"IFERROR(INDEX(Brief!$M$15:$M$49,MATCH(C1397,Brief!#REF!,0))*1,\"\")","v":""}]
[null,null,null,{"$f":"IFERROR(INDEX(Brief!$M$15:$M$49,MATCH(C1398,Brief!#REF!,0))*1,\"\")","v":""}]
[null,null,null,{"$f":"IFERROR(INDEX(Brief!$M$15:$M$49,MATCH(C1399,Brief!#REF!,0))*1,\"\")","v":""}]
[null,null,null,{"$f":"IFERROR(INDEX(Brief!$M$15:$M$49,MATCH(C1400,Brief!#REF!,0))*1,\"\")","v":""}]
[null,null,null,{"$f":"IFERROR(INDEX(Brief!$M$15:$M$49,MATCH(C1401,Brief!#REF!,0))*1,\"\")","v":""}]
[null,null,null,{"$f":"IFERROR(INDEX(Brief!$M$15:$M$49,MATCH(C1402,Brief!#REF!,0))*1,\"\")","v":""}]
[null,null,null,{"$f":"IFERROR(INDEX(Brief!$M$15:$M$49,MATCH(C1403,Brief!#REF!,0))*1,\"\")","v":""}]
[null,null,null,{"$f":"IFERROR(INDEX(Brief!$M$15:$M$49,MATCH(C1404,Brief!#REF!,0))*1,\"\")","v":""}]
[null,null,null,{"$f":"IFERROR(INDEX(Brief!$M$15:$M$49,MATCH(C1405,Brief!#REF!,0))*1,\"\")","v":""}]
[null,null,null,{"$f":"IFERROR(INDEX(Brief!$M$15:$M$49,MATCH(C1406,Brief!#REF!,0))*1,\"\")","v":""}]
[null,null,null,{"$f":"IFERROR(INDEX(Brief!$M$15:$M$49,MATCH(C1407,Brief!#REF!,0))*1,\"\")","v":""}]
[null,null,null,{"$f":"IFERROR(INDEX(Brief!$M$15:$M$49,MATCH(C1408,Brief!#REF!,0))*1,\"\")","v":""}]
[null,null,null,{"$f":"IFERROR(INDEX(Brief!$M$15:$M$49,MATCH(C1409,Brief!#REF!,0))*1,\"\")","v":""}]
[null,null,null,{"$f":"IFERROR(INDEX(Brief!$M$15:$M$49,MATCH(C1410,Brief!#REF!,0))*1,\"\")","v":""}]
[null,null,null,{"$f":"IFERROR(INDEX(Brief!$M$15:$M$49,MATCH(C1411,Brief!#REF!,0))*1,\"\")","v":""}]
[null,null,null,{"$f":"IFERROR(INDEX(Brief!$M$15:$M$49,MATCH(C1412,Brief!#REF!,0))*1,\"\")","v":""}]
[null,null,null,{"$f":"IFERROR(INDEX(Brief!$M$15:$M$49,MATCH(C1413,Brief!#REF!,0))*1,\"\")","v":""}]
[null,null,null,{"$f":"IFERROR(INDEX(Brief!$M$15:$M$49,MATCH(C1414,Brief!#REF!,0))*1,\"\")","v":""}]
[null,null,null,{"$f":"IFERROR(INDEX(Brief!$M$15:$M$49,MATCH(C1415,Brief!#REF!,0))*1,\"\")","v":""}]
[null,null,null,{"$f":"IFERROR(INDEX(Brief!$M$15:$M$49,MATCH(C1416,Brief!#REF!,0))*1,\"\")","v":""}]
[null,null,null,{"$f":"IFERROR(INDEX(Brief!$M$15:$M$49,MATCH(C1417,Brief!#REF!,0))*1,\"\")","v":""}]
[null,null,null,{"$f":"IFERROR(INDEX(Brief!$M$15:$M$49,MATCH(C1418,Brief!#REF!,0))*1,\"\")","v":""}]
[null,null,null,{"$f":"IFERROR(INDEX(Brief!$M$15:$M$49,MATCH(C1419,Brief!#REF!,0))*1,\"\")","v":""}]
[null,null,null,{"$f":"IFERROR(INDEX(Brief!$M$15:$M$49,MATCH(C1420,Brief!#REF!,0))*1,\"\")","v":""}]
[null,null,null,{"$f":"IFERROR(INDEX(Brief!$M$15:$M$49,MATCH(C1421,Brief!#REF!,0))*1,\"\")","v":""}]
[null,null,null,{"$f":"IFERROR(INDEX(Brief!$M$15:$M$49,MATCH(C1422,Brief!#REF!,0))*1,\"\")","v":""}]
[null,null,null,{"$f":"IFERROR(INDEX(Brief!$M$15:$M$49,MATCH(C1423,Brief!#REF!,0))*1,\"\")","v":""}]
[null,null,null,{"$f":"IFERROR(INDEX(Brief!$M$15:$M$49,MATCH(C1424,Brief!#REF!,0))*1,\"\")","v":""}]
[null,null,null,{"$f":"IFERROR(INDEX(Brief!$M$15:$M$49,MATCH(C1425,Brief!#REF!,0))*1,\"\")","v":""}]
[null,null,null,{"$f":"IFERROR(INDEX(Brief!$M$15:$M$49,MATCH(C1426,Brief!#REF!,0))*1,\"\")","v":""}]
[null,null,null,{"$f":"IFERROR(INDEX(Brief!$M$15:$M$49,MATCH(C1427,Brief!#REF!,0))*1,\"\")","v":""}]
[null,null,null,{"$f":"IFERROR(INDEX(Brief!$M$15:$M$49,MATCH(C1428,Brief!#REF!,0))*1,\"\")","v":""}]
[null,null,null,{"$f":"IFERROR(INDEX(Brief!$M$15:$M$49,MATCH(C1429,Brief!#REF!,0))*1,\"\")","v":""}]
[null,null,null,{"$f":"IFERROR(INDEX(Brief!$M$15:$M$49,MATCH(C1430,Brief!#REF!,0))*1,\"\")","v":""}]
[null,null,null,{"$f":"IFERROR(INDEX(Brief!$M$15:$M$49,MATCH(C1431,Brief!#REF!,0))*1,\"\")","v":""}]
[null,null,null,{"$f":"IFERROR(INDEX(Brief!$M$15:$M$49,MATCH(C1432,Brief!#REF!,0))*1,\"\")","v":""}]
[null,null,null,{"$f":"IFERROR(INDEX(Brief!$M$15:$M$49,MATCH(C1433,Brief!#REF!,0))*1,\"\")","v":""}]
[null,null,null,{"$f":"IFERROR(INDEX(Brief!$M$15:$M$49,MATCH(C1434,Brief!#REF!,0))*1,\"\")","v":""}]
[null,null,null,{"$f":"IFERROR(INDEX(Brief!$M$15:$M$49,MATCH(C1435,Brief!#REF!,0))*1,\"\")","v":""}]
[null,null,null,{"$f":"IFERROR(INDEX(Brief!$M$15:$M$49,MATCH(C1436,Brief!#REF!,0))*1,\"\")","v":""}]
[null,null,null,{"$f":"IFERROR(INDEX(Brief!$M$15:$M$49,MATCH(C1437,Brief!#REF!,0))*1,\"\")","v":""}]
[null,null,null,{"$f":"IFERROR(INDEX(Brief!$M$15:$M$49,MATCH(C1438,Brief!#REF!,0))*1,\"\")","v":""}]
[null,null,null,{"$f":"IFERROR(INDEX(Brief!$M$15:$M$49,MATCH(C1439,Brief!#REF!,0))*1,\"\")","v":""}]
[null,null,null,{"$f":"IFERROR(INDEX(Brief!$M$15:$M$49,MATCH(C1440,Brief!#REF!,0))*1,\"\")","v":""}]
[null,null,null,{"$f":"IFERROR(INDEX(Brief!$M$15:$M$49,MATCH(C1441,Brief!#REF!,0))*1,\"\")","v":""}]
[null,null,null,{"$f":"IFERROR(INDEX(Brief!$M$15:$M$49,MATCH(C1442,Brief!#REF!,0))*1,\"\")","v":""}]
[null,null,null,{"$f":"IFERROR(INDEX(Brief!$M$15:$M$49,MATCH(C1443,Brief!#REF!,0))*1,\"\")","v":""}]
[null,null,null,{"$f":"IFERROR(INDEX(Brief!$M$15:$M$49,MATCH(C1444,Brief!#REF!,0))*1,\"\")","v":""}]
[null,null,null,{"$f":"IFERROR(INDEX(Brief!$M$15:$M$49,MATCH(C1445,Brief!#REF!,0))*1,\"\")","v":""}]
[null,null,null,{"$f":"IFERROR(INDEX(Brief!$M$15:$M$49,MATCH(C1446,Brief!#REF!,0))*1,\"\")","v":""}]
[null,null,null,{"$f":"IFERROR(INDEX(Brief!$M$15:$M$49,MATCH(C1447,Brief!#REF!,0))*1,\"\")","v":""}]
[null,null,null,{"$f":"IFERROR(INDEX(Brief!$M$15:$M$49,MATCH(C1448,Brief!#REF!,0))*1,\"\")","v":""}]
[null,null,null,{"$f":"IFERROR(INDEX(Brief!$M$15:$M$49,MATCH(C1449,Brief!#REF!,0))*1,\"\")","v":""}]
[null,null,null,{"$f":"IFERROR(INDEX(Brief!$M$15:$M$49,MATCH(C1450,Brief!#REF!,0))*1,\"\")","v":""}]
[null,null,null,{"$f":"IFERROR(INDEX(Brief!$M$15:$M$49,MATCH(C1451,Brief!#REF!,0))*1,\"\")","v":""}]
[null,null,null,{"$f":"IFERROR(INDEX(Brief!$M$15:$M$49,MATCH(C1452,Brief!#REF!,0))*1,\"\")","v":""}]
[null,null,null,{"$f":"IFERROR(INDEX(Brief!$M$15:$M$49,MATCH(C1453,Brief!#REF!,0))*1,\"\")","v":""}]
[null,null,null,{"$f":"IFERROR(INDEX(Brief!$M$15:$M$49,MATCH(C1454,Brief!#REF!,0))*1,\"\")","v":""}]
[null,null,null,{"$f":"IFERROR(INDEX(Brief!$M$15:$M$49,MATCH(C1455,Brief!#REF!,0))*1,\"\")","v":""}]
[null,null,null,{"$f":"IFERROR(INDEX(Brief!$M$15:$M$49,MATCH(C1456,Brief!#REF!,0))*1,\"\")","v":""}]
[null,null,null,{"$f":"IFERROR(INDEX(Brief!$M$15:$M$49,MATCH(C1457,Brief!#REF!,0))*1,\"\")","v":""}]
[null,null,null,{"$f":"IFERROR(INDEX(Brief!$M$15:$M$49,MATCH(C1458,Brief!#REF!,0))*1,\"\")","v":""}]
[null,null,null,{"$f":"IFERROR(INDEX(Brief!$M$15:$M$49,MATCH(C1459,Brief!#REF!,0))*1,\"\")","v":""}]
[null,null,null,{"$f":"IFERROR(INDEX(Brief!$M$15:$M$49,MATCH(C1460,Brief!#REF!,0))*1,\"\")","v":""}]
[null,null,null,{"$f":"IFERROR(INDEX(Brief!$M$15:$M$49,MATCH(C1461,Brief!#REF!,0))*1,\"\")","v":""}]
[null,null,null,{"$f":"IFERROR(INDEX(Brief!$M$15:$M$49,MATCH(C1462,Brief!#REF!,0))*1,\"\")","v":""}]
[null,null,null,{"$f":"IFERROR(INDEX(Brief!$M$15:$M$49,MATCH(C1463,Brief!#REF!,0))*1,\"\")","v":""}]
[null,null,null,{"$f":"IFERROR(INDEX(Brief!$M$15:$M$49,MATCH(C1464,Brief!#REF!,0))*1,\"\")","v":""}]
[null,null,null,{"$f":"IFERROR(INDEX(Brief!$M$15:$M$49,MATCH(C1465,Brief!#REF!,0))*1,\"\")","v":""}]
[null,null,null,{"$f":"IFERROR(INDEX(Brief!$M$15:$M$49,MATCH(C1466,Brief!#REF!,0))*1,\"\")","v":""}]
[null,null,null,{"$f":"IFERROR(INDEX(Brief!$M$15:$M$49,MATCH(C1467,Brief!#REF!,0))*1,\"\")","v":""}]
[null,null,null,{"$f":"IFERROR(INDEX(Brief!$M$15:$M$49,MATCH(C1468,Brief!#REF!,0))*1,\"\")","v":""}]
[null,null,null,{"$f":"IFERROR(INDEX(Brief!$M$15:$M$49,MATCH(C1469,Brief!#REF!,0))*1,\"\")","v":""}]
[null,null,null,{"$f":"IFERROR(INDEX(Brief!$M$15:$M$49,MATCH(C1470,Brief!#REF!,0))*1,\"\")","v":""}]
[null,null,null,{"$f":"IFERROR(INDEX(Brief!$M$15:$M$49,MATCH(C1471,Brief!#REF!,0))*1,\"\")","v":""}]
[null,null,null,{"$f":"IFERROR(INDEX(Brief!$M$15:$M$49,MATCH(C1472,Brief!#REF!,0))*1,\"\")","v":""}]
[null,null,null,{"$f":"IFERROR(INDEX(Brief!$M$15:$M$49,MATCH(C1473,Brief!#REF!,0))*1,\"\")","v":""}]
[null,null,null,{"$f":"IFERROR(INDEX(Brief!$M$15:$M$49,MATCH(C1474,Brief!#REF!,0))*1,\"\")","v":""}]
[null,null,null,{"$f":"IFERROR(INDEX(Brief!$M$15:$M$49,MATCH(C1475,Brief!#REF!,0))*1,\"\")","v":""}]
[null,null,null,{"$f":"IFERROR(INDEX(Brief!$M$15:$M$49,MATCH(C1476,Brief!#REF!,0))*1,\"\")","v":""}]
[null,null,null,{"$f":"IFERROR(INDEX(Brief!$M$15:$M$49,MATCH(C1477,Brief!#REF!,0))*1,\"\")","v":""}]
[null,null,null,{"$f":"IFERROR(INDEX(Brief!$M$15:$M$49,MATCH(C1478,Brief!#REF!,0))*1,\"\")","v":""}]
[null,null,null,{"$f":"IFERROR(INDEX(Brief!$M$15:$M$49,MATCH(C1479,Brief!#REF!,0))*1,\"\")","v":""}]
[null,null,null,{"$f":"IFERROR(INDEX(Brief!$M$15:$M$49,MATCH(C1480,Brief!#REF!,0))*1,\"\")","v":""}]
[null,null,null,{"$f":"IFERROR(INDEX(Brief!$M$15:$M$49,MATCH(C1481,Brief!#REF!,0))*1,\"\")","v":""}]
[null,null,null,{"$f":"IFERROR(INDEX(Brief!$M$15:$M$49,MATCH(C1482,Brief!#REF!,0))*1,\"\")","v":""}]
[null,null,null,{"$f":"IFERROR(INDEX(Brief!$M$15:$M$49,MATCH(C1483,Brief!#REF!,0))*1,\"\")","v":""}]
[null,null,null,{"$f":"IFERROR(INDEX(Brief!$M$15:$M$49,MATCH(C1484,Brief!#REF!,0))*1,\"\")","v":""}]
[null,null,null,{"$f":"IFERROR(INDEX(Brief!$M$15:$M$49,MATCH(C1485,Brief!#REF!,0))*1,\"\")","v":""}]
[null,null,null,{"$f":"IFERROR(INDEX(Brief!$M$15:$M$49,MATCH(C1486,Brief!#REF!,0))*1,\"\")","v":""}]
[null,null,null,{"$f":"IFERROR(INDEX(Brief!$M$15:$M$49,MATCH(C1487,Brief!#REF!,0))*1,\"\")","v":""}]
[null,null,null,{"$f":"IFERROR(INDEX(Brief!$M$15:$M$49,MATCH(C1488,Brief!#REF!,0))*1,\"\")","v":""}]
[null,null,null,{"$f":"IFERROR(INDEX(Brief!$M$15:$M$49,MATCH(C1489,Brief!#REF!,0))*1,\"\")","v":""}]
[null,null,null,{"$f":"IFERROR(INDEX(Brief!$M$15:$M$49,MATCH(C1490,Brief!#REF!,0))*1,\"\")","v":""}]
[null,null,null,{"$f":"IFERROR(INDEX(Brief!$M$15:$M$49,MATCH(C1491,Brief!#REF!,0))*1,\"\")","v":""}]
[null,null,null,{"$f":"IFERROR(INDEX(Brief!$M$15:$M$49,MATCH(C1492,Brief!#REF!,0))*1,\"\")","v":""}]
[null,null,null,{"$f":"IFERROR(INDEX(Brief!$M$15:$M$49,MATCH(C1493,Brief!#REF!,0))*1,\"\")","v":""}]
[null,null,null,{"$f":"IFERROR(INDEX(Brief!$M$15:$M$49,MATCH(C1494,Brief!#REF!,0))*1,\"\")","v":""}]
[null,null,null,{"$f":"IFERROR(INDEX(Brief!$M$15:$M$49,MATCH(C1495,Brief!#REF!,0))*1,\"\")","v":""}]
[null,null,null,{"$f":"IFERROR(INDEX(Brief!$M$15:$M$49,MATCH(C1496,Brief!#REF!,0))*1,\"\")","v":""}]
[null,null,null,{"$f":"IFERROR(INDEX(Brief!$M$15:$M$49,MATCH(C1497,Brief!#REF!,0))*1,\"\")","v":""}]
[null,null,null,{"$f":"IFERROR(INDEX(Brief!$M$15:$M$49,MATCH(C1498,Brief!#REF!,0))*1,\"\")","v":""}]
[null,null,null,{"$f":"IFERROR(INDEX(Brief!$M$15:$M$49,MATCH(C1499,Brief!#REF!,0))*1,\"\")","v":""}]
[null,null,null,{"$f":"IFERROR(INDEX(Brief!$M$15:$M$49,MATCH(C1500,Brief!#REF!,0))*1,\"\")","v":""}]
[null,null,null,{"$f":"IFERROR(INDEX(Brief!$M$15:$M$49,MATCH(C1501,Brief!#REF!,0))*1,\"\")","v":""}]
[null,null,null,{"$f":"IFERROR(INDEX(Brief!$M$15:$M$49,MATCH(C1502,Brief!#REF!,0))*1,\"\")","v":""}]
[null,null,null,{"$f":"IFERROR(INDEX(Brief!$M$15:$M$49,MATCH(C1503,Brief!#REF!,0))*1,\"\")","v":""}]
[null,null,null,{"$f":"IFERROR(INDEX(Brief!$M$15:$M$49,MATCH(C1504,Brief!#REF!,0))*1,\"\")","v":""}]
[null,null,null,{"$f":"IFERROR(INDEX(Brief!$M$15:$M$49,MATCH(C1505,Brief!#REF!,0))*1,\"\")","v":""}]
[null,null,null,{"$f":"IFERROR(INDEX(Brief!$M$15:$M$49,MATCH(C1506,Brief!#REF!,0))*1,\"\")","v":""}]
[null,null,null,{"$f":"IFERROR(INDEX(Brief!$M$15:$M$49,MATCH(C1507,Brief!#REF!,0))*1,\"\")","v":""}]
[null,null,null,{"$f":"IFERROR(INDEX(Brief!$M$15:$M$49,MATCH(C1508,Brief!#REF!,0))*1,\"\")","v":""}]
[null,null,null,{"$f":"IFERROR(INDEX(Brief!$M$15:$M$49,MATCH(C1509,Brief!#REF!,0))*1,\"\")","v":""}]
[null,null,null,{"$f":"IFERROR(INDEX(Brief!$M$15:$M$49,MATCH(C1510,Brief!#REF!,0))*1,\"\")","v":""}]
[null,null,null,{"$f":"IFERROR(INDEX(Brief!$M$15:$M$49,MATCH(C1511,Brief!#REF!,0))*1,\"\")","v":""}]
[null,null,null,{"$f":"IFERROR(INDEX(Brief!$M$15:$M$49,MATCH(C1512,Brief!#REF!,0))*1,\"\")","v":""}]
[null,null,null,{"$f":"IFERROR(INDEX(Brief!$M$15:$M$49,MATCH(C1513,Brief!#REF!,0))*1,\"\")","v":""}]
[null,null,null,{"$f":"IFERROR(INDEX(Brief!$M$15:$M$49,MATCH(C1514,Brief!#REF!,0))*1,\"\")","v":""}]
[null,null,null,{"$f":"IFERROR(INDEX(Brief!$M$15:$M$49,MATCH(C1515,Brief!#REF!,0))*1,\"\")","v":""}]
[null,null,null,{"$f":"IFERROR(INDEX(Brief!$M$15:$M$49,MATCH(C1516,Brief!#REF!,0))*1,\"\")","v":""}]
[null,null,null,{"$f":"IFERROR(INDEX(Brief!$M$15:$M$49,MATCH(C1517,Brief!#REF!,0))*1,\"\")","v":""}]
[null,null,null,{"$f":"IFERROR(INDEX(Brief!$M$15:$M$49,MATCH(C1518,Brief!#REF!,0))*1,\"\")","v":""}]
[null,null,null,{"$f":"IFERROR(INDEX(Brief!$M$15:$M$49,MATCH(C1519,Brief!#REF!,0))*1,\"\")","v":""}]
[null,null,null,{"$f":"IFERROR(INDEX(Brief!$M$15:$M$49,MATCH(C1520,Brief!#REF!,0))*1,\"\")","v":""}]
[null,null,null,{"$f":"IFERROR(INDEX(Brief!$M$15:$M$49,MATCH(C1521,Brief!#REF!,0))*1,\"\")","v":""}]
[null,null,null,{"$f":"IFERROR(INDEX(Brief!$M$15:$M$49,MATCH(C1522,Brief!#REF!,0))*1,\"\")","v":""}]
[null,null,null,{"$f":"IFERROR(INDEX(Brief!$M$15:$M$49,MATCH(C1523,Brief!#REF!,0))*1,\"\")","v":""}]
[null,null,null,{"$f":"IFERROR(INDEX(Brief!$M$15:$M$49,MATCH(C1524,Brief!#REF!,0))*1,\"\")","v":""}]
[null,null,null,{"$f":"IFERROR(INDEX(Brief!$M$15:$M$49,MATCH(C1525,Brief!#REF!,0))*1,\"\")","v":""}]
[null,null,null,{"$f":"IFERROR(INDEX(Brief!$M$15:$M$49,MATCH(C1526,Brief!#REF!,0))*1,\"\")","v":""}]
[null,null,null,{"$f":"IFERROR(INDEX(Brief!$M$15:$M$49,MATCH(C1527,Brief!#REF!,0))*1,\"\")","v":""}]
[null,null,null,{"$f":"IFERROR(INDEX(Brief!$M$15:$M$49,MATCH(C1528,Brief!#REF!,0))*1,\"\")","v":""}]
[null,null,null,{"$f":"IFERROR(INDEX(Brief!$M$15:$M$49,MATCH(C1529,Brief!#REF!,0))*1,\"\")","v":""}]
[null,null,null,{"$f":"IFERROR(INDEX(Brief!$M$15:$M$49,MATCH(C1530,Brief!#REF!,0))*1,\"\")","v":""}]
[null,null,null,{"$f":"IFERROR(INDEX(Brief!$M$15:$M$49,MATCH(C1531,Brief!#REF!,0))*1,\"\")","v":""}]
[null,null,null,{"$f":"IFERROR(INDEX(Brief!$M$15:$M$49,MATCH(C1532,Brief!#REF!,0))*1,\"\")","v":""}]
[null,null,null,{"$f":"IFERROR(INDEX(Brief!$M$15:$M$49,MATCH(C1533,Brief!#REF!,0))*1,\"\")","v":""}]
[null,null,null,{"$f":"IFERROR(INDEX(Brief!$M$15:$M$49,MATCH(C1534,Brief!#REF!,0))*1,\"\")","v":""}]
[null,null,null,{"$f":"IFERROR(INDEX(Brief!$M$15:$M$49,MATCH(C1535,Brief!#REF!,0))*1,\"\")","v":""}]
[null,null,null,{"$f":"IFERROR(INDEX(Brief!$M$15:$M$49,MATCH(C1536,Brief!#REF!,0))*1,\"\")","v":""}]
[null,null,null,{"$f":"IFERROR(INDEX(Brief!$M$15:$M$49,MATCH(C1537,Brief!#REF!,0))*1,\"\")","v":""}]
[null,null,null,{"$f":"IFERROR(INDEX(Brief!$M$15:$M$49,MATCH(C1538,Brief!#REF!,0))*1,\"\")","v":""}]
[null,null,null,{"$f":"IFERROR(INDEX(Brief!$M$15:$M$49,MATCH(C1539,Brief!#REF!,0))*1,\"\")","v":""}]
[null,null,null,{"$f":"IFERROR(INDEX(Brief!$M$15:$M$49,MATCH(C1540,Brief!#REF!,0))*1,\"\")","v":""}]
[null,null,null,{"$f":"IFERROR(INDEX(Brief!$M$15:$M$49,MATCH(C1541,Brief!#REF!,0))*1,\"\")","v":""}]
[null,null,null,{"$f":"IFERROR(INDEX(Brief!$M$15:$M$49,MATCH(C1542,Brief!#REF!,0))*1,\"\")","v":""}]
[null,null,null,{"$f":"IFERROR(INDEX(Brief!$M$15:$M$49,MATCH(C1543,Brief!#REF!,0))*1,\"\")","v":""}]
[null,null,null,{"$f":"IFERROR(INDEX(Brief!$M$15:$M$49,MATCH(C1544,Brief!#REF!,0))*1,\"\")","v":""}]
[null,null,null,{"$f":"IFERROR(INDEX(Brief!$M$15:$M$49,MATCH(C1545,Brief!#REF!,0))*1,\"\")","v":""}]
[null,null,null,{"$f":"IFERROR(INDEX(Brief!$M$15:$M$49,MATCH(C1546,Brief!#REF!,0))*1,\"\")","v":""}]
[null,null,null,{"$f":"IFERROR(INDEX(Brief!$M$15:$M$49,MATCH(C1547,Brief!#REF!,0))*1,\"\")","v":""}]
[null,null,null,{"$f":"IFERROR(INDEX(Brief!$M$15:$M$49,MATCH(C1548,Brief!#REF!,0))*1,\"\")","v":""}]
[null,null,null,{"$f":"IFERROR(INDEX(Brief!$M$15:$M$49,MATCH(C1549,Brief!#REF!,0))*1,\"\")","v":""}]
[null,null,null,{"$f":"IFERROR(INDEX(Brief!$M$15:$M$49,MATCH(C1550,Brief!#REF!,0))*1,\"\")","v":""}]
[null,null,null,{"$f":"IFERROR(INDEX(Brief!$M$15:$M$49,MATCH(C1551,Brief!#REF!,0))*1,\"\")","v":""}]
[null,null,null,{"$f":"IFERROR(INDEX(Brief!$M$15:$M$49,MATCH(C1552,Brief!#REF!,0))*1,\"\")","v":""}]
[null,null,null,{"$f":"IFERROR(INDEX(Brief!$M$15:$M$49,MATCH(C1553,Brief!#REF!,0))*1,\"\")","v":""}]
[null,null,null,{"$f":"IFERROR(INDEX(Brief!$M$15:$M$49,MATCH(C1554,Brief!#REF!,0))*1,\"\")","v":""}]
[null,null,null,{"$f":"IFERROR(INDEX(Brief!$M$15:$M$49,MATCH(C1555,Brief!#REF!,0))*1,\"\")","v":""}]
[null,null,null,{"$f":"IFERROR(INDEX(Brief!$M$15:$M$49,MATCH(C1556,Brief!#REF!,0))*1,\"\")","v":""}]
[null,null,null,{"$f":"IFERROR(INDEX(Brief!$M$15:$M$49,MATCH(C1557,Brief!#REF!,0))*1,\"\")","v":""}]
[null,null,null,{"$f":"IFERROR(INDEX(Brief!$M$15:$M$49,MATCH(C1558,Brief!#REF!,0))*1,\"\")","v":""}]
[null,null,null,{"$f":"IFERROR(INDEX(Brief!$M$15:$M$49,MATCH(C1559,Brief!#REF!,0))*1,\"\")","v":""}]
[null,null,null,{"$f":"IFERROR(INDEX(Brief!$M$15:$M$49,MATCH(C1560,Brief!#REF!,0))*1,\"\")","v":""}]
[null,null,null,{"$f":"IFERROR(INDEX(Brief!$M$15:$M$49,MATCH(C1561,Brief!#REF!,0))*1,\"\")","v":""}]
[null,null,null,{"$f":"IFERROR(INDEX(Brief!$M$15:$M$49,MATCH(C1562,Brief!#REF!,0))*1,\"\")","v":""}]
[null,null,null,{"$f":"IFERROR(INDEX(Brief!$M$15:$M$49,MATCH(C1563,Brief!#REF!,0))*1,\"\")","v":""}]
[null,null,null,{"$f":"IFERROR(INDEX(Brief!$M$15:$M$49,MATCH(C1564,Brief!#REF!,0))*1,\"\")","v":""}]
[null,null,null,{"$f":"IFERROR(INDEX(Brief!$M$15:$M$49,MATCH(C1565,Brief!#REF!,0))*1,\"\")","v":""}]
[null,null,null,{"$f":"IFERROR(INDEX(Brief!$M$15:$M$49,MATCH(C1566,Brief!#REF!,0))*1,\"\")","v":""}]
[null,null,null,{"$f":"IFERROR(INDEX(Brief!$M$15:$M$49,MATCH(C1567,Brief!#REF!,0))*1,\"\")","v":""}]
[null,null,null,{"$f":"IFERROR(INDEX(Brief!$M$15:$M$49,MATCH(C1568,Brief!#REF!,0))*1,\"\")","v":""}]
[null,null,null,{"$f":"IFERROR(INDEX(Brief!$M$15:$M$49,MATCH(C1569,Brief!#REF!,0))*1,\"\")","v":""}]
[null,null,null,{"$f":"IFERROR(INDEX(Brief!$M$15:$M$49,MATCH(C1570,Brief!#REF!,0))*1,\"\")","v":""}]
[null,null,null,{"$f":"IFERROR(INDEX(Brief!$M$15:$M$49,MATCH(C1571,Brief!#REF!,0))*1,\"\")","v":""}]
[null,null,null,{"$f":"IFERROR(INDEX(Brief!$M$15:$M$49,MATCH(C1572,Brief!#REF!,0))*1,\"\")","v":""}]
[null,null,null,{"$f":"IFERROR(INDEX(Brief!$M$15:$M$49,MATCH(C1573,Brief!#REF!,0))*1,\"\")","v":""}]
[null,null,null,{"$f":"IFERROR(INDEX(Brief!$M$15:$M$49,MATCH(C1574,Brief!#REF!,0))*1,\"\")","v":""}]
[null,null,null,{"$f":"IFERROR(INDEX(Brief!$M$15:$M$49,MATCH(C1575,Brief!#REF!,0))*1,\"\")","v":""}]
[null,null,null,{"$f":"IFERROR(INDEX(Brief!$M$15:$M$49,MATCH(C1576,Brief!#REF!,0))*1,\"\")","v":""}]
[null,null,null,{"$f":"IFERROR(INDEX(Brief!$M$15:$M$49,MATCH(C1577,Brief!#REF!,0))*1,\"\")","v":""}]
[null,null,null,{"$f":"IFERROR(INDEX(Brief!$M$15:$M$49,MATCH(C1578,Brief!#REF!,0))*1,\"\")","v":""}]
[null,null,null,{"$f":"IFERROR(INDEX(Brief!$M$15:$M$49,MATCH(C1579,Brief!#REF!,0))*1,\"\")","v":""}]
[null,null,null,{"$f":"IFERROR(INDEX(Brief!$M$15:$M$49,MATCH(C1580,Brief!#REF!,0))*1,\"\")","v":""}]
[null,null,null,{"$f":"IFERROR(INDEX(Brief!$M$15:$M$49,MATCH(C1581,Brief!#REF!,0))*1,\"\")","v":""}]
[null,null,null,{"$f":"IFERROR(INDEX(Brief!$M$15:$M$49,MATCH(C1582,Brief!#REF!,0))*1,\"\")","v":""}]
[null,null,null,{"$f":"IFERROR(INDEX(Brief!$M$15:$M$49,MATCH(C1583,Brief!#REF!,0))*1,\"\")","v":""}]
[null,null,null,{"$f":"IFERROR(INDEX(Brief!$M$15:$M$49,MATCH(C1584,Brief!#REF!,0))*1,\"\")","v":""}]
[null,null,null,{"$f":"IFERROR(INDEX(Brief!$M$15:$M$49,MATCH(C1585,Brief!#REF!,0))*1,\"\")","v":""}]
[null,null,null,{"$f":"IFERROR(INDEX(Brief!$M$15:$M$49,MATCH(C1586,Brief!#REF!,0))*1,\"\")","v":""}]
[null,null,null,{"$f":"IFERROR(INDEX(Brief!$M$15:$M$49,MATCH(C1587,Brief!#REF!,0))*1,\"\")","v":""}]
[null,null,null,{"$f":"IFERROR(INDEX(Brief!$M$15:$M$49,MATCH(C1588,Brief!#REF!,0))*1,\"\")","v":""}]
[null,null,null,{"$f":"IFERROR(INDEX(Brief!$M$15:$M$49,MATCH(C1589,Brief!#REF!,0))*1,\"\")","v":""}]
[null,null,null,{"$f":"IFERROR(INDEX(Brief!$M$15:$M$49,MATCH(C1590,Brief!#REF!,0))*1,\"\")","v":""}]
[null,null,null,{"$f":"IFERROR(INDEX(Brief!$M$15:$M$49,MATCH(C1591,Brief!#REF!,0))*1,\"\")","v":""}]
[null,null,null,{"$f":"IFERROR(INDEX(Brief!$M$15:$M$49,MATCH(C1592,Brief!#REF!,0))*1,\"\")","v":""}]
[null,null,null,{"$f":"IFERROR(INDEX(Brief!$M$15:$M$49,MATCH(C1593,Brief!#REF!,0))*1,\"\")","v":""}]
[null,null,null,{"$f":"IFERROR(INDEX(Brief!$M$15:$M$49,MATCH(C1594,Brief!#REF!,0))*1,\"\")","v":""}]
[null,null,null,{"$f":"IFERROR(INDEX(Brief!$M$15:$M$49,MATCH(C1595,Brief!#REF!,0))*1,\"\")","v":""}]
[null,null,null,{"$f":"IFERROR(INDEX(Brief!$M$15:$M$49,MATCH(C1596,Brief!#REF!,0))*1,\"\")","v":""}]
[null,null,null,{"$f":"IFERROR(INDEX(Brief!$M$15:$M$49,MATCH(C1597,Brief!#REF!,0))*1,\"\")","v":""}]
[null,null,null,{"$f":"IFERROR(INDEX(Brief!$M$15:$M$49,MATCH(C1598,Brief!#REF!,0))*1,\"\")","v":""}]
[null,null,null,{"$f":"IFERROR(INDEX(Brief!$M$15:$M$49,MATCH(C1599,Brief!#REF!,0))*1,\"\")","v":""}]
[null,null,null,{"$f":"IFERROR(INDEX(Brief!$M$15:$M$49,MATCH(C1600,Brief!#REF!,0))*1,\"\")","v":""}]
[null,null,null,{"$f":"IFERROR(INDEX(Brief!$M$15:$M$49,MATCH(C1601,Brief!#REF!,0))*1,\"\")","v":""}]
[null,null,null,{"$f":"IFERROR(INDEX(Brief!$M$15:$M$49,MATCH(C1602,Brief!#REF!,0))*1,\"\")","v":""}]
[null,null,null,{"$f":"IFERROR(INDEX(Brief!$M$15:$M$49,MATCH(C1603,Brief!#REF!,0))*1,\"\")","v":""}]
[null,null,null,{"$f":"IFERROR(INDEX(Brief!$M$15:$M$49,MATCH(C1604,Brief!#REF!,0))*1,\"\")","v":""}]
[null,null,null,{"$f":"IFERROR(INDEX(Brief!$M$15:$M$49,MATCH(C1605,Brief!#REF!,0))*1,\"\")","v":""}]
[null,null,null,{"$f":"IFERROR(INDEX(Brief!$M$15:$M$49,MATCH(C1606,Brief!#REF!,0))*1,\"\")","v":""}]
[null,null,null,{"$f":"IFERROR(INDEX(Brief!$M$15:$M$49,MATCH(C1607,Brief!#REF!,0))*1,\"\")","v":""}]
[null,null,null,{"$f":"IFERROR(INDEX(Brief!$M$15:$M$49,MATCH(C1608,Brief!#REF!,0))*1,\"\")","v":""}]
[null,null,null,{"$f":"IFERROR(INDEX(Brief!$M$15:$M$49,MATCH(C1609,Brief!#REF!,0))*1,\"\")","v":""}]
[null,null,null,{"$f":"IFERROR(INDEX(Brief!$M$15:$M$49,MATCH(C1610,Brief!#REF!,0))*1,\"\")","v":""}]
[null,null,null,{"$f":"IFERROR(INDEX(Brief!$M$15:$M$49,MATCH(C1611,Brief!#REF!,0))*1,\"\")","v":""}]
[null,null,null,{"$f":"IFERROR(INDEX(Brief!$M$15:$M$49,MATCH(C1612,Brief!#REF!,0))*1,\"\")","v":""}]
[null,null,null,{"$f":"IFERROR(INDEX(Brief!$M$15:$M$49,MATCH(C1613,Brief!#REF!,0))*1,\"\")","v":""}]
[null,null,null,{"$f":"IFERROR(INDEX(Brief!$M$15:$M$49,MATCH(C1614,Brief!#REF!,0))*1,\"\")","v":""}]
[null,null,null,{"$f":"IFERROR(INDEX(Brief!$M$15:$M$49,MATCH(C1615,Brief!#REF!,0))*1,\"\")","v":""}]
[null,null,null,{"$f":"IFERROR(INDEX(Brief!$M$15:$M$49,MATCH(C1616,Brief!#REF!,0))*1,\"\")","v":""}]
[null,null,null,{"$f":"IFERROR(INDEX(Brief!$M$15:$M$49,MATCH(C1617,Brief!#REF!,0))*1,\"\")","v":""}]
[null,null,null,{"$f":"IFERROR(INDEX(Brief!$M$15:$M$49,MATCH(C1618,Brief!#REF!,0))*1,\"\")","v":""}]
[null,null,null,{"$f":"IFERROR(INDEX(Brief!$M$15:$M$49,MATCH(C1619,Brief!#REF!,0))*1,\"\")","v":""}]
[null,null,null,{"$f":"IFERROR(INDEX(Brief!$M$15:$M$49,MATCH(C1620,Brief!#REF!,0))*1,\"\")","v":""}]
[null,null,null,{"$f":"IFERROR(INDEX(Brief!$M$15:$M$49,MATCH(C1621,Brief!#REF!,0))*1,\"\")","v":""}]
[null,null,null,{"$f":"IFERROR(INDEX(Brief!$M$15:$M$49,MATCH(C1622,Brief!#REF!,0))*1,\"\")","v":""}]
[null,null,null,{"$f":"IFERROR(INDEX(Brief!$M$15:$M$49,MATCH(C1623,Brief!#REF!,0))*1,\"\")","v":""}]
[null,null,null,{"$f":"IFERROR(INDEX(Brief!$M$15:$M$49,MATCH(C1624,Brief!#REF!,0))*1,\"\")","v":""}]
[null,null,null,{"$f":"IFERROR(INDEX(Brief!$M$15:$M$49,MATCH(C1625,Brief!#REF!,0))*1,\"\")","v":""}]
[null,null,null,{"$f":"IFERROR(INDEX(Brief!$M$15:$M$49,MATCH(C1626,Brief!#REF!,0))*1,\"\")","v":""}]
[null,null,null,{"$f":"IFERROR(INDEX(Brief!$M$15:$M$49,MATCH(C1627,Brief!#REF!,0))*1,\"\")","v":""}]
[null,null,null,{"$f":"IFERROR(INDEX(Brief!$M$15:$M$49,MATCH(C1628,Brief!#REF!,0))*1,\"\")","v":""}]
[null,null,null,{"$f":"IFERROR(INDEX(Brief!$M$15:$M$49,MATCH(C1629,Brief!#REF!,0))*1,\"\")","v":""}]
[null,null,null,{"$f":"IFERROR(INDEX(Brief!$M$15:$M$49,MATCH(C1630,Brief!#REF!,0))*1,\"\")","v":""}]
[null,null,null,{"$f":"IFERROR(INDEX(Brief!$M$15:$M$49,MATCH(C1631,Brief!#REF!,0))*1,\"\")","v":""}]
[null,null,null,{"$f":"IFERROR(INDEX(Brief!$M$15:$M$49,MATCH(C1632,Brief!#REF!,0))*1,\"\")","v":""}]
[null,null,null,{"$f":"IFERROR(INDEX(Brief!$M$15:$M$49,MATCH(C1633,Brief!#REF!,0))*1,\"\")","v":""}]
[null,null,null,{"$f":"IFERROR(INDEX(Brief!$M$15:$M$49,MATCH(C1634,Brief!#REF!,0))*1,\"\")","v":""}]
[null,null,null,{"$f":"IFERROR(INDEX(Brief!$M$15:$M$49,MATCH(C1635,Brief!#REF!,0))*1,\"\")","v":""}]
[null,null,null,{"$f":"IFERROR(INDEX(Brief!$M$15:$M$49,MATCH(C1636,Brief!#REF!,0))*1,\"\")","v":""}]
[null,null,null,{"$f":"IFERROR(INDEX(Brief!$M$15:$M$49,MATCH(C1637,Brief!#REF!,0))*1,\"\")","v":""}]
[null,null,null,{"$f":"IFERROR(INDEX(Brief!$M$15:$M$49,MATCH(C1638,Brief!#REF!,0))*1,\"\")","v":""}]
[null,null,null,{"$f":"IFERROR(INDEX(Brief!$M$15:$M$49,MATCH(C1639,Brief!#REF!,0))*1,\"\")","v":""}]
[null,null,null,{"$f":"IFERROR(INDEX(Brief!$M$15:$M$49,MATCH(C1640,Brief!#REF!,0))*1,\"\")","v":""}]
[null,null,null,{"$f":"IFERROR(INDEX(Brief!$M$15:$M$49,MATCH(C1641,Brief!#REF!,0))*1,\"\")","v":""}]
[null,null,null,{"$f":"IFERROR(INDEX(Brief!$M$15:$M$49,MATCH(C1642,Brief!#REF!,0))*1,\"\")","v":""}]
[null,null,null,{"$f":"IFERROR(INDEX(Brief!$M$15:$M$49,MATCH(C1643,Brief!#REF!,0))*1,\"\")","v":""}]
[null,null,null,{"$f":"IFERROR(INDEX(Brief!$M$15:$M$49,MATCH(C1644,Brief!#REF!,0))*1,\"\")","v":""}]
[null,null,null,{"$f":"IFERROR(INDEX(Brief!$M$15:$M$49,MATCH(C1645,Brief!#REF!,0))*1,\"\")","v":""}]
[null,null,null,{"$f":"IFERROR(INDEX(Brief!$M$15:$M$49,MATCH(C1646,Brief!#REF!,0))*1,\"\")","v":""}]
[null,null,null,{"$f":"IFERROR(INDEX(Brief!$M$15:$M$49,MATCH(C1647,Brief!#REF!,0))*1,\"\")","v":""}]
[null,null,null,{"$f":"IFERROR(INDEX(Brief!$M$15:$M$49,MATCH(C1648,Brief!#REF!,0))*1,\"\")","v":""}]
[null,null,null,{"$f":"IFERROR(INDEX(Brief!$M$15:$M$49,MATCH(C1649,Brief!#REF!,0))*1,\"\")","v":""}]
[null,null,null,{"$f":"IFERROR(INDEX(Brief!$M$15:$M$49,MATCH(C1650,Brief!#REF!,0))*1,\"\")","v":""}]
[null,null,null,{"$f":"IFERROR(INDEX(Brief!$M$15:$M$49,MATCH(C1651,Brief!#REF!,0))*1,\"\")","v":""}]
[null,null,null,{"$f":"IFERROR(INDEX(Brief!$M$15:$M$49,MATCH(C1652,Brief!#REF!,0))*1,\"\")","v":""}]
[null,null,null,{"$f":"IFERROR(INDEX(Brief!$M$15:$M$49,MATCH(C1653,Brief!#REF!,0))*1,\"\")","v":""}]
[null,null,null,{"$f":"IFERROR(INDEX(Brief!$M$15:$M$49,MATCH(C1654,Brief!#REF!,0))*1,\"\")","v":""}]
[null,null,null,{"$f":"IFERROR(INDEX(Brief!$M$15:$M$49,MATCH(C1655,Brief!#REF!,0))*1,\"\")","v":""}]
[null,null,null,{"$f":"IFERROR(INDEX(Brief!$M$15:$M$49,MATCH(C1656,Brief!#REF!,0))*1,\"\")","v":""}]
[null,null,null,{"$f":"IFERROR(INDEX(Brief!$M$15:$M$49,MATCH(C1657,Brief!#REF!,0))*1,\"\")","v":""}]
[null,null,null,{"$f":"IFERROR(INDEX(Brief!$M$15:$M$49,MATCH(C1658,Brief!#REF!,0))*1,\"\")","v":""}]
[null,null,null,{"$f":"IFERROR(INDEX(Brief!$M$15:$M$49,MATCH(C1659,Brief!#REF!,0))*1,\"\")","v":""}]
[null,null,null,{"$f":"IFERROR(INDEX(Brief!$M$15:$M$49,MATCH(C1660,Brief!#REF!,0))*1,\"\")","v":""}]
[null,null,null,{"$f":"IFERROR(INDEX(Brief!$M$15:$M$49,MATCH(C1661,Brief!#REF!,0))*1,\"\")","v":""}]
[null,null,null,{"$f":"IFERROR(INDEX(Brief!$M$15:$M$49,MATCH(C1662,Brief!#REF!,0))*1,\"\")","v":""}]
[null,null,null,{"$f":"IFERROR(INDEX(Brief!$M$15:$M$49,MATCH(C1663,Brief!#REF!,0))*1,\"\")","v":""}]
[null,null,null,{"$f":"IFERROR(INDEX(Brief!$M$15:$M$49,MATCH(C1664,Brief!#REF!,0))*1,\"\")","v":""}]
[null,null,null,{"$f":"IFERROR(INDEX(Brief!$M$15:$M$49,MATCH(C1665,Brief!#REF!,0))*1,\"\")","v":""}]
[null,null,null,{"$f":"IFERROR(INDEX(Brief!$M$15:$M$49,MATCH(C1666,Brief!#REF!,0))*1,\"\")","v":""}]
[null,null,null,{"$f":"IFERROR(INDEX(Brief!$M$15:$M$49,MATCH(C1667,Brief!#REF!,0))*1,\"\")","v":""}]
[null,null,null,{"$f":"IFERROR(INDEX(Brief!$M$15:$M$49,MATCH(C1668,Brief!#REF!,0))*1,\"\")","v":""}]
[null,null,null,{"$f":"IFERROR(INDEX(Brief!$M$15:$M$49,MATCH(C1669,Brief!#REF!,0))*1,\"\")","v":""}]
[null,null,null,{"$f":"IFERROR(INDEX(Brief!$M$15:$M$49,MATCH(C1670,Brief!#REF!,0))*1,\"\")","v":""}]
[null,null,null,{"$f":"IFERROR(INDEX(Brief!$M$15:$M$49,MATCH(C1671,Brief!#REF!,0))*1,\"\")","v":""}]
[null,null,null,{"$f":"IFERROR(INDEX(Brief!$M$15:$M$49,MATCH(C1672,Brief!#REF!,0))*1,\"\")","v":""}]
[null,null,null,{"$f":"IFERROR(INDEX(Brief!$M$15:$M$49,MATCH(C1673,Brief!#REF!,0))*1,\"\")","v":""}]
[null,null,null,{"$f":"IFERROR(INDEX(Brief!$M$15:$M$49,MATCH(C1674,Brief!#REF!,0))*1,\"\")","v":""}]
[null,null,null,{"$f":"IFERROR(INDEX(Brief!$M$15:$M$49,MATCH(C1675,Brief!#REF!,0))*1,\"\")","v":""}]
[null,null,null,{"$f":"IFERROR(INDEX(Brief!$M$15:$M$49,MATCH(C1676,Brief!#REF!,0))*1,\"\")","v":""}]
[null,null,null,{"$f":"IFERROR(INDEX(Brief!$M$15:$M$49,MATCH(C1677,Brief!#REF!,0))*1,\"\")","v":""}]
[null,null,null,{"$f":"IFERROR(INDEX(Brief!$M$15:$M$49,MATCH(C1678,Brief!#REF!,0))*1,\"\")","v":""}]
[null,null,null,{"$f":"IFERROR(INDEX(Brief!$M$15:$M$49,MATCH(C1679,Brief!#REF!,0))*1,\"\")","v":""}]
[null,null,null,{"$f":"IFERROR(INDEX(Brief!$M$15:$M$49,MATCH(C1680,Brief!#REF!,0))*1,\"\")","v":""}]
[null,null,null,{"$f":"IFERROR(INDEX(Brief!$M$15:$M$49,MATCH(C1681,Brief!#REF!,0))*1,\"\")","v":""}]
[null,null,null,{"$f":"IFERROR(INDEX(Brief!$M$15:$M$49,MATCH(C1682,Brief!#REF!,0))*1,\"\")","v":""}]
[null,null,null,{"$f":"IFERROR(INDEX(Brief!$M$15:$M$49,MATCH(C1683,Brief!#REF!,0))*1,\"\")","v":""}]
[null,null,null,{"$f":"IFERROR(INDEX(Brief!$M$15:$M$49,MATCH(C1684,Brief!#REF!,0))*1,\"\")","v":""}]
[null,null,null,{"$f":"IFERROR(INDEX(Brief!$M$15:$M$49,MATCH(C1685,Brief!#REF!,0))*1,\"\")","v":""}]
[null,null,null,{"$f":"IFERROR(INDEX(Brief!$M$15:$M$49,MATCH(C1686,Brief!#REF!,0))*1,\"\")","v":""}]
[null,null,null,{"$f":"IFERROR(INDEX(Brief!$M$15:$M$49,MATCH(C1687,Brief!#REF!,0))*1,\"\")","v":""}]
[null,null,null,{"$f":"IFERROR(INDEX(Brief!$M$15:$M$49,MATCH(C1688,Brief!#REF!,0))*1,\"\")","v":""}]
[null,null,null,{"$f":"IFERROR(INDEX(Brief!$M$15:$M$49,MATCH(C1689,Brief!#REF!,0))*1,\"\")","v":""}]
[null,null,null,{"$f":"IFERROR(INDEX(Brief!$M$15:$M$49,MATCH(C1690,Brief!#REF!,0))*1,\"\")","v":""}]
[null,null,null,{"$f":"IFERROR(INDEX(Brief!$M$15:$M$49,MATCH(C1691,Brief!#REF!,0))*1,\"\")","v":""}]
[null,null,null,{"$f":"IFERROR(INDEX(Brief!$M$15:$M$49,MATCH(C1692,Brief!#REF!,0))*1,\"\")","v":""}]
[null,null,null,{"$f":"IFERROR(INDEX(Brief!$M$15:$M$49,MATCH(C1693,Brief!#REF!,0))*1,\"\")","v":""}]
[null,null,null,{"$f":"IFERROR(INDEX(Brief!$M$15:$M$49,MATCH(C1694,Brief!#REF!,0))*1,\"\")","v":""}]
[null,null,null,{"$f":"IFERROR(INDEX(Brief!$M$15:$M$49,MATCH(C1695,Brief!#REF!,0))*1,\"\")","v":""}]
[null,null,null,{"$f":"IFERROR(INDEX(Brief!$M$15:$M$49,MATCH(C1696,Brief!#REF!,0))*1,\"\")","v":""}]
[null,null,null,{"$f":"IFERROR(INDEX(Brief!$M$15:$M$49,MATCH(C1697,Brief!#REF!,0))*1,\"\")","v":""}]
[null,null,null,{"$f":"IFERROR(INDEX(Brief!$M$15:$M$49,MATCH(C1698,Brief!#REF!,0))*1,\"\")","v":""}]
[null,null,null,{"$f":"IFERROR(INDEX(Brief!$M$15:$M$49,MATCH(C1699,Brief!#REF!,0))*1,\"\")","v":""}]
[null,null,null,{"$f":"IFERROR(INDEX(Brief!$M$15:$M$49,MATCH(C1700,Brief!#REF!,0))*1,\"\")","v":""}]
[null,null,null,{"$f":"IFERROR(INDEX(Brief!$M$15:$M$49,MATCH(C1701,Brief!#REF!,0))*1,\"\")","v":""}]
[null,null,null,{"$f":"IFERROR(INDEX(Brief!$M$15:$M$49,MATCH(C1702,Brief!#REF!,0))*1,\"\")","v":""}]
[null,null,null,{"$f":"IFERROR(INDEX(Brief!$M$15:$M$49,MATCH(C1703,Brief!#REF!,0))*1,\"\")","v":""}]
[null,null,null,{"$f":"IFERROR(INDEX(Brief!$M$15:$M$49,MATCH(C1704,Brief!#REF!,0))*1,\"\")","v":""}]
[null,null,null,{"$f":"IFERROR(INDEX(Brief!$M$15:$M$49,MATCH(C1705,Brief!#REF!,0))*1,\"\")","v":""}]
[null,null,null,{"$f":"IFERROR(INDEX(Brief!$M$15:$M$49,MATCH(C1706,Brief!#REF!,0))*1,\"\")","v":""}]
[null,null,null,{"$f":"IFERROR(INDEX(Brief!$M$15:$M$49,MATCH(C1707,Brief!#REF!,0))*1,\"\")","v":""}]
[null,null,null,{"$f":"IFERROR(INDEX(Brief!$M$15:$M$49,MATCH(C1708,Brief!#REF!,0))*1,\"\")","v":""}]
[null,null,null,{"$f":"IFERROR(INDEX(Brief!$M$15:$M$49,MATCH(C1709,Brief!#REF!,0))*1,\"\")","v":""}]
[null,null,null,{"$f":"IFERROR(INDEX(Brief!$M$15:$M$49,MATCH(C1710,Brief!#REF!,0))*1,\"\")","v":""}]
[null,null,null,{"$f":"IFERROR(INDEX(Brief!$M$15:$M$49,MATCH(C1711,Brief!#REF!,0))*1,\"\")","v":""}]
[null,null,null,{"$f":"IFERROR(INDEX(Brief!$M$15:$M$49,MATCH(C1712,Brief!#REF!,0))*1,\"\")","v":""}]
[null,null,null,{"$f":"IFERROR(INDEX(Brief!$M$15:$M$49,MATCH(C1713,Brief!#REF!,0))*1,\"\")","v":""}]
[null,null,null,{"$f":"IFERROR(INDEX(Brief!$M$15:$M$49,MATCH(C1714,Brief!#REF!,0))*1,\"\")","v":""}]
[null,null,null,{"$f":"IFERROR(INDEX(Brief!$M$15:$M$49,MATCH(C1715,Brief!#REF!,0))*1,\"\")","v":""}]
[null,null,null,{"$f":"IFERROR(INDEX(Brief!$M$15:$M$49,MATCH(C1716,Brief!#REF!,0))*1,\"\")","v":""}]
[null,null,null,{"$f":"IFERROR(INDEX(Brief!$M$15:$M$49,MATCH(C1717,Brief!#REF!,0))*1,\"\")","v":""}]
[null,null,null,{"$f":"IFERROR(INDEX(Brief!$M$15:$M$49,MATCH(C1718,Brief!#REF!,0))*1,\"\")","v":""}]
[null,null,null,{"$f":"IFERROR(INDEX(Brief!$M$15:$M$49,MATCH(C1719,Brief!#REF!,0))*1,\"\")","v":""}]
[null,null,null,{"$f":"IFERROR(INDEX(Brief!$M$15:$M$49,MATCH(C1720,Brief!#REF!,0))*1,\"\")","v":""}]
[null,null,null,{"$f":"IFERROR(INDEX(Brief!$M$15:$M$49,MATCH(C1721,Brief!#REF!,0))*1,\"\")","v":""}]
[null,null,null,{"$f":"IFERROR(INDEX(Brief!$M$15:$M$49,MATCH(C1722,Brief!#REF!,0))*1,\"\")","v":""}]
[null,null,null,{"$f":"IFERROR(INDEX(Brief!$M$15:$M$49,MATCH(C1723,Brief!#REF!,0))*1,\"\")","v":""}]
[null,null,null,{"$f":"IFERROR(INDEX(Brief!$M$15:$M$49,MATCH(C1724,Brief!#REF!,0))*1,\"\")","v":""}]
[null,null,null,{"$f":"IFERROR(INDEX(Brief!$M$15:$M$49,MATCH(C1725,Brief!#REF!,0))*1,\"\")","v":""}]
[null,null,null,{"$f":"IFERROR(INDEX(Brief!$M$15:$M$49,MATCH(C1726,Brief!#REF!,0))*1,\"\")","v":""}]
[null,null,null,{"$f":"IFERROR(INDEX(Brief!$M$15:$M$49,MATCH(C1727,Brief!#REF!,0))*1,\"\")","v":""}]
[null,null,null,{"$f":"IFERROR(INDEX(Brief!$M$15:$M$49,MATCH(C1728,Brief!#REF!,0))*1,\"\")","v":""}]
[null,null,null,{"$f":"IFERROR(INDEX(Brief!$M$15:$M$49,MATCH(C1729,Brief!#REF!,0))*1,\"\")","v":""}]
[null,null,null,{"$f":"IFERROR(INDEX(Brief!$M$15:$M$49,MATCH(C1730,Brief!#REF!,0))*1,\"\")","v":""}]
[null,null,null,{"$f":"IFERROR(INDEX(Brief!$M$15:$M$49,MATCH(C1731,Brief!#REF!,0))*1,\"\")","v":""}]
[null,null,null,{"$f":"IFERROR(INDEX(Brief!$M$15:$M$49,MATCH(C1732,Brief!#REF!,0))*1,\"\")","v":""}]
[null,null,null,{"$f":"IFERROR(INDEX(Brief!$M$15:$M$49,MATCH(C1733,Brief!#REF!,0))*1,\"\")","v":""}]
[null,null,null,{"$f":"IFERROR(INDEX(Brief!$M$15:$M$49,MATCH(C1734,Brief!#REF!,0))*1,\"\")","v":""}]
[null,null,null,{"$f":"IFERROR(INDEX(Brief!$M$15:$M$49,MATCH(C1735,Brief!#REF!,0))*1,\"\")","v":""}]
[null,null,null,{"$f":"IFERROR(INDEX(Brief!$M$15:$M$49,MATCH(C1736,Brief!#REF!,0))*1,\"\")","v":""}]
[null,null,null,{"$f":"IFERROR(INDEX(Brief!$M$15:$M$49,MATCH(C1737,Brief!#REF!,0))*1,\"\")","v":""}]
[null,null,null,{"$f":"IFERROR(INDEX(Brief!$M$15:$M$49,MATCH(C1738,Brief!#REF!,0))*1,\"\")","v":""}]
[null,null,null,{"$f":"IFERROR(INDEX(Brief!$M$15:$M$49,MATCH(C1739,Brief!#REF!,0))*1,\"\")","v":""}]
[null,null,null,{"$f":"IFERROR(INDEX(Brief!$M$15:$M$49,MATCH(C1740,Brief!#REF!,0))*1,\"\")","v":""}]
[null,null,null,{"$f":"IFERROR(INDEX(Brief!$M$15:$M$49,MATCH(C1741,Brief!#REF!,0))*1,\"\")","v":""}]
[null,null,null,{"$f":"IFERROR(INDEX(Brief!$M$15:$M$49,MATCH(C1742,Brief!#REF!,0))*1,\"\")","v":""}]
[null,null,null,{"$f":"IFERROR(INDEX(Brief!$M$15:$M$49,MATCH(C1743,Brief!#REF!,0))*1,\"\")","v":""}]
[null,null,null,{"$f":"IFERROR(INDEX(Brief!$M$15:$M$49,MATCH(C1744,Brief!#REF!,0))*1,\"\")","v":""}]
[null,null,null,{"$f":"IFERROR(INDEX(Brief!$M$15:$M$49,MATCH(C1745,Brief!#REF!,0))*1,\"\")","v":""}]
[null,null,null,{"$f":"IFERROR(INDEX(Brief!$M$15:$M$49,MATCH(C1746,Brief!#REF!,0))*1,\"\")","v":""}]
[null,null,null,{"$f":"IFERROR(INDEX(Brief!$M$15:$M$49,MATCH(C1747,Brief!#REF!,0))*1,\"\")","v":""}]
[null,null,null,{"$f":"IFERROR(INDEX(Brief!$M$15:$M$49,MATCH(C1748,Brief!#REF!,0))*1,\"\")","v":""}]
[null,null,null,{"$f":"IFERROR(INDEX(Brief!$M$15:$M$49,MATCH(C1749,Brief!#REF!,0))*1,\"\")","v":""}]
[null,null,null,{"$f":"IFERROR(INDEX(Brief!$M$15:$M$49,MATCH(C1750,Brief!#REF!,0))*1,\"\")","v":""}]
[null,null,null,{"$f":"IFERROR(INDEX(Brief!$M$15:$M$49,MATCH(C1751,Brief!#REF!,0))*1,\"\")","v":""}]
[null,null,null,{"$f":"IFERROR(INDEX(Brief!$M$15:$M$49,MATCH(C1752,Brief!#REF!,0))*1,\"\")","v":""}]
[null,null,null,{"$f":"IFERROR(INDEX(Brief!$M$15:$M$49,MATCH(C1753,Brief!#REF!,0))*1,\"\")","v":""}]
[null,null,null,{"$f":"IFERROR(INDEX(Brief!$M$15:$M$49,MATCH(C1754,Brief!#REF!,0))*1,\"\")","v":""}]
[null,null,null,{"$f":"IFERROR(INDEX(Brief!$M$15:$M$49,MATCH(C1755,Brief!#REF!,0))*1,\"\")","v":""}]
[null,null,null,{"$f":"IFERROR(INDEX(Brief!$M$15:$M$49,MATCH(C1756,Brief!#REF!,0))*1,\"\")","v":""}]
[null,null,null,{"$f":"IFERROR(INDEX(Brief!$M$15:$M$49,MATCH(C1757,Brief!#REF!,0))*1,\"\")","v":""}]
[null,null,null,{"$f":"IFERROR(INDEX(Brief!$M$15:$M$49,MATCH(C1758,Brief!#REF!,0))*1,\"\")","v":""}]
[null,null,null,{"$f":"IFERROR(INDEX(Brief!$M$15:$M$49,MATCH(C1759,Brief!#REF!,0))*1,\"\")","v":""}]
[null,null,null,{"$f":"IFERROR(INDEX(Brief!$M$15:$M$49,MATCH(C1760,Brief!#REF!,0))*1,\"\")","v":""}]
[null,null,null,{"$f":"IFERROR(INDEX(Brief!$M$15:$M$49,MATCH(C1761,Brief!#REF!,0))*1,\"\")","v":""}]
[null,null,null,{"$f":"IFERROR(INDEX(Brief!$M$15:$M$49,MATCH(C1762,Brief!#REF!,0))*1,\"\")","v":""}]
[null,null,null,{"$f":"IFERROR(INDEX(Brief!$M$15:$M$49,MATCH(C1763,Brief!#REF!,0))*1,\"\")","v":""}]
[null,null,null,{"$f":"IFERROR(INDEX(Brief!$M$15:$M$49,MATCH(C1764,Brief!#REF!,0))*1,\"\")","v":""}]
[null,null,null,{"$f":"IFERROR(INDEX(Brief!$M$15:$M$49,MATCH(C1765,Brief!#REF!,0))*1,\"\")","v":""}]
[null,null,null,{"$f":"IFERROR(INDEX(Brief!$M$15:$M$49,MATCH(C1766,Brief!#REF!,0))*1,\"\")","v":""}]
[null,null,null,{"$f":"IFERROR(INDEX(Brief!$M$15:$M$49,MATCH(C1767,Brief!#REF!,0))*1,\"\")","v":""}]
[null,null,null,{"$f":"IFERROR(INDEX(Brief!$M$15:$M$49,MATCH(C1768,Brief!#REF!,0))*1,\"\")","v":""}]
[null,null,null,{"$f":"IFERROR(INDEX(Brief!$M$15:$M$49,MATCH(C1769,Brief!#REF!,0))*1,\"\")","v":""}]
[null,null,null,{"$f":"IFERROR(INDEX(Brief!$M$15:$M$49,MATCH(C1770,Brief!#REF!,0))*1,\"\")","v":""}]
[null,null,null,{"$f":"IFERROR(INDEX(Brief!$M$15:$M$49,MATCH(C1771,Brief!#REF!,0))*1,\"\")","v":""}]
[null,null,null,{"$f":"IFERROR(INDEX(Brief!$M$15:$M$49,MATCH(C1772,Brief!#REF!,0))*1,\"\")","v":""}]
[null,null,null,{"$f":"IFERROR(INDEX(Brief!$M$15:$M$49,MATCH(C1773,Brief!#REF!,0))*1,\"\")","v":""}]
[null,null,null,{"$f":"IFERROR(INDEX(Brief!$M$15:$M$49,MATCH(C1774,Brief!#REF!,0))*1,\"\")","v":""}]
[null,null,null,{"$f":"IFERROR(INDEX(Brief!$M$15:$M$49,MATCH(C1775,Brief!#REF!,0))*1,\"\")","v":""}]
[null,null,null,{"$f":"IFERROR(INDEX(Brief!$M$15:$M$49,MATCH(C1776,Brief!#REF!,0))*1,\"\")","v":""}]
[null,null,null,{"$f":"IFERROR(INDEX(Brief!$M$15:$M$49,MATCH(C1777,Brief!#REF!,0))*1,\"\")","v":""}]
[null,null,null,{"$f":"IFERROR(INDEX(Brief!$M$15:$M$49,MATCH(C1778,Brief!#REF!,0))*1,\"\")","v":""}]
[null,null,null,{"$f":"IFERROR(INDEX(Brief!$M$15:$M$49,MATCH(C1779,Brief!#REF!,0))*1,\"\")","v":""}]
[null,null,null,{"$f":"IFERROR(INDEX(Brief!$M$15:$M$49,MATCH(C1780,Brief!#REF!,0))*1,\"\")","v":""}]
[null,null,null,{"$f":"IFERROR(INDEX(Brief!$M$15:$M$49,MATCH(C1781,Brief!#REF!,0))*1,\"\")","v":""}]
[null,null,null,{"$f":"IFERROR(INDEX(Brief!$M$15:$M$49,MATCH(C1782,Brief!#REF!,0))*1,\"\")","v":""}]
[null,null,null,{"$f":"IFERROR(INDEX(Brief!$M$15:$M$49,MATCH(C1783,Brief!#REF!,0))*1,\"\")","v":""}]
[null,null,null,{"$f":"IFERROR(INDEX(Brief!$M$15:$M$49,MATCH(C1784,Brief!#REF!,0))*1,\"\")","v":""}]
[null,null,null,{"$f":"IFERROR(INDEX(Brief!$M$15:$M$49,MATCH(C1785,Brief!#REF!,0))*1,\"\")","v":""}]
[null,null,null,{"$f":"IFERROR(INDEX(Brief!$M$15:$M$49,MATCH(C1786,Brief!#REF!,0))*1,\"\")","v":""}]
[null,null,null,{"$f":"IFERROR(INDEX(Brief!$M$15:$M$49,MATCH(C1787,Brief!#REF!,0))*1,\"\")","v":""}]
[null,null,null,{"$f":"IFERROR(INDEX(Brief!$M$15:$M$49,MATCH(C1788,Brief!#REF!,0))*1,\"\")","v":""}]
[null,null,null,{"$f":"IFERROR(INDEX(Brief!$M$15:$M$49,MATCH(C1789,Brief!#REF!,0))*1,\"\")","v":""}]
[null,null,null,{"$f":"IFERROR(INDEX(Brief!$M$15:$M$49,MATCH(C1790,Brief!#REF!,0))*1,\"\")","v":""}]
[null,null,null,{"$f":"IFERROR(INDEX(Brief!$M$15:$M$49,MATCH(C1791,Brief!#REF!,0))*1,\"\")","v":""}]
[null,null,null,{"$f":"IFERROR(INDEX(Brief!$M$15:$M$49,MATCH(C1792,Brief!#REF!,0))*1,\"\")","v":""}]
[null,null,null,{"$f":"IFERROR(INDEX(Brief!$M$15:$M$49,MATCH(C1793,Brief!#REF!,0))*1,\"\")","v":""}]
[null,null,null,{"$f":"IFERROR(INDEX(Brief!$M$15:$M$49,MATCH(C1794,Brief!#REF!,0))*1,\"\")","v":""}]
[null,null,null,{"$f":"IFERROR(INDEX(Brief!$M$15:$M$49,MATCH(C1795,Brief!#REF!,0))*1,\"\")","v":""}]
[null,null,null,{"$f":"IFERROR(INDEX(Brief!$M$15:$M$49,MATCH(C1796,Brief!#REF!,0))*1,\"\")","v":""}]
[null,null,null,{"$f":"IFERROR(INDEX(Brief!$M$15:$M$49,MATCH(C1797,Brief!#REF!,0))*1,\"\")","v":""}]
[null,null,null,{"$f":"IFERROR(INDEX(Brief!$M$15:$M$49,MATCH(C1798,Brief!#REF!,0))*1,\"\")","v":""}]
[null,null,null,{"$f":"IFERROR(INDEX(Brief!$M$15:$M$49,MATCH(C1799,Brief!#REF!,0))*1,\"\")","v":""}]
[null,null,null,{"$f":"IFERROR(INDEX(Brief!$M$15:$M$49,MATCH(C1800,Brief!#REF!,0))*1,\"\")","v":""}]
[null,null,null,{"$f":"IFERROR(INDEX(Brief!$M$15:$M$49,MATCH(C1801,Brief!#REF!,0))*1,\"\")","v":""}]
[null,null,null,{"$f":"IFERROR(INDEX(Brief!$M$15:$M$49,MATCH(C1802,Brief!#REF!,0))*1,\"\")","v":""}]
[null,null,null,{"$f":"IFERROR(INDEX(Brief!$M$15:$M$49,MATCH(C1803,Brief!#REF!,0))*1,\"\")","v":""}]
[null,null,null,{"$f":"IFERROR(INDEX(Brief!$M$15:$M$49,MATCH(C1804,Brief!#REF!,0))*1,\"\")","v":""}]
[null,null,null,{"$f":"IFERROR(INDEX(Brief!$M$15:$M$49,MATCH(C1805,Brief!#REF!,0))*1,\"\")","v":""}]
[null,null,null,{"$f":"IFERROR(INDEX(Brief!$M$15:$M$49,MATCH(C1806,Brief!#REF!,0))*1,\"\")","v":""}]
[null,null,null,{"$f":"IFERROR(INDEX(Brief!$M$15:$M$49,MATCH(C1807,Brief!#REF!,0))*1,\"\")","v":""}]
[null,null,null,{"$f":"IFERROR(INDEX(Brief!$M$15:$M$49,MATCH(C1808,Brief!#REF!,0))*1,\"\")","v":""}]
[null,null,null,{"$f":"IFERROR(INDEX(Brief!$M$15:$M$49,MATCH(C1809,Brief!#REF!,0))*1,\"\")","v":""}]
[null,null,null,{"$f":"IFERROR(INDEX(Brief!$M$15:$M$49,MATCH(C1810,Brief!#REF!,0))*1,\"\")","v":""}]
[null,null,null,{"$f":"IFERROR(INDEX(Brief!$M$15:$M$49,MATCH(C1811,Brief!#REF!,0))*1,\"\")","v":""}]
[null,null,null,{"$f":"IFERROR(INDEX(Brief!$M$15:$M$49,MATCH(C1812,Brief!#REF!,0))*1,\"\")","v":""}]
[null,null,null,{"$f":"IFERROR(INDEX(Brief!$M$15:$M$49,MATCH(C1813,Brief!#REF!,0))*1,\"\")","v":""}]
[null,null,null,{"$f":"IFERROR(INDEX(Brief!$M$15:$M$49,MATCH(C1814,Brief!#REF!,0))*1,\"\")","v":""}]
[null,null,null,{"$f":"IFERROR(INDEX(Brief!$M$15:$M$49,MATCH(C1815,Brief!#REF!,0))*1,\"\")","v":""}]
[null,null,null,{"$f":"IFERROR(INDEX(Brief!$M$15:$M$49,MATCH(C1816,Brief!#REF!,0))*1,\"\")","v":""}]
[null,null,null,{"$f":"IFERROR(INDEX(Brief!$M$15:$M$49,MATCH(C1817,Brief!#REF!,0))*1,\"\")","v":""}]
[null,null,null,{"$f":"IFERROR(INDEX(Brief!$M$15:$M$49,MATCH(C1818,Brief!#REF!,0))*1,\"\")","v":""}]
[null,null,null,{"$f":"IFERROR(INDEX(Brief!$M$15:$M$49,MATCH(C1819,Brief!#REF!,0))*1,\"\")","v":""}]
[null,null,null,{"$f":"IFERROR(INDEX(Brief!$M$15:$M$49,MATCH(C1820,Brief!#REF!,0))*1,\"\")","v":""}]
[null,null,null,{"$f":"IFERROR(INDEX(Brief!$M$15:$M$49,MATCH(C1821,Brief!#REF!,0))*1,\"\")","v":""}]
[null,null,null,{"$f":"IFERROR(INDEX(Brief!$M$15:$M$49,MATCH(C1822,Brief!#REF!,0))*1,\"\")","v":""}]
[null,null,null,{"$f":"IFERROR(INDEX(Brief!$M$15:$M$49,MATCH(C1823,Brief!#REF!,0))*1,\"\")","v":""}]
[null,null,null,{"$f":"IFERROR(INDEX(Brief!$M$15:$M$49,MATCH(C1824,Brief!#REF!,0))*1,\"\")","v":""}]
[null,null,null,{"$f":"IFERROR(INDEX(Brief!$M$15:$M$49,MATCH(C1825,Brief!#REF!,0))*1,\"\")","v":""}]
[null,null,null,{"$f":"IFERROR(INDEX(Brief!$M$15:$M$49,MATCH(C1826,Brief!#REF!,0))*1,\"\")","v":""}]
[null,null,null,{"$f":"IFERROR(INDEX(Brief!$M$15:$M$49,MATCH(C1827,Brief!#REF!,0))*1,\"\")","v":""}]
[null,null,null,{"$f":"IFERROR(INDEX(Brief!$M$15:$M$49,MATCH(C1828,Brief!#REF!,0))*1,\"\")","v":""}]
[null,null,null,{"$f":"IFERROR(INDEX(Brief!$M$15:$M$49,MATCH(C1829,Brief!#REF!,0))*1,\"\")","v":""}]
[null,null,null,{"$f":"IFERROR(INDEX(Brief!$M$15:$M$49,MATCH(C1830,Brief!#REF!,0))*1,\"\")","v":""}]
[null,null,null,{"$f":"IFERROR(INDEX(Brief!$M$15:$M$49,MATCH(C1831,Brief!#REF!,0))*1,\"\")","v":""}]
[null,null,null,{"$f":"IFERROR(INDEX(Brief!$M$15:$M$49,MATCH(C1832,Brief!#REF!,0))*1,\"\")","v":""}]
[null,null,null,{"$f":"IFERROR(INDEX(Brief!$M$15:$M$49,MATCH(C1833,Brief!#REF!,0))*1,\"\")","v":""}]
[null,null,null,{"$f":"IFERROR(INDEX(Brief!$M$15:$M$49,MATCH(C1834,Brief!#REF!,0))*1,\"\")","v":""}]
[null,null,null,{"$f":"IFERROR(INDEX(Brief!$M$15:$M$49,MATCH(C1835,Brief!#REF!,0))*1,\"\")","v":""}]
[null,null,null,{"$f":"IFERROR(INDEX(Brief!$M$15:$M$49,MATCH(C1836,Brief!#REF!,0))*1,\"\")","v":""}]
[null,null,null,{"$f":"IFERROR(INDEX(Brief!$M$15:$M$49,MATCH(C1837,Brief!#REF!,0))*1,\"\")","v":""}]
[null,null,null,{"$f":"IFERROR(INDEX(Brief!$M$15:$M$49,MATCH(C1838,Brief!#REF!,0))*1,\"\")","v":""}]
[null,null,null,{"$f":"IFERROR(INDEX(Brief!$M$15:$M$49,MATCH(C1839,Brief!#REF!,0))*1,\"\")","v":""}]
[null,null,null,{"$f":"IFERROR(INDEX(Brief!$M$15:$M$49,MATCH(C1840,Brief!#REF!,0))*1,\"\")","v":""}]
[null,null,null,{"$f":"IFERROR(INDEX(Brief!$M$15:$M$49,MATCH(C1841,Brief!#REF!,0))*1,\"\")","v":""}]
[null,null,null,{"$f":"IFERROR(INDEX(Brief!$M$15:$M$49,MATCH(C1842,Brief!#REF!,0))*1,\"\")","v":""}]
[null,null,null,{"$f":"IFERROR(INDEX(Brief!$M$15:$M$49,MATCH(C1843,Brief!#REF!,0))*1,\"\")","v":""}]
[null,null,null,{"$f":"IFERROR(INDEX(Brief!$M$15:$M$49,MATCH(C1844,Brief!#REF!,0))*1,\"\")","v":""}]
[null,null,null,{"$f":"IFERROR(INDEX(Brief!$M$15:$M$49,MATCH(C1845,Brief!#REF!,0))*1,\"\")","v":""}]
[null,null,null,{"$f":"IFERROR(INDEX(Brief!$M$15:$M$49,MATCH(C1846,Brief!#REF!,0))*1,\"\")","v":""}]
[null,null,null,{"$f":"IFERROR(INDEX(Brief!$M$15:$M$49,MATCH(C1847,Brief!#REF!,0))*1,\"\")","v":""}]
[null,null,null,{"$f":"IFERROR(INDEX(Brief!$M$15:$M$49,MATCH(C1848,Brief!#REF!,0))*1,\"\")","v":""}]
[null,null,null,{"$f":"IFERROR(INDEX(Brief!$M$15:$M$49,MATCH(C1849,Brief!#REF!,0))*1,\"\")","v":""}]
[null,null,null,{"$f":"IFERROR(INDEX(Brief!$M$15:$M$49,MATCH(C1850,Brief!#REF!,0))*1,\"\")","v":""}]
[null,null,null,{"$f":"IFERROR(INDEX(Brief!$M$15:$M$49,MATCH(C1851,Brief!#REF!,0))*1,\"\")","v":""}]
[null,null,null,{"$f":"IFERROR(INDEX(Brief!$M$15:$M$49,MATCH(C1852,Brief!#REF!,0))*1,\"\")","v":""}]
[null,null,null,{"$f":"IFERROR(INDEX(Brief!$M$15:$M$49,MATCH(C1853,Brief!#REF!,0))*1,\"\")","v":""}]
[null,null,null,{"$f":"IFERROR(INDEX(Brief!$M$15:$M$49,MATCH(C1854,Brief!#REF!,0))*1,\"\")","v":""}]
[null,null,null,{"$f":"IFERROR(INDEX(Brief!$M$15:$M$49,MATCH(C1855,Brief!#REF!,0))*1,\"\")","v":""}]
[null,null,null,{"$f":"IFERROR(INDEX(Brief!$M$15:$M$49,MATCH(C1856,Brief!#REF!,0))*1,\"\")","v":""}]
[null,null,null,{"$f":"IFERROR(INDEX(Brief!$M$15:$M$49,MATCH(C1857,Brief!#REF!,0))*1,\"\")","v":""}]
[null,null,null,{"$f":"IFERROR(INDEX(Brief!$M$15:$M$49,MATCH(C1858,Brief!#REF!,0))*1,\"\")","v":""}]
[null,null,null,{"$f":"IFERROR(INDEX(Brief!$M$15:$M$49,MATCH(C1859,Brief!#REF!,0))*1,\"\")","v":""}]
[null,null,null,{"$f":"IFERROR(INDEX(Brief!$M$15:$M$49,MATCH(C1860,Brief!#REF!,0))*1,\"\")","v":""}]
[null,null,null,{"$f":"IFERROR(INDEX(Brief!$M$15:$M$49,MATCH(C1861,Brief!#REF!,0))*1,\"\")","v":""}]
[null,null,null,{"$f":"IFERROR(INDEX(Brief!$M$15:$M$49,MATCH(C1862,Brief!#REF!,0))*1,\"\")","v":""}]
[null,null,null,{"$f":"IFERROR(INDEX(Brief!$M$15:$M$49,MATCH(C1863,Brief!#REF!,0))*1,\"\")","v":""}]
[null,null,null,{"$f":"IFERROR(INDEX(Brief!$M$15:$M$49,MATCH(C1864,Brief!#REF!,0))*1,\"\")","v":""}]
[null,null,null,{"$f":"IFERROR(INDEX(Brief!$M$15:$M$49,MATCH(C1865,Brief!#REF!,0))*1,\"\")","v":""}]
[null,null,null,{"$f":"IFERROR(INDEX(Brief!$M$15:$M$49,MATCH(C1866,Brief!#REF!,0))*1,\"\")","v":""}]
[null,null,null,{"$f":"IFERROR(INDEX(Brief!$M$15:$M$49,MATCH(C1867,Brief!#REF!,0))*1,\"\")","v":""}]
[null,null,null,{"$f":"IFERROR(INDEX(Brief!$M$15:$M$49,MATCH(C1868,Brief!#REF!,0))*1,\"\")","v":""}]
[null,null,null,{"$f":"IFERROR(INDEX(Brief!$M$15:$M$49,MATCH(C1869,Brief!#REF!,0))*1,\"\")","v":""}]
[null,null,null,{"$f":"IFERROR(INDEX(Brief!$M$15:$M$49,MATCH(C1870,Brief!#REF!,0))*1,\"\")","v":""}]
[null,null,null,{"$f":"IFERROR(INDEX(Brief!$M$15:$M$49,MATCH(C1871,Brief!#REF!,0))*1,\"\")","v":""}]
[null,null,null,{"$f":"IFERROR(INDEX(Brief!$M$15:$M$49,MATCH(C1872,Brief!#REF!,0))*1,\"\")","v":""}]
[null,null,null,{"$f":"IFERROR(INDEX(Brief!$M$15:$M$49,MATCH(C1873,Brief!#REF!,0))*1,\"\")","v":""}]
[null,null,null,{"$f":"IFERROR(INDEX(Brief!$M$15:$M$49,MATCH(C1874,Brief!#REF!,0))*1,\"\")","v":""}]
[null,null,null,{"$f":"IFERROR(INDEX(Brief!$M$15:$M$49,MATCH(C1875,Brief!#REF!,0))*1,\"\")","v":""}]
[null,null,null,{"$f":"IFERROR(INDEX(Brief!$M$15:$M$49,MATCH(C1876,Brief!#REF!,0))*1,\"\")","v":""}]
[null,null,null,{"$f":"IFERROR(INDEX(Brief!$M$15:$M$49,MATCH(C1877,Brief!#REF!,0))*1,\"\")","v":""}]
[null,null,null,{"$f":"IFERROR(INDEX(Brief!$M$15:$M$49,MATCH(C1878,Brief!#REF!,0))*1,\"\")","v":""}]
[null,null,null,{"$f":"IFERROR(INDEX(Brief!$M$15:$M$49,MATCH(C1879,Brief!#REF!,0))*1,\"\")","v":""}]
[null,null,null,{"$f":"IFERROR(INDEX(Brief!$M$15:$M$49,MATCH(C1880,Brief!#REF!,0))*1,\"\")","v":""}]
[null,null,null,{"$f":"IFERROR(INDEX(Brief!$M$15:$M$49,MATCH(C1881,Brief!#REF!,0))*1,\"\")","v":""}]
[null,null,null,{"$f":"IFERROR(INDEX(Brief!$M$15:$M$49,MATCH(C1882,Brief!#REF!,0))*1,\"\")","v":""}]
[null,null,null,{"$f":"IFERROR(INDEX(Brief!$M$15:$M$49,MATCH(C1883,Brief!#REF!,0))*1,\"\")","v":""}]
[null,null,null,{"$f":"IFERROR(INDEX(Brief!$M$15:$M$49,MATCH(C1884,Brief!#REF!,0))*1,\"\")","v":""}]
[null,null,null,{"$f":"IFERROR(INDEX(Brief!$M$15:$M$49,MATCH(C1885,Brief!#REF!,0))*1,\"\")","v":""}]
[null,null,null,{"$f":"IFERROR(INDEX(Brief!$M$15:$M$49,MATCH(C1886,Brief!#REF!,0))*1,\"\")","v":""}]
[null,null,null,{"$f":"IFERROR(INDEX(Brief!$M$15:$M$49,MATCH(C1887,Brief!#REF!,0))*1,\"\")","v":""}]
[null,null,null,{"$f":"IFERROR(INDEX(Brief!$M$15:$M$49,MATCH(C1888,Brief!#REF!,0))*1,\"\")","v":""}]
[null,null,null,{"$f":"IFERROR(INDEX(Brief!$M$15:$M$49,MATCH(C1889,Brief!#REF!,0))*1,\"\")","v":""}]
[null,null,null,{"$f":"IFERROR(INDEX(Brief!$M$15:$M$49,MATCH(C1890,Brief!#REF!,0))*1,\"\")","v":""}]
[null,null,null,{"$f":"IFERROR(INDEX(Brief!$M$15:$M$49,MATCH(C1891,Brief!#REF!,0))*1,\"\")","v":""}]
[null,null,null,{"$f":"IFERROR(INDEX(Brief!$M$15:$M$49,MATCH(C1892,Brief!#REF!,0))*1,\"\")","v":""}]
[null,null,null,{"$f":"IFERROR(INDEX(Brief!$M$15:$M$49,MATCH(C1893,Brief!#REF!,0))*1,\"\")","v":""}]
[null,null,null,{"$f":"IFERROR(INDEX(Brief!$M$15:$M$49,MATCH(C1894,Brief!#REF!,0))*1,\"\")","v":""}]
[null,null,null,{"$f":"IFERROR(INDEX(Brief!$M$15:$M$49,MATCH(C1895,Brief!#REF!,0))*1,\"\")","v":""}]
[null,null,null,{"$f":"IFERROR(INDEX(Brief!$M$15:$M$49,MATCH(C1896,Brief!#REF!,0))*1,\"\")","v":""}]
[null,null,null,{"$f":"IFERROR(INDEX(Brief!$M$15:$M$49,MATCH(C1897,Brief!#REF!,0))*1,\"\")","v":""}]
[null,null,null,{"$f":"IFERROR(INDEX(Brief!$M$15:$M$49,MATCH(C1898,Brief!#REF!,0))*1,\"\")","v":""}]
[null,null,null,{"$f":"IFERROR(INDEX(Brief!$M$15:$M$49,MATCH(C1899,Brief!#REF!,0))*1,\"\")","v":""}]
[null,null,null,{"$f":"IFERROR(INDEX(Brief!$M$15:$M$49,MATCH(C1900,Brief!#REF!,0))*1,\"\")","v":""}]
[null,null,null,{"$f":"IFERROR(INDEX(Brief!$M$15:$M$49,MATCH(C1901,Brief!#REF!,0))*1,\"\")","v":""}]
[null,null,null,{"$f":"IFERROR(INDEX(Brief!$M$15:$M$49,MATCH(C1902,Brief!#REF!,0))*1,\"\")","v":""}]
[null,null,null,{"$f":"IFERROR(INDEX(Brief!$M$15:$M$49,MATCH(C1903,Brief!#REF!,0))*1,\"\")","v":""}]
[null,null,null,{"$f":"IFERROR(INDEX(Brief!$M$15:$M$49,MATCH(C1904,Brief!#REF!,0))*1,\"\")","v":""}]
[null,null,null,{"$f":"IFERROR(INDEX(Brief!$M$15:$M$49,MATCH(C1905,Brief!#REF!,0))*1,\"\")","v":""}]
[null,null,null,{"$f":"IFERROR(INDEX(Brief!$M$15:$M$49,MATCH(C1906,Brief!#REF!,0))*1,\"\")","v":""}]
[null,null,null,{"$f":"IFERROR(INDEX(Brief!$M$15:$M$49,MATCH(C1907,Brief!#REF!,0))*1,\"\")","v":""}]
[null,null,null,{"$f":"IFERROR(INDEX(Brief!$M$15:$M$49,MATCH(C1908,Brief!#REF!,0))*1,\"\")","v":""}]
[null,null,null,{"$f":"IFERROR(INDEX(Brief!$M$15:$M$49,MATCH(C1909,Brief!#REF!,0))*1,\"\")","v":""}]
[null,null,null,{"$f":"IFERROR(INDEX(Brief!$M$15:$M$49,MATCH(C1910,Brief!#REF!,0))*1,\"\")","v":""}]
[null,null,null,{"$f":"IFERROR(INDEX(Brief!$M$15:$M$49,MATCH(C1911,Brief!#REF!,0))*1,\"\")","v":""}]
[null,null,null,{"$f":"IFERROR(INDEX(Brief!$M$15:$M$49,MATCH(C1912,Brief!#REF!,0))*1,\"\")","v":""}]
[null,null,null,{"$f":"IFERROR(INDEX(Brief!$M$15:$M$49,MATCH(C1913,Brief!#REF!,0))*1,\"\")","v":""}]
[null,null,null,{"$f":"IFERROR(INDEX(Brief!$M$15:$M$49,MATCH(C1914,Brief!#REF!,0))*1,\"\")","v":""}]
[null,null,null,{"$f":"IFERROR(INDEX(Brief!$M$15:$M$49,MATCH(C1915,Brief!#REF!,0))*1,\"\")","v":""}]
[null,null,null,{"$f":"IFERROR(INDEX(Brief!$M$15:$M$49,MATCH(C1916,Brief!#REF!,0))*1,\"\")","v":""}]
[null,null,null,{"$f":"IFERROR(INDEX(Brief!$M$15:$M$49,MATCH(C1917,Brief!#REF!,0))*1,\"\")","v":""}]
[null,null,null,{"$f":"IFERROR(INDEX(Brief!$M$15:$M$49,MATCH(C1918,Brief!#REF!,0))*1,\"\")","v":""}]
[null,null,null,{"$f":"IFERROR(INDEX(Brief!$M$15:$M$49,MATCH(C1919,Brief!#REF!,0))*1,\"\")","v":""}]
[null,null,null,{"$f":"IFERROR(INDEX(Brief!$M$15:$M$49,MATCH(C1920,Brief!#REF!,0))*1,\"\")","v":""}]
[null,null,null,{"$f":"IFERROR(INDEX(Brief!$M$15:$M$49,MATCH(C1921,Brief!#REF!,0))*1,\"\")","v":""}]
[null,null,null,{"$f":"IFERROR(INDEX(Brief!$M$15:$M$49,MATCH(C1922,Brief!#REF!,0))*1,\"\")","v":""}]
[null,null,null,{"$f":"IFERROR(INDEX(Brief!$M$15:$M$49,MATCH(C1923,Brief!#REF!,0))*1,\"\")","v":""}]
[null,null,null,{"$f":"IFERROR(INDEX(Brief!$M$15:$M$49,MATCH(C1924,Brief!#REF!,0))*1,\"\")","v":""}]
[null,null,null,{"$f":"IFERROR(INDEX(Brief!$M$15:$M$49,MATCH(C1925,Brief!#REF!,0))*1,\"\")","v":""}]
[null,null,null,{"$f":"IFERROR(INDEX(Brief!$M$15:$M$49,MATCH(C1926,Brief!#REF!,0))*1,\"\")","v":""}]
[null,null,null,{"$f":"IFERROR(INDEX(Brief!$M$15:$M$49,MATCH(C1927,Brief!#REF!,0))*1,\"\")","v":""}]
[null,null,null,{"$f":"IFERROR(INDEX(Brief!$M$15:$M$49,MATCH(C1928,Brief!#REF!,0))*1,\"\")","v":""}]
[null,null,null,{"$f":"IFERROR(INDEX(Brief!$M$15:$M$49,MATCH(C1929,Brief!#REF!,0))*1,\"\")","v":""}]
[null,null,null,{"$f":"IFERROR(INDEX(Brief!$M$15:$M$49,MATCH(C1930,Brief!#REF!,0))*1,\"\")","v":""}]
[null,null,null,{"$f":"IFERROR(INDEX(Brief!$M$15:$M$49,MATCH(C1931,Brief!#REF!,0))*1,\"\")","v":""}]
[null,null,null,{"$f":"IFERROR(INDEX(Brief!$M$15:$M$49,MATCH(C1932,Brief!#REF!,0))*1,\"\")","v":""}]
[null,null,null,{"$f":"IFERROR(INDEX(Brief!$M$15:$M$49,MATCH(C1933,Brief!#REF!,0))*1,\"\")","v":""}]
[null,null,null,{"$f":"IFERROR(INDEX(Brief!$M$15:$M$49,MATCH(C1934,Brief!#REF!,0))*1,\"\")","v":""}]
[null,null,null,{"$f":"IFERROR(INDEX(Brief!$M$15:$M$49,MATCH(C1935,Brief!#REF!,0))*1,\"\")","v":""}]
[null,null,null,{"$f":"IFERROR(INDEX(Brief!$M$15:$M$49,MATCH(C1936,Brief!#REF!,0))*1,\"\")","v":""}]
[null,null,null,{"$f":"IFERROR(INDEX(Brief!$M$15:$M$49,MATCH(C1937,Brief!#REF!,0))*1,\"\")","v":""}]
[null,null,null,{"$f":"IFERROR(INDEX(Brief!$M$15:$M$49,MATCH(C1938,Brief!#REF!,0))*1,\"\")","v":""}]
[null,null,null,{"$f":"IFERROR(INDEX(Brief!$M$15:$M$49,MATCH(C1939,Brief!#REF!,0))*1,\"\")","v":""}]
[null,null,null,{"$f":"IFERROR(INDEX(Brief!$M$15:$M$49,MATCH(C1940,Brief!#REF!,0))*1,\"\")","v":""}]
[null,null,null,{"$f":"IFERROR(INDEX(Brief!$M$15:$M$49,MATCH(C1941,Brief!#REF!,0))*1,\"\")","v":""}]
[null,null,null,{"$f":"IFERROR(INDEX(Brief!$M$15:$M$49,MATCH(C1942,Brief!#REF!,0))*1,\"\")","v":""}]
[null,null,null,{"$f":"IFERROR(INDEX(Brief!$M$15:$M$49,MATCH(C1943,Brief!#REF!,0))*1,\"\")","v":""}]
[null,null,null,{"$f":"IFERROR(INDEX(Brief!$M$15:$M$49,MATCH(C1944,Brief!#REF!,0))*1,\"\")","v":""}]
[null,null,null,{"$f":"IFERROR(INDEX(Brief!$M$15:$M$49,MATCH(C1945,Brief!#REF!,0))*1,\"\")","v":""}]
[null,null,null,{"$f":"IFERROR(INDEX(Brief!$M$15:$M$49,MATCH(C1946,Brief!#REF!,0))*1,\"\")","v":""}]
[null,null,null,{"$f":"IFERROR(INDEX(Brief!$M$15:$M$49,MATCH(C1947,Brief!#REF!,0))*1,\"\")","v":""}]
[null,null,null,{"$f":"IFERROR(INDEX(Brief!$M$15:$M$49,MATCH(C1948,Brief!#REF!,0))*1,\"\")","v":""}]
[null,null,null,{"$f":"IFERROR(INDEX(Brief!$M$15:$M$49,MATCH(C1949,Brief!#REF!,0))*1,\"\")","v":""}]
[null,null,null,{"$f":"IFERROR(INDEX(Brief!$M$15:$M$49,MATCH(C1950,Brief!#REF!,0))*1,\"\")","v":""}]
[null,null,null,{"$f":"IFERROR(INDEX(Brief!$M$15:$M$49,MATCH(C1951,Brief!#REF!,0))*1,\"\")","v":""}]
[null,null,null,{"$f":"IFERROR(INDEX(Brief!$M$15:$M$49,MATCH(C1952,Brief!#REF!,0))*1,\"\")","v":""}]
[null,null,null,{"$f":"IFERROR(INDEX(Brief!$M$15:$M$49,MATCH(C1953,Brief!#REF!,0))*1,\"\")","v":""}]
[null,null,null,{"$f":"IFERROR(INDEX(Brief!$M$15:$M$49,MATCH(C1954,Brief!#REF!,0))*1,\"\")","v":""}]
[null,null,null,{"$f":"IFERROR(INDEX(Brief!$M$15:$M$49,MATCH(C1955,Brief!#REF!,0))*1,\"\")","v":""}]
[null,null,null,{"$f":"IFERROR(INDEX(Brief!$M$15:$M$49,MATCH(C1956,Brief!#REF!,0))*1,\"\")","v":""}]
[null,null,null,{"$f":"IFERROR(INDEX(Brief!$M$15:$M$49,MATCH(C1957,Brief!#REF!,0))*1,\"\")","v":""}]
[null,null,null,{"$f":"IFERROR(INDEX(Brief!$M$15:$M$49,MATCH(C1958,Brief!#REF!,0))*1,\"\")","v":""}]
[null,null,null,{"$f":"IFERROR(INDEX(Brief!$M$15:$M$49,MATCH(C1959,Brief!#REF!,0))*1,\"\")","v":""}]
[null,null,null,{"$f":"IFERROR(INDEX(Brief!$M$15:$M$49,MATCH(C1960,Brief!#REF!,0))*1,\"\")","v":""}]
[null,null,null,{"$f":"IFERROR(INDEX(Brief!$M$15:$M$49,MATCH(C1961,Brief!#REF!,0))*1,\"\")","v":""}]
[null,null,null,{"$f":"IFERROR(INDEX(Brief!$M$15:$M$49,MATCH(C1962,Brief!#REF!,0))*1,\"\")","v":""}]
[null,null,null,{"$f":"IFERROR(INDEX(Brief!$M$15:$M$49,MATCH(C1963,Brief!#REF!,0))*1,\"\")","v":""}]
[null,null,null,{"$f":"IFERROR(INDEX(Brief!$M$15:$M$49,MATCH(C1964,Brief!#REF!,0))*1,\"\")","v":""}]
[null,null,null,{"$f":"IFERROR(INDEX(Brief!$M$15:$M$49,MATCH(C1965,Brief!#REF!,0))*1,\"\")","v":""}]
[null,null,null,{"$f":"IFERROR(INDEX(Brief!$M$15:$M$49,MATCH(C1966,Brief!#REF!,0))*1,\"\")","v":""}]
[null,null,null,{"$f":"IFERROR(INDEX(Brief!$M$15:$M$49,MATCH(C1967,Brief!#REF!,0))*1,\"\")","v":""}]
[null,null,null,{"$f":"IFERROR(INDEX(Brief!$M$15:$M$49,MATCH(C1968,Brief!#REF!,0))*1,\"\")","v":""}]
[null,null,null,{"$f":"IFERROR(INDEX(Brief!$M$15:$M$49,MATCH(C1969,Brief!#REF!,0))*1,\"\")","v":""}]
[null,null,null,{"$f":"IFERROR(INDEX(Brief!$M$15:$M$49,MATCH(C1970,Brief!#REF!,0))*1,\"\")","v":""}]
[null,null,null,{"$f":"IFERROR(INDEX(Brief!$M$15:$M$49,MATCH(C1971,Brief!#REF!,0))*1,\"\")","v":""}]
[null,null,null,{"$f":"IFERROR(INDEX(Brief!$M$15:$M$49,MATCH(C1972,Brief!#REF!,0))*1,\"\")","v":""}]
[null,null,null,{"$f":"IFERROR(INDEX(Brief!$M$15:$M$49,MATCH(C1973,Brief!#REF!,0))*1,\"\")","v":""}]
[null,null,null,{"$f":"IFERROR(INDEX(Brief!$M$15:$M$49,MATCH(C1974,Brief!#REF!,0))*1,\"\")","v":""}]
[null,null,null,{"$f":"IFERROR(INDEX(Brief!$M$15:$M$49,MATCH(C1975,Brief!#REF!,0))*1,\"\")","v":""}]
[null,null,null,{"$f":"IFERROR(INDEX(Brief!$M$15:$M$49,MATCH(C1976,Brief!#REF!,0))*1,\"\")","v":""}]
[null,null,null,{"$f":"IFERROR(INDEX(Brief!$M$15:$M$49,MATCH(C1977,Brief!#REF!,0))*1,\"\")","v":""}]
[null,null,null,{"$f":"IFERROR(INDEX(Brief!$M$15:$M$49,MATCH(C1978,Brief!#REF!,0))*1,\"\")","v":""}]
[null,null,null,{"$f":"IFERROR(INDEX(Brief!$M$15:$M$49,MATCH(C1979,Brief!#REF!,0))*1,\"\")","v":""}]
[null,null,null,{"$f":"IFERROR(INDEX(Brief!$M$15:$M$49,MATCH(C1980,Brief!#REF!,0))*1,\"\")","v":""}]
[null,null,null,{"$f":"IFERROR(INDEX(Brief!$M$15:$M$49,MATCH(C1981,Brief!#REF!,0))*1,\"\")","v":""}]
[null,null,null,{"$f":"IFERROR(INDEX(Brief!$M$15:$M$49,MATCH(C1982,Brief!#REF!,0))*1,\"\")","v":""}]
[null,null,null,{"$f":"IFERROR(INDEX(Brief!$M$15:$M$49,MATCH(C1983,Brief!#REF!,0))*1,\"\")","v":""}]
[null,null,null,{"$f":"IFERROR(INDEX(Brief!$M$15:$M$49,MATCH(C1984,Brief!#REF!,0))*1,\"\")","v":""}]
[null,null,null,{"$f":"IFERROR(INDEX(Brief!$M$15:$M$49,MATCH(C1985,Brief!#REF!,0))*1,\"\")","v":""}]
[null,null,null,{"$f":"IFERROR(INDEX(Brief!$M$15:$M$49,MATCH(C1986,Brief!#REF!,0))*1,\"\")","v":""}]
[null,null,null,{"$f":"IFERROR(INDEX(Brief!$M$15:$M$49,MATCH(C1987,Brief!#REF!,0))*1,\"\")","v":""}]
[null,null,null,{"$f":"IFERROR(INDEX(Brief!$M$15:$M$49,MATCH(C1988,Brief!#REF!,0))*1,\"\")","v":""}]
[null,null,null,{"$f":"IFERROR(INDEX(Brief!$M$15:$M$49,MATCH(C1989,Brief!#REF!,0))*1,\"\")","v":""}]
[null,null,null,{"$f":"IFERROR(INDEX(Brief!$M$15:$M$49,MATCH(C1990,Brief!#REF!,0))*1,\"\")","v":""}]
[null,null,null,{"$f":"IFERROR(INDEX(Brief!$M$15:$M$49,MATCH(C1991,Brief!#REF!,0))*1,\"\")","v":""}]
[null,null,null,{"$f":"IFERROR(INDEX(Brief!$M$15:$M$49,MATCH(C1992,Brief!#REF!,0))*1,\"\")","v":""}]
[null,null,null,{"$f":"IFERROR(INDEX(Brief!$M$15:$M$49,MATCH(C1993,Brief!#REF!,0))*1,\"\")","v":""}]
[null,null,null,{"$f":"IFERROR(INDEX(Brief!$M$15:$M$49,MATCH(C1994,Brief!#REF!,0))*1,\"\")","v":""}]
[null,null,null,{"$f":"IFERROR(INDEX(Brief!$M$15:$M$49,MATCH(C1995,Brief!#REF!,0))*1,\"\")","v":""}]
[null,null,null,{"$f":"IFERROR(INDEX(Brief!$M$15:$M$49,MATCH(C1996,Brief!#REF!,0))*1,\"\")","v":""}]
[null,null,null,{"$f":"IFERROR(INDEX(Brief!$M$15:$M$49,MATCH(C1997,Brief!#REF!,0))*1,\"\")","v":""}]
[null,null,null,{"$f":"IFERROR(INDEX(Brief!$M$15:$M$49,MATCH(C1998,Brief!#REF!,0))*1,\"\")","v":""}]
[null,null,null,{"$f":"IFERROR(INDEX(Brief!$M$15:$M$49,MATCH(C1999,Brief!#REF!,0))*1,\"\")","v":""}]
[null,null,null,{"$f":"IFERROR(INDEX(Brief!$M$15:$M$49,MATCH(C2000,Brief!#REF!,0))*1,\"\")","v":""}]
[null,null,null,{"$f":"IFERROR(INDEX(Brief!$M$15:$M$49,MATCH(C2001,Brief!#REF!,0))*1,\"\")","v":""}]
[null,null,null,{"$f":"IFERROR(INDEX(Brief!$M$15:$M$49,MATCH(C2002,Brief!#REF!,0))*1,\"\")","v":""}]
[null,null,null,{"$f":"IFERROR(INDEX(Brief!$M$15:$M$49,MATCH(C2003,Brief!#REF!,0))*1,\"\")","v":""}]
[null,null,null,{"$f":"IFERROR(INDEX(Brief!$M$15:$M$49,MATCH(C2004,Brief!#REF!,0))*1,\"\")","v":""}]
[null,null,null,{"$f":"IFERROR(INDEX(Brief!$M$15:$M$49,MATCH(C2005,Brief!#REF!,0))*1,\"\")","v":""}]
[null,null,null,{"$f":"IFERROR(INDEX(Brief!$M$15:$M$49,MATCH(C2006,Brief!#REF!,0))*1,\"\")","v":""}]
[null,null,null,{"$f":"IFERROR(INDEX(Brief!$M$15:$M$49,MATCH(C2007,Brief!#REF!,0))*1,\"\")","v":""}]
[null,null,null,{"$f":"IFERROR(INDEX(Brief!$M$15:$M$49,MATCH(C2008,Brief!#REF!,0))*1,\"\")","v":""}]
[null,null,null,{"$f":"IFERROR(INDEX(Brief!$M$15:$M$49,MATCH(C2009,Brief!#REF!,0))*1,\"\")","v":""}]
[null,null,null,{"$f":"IFERROR(INDEX(Brief!$M$15:$M$49,MATCH(C2010,Brief!#REF!,0))*1,\"\")","v":""}]
[null,null,null,{"$f":"IFERROR(INDEX(Brief!$M$15:$M$49,MATCH(C2011,Brief!#REF!,0))*1,\"\")","v":""}]
[null,null,null,{"$f":"IFERROR(INDEX(Brief!$M$15:$M$49,MATCH(C2012,Brief!#REF!,0))*1,\"\")","v":""}]
[null,null,null,{"$f":"IFERROR(INDEX(Brief!$M$15:$M$49,MATCH(C2013,Brief!#REF!,0))*1,\"\")","v":""}]
[null,null,null,{"$f":"IFERROR(INDEX(Brief!$M$15:$M$49,MATCH(C2014,Brief!#REF!,0))*1,\"\")","v":""}]
[null,null,null,{"$f":"IFERROR(INDEX(Brief!$M$15:$M$49,MATCH(C2015,Brief!#REF!,0))*1,\"\")","v":""}]
[null,null,null,{"$f":"IFERROR(INDEX(Brief!$M$15:$M$49,MATCH(C2016,Brief!#REF!,0))*1,\"\")","v":""}]
[null,null,null,{"$f":"IFERROR(INDEX(Brief!$M$15:$M$49,MATCH(C2017,Brief!#REF!,0))*1,\"\")","v":""}]
[null,null,null,{"$f":"IFERROR(INDEX(Brief!$M$15:$M$49,MATCH(C2018,Brief!#REF!,0))*1,\"\")","v":""}]
[null,null,null,{"$f":"IFERROR(INDEX(Brief!$M$15:$M$49,MATCH(C2019,Brief!#REF!,0))*1,\"\")","v":""}]
[null,null,null,{"$f":"IFERROR(INDEX(Brief!$M$15:$M$49,MATCH(C2020,Brief!#REF!,0))*1,\"\")","v":""}]
[null,null,null,{"$f":"IFERROR(INDEX(Brief!$M$15:$M$49,MATCH(C2021,Brief!#REF!,0))*1,\"\")","v":""}]
[null,null,null,{"$f":"IFERROR(INDEX(Brief!$M$15:$M$49,MATCH(C2022,Brief!#REF!,0))*1,\"\")","v":""}]
[null,null,null,{"$f":"IFERROR(INDEX(Brief!$M$15:$M$49,MATCH(C2023,Brief!#REF!,0))*1,\"\")","v":""}]
[null,null,null,{"$f":"IFERROR(INDEX(Brief!$M$15:$M$49,MATCH(C2024,Brief!#REF!,0))*1,\"\")","v":""}]
[null,null,null,{"$f":"IFERROR(INDEX(Brief!$M$15:$M$49,MATCH(C2025,Brief!#REF!,0))*1,\"\")","v":""}]
[null,null,null,{"$f":"IFERROR(INDEX(Brief!$M$15:$M$49,MATCH(C2026,Brief!#REF!,0))*1,\"\")","v":""}]
[null,null,null,{"$f":"IFERROR(INDEX(Brief!$M$15:$M$49,MATCH(C2027,Brief!#REF!,0))*1,\"\")","v":""}]
[null,null,null,{"$f":"IFERROR(INDEX(Brief!$M$15:$M$49,MATCH(C2028,Brief!#REF!,0))*1,\"\")","v":""}]
[null,null,null,{"$f":"IFERROR(INDEX(Brief!$M$15:$M$49,MATCH(C2029,Brief!#REF!,0))*1,\"\")","v":""}]
[null,null,null,{"$f":"IFERROR(INDEX(Brief!$M$15:$M$49,MATCH(C2030,Brief!#REF!,0))*1,\"\")","v":""}]
[null,null,null,{"$f":"IFERROR(INDEX(Brief!$M$15:$M$49,MATCH(C2031,Brief!#REF!,0))*1,\"\")","v":""}]
[null,null,null,{"$f":"IFERROR(INDEX(Brief!$M$15:$M$49,MATCH(C2032,Brief!#REF!,0))*1,\"\")","v":""}]
[null,null,null,{"$f":"IFERROR(INDEX(Brief!$M$15:$M$49,MATCH(C2033,Brief!#REF!,0))*1,\"\")","v":""}]
[null,null,null,{"$f":"IFERROR(INDEX(Brief!$M$15:$M$49,MATCH(C2034,Brief!#REF!,0))*1,\"\")","v":""}]
[null,null,null,{"$f":"IFERROR(INDEX(Brief!$M$15:$M$49,MATCH(C2035,Brief!#REF!,0))*1,\"\")","v":""}]
[null,null,null,{"$f":"IFERROR(INDEX(Brief!$M$15:$M$49,MATCH(C2036,Brief!#REF!,0))*1,\"\")","v":""}]
[null,null,null,{"$f":"IFERROR(INDEX(Brief!$M$15:$M$49,MATCH(C2037,Brief!#REF!,0))*1,\"\")","v":""}]
[null,null,null,{"$f":"IFERROR(INDEX(Brief!$M$15:$M$49,MATCH(C2038,Brief!#REF!,0))*1,\"\")","v":""}]
[null,null,null,{"$f":"IFERROR(INDEX(Brief!$M$15:$M$49,MATCH(C2039,Brief!#REF!,0))*1,\"\")","v":""}]
[null,null,null,{"$f":"IFERROR(INDEX(Brief!$M$15:$M$49,MATCH(C2040,Brief!#REF!,0))*1,\"\")","v":""}]
[null,null,null,{"$f":"IFERROR(INDEX(Brief!$M$15:$M$49,MATCH(C2041,Brief!#REF!,0))*1,\"\")","v":""}]
[null,null,null,{"$f":"IFERROR(INDEX(Brief!$M$15:$M$49,MATCH(C2042,Brief!#REF!,0))*1,\"\")","v":""}]
[null,null,null,{"$f":"IFERROR(INDEX(Brief!$M$15:$M$49,MATCH(C2043,Brief!#REF!,0))*1,\"\")","v":""}]
[null,null,null,{"$f":"IFERROR(INDEX(Brief!$M$15:$M$49,MATCH(C2044,Brief!#REF!,0))*1,\"\")","v":""}]
[null,null,null,{"$f":"IFERROR(INDEX(Brief!$M$15:$M$49,MATCH(C2045,Brief!#REF!,0))*1,\"\")","v":""}]
[null,null,null,{"$f":"IFERROR(INDEX(Brief!$M$15:$M$49,MATCH(C2046,Brief!#REF!,0))*1,\"\")","v":""}]
[null,null,null,{"$f":"IFERROR(INDEX(Brief!$M$15:$M$49,MATCH(C2047,Brief!#REF!,0))*1,\"\")","v":""}]
[null,null,null,{"$f":"IFERROR(INDEX(Brief!$M$15:$M$49,MATCH(C2048,Brief!#REF!,0))*1,\"\")","v":""}]
[null,null,null,{"$f":"IFERROR(INDEX(Brief!$M$15:$M$49,MATCH(C2049,Brief!#REF!,0))*1,\"\")","v":""}]
[null,null,null,{"$f":"IFERROR(INDEX(Brief!$M$15:$M$49,MATCH(C2050,Brief!#REF!,0))*1,\"\")","v":""}]
[null,null,null,{"$f":"IFERROR(INDEX(Brief!$M$15:$M$49,MATCH(C2051,Brief!#REF!,0))*1,\"\")","v":""}]
[null,null,null,{"$f":"IFERROR(INDEX(Brief!$M$15:$M$49,MATCH(C2052,Brief!#REF!,0))*1,\"\")","v":""}]
[null,null,null,{"$f":"IFERROR(INDEX(Brief!$M$15:$M$49,MATCH(C2053,Brief!#REF!,0))*1,\"\")","v":""}]
[null,null,null,{"$f":"IFERROR(INDEX(Brief!$M$15:$M$49,MATCH(C2054,Brief!#REF!,0))*1,\"\")","v":""}]
[null,null,null,{"$f":"IFERROR(INDEX(Brief!$M$15:$M$49,MATCH(C2055,Brief!#REF!,0))*1,\"\")","v":""}]
[null,null,null,{"$f":"IFERROR(INDEX(Brief!$M$15:$M$49,MATCH(C2056,Brief!#REF!,0))*1,\"\")","v":""}]
[null,null,null,{"$f":"IFERROR(INDEX(Brief!$M$15:$M$49,MATCH(C2057,Brief!#REF!,0))*1,\"\")","v":""}]
[null,null,null,{"$f":"IFERROR(INDEX(Brief!$M$15:$M$49,MATCH(C2058,Brief!#REF!,0))*1,\"\")","v":""}]
[null,null,null,{"$f":"IFERROR(INDEX(Brief!$M$15:$M$49,MATCH(C2059,Brief!#REF!,0))*1,\"\")","v":""}]
[null,null,null,{"$f":"IFERROR(INDEX(Brief!$M$15:$M$49,MATCH(C2060,Brief!#REF!,0))*1,\"\")","v":""}]
[null,null,null,{"$f":"IFERROR(INDEX(Brief!$M$15:$M$49,MATCH(C2061,Brief!#REF!,0))*1,\"\")","v":""}]
[null,null,null,{"$f":"IFERROR(INDEX(Brief!$M$15:$M$49,MATCH(C2062,Brief!#REF!,0))*1,\"\")","v":""}]
[null,null,null,{"$f":"IFERROR(INDEX(Brief!$M$15:$M$49,MATCH(C2063,Brief!#REF!,0))*1,\"\")","v":""}]
[null,null,null,{"$f":"IFERROR(INDEX(Brief!$M$15:$M$49,MATCH(C2064,Brief!#REF!,0))*1,\"\")","v":""}]
[null,null,null,{"$f":"IFERROR(INDEX(Brief!$M$15:$M$49,MATCH(C2065,Brief!#REF!,0))*1,\"\")","v":""}]
[null,null,null,{"$f":"IFERROR(INDEX(Brief!$M$15:$M$49,MATCH(C2066,Brief!#REF!,0))*1,\"\")","v":""}]
[null,null,null,{"$f":"IFERROR(INDEX(Brief!$M$15:$M$49,MATCH(C2067,Brief!#REF!,0))*1,\"\")","v":""}]
[null,null,null,{"$f":"IFERROR(INDEX(Brief!$M$15:$M$49,MATCH(C2068,Brief!#REF!,0))*1,\"\")","v":""}]
[null,null,null,{"$f":"IFERROR(INDEX(Brief!$M$15:$M$49,MATCH(C2069,Brief!#REF!,0))*1,\"\")","v":""}]
[null,null,null,{"$f":"IFERROR(INDEX(Brief!$M$15:$M$49,MATCH(C2070,Brief!#REF!,0))*1,\"\")","v":""}]
[null,null,null,{"$f":"IFERROR(INDEX(Brief!$M$15:$M$49,MATCH(C2071,Brief!#REF!,0))*1,\"\")","v":""}]
[null,null,null,{"$f":"IFERROR(INDEX(Brief!$M$15:$M$49,MATCH(C2072,Brief!#REF!,0))*1,\"\")","v":""}]
[null,null,null,{"$f":"IFERROR(INDEX(Brief!$M$15:$M$49,MATCH(C2073,Brief!#REF!,0))*1,\"\")","v":""}]
[null,null,null,{"$f":"IFERROR(INDEX(Brief!$M$15:$M$49,MATCH(C2074,Brief!#REF!,0))*1,\"\")","v":""}]
[null,null,null,{"$f":"IFERROR(INDEX(Brief!$M$15:$M$49,MATCH(C2075,Brief!#REF!,0))*1,\"\")","v":""}]
[null,null,null,{"$f":"IFERROR(INDEX(Brief!$M$15:$M$49,MATCH(C2076,Brief!#REF!,0))*1,\"\")","v":""}]
[null,null,null,{"$f":"IFERROR(INDEX(Brief!$M$15:$M$49,MATCH(C2077,Brief!#REF!,0))*1,\"\")","v":""}]
[null,null,null,{"$f":"IFERROR(INDEX(Brief!$M$15:$M$49,MATCH(C2078,Brief!#REF!,0))*1,\"\")","v":""}]
[null,null,null,{"$f":"IFERROR(INDEX(Brief!$M$15:$M$49,MATCH(C2079,Brief!#REF!,0))*1,\"\")","v":""}]
[null,null,null,{"$f":"IFERROR(INDEX(Brief!$M$15:$M$49,MATCH(C2080,Brief!#REF!,0))*1,\"\")","v":""}]
[null,null,null,{"$f":"IFERROR(INDEX(Brief!$M$15:$M$49,MATCH(C2081,Brief!#REF!,0))*1,\"\")","v":""}]
[null,null,null,{"$f":"IFERROR(INDEX(Brief!$M$15:$M$49,MATCH(C2082,Brief!#REF!,0))*1,\"\")","v":""}]
[null,null,null,{"$f":"IFERROR(INDEX(Brief!$M$15:$M$49,MATCH(C2083,Brief!#REF!,0))*1,\"\")","v":""}]
[null,null,null,{"$f":"IFERROR(INDEX(Brief!$M$15:$M$49,MATCH(C2084,Brief!#REF!,0))*1,\"\")","v":""}]
[null,null,null,{"$f":"IFERROR(INDEX(Brief!$M$15:$M$49,MATCH(C2085,Brief!#REF!,0))*1,\"\")","v":""}]
[null,null,null,{"$f":"IFERROR(INDEX(Brief!$M$15:$M$49,MATCH(C2086,Brief!#REF!,0))*1,\"\")","v":""}]
[null,null,null,{"$f":"IFERROR(INDEX(Brief!$M$15:$M$49,MATCH(C2087,Brief!#REF!,0))*1,\"\")","v":""}]
[null,null,null,{"$f":"IFERROR(INDEX(Brief!$M$15:$M$49,MATCH(C2088,Brief!#REF!,0))*1,\"\")","v":""}]
[null,null,null,{"$f":"IFERROR(INDEX(Brief!$M$15:$M$49,MATCH(C2089,Brief!#REF!,0))*1,\"\")","v":""}]
[null,null,null,{"$f":"IFERROR(INDEX(Brief!$M$15:$M$49,MATCH(C2090,Brief!#REF!,0))*1,\"\")","v":""}]
[null,null,null,{"$f":"IFERROR(INDEX(Brief!$M$15:$M$49,MATCH(C2091,Brief!#REF!,0))*1,\"\")","v":""}]
[null,null,null,{"$f":"IFERROR(INDEX(Brief!$M$15:$M$49,MATCH(C2092,Brief!#REF!,0))*1,\"\")","v":""}]
[null,null,null,{"$f":"IFERROR(INDEX(Brief!$M$15:$M$49,MATCH(C2093,Brief!#REF!,0))*1,\"\")","v":""}]
[null,null,null,{"$f":"IFERROR(INDEX(Brief!$M$15:$M$49,MATCH(C2094,Brief!#REF!,0))*1,\"\")","v":""}]
[null,null,null,{"$f":"IFERROR(INDEX(Brief!$M$15:$M$49,MATCH(C2095,Brief!#REF!,0))*1,\"\")","v":""}]
[null,null,null,{"$f":"IFERROR(INDEX(Brief!$M$15:$M$49,MATCH(C2096,Brief!#REF!,0))*1,\"\")","v":""}]
[null,null,null,{"$f":"IFERROR(INDEX(Brief!$M$15:$M$49,MATCH(C2097,Brief!#REF!,0))*1,\"\")","v":""}]
[null,null,null,{"$f":"IFERROR(INDEX(Brief!$M$15:$M$49,MATCH(C2098,Brief!#REF!,0))*1,\"\")","v":""}]
[null,null,null,{"$f":"IFERROR(INDEX(Brief!$M$15:$M$49,MATCH(C2099,Brief!#REF!,0))*1,\"\")","v":""}]
[null,null,null,{"$f":"IFERROR(INDEX(Brief!$M$15:$M$49,MATCH(C2100,Brief!#REF!,0))*1,\"\")","v":""}]
[null,null,null,{"$f":"IFERROR(INDEX(Brief!$M$15:$M$49,MATCH(C2101,Brief!#REF!,0))*1,\"\")","v":""}]
[null,null,null,{"$f":"IFERROR(INDEX(Brief!$M$15:$M$49,MATCH(C2102,Brief!#REF!,0))*1,\"\")","v":""}]
[null,null,null,{"$f":"IFERROR(INDEX(Brief!$M$15:$M$49,MATCH(C2103,Brief!#REF!,0))*1,\"\")","v":""}]
[null,null,null,{"$f":"IFERROR(INDEX(Brief!$M$15:$M$49,MATCH(C2104,Brief!#REF!,0))*1,\"\")","v":""}]
[null,null,null,{"$f":"IFERROR(INDEX(Brief!$M$15:$M$49,MATCH(C2105,Brief!#REF!,0))*1,\"\")","v":""}]
[null,null,null,{"$f":"IFERROR(INDEX(Brief!$M$15:$M$49,MATCH(C2106,Brief!#REF!,0))*1,\"\")","v":""}]
[null,null,null,{"$f":"IFERROR(INDEX(Brief!$M$15:$M$49,MATCH(C2107,Brief!#REF!,0))*1,\"\")","v":""}]
[null,null,null,{"$f":"IFERROR(INDEX(Brief!$M$15:$M$49,MATCH(C2108,Brief!#REF!,0))*1,\"\")","v":""}]
[null,null,null,{"$f":"IFERROR(INDEX(Brief!$M$15:$M$49,MATCH(C2109,Brief!#REF!,0))*1,\"\")","v":""}]
[null,null,null,{"$f":"IFERROR(INDEX(Brief!$M$15:$M$49,MATCH(C2110,Brief!#REF!,0))*1,\"\")","v":""}]
[null,null,null,{"$f":"IFERROR(INDEX(Brief!$M$15:$M$49,MATCH(C2111,Brief!#REF!,0))*1,\"\")","v":""}]
[null,null,null,{"$f":"IFERROR(INDEX(Brief!$M$15:$M$49,MATCH(C2112,Brief!#REF!,0))*1,\"\")","v":""}]
[null,null,null,{"$f":"IFERROR(INDEX(Brief!$M$15:$M$49,MATCH(C2113,Brief!#REF!,0))*1,\"\")","v":""}]
[null,null,null,{"$f":"IFERROR(INDEX(Brief!$M$15:$M$49,MATCH(C2114,Brief!#REF!,0))*1,\"\")","v":""}]
[null,null,null,{"$f":"IFERROR(INDEX(Brief!$M$15:$M$49,MATCH(C2115,Brief!#REF!,0))*1,\"\")","v":""}]
[null,null,null,{"$f":"IFERROR(INDEX(Brief!$M$15:$M$49,MATCH(C2116,Brief!#REF!,0))*1,\"\")","v":""}]
[null,null,null,{"$f":"IFERROR(INDEX(Brief!$M$15:$M$49,MATCH(C2117,Brief!#REF!,0))*1,\"\")","v":""}]
[null,null,null,{"$f":"IFERROR(INDEX(Brief!$M$15:$M$49,MATCH(C2118,Brief!#REF!,0))*1,\"\")","v":""}]
[null,null,null,{"$f":"IFERROR(INDEX(Brief!$M$15:$M$49,MATCH(C2119,Brief!#REF!,0))*1,\"\")","v":""}]
[null,null,null,{"$f":"IFERROR(INDEX(Brief!$M$15:$M$49,MATCH(C2120,Brief!#REF!,0))*1,\"\")","v":""}]
[null,null,null,{"$f":"IFERROR(INDEX(Brief!$M$15:$M$49,MATCH(C2121,Brief!#REF!,0))*1,\"\")","v":""}]
[null,null,null,{"$f":"IFERROR(INDEX(Brief!$M$15:$M$49,MATCH(C2122,Brief!#REF!,0))*1,\"\")","v":""}]
[null,null,null,{"$f":"IFERROR(INDEX(Brief!$M$15:$M$49,MATCH(C2123,Brief!#REF!,0))*1,\"\")","v":""}]
[null,null,null,{"$f":"IFERROR(INDEX(Brief!$M$15:$M$49,MATCH(C2124,Brief!#REF!,0))*1,\"\")","v":""}]
[null,null,null,{"$f":"IFERROR(INDEX(Brief!$M$15:$M$49,MATCH(C2125,Brief!#REF!,0))*1,\"\")","v":""}]
[null,null,null,{"$f":"IFERROR(INDEX(Brief!$M$15:$M$49,MATCH(C2126,Brief!#REF!,0))*1,\"\")","v":""}]
[null,null,null,{"$f":"IFERROR(INDEX(Brief!$M$15:$M$49,MATCH(C2127,Brief!#REF!,0))*1,\"\")","v":""}]
[null,null,null,{"$f":"IFERROR(INDEX(Brief!$M$15:$M$49,MATCH(C2128,Brief!#REF!,0))*1,\"\")","v":""}]
[null,null,null,{"$f":"IFERROR(INDEX(Brief!$M$15:$M$49,MATCH(C2129,Brief!#REF!,0))*1,\"\")","v":""}]
[null,null,null,{"$f":"IFERROR(INDEX(Brief!$M$15:$M$49,MATCH(C2130,Brief!#REF!,0))*1,\"\")","v":""}]
[null,null,null,{"$f":"IFERROR(INDEX(Brief!$M$15:$M$49,MATCH(C2131,Brief!#REF!,0))*1,\"\")","v":""}]
[null,null,null,{"$f":"IFERROR(INDEX(Brief!$M$15:$M$49,MATCH(C2132,Brief!#REF!,0))*1,\"\")","v":""}]
[null,null,null,{"$f":"IFERROR(INDEX(Brief!$M$15:$M$49,MATCH(C2133,Brief!#REF!,0))*1,\"\")","v":""}]
[null,null,null,{"$f":"IFERROR(INDEX(Brief!$M$15:$M$49,MATCH(C2134,Brief!#REF!,0))*1,\"\")","v":""}]
[null,null,null,{"$f":"IFERROR(INDEX(Brief!$M$15:$M$49,MATCH(C2135,Brief!#REF!,0))*1,\"\")","v":""}]
[null,null,null,{"$f":"IFERROR(INDEX(Brief!$M$15:$M$49,MATCH(C2136,Brief!#REF!,0))*1,\"\")","v":""}]
[null,null,null,{"$f":"IFERROR(INDEX(Brief!$M$15:$M$49,MATCH(C2137,Brief!#REF!,0))*1,\"\")","v":""}]
[null,null,null,{"$f":"IFERROR(INDEX(Brief!$M$15:$M$49,MATCH(C2138,Brief!#REF!,0))*1,\"\")","v":""}]
[null,null,null,{"$f":"IFERROR(INDEX(Brief!$M$15:$M$49,MATCH(C2139,Brief!#REF!,0))*1,\"\")","v":""}]
[null,null,null,{"$f":"IFERROR(INDEX(Brief!$M$15:$M$49,MATCH(C2140,Brief!#REF!,0))*1,\"\")","v":""}]
[null,null,null,{"$f":"IFERROR(INDEX(Brief!$M$15:$M$49,MATCH(C2141,Brief!#REF!,0))*1,\"\")","v":""}]
[null,null,null,{"$f":"IFERROR(INDEX(Brief!$M$15:$M$49,MATCH(C2142,Brief!#REF!,0))*1,\"\")","v":""}]
[null,null,null,{"$f":"IFERROR(INDEX(Brief!$M$15:$M$49,MATCH(C2143,Brief!#REF!,0))*1,\"\")","v":""}]
[null,null,null,{"$f":"IFERROR(INDEX(Brief!$M$15:$M$49,MATCH(C2144,Brief!#REF!,0))*1,\"\")","v":""}]
[null,null,null,{"$f":"IFERROR(INDEX(Brief!$M$15:$M$49,MATCH(C2145,Brief!#REF!,0))*1,\"\")","v":""}]
[null,null,null,{"$f":"IFERROR(INDEX(Brief!$M$15:$M$49,MATCH(C2146,Brief!#REF!,0))*1,\"\")","v":""}]
[null,null,null,{"$f":"IFERROR(INDEX(Brief!$M$15:$M$49,MATCH(C2147,Brief!#REF!,0))*1,\"\")","v":""}]
[null,null,null,{"$f":"IFERROR(INDEX(Brief!$M$15:$M$49,MATCH(C2148,Brief!#REF!,0))*1,\"\")","v":""}]
[null,null,null,{"$f":"IFERROR(INDEX(Brief!$M$15:$M$49,MATCH(C2149,Brief!#REF!,0))*1,\"\")","v":""}]
[null,null,null,{"$f":"IFERROR(INDEX(Brief!$M$15:$M$49,MATCH(C2150,Brief!#REF!,0))*1,\"\")","v":""}]
[null,null,null,{"$f":"IFERROR(INDEX(Brief!$M$15:$M$49,MATCH(C2151,Brief!#REF!,0))*1,\"\")","v":""}]
[null,null,null,{"$f":"IFERROR(INDEX(Brief!$M$15:$M$49,MATCH(C2152,Brief!#REF!,0))*1,\"\")","v":""}]
[null,null,null,{"$f":"IFERROR(INDEX(Brief!$M$15:$M$49,MATCH(C2153,Brief!#REF!,0))*1,\"\")","v":""}]
[null,null,null,{"$f":"IFERROR(INDEX(Brief!$M$15:$M$49,MATCH(C2154,Brief!#REF!,0))*1,\"\")","v":""}]
[null,null,null,{"$f":"IFERROR(INDEX(Brief!$M$15:$M$49,MATCH(C2155,Brief!#REF!,0))*1,\"\")","v":""}]
[null,null,null,{"$f":"IFERROR(INDEX(Brief!$M$15:$M$49,MATCH(C2156,Brief!#REF!,0))*1,\"\")","v":""}]
[null,null,null,{"$f":"IFERROR(INDEX(Brief!$M$15:$M$49,MATCH(C2157,Brief!#REF!,0))*1,\"\")","v":""}]
[null,null,null,{"$f":"IFERROR(INDEX(Brief!$M$15:$M$49,MATCH(C2158,Brief!#REF!,0))*1,\"\")","v":""}]
[null,null,null,{"$f":"IFERROR(INDEX(Brief!$M$15:$M$49,MATCH(C2159,Brief!#REF!,0))*1,\"\")","v":""}]
[null,null,null,{"$f":"IFERROR(INDEX(Brief!$M$15:$M$49,MATCH(C2160,Brief!#REF!,0))*1,\"\")","v":""}]
[null,null,null,{"$f":"IFERROR(INDEX(Brief!$M$15:$M$49,MATCH(C2161,Brief!#REF!,0))*1,\"\")","v":""}]
[null,null,null,{"$f":"IFERROR(INDEX(Brief!$M$15:$M$49,MATCH(C2162,Brief!#REF!,0))*1,\"\")","v":""}]
[null,null,null,{"$f":"IFERROR(INDEX(Brief!$M$15:$M$49,MATCH(C2163,Brief!#REF!,0))*1,\"\")","v":""}]
[null,null,null,{"$f":"IFERROR(INDEX(Brief!$M$15:$M$49,MATCH(C2164,Brief!#REF!,0))*1,\"\")","v":""}]
[null,null,null,{"$f":"IFERROR(INDEX(Brief!$M$15:$M$49,MATCH(C2165,Brief!#REF!,0))*1,\"\")","v":""}]
[null,null,null,{"$f":"IFERROR(INDEX(Brief!$M$15:$M$49,MATCH(C2166,Brief!#REF!,0))*1,\"\")","v":""}]
[null,null,null,{"$f":"IFERROR(INDEX(Brief!$M$15:$M$49,MATCH(C2167,Brief!#REF!,0))*1,\"\")","v":""}]
[null,null,null,{"$f":"IFERROR(INDEX(Brief!$M$15:$M$49,MATCH(C2168,Brief!#REF!,0))*1,\"\")","v":""}]
[null,null,null,{"$f":"IFERROR(INDEX(Brief!$M$15:$M$49,MATCH(C2169,Brief!#REF!,0))*1,\"\")","v":""}]
[null,null,null,{"$f":"IFERROR(INDEX(Brief!$M$15:$M$49,MATCH(C2170,Brief!#REF!,0))*1,\"\")","v":""}]
[null,null,null,{"$f":"IFERROR(INDEX(Brief!$M$15:$M$49,MATCH(C2171,Brief!#REF!,0))*1,\"\")","v":""}]
[null,null,null,{"$f":"IFERROR(INDEX(Brief!$M$15:$M$49,MATCH(C2172,Brief!#REF!,0))*1,\"\")","v":""}]
[null,null,null,{"$f":"IFERROR(INDEX(Brief!$M$15:$M$49,MATCH(C2173,Brief!#REF!,0))*1,\"\")","v":""}]
[null,null,null,{"$f":"IFERROR(INDEX(Brief!$M$15:$M$49,MATCH(C2174,Brief!#REF!,0))*1,\"\")","v":""}]
[null,null,null,{"$f":"IFERROR(INDEX(Brief!$M$15:$M$49,MATCH(C2175,Brief!#REF!,0))*1,\"\")","v":""}]
[null,null,null,{"$f":"IFERROR(INDEX(Brief!$M$15:$M$49,MATCH(C2176,Brief!#REF!,0))*1,\"\")","v":""}]
[null,null,null,{"$f":"IFERROR(INDEX(Brief!$M$15:$M$49,MATCH(C2177,Brief!#REF!,0))*1,\"\")","v":""}]
[null,null,null,{"$f":"IFERROR(INDEX(Brief!$M$15:$M$49,MATCH(C2178,Brief!#REF!,0))*1,\"\")","v":""}]
[null,null,null,{"$f":"IFERROR(INDEX(Brief!$M$15:$M$49,MATCH(C2179,Brief!#REF!,0))*1,\"\")","v":""}]
[null,null,null,{"$f":"IFERROR(INDEX(Brief!$M$15:$M$49,MATCH(C2180,Brief!#REF!,0))*1,\"\")","v":""}]
[null,null,null,{"$f":"IFERROR(INDEX(Brief!$M$15:$M$49,MATCH(C2181,Brief!#REF!,0))*1,\"\")","v":""}]
[null,null,null,{"$f":"IFERROR(INDEX(Brief!$M$15:$M$49,MATCH(C2182,Brief!#REF!,0))*1,\"\")","v":""}]
[null,null,null,{"$f":"IFERROR(INDEX(Brief!$M$15:$M$49,MATCH(C2183,Brief!#REF!,0))*1,\"\")","v":""}]
[null,null,null,{"$f":"IFERROR(INDEX(Brief!$M$15:$M$49,MATCH(C2184,Brief!#REF!,0))*1,\"\")","v":""}]
[null,null,null,{"$f":"IFERROR(INDEX(Brief!$M$15:$M$49,MATCH(C2185,Brief!#REF!,0))*1,\"\")","v":""}]
[null,null,null,{"$f":"IFERROR(INDEX(Brief!$M$15:$M$49,MATCH(C2186,Brief!#REF!,0))*1,\"\")","v":""}]
[null,null,null,{"$f":"IFERROR(INDEX(Brief!$M$15:$M$49,MATCH(C2187,Brief!#REF!,0))*1,\"\")","v":""}]
[null,null,null,{"$f":"IFERROR(INDEX(Brief!$M$15:$M$49,MATCH(C2188,Brief!#REF!,0))*1,\"\")","v":""}]
[null,null,null,{"$f":"IFERROR(INDEX(Brief!$M$15:$M$49,MATCH(C2189,Brief!#REF!,0))*1,\"\")","v":""}]
[null,null,null,{"$f":"IFERROR(INDEX(Brief!$M$15:$M$49,MATCH(C2190,Brief!#REF!,0))*1,\"\")","v":""}]
[null,null,null,{"$f":"IFERROR(INDEX(Brief!$M$15:$M$49,MATCH(C2191,Brief!#REF!,0))*1,\"\")","v":""}]
[null,null,null,{"$f":"IFERROR(INDEX(Brief!$M$15:$M$49,MATCH(C2192,Brief!#REF!,0))*1,\"\")","v":""}]
[null,null,null,{"$f":"IFERROR(INDEX(Brief!$M$15:$M$49,MATCH(C2193,Brief!#REF!,0))*1,\"\")","v":""}]
[null,null,null,{"$f":"IFERROR(INDEX(Brief!$M$15:$M$49,MATCH(C2194,Brief!#REF!,0))*1,\"\")","v":""}]
[null,null,null,{"$f":"IFERROR(INDEX(Brief!$M$15:$M$49,MATCH(C2195,Brief!#REF!,0))*1,\"\")","v":""}]
[null,null,null,{"$f":"IFERROR(INDEX(Brief!$M$15:$M$49,MATCH(C2196,Brief!#REF!,0))*1,\"\")","v":""}]
[null,null,null,{"$f":"IFERROR(INDEX(Brief!$M$15:$M$49,MATCH(C2197,Brief!#REF!,0))*1,\"\")","v":""}]
[null,null,null,{"$f":"IFERROR(INDEX(Brief!$M$15:$M$49,MATCH(C2198,Brief!#REF!,0))*1,\"\")","v":""}]
[null,null,null,{"$f":"IFERROR(INDEX(Brief!$M$15:$M$49,MATCH(C2199,Brief!#REF!,0))*1,\"\")","v":""}]
[null,null,null,{"$f":"IFERROR(INDEX(Brief!$M$15:$M$49,MATCH(C2200,Brief!#REF!,0))*1,\"\")","v":""}]
[null,null,null,{"$f":"IFERROR(INDEX(Brief!$M$15:$M$49,MATCH(C2201,Brief!#REF!,0))*1,\"\")","v":""}]
[null,null,null,{"$f":"IFERROR(INDEX(Brief!$M$15:$M$49,MATCH(C2202,Brief!#REF!,0))*1,\"\")","v":""}]
[null,null,null,{"$f":"IFERROR(INDEX(Brief!$M$15:$M$49,MATCH(C2203,Brief!#REF!,0))*1,\"\")","v":""}]
[null,null,null,{"$f":"IFERROR(INDEX(Brief!$M$15:$M$49,MATCH(C2204,Brief!#REF!,0))*1,\"\")","v":""}]
[null,null,null,{"$f":"IFERROR(INDEX(Brief!$M$15:$M$49,MATCH(C2205,Brief!#REF!,0))*1,\"\")","v":""}]
[null,null,null,{"$f":"IFERROR(INDEX(Brief!$M$15:$M$49,MATCH(C2206,Brief!#REF!,0))*1,\"\")","v":""}]
[null,null,null,{"$f":"IFERROR(INDEX(Brief!$M$15:$M$49,MATCH(C2207,Brief!#REF!,0))*1,\"\")","v":""}]
[null,null,null,{"$f":"IFERROR(INDEX(Brief!$M$15:$M$49,MATCH(C2208,Brief!#REF!,0))*1,\"\")","v":""}]
[null,null,null,{"$f":"IFERROR(INDEX(Brief!$M$15:$M$49,MATCH(C2209,Brief!#REF!,0))*1,\"\")","v":""}]
[null,null,null,{"$f":"IFERROR(INDEX(Brief!$M$15:$M$49,MATCH(C2210,Brief!#REF!,0))*1,\"\")","v":""}]
[null,null,null,{"$f":"IFERROR(INDEX(Brief!$M$15:$M$49,MATCH(C2211,Brief!#REF!,0))*1,\"\")","v":""}]
[null,null,null,{"$f":"IFERROR(INDEX(Brief!$M$15:$M$49,MATCH(C2212,Brief!#REF!,0))*1,\"\")","v":""}]
[null,null,null,{"$f":"IFERROR(INDEX(Brief!$M$15:$M$49,MATCH(C2213,Brief!#REF!,0))*1,\"\")","v":""}]
[null,null,null,{"$f":"IFERROR(INDEX(Brief!$M$15:$M$49,MATCH(C2214,Brief!#REF!,0))*1,\"\")","v":""}]
[null,null,null,{"$f":"IFERROR(INDEX(Brief!$M$15:$M$49,MATCH(C2215,Brief!#REF!,0))*1,\"\")","v":""}]
[null,null,null,{"$f":"IFERROR(INDEX(Brief!$M$15:$M$49,MATCH(C2216,Brief!#REF!,0))*1,\"\")","v":""}]
[null,null,null,{"$f":"IFERROR(INDEX(Brief!$M$15:$M$49,MATCH(C2217,Brief!#REF!,0))*1,\"\")","v":""}]
[null,null,null,{"$f":"IFERROR(INDEX(Brief!$M$15:$M$49,MATCH(C2218,Brief!#REF!,0))*1,\"\")","v":""}]
[null,null,null,{"$f":"IFERROR(INDEX(Brief!$M$15:$M$49,MATCH(C2219,Brief!#REF!,0))*1,\"\")","v":""}]
[null,null,null,{"$f":"IFERROR(INDEX(Brief!$M$15:$M$49,MATCH(C2220,Brief!#REF!,0))*1,\"\")","v":""}]
[null,null,null,{"$f":"IFERROR(INDEX(Brief!$M$15:$M$49,MATCH(C2221,Brief!#REF!,0))*1,\"\")","v":""}]
[null,null,null,{"$f":"IFERROR(INDEX(Brief!$M$15:$M$49,MATCH(C2222,Brief!#REF!,0))*1,\"\")","v":""}]
[null,null,null,{"$f":"IFERROR(INDEX(Brief!$M$15:$M$49,MATCH(C2223,Brief!#REF!,0))*1,\"\")","v":""}]
[null,null,null,{"$f":"IFERROR(INDEX(Brief!$M$15:$M$49,MATCH(C2224,Brief!#REF!,0))*1,\"\")","v":""}]
[null,null,null,{"$f":"IFERROR(INDEX(Brief!$M$15:$M$49,MATCH(C2225,Brief!#REF!,0))*1,\"\")","v":""}]
[null,null,null,{"$f":"IFERROR(INDEX(Brief!$M$15:$M$49,MATCH(C2226,Brief!#REF!,0))*1,\"\")","v":""}]
[null,null,null,{"$f":"IFERROR(INDEX(Brief!$M$15:$M$49,MATCH(C2227,Brief!#REF!,0))*1,\"\")","v":""}]
[null,null,null,{"$f":"IFERROR(INDEX(Brief!$M$15:$M$49,MATCH(C2228,Brief!#REF!,0))*1,\"\")","v":""}]
[null,null,null,{"$f":"IFERROR(INDEX(Brief!$M$15:$M$49,MATCH(C2229,Brief!#REF!,0))*1,\"\")","v":""}]
[null,null,null,{"$f":"IFERROR(INDEX(Brief!$M$15:$M$49,MATCH(C2230,Brief!#REF!,0))*1,\"\")","v":""}]
[null,null,null,{"$f":"IFERROR(INDEX(Brief!$M$15:$M$49,MATCH(C2231,Brief!#REF!,0))*1,\"\")","v":""}]
[null,null,null,{"$f":"IFERROR(INDEX(Brief!$M$15:$M$49,MATCH(C2232,Brief!#REF!,0))*1,\"\")","v":""}]
[null,null,null,{"$f":"IFERROR(INDEX(Brief!$M$15:$M$49,MATCH(C2233,Brief!#REF!,0))*1,\"\")","v":""}]
[null,null,null,{"$f":"IFERROR(INDEX(Brief!$M$15:$M$49,MATCH(C2234,Brief!#REF!,0))*1,\"\")","v":""}]
[null,null,null,{"$f":"IFERROR(INDEX(Brief!$M$15:$M$49,MATCH(C2235,Brief!#REF!,0))*1,\"\")","v":""}]
[null,null,null,{"$f":"IFERROR(INDEX(Brief!$M$15:$M$49,MATCH(C2236,Brief!#REF!,0))*1,\"\")","v":""}]
[null,null,null,{"$f":"IFERROR(INDEX(Brief!$M$15:$M$49,MATCH(C2237,Brief!#REF!,0))*1,\"\")","v":""}]
[null,null,null,{"$f":"IFERROR(INDEX(Brief!$M$15:$M$49,MATCH(C2238,Brief!#REF!,0))*1,\"\")","v":""}]
[null,null,null,{"$f":"IFERROR(INDEX(Brief!$M$15:$M$49,MATCH(C2239,Brief!#REF!,0))*1,\"\")","v":""}]
[null,null,null,{"$f":"IFERROR(INDEX(Brief!$M$15:$M$49,MATCH(C2240,Brief!#REF!,0))*1,\"\")","v":""}]
[null,null,null,{"$f":"IFERROR(INDEX(Brief!$M$15:$M$49,MATCH(C2241,Brief!#REF!,0))*1,\"\")","v":""}]
[null,null,null,{"$f":"IFERROR(INDEX(Brief!$M$15:$M$49,MATCH(C2242,Brief!#REF!,0))*1,\"\")","v":""}]
[null,null,null,{"$f":"IFERROR(INDEX(Brief!$M$15:$M$49,MATCH(C2243,Brief!#REF!,0))*1,\"\")","v":""}]
[null,null,null,{"$f":"IFERROR(INDEX(Brief!$M$15:$M$49,MATCH(C2244,Brief!#REF!,0))*1,\"\")","v":""}]
[null,null,null,{"$f":"IFERROR(INDEX(Brief!$M$15:$M$49,MATCH(C2245,Brief!#REF!,0))*1,\"\")","v":""}]
[null,null,null,{"$f":"IFERROR(INDEX(Brief!$M$15:$M$49,MATCH(C2246,Brief!#REF!,0))*1,\"\")","v":""}]
[null,null,null,{"$f":"IFERROR(INDEX(Brief!$M$15:$M$49,MATCH(C2247,Brief!#REF!,0))*1,\"\")","v":""}]
[null,null,null,{"$f":"IFERROR(INDEX(Brief!$M$15:$M$49,MATCH(C2248,Brief!#REF!,0))*1,\"\")","v":""}]
[null,null,null,{"$f":"IFERROR(INDEX(Brief!$M$15:$M$49,MATCH(C2249,Brief!#REF!,0))*1,\"\")","v":""}]
[null,null,null,{"$f":"IFERROR(INDEX(Brief!$M$15:$M$49,MATCH(C2250,Brief!#REF!,0))*1,\"\")","v":""}]
[null,null,null,{"$f":"IFERROR(INDEX(Brief!$M$15:$M$49,MATCH(C2251,Brief!#REF!,0))*1,\"\")","v":""}]
[null,null,null,{"$f":"IFERROR(INDEX(Brief!$M$15:$M$49,MATCH(C2252,Brief!#REF!,0))*1,\"\")","v":""}]
[null,null,null,{"$f":"IFERROR(INDEX(Brief!$M$15:$M$49,MATCH(C2253,Brief!#REF!,0))*1,\"\")","v":""}]
[null,null,null,{"$f":"IFERROR(INDEX(Brief!$M$15:$M$49,MATCH(C2254,Brief!#REF!,0))*1,\"\")","v":""}]
[null,null,null,{"$f":"IFERROR(INDEX(Brief!$M$15:$M$49,MATCH(C2255,Brief!#REF!,0))*1,\"\")","v":""}]
[null,null,null,{"$f":"IFERROR(INDEX(Brief!$M$15:$M$49,MATCH(C2256,Brief!#REF!,0))*1,\"\")","v":""}]
[null,null,null,{"$f":"IFERROR(INDEX(Brief!$M$15:$M$49,MATCH(C2257,Brief!#REF!,0))*1,\"\")","v":""}]
[null,null,null,{"$f":"IFERROR(INDEX(Brief!$M$15:$M$49,MATCH(C2258,Brief!#REF!,0))*1,\"\")","v":""}]
[null,null,null,{"$f":"IFERROR(INDEX(Brief!$M$15:$M$49,MATCH(C2259,Brief!#REF!,0))*1,\"\")","v":""}]
[null,null,null,{"$f":"IFERROR(INDEX(Brief!$M$15:$M$49,MATCH(C2260,Brief!#REF!,0))*1,\"\")","v":""}]
[null,null,null,{"$f":"IFERROR(INDEX(Brief!$M$15:$M$49,MATCH(C2261,Brief!#REF!,0))*1,\"\")","v":""}]
[null,null,null,{"$f":"IFERROR(INDEX(Brief!$M$15:$M$49,MATCH(C2262,Brief!#REF!,0))*1,\"\")","v":""}]
[null,null,null,{"$f":"IFERROR(INDEX(Brief!$M$15:$M$49,MATCH(C2263,Brief!#REF!,0))*1,\"\")","v":""}]
[null,null,null,{"$f":"IFERROR(INDEX(Brief!$M$15:$M$49,MATCH(C2264,Brief!#REF!,0))*1,\"\")","v":""}]
[null,null,null,{"$f":"IFERROR(INDEX(Brief!$M$15:$M$49,MATCH(C2265,Brief!#REF!,0))*1,\"\")","v":""}]
[null,null,null,{"$f":"IFERROR(INDEX(Brief!$M$15:$M$49,MATCH(C2266,Brief!#REF!,0))*1,\"\")","v":""}]
[null,null,null,{"$f":"IFERROR(INDEX(Brief!$M$15:$M$49,MATCH(C2267,Brief!#REF!,0))*1,\"\")","v":""}]
[null,null,null,{"$f":"IFERROR(INDEX(Brief!$M$15:$M$49,MATCH(C2268,Brief!#REF!,0))*1,\"\")","v":""}]
[null,null,null,{"$f":"IFERROR(INDEX(Brief!$M$15:$M$49,MATCH(C2269,Brief!#REF!,0))*1,\"\")","v":""}]
[null,null,null,{"$f":"IFERROR(INDEX(Brief!$M$15:$M$49,MATCH(C2270,Brief!#REF!,0))*1,\"\")","v":""}]
[null,null,null,{"$f":"IFERROR(INDEX(Brief!$M$15:$M$49,MATCH(C2271,Brief!#REF!,0))*1,\"\")","v":""}]
[null,null,null,{"$f":"IFERROR(INDEX(Brief!$M$15:$M$49,MATCH(C2272,Brief!#REF!,0))*1,\"\")","v":""}]
[null,null,null,{"$f":"IFERROR(INDEX(Brief!$M$15:$M$49,MATCH(C2273,Brief!#REF!,0))*1,\"\")","v":""}]
[null,null,null,{"$f":"IFERROR(INDEX(Brief!$M$15:$M$49,MATCH(C2274,Brief!#REF!,0))*1,\"\")","v":""}]
[null,null,null,{"$f":"IFERROR(INDEX(Brief!$M$15:$M$49,MATCH(C2275,Brief!#REF!,0))*1,\"\")","v":""}]
[null,null,null,{"$f":"IFERROR(INDEX(Brief!$M$15:$M$49,MATCH(C2276,Brief!#REF!,0))*1,\"\")","v":""}]
[null,null,null,{"$f":"IFERROR(INDEX(Brief!$M$15:$M$49,MATCH(C2277,Brief!#REF!,0))*1,\"\")","v":""}]
[null,null,null,{"$f":"IFERROR(INDEX(Brief!$M$15:$M$49,MATCH(C2278,Brief!#REF!,0))*1,\"\")","v":""}]
[null,null,null,{"$f":"IFERROR(INDEX(Brief!$M$15:$M$49,MATCH(C2279,Brief!#REF!,0))*1,\"\")","v":""}]
[null,null,null,{"$f":"IFERROR(INDEX(Brief!$M$15:$M$49,MATCH(C2280,Brief!#REF!,0))*1,\"\")","v":""}]
[null,null,null,{"$f":"IFERROR(INDEX(Brief!$M$15:$M$49,MATCH(C2281,Brief!#REF!,0))*1,\"\")","v":""}]
[null,null,null,{"$f":"IFERROR(INDEX(Brief!$M$15:$M$49,MATCH(C2282,Brief!#REF!,0))*1,\"\")","v":""}]
[null,null,null,{"$f":"IFERROR(INDEX(Brief!$M$15:$M$49,MATCH(C2283,Brief!#REF!,0))*1,\"\")","v":""}]
[null,null,null,{"$f":"IFERROR(INDEX(Brief!$M$15:$M$49,MATCH(C2284,Brief!#REF!,0))*1,\"\")","v":""}]
[null,null,null,{"$f":"IFERROR(INDEX(Brief!$M$15:$M$49,MATCH(C2285,Brief!#REF!,0))*1,\"\")","v":""}]
[null,null,null,{"$f":"IFERROR(INDEX(Brief!$M$15:$M$49,MATCH(C2286,Brief!#REF!,0))*1,\"\")","v":""}]
[null,null,null,{"$f":"IFERROR(INDEX(Brief!$M$15:$M$49,MATCH(C2287,Brief!#REF!,0))*1,\"\")","v":""}]
[null,null,null,{"$f":"IFERROR(INDEX(Brief!$M$15:$M$49,MATCH(C2288,Brief!#REF!,0))*1,\"\")","v":""}]
[null,null,null,{"$f":"IFERROR(INDEX(Brief!$M$15:$M$49,MATCH(C2289,Brief!#REF!,0))*1,\"\")","v":""}]
[null,null,null,{"$f":"IFERROR(INDEX(Brief!$M$15:$M$49,MATCH(C2290,Brief!#REF!,0))*1,\"\")","v":""}]
[null,null,null,{"$f":"IFERROR(INDEX(Brief!$M$15:$M$49,MATCH(C2291,Brief!#REF!,0))*1,\"\")","v":""}]
[null,null,null,{"$f":"IFERROR(INDEX(Brief!$M$15:$M$49,MATCH(C2292,Brief!#REF!,0))*1,\"\")","v":""}]
[null,null,null,{"$f":"IFERROR(INDEX(Brief!$M$15:$M$49,MATCH(C2293,Brief!#REF!,0))*1,\"\")","v":""}]
[null,null,null,{"$f":"IFERROR(INDEX(Brief!$M$15:$M$49,MATCH(C2294,Brief!#REF!,0))*1,\"\")","v":""}]
[null,null,null,{"$f":"IFERROR(INDEX(Brief!$M$15:$M$49,MATCH(C2295,Brief!#REF!,0))*1,\"\")","v":""}]
[null,null,null,{"$f":"IFERROR(INDEX(Brief!$M$15:$M$49,MATCH(C2296,Brief!#REF!,0))*1,\"\")","v":""}]
[null,null,null,{"$f":"IFERROR(INDEX(Brief!$M$15:$M$49,MATCH(C2297,Brief!#REF!,0))*1,\"\")","v":""}]
[null,null,null,{"$f":"IFERROR(INDEX(Brief!$M$15:$M$49,MATCH(C2298,Brief!#REF!,0))*1,\"\")","v":""}]
[null,null,null,{"$f":"IFERROR(INDEX(Brief!$M$15:$M$49,MATCH(C2299,Brief!#REF!,0))*1,\"\")","v":""}]
[null,null,null,{"$f":"IFERROR(INDEX(Brief!$M$15:$M$49,MATCH(C2300,Brief!#REF!,0))*1,\"\")","v":""}]
[null,null,null,{"$f":"IFERROR(INDEX(Brief!$M$15:$M$49,MATCH(C2301,Brief!#REF!,0))*1,\"\")","v":""}]
[null,null,null,{"$f":"IFERROR(INDEX(Brief!$M$15:$M$49,MATCH(C2302,Brief!#REF!,0))*1,\"\")","v":""}]
[null,null,null,{"$f":"IFERROR(INDEX(Brief!$M$15:$M$49,MATCH(C2303,Brief!#REF!,0))*1,\"\")","v":""}]
[null,null,null,{"$f":"IFERROR(INDEX(Brief!$M$15:$M$49,MATCH(C2304,Brief!#REF!,0))*1,\"\")","v":""}]
[null,null,null,{"$f":"IFERROR(INDEX(Brief!$M$15:$M$49,MATCH(C2305,Brief!#REF!,0))*1,\"\")","v":""}]
[null,null,null,{"$f":"IFERROR(INDEX(Brief!$M$15:$M$49,MATCH(C2306,Brief!#REF!,0))*1,\"\")","v":""}]
[null,null,null,{"$f":"IFERROR(INDEX(Brief!$M$15:$M$49,MATCH(C2307,Brief!#REF!,0))*1,\"\")","v":""}]
[null,null,null,{"$f":"IFERROR(INDEX(Brief!$M$15:$M$49,MATCH(C2308,Brief!#REF!,0))*1,\"\")","v":""}]
[null,null,null,{"$f":"IFERROR(INDEX(Brief!$M$15:$M$49,MATCH(C2309,Brief!#REF!,0))*1,\"\")","v":""}]
[null,null,null,{"$f":"IFERROR(INDEX(Brief!$M$15:$M$49,MATCH(C2310,Brief!#REF!,0))*1,\"\")","v":""}]
[null,null,null,{"$f":"IFERROR(INDEX(Brief!$M$15:$M$49,MATCH(C2311,Brief!#REF!,0))*1,\"\")","v":""}]
[null,null,null,{"$f":"IFERROR(INDEX(Brief!$M$15:$M$49,MATCH(C2312,Brief!#REF!,0))*1,\"\")","v":""}]
[null,null,null,{"$f":"IFERROR(INDEX(Brief!$M$15:$M$49,MATCH(C2313,Brief!#REF!,0))*1,\"\")","v":""}]
[null,null,null,{"$f":"IFERROR(INDEX(Brief!$M$15:$M$49,MATCH(C2314,Brief!#REF!,0))*1,\"\")","v":""}]
[null,null,null,{"$f":"IFERROR(INDEX(Brief!$M$15:$M$49,MATCH(C2315,Brief!#REF!,0))*1,\"\")","v":""}]
[null,null,null,{"$f":"IFERROR(INDEX(Brief!$M$15:$M$49,MATCH(C2316,Brief!#REF!,0))*1,\"\")","v":""}]
[null,null,null,{"$f":"IFERROR(INDEX(Brief!$M$15:$M$49,MATCH(C2317,Brief!#REF!,0))*1,\"\")","v":""}]
[null,null,null,{"$f":"IFERROR(INDEX(Brief!$M$15:$M$49,MATCH(C2318,Brief!#REF!,0))*1,\"\")","v":""}]
[null,null,null,{"$f":"IFERROR(INDEX(Brief!$M$15:$M$49,MATCH(C2319,Brief!#REF!,0))*1,\"\")","v":""}]
[null,null,null,{"$f":"IFERROR(INDEX(Brief!$M$15:$M$49,MATCH(C2320,Brief!#REF!,0))*1,\"\")","v":""}]
[null,null,null,{"$f":"IFERROR(INDEX(Brief!$M$15:$M$49,MATCH(C2321,Brief!#REF!,0))*1,\"\")","v":""}]
[null,null,null,{"$f":"IFERROR(INDEX(Brief!$M$15:$M$49,MATCH(C2322,Brief!#REF!,0))*1,\"\")","v":""}]
[null,null,null,{"$f":"IFERROR(INDEX(Brief!$M$15:$M$49,MATCH(C2323,Brief!#REF!,0))*1,\"\")","v":""}]
[null,null,null,{"$f":"IFERROR(INDEX(Brief!$M$15:$M$49,MATCH(C2324,Brief!#REF!,0))*1,\"\")","v":""}]
[null,null,null,{"$f":"IFERROR(INDEX(Brief!$M$15:$M$49,MATCH(C2325,Brief!#REF!,0))*1,\"\")","v":""}]
[null,null,null,{"$f":"IFERROR(INDEX(Brief!$M$15:$M$49,MATCH(C2326,Brief!#REF!,0))*1,\"\")","v":""}]
[null,null,null,{"$f":"IFERROR(INDEX(Brief!$M$15:$M$49,MATCH(C2327,Brief!#REF!,0))*1,\"\")","v":""}]
[null,null,null,{"$f":"IFERROR(INDEX(Brief!$M$15:$M$49,MATCH(C2328,Brief!#REF!,0))*1,\"\")","v":""}]
[null,null,null,{"$f":"IFERROR(INDEX(Brief!$M$15:$M$49,MATCH(C2329,Brief!#REF!,0))*1,\"\")","v":""}]
[null,null,null,{"$f":"IFERROR(INDEX(Brief!$M$15:$M$49,MATCH(C2330,Brief!#REF!,0))*1,\"\")","v":""}]
[null,null,null,{"$f":"IFERROR(INDEX(Brief!$M$15:$M$49,MATCH(C2331,Brief!#REF!,0))*1,\"\")","v":""}]
[null,null,null,{"$f":"IFERROR(INDEX(Brief!$M$15:$M$49,MATCH(C2332,Brief!#REF!,0))*1,\"\")","v":""}]
[null,null,null,{"$f":"IFERROR(INDEX(Brief!$M$15:$M$49,MATCH(C2333,Brief!#REF!,0))*1,\"\")","v":""}]
[null,null,null,{"$f":"IFERROR(INDEX(Brief!$M$15:$M$49,MATCH(C2334,Brief!#REF!,0))*1,\"\")","v":""}]
[null,null,null,{"$f":"IFERROR(INDEX(Brief!$M$15:$M$49,MATCH(C2335,Brief!#REF!,0))*1,\"\")","v":""}]
[null,null,null,{"$f":"IFERROR(INDEX(Brief!$M$15:$M$49,MATCH(C2336,Brief!#REF!,0))*1,\"\")","v":""}]
[null,null,null,{"$f":"IFERROR(INDEX(Brief!$M$15:$M$49,MATCH(C2337,Brief!#REF!,0))*1,\"\")","v":""}]
[null,null,null,{"$f":"IFERROR(INDEX(Brief!$M$15:$M$49,MATCH(C2338,Brief!#REF!,0))*1,\"\")","v":""}]

{"sheet":"Kalendarz","index":8,"n_rows":324,"n_cols":3,"rows_kept":324,"cut":false,"hidden":true,"merged":[]}
["2006-01-01","Nowy Rok","N"]
["2006-04-16","Wielkanoc","N"]
["2006-04-17","Poniedziałek Wielkanocny","Pn"]
["2006-05-01","Święto Pracy","Pn"]
["2006-05-02","Dzień Flagi Rzeczypospolitej Polskiej","Wt"]
["2006-05-03","Święto Narodowe Trzeciego Maja","Śr"]
["2006-06-15","Boże Ciało","Cz"]
["2006-08-15","Wniebowzięcie N.M. Panny","Wt"]
["2006-11-01","Wszystkich Świętych","Śr"]
["2006-11-11","Narodowe Święto Niepodległości","So"]
["2006-12-25","pierwszy dzień Świąt Bożego Narodzenia","Pn"]
["2006-12-26","drugi dzień Świąt Bożego Narodzenia","Wt"]
["2007-01-01","Nowy Rok","Pn"]
["2007-04-08","Wielkanoc","N"]
["2007-04-09","Poniedziałek Wielkanocny","Pn"]
["2007-05-01","Święto Pracy","Wt"]
["2007-05-02","Dzień Flagi Rzeczypospolitej Polskiej","Śr"]
["2007-05-03","Święto Narodowe Trzeciego Maja","Cz"]
["2007-06-07","Boże Ciało","Cz"]
["2007-08-15","Wniebowzięcie N.M. Panny","Śr"]
["2007-11-01","Wszystkich Świętych","Cz"]
["2007-11-11","Narodowe Święto Niepodległości","N"]
["2007-12-25","pierwszy dzień Świąt Bożego Narodzenia","Wt"]
["2007-12-26","drugi dzień Świąt Bożego Narodzenia","Śr"]
["2008-01-01","Nowy Rok","Wt"]
["2008-03-23","Wielkanoc","N"]
["2008-03-24","Poniedziałek Wielkanocny","Pn"]
["2008-05-01","Święto Pracy","Cz"]
["2008-05-02","Dzień Flagi Rzeczypospolitej Polskiej","Pt"]
["2008-05-03","Święto Narodowe Trzeciego Maja","So"]
["2008-05-22","Boże Ciało","Cz"]
["2008-08-15","Wniebowzięcie N.M. Panny","Pt"]
["2008-11-01","Wszystkich Świętych","So"]
["2008-11-11","Narodowe Święto Niepodległości","Wt"]
["2008-12-25","pierwszy dzień Świąt Bożego Narodzenia","Cz"]
["2008-12-26","drugi dzień Świąt Bożego Narodzenia","Pt"]
["2009-01-01","Nowy Rok","Cz"]
["2009-01-01","Nowy Rok","Cz"]
["2009-04-12","Wielkanoc","N"]
["2009-04-12","Wielkanoc","N"]
["2009-04-13","Poniedziałek Wielkanocny","Pn"]
["2009-04-13","Poniedziałek Wielkanocny","Pn"]
["2009-05-01","Święto Pracy","Pt"]
["2009-05-01","Święto Pracy","Pt"]
["2009-05-02","Dzień Flagi Rzeczypospolitej Polskiej","So"]
["2009-05-02","Dzień Flagi Rzeczypospolitej Polskiej","So"]
["2009-05-03","Święto Narodowe Trzeciego Maja","N"]
["2009-05-03","Święto Narodowe Trzeciego Maja","N"]
["2009-06-11","Boże Ciało","Cz"]
["2009-06-11","Boże Ciało","Cz"]
["2009-08-15","Wniebowzięcie N.M. Panny","So"]
["2009-08-15","Wniebowzięcie N.M. Panny","So"]
["2009-11-01","Wszystkich Świętych","N"]
["2009-11-01","Wszystkich Świętych","N"]
["2009-11-11","Narodowe Święto Niepodległości","Śr"]
["2009-11-11","Narodowe Święto Niepodległości","Śr"]
["2009-12-25","pierwszy dzień Świąt Bożego Narodzenia","Pt"]
["2009-12-25","pierwszy dzień Świąt Bożego Narodzenia","Pt"]
["2009-12-26","drugi dzień Świąt Bożego Narodzenia","So"]
["2009-12-26","drugi dzień Świąt Bożego Narodzenia","So"]
["2010-01-01","Nowy Rok","Pt"]
["2010-01-01","Nowy Rok","Pt"]
["2010-04-04","Wielkanoc","N"]
["2010-04-04","Wielkanoc","N"]
["2010-04-05","Poniedziałek Wielkanocny","Pn"]
["2010-04-05","Poniedziałek Wielkanocny","Pn"]
["2010-05-01","Święto Pracy","So"]
["2010-05-01","Święto Pracy","So"]
["2010-05-02","Dzień Flagi Rzeczypospolitej Polskiej","N"]
["2010-05-02","Dzień Flagi Rzeczypospolitej Polskiej","N"]
["2010-05-03","Święto Narodowe Trzeciego Maja","Pn"]
["2010-05-03","Święto Narodowe Trzeciego Maja","Pn"]
["2010-06-03","Boże Ciało","Cz"]
["2010-06-03","Boże Ciało","Cz"]
["2010-08-15","Wniebowzięcie N.M. Panny","N"]
["2010-08-15","Wniebowzięcie N.M. Panny","N"]
["2010-11-01","Wszystkich Świętych","Pn"]
["2010-11-01","Wszystkich Świętych","Pn"]
["2010-11-11","Narodowe Święto Niepodległości","Cz"]
["2010-11-11","Narodowe Święto Niepodległości","Cz"]
["2010-12-25","pierwszy dzień Świąt Bożego Narodzenia","So"]
["2010-12-25","pierwszy dzień Świąt Bożego Narodzenia","So"]
["2010-12-26","drugi dzień Świąt Bożego Narodzenia","N"]
["2010-12-26","drugi dzień Świąt Bożego Narodzenia","N"]
["2011-01-01","Nowy Rok","So"]
["2011-01-01","Nowy Rok","So"]
["2011-04-24","Wielkanoc","N"]
["2011-04-24","Wielkanoc","N"]
["2011-04-25","Poniedziałek Wielkanocny","Pn"]
["2011-04-25","Poniedziałek Wielkanocny","Pn"]
["2011-05-01","Święto Pracy","N"]
["2011-05-01","Święto Pracy","N"]
["2011-05-02","Dzień Flagi Rzeczypospolitej Polskiej","Pn"]
["2011-05-02","Dzień Flagi Rzeczypospolitej Polskiej","Pn"]
["2011-05-03","Święto Narodowe Trzeciego Maja","Wt"]
["2011-05-03","Święto Narodowe Trzeciego Maja","Wt"]
["2011-06-23","Boże Ciało","Cz"]
["2011-06-23","Boże Ciało","Cz"]
["2011-08-15","Wniebowzięcie N.M. Panny","Pn"]
["2011-08-15","Wniebowzięcie N.M. Panny","Pn"]
["2011-11-01","Wszystkich Świętych","Wt"]
["2011-11-01","Wszystkich Świętych","Wt"]
["2011-11-11","Narodowe Święto Niepodległości","Pt"]
["2011-11-11","Narodowe Święto Niepodległości","Pt"]
["2011-12-25","pierwszy dzień Świąt Bożego Narodzenia","N"]
["2011-12-25","pierwszy dzień Świąt Bożego Narodzenia","N"]
["2011-12-26","drugi dzień Świąt Bożego Narodzenia","Pn"]
["2011-12-26","drugi dzień Świąt Bożego Narodzenia","Pn"]
["2012-01-01","Nowy Rok","N"]
["2012-01-01","Nowy Rok","N"]
["2012-04-08","Wielkanoc","N"]
["2012-04-08","Wielkanoc","N"]
["2012-04-09","Poniedziałek Wielkanocny","Pn"]
["2012-04-09","Poniedziałek Wielkanocny","Pn"]
["2012-05-01","Święto Pracy","Wt"]
["2012-05-01","Święto Pracy","Wt"]
["2012-05-02","Dzień Flagi Rzeczypospolitej Polskiej","Śr"]
["2012-05-02","Dzień Flagi Rzeczypospolitej Polskiej","Śr"]
["2012-05-03","Święto Narodowe Trzeciego Maja","Cz"]
["2012-05-03","Święto Narodowe Trzeciego Maja","Cz"]
["2012-06-07","Boże Ciało","Cz"]
["2012-06-07","Boże Ciało","Cz"]
["2012-08-15","Wniebowzięcie N.M. Panny","Śr"]
["2012-08-15","Wniebowzięcie N.M. Panny","Śr"]
["2012-11-01","Wszystkich Świętych","Cz"]
["2012-11-01","Wszystkich Świętych","Cz"]
["2012-11-11","Narodowe Święto Niepodległości","N"]
["2012-11-11","Narodowe Święto Niepodległości","N"]
["2012-12-25","pierwszy dzień Świąt Bożego Narodzenia","Wt"]
["2012-12-25","pierwszy dzień Świąt Bożego Narodzenia","Wt"]
["2012-12-26","drugi dzień Świąt Bożego Narodzenia","Śr"]
["2012-12-26","drugi dzień Świąt Bożego Narodzenia","Śr"]
["2013-01-01","Nowy Rok","Wt"]
["2013-03-31","Wielkanoc","N"]
["2013-04-01","Poniedziałek Wielkanocny","Pn"]
["2013-05-01","Święto Pracy","Śr"]
["2013-05-02","Dzień Flagi Rzeczypospolitej Polskiej","Cz"]
["2013-05-03","Święto Narodowe Trzeciego Maja","Pt"]
["2013-05-30","Boże Ciało","Cz"]
["2013-08-15","Wniebowzięcie N.M. Panny","Cz"]
["2013-11-01","Wszystkich Świętych","Pt"]
["2013-11-11","Narodowe Święto Niepodległości","Pn"]
["2013-12-25","pierwszy dzień Świąt Bożego Narodzenia","Śr"]
["2013-12-26","drugi dzień Świąt Bożego Narodzenia","Cz"]
["2014-01-01","Nowy Rok","Śr"]
["2014-04-20","Wielkanoc","N"]
["2014-04-21","Poniedziałek Wielkanocny","Pn"]
["2014-05-01","Święto Pracy","Cz"]
["2014-05-02","Dzień Flagi Rzeczypospolitej Polskiej","Pt"]
["2014-05-03","Święto Narodowe Trzeciego Maja","So"]
["2014-06-19","Boże Ciało","Cz"]
["2014-08-15","Wniebowzięcie N.M. Panny","Pt"]
["2014-11-01","Wszystkich Świętych","So"]
["2014-11-11","Narodowe Święto Niepodległości","Wt"]
["2014-12-25","pierwszy dzień Świąt Bożego Narodzenia","Cz"]
["2014-12-26","drugi dzień Świąt Bożego Narodzenia","Pt"]
["2015-01-01","Nowy Rok","Cz"]
["2015-04-05","Wielkanoc","N"]
["2015-04-06","Poniedziałek Wielkanocny","Pn"]
["2015-05-01","Święto Pracy","Pt"]
["2015-05-02","Dzień Flagi Rzeczypospolitej Polskiej","So"]
["2015-05-03","Święto Narodowe Trzeciego Maja","N"]
["2015-06-04","Boże Ciało","Cz"]
["2015-08-15","Wniebowzięcie N.M. Panny","So"]
["2015-11-01","Wszystkich Świętych","N"]
["2015-11-11","Narodowe Święto Niepodległości","Śr"]
["2015-12-25","pierwszy dzień Świąt Bożego Narodzenia","Pt"]
["2015-12-26","drugi dzień Świąt Bożego Narodzenia","So"]
["2016-01-01","Nowy Rok","Pt"]
["2016-03-27","Wielkanoc","N"]
["2016-03-28","Poniedziałek Wielkanocny","Pn"]
["2016-05-01","Święto Pracy","N"]
["2016-05-02","Dzień Flagi Rzeczypospolitej Polskiej","Pn"]
["2016-05-03","Święto Narodowe Trzeciego Maja","Wt"]
["2016-05-26","Boże Ciało","Cz"]
["2016-08-15","Wniebowzięcie N.M. Panny","Pn"]
["2016-11-01","Wszystkich Świętych","Wt"]
["2016-11-11","Narodowe Święto Niepodległości","Pt"]
["2016-12-25","pierwszy dzień Świąt Bożego Narodzenia","N"]
["2016-12-26","drugi dzień Świąt Bożego Narodzenia","Pn"]
["2017-01-01","Nowy Rok","N"]
["2017-04-16","Wielkanoc","N"]
["2017-04-17","Poniedziałek Wielkanocny","Pn"]
["2017-05-01","Święto Pracy","Pn"]
["2017-05-02","Dzień Flagi Rzeczypospolitej Polskiej","Wt"]
["2017-05-03","Święto Narodowe Trzeciego Maja","Śr"]
["2017-06-15","Boże Ciało","Cz"]
["2017-08-15","Wniebowzięcie N.M. Panny","Wt"]
["2017-11-01","Wszystkich Świętych","Śr"]
["2017-11-11","Narodowe Święto Niepodległości","So"]
["2017-12-25","pierwszy dzień Świąt Bożego Narodzenia","Pn"]
["2017-12-26","drugi dzień Świąt Bożego Narodzenia","Wt"]
["2018-01-01","Nowy Rok","Pn"]
["2018-04-01","Wielkanoc","N"]
["2018-04-02","Poniedziałek Wielkanocny","Pn"]
["2018-05-01","Święto Pracy","Wt"]
["2018-05-02","Dzień Flagi Rzeczypospolitej Polskiej","Śr"]
["2018-05-03","Święto Narodowe Trzeciego Maja","Cz"]
["2018-05-31","Boże Ciało","Cz"]
["2018-08-15","Wniebowzięcie N.M. Panny","Śr"]
["2018-11-01","Wszystkich Świętych","Cz"]
["2018-11-11","Narodowe Święto Niepodległości","N"]
["2018-12-25","pierwszy dzień Świąt Bożego Narodzenia","Wt"]
["2018-12-26","drugi dzień Świąt Bożego Narodzenia","Śr"]
["2019-01-01","Nowy Rok","Wt"]
["2019-04-21","Wielkanoc","N"]
["2019-04-22","Poniedziałek Wielkanocny","Pn"]
["2019-05-01","Święto Pracy","Śr"]
["2019-05-02","Dzień Flagi Rzeczypospolitej Polskiej","Cz"]
["2019-05-03","Święto Narodowe Trzeciego Maja","Pt"]
["2019-06-20","Boże Ciało","Cz"]
["2019-08-15","Wniebowzięcie N.M. Panny","Cz"]
["2019-11-01","Wszystkich Świętych","Pt"]
["2019-11-11","Narodowe Święto Niepodległości","Pn"]
["2019-12-25","pierwszy dzień Świąt Bożego Narodzenia","Śr"]
["2019-12-26","drugi dzień Świąt Bożego Narodzenia","Cz"]
["2020-01-01","Nowy Rok","Śr"]
["2020-04-12","Wielkanoc","N"]
["2020-04-13","Poniedziałek Wielkanocny","Pn"]
["2020-05-01","Święto Pracy","Pt"]
["2020-05-02","Dzień Flagi Rzeczypospolitej Polskiej","So"]
["2020-05-03","Święto Narodowe Trzeciego Maja","N"]
["2020-06-11","Boże Ciało","Cz"]
["2020-08-15","Wniebowzięcie N.M. Panny","So"]
["2020-11-01","Wszystkich Świętych","N"]
["2020-11-11","Narodowe Święto Niepodległości","Śr"]
["2020-12-25","pierwszy dzień Świąt Bożego Narodzenia","Pt"]
["2020-12-26","drugi dzień Świąt Bożego Narodzenia","So"]
["2021-01-01","Nowy Rok","Pt"]
["2021-05-01","Święto Pracy","So"]
["2021-05-02","Dzień Flagi Rzeczypospolitej Polskiej","N"]
["2021-05-03","Święto Narodowe Trzeciego Maja","Pn"]
["2021-08-15","Wniebowzięcie N.M. Panny","N"]
["2021-11-01","Wszystkich Świętych","Pn"]
["2021-11-11","Narodowe Święto Niepodległości","Cz"]
["2021-12-25","pierwszy dzień Świąt Bożego Narodzenia","So"]
["2021-12-26","drugi dzień Świąt Bożego Narodzenia","N"]
["2022-01-01","Nowy Rok","So"]
["2022-05-01","Święto Pracy","N"]
["2022-05-02","Dzień Flagi Rzeczypospolitej Polskiej","Pn"]
["2022-05-03","Święto Narodowe Trzeciego Maja","Wt"]
["2022-08-15","Wniebowzięcie N.M. Panny","Pn"]
["2022-11-01","Wszystkich Świętych","Wt"]
["2022-11-11","Narodowe Święto Niepodległości","Pt"]
["2022-12-25","pierwszy dzień Świąt Bożego Narodzenia","N"]
["2022-12-26","drugi dzień Świąt Bożego Narodzenia","Pn"]
["2023-01-01","Nowy Rok","N"]
["2023-05-01","Święto Pracy","Pn"]
["2023-05-02","Dzień Flagi Rzeczypospolitej Polskiej","Wt"]
["2023-05-03","Święto Narodowe Trzeciego Maja","Śr"]
["2023-08-15","Wniebowzięcie N.M. Panny","Wt"]
["2023-11-01","Wszystkich Świętych","Śr"]
["2023-11-11","Narodowe Święto Niepodległości","So"]
["2023-12-25","pierwszy dzień Świąt Bożego Narodzenia","Pn"]
["2023-12-26","drugi dzień Świąt Bożego Narodzenia","Wt"]
["2024-01-01","Nowy Rok","Pn"]
["2024-05-01","Święto Pracy","Śr"]
["2024-05-02","Dzień Flagi Rzeczypospolitej Polskiej","Cz"]
["2024-05-03","Święto Narodowe Trzeciego Maja","Pt"]
["2024-08-15","Wniebowzięcie N.M. Panny","Cz"]
["2024-11-01","Wszystkich Świętych","Pt"]
["2024-11-11","Narodowe Święto Niepodległości","Pn"]
["2024-12-25","pierwszy dzień Świąt Bożego Narodzenia","Śr"]
["2024-12-26","drugi dzień Świąt Bożego Narodzenia","Cz"]
["2025-01-01","Nowy Rok","Śr"]
["2025-05-01","Święto Pracy","Cz"]
["2025-05-02","Dzień Flagi Rzeczypospolitej Polskiej","Pt"]
["2025-05-03","Święto Narodowe Trzeciego Maja","So"]
["2025-08-15","Wniebowzięcie N.M. Panny","Pt"]
["2025-11-01","Wszystkich Świętych","So"]
["2025-11-11","Narodowe Święto Niepodległości","Wt"]
["2025-12-25","pierwszy dzień Świąt Bożego Narodzenia","Cz"]
["2025-12-26","drugi dzień Świąt Bożego Narodzenia","Pt"]
["2026-01-01","Nowy Rok","Cz"]
["2026-05-01","Święto Pracy","Pt"]
["2026-05-02","Dzień Flagi Rzeczypospolitej Polskiej","So"]
["2026-05-03","Święto Narodowe Trzeciego Maja","N"]
["2026-08-15","Wniebowzięcie N.M. Panny","So"]
["2026-11-01","Wszystkich Świętych","N"]
["2026-11-11","Narodowe Święto Niepodległości","Śr"]
["2026-12-25","pierwszy dzień Świąt Bożego Narodzenia","Pt"]
["2026-12-26","drugi dzień Świąt Bożego Narodzenia","So"]
["2027-01-01","Nowy Rok","Pt"]
["2027-05-01","Święto Pracy","So"]
["2027-05-02","Dzień Flagi Rzeczypospolitej Polskiej","N"]
["2027-05-03","Święto Narodowe Trzeciego Maja","Pn"]
["2027-08-15","Wniebowzięcie N.M. Panny","N"]
["2027-11-01","Wszystkich Świętych","Pn"]
["2027-11-11","Narodowe Święto Niepodległości","Cz"]
["2027-12-25","pierwszy dzień Świąt Bożego Narodzenia","So"]
["2027-12-26","drugi dzień Świąt Bożego Narodzenia","N"]
["2028-01-01","Nowy Rok","So"]
["2028-05-01","Święto Pracy","Pn"]
["2028-05-02","Dzień Flagi Rzeczypospolitej Polskiej","Wt"]
["2028-05-03","Święto Narodowe Trzeciego Maja","Śr"]
["2028-08-15","Wniebowzięcie N.M. Panny","Wt"]
["2028-11-01","Wszystkich Świętych","Śr"]
["2028-11-11","Narodowe Święto Niepodległości","So"]
["2028-12-25","pierwszy dzień Świąt Bożego Narodzenia","Pn"]
["2028-12-26","drugi dzień Świąt Bożego Narodzenia","Wt"]
["2015-12-24","Wigilia","Wt"]
["2016-12-24","Wigilia","Wt"]
["2017-12-24","Wigilia","Wt"]
["2018-12-24","Wigilia","Wt"]
["2019-12-24","Wigilia","Wt"]
["2020-12-24","Wigilia","Wt"]
["2021-12-24","Wigilia","Wt"]
["2022-12-24","Wigilia","Wt"]
["2023-12-24","Wigilia","Wt"]
["2024-12-24","Wigilia","Wt"]
["2025-12-24","Wigilia","Wt"]
["2026-12-24","Wigilia","Wt"]
["2015-12-31","Sylwester","Wt"]
["2016-12-31","Sylwester","Wt"]
["2017-12-31","Sylwester","Wt"]
["2018-12-31","Sylwester","Wt"]
["2019-12-31","Sylwester","Wt"]
["2020-12-31","Sylwester","Wt"]
["2021-12-31","Sylwester","Wt"]
["2022-12-31","Sylwester","Wt"]
["2023-12-31","Sylwester","Wt"]
["2024-12-31","Sylwester","Wt"]
["2025-12-31","Sylwester","Wt"]
["2026-12-31","Sylwester","Wt"]