{"text_format":"1","workbook":"xlsx","n_sheets":15,"sheets":["Brief","Kalkulacja","CSV","Sheet5","Sheet4","Sheet3","Prowizja","Checklista_designer","Sklep - szczegóły","Istotne dane","Dostępy i kody","Dodatkowe usługi","Harmonogram","Podświetlanie modułów","Kalendarz"],"not_rendered":{"charts":0,"images":2,"macros":1,"external_links":0,"defined_names":35,"comments":1,"pivot_tables":0},"unopened":[],"bounds":{"document_bytes":16777216,"sheet_cells":100000,"rows_first":2000,"rows_last":500,"rows_between":2000,"halvings":0,"cell_chars":16384,"cell_head_chars":4096},"cells_cut":0,"cells_raw":0,"read":"whole","date_system":"1900"}

{"sheet":"Brief","index":0,"n_rows":523,"n_cols":41,"rows_kept":523,"cut":false,"hidden":false,"merged":[[487,6,487,8],[95,7,95,9],[90,7,90,9],[91,7,91,9],[92,7,92,9],[93,7,93,9],[94,7,94,9],[116,6,116,8],[114,6,114,8],[105,6,105,8],[485,6,485,8],[117,6,117,10],[121,6,121,10],[125,6,125,10],[129,6,129,10],[135,6,135,10],[137,6,137,10],[139,6,139,10],[141,6,141,10],[143,6,143,10],[145,6,145,10],[147,6,147,10],[149,6,149,10],[151,6,151,10],[85,7,85,9],[86,7,86,9],[87,7,87,9],[88,7,88,9],[89,7,89,9],[80,7,80,9],[81,7,81,9],[82,7,82,9],[83,7,83,9],[84,7,84,9],[75,7,75,9],[76,7,76,9],[77,7,77,9],[78,7,78,9],[79,7,79,9],[70,7,70,9],[71,7,71,9],[72,7,72,9],[73,7,73,9],[74,7,74,9],[65,7,65,9],[66,7,66,9],[67,7,67,9],[68,7,68,9],[69,7,69,9],[60,7,60,9],[61,7,61,9],[62,7,62,9],[63,7,63,9],[64,7,64,9],[55,7,55,9],[56,7,56,9],[57,7,57,9],[58,7,58,9],[59,7,59,9],[50,7,50,9],[51,7,51,9],[52,7,52,9],[53,7,53,9],[54,7,54,9],[16,1,16,10],[45,7,45,9],[46,7,46,9],[47,7,47,9],[48,7,48,9],[49,7,49,9],[40,7,40,9],[41,7,41,9],[42,7,42,9],[43,7,43,9],[44,7,44,9],[502,1,502,10],[509,8,509,10],[509,4,509,7],[2,1,2,10],[495,1,495,10],[44,1,46,3],[491,1,493,6],[97,4,97,8],[96,1,96,10],[28,7,28,9],[29,7,29,9],[30,7,30,9],[31,7,31,9],[32,7,32,9],[33,7,33,9],[34,7,34,9],[27,1,27,10],[35,7,35,9],[36,7,36,9],[37,7,37,9],[38,7,38,9],[39,7,39,9],[23,1,23,10],[9,1,9,10],[509,1,509,3],[513,1,515,3],[513,4,515,7],[513,8,515,10],[516,1,518,3],[516,4,518,7],[516,8,518,10],[519,1,521,3],[519,4,521,7],[519,8,521,10],[153,6,153,10],[155,6,155,10],[119,6,119,10],[123,6,123,10],[127,6,127,10],[228,6,228,8],[484,6,484,8],[483,6,483,8],[482,6,482,8],[481,6,481,8],[480,6,480,8],[479,6,479,8],[478,6,478,8],[477,6,477,8],[476,6,476,8],[475,6,475,8],[474,6,474,8],[473,6,473,8],[471,6,471,8],[470,6,470,8],[469,6,469,8],[468,6,468,8],[467,6,467,8],[466,6,466,8],[464,6,464,8],[463,6,463,8],[462,6,462,8],[461,6,461,8],[460,6,460,8],[459,6,459,8],[458,6,458,8],[457,6,457,8],[456,6,456,8],[455,6,455,8],[454,6,454,8],[453,6,453,8],[452,6,452,8],[451,6,451,8],[450,6,450,8],[449,6,449,8],[447,6,447,8],[446,6,446,8],[445,6,445,8],[444,6,444,8],[443,6,443,8],[442,6,442,8],[441,6,441,8],[440,6,440,8],[439,6,439,8],[438,6,438,8],[437,6,437,8],[435,6,435,8],[434,6,434,8],[433,6,433,8],[432,6,432,8],[431,6,431,8],[430,6,430,8],[429,6,429,8],[428,6,428,8],[427,6,427,8],[416,6,416,8],[415,6,415,8],[414,6,414,8],[413,6,413,8],[411,6,411,8],[410,6,410,8],[409,6,409,8],[426,6,426,8],[424,6,424,8],[423,6,423,8],[422,6,422,8],[421,6,421,8],[420,6,420,8],[419,6,419,8],[418,6,418,8],[417,6,417,8],[408,6,408,8],[407,6,407,8],[406,6,406,8],[405,6,405,8],[404,6,404,8],[403,6,403,8],[402,6,402,8],[401,6,401,8],[400,6,400,8],[399,6,399,8],[398,6,398,8],[397,6,397,8],[396,6,396,8],[394,6,394,8],[393,6,393,8],[392,6,392,8],[391,6,391,8],[390,6,390,8],[389,6,389,8],[388,6,388,8],[387,6,387,8],[386,6,386,8],[385,6,385,8],[384,6,384,8],[383,6,383,8],[382,6,382,8],[381,6,381,8],[380,6,380,8],[379,6,379,8],[378,6,378,8],[377,6,377,8],[376,6,376,8],[375,6,375,8],[374,6,374,8],[372,6,372,8],[371,6,371,8],[370,6,370,8],[369,6,369,8],[368,6,368,8],[367,6,367,8],[366,6,366,8],[365,6,365,8],[364,6,364,8],[363,6,363,8],[359,6,359,8],[358,6,358,8],[357,6,357,8],[356,6,356,8],[355,6,355,8],[354,6,354,8],[353,6,353,8],[352,6,352,8],[351,6,351,8],[350,6,350,8],[349,6,349,8],[348,6,348,8],[347,6,347,8],[345,6,345,8],[344,6,344,8],[343,6,343,8],[342,6,342,8],[341,6,341,8],[340,6,340,8],[339,6,339,8],[338,6,338,8],[337,6,337,8],[336,6,336,8],[335,6,335,8],[334,6,334,8],[333,6,333,8],[332,6,332,8],[330,6,330,8],[329,6,329,8],[328,6,328,8],[326,6,326,8],[325,6,325,8],[324,6,324,8],[323,6,323,8],[322,6,322,8],[321,6,321,8],[320,6,320,8],[310,6,310,8],[308,6,308,8],[307,6,307,8],[306,6,306,8],[303,6,303,8],[302,6,302,8],[301,6,301,8],[300,6,300,8],[319,6,319,8],[318,6,318,8],[317,6,317,8],[316,6,316,8],[315,6,315,8],[314,6,314,8],[313,6,313,8],[312,6,312,8],[311,6,311,8],[299,6,299,8],[298,6,298,8],[297,6,297,8],[296,6,296,8],[295,6,295,8],[294,6,294,8],[293,6,293,8],[292,6,292,8],[291,6,291,8],[290,6,290,8],[289,6,289,8],[288,6,288,8],[287,6,287,8],[286,6,286,8],[284,6,284,8],[283,6,283,8],[282,6,282,8],[281,6,281,8],[279,6,279,8],[278,6,278,8],[277,6,277,8],[276,6,276,8],[274,6,274,8],[273,6,273,8],[272,6,272,8],[271,6,271,8],[270,6,270,8],[269,6,269,8],[267,6,267,8],[266,6,266,8],[265,6,265,8],[264,6,264,8],[263,6,263,8],[262,6,262,8],[260,6,260,8],[259,6,259,8],[258,6,258,8],[257,6,257,8],[256,6,256,8],[255,6,255,8],[254,6,254,8],[253,6,253,8],[252,6,252,8],[250,6,250,8],[249,6,249,8],[248,6,248,8],[247,6,247,8],[246,6,246,8],[245,6,245,8],[242,6,242,8],[241,6,241,8],[240,6,240,8],[239,6,239,8],[238,6,238,8],[244,6,244,8],[237,6,237,8],[236,6,236,8],[235,6,235,8],[234,6,234,8],[233,6,233,8],[232,6,232,8],[231,6,231,8],[230,6,230,8],[229,6,229,8],[226,6,226,8],[223,6,223,8],[222,6,222,8],[221,6,221,8],[220,6,220,8],[219,6,219,8],[218,6,218,8],[217,6,217,8],[216,6,216,8],[215,6,215,8],[213,6,213,8],[212,6,212,8],[211,6,211,8],[210,6,210,8],[209,6,209,8],[208,6,208,8],[207,6,207,8],[206,6,206,8],[205,6,205,8],[204,6,204,8],[203,6,203,8],[202,6,202,8],[201,6,201,8],[200,6,200,8],[199,6,199,8],[198,6,198,8],[196,6,196,8],[195,6,195,8],[194,6,194,8],[193,6,193,8],[192,6,192,8],[191,6,191,8],[190,6,190,8],[189,6,189,8],[188,6,188,8],[187,6,187,8],[174,6,174,8],[173,6,173,8],[172,6,172,8],[171,6,171,8],[170,6,170,8],[167,6,167,8],[166,6,166,8],[165,6,165,8],[186,6,186,8],[184,6,184,8],[183,6,183,8],[182,6,182,8],[181,6,181,8],[180,6,180,8],[178,6,178,8],[177,6,177,8],[176,6,176,8],[164,6,164,8],[100,6,100,8],[99,6,99,8],[489,6,489,7],[111,6,111,8],[110,6,110,8],[109,6,109,8],[108,6,108,8],[107,6,107,8],[106,6,106,8],[134,6,134,8],[132,6,132,8],[130,6,130,8],[128,6,128,8],[126,6,126,8],[163,6,163,8],[162,6,162,8],[161,6,161,8],[160,6,160,8],[159,6,159,8],[158,6,158,8],[157,6,157,8],[154,6,154,8],[175,6,175,8],[506,1,508,3],[506,4,508,10],[510,1,512,3],[510,4,512,7],[510,8,512,10],[104,6,104,8],[103,6,103,8],[102,6,102,8],[101,6,101,8],[124,6,124,8],[122,6,122,8],[120,6,120,8],[118,6,118,8],[131,6,131,10],[133,6,133,10],[152,6,152,8],[150,6,150,8],[148,6,148,8],[146,6,146,8],[144,6,144,8],[142,6,142,8],[140,6,140,8],[138,6,138,8],[136,6,136,8],[227,6,227,10],[522,1,524,3],[522,4,524,7],[522,8,524,10],[3,1,5,3],[3,4,5,10],[6,1,8,3],[6,4,8,10],[10,1,12,3],[10,4,12,10],[13,1,15,3],[13,4,15,10],[17,1,19,3],[17,4,19,10],[20,1,22,3],[20,4,22,10],[24,1,26,3],[24,4,26,10],[496,1,498,3],[496,4,498,10],[499,1,501,3],[499,4,501,10],[503,1,505,3],[503,4,505,10]]}
[null,null,"   Brief",null,null,null,"   Strona internetowa"]
[]
[null,"Działalność firmy"]
[null,"Opisz krótko charakterystykę  firmy. "]
[]
[]
[null,"Co oferujecie klientom?"]
[]
[]
[null,"Grupa docelowa"]
[null,"Kto jest docelowym odbiorcą usług/produktów?"]
[]
[]
[null,"Co jest najważniejsze dla Twoich klientów?"]
[]
[]
[null,"Konkurencja"]
[null,"Kto jest Twoją konkurencją? "]
[]
[]
[null,"Czy czymś się wyróżniacie? (klienci Was chwalą za coś?)\nCzym chcecie się wyróżnić?"]
[]
[]
[null,"Strona www"]
[null,"Czy na kimś mamy się wzorować? Podaj przykłady firm i strony www."]
[]
[]
[null,"Struktura stron",null,null,null,null,null,null,null,null,null,null,null,"Wartość liczbowa checkboxa",null,null,null,null,null,null,null,null,null,null,null,null,null,null,null,null,null,null,null,null,null,null,null,null,null,null,"Wartość checkboxa"]
[null,null,null,null,null,null,"Strona główna","Opis sekcji, kluczowe funkcjonalności",null,null,null,null,null,{"$f":"AO29*1","v":0},null,null,null,null,null,null,null,null,null,null,null,null,null,null,null,null,null,null,null,null,null,null,null,null,null,null,false]
[null,null,null,null,null,null,"O nas",null,null,null,null,null,null,0,null,null,null,null,null,null,null,null,null,null,null,null,null,null,null,null,null,null,null,null,null,null,null,null,null,null,false]
[null,null,null,null,null,null,"Historia",null,null,null,null,null,null,0,null,null,null,null,null,null,null,null,null,null,null,null,null,null,null,null,null,null,null,null,null,null,null,null,null,null,false]
[null,null,null,null,null,null,"Zespół",null,null,null,null,null,null,0,null,null,null,null,null,null,null,null,null,null,null,null,null,null,null,null,null,null,null,null,null,null,null,null,null,null,false]
[null,null,null,null,null,null,"Współpraca",null,null,null,null,null,null,0,null,null,null,null,null,null,null,null,null,null,null,null,null,null,null,null,null,null,null,null,null,null,null,null,null,null,false]
[null,null,null,null,null,null,"Misja",null,null,null,null,null,null,0,null,null,null,null,null,null,null,null,null,null,null,null,null,null,null,null,null,null,null,null,null,null,null,null,null,null,false]
[null,null,null,null,null,null,"Wartości",null,null,null,null,null,null,0,null,null,null,null,null,null,null,null,null,null,null,null,null,null,null,null,null,null,null,null,null,null,null,null,null,null,false]
[null,null,null,null,null,null,"Aktualności",null,null,null,null,null,null,0,null,null,null,null,null,null,null,null,null,null,null,null,null,null,null,null,null,null,null,null,null,null,null,null,null,null,false]
[null,null,null,null,null,null,"Blog",null,null,null,null,null,null,0,null,null,null,null,null,null,null,null,null,null,null,null,null,null,null,null,null,null,null,null,null,null,null,null,null,null,false]
[null,null,null,null,null,null,"Porady",null,null,null,null,null,null,0,null,null,null,null,null,null,null,null,null,null,null,null,null,null,null,null,null,null,null,null,null,null,null,null,null,null,false]
[null,null,null,null,null,null,"Przepisy",null,null,null,null,null,null,0,null,null,null,null,null,null,null,null,null,null,null,null,null,null,null,null,null,null,null,null,null,null,null,null,null,null,false]
[null,null,null,null,null,null,"Akademia",null,null,null,null,null,null,0,null,null,null,null,null,null,null,null,null,null,null,null,null,null,null,null,null,null,null,null,null,null,null,null,null,null,false]
[null,null,null,null,null,null,"Publikacje",null,null,null,null,null,null,0,null,null,null,null,null,null,null,null,null,null,null,null,null,null,null,null,null,null,null,null,null,null,null,null,null,null,false]
[null,null,null,null,null,null,"Oferta",null,null,null,null,null,null,0,null,null,null,null,null,null,null,null,null,null,null,null,null,null,null,null,null,null,null,null,null,null,null,null,null,null,false]
[null,null,null,null,null,null,"Produkty",null,null,null,null,null,null,0,null,null,null,null,null,null,null,null,null,null,null,null,null,null,null,null,null,null,null,null,null,null,null,null,null,null,false]
[null,null,null,null,null,null,"Usługi",null,null,null,null,null,null,0,null,null,null,null,null,null,null,null,null,null,null,null,null,null,null,null,null,null,null,null,null,null,null,null,null,null,false]
[null,"Wpisz listę zakładek (podstron), które chcesz mieć?",null,null,null,null,"Cennik",null,null,null,null,null,null,0,null,null,null,null,null,null,null,null,null,null,null,null,null,null,null,null,null,null,null,null,null,null,null,null,null,null,false]
[null,null,null,null,null,null,"Gdzie kupię",null,null,null,null,null,null,0,null,null,null,null,null,null,null,null,null,null,null,null,null,null,null,null,null,null,null,null,null,null,null,null,null,null,false]
[null,null,null,null,null,null,"Serwis",null,null,null,null,null,null,0,null,null,null,null,null,null,null,null,null,null,null,null,null,null,null,null,null,null,null,null,null,null,null,null,null,null,false]
[null,null,null,null,null,null,"Gwarancja",null,null,null,null,null,null,0,null,null,null,null,null,null,null,null,null,null,null,null,null,null,null,null,null,null,null,null,null,null,null,null,null,null,false]
[null,null,null,null,null,null,"Galeria",null,null,null,null,null,null,0,null,null,null,null,null,null,null,null,null,null,null,null,null,null,null,null,null,null,null,null,null,null,null,null,null,null,false]
[null,null,null,null,null,null,"Realizacje",null,null,null,null,null,null,0,null,null,null,null,null,null,null,null,null,null,null,null,null,null,null,null,null,null,null,null,null,null,null,null,null,null,false]
[null,null,null,null,null,null,"Case study",null,null,null,null,null,null,0,null,null,null,null,null,null,null,null,null,null,null,null,null,null,null,null,null,null,null,null,null,null,null,null,null,null,false]
[null,null,null,null,null,null,"Inspiracje",null,null,null,null,null,null,0,null,null,null,null,null,null,null,null,null,null,null,null,null,null,null,null,null,null,null,null,null,null,null,null,null,null,false]
[null,null,null,null,null,null,"Projekty",null,null,null,null,null,null,0,null,null,null,null,null,null,null,null,null,null,null,null,null,null,null,null,null,null,null,null,null,null,null,null,null,null,false]
[null,null,null,null,null,null,"Technologie",null,null,null,null,null,null,0,null,null,null,null,null,null,null,null,null,null,null,null,null,null,null,null,null,null,null,null,null,null,null,null,null,null,false]
[null,null,null,null,null,null,"Opinie / Referencje",null,null,null,null,null,null,0,null,null,null,null,null,null,null,null,null,null,null,null,null,null,null,null,null,null,null,null,null,null,null,null,null,null,false]
[null,null,null,null,null,null,"Do pobrania",null,null,null,null,null,null,0,null,null,null,null,null,null,null,null,null,null,null,null,null,null,null,null,null,null,null,null,null,null,null,null,null,null,false]
[null,null,null,null,null,null,"Kariera / Oferty pracy",null,null,null,null,null,null,0,null,null,null,null,null,null,null,null,null,null,null,null,null,null,null,null,null,null,null,null,null,null,null,null,null,null,false]
[null,null,null,null,null,null,"Kontakt",null,null,null,null,null,null,0,null,null,null,null,null,null,null,null,null,null,null,null,null,null,null,null,null,null,null,null,null,null,null,null,null,null,false]
[null,null,null,null,null,{"$f":"IF(ISBLANK(G59),\" Uzupełnij samodzielnie\",\"\")","v":" Uzupełnij samodzielnie"},null,null,null,null,null,null,null,{"$f":"IF(AO59*1=1,0,1)","v":0},null,null,null,null,null,null,null,null,null,null,null,null,null,null,null,null,null,null,null,null,null,null,null,null,null,null,{"$f":"ISBLANK(G59)","v":true}]
[null,null,null,null,null,{"$f":"IF(ISBLANK(G60),\" Uzupełnij samodzielnie\",\"\")","v":" Uzupełnij samodzielnie"},null,null,null,null,null,null,null,0,null,null,null,null,null,null,null,null,null,null,null,null,null,null,null,null,null,null,null,null,null,null,null,null,null,null,true]
[null,null,null,null,null,{"$f":"IF(ISBLANK(G61),\" Uzupełnij samodzielnie\",\"\")","v":" Uzupełnij samodzielnie"},null,null,null,null,null,null,null,0,null,null,null,null,null,null,null,null,null,null,null,null,null,null,null,null,null,null,null,null,null,null,null,null,null,null,true]
[null,null,null,null,null,{"$f":"IF(ISBLANK(G62),\" Uzupełnij samodzielnie\",\"\")","v":" Uzupełnij samodzielnie"},null,null,null,null,null,null,null,0,null,null,null,null,null,null,null,null,null,null,null,null,null,null,null,null,null,null,null,null,null,null,null,null,null,null,true]
[null,null,null,null,null,{"$f":"IF(ISBLANK(G63),\" Uzupełnij samodzielnie\",\"\")","v":" Uzupełnij samodzielnie"},null,null,null,null,null,null,null,0,null,null,null,null,null,null,null,{"$f":"V98","v":"ukryte moduły"},null,null,null,null,null,null,null,null,null,null,null,null,null,null,null,null,null,null,true]
[null,null,null,null,null,{"$f":"IF(ISBLANK(G64),\" Uzupełnij samodzielnie\",\"\")","v":" Uzupełnij samodzielnie"},null,null,null,null,null,null,null,0,null,null,null,null,null,null,null,null,null,null,null,null,null,null,null,null,null,null,null,null,null,null,null,null,null,null,true]
[null,null,null,null,null," Uzupełnij samodzielnie",null,null,null,null,null,null,null,0,null,null,null,null,null,null,null,null,null,null,null,null,null,null,null,null,null,null,null,null,null,null,null,null,null,null,true]
[null,null,null,null,null," Uzupełnij samodzielnie",null,null,null,null,null,null,null,0,null,null,null,null,null,null,null,null,null,null,null,null,null,null,null,null,null,null,null,null,null,null,null,null,null,null,true]
[null,null,null,null,null," Uzupełnij samodzielnie",null,null,null,null,null,null,null,0,null,null,null,null,null,null,null,null,null,null,null,null,null,null,null,null,null,null,null,null,null,null,null,null,null,null,true]
[null,null,null,null,null," Uzupełnij samodzielnie",null,null,null,null,null,null,null,0,null,null,null,null,null,null,null,null,null,null,null,null,null,null,null,null,null,null,null,null,null,null,null,null,null,null,true]
[null,null,null,null,null," Uzupełnij samodzielnie",null,null,null,null,null,null,null,0,null,null,null,null,null,null,null,null,null,null,null,null,null,null,null,null,null,null,null,null,null,null,null,null,null,null,true]
[null,null,null,null,null," Uzupełnij samodzielnie",null,null,null,null,null,null,null,0,null,null,null,null,null,null,null,null,null,null,null,null,null,null,null,null,null,null,null,null,null,null,null,null,null,null,true]
[null,null,null,null,null," Uzupełnij samodzielnie",null,null,null,null,null,null,null,0,null,null,null,null,null,null,null,null,null,null,null,null,null,null,null,null,null,null,null,null,null,null,null,null,null,null,true]
[null,null,null,null,null," Uzupełnij samodzielnie",null,null,null,null,null,null,null,0,null,null,null,null,null,null,null,null,null,null,null,null,null,null,null,null,null,null,null,null,null,null,null,null,null,null,true]
[null,null,null,null,null," Uzupełnij samodzielnie",null,null,null,null,null,null,null,0,null,null,null,null,null,null,null,null,null,null,null,null,null,null,null,null,null,null,null,null,null,null,null,null,null,null,true]
[null,null,null,null,null," Uzupełnij samodzielnie",null,null,null,null,null,null,null,0,null,null,null,null,null,null,null,null,null,null,null,null,null,null,null,null,null,null,null,null,null,null,null,null,null,null,true]
[null,null,null,null,null," Uzupełnij samodzielnie",null,null,null,null,null,null,null,0,null,null,null,null,null,null,null,null,null,null,null,null,null,null,null,null,null,null,null,null,null,null,null,null,null,null,true]
[null,null,null,null,null," Uzupełnij samodzielnie",null,null,null,null,null,null,null,0,null,null,null,null,null,null,null,null,null,null,null,null,null,null,null,null,null,null,null,null,null,null,null,null,null,null,true]
[null,null,null,null,null," Uzupełnij samodzielnie",null,null,null,null,null,null,null,0,null,null,null,null,null,null,null,null,null,null,null,null,null,null,null,null,null,null,null,null,null,null,null,null,null,null,true]
[null,null,null,null,null," Uzupełnij samodzielnie",null,null,null,null,null,null,null,0,null,null,null,null,null,null,null,null,null,null,null,null,null,null,null,null,null,null,null,null,null,null,null,null,null,null,true]
[null,null,null,null,null," Uzupełnij samodzielnie",null,null,null,null,null,null,null,0,null,null,null,null,null,null,null,null,null,null,null,null,null,null,null,null,null,null,null,null,null,null,null,null,null,null,true]
[null,null,null,null,null," Uzupełnij samodzielnie",null,null,null,null,null,null,null,0,null,null,null,null,null,null,null,null,null,null,null,null,null,null,null,null,null,null,null,null,null,null,null,null,null,null,true]
[null,null,null,null,null," Uzupełnij samodzielnie",null,null,null,null,null,null,null,0,null,null,null,null,null,null,null,null,null,null,null,null,null,null,null,null,null,null,null,null,null,null,null,null,null,null,true]
[null,null,null,null,null," Uzupełnij samodzielnie",null,null,null,null,null,null,null,0,null,null,null,null,null,null,null,null,null,null,null,null,null,null,null,null,null,null,null,null,null,null,null,null,null,null,true]
[null,null,null,null,null," Uzupełnij samodzielnie",null,null,null,null,null,null,null,0,null,null,null,null,null,null,null,null,null,null,null,null,null,null,null,null,null,null,null,null,null,null,null,null,null,null,true]
[null,null,null,null,null," Uzupełnij samodzielnie",null,null,null,null,null,null,null,0,null,null,null,null,null,null,null,null,null,null,null,null,null,null,null,null,null,null,null,null,null,null,null,null,null,null,true]
[null,null,null,null,null," Uzupełnij samodzielnie",null,null,null,null,null,null,null,0,null,null,null,null,null,{"$f":"U85","v":0},null,{"$f":"AG85","v":0},null,null,null,null,null,null,null,null,null,null,null,null,null,null,null,null,null,null,true]
[null,null,null,null,null," Uzupełnij samodzielnie",null,null,null,null,null,null,null,0,null,null,null,null,null,{"$f":"U86","v":0},null,{"$f":"AG86","v":0},null,null,null,null,null,null,null,null,null,null,null,null,null,null,null,null,null,null,true]
[null,null,null,null,null," Uzupełnij samodzielnie",null,null,null,null,null,null,null,0,null,null,null,null,null,0,null,0,null,null,null,null,null,null,null,null,null,null,null,null,null,null,null,null,null,null,true]
[null,null,null,null,null," Uzupełnij samodzielnie",null,null,null,null,null,null,null,0,null,null,null,null,null,0,null,0,null,null,null,null,null,null,null,null,null,null,null,null,null,null,null,null,null,null,true]
[null,null,null,null,null," Uzupełnij samodzielnie",null,null,null,null,null,null,null,0,null,null,null,null,null,0,null,0,null,null,null,null,null,null,null,null,null,null,null,null,null,null,null,null,null,null,true]
[null,null,null,null,null," Uzupełnij samodzielnie",null,null,null,null,null,null,null,0,null,null,null,null,null,0,null,0,null,null,null,null,null,null,null,null,null,null,null,null,null,null,null,null,null,null,true]
[null,null,null,null,null," Uzupełnij samodzielnie",null,null,null,null,null,null,null,0,null,null,null,null,null,0,null,0,null,null,null,null,null,null,null,null,null,null,null,null,null,null,null,null,null,null,true]
[null,null,null,null,null," Uzupełnij samodzielnie",null,null,null,null,null,null,null,0,null,null,null,null,null,0,null,0,null,null,null,null,null,null,null,null,null,null,null,null,null,null,null,null,null,null,true]
[null,null,null,null,null," Uzupełnij samodzielnie",null,null,null,null,null,null,null,0,null,null,null,null,null,0,null,0,null,null,null,null,null,null,null,null,null,null,null,null,null,null,null,null,null,null,true]
[null,null,null,null,null," Uzupełnij samodzielnie",null,null,null,null,null,null,null,0,null,null,null,null,null,0,null,0,null,null,null,null,null,null,null,null,null,null,null,null,null,null,null,null,null,null,true]
[null,null,null,null,null," Uzupełnij samodzielnie",null,null,null,null,null,null,null,0,null,null,null,null,null,0,null,0,null,null,null,null,null,null,null,null,null,null,null,null,null,null,null,null,null,null,true]
[null,null,null,null,null," Uzupełnij samodzielnie",null,null,null,null,null,null,null,0,null,null,null,null,null,0,null,0,null,null,null,null,null,null,null,null,null,null,null,null,null,null,null,null,null,null,true]
[null,"Funkcjonalności",null,null,null,null,null,null,null,null,null,null,null,null,{"$f":"COLUMN(O98)","v":15},{"$f":"COLUMN(P98)","v":16},null,null,null,0,null,0,null,null,null,null,null,null,null,null,null,"podświetlenie podstawy",null,null,null,null,"Elementor"]
[null,"Wybierz moduły:",null,null,"Nazwa modułu lub usługi",null,null,null,null,"Ilość",{"$f":"IF(Kalkulacja!$G$2=\"x\",\"Cena\",\"\")","v":""},null,null,"Powiązanie z podstronami","Wyświetlanie","Makro","Pozycja",null,null,"Preferowana opcja","Preferowana opcja","ukryte moduły",null,null,null,null,null,null,null,null,null,"wszystkie moduły","ukryte moduły",null,null,null,{"$f":"IFERROR(IF($J$115>0,INDEX(Kalkulacja!D:D,Q99),\"\"),\"\")","v":""},null,null,null,"Wartość checkboxa"]
[null,null,null,null,{"$f":"Kalkulacja!I3","v":"Materiały"},null,null,null,null,null,null,null,null,null,{"$f":"IF(COUNTIF(O100:O112,\"x\")>0,\"x\",0)","v":0},{"$f":"IF(O99=\"x\",\"TRUE\",\"FALSE\")","v":"FALSE"},{"$f":"MATCH(E99,Kalkulacja!$I$1:$I$416,0)","v":3},null,null,0,null,0,null,null,null,null,{"$f":"G99","v":0},null,null,null,null,{"$f":"IFERROR(INDEX(Kalkulacja!V:V,Q99),0)","v":0},0,null,null,null,{"$f":"IFERROR(IF($J$115>0,INDEX(Kalkulacja!D:D,Q100),\"\"),\"\")","v":""}]
[null,null,null,{"$f":"IFERROR(IF(N100>0,\"SUGEROWANE\",IF((INDEX(Kalkulacja!B:B,MATCH(G100,Kalkulacja!I:I,0)))=\"x\",\"USŁUGA\",\"\")),\"\")","v":"USŁUGA"},"i",null,{"$f":"Kalkulacja!I4","v":"Napisanie tekstu 1000 zzs (ok. 1/3 strony A4)"},null,null,{"$f":"AO100*1","v":0},{"$f":"IFERROR(IF(Kalkulacja!$G$2=\"x\",INDEX(Kalkulacja!$Y$1:$Y$416,Q100),\"\"),\"\")","v":""},{"$f":"IFERROR(IF(Kalkulacja!$D$2=\"x\",IF(INDEX(Kalkulacja!J:J,Q100)=\"od\",\"od\",\"\"),\"\"),\"\")","v":""},{"$f":"IFERROR(IF(AND(Kalkulacja!$D$2=\"x\",$J$115>0),(IF(INDEX(Kalkulacja!D:D,Q100)=\"x\",\"Nie-Elementor\",\"\")),\"\"),\"\")","v":""},{"$f":"IFERROR(INDEX('Podświetlanie modułów'!H:H,MATCH(G100,'Podświetlanie modułów'!F:F,0)),0)","v":0},{"$f":"IF(AO100*1>0,\"x\",IF(INDEX(Kalkulacja!A:A,Q100)=\"x\",\"x\",0))","v":0},{"$f":"IF(O100=\"x\",\"TRUE\",\"FALSE\")","v":"FALSE"},{"$f":"MATCH(G100,Kalkulacja!$I$1:$I$416,0)","v":4},null,null,0,null,0,null,null,null,null,"Napisanie tekstu 1000 zzs (ok. 1/3 strony A4)",null,null,null,null,{"$f":"IFERROR(INDEX(Kalkulacja!V:V,Q100),0)","v":0},0,null,null,null,{"$f":"IFERROR(IF($J$115>0,INDEX(Kalkulacja!D:D,Q101),\"\"),\"\")","v":""},null,null,null,false]
[null,null,null,{"$f":"IFERROR(IF(N101>0,\"SUGEROWANE\",IF((INDEX(Kalkulacja!B:B,MATCH(G101,Kalkulacja!I:I,0)))=\"x\",\"USŁUGA\",\"\")),\"\")","v":"USŁUGA"},"i",null,{"$f":"Kalkulacja!I5","v":"Przepisywanie tekstu 1000 zzs"},null,null,0,{"$f":"IFERROR(IF(Kalkulacja!$G$2=\"x\",INDEX(Kalkulacja!$Y$1:$Y$416,Q101),\"\"),\"\")","v":""},{"$f":"IFERROR(IF(Kalkulacja!$D$2=\"x\",IF(INDEX(Kalkulacja!J:J,Q101)=\"od\",\"od\",\"\"),\"\"),\"\")","v":""},{"$f":"IFERROR(IF(AND(Kalkulacja!$D$2=\"x\",$J$115>0),(IF(INDEX(Kalkulacja!D:D,Q101)=\"x\",\"Nie-Elementor\",\"\")),\"\"),\"\")","v":""},{"$f":"IFERROR(INDEX('Podświetlanie modułów'!H:H,MATCH(G101,'Podświetlanie modułów'!F:F,0)),0)","v":0},{"$f":"IF(AO101*1>0,\"x\",IF(INDEX(Kalkulacja!A:A,Q101)=\"x\",\"x\",0))","v":0},"FALSE",{"$f":"MATCH(G101,Kalkulacja!$I$1:$I$416,0)","v":5},null,null,0,null,0,null,null,null,null,"Przepisywanie tekstu 1000 zzs",null,null,null,null,{"$f":"IFERROR(INDEX(Kalkulacja!V:V,Q101),0)","v":0},0,null,null,null,{"$f":"IFERROR(IF($J$115>0,INDEX(Kalkulacja!D:D,Q102),\"\"),\"\")","v":""},null,null,null,false]
[null,null,null,{"$f":"IFERROR(IF(N102>0,\"SUGEROWANE\",IF((INDEX(Kalkulacja!B:B,MATCH(G102,Kalkulacja!I:I,0)))=\"x\",\"USŁUGA\",\"\")),\"\")","v":"USŁUGA"},"i",null,{"$f":"Kalkulacja!I6","v":"Korekta błędów ortograficznych 1000 zzs"},null,null,0,{"$f":"IFERROR(IF(Kalkulacja!$G$2=\"x\",INDEX(Kalkulacja!$Y$1:$Y$416,Q102),\"\"),\"\")","v":""},{"$f":"IFERROR(IF(Kalkulacja!$D$2=\"x\",IF(INDEX(Kalkulacja!J:J,Q102)=\"od\",\"od\",\"\"),\"\"),\"\")","v":""},{"$f":"IFERROR(IF(AND(Kalkulacja!$D$2=\"x\",$J$115>0),(IF(INDEX(Kalkulacja!D:D,Q102)=\"x\",\"Nie-Elementor\",\"\")),\"\"),\"\")","v":""},{"$f":"IFERROR(INDEX('Podświetlanie modułów'!H:H,MATCH(G102,'Podświetlanie modułów'!F:F,0)),0)","v":0},{"$f":"IF(AO102*1>0,\"x\",IF(INDEX(Kalkulacja!A:A,Q102)=\"x\",\"x\",0))","v":0},"FALSE",{"$f":"MATCH(G102,Kalkulacja!$I$1:$I$416,0)","v":6},null,null,0,null,0,null,null,null,null,"Korekta błędów ortograficznych 1000 zzs",null,null,null,null,{"$f":"IFERROR(INDEX(Kalkulacja!V:V,Q102),0)","v":0},0,null,null,null,{"$f":"IFERROR(IF($J$115>0,INDEX(Kalkulacja!D:D,Q103),\"\"),\"\")","v":""},null,null,null,false]
[null,null,null,{"$f":"IFERROR(IF(N103>0,\"SUGEROWANE\",IF((INDEX(Kalkulacja!B:B,MATCH(G103,Kalkulacja!I:I,0)))=\"x\",\"USŁUGA\",\"\")),\"\")","v":"USŁUGA"},"i",null,{"$f":"Kalkulacja!I7","v":"Obróbka 1 zdjęcia (kadrowanie kolory)"},null,null,0,{"$f":"IFERROR(IF(Kalkulacja!$G$2=\"x\",INDEX(Kalkulacja!$Y$1:$Y$416,Q103),\"\"),\"\")","v":""},{"$f":"IFERROR(IF(Kalkulacja!$D$2=\"x\",IF(INDEX(Kalkulacja!J:J,Q103)=\"od\",\"od\",\"\"),\"\"),\"\")","v":""},{"$f":"IFERROR(IF(AND(Kalkulacja!$D$2=\"x\",$J$115>0),(IF(INDEX(Kalkulacja!D:D,Q103)=\"x\",\"Nie-Elementor\",\"\")),\"\"),\"\")","v":""},{"$f":"IFERROR(INDEX('Podświetlanie modułów'!H:H,MATCH(G103,'Podświetlanie modułów'!F:F,0)),0)","v":0},{"$f":"IF(AO103*1>0,\"x\",IF(INDEX(Kalkulacja!A:A,Q103)=\"x\",\"x\",0))","v":0},"FALSE",{"$f":"MATCH(G103,Kalkulacja!$I$1:$I$416,0)","v":7},null,null,0,null,0,null,null,null,null,"Obróbka 1 zdjęcia (kadrowanie kolory)",null,null,null,null,{"$f":"IFERROR(INDEX(Kalkulacja!V:V,Q103),0)","v":0},0,null,null,null,{"$f":"IFERROR(IF($J$115>0,INDEX(Kalkulacja!D:D,Q104),\"\"),\"\")","v":""},null,null,null,false]
[null,null,null,{"$f":"IFERROR(IF(N104>0,\"SUGEROWANE\",IF((INDEX(Kalkulacja!B:B,MATCH(G104,Kalkulacja!I:I,0)))=\"x\",\"USŁUGA\",\"\")),\"\")","v":"USŁUGA"},"i",null,{"$f":"Kalkulacja!I8","v":"Fotografia 1 szt z banku zdjęć"},null,null,0,{"$f":"IFERROR(IF(Kalkulacja!$G$2=\"x\",INDEX(Kalkulacja!$Y$1:$Y$416,Q104),\"\"),\"\")","v":""},{"$f":"IFERROR(IF(Kalkulacja!$D$2=\"x\",IF(INDEX(Kalkulacja!J:J,Q104)=\"od\",\"od\",\"\"),\"\"),\"\")","v":""},{"$f":"IFERROR(IF(AND(Kalkulacja!$D$2=\"x\",$J$115>0),(IF(INDEX(Kalkulacja!D:D,Q104)=\"x\",\"Nie-Elementor\",\"\")),\"\"),\"\")","v":""},{"$f":"IFERROR(INDEX('Podświetlanie modułów'!H:H,MATCH(G104,'Podświetlanie modułów'!F:F,0)),0)","v":0},{"$f":"IF(AO104*1>0,\"x\",IF(INDEX(Kalkulacja!A:A,Q104)=\"x\",\"x\",0))","v":0},"FALSE",{"$f":"MATCH(G104,Kalkulacja!$I$1:$I$416,0)","v":8},null,null,0,null,0,null,null,null,null,"Fotografia 1 szt z banku zdjęć",null,null,null,null,{"$f":"IFERROR(INDEX(Kalkulacja!V:V,Q104),0)","v":0},0,null,null,null,{"$f":"IFERROR(IF($J$115>0,INDEX(Kalkulacja!D:D,Q105),\"\"),\"\")","v":""},null,null,null,false]
[null,null,null,{"$f":"IFERROR(IF(N105>0,\"SUGEROWANE\",IF((INDEX(Kalkulacja!B:B,MATCH(G105,Kalkulacja!I:I,0)))=\"x\",\"USŁUGA\",\"\")),\"\")","v":"USŁUGA"},"i",null,{"$f":"Kalkulacja!I9","v":"Fotomontaż ze zdjęć 1 szt"},null,null,{"$f":"AO105*1","v":0},{"$f":"IFERROR(IF(Kalkulacja!$G$2=\"x\",INDEX(Kalkulacja!$Y$1:$Y$416,Q105),\"\"),\"\")","v":""},{"$f":"IFERROR(IF(Kalkulacja!$D$2=\"x\",IF(INDEX(Kalkulacja!J:J,Q105)=\"od\",\"od\",\"\"),\"\"),\"\")","v":""},{"$f":"IFERROR(IF(AND(Kalkulacja!$D$2=\"x\",$J$115>0),(IF(INDEX(Kalkulacja!D:D,Q105)=\"x\",\"Nie-Elementor\",\"\")),\"\"),\"\")","v":""},{"$f":"IFERROR(INDEX('Podświetlanie modułów'!H:H,MATCH(G105,'Podświetlanie modułów'!F:F,0)),0)","v":0},{"$f":"IF(AO105*1>0,\"x\",IF(INDEX(Kalkulacja!A:A,Q105)=\"x\",\"x\",0))","v":0},"FALSE",{"$f":"MATCH(G105,Kalkulacja!$I$1:$I$416,0)","v":9},null,null,0,null,0,null,null,null,null,"Fotomontaż ze zdjęć 1 szt",null,null,null,null,{"$f":"IFERROR(INDEX(Kalkulacja!V:V,Q105),0)","v":0},0,null,null,null,{"$f":"IFERROR(IF($J$115>0,INDEX(Kalkulacja!D:D,Q106),\"\"),\"\")","v":""},null,null,null,false]
[null,null,null,{"$f":"IFERROR(IF(N106>0,\"SUGEROWANE\",IF((INDEX(Kalkulacja!B:B,MATCH(G106,Kalkulacja!I:I,0)))=\"x\",\"USŁUGA\",\"\")),\"\")","v":"USŁUGA"},"i",null,{"$f":"Kalkulacja!I10","v":"Odrysowanie logo"},null,null,0,{"$f":"IFERROR(IF(Kalkulacja!$G$2=\"x\",INDEX(Kalkulacja!$Y$1:$Y$416,Q106),\"\"),\"\")","v":""},{"$f":"IFERROR(IF(Kalkulacja!$D$2=\"x\",IF(INDEX(Kalkulacja!J:J,Q106)=\"od\",\"od\",\"\"),\"\"),\"\")","v":""},{"$f":"IFERROR(IF(AND(Kalkulacja!$D$2=\"x\",$J$115>0),(IF(INDEX(Kalkulacja!D:D,Q106)=\"x\",\"Nie-Elementor\",\"\")),\"\"),\"\")","v":""},{"$f":"IFERROR(INDEX('Podświetlanie modułów'!H:H,MATCH(G106,'Podświetlanie modułów'!F:F,0)),0)","v":0},{"$f":"IF(AO106*1>0,\"x\",IF(INDEX(Kalkulacja!A:A,Q106)=\"x\",\"x\",0))","v":0},"FALSE",{"$f":"MATCH(G106,Kalkulacja!$I$1:$I$416,0)","v":10},null,null,0,null,0,null,null,null,null,"Odrysowanie logo",null,null,null,null,{"$f":"IFERROR(INDEX(Kalkulacja!V:V,Q106),0)","v":0},0,null,null,null,{"$f":"IFERROR(IF($J$115>0,INDEX(Kalkulacja!D:D,Q107),\"\"),\"\")","v":""},null,null,null,false]
[null,null,null,{"$f":"IFERROR(IF(N107>0,\"SUGEROWANE\",IF((INDEX(Kalkulacja!B:B,MATCH(G107,Kalkulacja!I:I,0)))=\"x\",\"USŁUGA\",\"\")),\"\")","v":"USŁUGA"},"i",null,{"$f":"Kalkulacja!I11","v":"Projekt nowego logo"},null,null,0,{"$f":"IFERROR(IF(Kalkulacja!$G$2=\"x\",INDEX(Kalkulacja!$Y$1:$Y$416,Q107),\"\"),\"\")","v":""},{"$f":"IFERROR(IF(Kalkulacja!$D$2=\"x\",IF(INDEX(Kalkulacja!J:J,Q107)=\"od\",\"od\",\"\"),\"\"),\"\")","v":""},{"$f":"IFERROR(IF(AND(Kalkulacja!$D$2=\"x\",$J$115>0),(IF(INDEX(Kalkulacja!D:D,Q107)=\"x\",\"Nie-Elementor\",\"\")),\"\"),\"\")","v":""},{"$f":"IFERROR(INDEX('Podświetlanie modułów'!H:H,MATCH(G107,'Podświetlanie modułów'!F:F,0)),0)","v":0},{"$f":"IF(AO107*1>0,\"x\",IF(INDEX(Kalkulacja!A:A,Q107)=\"x\",\"x\",0))","v":0},"FALSE",{"$f":"MATCH(G107,Kalkulacja!$I$1:$I$416,0)","v":11},null,null,0,null,0,null,null,null,null,"Projekt nowego logo",null,null,null,null,{"$f":"IFERROR(INDEX(Kalkulacja!V:V,Q107),0)","v":0},0,null,null,null,{"$f":"IFERROR(IF($J$115>0,INDEX(Kalkulacja!D:D,Q108),\"\"),\"\")","v":""},null,null,null,false]
[null,null,null,{"$f":"IFERROR(IF(N108>0,\"SUGEROWANE\",IF((INDEX(Kalkulacja!B:B,MATCH(G108,Kalkulacja!I:I,0)))=\"x\",\"USŁUGA\",\"\")),\"\")","v":""},"i",null,{"$f":"Kalkulacja!I12","v":"Dodatkowy moduł 1"},null,null,0,{"$f":"IFERROR(IF(Kalkulacja!$G$2=\"x\",INDEX(Kalkulacja!$Y$1:$Y$416,Q108),\"\"),\"\")","v":""},{"$f":"IFERROR(IF(Kalkulacja!$D$2=\"x\",IF(INDEX(Kalkulacja!J:J,Q108)=\"od\",\"od\",\"\"),\"\"),\"\")","v":""},{"$f":"IFERROR(IF(AND(Kalkulacja!$D$2=\"x\",$J$115>0),(IF(INDEX(Kalkulacja!D:D,Q108)=\"x\",\"Nie-Elementor\",\"\")),\"\"),\"\")","v":""},{"$f":"IFERROR(INDEX('Podświetlanie modułów'!H:H,MATCH(G108,'Podświetlanie modułów'!F:F,0)),0)","v":0},{"$f":"IF(AO108*1>0,\"x\",IF(INDEX(Kalkulacja!A:A,Q108)=\"x\",\"x\",0))","v":0},"FALSE",{"$f":"MATCH(G108,Kalkulacja!$I$1:$I$416,0)","v":12},null,null,0,null,0,null,null,null,null,"Dodatkowy moduł 1",null,null,null,null,{"$f":"IFERROR(INDEX(Kalkulacja!V:V,Q108),0)","v":0},0,null,null,null,{"$f":"IFERROR(IF($J$115>0,INDEX(Kalkulacja!D:D,Q109),\"\"),\"\")","v":""},null,null,null,false]
[null,null,null,{"$f":"IFERROR(IF(N109>0,\"SUGEROWANE\",IF((INDEX(Kalkulacja!B:B,MATCH(G109,Kalkulacja!I:I,0)))=\"x\",\"USŁUGA\",\"\")),\"\")","v":""},"i",null,{"$f":"Kalkulacja!I13","v":"Dodatkowy moduł 2"},null,null,0,{"$f":"IFERROR(IF(Kalkulacja!$G$2=\"x\",INDEX(Kalkulacja!$Y$1:$Y$416,Q109),\"\"),\"\")","v":""},{"$f":"IFERROR(IF(Kalkulacja!$D$2=\"x\",IF(INDEX(Kalkulacja!J:J,Q109)=\"od\",\"od\",\"\"),\"\"),\"\")","v":""},{"$f":"IFERROR(IF(AND(Kalkulacja!$D$2=\"x\",$J$115>0),(IF(INDEX(Kalkulacja!D:D,Q109)=\"x\",\"Nie-Elementor\",\"\")),\"\"),\"\")","v":""},{"$f":"IFERROR(INDEX('Podświetlanie modułów'!H:H,MATCH(G109,'Podświetlanie modułów'!F:F,0)),0)","v":0},{"$f":"IF(AO109*1>0,\"x\",IF(INDEX(Kalkulacja!A:A,Q109)=\"x\",\"x\",0))","v":0},"FALSE",{"$f":"MATCH(G109,Kalkulacja!$I$1:$I$416,0)","v":13},null,null,0,null,0,null,null,null,null,"Dodatkowy moduł 2",null,null,null,null,{"$f":"IFERROR(INDEX(Kalkulacja!V:V,Q109),0)","v":0},0,null,null,null,{"$f":"IFERROR(IF($J$115>0,INDEX(Kalkulacja!D:D,Q110),\"\"),\"\")","v":""},null,null,null,false]
[null,null,null,{"$f":"IFERROR(IF(N110>0,\"SUGEROWANE\",IF((INDEX(Kalkulacja!B:B,MATCH(G110,Kalkulacja!I:I,0)))=\"x\",\"USŁUGA\",\"\")),\"\")","v":""},"i",null,{"$f":"Kalkulacja!I14","v":"Dodatkowy moduł 3"},null,null,0,{"$f":"IFERROR(IF(Kalkulacja!$G$2=\"x\",INDEX(Kalkulacja!$Y$1:$Y$416,Q110),\"\"),\"\")","v":""},{"$f":"IFERROR(IF(Kalkulacja!$D$2=\"x\",IF(INDEX(Kalkulacja!J:J,Q110)=\"od\",\"od\",\"\"),\"\"),\"\")","v":""},{"$f":"IFERROR(IF(AND(Kalkulacja!$D$2=\"x\",$J$115>0),(IF(INDEX(Kalkulacja!D:D,Q110)=\"x\",\"Nie-Elementor\",\"\")),\"\"),\"\")","v":""},{"$f":"IFERROR(INDEX('Podświetlanie modułów'!H:H,MATCH(G110,'Podświetlanie modułów'!F:F,0)),0)","v":0},{"$f":"IF(AO110*1>0,\"x\",IF(INDEX(Kalkulacja!A:A,Q110)=\"x\",\"x\",0))","v":0},"FALSE",{"$f":"MATCH(G110,Kalkulacja!$I$1:$I$416,0)","v":14},null,null,0,null,0,null,null,null,null,"Dodatkowy moduł 3",null,null,null,null,{"$f":"IFERROR(INDEX(Kalkulacja!V:V,Q110),0)","v":0},0,null,null,null,{"$f":"IFERROR(IF($J$115>0,INDEX(Kalkulacja!D:D,Q111),\"\"),\"\")","v":""},null,null,null,false]
[null,null,null,{"$f":"IFERROR(IF(N111>0,\"SUGEROWANE\",IF((INDEX(Kalkulacja!B:B,MATCH(G111,Kalkulacja!I:I,0)))=\"x\",\"USŁUGA\",\"\")),\"\")","v":""},"i",null,{"$f":"Kalkulacja!I15","v":"Dodatkowy moduł 4"},null,null,0,{"$f":"IFERROR(IF(Kalkulacja!$G$2=\"x\",INDEX(Kalkulacja!$Y$1:$Y$416,Q111),\"\"),\"\")","v":""},{"$f":"IFERROR(IF(Kalkulacja!$D$2=\"x\",IF(INDEX(Kalkulacja!J:J,Q111)=\"od\",\"od\",\"\"),\"\"),\"\")","v":""},{"$f":"IFERROR(IF(AND(Kalkulacja!$D$2=\"x\",$J$115>0),(IF(INDEX(Kalkulacja!D:D,Q111)=\"x\",\"Nie-Elementor\",\"\")),\"\"),\"\")","v":""},{"$f":"IFERROR(INDEX('Podświetlanie modułów'!H:H,MATCH(G111,'Podświetlanie modułów'!F:F,0)),0)","v":0},{"$f":"IF(AO111*1>0,\"x\",IF(INDEX(Kalkulacja!A:A,Q111)=\"x\",\"x\",0))","v":0},"FALSE",{"$f":"MATCH(G111,Kalkulacja!$I$1:$I$416,0)","v":15},null,null,0,null,0,null,null,null,null,"Dodatkowy moduł 4",null,null,null,null,{"$f":"IFERROR(INDEX(Kalkulacja!V:V,Q111),0)","v":0},0,null,null,null,{"$f":"IFERROR(IF($J$115>0,INDEX(Kalkulacja!D:D,Q112),\"\"),\"\")","v":""},null,null,null,false]
[null,null,null,{"$f":"IFERROR(IF(N112>0,\"SUGEROWANE\",IF((INDEX(Kalkulacja!B:B,MATCH(G112,Kalkulacja!I:I,0)))=\"x\",\"USŁUGA\",\"\")),\"\")","v":""},"i",null,{"$f":"Kalkulacja!I16","v":"Dodatkowy moduł 5"},null,null,0,{"$f":"IFERROR(IF(Kalkulacja!$G$2=\"x\",INDEX(Kalkulacja!$Y$1:$Y$416,Q112),\"\"),\"\")","v":""},{"$f":"IFERROR(IF(Kalkulacja!$D$2=\"x\",IF(INDEX(Kalkulacja!J:J,Q112)=\"od\",\"od\",\"\"),\"\"),\"\")","v":""},{"$f":"IFERROR(IF(AND(Kalkulacja!$D$2=\"x\",$J$115>0),(IF(INDEX(Kalkulacja!D:D,Q112)=\"x\",\"Nie-Elementor\",\"\")),\"\"),\"\")","v":""},{"$f":"IFERROR(INDEX('Podświetlanie modułów'!H:H,MATCH(G112,'Podświetlanie modułów'!F:F,0)),0)","v":0},{"$f":"IF(AO112*1>0,\"x\",IF(INDEX(Kalkulacja!A:A,Q112)=\"x\",\"x\",0))","v":0},"FALSE",{"$f":"MATCH(G112,Kalkulacja!$I$1:$I$416,0)","v":16},null,null,0,null,0,null,null,null,null,"Dodatkowy moduł 5",null,null,null,null,{"$f":"IFERROR(INDEX(Kalkulacja!V:V,Q112),0)","v":0},0,null,null,null,{"$f":"IFERROR(IF($J$115>0,INDEX(Kalkulacja!D:D,Q113),\"\"),\"\")","v":""},null,null,null,false]
[null,null,null,{"$f":"IFERROR(IF(N113>0,\"SUGEROWANE\",IF((INDEX(Kalkulacja!B:B,MATCH(G113,Kalkulacja!I:I,0)))=\"x\",\"USŁUGA\",\"\")),\"\")","v":""},{"$f":"Kalkulacja!I17","v":"Moduły i usługi strony www"},null,null,null,null,null,null,{"$f":"IFERROR(IF(Kalkulacja!$D$2=\"x\",IF(INDEX(Kalkulacja!J:J,Q113)=\"od\",\"od\",\"\"),\"\"),\"\")","v":""},{"$f":"IFERROR(IF(AND(Kalkulacja!$D$2=\"x\",$J$115>0),(IF(INDEX(Kalkulacja!D:D,Q113)=\"x\",\"Nie-Elementor\",\"\")),\"\"),\"\")","v":""},{"$f":"IFERROR(INDEX('Podświetlanie modułów'!H:H,MATCH(G113,'Podświetlanie modułów'!F:F,0)),0)","v":0},{"$f":"IF(COUNTIF(O114:O224,\"x\")>0,\"x\",0)","v":"x"},"TRUE",{"$f":"MATCH(E113,Kalkulacja!$I$1:$I$416,0)","v":17},null,null,0,null,0,null,null,null,null,0,null,null,null,null,{"$f":"IFERROR(INDEX(Kalkulacja!V:V,Q113),0)","v":0},0,null,null,null,{"$f":"IFERROR(IF($J$115>0,INDEX(Kalkulacja!D:D,Q114),\"\"),\"\")","v":""}]
[null,null,null,{"$f":"IFERROR(IF(N114>0,\"SUGEROWANE\",IF((INDEX(Kalkulacja!B:B,MATCH(G114,Kalkulacja!I:I,0)))=\"x\",\"USŁUGA\",\"\")),\"\")","v":""},{"$f":"Kalkulacja!I18","v":"Moduły podstawowe"},null,null,null,null,null,null,{"$f":"IFERROR(IF(Kalkulacja!$D$2=\"x\",IF(INDEX(Kalkulacja!J:J,Q114)=\"od\",\"od\",\"\"),\"\"),\"\")","v":""},{"$f":"IFERROR(IF(AND(Kalkulacja!$D$2=\"x\",$J$115>0),(IF(INDEX(Kalkulacja!D:D,Q114)=\"x\",\"Nie-Elementor\",\"\")),\"\"),\"\")","v":""},{"$f":"IFERROR(INDEX('Podświetlanie modułów'!H:H,MATCH(G114,'Podświetlanie modułów'!F:F,0)),0)","v":0},{"$f":"IF(COUNTIF(O115:O179,\"x\")>0,\"x\",0)","v":"x"},"TRUE",{"$f":"MATCH(E114,Kalkulacja!$I$1:$I$416,0)","v":18},null,null,0,null,0,null,null,null,null,0,null,null,null,null,{"$f":"IFERROR(INDEX(Kalkulacja!V:V,Q114),0)","v":0},0,null,null,null,{"$f":"IFERROR(IF($J$115>0,INDEX(Kalkulacja!D:D,Q115),\"\"),\"\")","v":""}]
[null,null,null,{"$f":"IFERROR(IF(N115>0,\"SUGEROWANE\",IF((INDEX(Kalkulacja!B:B,MATCH(G115,Kalkulacja!I:I,0)))=\"x\",\"USŁUGA\",\"\")),\"\")","v":""},"i",null,{"$f":"Kalkulacja!I19","v":"Edytor Elementor (Drag & Drop)"},null,null,{"$f":"AO115*1","v":0},{"$f":"IFERROR(IF(Kalkulacja!$G$2=\"x\",INDEX(Kalkulacja!$Y$1:$Y$416,Q115),\"\"),\"\")","v":""},{"$f":"IFERROR(IF(Kalkulacja!$D$2=\"x\",IF(INDEX(Kalkulacja!J:J,Q115)=\"od\",\"od\",\"\"),\"\"),\"\")","v":""},{"$f":"IFERROR(IF(AND(Kalkulacja!$D$2=\"x\",$J$115>0),(IF(INDEX(Kalkulacja!D:D,Q115)=\"x\",\"Nie-Elementor\",\"\")),\"\"),\"\")","v":""},{"$f":"IFERROR(INDEX('Podświetlanie modułów'!H:H,MATCH(G115,'Podświetlanie modułów'!F:F,0)),0)","v":0},{"$f":"IF(AO115*1>0,\"x\",IF(INDEX(Kalkulacja!A:A,Q115)=\"x\",\"x\",0))","v":0},"FALSE",{"$f":"MATCH(G115,Kalkulacja!$I$1:$I$416,0)","v":19},null,null,0,null,0,null,null,null,null,"Edytor Elementor (Drag & Drop)",null,null,null,null,{"$f":"IFERROR(INDEX(Kalkulacja!V:V,Q115),0)","v":0},0,null,null,null,{"$f":"IFERROR(IF($J$115>0,INDEX(Kalkulacja!D:D,Q116),\"\"),\"\")","v":""},null,null,null,false]
[null,null,null,{"$f":"IFERROR(IF(N116>0,\"SUGEROWANE\",IF((INDEX(Kalkulacja!B:B,MATCH(G116,Kalkulacja!I:I,0)))=\"x\",\"USŁUGA\",\"\")),\"\")","v":""},"i",{"$f":"IF(ISBLANK(G116),\" Wybierz liczbę sekcji strony głównej\",\"\")","v":""},{"$f":"INDEX(X$116:$X120,MATCH($T$116,$Y$116:$Y$120,0))","v":"Strona główna 3 sekcje (projekt + kodowanie)"},null,null,{"$f":"AO116*1","v":1},{"$f":"IFERROR(IF(Kalkulacja!$G$2=\"x\",INDEX(Kalkulacja!$Y$1:$Y$416,Q116),\"\"),\"\")","v":""},{"$f":"IFERROR(IF(Kalkulacja!$D$2=\"x\",IF(INDEX(Kalkulacja!J:J,Q116)=\"od\",\"od\",\"\"),\"\"),\"\")","v":""},{"$f":"IFERROR(IF(AND(Kalkulacja!$D$2=\"x\",$J$115>0),(IF(INDEX(Kalkulacja!D:D,Q116)=\"x\",\"Nie-Elementor\",\"\")),\"\"),\"\")","v":""},{"$f":"IFERROR(INDEX('Podświetlanie modułów'!H:H,MATCH(G116,'Podświetlanie modułów'!F:F,0)),0)","v":0},{"$f":"IF(AO116*1>0,\"x\",IF(COUNTIF(Kalkulacja!$A$20:$A$24,\"x\")>0,\"x\",0))","v":"x"},"TRUE",{"$f":"MATCH(G116,Kalkulacja!$I$1:$I$416,0)","v":20},null,null,1,{"$f":"IFERROR(INDEX($Y$116:$Y$120,MATCH(\"x\",$Z$116:$Z$120,0)),1)","v":1},0,null,{"$f":"Kalkulacja!I20","v":"Strona główna 3 sekcje (projekt + kodowanie)"},1,{"$f":"INDEX(Kalkulacja!$C$20:$C$24,MATCH(X116,Kalkulacja!$I$20:$I$24,0))","v":0},{"$f":"G116","v":"Strona główna 3 sekcje (projekt + kodowanie)"},null,null,null,null,{"$f":"IFERROR(INDEX(Kalkulacja!V:V,Q116),0)","v":"x"},0,null,null,null,{"$f":"IFERROR(IF($J$115>0,INDEX(Kalkulacja!D:D,Q117),\"\"),\"\")","v":""},null,null,null,true]
[null,null,null,{"$f":"IFERROR(IF(N117>0,\"SUGEROWANE\",IF((INDEX(Kalkulacja!B:B,MATCH(G117,Kalkulacja!I:I,0)))=\"x\",\"USŁUGA\",\"\")),\"\")","v":""},"i",{"$f":"IF(ISBLANK(G117),\" Wybierz liczbę sekcji strony\",\"\")","v":""},{"$f":"Kalkulacja!I25","v":"Strona 1 sekcja (projekt + kodowanie)"},null,null,{"$f":"AO117*1","v":0},{"$f":"IFERROR(IF(Kalkulacja!$G$2=\"x\",INDEX(Kalkulacja!$Y$1:$Y$416,Q117),\"\"),\"\")","v":""},{"$f":"IFERROR(IF(Kalkulacja!$D$2=\"x\",IF(INDEX(Kalkulacja!J:J,Q117)=\"od\",\"od\",\"\"),\"\"),\"\")","v":""},{"$f":"IFERROR(IF(AND(Kalkulacja!$D$2=\"x\",$J$115>0),(IF(INDEX(Kalkulacja!D:D,Q117)=\"x\",\"Nie-Elementor\",\"\")),\"\"),\"\")","v":""},{"$f":"IFERROR(INDEX('Podświetlanie modułów'!H:H,MATCH(G117,'Podświetlanie modułów'!F:F,0)),0)","v":0},{"$f":"IF(AO117*1>0,\"x\",IF(INDEX(Kalkulacja!A:A,Q117)=\"x\",\"x\",0))","v":0},"FALSE",{"$f":"MATCH(G117,Kalkulacja!$I$1:$I$416,0)","v":25},null,null,0,null,0,null,{"$f":"Kalkulacja!I21","v":"Strona główna 5 sekcji (projekt + kodowanie)"},2,{"$f":"INDEX(Kalkulacja!$C$20:$C$24,MATCH(X117,Kalkulacja!$I$20:$I$24,0))","v":0},"Strona 1 sekcja (projekt + kodowanie)",null,null,null,null,{"$f":"IFERROR(INDEX(Kalkulacja!V:V,Q117),0)","v":0},0,null,null,null,{"$f":"IFERROR(IF($J$115>0,INDEX(Kalkulacja!D:D,Q118),\"\"),\"\")","v":""},null,null,null,false]
[null,null,null,{"$f":"IFERROR(IF(N118>0,\"SUGEROWANE\",IF((INDEX(Kalkulacja!B:B,MATCH(G118,Kalkulacja!I:I,0)))=\"x\",\"USŁUGA\",\"\")),\"\")","v":""},"i",{"$f":"IF(ISBLANK(#REF!),\" Podaj szczegóły sekcji\",\"\")","v":""},"wpisz nazwy stron",null,null,null,null,{"$f":"IFERROR(IF(Kalkulacja!$D$2=\"x\",IF(INDEX(Kalkulacja!J:J,Q118)=\"od\",\"od\",\"\"),\"\"),\"\")","v":""},{"$f":"IFERROR(IF(AND(Kalkulacja!$D$2=\"x\",$J$115>0),(IF(INDEX(Kalkulacja!D:D,Q118)=\"x\",\"Nie-Elementor\",\"\")),\"\"),\"\")","v":""},{"$f":"IFERROR(INDEX('Podświetlanie modułów'!H:H,MATCH(G118,'Podświetlanie modułów'!F:F,0)),0)","v":0},{"$f":"IF(O117=\"x\",\"x\",0)","v":0},"FALSE",{"$f":"MATCH(G118,Kalkulacja!$I$1:$I$416,0)","v":{"$error":"#N/A"}},null,null,0,null,0,null,{"$f":"Kalkulacja!I22","v":"Strona główna 7 sekcji (projekt + kodowanie)"},3,{"$f":"INDEX(Kalkulacja!$C$20:$C$24,MATCH(X118,Kalkulacja!$I$20:$I$24,0))","v":0},"wpisz nazwy stron",null,null,null,null,{"$f":"IFERROR(INDEX(Kalkulacja!V:V,Q118),0)","v":0},0,null,null,null,{"$f":"IFERROR(IF($J$115>0,INDEX(Kalkulacja!D:D,Q119),\"\"),\"\")","v":""},null,null,null,{"$f":"S118","v":0}]
[null,null,null,{"$f":"IFERROR(IF(N119>0,\"SUGEROWANE\",IF((INDEX(Kalkulacja!B:B,MATCH(G119,Kalkulacja!I:I,0)))=\"x\",\"USŁUGA\",\"\")),\"\")","v":""},"i",null,{"$f":"Kalkulacja!I27","v":"Strona 2 sekcje (projekt + kodowanie)"},null,null,{"$f":"AO119*1","v":0},{"$f":"IFERROR(IF(Kalkulacja!$G$2=\"x\",INDEX(Kalkulacja!$Y$1:$Y$416,Q119),\"\"),\"\")","v":""},{"$f":"IFERROR(IF(Kalkulacja!$D$2=\"x\",IF(INDEX(Kalkulacja!J:J,Q119)=\"od\",\"od\",\"\"),\"\"),\"\")","v":""},{"$f":"IFERROR(IF(AND(Kalkulacja!$D$2=\"x\",$J$115>0),(IF(INDEX(Kalkulacja!D:D,Q119)=\"x\",\"Nie-Elementor\",\"\")),\"\"),\"\")","v":""},{"$f":"IFERROR(INDEX('Podświetlanie modułów'!H:H,MATCH(G119,'Podświetlanie modułów'!F:F,0)),0)","v":0},{"$f":"IF(AO119*1>0,\"x\",IF(INDEX(Kalkulacja!A:A,Q119)=\"x\",\"x\",0))","v":0},"FALSE",{"$f":"MATCH(G119,Kalkulacja!$I$1:$I$416,0)","v":27},null,null,0,null,0,null,{"$f":"Kalkulacja!I23","v":"Strona główna 10 sekcji (projekt + kodowanie)"},4,{"$f":"INDEX(Kalkulacja!$C$20:$C$24,MATCH(X119,Kalkulacja!$I$20:$I$24,0))","v":0},"Strona 2 sekcje (projekt + kodowanie)",null,null,null,null,{"$f":"IFERROR(INDEX(Kalkulacja!V:V,Q119),0)","v":0},0,null,null,null,{"$f":"IFERROR(IF($J$115>0,INDEX(Kalkulacja!D:D,Q120),\"\"),\"\")","v":""},null,null,null,false]
[null,null,null,{"$f":"IFERROR(IF(N120>0,\"SUGEROWANE\",IF((INDEX(Kalkulacja!B:B,MATCH(G120,Kalkulacja!I:I,0)))=\"x\",\"USŁUGA\",\"\")),\"\")","v":""},"i",null,"wpisz nazwy stron",null,null,null,null,{"$f":"IFERROR(IF(Kalkulacja!$D$2=\"x\",IF(INDEX(Kalkulacja!J:J,Q120)=\"od\",\"od\",\"\"),\"\"),\"\")","v":""},{"$f":"IFERROR(IF(AND(Kalkulacja!$D$2=\"x\",$J$115>0),(IF(INDEX(Kalkulacja!D:D,Q120)=\"x\",\"Nie-Elementor\",\"\")),\"\"),\"\")","v":""},{"$f":"IFERROR(INDEX('Podświetlanie modułów'!H:H,MATCH(G120,'Podświetlanie modułów'!F:F,0)),0)","v":0},{"$f":"IF(O119=\"x\",\"x\",0)","v":0},"FALSE",{"$f":"MATCH(G120,Kalkulacja!$I$1:$I$416,0)","v":{"$error":"#N/A"}},null,null,0,null,0,null,{"$f":"Kalkulacja!I24","v":"Strona główna 15 sekcji (projekt + kodowanie)"},5,{"$f":"INDEX(Kalkulacja!$C$20:$C$24,MATCH(X120,Kalkulacja!$I$20:$I$24,0))","v":0},"wpisz nazwy stron",null,null,null,null,{"$f":"IFERROR(INDEX(Kalkulacja!V:V,Q120),0)","v":0},0,null,null,null,{"$f":"IFERROR(IF($J$115>0,INDEX(Kalkulacja!D:D,Q121),\"\"),\"\")","v":""},null,null,null,{"$f":"S120","v":0}]
[null,null,null,{"$f":"IFERROR(IF(N121>0,\"SUGEROWANE\",IF((INDEX(Kalkulacja!B:B,MATCH(G121,Kalkulacja!I:I,0)))=\"x\",\"USŁUGA\",\"\")),\"\")","v":""},"i",null,{"$f":"Kalkulacja!I29","v":"Strona 3 sekcje (projekt + kodowanie)"},null,null,{"$f":"AO121*1","v":0},{"$f":"IFERROR(IF(Kalkulacja!$G$2=\"x\",INDEX(Kalkulacja!$Y$1:$Y$416,Q121),\"\"),\"\")","v":""},{"$f":"IFERROR(IF(Kalkulacja!$D$2=\"x\",IF(INDEX(Kalkulacja!J:J,Q121)=\"od\",\"od\",\"\"),\"\"),\"\")","v":""},{"$f":"IFERROR(IF(AND(Kalkulacja!$D$2=\"x\",$J$115>0),(IF(INDEX(Kalkulacja!D:D,Q121)=\"x\",\"Nie-Elementor\",\"\")),\"\"),\"\")","v":""},{"$f":"IFERROR(INDEX('Podświetlanie modułów'!H:H,MATCH(G121,'Podświetlanie modułów'!F:F,0)),0)","v":0},{"$f":"IF(AO121*1>0,\"x\",IF(INDEX(Kalkulacja!A:A,Q121)=\"x\",\"x\",0))","v":0},"FALSE",{"$f":"MATCH(G121,Kalkulacja!$I$1:$I$416,0)","v":29},null,null,0,null,0,null,null,null,null,"Strona 3 sekcje (projekt + kodowanie)",null,null,null,null,{"$f":"IFERROR(INDEX(Kalkulacja!V:V,Q121),0)","v":0},0,null,null,null,{"$f":"IFERROR(IF($J$115>0,INDEX(Kalkulacja!D:D,Q122),\"\"),\"\")","v":""},null,null,null,false]
[null,null,null,{"$f":"IFERROR(IF(N122>0,\"SUGEROWANE\",IF((INDEX(Kalkulacja!B:B,MATCH(G122,Kalkulacja!I:I,0)))=\"x\",\"USŁUGA\",\"\")),\"\")","v":""},"i",{"$f":"IF(ISBLANK(#REF!),\" Podaj szczegóły sekcji\",\"\")","v":""},"wpisz nazwy stron",null,null,null,null,{"$f":"IFERROR(IF(Kalkulacja!$D$2=\"x\",IF(INDEX(Kalkulacja!J:J,Q122)=\"od\",\"od\",\"\"),\"\"),\"\")","v":""},{"$f":"IFERROR(IF(AND(Kalkulacja!$D$2=\"x\",$J$115>0),(IF(INDEX(Kalkulacja!D:D,Q122)=\"x\",\"Nie-Elementor\",\"\")),\"\"),\"\")","v":""},{"$f":"IFERROR(INDEX('Podświetlanie modułów'!H:H,MATCH(G122,'Podświetlanie modułów'!F:F,0)),0)","v":0},{"$f":"IF(O121=\"x\",\"x\",0)","v":0},"FALSE",{"$f":"MATCH(G122,Kalkulacja!$I$1:$I$416,0)","v":{"$error":"#N/A"}},null,null,0,null,0,null,null,null,null,"wpisz nazwy stron",null,null,null,null,{"$f":"IFERROR(INDEX(Kalkulacja!V:V,Q122),0)","v":0},0,null,null,null,{"$f":"IFERROR(IF($J$115>0,INDEX(Kalkulacja!D:D,Q123),\"\"),\"\")","v":""},null,null,null,{"$f":"S122","v":0}]
[null,null,null,{"$f":"IFERROR(IF(N123>0,\"SUGEROWANE\",IF((INDEX(Kalkulacja!B:B,MATCH(G123,Kalkulacja!I:I,0)))=\"x\",\"USŁUGA\",\"\")),\"\")","v":""},"i",null,{"$f":"Kalkulacja!I31","v":"Strona 4 sekcje (projekt + kodowanie)"},null,null,{"$f":"AO123*1","v":0},{"$f":"IFERROR(IF(Kalkulacja!$G$2=\"x\",INDEX(Kalkulacja!$Y$1:$Y$416,Q123),\"\"),\"\")","v":""},{"$f":"IFERROR(IF(Kalkulacja!$D$2=\"x\",IF(INDEX(Kalkulacja!J:J,Q123)=\"od\",\"od\",\"\"),\"\"),\"\")","v":""},{"$f":"IFERROR(IF(AND(Kalkulacja!$D$2=\"x\",$J$115>0),(IF(INDEX(Kalkulacja!D:D,Q123)=\"x\",\"Nie-Elementor\",\"\")),\"\"),\"\")","v":""},{"$f":"IFERROR(INDEX('Podświetlanie modułów'!H:H,MATCH(G123,'Podświetlanie modułów'!F:F,0)),0)","v":0},{"$f":"IF(AO123*1>0,\"x\",IF(INDEX(Kalkulacja!A:A,Q123)=\"x\",\"x\",0))","v":0},"FALSE",{"$f":"MATCH(G123,Kalkulacja!$I$1:$I$416,0)","v":31},null,null,0,null,0,null,null,null,null,"Strona 4 sekcje (projekt + kodowanie)",null,null,null,null,{"$f":"IFERROR(INDEX(Kalkulacja!V:V,Q123),0)","v":0},0,null,null,null,{"$f":"IFERROR(IF($J$115>0,INDEX(Kalkulacja!D:D,Q124),\"\"),\"\")","v":""},null,null,null,false]
[null,null,null,{"$f":"IFERROR(IF(N124>0,\"SUGEROWANE\",IF((INDEX(Kalkulacja!B:B,MATCH(G124,Kalkulacja!I:I,0)))=\"x\",\"USŁUGA\",\"\")),\"\")","v":""},"i",null,"wpisz nazwy stron",null,null,null,null,{"$f":"IFERROR(IF(Kalkulacja!$D$2=\"x\",IF(INDEX(Kalkulacja!J:J,Q124)=\"od\",\"od\",\"\"),\"\"),\"\")","v":""},{"$f":"IFERROR(IF(AND(Kalkulacja!$D$2=\"x\",$J$115>0),(IF(INDEX(Kalkulacja!D:D,Q124)=\"x\",\"Nie-Elementor\",\"\")),\"\"),\"\")","v":""},{"$f":"IFERROR(INDEX('Podświetlanie modułów'!H:H,MATCH(G124,'Podświetlanie modułów'!F:F,0)),0)","v":0},{"$f":"IF(O123=\"x\",\"x\",0)","v":0},"FALSE",{"$f":"MATCH(G124,Kalkulacja!$I$1:$I$416,0)","v":{"$error":"#N/A"}},null,null,0,null,0,null,null,null,null,"wpisz nazwy stron",null,null,null,null,{"$f":"IFERROR(INDEX(Kalkulacja!V:V,Q124),0)","v":0},0,null,null,null,{"$f":"IFERROR(IF($J$115>0,INDEX(Kalkulacja!D:D,Q125),\"\"),\"\")","v":""},null,null,null,{"$f":"S124","v":0}]
[null,null,null,{"$f":"IFERROR(IF(N125>0,\"SUGEROWANE\",IF((INDEX(Kalkulacja!B:B,MATCH(G125,Kalkulacja!I:I,0)))=\"x\",\"USŁUGA\",\"\")),\"\")","v":""},"i",null,{"$f":"Kalkulacja!I33","v":"Strona 5 sekcji  (projekt + kodowanie)"},null,null,{"$f":"AO125*1","v":0},{"$f":"IFERROR(IF(Kalkulacja!$G$2=\"x\",INDEX(Kalkulacja!$Y$1:$Y$416,Q125),\"\"),\"\")","v":""},{"$f":"IFERROR(IF(Kalkulacja!$D$2=\"x\",IF(INDEX(Kalkulacja!J:J,Q125)=\"od\",\"od\",\"\"),\"\"),\"\")","v":""},{"$f":"IFERROR(IF(AND(Kalkulacja!$D$2=\"x\",$J$115>0),(IF(INDEX(Kalkulacja!D:D,Q125)=\"x\",\"Nie-Elementor\",\"\")),\"\"),\"\")","v":""},{"$f":"IFERROR(INDEX('Podświetlanie modułów'!H:H,MATCH(G125,'Podświetlanie modułów'!F:F,0)),0)","v":0},{"$f":"IF(AO125*1>0,\"x\",IF(INDEX(Kalkulacja!A:A,Q125)=\"x\",\"x\",0))","v":0},"FALSE",{"$f":"MATCH(G125,Kalkulacja!$I$1:$I$416,0)","v":33},null,null,0,null,0,null,null,null,null,"Strona 5 sekcji  (projekt + kodowanie)",null,null,null,null,{"$f":"IFERROR(INDEX(Kalkulacja!V:V,Q125),0)","v":0},0,null,null,null,{"$f":"IFERROR(IF($J$115>0,INDEX(Kalkulacja!D:D,Q126),\"\"),\"\")","v":""},null,null,null,false]
[null,null,null,{"$f":"IFERROR(IF(N126>0,\"SUGEROWANE\",IF((INDEX(Kalkulacja!B:B,MATCH(G126,Kalkulacja!I:I,0)))=\"x\",\"USŁUGA\",\"\")),\"\")","v":""},"i",{"$f":"IF(ISBLANK(#REF!),\" Podaj szczegóły sekcji\",\"\")","v":""},"wpisz nazwy stron",null,null,null,null,{"$f":"IFERROR(IF(Kalkulacja!$D$2=\"x\",IF(INDEX(Kalkulacja!J:J,Q126)=\"od\",\"od\",\"\"),\"\"),\"\")","v":""},{"$f":"IFERROR(IF(AND(Kalkulacja!$D$2=\"x\",$J$115>0),(IF(INDEX(Kalkulacja!D:D,Q126)=\"x\",\"Nie-Elementor\",\"\")),\"\"),\"\")","v":""},{"$f":"IFERROR(INDEX('Podświetlanie modułów'!H:H,MATCH(G126,'Podświetlanie modułów'!F:F,0)),0)","v":0},{"$f":"IF(O125=\"x\",\"x\",0)","v":0},"FALSE",{"$f":"MATCH(G126,Kalkulacja!$I$1:$I$416,0)","v":{"$error":"#N/A"}},null,null,0,null,0,null,null,null,null,{"$f":"G126","v":"wpisz nazwy stron"},null,null,null,null,{"$f":"IFERROR(INDEX(Kalkulacja!V:V,Q126),0)","v":0},0,null,null,null,{"$f":"IFERROR(IF($J$115>0,INDEX(Kalkulacja!D:D,Q127),\"\"),\"\")","v":""},null,null,null,{"$f":"S126","v":0}]
[null,null,null,{"$f":"IFERROR(IF(N127>0,\"SUGEROWANE\",IF((INDEX(Kalkulacja!B:B,MATCH(G127,Kalkulacja!I:I,0)))=\"x\",\"USŁUGA\",\"\")),\"\")","v":""},"i",null,{"$f":"Kalkulacja!I35","v":"Strona 6 sekcji (projekt + kodowanie)"},null,null,{"$f":"AO127*1","v":0},{"$f":"IFERROR(IF(Kalkulacja!$G$2=\"x\",INDEX(Kalkulacja!$Y$1:$Y$416,Q127),\"\"),\"\")","v":""},{"$f":"IFERROR(IF(Kalkulacja!$D$2=\"x\",IF(INDEX(Kalkulacja!J:J,Q127)=\"od\",\"od\",\"\"),\"\"),\"\")","v":""},{"$f":"IFERROR(IF(AND(Kalkulacja!$D$2=\"x\",$J$115>0),(IF(INDEX(Kalkulacja!D:D,Q127)=\"x\",\"Nie-Elementor\",\"\")),\"\"),\"\")","v":""},{"$f":"IFERROR(INDEX('Podświetlanie modułów'!H:H,MATCH(G127,'Podświetlanie modułów'!F:F,0)),0)","v":0},{"$f":"IF(AO127*1>0,\"x\",IF(INDEX(Kalkulacja!A:A,Q127)=\"x\",\"x\",0))","v":0},"FALSE",{"$f":"MATCH(G127,Kalkulacja!$I$1:$I$416,0)","v":35},null,null,0,null,0,null,null,null,null,"Strona 6 sekcji (projekt + kodowanie)",null,null,null,null,{"$f":"IFERROR(INDEX(Kalkulacja!V:V,Q127),0)","v":0},0,null,null,null,{"$f":"IFERROR(IF($J$115>0,INDEX(Kalkulacja!D:D,Q128),\"\"),\"\")","v":""},null,null,null,false]
[null,null,null,{"$f":"IFERROR(IF(N128>0,\"SUGEROWANE\",IF((INDEX(Kalkulacja!B:B,MATCH(G128,Kalkulacja!I:I,0)))=\"x\",\"USŁUGA\",\"\")),\"\")","v":""},"i",null,"wpisz nazwy stron",null,null,null,null,{"$f":"IFERROR(IF(Kalkulacja!$D$2=\"x\",IF(INDEX(Kalkulacja!J:J,Q128)=\"od\",\"od\",\"\"),\"\"),\"\")","v":""},{"$f":"IFERROR(IF(AND(Kalkulacja!$D$2=\"x\",$J$115>0),(IF(INDEX(Kalkulacja!D:D,Q128)=\"x\",\"Nie-Elementor\",\"\")),\"\"),\"\")","v":""},{"$f":"IFERROR(INDEX('Podświetlanie modułów'!H:H,MATCH(G128,'Podświetlanie modułów'!F:F,0)),0)","v":0},{"$f":"IF(O127=\"x\",\"x\",0)","v":0},"FALSE",{"$f":"MATCH(G128,Kalkulacja!$I$1:$I$416,0)","v":{"$error":"#N/A"}},null,null,0,null,0,null,null,null,null,"wpisz nazwy stron",null,null,null,null,{"$f":"IFERROR(INDEX(Kalkulacja!V:V,Q128),0)","v":0},0,null,null,null,{"$f":"IFERROR(IF($J$115>0,INDEX(Kalkulacja!D:D,Q129),\"\"),\"\")","v":""},null,null,null,{"$f":"S128","v":0}]
[null,null,null,{"$f":"IFERROR(IF(N129>0,\"SUGEROWANE\",IF((INDEX(Kalkulacja!B:B,MATCH(G129,Kalkulacja!I:I,0)))=\"x\",\"USŁUGA\",\"\")),\"\")","v":""},"i",null,{"$f":"Kalkulacja!I37","v":"Strona 7 sekcji (projekt + kodowanie)"},null,null,{"$f":"AO129*1","v":0},{"$f":"IFERROR(IF(Kalkulacja!$G$2=\"x\",INDEX(Kalkulacja!$Y$1:$Y$416,Q129),\"\"),\"\")","v":""},{"$f":"IFERROR(IF(Kalkulacja!$D$2=\"x\",IF(INDEX(Kalkulacja!J:J,Q129)=\"od\",\"od\",\"\"),\"\"),\"\")","v":""},{"$f":"IFERROR(IF(AND(Kalkulacja!$D$2=\"x\",$J$115>0),(IF(INDEX(Kalkulacja!D:D,Q129)=\"x\",\"Nie-Elementor\",\"\")),\"\"),\"\")","v":""},{"$f":"IFERROR(INDEX('Podświetlanie modułów'!H:H,MATCH(G129,'Podświetlanie modułów'!F:F,0)),0)","v":0},{"$f":"IF(AO129*1>0,\"x\",IF(INDEX(Kalkulacja!A:A,Q129)=\"x\",\"x\",0))","v":0},"FALSE",{"$f":"MATCH(G129,Kalkulacja!$I$1:$I$416,0)","v":37},null,null,0,null,0,null,null,null,null,"Strona 7 sekcji (projekt + kodowanie)",null,null,null,null,{"$f":"IFERROR(INDEX(Kalkulacja!V:V,Q129),0)","v":0},0,null,null,null,{"$f":"IFERROR(IF($J$115>0,INDEX(Kalkulacja!D:D,Q130),\"\"),\"\")","v":""},null,null,null,false]
[null,null,null,{"$f":"IFERROR(IF(N130>0,\"SUGEROWANE\",IF((INDEX(Kalkulacja!B:B,MATCH(G130,Kalkulacja!I:I,0)))=\"x\",\"USŁUGA\",\"\")),\"\")","v":""},"i",{"$f":"IF(ISBLANK(#REF!),\" Podaj szczegóły sekcji\",\"\")","v":""},"wpisz nazwy stron",null,null,null,null,{"$f":"IFERROR(IF(Kalkulacja!$D$2=\"x\",IF(INDEX(Kalkulacja!J:J,Q130)=\"od\",\"od\",\"\"),\"\"),\"\")","v":""},{"$f":"IFERROR(IF(AND(Kalkulacja!$D$2=\"x\",$J$115>0),(IF(INDEX(Kalkulacja!D:D,Q130)=\"x\",\"Nie-Elementor\",\"\")),\"\"),\"\")","v":""},{"$f":"IFERROR(INDEX('Podświetlanie modułów'!H:H,MATCH(G130,'Podświetlanie modułów'!F:F,0)),0)","v":0},{"$f":"IF(O129=\"x\",\"x\",0)","v":0},"FALSE",{"$f":"MATCH(G130,Kalkulacja!$I$1:$I$416,0)","v":{"$error":"#N/A"}},null,null,0,null,0,null,null,null,null,"wpisz nazwy stron",null,null,null,null,{"$f":"IFERROR(INDEX(Kalkulacja!V:V,Q130),0)","v":0},0,null,null,null,{"$f":"IFERROR(IF($J$115>0,INDEX(Kalkulacja!D:D,Q131),\"\"),\"\")","v":""},null,null,null,{"$f":"S130","v":0}]
[null,null,null,{"$f":"IFERROR(IF(N131>0,\"SUGEROWANE\",IF((INDEX(Kalkulacja!B:B,MATCH(G131,Kalkulacja!I:I,0)))=\"x\",\"USŁUGA\",\"\")),\"\")","v":""},"i",null,{"$f":"Kalkulacja!I39","v":"Strona 8 sekcji (projekt + kodowanie)"},null,null,{"$f":"AO131*1","v":0},{"$f":"IFERROR(IF(Kalkulacja!$G$2=\"x\",INDEX(Kalkulacja!$Y$1:$Y$416,Q131),\"\"),\"\")","v":""},{"$f":"IFERROR(IF(Kalkulacja!$D$2=\"x\",IF(INDEX(Kalkulacja!J:J,Q131)=\"od\",\"od\",\"\"),\"\"),\"\")","v":""},{"$f":"IFERROR(IF(AND(Kalkulacja!$D$2=\"x\",$J$115>0),(IF(INDEX(Kalkulacja!D:D,Q131)=\"x\",\"Nie-Elementor\",\"\")),\"\"),\"\")","v":""},{"$f":"IFERROR(INDEX('Podświetlanie modułów'!H:H,MATCH(G131,'Podświetlanie modułów'!F:F,0)),0)","v":0},{"$f":"IF(AO131*1>0,\"x\",IF(INDEX(Kalkulacja!A:A,Q131)=\"x\",\"x\",0))","v":0},"FALSE",{"$f":"MATCH(G131,Kalkulacja!$I$1:$I$416,0)","v":39},null,null,0,null,0,null,null,null,null,"Strona 8 sekcji (projekt + kodowanie)",null,null,null,null,{"$f":"IFERROR(INDEX(Kalkulacja!V:V,Q131),0)","v":0},0,null,null,null,{"$f":"IFERROR(IF($J$115>0,INDEX(Kalkulacja!D:D,Q132),\"\"),\"\")","v":""},null,null,null,false]
[null,null,null,{"$f":"IFERROR(IF(N132>0,\"SUGEROWANE\",IF((INDEX(Kalkulacja!B:B,MATCH(G132,Kalkulacja!I:I,0)))=\"x\",\"USŁUGA\",\"\")),\"\")","v":""},"i",null,"wpisz nazwy stron",null,null,null,null,{"$f":"IFERROR(IF(Kalkulacja!$D$2=\"x\",IF(INDEX(Kalkulacja!J:J,Q132)=\"od\",\"od\",\"\"),\"\"),\"\")","v":""},{"$f":"IFERROR(IF(AND(Kalkulacja!$D$2=\"x\",$J$115>0),(IF(INDEX(Kalkulacja!D:D,Q132)=\"x\",\"Nie-Elementor\",\"\")),\"\"),\"\")","v":""},{"$f":"IFERROR(INDEX('Podświetlanie modułów'!H:H,MATCH(G132,'Podświetlanie modułów'!F:F,0)),0)","v":0},{"$f":"IF(O131=\"x\",\"x\",0)","v":0},"FALSE",{"$f":"MATCH(G132,Kalkulacja!$I$1:$I$416,0)","v":{"$error":"#N/A"}},null,null,0,null,0,null,null,null,null,"wpisz nazwy stron",null,null,null,null,{"$f":"IFERROR(INDEX(Kalkulacja!V:V,Q132),0)","v":0},0,null,null,null,{"$f":"IFERROR(IF($J$115>0,INDEX(Kalkulacja!D:D,Q133),\"\"),\"\")","v":""},null,null,null,{"$f":"S132","v":0}]
[null,null,null,{"$f":"IFERROR(IF(N133>0,\"SUGEROWANE\",IF((INDEX(Kalkulacja!B:B,MATCH(G133,Kalkulacja!I:I,0)))=\"x\",\"USŁUGA\",\"\")),\"\")","v":""},"i",null,{"$f":"Kalkulacja!I41","v":"Strona 9 sekcji (projekt + kodowanie)"},null,null,{"$f":"AO133*1","v":0},{"$f":"IFERROR(IF(Kalkulacja!$G$2=\"x\",INDEX(Kalkulacja!$Y$1:$Y$416,Q133),\"\"),\"\")","v":""},{"$f":"IFERROR(IF(Kalkulacja!$D$2=\"x\",IF(INDEX(Kalkulacja!J:J,Q133)=\"od\",\"od\",\"\"),\"\"),\"\")","v":""},{"$f":"IFERROR(IF(AND(Kalkulacja!$D$2=\"x\",$J$115>0),(IF(INDEX(Kalkulacja!D:D,Q133)=\"x\",\"Nie-Elementor\",\"\")),\"\"),\"\")","v":""},{"$f":"IFERROR(INDEX('Podświetlanie modułów'!H:H,MATCH(G133,'Podświetlanie modułów'!F:F,0)),0)","v":0},{"$f":"IF(AO133*1>0,\"x\",IF(INDEX(Kalkulacja!A:A,Q133)=\"x\",\"x\",0))","v":0},"FALSE",{"$f":"MATCH(G133,Kalkulacja!$I$1:$I$416,0)","v":41},null,null,0,null,0,null,null,null,null,"Strona 9 sekcji (projekt + kodowanie)",null,null,null,null,{"$f":"IFERROR(INDEX(Kalkulacja!V:V,Q133),0)","v":0},0,null,null,null,{"$f":"IFERROR(IF($J$115>0,INDEX(Kalkulacja!D:D,Q134),\"\"),\"\")","v":""},null,null,null,false]
[null,null,null,{"$f":"IFERROR(IF(N134>0,\"SUGEROWANE\",IF((INDEX(Kalkulacja!B:B,MATCH(G134,Kalkulacja!I:I,0)))=\"x\",\"USŁUGA\",\"\")),\"\")","v":""},"i",null,"wpisz nazwy stron",null,null,null,null,{"$f":"IFERROR(IF(Kalkulacja!$D$2=\"x\",IF(INDEX(Kalkulacja!J:J,Q134)=\"od\",\"od\",\"\"),\"\"),\"\")","v":""},{"$f":"IFERROR(IF(AND(Kalkulacja!$D$2=\"x\",$J$115>0),(IF(INDEX(Kalkulacja!D:D,Q134)=\"x\",\"Nie-Elementor\",\"\")),\"\"),\"\")","v":""},{"$f":"IFERROR(INDEX('Podświetlanie modułów'!H:H,MATCH(G134,'Podświetlanie modułów'!F:F,0)),0)","v":0},{"$f":"IF(O133=\"x\",\"x\",0)","v":0},"FALSE",{"$f":"MATCH(G134,Kalkulacja!$I$1:$I$416,0)","v":{"$error":"#N/A"}},null,null,0,null,0,null,null,null,null,"wpisz nazwy stron",null,null,null,null,{"$f":"IFERROR(INDEX(Kalkulacja!V:V,Q134),0)","v":0},0,null,null,null,{"$f":"IFERROR(IF($J$115>0,INDEX(Kalkulacja!D:D,Q135),\"\"),\"\")","v":""},null,null,null,{"$f":"S134","v":0}]
[null,null,null,{"$f":"IFERROR(IF(N135>0,\"SUGEROWANE\",IF((INDEX(Kalkulacja!B:B,MATCH(G135,Kalkulacja!I:I,0)))=\"x\",\"USŁUGA\",\"\")),\"\")","v":""},"i",null,{"$f":"Kalkulacja!I43","v":"Strona 10 sekcji (projekt + kodowanie)"},null,null,{"$f":"AO135*1","v":0},{"$f":"IFERROR(IF(Kalkulacja!$G$2=\"x\",INDEX(Kalkulacja!$Y$1:$Y$416,Q135),\"\"),\"\")","v":""},{"$f":"IFERROR(IF(Kalkulacja!$D$2=\"x\",IF(INDEX(Kalkulacja!J:J,Q135)=\"od\",\"od\",\"\"),\"\"),\"\")","v":""},{"$f":"IFERROR(IF(AND(Kalkulacja!$D$2=\"x\",$J$115>0),(IF(INDEX(Kalkulacja!D:D,Q135)=\"x\",\"Nie-Elementor\",\"\")),\"\"),\"\")","v":""},{"$f":"IFERROR(INDEX('Podświetlanie modułów'!H:H,MATCH(G135,'Podświetlanie modułów'!F:F,0)),0)","v":0},{"$f":"IF(AO135*1>0,\"x\",IF(INDEX(Kalkulacja!A:A,Q135)=\"x\",\"x\",0))","v":0},"FALSE",{"$f":"MATCH(G135,Kalkulacja!$I$1:$I$416,0)","v":43},null,null,0,null,0,null,null,null,null,"Strona 10 sekcji (projekt + kodowanie)",null,null,null,null,{"$f":"IFERROR(INDEX(Kalkulacja!V:V,Q135),0)","v":0},0,null,null,null,{"$f":"IFERROR(IF($J$115>0,INDEX(Kalkulacja!D:D,Q136),\"\"),\"\")","v":""},null,null,null,false]
[null,null,null,{"$f":"IFERROR(IF(N136>0,\"SUGEROWANE\",IF((INDEX(Kalkulacja!B:B,MATCH(G136,Kalkulacja!I:I,0)))=\"x\",\"USŁUGA\",\"\")),\"\")","v":""},"i",{"$f":"IF(ISBLANK(#REF!),\" Podaj szczegóły sekcji\",\"\")","v":""},"wpisz nazwy stron",null,null,null,null,{"$f":"IFERROR(IF(Kalkulacja!$D$2=\"x\",IF(INDEX(Kalkulacja!J:J,Q136)=\"od\",\"od\",\"\"),\"\"),\"\")","v":""},{"$f":"IFERROR(IF(AND(Kalkulacja!$D$2=\"x\",$J$115>0),(IF(INDEX(Kalkulacja!D:D,Q136)=\"x\",\"Nie-Elementor\",\"\")),\"\"),\"\")","v":""},{"$f":"IFERROR(INDEX('Podświetlanie modułów'!H:H,MATCH(G136,'Podświetlanie modułów'!F:F,0)),0)","v":0},{"$f":"IF(O135=\"x\",\"x\",0)","v":0},"FALSE",{"$f":"MATCH(G136,Kalkulacja!$I$1:$I$416,0)","v":{"$error":"#N/A"}},null,null,0,null,0,null,null,null,null,"wpisz nazwy stron",null,null,null,null,{"$f":"IFERROR(INDEX(Kalkulacja!V:V,Q136),0)","v":0},0,null,null,null,{"$f":"IFERROR(IF($J$115>0,INDEX(Kalkulacja!D:D,Q137),\"\"),\"\")","v":""},null,null,null,{"$f":"S136","v":0}]
[null,null,null,{"$f":"IFERROR(IF(N137>0,\"SUGEROWANE\",IF((INDEX(Kalkulacja!B:B,MATCH(G137,Kalkulacja!I:I,0)))=\"x\",\"USŁUGA\",\"\")),\"\")","v":""},"i",{"$f":"IF(ISBLANK(G137),\" Wybierz liczbę sekcji strony\",\"\")","v":""},{"$f":"Kalkulacja!I45","v":"Strona 1 sekcja (utworzenie bez projektu)"},null,null,{"$f":"AO137*1","v":0},{"$f":"IFERROR(IF(Kalkulacja!$G$2=\"x\",INDEX(Kalkulacja!$Y$1:$Y$416,Q137),\"\"),\"\")","v":""},{"$f":"IFERROR(IF(Kalkulacja!$D$2=\"x\",IF(INDEX(Kalkulacja!J:J,Q137)=\"od\",\"od\",\"\"),\"\"),\"\")","v":""},{"$f":"IFERROR(IF(AND(Kalkulacja!$D$2=\"x\",$J$115>0),(IF(INDEX(Kalkulacja!D:D,Q137)=\"x\",\"Nie-Elementor\",\"\")),\"\"),\"\")","v":""},{"$f":"IFERROR(INDEX('Podświetlanie modułów'!H:H,MATCH(G137,'Podświetlanie modułów'!F:F,0)),0)","v":0},{"$f":"IF(AO137*1>0,\"x\",IF(COUNTIF(Kalkulacja!$A$45:$A$63,\"x\")>0,\"x\",0))","v":0},{"$f":"IF(O137=\"x\",\"TRUE\",\"FALSE\")","v":"FALSE"},{"$f":"MATCH(G137,Kalkulacja!$I$1:$I$416,0)","v":45},null,null,1,{"$f":"IFERROR(INDEX($Y$137:$Y$159,MATCH(\"x\",$Z$137:$Z$159,0)),1)","v":1},0,null,null,null,null,"Strona 1 sekcja (utworzenie bez projektu)",null,null,null,null,{"$f":"IFERROR(INDEX(Kalkulacja!V:V,Q137),0)","v":0},0,null,null,null,{"$f":"IFERROR(IF($J$115>0,INDEX(Kalkulacja!D:D,Q138),\"\"),\"\")","v":""},null,null,null,false]
[null,null,null,{"$f":"IFERROR(IF(N138>0,\"SUGEROWANE\",IF((INDEX(Kalkulacja!B:B,MATCH(G138,Kalkulacja!I:I,0)))=\"x\",\"USŁUGA\",\"\")),\"\")","v":""},"i",{"$f":"IF(ISBLANK(#REF!),\" Podaj szczegóły sekcji\",\"\")","v":""},"wpisz nazwy stron",null,null,null,null,{"$f":"IFERROR(IF(Kalkulacja!$D$2=\"x\",IF(INDEX(Kalkulacja!J:J,Q138)=\"od\",\"od\",\"\"),\"\"),\"\")","v":""},{"$f":"IFERROR(IF(AND(Kalkulacja!$D$2=\"x\",$J$115>0),(IF(INDEX(Kalkulacja!D:D,Q138)=\"x\",\"Nie-Elementor\",\"\")),\"\"),\"\")","v":""},{"$f":"IFERROR(INDEX('Podświetlanie modułów'!H:H,MATCH(G138,'Podświetlanie modułów'!F:F,0)),0)","v":0},{"$f":"IF(O137=\"x\",\"x\",0)","v":0},{"$f":"IF(O138=\"x\",\"TRUE\",\"FALSE\")","v":"FALSE"},{"$f":"MATCH(G138,Kalkulacja!$I$1:$I$416,0)","v":{"$error":"#N/A"}},null,null,0,null,0,null,null,null,null,"wpisz nazwy stron",null,null,null,null,{"$f":"IFERROR(INDEX(Kalkulacja!V:V,Q138),0)","v":0},0,null,null,null,{"$f":"IFERROR(IF($J$115>0,INDEX(Kalkulacja!D:D,Q139),\"\"),\"\")","v":""},null,null,null,{"$f":"S138","v":0}]
[null,null,null,{"$f":"IFERROR(IF(N139>0,\"SUGEROWANE\",IF((INDEX(Kalkulacja!B:B,MATCH(G139,Kalkulacja!I:I,0)))=\"x\",\"USŁUGA\",\"\")),\"\")","v":""},"i",{"$f":"IF(ISBLANK(G139),\" Wybierz liczbę sekcji strony\",\"\")","v":""},{"$f":"Kalkulacja!I47","v":"Strona 2 sekcje (utworzenie bez projektu)"},null,null,{"$f":"AO139*1","v":0},{"$f":"IFERROR(IF(Kalkulacja!$G$2=\"x\",INDEX(Kalkulacja!$Y$1:$Y$416,Q139),\"\"),\"\")","v":""},{"$f":"IFERROR(IF(Kalkulacja!$D$2=\"x\",IF(INDEX(Kalkulacja!J:J,Q139)=\"od\",\"od\",\"\"),\"\"),\"\")","v":""},{"$f":"IFERROR(IF(AND(Kalkulacja!$D$2=\"x\",$J$115>0),(IF(INDEX(Kalkulacja!D:D,Q139)=\"x\",\"Nie-Elementor\",\"\")),\"\"),\"\")","v":""},{"$f":"IFERROR(INDEX('Podświetlanie modułów'!H:H,MATCH(G139,'Podświetlanie modułów'!F:F,0)),0)","v":0},{"$f":"IF(AO139*1>0,\"x\",IF(INDEX(Kalkulacja!A:A,Q139)=\"x\",\"x\",0))","v":0},{"$f":"IF(O139=\"x\",\"TRUE\",\"FALSE\")","v":"FALSE"},{"$f":"MATCH(G139,Kalkulacja!$I$1:$I$416,0)","v":47},null,null,0,null,0,null,null,null,null,"Strona 2 sekcje (utworzenie bez projektu)",null,null,null,null,{"$f":"IFERROR(INDEX(Kalkulacja!V:V,Q139),0)","v":0},0,null,null,null,{"$f":"IFERROR(IF($J$115>0,INDEX(Kalkulacja!D:D,Q140),\"\"),\"\")","v":""},null,null,null,false]
[null,null,null,{"$f":"IFERROR(IF(N140>0,\"SUGEROWANE\",IF((INDEX(Kalkulacja!B:B,MATCH(G140,Kalkulacja!I:I,0)))=\"x\",\"USŁUGA\",\"\")),\"\")","v":""},"i",null,"wpisz nazwy stron",null,null,null,null,{"$f":"IFERROR(IF(Kalkulacja!$D$2=\"x\",IF(INDEX(Kalkulacja!J:J,Q140)=\"od\",\"od\",\"\"),\"\"),\"\")","v":""},{"$f":"IFERROR(IF(AND(Kalkulacja!$D$2=\"x\",$J$115>0),(IF(INDEX(Kalkulacja!D:D,Q140)=\"x\",\"Nie-Elementor\",\"\")),\"\"),\"\")","v":""},{"$f":"IFERROR(INDEX('Podświetlanie modułów'!H:H,MATCH(G140,'Podświetlanie modułów'!F:F,0)),0)","v":0},{"$f":"IF(O139=\"x\",\"x\",0)","v":0},{"$f":"IF(O140=\"x\",\"TRUE\",\"FALSE\")","v":"FALSE"},{"$f":"MATCH(G140,Kalkulacja!$I$1:$I$416,0)","v":{"$error":"#N/A"}},null,null,0,null,0,null,null,null,null,"wpisz nazwy stron",null,null,null,null,{"$f":"IFERROR(INDEX(Kalkulacja!V:V,Q140),0)","v":0},0,null,null,null,{"$f":"IFERROR(IF($J$115>0,INDEX(Kalkulacja!D:D,Q141),\"\"),\"\")","v":""},null,null,null,{"$f":"S140","v":0}]
[null,null,null,{"$f":"IFERROR(IF(N141>0,\"SUGEROWANE\",IF((INDEX(Kalkulacja!B:B,MATCH(G141,Kalkulacja!I:I,0)))=\"x\",\"USŁUGA\",\"\")),\"\")","v":""},"i",{"$f":"IF(ISBLANK(G141),\" Wybierz liczbę sekcji strony\",\"\")","v":""},{"$f":"Kalkulacja!I49","v":"Strona 3 sekcje (utworzenie bez projektu)"},null,null,{"$f":"AO141*1","v":0},{"$f":"IFERROR(IF(Kalkulacja!$G$2=\"x\",INDEX(Kalkulacja!$Y$1:$Y$416,Q141),\"\"),\"\")","v":""},{"$f":"IFERROR(IF(Kalkulacja!$D$2=\"x\",IF(INDEX(Kalkulacja!J:J,Q141)=\"od\",\"od\",\"\"),\"\"),\"\")","v":""},{"$f":"IFERROR(IF(AND(Kalkulacja!$D$2=\"x\",$J$115>0),(IF(INDEX(Kalkulacja!D:D,Q141)=\"x\",\"Nie-Elementor\",\"\")),\"\"),\"\")","v":""},{"$f":"IFERROR(INDEX('Podświetlanie modułów'!H:H,MATCH(G141,'Podświetlanie modułów'!F:F,0)),0)","v":0},{"$f":"IF(AO141*1>0,\"x\",IF(INDEX(Kalkulacja!A:A,Q141)=\"x\",\"x\",0))","v":0},{"$f":"IF(O141=\"x\",\"TRUE\",\"FALSE\")","v":"FALSE"},{"$f":"MATCH(G141,Kalkulacja!$I$1:$I$416,0)","v":49},null,null,0,null,0,null,null,null,null,"Strona 3 sekcje (utworzenie bez projektu)",null,null,null,null,{"$f":"IFERROR(INDEX(Kalkulacja!V:V,Q141),0)","v":0},0,null,null,null,{"$f":"IFERROR(IF($J$115>0,INDEX(Kalkulacja!D:D,Q142),\"\"),\"\")","v":""},null,null,null,false]
[null,null,null,{"$f":"IFERROR(IF(N142>0,\"SUGEROWANE\",IF((INDEX(Kalkulacja!B:B,MATCH(G142,Kalkulacja!I:I,0)))=\"x\",\"USŁUGA\",\"\")),\"\")","v":""},"i",null,"wpisz nazwy stron",null,null,null,null,{"$f":"IFERROR(IF(Kalkulacja!$D$2=\"x\",IF(INDEX(Kalkulacja!J:J,Q142)=\"od\",\"od\",\"\"),\"\"),\"\")","v":""},{"$f":"IFERROR(IF(AND(Kalkulacja!$D$2=\"x\",$J$115>0),(IF(INDEX(Kalkulacja!D:D,Q142)=\"x\",\"Nie-Elementor\",\"\")),\"\"),\"\")","v":""},{"$f":"IFERROR(INDEX('Podświetlanie modułów'!H:H,MATCH(G142,'Podświetlanie modułów'!F:F,0)),0)","v":0},{"$f":"IF(O141=\"x\",\"x\",0)","v":0},"FALSE",{"$f":"MATCH(G142,Kalkulacja!$I$1:$I$416,0)","v":{"$error":"#N/A"}},null,null,0,null,0,null,null,null,null,"wpisz nazwy stron",null,null,null,null,{"$f":"IFERROR(INDEX(Kalkulacja!V:V,Q142),0)","v":0},0,null,null,null,{"$f":"IFERROR(IF($J$115>0,INDEX(Kalkulacja!D:D,Q143),\"\"),\"\")","v":""},null,null,null,{"$f":"S142","v":0}]
[null,null,null,{"$f":"IFERROR(IF(N143>0,\"SUGEROWANE\",IF((INDEX(Kalkulacja!B:B,MATCH(G143,Kalkulacja!I:I,0)))=\"x\",\"USŁUGA\",\"\")),\"\")","v":""},"i",{"$f":"IF(ISBLANK(G143),\" Wybierz liczbę sekcji strony\",\"\")","v":""},{"$f":"Kalkulacja!I51","v":"Strona 4 sekcje (utworzenie bez projektu)"},null,null,{"$f":"AO143*1","v":0},{"$f":"IFERROR(IF(Kalkulacja!$G$2=\"x\",INDEX(Kalkulacja!$Y$1:$Y$416,Q143),\"\"),\"\")","v":""},{"$f":"IFERROR(IF(Kalkulacja!$D$2=\"x\",IF(INDEX(Kalkulacja!J:J,Q143)=\"od\",\"od\",\"\"),\"\"),\"\")","v":""},{"$f":"IFERROR(IF(AND(Kalkulacja!$D$2=\"x\",$J$115>0),(IF(INDEX(Kalkulacja!D:D,Q143)=\"x\",\"Nie-Elementor\",\"\")),\"\"),\"\")","v":""},{"$f":"IFERROR(INDEX('Podświetlanie modułów'!H:H,MATCH(G143,'Podświetlanie modułów'!F:F,0)),0)","v":0},{"$f":"IF(AO143*1>0,\"x\",IF(INDEX(Kalkulacja!A:A,Q143)=\"x\",\"x\",0))","v":0},"FALSE",{"$f":"MATCH(G143,Kalkulacja!$I$1:$I$416,0)","v":51},null,null,0,null,0,null,null,null,null,"Strona 4 sekcje (utworzenie bez projektu)",null,null,null,null,{"$f":"IFERROR(INDEX(Kalkulacja!V:V,Q143),0)","v":0},0,null,null,null,{"$f":"IFERROR(IF($J$115>0,INDEX(Kalkulacja!D:D,Q144),\"\"),\"\")","v":""},null,null,null,false]
[null,null,null,{"$f":"IFERROR(IF(N144>0,\"SUGEROWANE\",IF((INDEX(Kalkulacja!B:B,MATCH(G144,Kalkulacja!I:I,0)))=\"x\",\"USŁUGA\",\"\")),\"\")","v":""},"i",null,"wpisz nazwy stron",null,null,null,null,{"$f":"IFERROR(IF(Kalkulacja!$D$2=\"x\",IF(INDEX(Kalkulacja!J:J,Q144)=\"od\",\"od\",\"\"),\"\"),\"\")","v":""},{"$f":"IFERROR(IF(AND(Kalkulacja!$D$2=\"x\",$J$115>0),(IF(INDEX(Kalkulacja!D:D,Q144)=\"x\",\"Nie-Elementor\",\"\")),\"\"),\"\")","v":""},{"$f":"IFERROR(INDEX('Podświetlanie modułów'!H:H,MATCH(G144,'Podświetlanie modułów'!F:F,0)),0)","v":0},{"$f":"IF(O143=\"x\",\"x\",0)","v":0},"FALSE",{"$f":"MATCH(G144,Kalkulacja!$I$1:$I$416,0)","v":{"$error":"#N/A"}},null,null,0,null,0,null,null,null,null,"wpisz nazwy stron",null,null,null,null,{"$f":"IFERROR(INDEX(Kalkulacja!V:V,Q144),0)","v":0},0,null,null,null,{"$f":"IFERROR(IF($J$115>0,INDEX(Kalkulacja!D:D,Q145),\"\"),\"\")","v":""},null,null,null,{"$f":"S144","v":0}]
[null,null,null,{"$f":"IFERROR(IF(N145>0,\"SUGEROWANE\",IF((INDEX(Kalkulacja!B:B,MATCH(G145,Kalkulacja!I:I,0)))=\"x\",\"USŁUGA\",\"\")),\"\")","v":""},"i",{"$f":"IF(ISBLANK(G145),\" Wybierz liczbę sekcji strony\",\"\")","v":""},{"$f":"Kalkulacja!I53","v":"Strona 5 sekcji (utworzenie bez projektu)"},null,null,{"$f":"AO145*1","v":0},{"$f":"IFERROR(IF(Kalkulacja!$G$2=\"x\",INDEX(Kalkulacja!$Y$1:$Y$416,Q145),\"\"),\"\")","v":""},{"$f":"IFERROR(IF(Kalkulacja!$D$2=\"x\",IF(INDEX(Kalkulacja!J:J,Q145)=\"od\",\"od\",\"\"),\"\"),\"\")","v":""},{"$f":"IFERROR(IF(AND(Kalkulacja!$D$2=\"x\",$J$115>0),(IF(INDEX(Kalkulacja!D:D,Q145)=\"x\",\"Nie-Elementor\",\"\")),\"\"),\"\")","v":""},{"$f":"IFERROR(INDEX('Podświetlanie modułów'!H:H,MATCH(G145,'Podświetlanie modułów'!F:F,0)),0)","v":0},{"$f":"IF(AO145*1>0,\"x\",IF(INDEX(Kalkulacja!A:A,Q145)=\"x\",\"x\",0))","v":0},"FALSE",{"$f":"MATCH(G145,Kalkulacja!$I$1:$I$416,0)","v":53},null,null,0,null,0,null,null,null,null,"Strona 5 sekcji (utworzenie bez projektu)",null,null,null,null,{"$f":"IFERROR(INDEX(Kalkulacja!V:V,Q145),0)","v":0},0,null,null,null,{"$f":"IFERROR(IF($J$115>0,INDEX(Kalkulacja!D:D,Q146),\"\"),\"\")","v":""},null,null,null,false]
[null,null,null,{"$f":"IFERROR(IF(N146>0,\"SUGEROWANE\",IF((INDEX(Kalkulacja!B:B,MATCH(G146,Kalkulacja!I:I,0)))=\"x\",\"USŁUGA\",\"\")),\"\")","v":""},"i",null,"wpisz nazwy stron",null,null,null,null,{"$f":"IFERROR(IF(Kalkulacja!$D$2=\"x\",IF(INDEX(Kalkulacja!J:J,Q146)=\"od\",\"od\",\"\"),\"\"),\"\")","v":""},{"$f":"IFERROR(IF(AND(Kalkulacja!$D$2=\"x\",$J$115>0),(IF(INDEX(Kalkulacja!D:D,Q146)=\"x\",\"Nie-Elementor\",\"\")),\"\"),\"\")","v":""},{"$f":"IFERROR(INDEX('Podświetlanie modułów'!H:H,MATCH(G146,'Podświetlanie modułów'!F:F,0)),0)","v":0},{"$f":"IF(O145=\"x\",\"x\",0)","v":0},"FALSE",{"$f":"MATCH(G146,Kalkulacja!$I$1:$I$416,0)","v":{"$error":"#N/A"}},null,null,0,null,0,null,null,null,null,"wpisz nazwy stron",null,null,null,null,{"$f":"IFERROR(INDEX(Kalkulacja!V:V,Q146),0)","v":0},0,null,null,null,{"$f":"IFERROR(IF($J$115>0,INDEX(Kalkulacja!D:D,Q147),\"\"),\"\")","v":""},null,null,null,{"$f":"S146","v":0}]
[null,null,null,{"$f":"IFERROR(IF(N147>0,\"SUGEROWANE\",IF((INDEX(Kalkulacja!B:B,MATCH(G147,Kalkulacja!I:I,0)))=\"x\",\"USŁUGA\",\"\")),\"\")","v":""},"i",{"$f":"IF(ISBLANK(G147),\" Wybierz liczbę sekcji strony\",\"\")","v":""},{"$f":"Kalkulacja!I55","v":"Strona 6 sekcji (utworzenie bez projektu)"},null,null,{"$f":"AO147*1","v":0},{"$f":"IFERROR(IF(Kalkulacja!$G$2=\"x\",INDEX(Kalkulacja!$Y$1:$Y$416,Q147),\"\"),\"\")","v":""},{"$f":"IFERROR(IF(Kalkulacja!$D$2=\"x\",IF(INDEX(Kalkulacja!J:J,Q147)=\"od\",\"od\",\"\"),\"\"),\"\")","v":""},{"$f":"IFERROR(IF(AND(Kalkulacja!$D$2=\"x\",$J$115>0),(IF(INDEX(Kalkulacja!D:D,Q147)=\"x\",\"Nie-Elementor\",\"\")),\"\"),\"\")","v":""},{"$f":"IFERROR(INDEX('Podświetlanie modułów'!H:H,MATCH(G147,'Podświetlanie modułów'!F:F,0)),0)","v":0},{"$f":"IF(AO147*1>0,\"x\",IF(INDEX(Kalkulacja!A:A,Q147)=\"x\",\"x\",0))","v":0},"FALSE",{"$f":"MATCH(G147,Kalkulacja!$I$1:$I$416,0)","v":55},null,null,0,null,0,null,null,null,null,"Strona 6 sekcji (utworzenie bez projektu)",null,null,null,null,{"$f":"IFERROR(INDEX(Kalkulacja!V:V,Q147),0)","v":0},0,null,null,null,{"$f":"IFERROR(IF($J$115>0,INDEX(Kalkulacja!D:D,Q148),\"\"),\"\")","v":""},null,null,null,false]
[null,null,null,{"$f":"IFERROR(IF(N148>0,\"SUGEROWANE\",IF((INDEX(Kalkulacja!B:B,MATCH(G148,Kalkulacja!I:I,0)))=\"x\",\"USŁUGA\",\"\")),\"\")","v":""},"i",null,"wpisz nazwy stron",null,null,null,null,{"$f":"IFERROR(IF(Kalkulacja!$D$2=\"x\",IF(INDEX(Kalkulacja!J:J,Q148)=\"od\",\"od\",\"\"),\"\"),\"\")","v":""},{"$f":"IFERROR(IF(AND(Kalkulacja!$D$2=\"x\",$J$115>0),(IF(INDEX(Kalkulacja!D:D,Q148)=\"x\",\"Nie-Elementor\",\"\")),\"\"),\"\")","v":""},{"$f":"IFERROR(INDEX('Podświetlanie modułów'!H:H,MATCH(G148,'Podświetlanie modułów'!F:F,0)),0)","v":0},{"$f":"IF(O147=\"x\",\"x\",0)","v":0},"FALSE",{"$f":"MATCH(G148,Kalkulacja!$I$1:$I$416,0)","v":{"$error":"#N/A"}},null,null,0,null,0,null,null,null,null,"wpisz nazwy stron",null,null,null,null,{"$f":"IFERROR(INDEX(Kalkulacja!V:V,Q148),0)","v":0},0,null,null,null,{"$f":"IFERROR(IF($J$115>0,INDEX(Kalkulacja!D:D,Q149),\"\"),\"\")","v":""},null,null,null,{"$f":"S148","v":0}]
[null,null,null,{"$f":"IFERROR(IF(N149>0,\"SUGEROWANE\",IF((INDEX(Kalkulacja!B:B,MATCH(G149,Kalkulacja!I:I,0)))=\"x\",\"USŁUGA\",\"\")),\"\")","v":""},"i",{"$f":"IF(ISBLANK(G149),\" Wybierz liczbę sekcji strony\",\"\")","v":""},{"$f":"Kalkulacja!I57","v":"Strona 7 sekcji (utworzenie bez projektu)"},null,null,{"$f":"AO149*1","v":0},{"$f":"IFERROR(IF(Kalkulacja!$G$2=\"x\",INDEX(Kalkulacja!$Y$1:$Y$416,Q149),\"\"),\"\")","v":""},{"$f":"IFERROR(IF(Kalkulacja!$D$2=\"x\",IF(INDEX(Kalkulacja!J:J,Q149)=\"od\",\"od\",\"\"),\"\"),\"\")","v":""},{"$f":"IFERROR(IF(AND(Kalkulacja!$D$2=\"x\",$J$115>0),(IF(INDEX(Kalkulacja!D:D,Q149)=\"x\",\"Nie-Elementor\",\"\")),\"\"),\"\")","v":""},{"$f":"IFERROR(INDEX('Podświetlanie modułów'!H:H,MATCH(G149,'Podświetlanie modułów'!F:F,0)),0)","v":0},{"$f":"IF(AO149*1>0,\"x\",IF(INDEX(Kalkulacja!A:A,Q149)=\"x\",\"x\",0))","v":0},"FALSE",{"$f":"MATCH(G149,Kalkulacja!$I$1:$I$416,0)","v":57},null,null,0,null,0,null,null,null,null,"Strona 7 sekcji (utworzenie bez projektu)",null,null,null,null,{"$f":"IFERROR(INDEX(Kalkulacja!V:V,Q149),0)","v":0},0,null,null,null,{"$f":"IFERROR(IF($J$115>0,INDEX(Kalkulacja!D:D,Q150),\"\"),\"\")","v":""},null,null,null,false]
[null,null,null,{"$f":"IFERROR(IF(N150>0,\"SUGEROWANE\",IF((INDEX(Kalkulacja!B:B,MATCH(G150,Kalkulacja!I:I,0)))=\"x\",\"USŁUGA\",\"\")),\"\")","v":""},"i",null,"wpisz nazwy stron",null,null,null,null,{"$f":"IFERROR(IF(Kalkulacja!$D$2=\"x\",IF(INDEX(Kalkulacja!J:J,Q150)=\"od\",\"od\",\"\"),\"\"),\"\")","v":""},{"$f":"IFERROR(IF(AND(Kalkulacja!$D$2=\"x\",$J$115>0),(IF(INDEX(Kalkulacja!D:D,Q150)=\"x\",\"Nie-Elementor\",\"\")),\"\"),\"\")","v":""},{"$f":"IFERROR(INDEX('Podświetlanie modułów'!H:H,MATCH(G150,'Podświetlanie modułów'!F:F,0)),0)","v":0},{"$f":"IF(O149=\"x\",\"x\",0)","v":0},"FALSE",{"$f":"MATCH(G150,Kalkulacja!$I$1:$I$416,0)","v":{"$error":"#N/A"}},null,null,{"$f":"U150","v":0},null,{"$f":"AG150","v":0},null,null,null,null,"wpisz nazwy stron",null,null,null,null,{"$f":"IFERROR(INDEX(Kalkulacja!V:V,Q150),0)","v":0},0,null,null,null,{"$f":"IFERROR(IF($J$115>0,INDEX(Kalkulacja!D:D,Q151),\"\"),\"\")","v":""},null,null,null,{"$f":"S150","v":0}]
[null,null,null,{"$f":"IFERROR(IF(N151>0,\"SUGEROWANE\",IF((INDEX(Kalkulacja!B:B,MATCH(G151,Kalkulacja!I:I,0)))=\"x\",\"USŁUGA\",\"\")),\"\")","v":""},"i",{"$f":"IF(ISBLANK(G151),\" Wybierz liczbę sekcji strony\",\"\")","v":""},{"$f":"Kalkulacja!I59","v":"Strona 8 sekcji (utworzenie bez projektu)"},null,null,{"$f":"AO151*1","v":0},{"$f":"IFERROR(IF(Kalkulacja!$G$2=\"x\",INDEX(Kalkulacja!$Y$1:$Y$416,Q151),\"\"),\"\")","v":""},{"$f":"IFERROR(IF(Kalkulacja!$D$2=\"x\",IF(INDEX(Kalkulacja!J:J,Q151)=\"od\",\"od\",\"\"),\"\"),\"\")","v":""},{"$f":"IFERROR(IF(AND(Kalkulacja!$D$2=\"x\",$J$115>0),(IF(INDEX(Kalkulacja!D:D,Q151)=\"x\",\"Nie-Elementor\",\"\")),\"\"),\"\")","v":""},{"$f":"IFERROR(INDEX('Podświetlanie modułów'!H:H,MATCH(G151,'Podświetlanie modułów'!F:F,0)),0)","v":0},{"$f":"IF(AO151*1>0,\"x\",IF(INDEX(Kalkulacja!A:A,Q151)=\"x\",\"x\",0))","v":0},"FALSE",{"$f":"MATCH(G151,Kalkulacja!$I$1:$I$416,0)","v":59},null,null,0,null,0,null,null,null,null,"Strona 8 sekcji (utworzenie bez projektu)",null,null,null,null,{"$f":"IFERROR(INDEX(Kalkulacja!V:V,Q151),0)","v":0},0,null,null,null,{"$f":"IFERROR(IF($J$115>0,INDEX(Kalkulacja!D:D,Q152),\"\"),\"\")","v":""},null,null,null,false]
[null,null,null,{"$f":"IFERROR(IF(N152>0,\"SUGEROWANE\",IF((INDEX(Kalkulacja!B:B,MATCH(G152,Kalkulacja!I:I,0)))=\"x\",\"USŁUGA\",\"\")),\"\")","v":""},"i",null,"wpisz nazwy stron",null,null,null,null,{"$f":"IFERROR(IF(Kalkulacja!$D$2=\"x\",IF(INDEX(Kalkulacja!J:J,Q152)=\"od\",\"od\",\"\"),\"\"),\"\")","v":""},{"$f":"IFERROR(IF(AND(Kalkulacja!$D$2=\"x\",$J$115>0),(IF(INDEX(Kalkulacja!D:D,Q152)=\"x\",\"Nie-Elementor\",\"\")),\"\"),\"\")","v":""},{"$f":"IFERROR(INDEX('Podświetlanie modułów'!H:H,MATCH(G152,'Podświetlanie modułów'!F:F,0)),0)","v":0},{"$f":"IF(O151=\"x\",\"x\",0)","v":0},"FALSE",{"$f":"MATCH(G152,Kalkulacja!$I$1:$I$416,0)","v":{"$error":"#N/A"}},null,null,0,null,0,null,null,null,null,"wpisz nazwy stron",null,null,null,null,{"$f":"IFERROR(INDEX(Kalkulacja!V:V,Q152),0)","v":0},0,null,null,null,{"$f":"IFERROR(IF($J$115>0,INDEX(Kalkulacja!D:D,Q153),\"\"),\"\")","v":""},null,null,null,{"$f":"S152","v":0}]
[null,null,null,{"$f":"IFERROR(IF(N153>0,\"SUGEROWANE\",IF((INDEX(Kalkulacja!B:B,MATCH(G153,Kalkulacja!I:I,0)))=\"x\",\"USŁUGA\",\"\")),\"\")","v":""},"i",{"$f":"IF(ISBLANK(G153),\" Wybierz liczbę sekcji strony\",\"\")","v":""},{"$f":"Kalkulacja!I61","v":"Strona 9 sekcji (utworzenie bez projektu)"},null,null,{"$f":"AO153*1","v":0},{"$f":"IFERROR(IF(Kalkulacja!$G$2=\"x\",INDEX(Kalkulacja!$Y$1:$Y$416,Q153),\"\"),\"\")","v":""},{"$f":"IFERROR(IF(Kalkulacja!$D$2=\"x\",IF(INDEX(Kalkulacja!J:J,Q153)=\"od\",\"od\",\"\"),\"\"),\"\")","v":""},{"$f":"IFERROR(IF(AND(Kalkulacja!$D$2=\"x\",$J$115>0),(IF(INDEX(Kalkulacja!D:D,Q153)=\"x\",\"Nie-Elementor\",\"\")),\"\"),\"\")","v":""},{"$f":"IFERROR(INDEX('Podświetlanie modułów'!H:H,MATCH(G153,'Podświetlanie modułów'!F:F,0)),0)","v":0},{"$f":"IF(AO153*1>0,\"x\",IF(INDEX(Kalkulacja!A:A,Q153)=\"x\",\"x\",0))","v":0},"FALSE",{"$f":"MATCH(G153,Kalkulacja!$I$1:$I$416,0)","v":61},null,null,0,null,0,null,null,null,null,"Strona 9 sekcji (utworzenie bez projektu)",null,null,null,null,{"$f":"IFERROR(INDEX(Kalkulacja!V:V,Q153),0)","v":0},0,null,null,null,{"$f":"IFERROR(IF($J$115>0,INDEX(Kalkulacja!D:D,Q154),\"\"),\"\")","v":""},null,null,null,false]
[null,null,null,{"$f":"IFERROR(IF(N154>0,\"SUGEROWANE\",IF((INDEX(Kalkulacja!B:B,MATCH(G154,Kalkulacja!I:I,0)))=\"x\",\"USŁUGA\",\"\")),\"\")","v":""},"i",null,"wpisz nazwy stron",null,null,null,null,{"$f":"IFERROR(IF(Kalkulacja!$D$2=\"x\",IF(INDEX(Kalkulacja!J:J,Q154)=\"od\",\"od\",\"\"),\"\"),\"\")","v":""},{"$f":"IFERROR(IF(AND(Kalkulacja!$D$2=\"x\",$J$115>0),(IF(INDEX(Kalkulacja!D:D,Q154)=\"x\",\"Nie-Elementor\",\"\")),\"\"),\"\")","v":""},{"$f":"IFERROR(INDEX('Podświetlanie modułów'!H:H,MATCH(G154,'Podświetlanie modułów'!F:F,0)),0)","v":0},{"$f":"IF(O153=\"x\",\"x\",0)","v":0},"FALSE",{"$f":"MATCH(G154,Kalkulacja!$I$1:$I$416,0)","v":{"$error":"#N/A"}},null,null,0,null,0,null,null,null,null,"wpisz nazwy stron",null,null,null,null,{"$f":"IFERROR(INDEX(Kalkulacja!V:V,Q154),0)","v":0},0,null,null,null,{"$f":"IFERROR(IF($J$115>0,INDEX(Kalkulacja!D:D,Q155),\"\"),\"\")","v":""},null,null,null,{"$f":"S154","v":0}]
[null,null,null,{"$f":"IFERROR(IF(N155>0,\"SUGEROWANE\",IF((INDEX(Kalkulacja!B:B,MATCH(G155,Kalkulacja!I:I,0)))=\"x\",\"USŁUGA\",\"\")),\"\")","v":""},"i",{"$f":"IF(ISBLANK(G155),\" Wybierz liczbę sekcji strony\",\"\")","v":""},{"$f":"Kalkulacja!I63","v":"Strona 10 sekcji (utworzenie bez projektu)"},null,null,{"$f":"AO155*1","v":0},{"$f":"IFERROR(IF(Kalkulacja!$G$2=\"x\",INDEX(Kalkulacja!$Y$1:$Y$416,Q155),\"\"),\"\")","v":""},{"$f":"IFERROR(IF(Kalkulacja!$D$2=\"x\",IF(INDEX(Kalkulacja!J:J,Q155)=\"od\",\"od\",\"\"),\"\"),\"\")","v":""},{"$f":"IFERROR(IF(AND(Kalkulacja!$D$2=\"x\",$J$115>0),(IF(INDEX(Kalkulacja!D:D,Q155)=\"x\",\"Nie-Elementor\",\"\")),\"\"),\"\")","v":""},{"$f":"IFERROR(INDEX('Podświetlanie modułów'!H:H,MATCH(G155,'Podświetlanie modułów'!F:F,0)),0)","v":0},{"$f":"IF(AO155*1>0,\"x\",IF(INDEX(Kalkulacja!A:A,Q155)=\"x\",\"x\",0))","v":0},"FALSE",{"$f":"MATCH(G155,Kalkulacja!$I$1:$I$416,0)","v":63},null,null,0,null,0,null,null,null,null,"Strona 10 sekcji (utworzenie bez projektu)",null,null,null,null,{"$f":"IFERROR(INDEX(Kalkulacja!V:V,Q155),0)","v":0},0,null,null,null,{"$f":"IFERROR(IF($J$115>0,INDEX(Kalkulacja!D:D,Q156),\"\"),\"\")","v":""},null,null,null,false]
[null,null,null,{"$f":"IFERROR(IF(N156>0,\"SUGEROWANE\",IF((INDEX(Kalkulacja!B:B,MATCH(G156,Kalkulacja!I:I,0)))=\"x\",\"USŁUGA\",\"\")),\"\")","v":""},"i",null,"wpisz nazwy stron",null,null,null,null,{"$f":"IFERROR(IF(Kalkulacja!$D$2=\"x\",IF(INDEX(Kalkulacja!J:J,Q156)=\"od\",\"od\",\"\"),\"\"),\"\")","v":""},{"$f":"IFERROR(IF(AND(Kalkulacja!$D$2=\"x\",$J$115>0),(IF(INDEX(Kalkulacja!D:D,Q156)=\"x\",\"Nie-Elementor\",\"\")),\"\"),\"\")","v":""},{"$f":"IFERROR(INDEX('Podświetlanie modułów'!H:H,MATCH(G156,'Podświetlanie modułów'!F:F,0)),0)","v":0},{"$f":"IF(O155=\"x\",\"x\",0)","v":0},"FALSE",{"$f":"MATCH(G156,Kalkulacja!$I$1:$I$416,0)","v":{"$error":"#N/A"}},null,null,0,null,0,null,null,null,null,"wpisz nazwy stron",null,null,null,null,{"$f":"IFERROR(INDEX(Kalkulacja!V:V,Q156),0)","v":0},0,null,null,null,{"$f":"IFERROR(IF($J$115>0,INDEX(Kalkulacja!D:D,Q157),\"\"),\"\")","v":""},null,null,null,{"$f":"S156","v":0}]
[null,null,null,{"$f":"IFERROR(IF(N157>0,\"SUGEROWANE\",IF((INDEX(Kalkulacja!B:B,MATCH(G157,Kalkulacja!I:I,0)))=\"x\",\"USŁUGA\",\"\")),\"\")","v":""},"i",{"$f":"IF(ISBLANK(G157),\" Wybierz rodzaj menu\",\"\")","v":""},{"$f":"INDEX(X$164:$X168,MATCH($T$157,$Y$164:$Y$168,0))","v":"Menu z ikonami obrazkami"},null,null,{"$f":"AO157*1","v":0},{"$f":"IFERROR(IF(Kalkulacja!$G$2=\"x\",INDEX(Kalkulacja!$Y$1:$Y$416,Q157),\"\"),\"\")","v":""},{"$f":"IFERROR(IF(Kalkulacja!$D$2=\"x\",IF(INDEX(Kalkulacja!J:J,Q157)=\"od\",\"od\",\"\"),\"\"),\"\")","v":""},{"$f":"IFERROR(IF(AND(Kalkulacja!$D$2=\"x\",$J$115>0),(IF(INDEX(Kalkulacja!D:D,Q157)=\"x\",\"Nie-Elementor\",\"\")),\"\"),\"\")","v":""},{"$f":"IFERROR(INDEX('Podświetlanie modułów'!H:H,MATCH(G157,'Podświetlanie modułów'!F:F,0)),0)","v":0},{"$f":"IF(AO157*1>0,\"x\",IF(COUNTIF(Kalkulacja!$A$65:$A$67,\"x\")>0,\"x\",0))","v":"x"},"TRUE",{"$f":"MATCH(G157,Kalkulacja!$I$1:$I$416,0)","v":67},null,null,3,{"$f":"IFERROR(INDEX($Y$164:$Y$168,MATCH(\"x\",$Z$164:$Z$168,0)),1)","v":1},0,null,null,null,null,"Menu z ikonami obrazkami",null,null,null,null,{"$f":"IFERROR(INDEX(Kalkulacja!V:V,Q157),0)","v":0},0,null,null,null,{"$f":"IFERROR(IF($J$115>0,INDEX(Kalkulacja!D:D,Q158),\"\"),\"\")","v":""},null,null,null,false]
[null,null,null,{"$f":"IFERROR(IF(N158>0,\"SUGEROWANE\",IF((INDEX(Kalkulacja!B:B,MATCH(G158,Kalkulacja!I:I,0)))=\"x\",\"USŁUGA\",\"\")),\"\")","v":""},"i",null,{"$f":"Kalkulacja!I70","v":"Submenu przyklejane"},null,null,0,{"$f":"IFERROR(IF(Kalkulacja!$G$2=\"x\",INDEX(Kalkulacja!$Y$1:$Y$416,Q158),\"\"),\"\")","v":""},{"$f":"IFERROR(IF(Kalkulacja!$D$2=\"x\",IF(INDEX(Kalkulacja!J:J,Q158)=\"od\",\"od\",\"\"),\"\"),\"\")","v":""},{"$f":"IFERROR(IF(AND(Kalkulacja!$D$2=\"x\",$J$115>0),(IF(INDEX(Kalkulacja!D:D,Q158)=\"x\",\"Nie-Elementor\",\"\")),\"\"),\"\")","v":""},{"$f":"IFERROR(INDEX('Podświetlanie modułów'!H:H,MATCH(G158,'Podświetlanie modułów'!F:F,0)),0)","v":0},{"$f":"IF(AO158*1>0,\"x\",IF(INDEX(Kalkulacja!A:A,Q158)=\"x\",\"x\",0))","v":0},"FALSE",{"$f":"MATCH(G158,Kalkulacja!$I$1:$I$416,0)","v":70},null,null,0,null,0,null,null,null,null,"Submenu przyklejane",null,null,null,null,{"$f":"IFERROR(INDEX(Kalkulacja!V:V,Q158),0)","v":0},0,null,null,null,{"$f":"IFERROR(IF($J$115>0,INDEX(Kalkulacja!D:D,Q159),\"\"),\"\")","v":""},null,null,null,false]
[null,null,null,{"$f":"IFERROR(IF(N159>0,\"SUGEROWANE\",IF((INDEX(Kalkulacja!B:B,MATCH(G159,Kalkulacja!I:I,0)))=\"x\",\"USŁUGA\",\"\")),\"\")","v":""},"i",null,{"$f":"Kalkulacja!I71","v":"Baner/wideo na stronie głównej"},null,null,0,{"$f":"IFERROR(IF(Kalkulacja!$G$2=\"x\",INDEX(Kalkulacja!$Y$1:$Y$416,Q159),\"\"),\"\")","v":""},{"$f":"IFERROR(IF(Kalkulacja!$D$2=\"x\",IF(INDEX(Kalkulacja!J:J,Q159)=\"od\",\"od\",\"\"),\"\"),\"\")","v":""},{"$f":"IFERROR(IF(AND(Kalkulacja!$D$2=\"x\",$J$115>0),(IF(INDEX(Kalkulacja!D:D,Q159)=\"x\",\"Nie-Elementor\",\"\")),\"\"),\"\")","v":""},{"$f":"IFERROR(INDEX('Podświetlanie modułów'!H:H,MATCH(G159,'Podświetlanie modułów'!F:F,0)),0)","v":0},{"$f":"IF(AO159*1>0,\"x\",IF(INDEX(Kalkulacja!A:A,Q159)=\"x\",\"x\",0))","v":"x"},"TRUE",{"$f":"MATCH(G159,Kalkulacja!$I$1:$I$416,0)","v":71},null,null,0,null,0,null,null,null,null,"Baner/wideo na stronie głównej",null,null,null,null,{"$f":"IFERROR(INDEX(Kalkulacja!V:V,Q159),0)","v":"x"},0,null,null,null,{"$f":"IFERROR(IF($J$115>0,INDEX(Kalkulacja!D:D,Q160),\"\"),\"\")","v":""},null,null,null,false]
[null,null,null,{"$f":"IFERROR(IF(N160>0,\"SUGEROWANE\",IF((INDEX(Kalkulacja!B:B,MATCH(G160,Kalkulacja!I:I,0)))=\"x\",\"USŁUGA\",\"\")),\"\")","v":""},"i",null,{"$f":"Kalkulacja!I72","v":"Slider BASIC (1 szt)"},null,null,0,{"$f":"IFERROR(IF(Kalkulacja!$G$2=\"x\",INDEX(Kalkulacja!$Y$1:$Y$416,Q160),\"\"),\"\")","v":""},{"$f":"IFERROR(IF(Kalkulacja!$D$2=\"x\",IF(INDEX(Kalkulacja!J:J,Q160)=\"od\",\"od\",\"\"),\"\"),\"\")","v":""},{"$f":"IFERROR(IF(AND(Kalkulacja!$D$2=\"x\",$J$115>0),(IF(INDEX(Kalkulacja!D:D,Q160)=\"x\",\"Nie-Elementor\",\"\")),\"\"),\"\")","v":""},{"$f":"IFERROR(INDEX('Podświetlanie modułów'!H:H,MATCH(G160,'Podświetlanie modułów'!F:F,0)),0)","v":0},{"$f":"IF(AO160*1>0,\"x\",IF(INDEX(Kalkulacja!A:A,Q160)=\"x\",\"x\",0))","v":"x"},"TRUE",{"$f":"MATCH(G160,Kalkulacja!$I$1:$I$416,0)","v":72},null,null,0,null,0,null,null,null,null,"Slider BASIC (1 szt)",null,null,null,null,{"$f":"IFERROR(INDEX(Kalkulacja!V:V,Q160),0)","v":"x"},0,null,null,null,{"$f":"IFERROR(IF($J$115>0,INDEX(Kalkulacja!D:D,Q161),\"\"),\"\")","v":""},null,null,null,false]
[null,null,null,{"$f":"IFERROR(IF(N161>0,\"SUGEROWANE\",IF((INDEX(Kalkulacja!B:B,MATCH(G161,Kalkulacja!I:I,0)))=\"x\",\"USŁUGA\",\"\")),\"\")","v":"USŁUGA"},"i",null,{"$f":"Kalkulacja!I73","v":"Utworzenie kolejnego slajdu na slider (1 szt)"},null,null,0,{"$f":"IFERROR(IF(Kalkulacja!$G$2=\"x\",INDEX(Kalkulacja!$Y$1:$Y$416,Q161),\"\"),\"\")","v":""},{"$f":"IFERROR(IF(Kalkulacja!$D$2=\"x\",IF(INDEX(Kalkulacja!J:J,Q161)=\"od\",\"od\",\"\"),\"\"),\"\")","v":""},{"$f":"IFERROR(IF(AND(Kalkulacja!$D$2=\"x\",$J$115>0),(IF(INDEX(Kalkulacja!D:D,Q161)=\"x\",\"Nie-Elementor\",\"\")),\"\"),\"\")","v":""},{"$f":"IFERROR(INDEX('Podświetlanie modułów'!H:H,MATCH(G161,'Podświetlanie modułów'!F:F,0)),0)","v":0},{"$f":"IF(AO161*1>0,\"x\",IF(INDEX(Kalkulacja!A:A,Q161)=\"x\",\"x\",0))","v":"x"},"TRUE",{"$f":"MATCH(G161,Kalkulacja!$I$1:$I$416,0)","v":73},null,null,0,null,0,null,null,null,null,"Utworzenie kolejnego slajdu na slider (1 szt)",null,null,null,null,{"$f":"IFERROR(INDEX(Kalkulacja!V:V,Q161),0)","v":"x"},0,null,null,null,{"$f":"IFERROR(IF($J$115>0,INDEX(Kalkulacja!D:D,Q162),\"\"),\"\")","v":""},null,null,null,false]
[null,null,null,{"$f":"IFERROR(IF(N162>0,\"SUGEROWANE\",IF((INDEX(Kalkulacja!B:B,MATCH(G162,Kalkulacja!I:I,0)))=\"x\",\"USŁUGA\",\"\")),\"\")","v":""},"i",null,{"$f":"Kalkulacja!I74","v":"Slider PREMIUM (1 szt)"},null,null,0,{"$f":"IFERROR(IF(Kalkulacja!$G$2=\"x\",INDEX(Kalkulacja!$Y$1:$Y$416,Q162),\"\"),\"\")","v":""},{"$f":"IFERROR(IF(Kalkulacja!$D$2=\"x\",IF(INDEX(Kalkulacja!J:J,Q162)=\"od\",\"od\",\"\"),\"\"),\"\")","v":""},{"$f":"IFERROR(IF(AND(Kalkulacja!$D$2=\"x\",$J$115>0),(IF(INDEX(Kalkulacja!D:D,Q162)=\"x\",\"Nie-Elementor\",\"\")),\"\"),\"\")","v":""},{"$f":"IFERROR(INDEX('Podświetlanie modułów'!H:H,MATCH(G162,'Podświetlanie modułów'!F:F,0)),0)","v":0},{"$f":"IF(AO162*1>0,\"x\",IF(INDEX(Kalkulacja!A:A,Q162)=\"x\",\"x\",0))","v":"x"},"TRUE",{"$f":"MATCH(G162,Kalkulacja!$I$1:$I$416,0)","v":74},null,null,0,null,0,null,null,null,null,"Slider PREMIUM (1 szt)",null,null,null,null,{"$f":"IFERROR(INDEX(Kalkulacja!V:V,Q162),0)","v":0},0,null,null,null,{"$f":"IFERROR(IF($J$115>0,INDEX(Kalkulacja!D:D,Q163),\"\"),\"\")","v":""},null,null,null,false]
[null,null,null,{"$f":"IFERROR(IF(N163>0,\"SUGEROWANE\",IF((INDEX(Kalkulacja!B:B,MATCH(G163,Kalkulacja!I:I,0)))=\"x\",\"USŁUGA\",\"\")),\"\")","v":""},"i",null,{"$f":"Kalkulacja!I75","v":"Slider w treści (Elementor)"},null,null,0,{"$f":"IFERROR(IF(Kalkulacja!$G$2=\"x\",INDEX(Kalkulacja!$Y$1:$Y$416,Q163),\"\"),\"\")","v":""},{"$f":"IFERROR(IF(Kalkulacja!$D$2=\"x\",IF(INDEX(Kalkulacja!J:J,Q163)=\"od\",\"od\",\"\"),\"\"),\"\")","v":""},{"$f":"IFERROR(IF(AND(Kalkulacja!$D$2=\"x\",$J$115>0),(IF(INDEX(Kalkulacja!D:D,Q163)=\"x\",\"Nie-Elementor\",\"\")),\"\"),\"\")","v":""},{"$f":"IFERROR(INDEX('Podświetlanie modułów'!H:H,MATCH(G163,'Podświetlanie modułów'!F:F,0)),0)","v":0},{"$f":"IF(AO163*1>0,\"x\",IF(INDEX(Kalkulacja!A:A,Q163)=\"x\",\"x\",0))","v":0},"FALSE",{"$f":"MATCH(G163,Kalkulacja!$I$1:$I$416,0)","v":75},null,null,0,null,0,null,null,null,null,"Slider w treści (Elementor)",null,null,null,null,{"$f":"IFERROR(INDEX(Kalkulacja!V:V,Q163),0)","v":0},0,null,null,null,{"$f":"IFERROR(IF($J$115>0,INDEX(Kalkulacja!D:D,Q164),\"\"),\"\")","v":""},null,null,null,false]
[null,null,null,{"$f":"IFERROR(IF(N164>0,\"SUGEROWANE\",IF((INDEX(Kalkulacja!B:B,MATCH(G164,Kalkulacja!I:I,0)))=\"x\",\"USŁUGA\",\"\")),\"\")","v":""},"i",null,{"$f":"Kalkulacja!I76","v":"Galeria zdjęć (podstawowa)"},null,null,0,{"$f":"IFERROR(IF(Kalkulacja!$G$2=\"x\",INDEX(Kalkulacja!$Y$1:$Y$416,Q164),\"\"),\"\")","v":""},{"$f":"IFERROR(IF(Kalkulacja!$D$2=\"x\",IF(INDEX(Kalkulacja!J:J,Q164)=\"od\",\"od\",\"\"),\"\"),\"\")","v":""},{"$f":"IFERROR(IF(AND(Kalkulacja!$D$2=\"x\",$J$115>0),(IF(INDEX(Kalkulacja!D:D,Q164)=\"x\",\"Nie-Elementor\",\"\")),\"\"),\"\")","v":""},{"$f":"IFERROR(INDEX('Podświetlanie modułów'!H:H,MATCH(G164,'Podświetlanie modułów'!F:F,0)),0)","v":0},{"$f":"IF(AO164*1>0,\"x\",IF(INDEX(Kalkulacja!A:A,Q164)=\"x\",\"x\",0))","v":"x"},"TRUE",{"$f":"MATCH(G164,Kalkulacja!$I$1:$I$416,0)","v":76},null,null,0,null,0,null,{"$f":"Kalkulacja!I65","v":"Menu klasyczne poziome"},1,{"$f":"INDEX(Kalkulacja!$C$65:$C$69,MATCH(X164,Kalkulacja!$I$65:$I$69,0))","v":0},"Galeria zdjęć (podstawowa)",null,null,null,null,{"$f":"IFERROR(INDEX(Kalkulacja!V:V,Q164),0)","v":"x"},0,null,null,null,{"$f":"IFERROR(IF($J$115>0,INDEX(Kalkulacja!D:D,Q165),\"\"),\"\")","v":""},null,null,null,false]
[null,null,null,{"$f":"IFERROR(IF(N165>0,\"SUGEROWANE\",IF((INDEX(Kalkulacja!B:B,MATCH(G165,Kalkulacja!I:I,0)))=\"x\",\"USŁUGA\",\"\")),\"\")","v":""},"i",null,{"$f":"Kalkulacja!I77","v":"Galeria zdjęć (Elementor)"},null,null,0,{"$f":"IFERROR(IF(Kalkulacja!$G$2=\"x\",INDEX(Kalkulacja!$Y$1:$Y$416,Q165),\"\"),\"\")","v":""},{"$f":"IFERROR(IF(Kalkulacja!$D$2=\"x\",IF(INDEX(Kalkulacja!J:J,Q165)=\"od\",\"od\",\"\"),\"\"),\"\")","v":""},{"$f":"IFERROR(IF(AND(Kalkulacja!$D$2=\"x\",$J$115>0),(IF(INDEX(Kalkulacja!D:D,Q165)=\"x\",\"Nie-Elementor\",\"\")),\"\"),\"\")","v":""},{"$f":"IFERROR(INDEX('Podświetlanie modułów'!H:H,MATCH(G165,'Podświetlanie modułów'!F:F,0)),0)","v":0},{"$f":"IF(AO165*1>0,\"x\",IF(INDEX(Kalkulacja!A:A,Q165)=\"x\",\"x\",0))","v":"x"},"TRUE",{"$f":"MATCH(G165,Kalkulacja!$I$1:$I$416,0)","v":77},null,null,0,null,0,null,{"$f":"Kalkulacja!I66","v":"Menu klasyczne pionowe boczne"},2,{"$f":"INDEX(Kalkulacja!$C$65:$C$69,MATCH(X165,Kalkulacja!$I$65:$I$69,0))","v":0},"Galeria zdjęć (Elementor)",null,null,null,null,{"$f":"IFERROR(INDEX(Kalkulacja!V:V,Q165),0)","v":0},0,null,null,null,{"$f":"IFERROR(IF($J$115>0,INDEX(Kalkulacja!D:D,Q166),\"\"),\"\")","v":""},null,null,null,false]
[null,null,null,{"$f":"IFERROR(IF(N166>0,\"SUGEROWANE\",IF((INDEX(Kalkulacja!B:B,MATCH(G166,Kalkulacja!I:I,0)))=\"x\",\"USŁUGA\",\"\")),\"\")","v":""},"i",null,{"$f":"Kalkulacja!I78","v":"Galeria zdjęć PREMIUM"},null,null,0,{"$f":"IFERROR(IF(Kalkulacja!$G$2=\"x\",INDEX(Kalkulacja!$Y$1:$Y$416,Q166),\"\"),\"\")","v":""},{"$f":"IFERROR(IF(Kalkulacja!$D$2=\"x\",IF(INDEX(Kalkulacja!J:J,Q166)=\"od\",\"od\",\"\"),\"\"),\"\")","v":""},{"$f":"IFERROR(IF(AND(Kalkulacja!$D$2=\"x\",$J$115>0),(IF(INDEX(Kalkulacja!D:D,Q166)=\"x\",\"Nie-Elementor\",\"\")),\"\"),\"\")","v":""},{"$f":"IFERROR(INDEX('Podświetlanie modułów'!H:H,MATCH(G166,'Podświetlanie modułów'!F:F,0)),0)","v":0},{"$f":"IF(AO166*1>0,\"x\",IF(INDEX(Kalkulacja!A:A,Q166)=\"x\",\"x\",0))","v":0},"FALSE",{"$f":"MATCH(G166,Kalkulacja!$I$1:$I$416,0)","v":78},null,null,0,null,0,null,{"$f":"Kalkulacja!I67","v":"Menu z ikonami obrazkami"},3,{"$f":"INDEX(Kalkulacja!$C$65:$C$69,MATCH(X166,Kalkulacja!$I$65:$I$69,0))","v":0},"Galeria zdjęć PREMIUM",null,null,null,null,{"$f":"IFERROR(INDEX(Kalkulacja!V:V,Q166),0)","v":0},0,null,null,null,{"$f":"IFERROR(IF($J$115>0,INDEX(Kalkulacja!D:D,Q167),\"\"),\"\")","v":""},null,null,null,false]
[null,null,null,{"$f":"IFERROR(IF(N167>0,\"SUGEROWANE\",IF((INDEX(Kalkulacja!B:B,MATCH(G167,Kalkulacja!I:I,0)))=\"x\",\"USŁUGA\",\"\")),\"\")","v":""},"i",null,{"$f":"Kalkulacja!I79","v":"Biblioteka mediów"},null,null,0,{"$f":"IFERROR(IF(Kalkulacja!$G$2=\"x\",INDEX(Kalkulacja!$Y$1:$Y$416,Q167),\"\"),\"\")","v":""},{"$f":"IFERROR(IF(Kalkulacja!$D$2=\"x\",IF(INDEX(Kalkulacja!J:J,Q167)=\"od\",\"od\",\"\"),\"\"),\"\")","v":""},{"$f":"IFERROR(IF(AND(Kalkulacja!$D$2=\"x\",$J$115>0),(IF(INDEX(Kalkulacja!D:D,Q167)=\"x\",\"Nie-Elementor\",\"\")),\"\"),\"\")","v":""},{"$f":"IFERROR(INDEX('Podświetlanie modułów'!H:H,MATCH(G167,'Podświetlanie modułów'!F:F,0)),0)","v":0},{"$f":"IF(AO167*1>0,\"x\",IF(INDEX(Kalkulacja!A:A,Q167)=\"x\",\"x\",0))","v":"x"},"TRUE",{"$f":"MATCH(G167,Kalkulacja!$I$1:$I$416,0)","v":79},null,null,0,null,0,null,{"$f":"Kalkulacja!I68","v":"Menu mega"},4,{"$f":"INDEX(Kalkulacja!$C$65:$C$69,MATCH(X167,Kalkulacja!$I$65:$I$69,0))","v":0},"Biblioteka mediów",null,null,null,null,{"$f":"IFERROR(INDEX(Kalkulacja!V:V,Q167),0)","v":"x"},0,null,null,null,{"$f":"IFERROR(IF($J$115>0,INDEX(Kalkulacja!D:D,Q168),\"\"),\"\")","v":""},null,null,null,false]
[null,null,null,{"$f":"IFERROR(IF(N168>0,\"SUGEROWANE\",IF((INDEX(Kalkulacja!B:B,MATCH(G168,Kalkulacja!I:I,0)))=\"x\",\"USŁUGA\",\"\")),\"\")","v":""},"i",null,{"$f":"Kalkulacja!I80","v":"Foldery w bibliotece mediów"},null,null,0,{"$f":"IFERROR(IF(Kalkulacja!$G$2=\"x\",INDEX(Kalkulacja!$Y$1:$Y$416,Q168),\"\"),\"\")","v":""},{"$f":"IFERROR(IF(Kalkulacja!$D$2=\"x\",IF(INDEX(Kalkulacja!J:J,Q168)=\"od\",\"od\",\"\"),\"\"),\"\")","v":""},{"$f":"IFERROR(IF(AND(Kalkulacja!$D$2=\"x\",$J$115>0),(IF(INDEX(Kalkulacja!D:D,Q168)=\"x\",\"Nie-Elementor\",\"\")),\"\"),\"\")","v":""},{"$f":"IFERROR(INDEX('Podświetlanie modułów'!H:H,MATCH(G168,'Podświetlanie modułów'!F:F,0)),0)","v":0},{"$f":"IF(AO168*1>0,\"x\",IF(INDEX(Kalkulacja!A:A,Q168)=\"x\",\"x\",0))","v":0},"FALSE",{"$f":"MATCH(G168,Kalkulacja!$I$1:$I$416,0)","v":80},null,null,0,null,0,null,{"$f":"Kalkulacja!I69","v":"Menu Burger"},5,{"$f":"INDEX(Kalkulacja!$C$65:$C$69,MATCH(X168,Kalkulacja!$I$65:$I$69,0))","v":0},"Foldery w bibliotece mediów",null,null,null,null,{"$f":"IFERROR(INDEX(Kalkulacja!V:V,Q168),0)","v":0},0,null,null,null,{"$f":"IFERROR(IF($J$115>0,INDEX(Kalkulacja!D:D,Q169),\"\"),\"\")","v":""},null,null,null,false]
[null,null,null,{"$f":"IFERROR(IF(N169>0,\"SUGEROWANE\",IF((INDEX(Kalkulacja!B:B,MATCH(G169,Kalkulacja!I:I,0)))=\"x\",\"USŁUGA\",\"\")),\"\")","v":""},"i",{"$f":"IF(ISBLANK(G169),\" Wybierz rodzaj mapy\",\"\")","v":""},{"$f":"INDEX(X$169:$X173,MATCH($T$169,$Y$169:$Y$173,0))","v":"Mapa prosta Google Mapy"},null,null,0,{"$f":"IFERROR(IF(Kalkulacja!$G$2=\"x\",INDEX(Kalkulacja!$Y$1:$Y$416,Q169),\"\"),\"\")","v":""},{"$f":"IFERROR(IF(Kalkulacja!$D$2=\"x\",IF(INDEX(Kalkulacja!J:J,Q169)=\"od\",\"od\",\"\"),\"\"),\"\")","v":""},{"$f":"IFERROR(IF(AND(Kalkulacja!$D$2=\"x\",$J$115>0),(IF(INDEX(Kalkulacja!D:D,Q169)=\"x\",\"Nie-Elementor\",\"\")),\"\"),\"\")","v":""},{"$f":"IFERROR(INDEX('Podświetlanie modułów'!H:H,MATCH(G169,'Podświetlanie modułów'!F:F,0)),0)","v":0},{"$f":"IF(AO169*1>0,\"x\",IF(COUNTIF(Kalkulacja!$A$81:$A$85,\"x\")>0,\"x\",0))","v":"x"},"TRUE",{"$f":"MATCH(G169,Kalkulacja!$I$1:$I$416,0)","v":82},null,null,2,{"$f":"IFERROR(INDEX($Y$169:$Y$173,MATCH(\"x\",$Z$169:$Z$173,0)),1)","v":1},0,null,{"$f":"Kalkulacja!I81","v":"Mapa jako obrazek z Google Mapy (bez interaktywności)"},1,{"$f":"INDEX(Kalkulacja!$C$81:$C$85,MATCH(X169,Kalkulacja!$I$81:$I$85,0))","v":0},"Mapa prosta Google Mapy",null,null,null,null,{"$f":"IFERROR(INDEX(Kalkulacja!V:V,Q169),0)","v":"x"},0,null,null,null,{"$f":"IFERROR(IF($J$115>0,INDEX(Kalkulacja!D:D,Q170),\"\"),\"\")","v":""},null,null,null,false]
[null,null,null,{"$f":"IFERROR(IF(N170>0,\"SUGEROWANE\",IF((INDEX(Kalkulacja!B:B,MATCH(G170,Kalkulacja!I:I,0)))=\"x\",\"USŁUGA\",\"\")),\"\")","v":""},"i",{"$f":"IF(ISBLANK(G170),\" Wybierz rodzaj wyszukiwarki\",\"\")","v":""},{"$f":"INDEX(X$175:$X177,MATCH($T$170,$Y$175:$Y$177,0))","v":"Wyszukiwarka podstawowa z obrazkami"},null,null,0,{"$f":"IFERROR(IF(Kalkulacja!$G$2=\"x\",INDEX(Kalkulacja!$Y$1:$Y$416,Q170),\"\"),\"\")","v":""},{"$f":"IFERROR(IF(Kalkulacja!$D$2=\"x\",IF(INDEX(Kalkulacja!J:J,Q170)=\"od\",\"od\",\"\"),\"\"),\"\")","v":""},{"$f":"IFERROR(IF(AND(Kalkulacja!$D$2=\"x\",$J$115>0),(IF(INDEX(Kalkulacja!D:D,Q170)=\"x\",\"Nie-Elementor\",\"\")),\"\"),\"\")","v":""},{"$f":"IFERROR(INDEX('Podświetlanie modułów'!H:H,MATCH(G170,'Podświetlanie modułów'!F:F,0)),0)","v":0},{"$f":"IF(AO170*1>0,\"x\",IF(COUNTIF(Kalkulacja!$A$86:$A$88,\"x\")>0,\"x\",0))","v":"x"},"TRUE",{"$f":"MATCH(G170,Kalkulacja!$I$1:$I$416,0)","v":87},null,null,2,{"$f":"IFERROR(INDEX($Y$175:$Y$177,MATCH(\"x\",$Z$175:$Z$177,0)),1)","v":1},0,null,{"$f":"Kalkulacja!I82","v":"Mapa prosta Google Mapy"},2,{"$f":"INDEX(Kalkulacja!$C$81:$C$85,MATCH(X170,Kalkulacja!$I$81:$I$85,0))","v":0},"Wyszukiwarka podstawowa z obrazkami",null,null,null,null,{"$f":"IFERROR(INDEX(Kalkulacja!V:V,Q170),0)","v":"x"},0,null,null,null,{"$f":"IFERROR(IF($J$115>0,INDEX(Kalkulacja!D:D,Q171),\"\"),\"\")","v":""},null,null,null,false]
[null,null,null,{"$f":"IFERROR(IF(N171>0,\"SUGEROWANE\",IF((INDEX(Kalkulacja!B:B,MATCH(G171,Kalkulacja!I:I,0)))=\"x\",\"USŁUGA\",\"\")),\"\")","v":""},"i",null,{"$f":"Kalkulacja!I89","v":"Formularz kontaktowy (5 pól)"},null,null,1,{"$f":"IFERROR(IF(Kalkulacja!$G$2=\"x\",INDEX(Kalkulacja!$Y$1:$Y$416,Q171),\"\"),\"\")","v":""},{"$f":"IFERROR(IF(Kalkulacja!$D$2=\"x\",IF(INDEX(Kalkulacja!J:J,Q171)=\"od\",\"od\",\"\"),\"\"),\"\")","v":""},{"$f":"IFERROR(IF(AND(Kalkulacja!$D$2=\"x\",$J$115>0),(IF(INDEX(Kalkulacja!D:D,Q171)=\"x\",\"Nie-Elementor\",\"\")),\"\"),\"\")","v":""},{"$f":"IFERROR(INDEX('Podświetlanie modułów'!H:H,MATCH(G171,'Podświetlanie modułów'!F:F,0)),0)","v":0},{"$f":"IF(AO171*1>0,\"x\",IF(INDEX(Kalkulacja!A:A,Q171)=\"x\",\"x\",0))","v":"x"},"TRUE",{"$f":"MATCH(G171,Kalkulacja!$I$1:$I$416,0)","v":89},null,null,0,null,0,null,{"$f":"Kalkulacja!I83","v":"Mapa interaktywna Google Mapy (API)"},3,{"$f":"INDEX(Kalkulacja!$C$81:$C$85,MATCH(X171,Kalkulacja!$I$81:$I$85,0))","v":0},"Formularz kontaktowy (5 pól)",null,null,null,null,{"$f":"IFERROR(INDEX(Kalkulacja!V:V,Q171),0)","v":"x"},0,null,null,null,{"$f":"IFERROR(IF($J$115>0,INDEX(Kalkulacja!D:D,Q172),\"\"),\"\")","v":""},null,null,null,true]
[null,null,null,{"$f":"IFERROR(IF(N172>0,\"SUGEROWANE\",IF((INDEX(Kalkulacja!B:B,MATCH(G172,Kalkulacja!I:I,0)))=\"x\",\"USŁUGA\",\"\")),\"\")","v":""},"i",null,{"$f":"Kalkulacja!I90","v":"Formularz kontaktowy (15 pól)"},null,null,0,{"$f":"IFERROR(IF(Kalkulacja!$G$2=\"x\",INDEX(Kalkulacja!$Y$1:$Y$416,Q172),\"\"),\"\")","v":""},{"$f":"IFERROR(IF(Kalkulacja!$D$2=\"x\",IF(INDEX(Kalkulacja!J:J,Q172)=\"od\",\"od\",\"\"),\"\"),\"\")","v":""},{"$f":"IFERROR(IF(AND(Kalkulacja!$D$2=\"x\",$J$115>0),(IF(INDEX(Kalkulacja!D:D,Q172)=\"x\",\"Nie-Elementor\",\"\")),\"\"),\"\")","v":""},{"$f":"IFERROR(INDEX('Podświetlanie modułów'!H:H,MATCH(G172,'Podświetlanie modułów'!F:F,0)),0)","v":0},{"$f":"IF(AO172*1>0,\"x\",IF(INDEX(Kalkulacja!A:A,Q172)=\"x\",\"x\",0))","v":0},"FALSE",{"$f":"MATCH(G172,Kalkulacja!$I$1:$I$416,0)","v":90},null,null,0,null,0,null,{"$f":"Kalkulacja!I84","v":"Mapa graficzna (sytuacjna)"},4,{"$f":"INDEX(Kalkulacja!$C$81:$C$85,MATCH(X172,Kalkulacja!$I$81:$I$85,0))","v":0},"Formularz kontaktowy (15 pól)",null,null,null,null,{"$f":"IFERROR(INDEX(Kalkulacja!V:V,Q172),0)","v":0},0,null,null,null,{"$f":"IFERROR(IF($J$115>0,INDEX(Kalkulacja!D:D,Q173),\"\"),\"\")","v":""},null,null,null,false]
[null,null,null,{"$f":"IFERROR(IF(N173>0,\"SUGEROWANE\",IF((INDEX(Kalkulacja!B:B,MATCH(G173,Kalkulacja!I:I,0)))=\"x\",\"USŁUGA\",\"\")),\"\")","v":""},"i",null,{"$f":"Kalkulacja!I91","v":"Formularz kontaktowy z etapami (kroki)"},null,null,0,{"$f":"IFERROR(IF(Kalkulacja!$G$2=\"x\",INDEX(Kalkulacja!$Y$1:$Y$416,Q173),\"\"),\"\")","v":""},{"$f":"IFERROR(IF(Kalkulacja!$D$2=\"x\",IF(INDEX(Kalkulacja!J:J,Q173)=\"od\",\"od\",\"\"),\"\"),\"\")","v":""},{"$f":"IFERROR(IF(AND(Kalkulacja!$D$2=\"x\",$J$115>0),(IF(INDEX(Kalkulacja!D:D,Q173)=\"x\",\"Nie-Elementor\",\"\")),\"\"),\"\")","v":""},{"$f":"IFERROR(INDEX('Podświetlanie modułów'!H:H,MATCH(G173,'Podświetlanie modułów'!F:F,0)),0)","v":0},{"$f":"IF(AO173*1>0,\"x\",IF(INDEX(Kalkulacja!A:A,Q173)=\"x\",\"x\",0))","v":0},"FALSE",{"$f":"MATCH(G173,Kalkulacja!$I$1:$I$416,0)","v":91},null,null,0,null,0,null,{"$f":"Kalkulacja!I85","v":"Mapa graficzna (sytuacyjna) + interaktywność"},5,{"$f":"INDEX(Kalkulacja!$C$81:$C$85,MATCH(X173,Kalkulacja!$I$81:$I$85,0))","v":0},"Formularz kontaktowy z etapami (kroki)",null,null,null,null,{"$f":"IFERROR(INDEX(Kalkulacja!V:V,Q173),0)","v":0},0,null,null,null,{"$f":"IFERROR(IF($J$115>0,INDEX(Kalkulacja!D:D,Q174),\"\"),\"\")","v":""},null,null,null,false]
[null,null,null,{"$f":"IFERROR(IF(N174>0,\"SUGEROWANE\",IF((INDEX(Kalkulacja!B:B,MATCH(G174,Kalkulacja!I:I,0)))=\"x\",\"USŁUGA\",\"\")),\"\")","v":""},"i",null,{"$f":"Kalkulacja!I92","v":"Formularz kontaktowy z wizualizacją"},null,null,0,{"$f":"IFERROR(IF(Kalkulacja!$G$2=\"x\",INDEX(Kalkulacja!$Y$1:$Y$416,Q174),\"\"),\"\")","v":""},{"$f":"IFERROR(IF(Kalkulacja!$D$2=\"x\",IF(INDEX(Kalkulacja!J:J,Q174)=\"od\",\"od\",\"\"),\"\"),\"\")","v":""},{"$f":"IFERROR(IF(AND(Kalkulacja!$D$2=\"x\",$J$115>0),(IF(INDEX(Kalkulacja!D:D,Q174)=\"x\",\"Nie-Elementor\",\"\")),\"\"),\"\")","v":""},{"$f":"IFERROR(INDEX('Podświetlanie modułów'!H:H,MATCH(G174,'Podświetlanie modułów'!F:F,0)),0)","v":0},{"$f":"IF(AO174*1>0,\"x\",IF(INDEX(Kalkulacja!A:A,Q174)=\"x\",\"x\",0))","v":0},"FALSE",{"$f":"MATCH(G174,Kalkulacja!$I$1:$I$416,0)","v":92},null,null,0,null,0,null,null,null,null,"Formularz kontaktowy z wizualizacją",null,null,null,null,{"$f":"IFERROR(INDEX(Kalkulacja!V:V,Q174),0)","v":0},0,null,null,null,{"$f":"IFERROR(IF($J$115>0,INDEX(Kalkulacja!D:D,Q175),\"\"),\"\")","v":""},null,null,null,false]
[null,null,null,{"$f":"IFERROR(IF(N175>0,\"SUGEROWANE\",IF((INDEX(Kalkulacja!B:B,MATCH(G175,Kalkulacja!I:I,0)))=\"x\",\"USŁUGA\",\"\")),\"\")","v":"USŁUGA"},"i",null,{"$f":"Kalkulacja!I93","v":"Logotypy - rotator (do 10 szt)"},null,null,1,{"$f":"IFERROR(IF(Kalkulacja!$G$2=\"x\",INDEX(Kalkulacja!$Y$1:$Y$416,Q175),\"\"),\"\")","v":""},{"$f":"IFERROR(IF(Kalkulacja!$D$2=\"x\",IF(INDEX(Kalkulacja!J:J,Q175)=\"od\",\"od\",\"\"),\"\"),\"\")","v":""},{"$f":"IFERROR(IF(AND(Kalkulacja!$D$2=\"x\",$J$115>0),(IF(INDEX(Kalkulacja!D:D,Q175)=\"x\",\"Nie-Elementor\",\"\")),\"\"),\"\")","v":""},{"$f":"IFERROR(INDEX('Podświetlanie modułów'!H:H,MATCH(G175,'Podświetlanie modułów'!F:F,0)),0)","v":0},{"$f":"IF(AO175*1>0,\"x\",IF(INDEX(Kalkulacja!A:A,Q175)=\"x\",\"x\",0))","v":"x"},"TRUE",{"$f":"MATCH(G175,Kalkulacja!$I$1:$I$416,0)","v":93},null,null,0,null,0,null,{"$f":"Kalkulacja!I86","v":"Wyszukiwarka podstawowa tekstowa"},1,{"$f":"INDEX(Kalkulacja!$C$86:$C$88,MATCH(X175,Kalkulacja!$I$86:$I$88,0))","v":0},"Logotypy - rotator (do 10 szt)",null,null,null,null,{"$f":"IFERROR(INDEX(Kalkulacja!V:V,Q175),0)","v":0},0,null,null,null,{"$f":"IFERROR(IF($J$115>0,INDEX(Kalkulacja!D:D,Q176),\"\"),\"\")","v":""},null,null,null,true]
[null,null,null,{"$f":"IFERROR(IF(N176>0,\"SUGEROWANE\",IF((INDEX(Kalkulacja!B:B,MATCH(G176,Kalkulacja!I:I,0)))=\"x\",\"USŁUGA\",\"\")),\"\")","v":""},"i",null,{"$f":"Kalkulacja!I94","v":"Dodatkowy moduł 6"},null,null,0,{"$f":"IFERROR(IF(Kalkulacja!$G$2=\"x\",INDEX(Kalkulacja!$Y$1:$Y$416,Q176),\"\"),\"\")","v":""},{"$f":"IFERROR(IF(Kalkulacja!$D$2=\"x\",IF(INDEX(Kalkulacja!J:J,Q176)=\"od\",\"od\",\"\"),\"\"),\"\")","v":""},{"$f":"IFERROR(IF(AND(Kalkulacja!$D$2=\"x\",$J$115>0),(IF(INDEX(Kalkulacja!D:D,Q176)=\"x\",\"Nie-Elementor\",\"\")),\"\"),\"\")","v":""},{"$f":"IFERROR(INDEX('Podświetlanie modułów'!H:H,MATCH(G176,'Podświetlanie modułów'!F:F,0)),0)","v":0},{"$f":"IF(AO176*1>0,\"x\",IF(INDEX(Kalkulacja!A:A,Q176)=\"x\",\"x\",0))","v":0},"FALSE",{"$f":"MATCH(G176,Kalkulacja!$I$1:$I$416,0)","v":94},null,null,0,null,0,null,{"$f":"Kalkulacja!I87","v":"Wyszukiwarka podstawowa z obrazkami"},2,{"$f":"INDEX(Kalkulacja!$C$86:$C$88,MATCH(X176,Kalkulacja!$I$86:$I$88,0))","v":0},"Dodatkowy moduł 6",null,null,null,null,{"$f":"IFERROR(INDEX(Kalkulacja!V:V,Q176),0)","v":0},0,null,null,null,{"$f":"IFERROR(IF($J$115>0,INDEX(Kalkulacja!D:D,Q177),\"\"),\"\")","v":""},null,null,null,{"$f":"S176","v":0}]
[null,null,null,{"$f":"IFERROR(IF(N177>0,\"SUGEROWANE\",IF((INDEX(Kalkulacja!B:B,MATCH(G177,Kalkulacja!I:I,0)))=\"x\",\"USŁUGA\",\"\")),\"\")","v":""},"i",null,{"$f":"Kalkulacja!I95","v":"Dodatkowy moduł 7"},null,null,0,{"$f":"IFERROR(IF(Kalkulacja!$G$2=\"x\",INDEX(Kalkulacja!$Y$1:$Y$416,Q177),\"\"),\"\")","v":""},{"$f":"IFERROR(IF(Kalkulacja!$D$2=\"x\",IF(INDEX(Kalkulacja!J:J,Q177)=\"od\",\"od\",\"\"),\"\"),\"\")","v":""},{"$f":"IFERROR(IF(AND(Kalkulacja!$D$2=\"x\",$J$115>0),(IF(INDEX(Kalkulacja!D:D,Q177)=\"x\",\"Nie-Elementor\",\"\")),\"\"),\"\")","v":""},{"$f":"IFERROR(INDEX('Podświetlanie modułów'!H:H,MATCH(G177,'Podświetlanie modułów'!F:F,0)),0)","v":0},{"$f":"IF(AO177*1>0,\"x\",IF(INDEX(Kalkulacja!A:A,Q177)=\"x\",\"x\",0))","v":0},"FALSE",{"$f":"MATCH(G177,Kalkulacja!$I$1:$I$416,0)","v":95},null,null,0,null,0,null,{"$f":"Kalkulacja!I88","v":"Wyszukiwarka z wynikami dynamicznymi"},3,{"$f":"INDEX(Kalkulacja!$C$86:$C$88,MATCH(X177,Kalkulacja!$I$86:$I$88,0))","v":0},"Dodatkowy moduł 7",null,null,null,null,{"$f":"IFERROR(INDEX(Kalkulacja!V:V,Q177),0)","v":0},0,null,null,null,{"$f":"IFERROR(IF($J$115>0,INDEX(Kalkulacja!D:D,Q178),\"\"),\"\")","v":""},null,null,null,false]
[null,null,null,{"$f":"IFERROR(IF(N178>0,\"SUGEROWANE\",IF((INDEX(Kalkulacja!B:B,MATCH(G178,Kalkulacja!I:I,0)))=\"x\",\"USŁUGA\",\"\")),\"\")","v":""},"i",null,{"$f":"Kalkulacja!I96","v":"Dodatkowy moduł 8"},null,null,0,{"$f":"IFERROR(IF(Kalkulacja!$G$2=\"x\",INDEX(Kalkulacja!$Y$1:$Y$416,Q178),\"\"),\"\")","v":""},{"$f":"IFERROR(IF(Kalkulacja!$D$2=\"x\",IF(INDEX(Kalkulacja!J:J,Q178)=\"od\",\"od\",\"\"),\"\"),\"\")","v":""},{"$f":"IFERROR(IF(AND(Kalkulacja!$D$2=\"x\",$J$115>0),(IF(INDEX(Kalkulacja!D:D,Q178)=\"x\",\"Nie-Elementor\",\"\")),\"\"),\"\")","v":""},{"$f":"IFERROR(INDEX('Podświetlanie modułów'!H:H,MATCH(G178,'Podświetlanie modułów'!F:F,0)),0)","v":0},{"$f":"IF(AO178*1>0,\"x\",IF(INDEX(Kalkulacja!A:A,Q178)=\"x\",\"x\",0))","v":0},"FALSE",{"$f":"MATCH(G178,Kalkulacja!$I$1:$I$416,0)","v":96},null,null,0,null,0,null,null,null,null,"Dodatkowy moduł 8",null,null,null,null,{"$f":"IFERROR(INDEX(Kalkulacja!V:V,Q178),0)","v":0},0,null,null,null,{"$f":"IFERROR(IF($J$115>0,INDEX(Kalkulacja!D:D,Q179),\"\"),\"\")","v":""},null,null,null,false]
[null,null,null,{"$f":"IFERROR(IF(N179>0,\"SUGEROWANE\",IF((INDEX(Kalkulacja!B:B,MATCH(G179,Kalkulacja!I:I,0)))=\"x\",\"USŁUGA\",\"\")),\"\")","v":""},"i",null,{"$f":"Kalkulacja!I97","v":"Dodatkowy moduł 9"},null,null,0,{"$f":"IFERROR(IF(Kalkulacja!$G$2=\"x\",INDEX(Kalkulacja!$Y$1:$Y$416,Q179),\"\"),\"\")","v":""},{"$f":"IFERROR(IF(Kalkulacja!$D$2=\"x\",IF(INDEX(Kalkulacja!J:J,Q179)=\"od\",\"od\",\"\"),\"\"),\"\")","v":""},{"$f":"IFERROR(IF(AND(Kalkulacja!$D$2=\"x\",$J$115>0),(IF(INDEX(Kalkulacja!D:D,Q179)=\"x\",\"Nie-Elementor\",\"\")),\"\"),\"\")","v":""},{"$f":"IFERROR(INDEX('Podświetlanie modułów'!H:H,MATCH(G179,'Podświetlanie modułów'!F:F,0)),0)","v":0},{"$f":"IF(AO179*1>0,\"x\",IF(INDEX(Kalkulacja!A:A,Q179)=\"x\",\"x\",0))","v":0},"FALSE",{"$f":"MATCH(G179,Kalkulacja!$I$1:$I$416,0)","v":97},null,null,0,null,0,null,null,null,null,"Dodatkowy moduł 9",null,null,null,null,{"$f":"IFERROR(INDEX(Kalkulacja!V:V,Q179),0)","v":0},0,null,null,null,{"$f":"IFERROR(IF($J$115>0,INDEX(Kalkulacja!D:D,Q180),\"\"),\"\")","v":""},null,null,null,{"$f":"S179","v":0}]
[null,null,null,{"$f":"IFERROR(IF(N180>0,\"SUGEROWANE\",IF((INDEX(Kalkulacja!B:B,MATCH(G180,Kalkulacja!I:I,0)))=\"x\",\"USŁUGA\",\"\")),\"\")","v":""},{"$f":"Kalkulacja!I98","v":"Pliki do pobrania"},null,null,null,null,null,null,{"$f":"IFERROR(IF(Kalkulacja!$D$2=\"x\",IF(INDEX(Kalkulacja!J:J,Q180)=\"od\",\"od\",\"\"),\"\"),\"\")","v":""},{"$f":"IFERROR(IF(AND(Kalkulacja!$D$2=\"x\",$J$115>0),(IF(INDEX(Kalkulacja!D:D,Q180)=\"x\",\"Nie-Elementor\",\"\")),\"\"),\"\")","v":""},{"$f":"IFERROR(INDEX('Podświetlanie modułów'!H:H,MATCH(G180,'Podświetlanie modułów'!F:F,0)),0)","v":0},{"$f":"IF(COUNTIF(O181:O185,\"x\")>0,\"x\",0)","v":"x"},"TRUE",{"$f":"MATCH(E180,Kalkulacja!$I$1:$I$416,0)","v":98},null,null,0,null,0,null,null,null,null,0,null,null,null,null,{"$f":"IFERROR(INDEX(Kalkulacja!V:V,Q180),0)","v":0},0,null,null,null,{"$f":"IFERROR(IF($J$115>0,INDEX(Kalkulacja!D:D,Q181),\"\"),\"\")","v":""}]
[null,null,null,{"$f":"IFERROR(IF(N181>0,\"SUGEROWANE\",IF((INDEX(Kalkulacja!B:B,MATCH(G181,Kalkulacja!I:I,0)))=\"x\",\"USŁUGA\",\"\")),\"\")","v":""},"i",null,{"$f":"Kalkulacja!I99","v":"Dostęp do tajnych treści "},null,null,{"$f":"AO181*1","v":0},{"$f":"IFERROR(IF(Kalkulacja!$G$2=\"x\",INDEX(Kalkulacja!$Y$1:$Y$416,Q181),\"\"),\"\")","v":""},{"$f":"IFERROR(IF(Kalkulacja!$D$2=\"x\",IF(INDEX(Kalkulacja!J:J,Q181)=\"od\",\"od\",\"\"),\"\"),\"\")","v":""},{"$f":"IFERROR(IF(AND(Kalkulacja!$D$2=\"x\",$J$115>0),(IF(INDEX(Kalkulacja!D:D,Q181)=\"x\",\"Nie-Elementor\",\"\")),\"\"),\"\")","v":""},{"$f":"IFERROR(INDEX('Podświetlanie modułów'!H:H,MATCH(G181,'Podświetlanie modułów'!F:F,0)),0)","v":0},{"$f":"IF(AO181*1>0,\"x\",IF(INDEX(Kalkulacja!A:A,Q181)=\"x\",\"x\",0))","v":0},"FALSE",{"$f":"MATCH(G181,Kalkulacja!$I$1:$I$416,0)","v":99},null,null,0,null,0,null,null,null,null,"Dostęp do tajnych treści ",null,null,null,null,{"$f":"IFERROR(INDEX(Kalkulacja!V:V,Q181),0)","v":0},0,null,null,null,{"$f":"IFERROR(IF($J$115>0,INDEX(Kalkulacja!D:D,Q182),\"\"),\"\")","v":""},null,null,null,false]
[null,null,null,{"$f":"IFERROR(IF(N182>0,\"SUGEROWANE\",IF((INDEX(Kalkulacja!B:B,MATCH(G182,Kalkulacja!I:I,0)))=\"x\",\"USŁUGA\",\"\")),\"\")","v":""},"i",null,{"$f":"Kalkulacja!I100","v":"Załączniki i pliki do pobrania (w treści)"},null,null,{"$f":"AO182*1","v":0},{"$f":"IFERROR(IF(Kalkulacja!$G$2=\"x\",INDEX(Kalkulacja!$Y$1:$Y$416,Q182),\"\"),\"\")","v":""},{"$f":"IFERROR(IF(Kalkulacja!$D$2=\"x\",IF(INDEX(Kalkulacja!J:J,Q182)=\"od\",\"od\",\"\"),\"\"),\"\")","v":""},{"$f":"IFERROR(IF(AND(Kalkulacja!$D$2=\"x\",$J$115>0),(IF(INDEX(Kalkulacja!D:D,Q182)=\"x\",\"Nie-Elementor\",\"\")),\"\"),\"\")","v":""},{"$f":"IFERROR(INDEX('Podświetlanie modułów'!H:H,MATCH(G182,'Podświetlanie modułów'!F:F,0)),0)","v":0},{"$f":"IF(AO182*1>0,\"x\",IF(INDEX(Kalkulacja!A:A,Q182)=\"x\",\"x\",0))","v":"x"},"TRUE",{"$f":"MATCH(G182,Kalkulacja!$I$1:$I$416,0)","v":100},null,null,0,null,0,null,null,null,null,"Załączniki i pliki do pobrania (w treści)",null,null,null,null,{"$f":"IFERROR(INDEX(Kalkulacja!V:V,Q182),0)","v":"x"},0,null,null,null,{"$f":"IFERROR(IF($J$115>0,INDEX(Kalkulacja!D:D,Q183),\"\"),\"\")","v":""},null,null,null,false]
[null,null,null,{"$f":"IFERROR(IF(N183>0,\"SUGEROWANE\",IF((INDEX(Kalkulacja!B:B,MATCH(G183,Kalkulacja!I:I,0)))=\"x\",\"USŁUGA\",\"\")),\"\")","v":""},"i",null,{"$f":"Kalkulacja!I101","v":"Załączniki i pliki do pobrania (osobny moduł)"},null,null,{"$f":"AO183*1","v":0},{"$f":"IFERROR(IF(Kalkulacja!$G$2=\"x\",INDEX(Kalkulacja!$Y$1:$Y$416,Q183),\"\"),\"\")","v":""},{"$f":"IFERROR(IF(Kalkulacja!$D$2=\"x\",IF(INDEX(Kalkulacja!J:J,Q183)=\"od\",\"od\",\"\"),\"\"),\"\")","v":""},{"$f":"IFERROR(IF(AND(Kalkulacja!$D$2=\"x\",$J$115>0),(IF(INDEX(Kalkulacja!D:D,Q183)=\"x\",\"Nie-Elementor\",\"\")),\"\"),\"\")","v":""},{"$f":"IFERROR(INDEX('Podświetlanie modułów'!H:H,MATCH(G183,'Podświetlanie modułów'!F:F,0)),0)","v":0},{"$f":"IF(AO183*1>0,\"x\",IF(INDEX(Kalkulacja!A:A,Q183)=\"x\",\"x\",0))","v":0},"FALSE",{"$f":"MATCH(G183,Kalkulacja!$I$1:$I$416,0)","v":101},null,null,0,null,0,null,null,null,null,"Załączniki i pliki do pobrania (osobny moduł)",null,null,null,null,{"$f":"IFERROR(INDEX(Kalkulacja!V:V,Q183),0)","v":0},0,null,null,null,{"$f":"IFERROR(IF($J$115>0,INDEX(Kalkulacja!D:D,Q184),\"\"),\"\")","v":""},null,null,null,false]
[null,null,null,{"$f":"IFERROR(IF(N184>0,\"SUGEROWANE\",IF((INDEX(Kalkulacja!B:B,MATCH(G184,Kalkulacja!I:I,0)))=\"x\",\"USŁUGA\",\"\")),\"\")","v":""},"i",null,{"$f":"Kalkulacja!I102","v":"Dodatkowy moduł 10"},null,null,{"$f":"AO184*1","v":0},{"$f":"IFERROR(IF(Kalkulacja!$G$2=\"x\",INDEX(Kalkulacja!$Y$1:$Y$416,Q184),\"\"),\"\")","v":""},{"$f":"IFERROR(IF(Kalkulacja!$D$2=\"x\",IF(INDEX(Kalkulacja!J:J,Q184)=\"od\",\"od\",\"\"),\"\"),\"\")","v":""},{"$f":"IFERROR(IF(AND(Kalkulacja!$D$2=\"x\",$J$115>0),(IF(INDEX(Kalkulacja!D:D,Q184)=\"x\",\"Nie-Elementor\",\"\")),\"\"),\"\")","v":""},{"$f":"IFERROR(INDEX('Podświetlanie modułów'!H:H,MATCH(G184,'Podświetlanie modułów'!F:F,0)),0)","v":0},{"$f":"IF(AO184*1>0,\"x\",IF(INDEX(Kalkulacja!A:A,Q184)=\"x\",\"x\",0))","v":0},"FALSE",{"$f":"MATCH(G184,Kalkulacja!$I$1:$I$416,0)","v":102},null,null,0,null,0,null,null,null,null,"Dodatkowy moduł 10",null,null,null,null,{"$f":"IFERROR(INDEX(Kalkulacja!V:V,Q184),0)","v":0},0,null,null,null,{"$f":"IFERROR(IF($J$115>0,INDEX(Kalkulacja!D:D,Q185),\"\"),\"\")","v":""},null,null,null,false]
[null,null,null,{"$f":"IFERROR(IF(N185>0,\"SUGEROWANE\",IF((INDEX(Kalkulacja!B:B,MATCH(G185,Kalkulacja!I:I,0)))=\"x\",\"USŁUGA\",\"\")),\"\")","v":""},"i",null,{"$f":"Kalkulacja!I103","v":"Dodatkowy moduł 11"},null,null,{"$f":"AO185*1","v":0},{"$f":"IFERROR(IF(Kalkulacja!$G$2=\"x\",INDEX(Kalkulacja!$Y$1:$Y$416,Q185),\"\"),\"\")","v":""},{"$f":"IFERROR(IF(Kalkulacja!$D$2=\"x\",IF(INDEX(Kalkulacja!J:J,Q185)=\"od\",\"od\",\"\"),\"\"),\"\")","v":""},{"$f":"IFERROR(IF(AND(Kalkulacja!$D$2=\"x\",$J$115>0),(IF(INDEX(Kalkulacja!D:D,Q185)=\"x\",\"Nie-Elementor\",\"\")),\"\"),\"\")","v":""},{"$f":"IFERROR(INDEX('Podświetlanie modułów'!H:H,MATCH(G185,'Podświetlanie modułów'!F:F,0)),0)","v":0},{"$f":"IF(AO185*1>0,\"x\",IF(INDEX(Kalkulacja!A:A,Q185)=\"x\",\"x\",0))","v":0},"FALSE",{"$f":"MATCH(G185,Kalkulacja!$I$1:$I$416,0)","v":103},null,null,0,null,0,null,null,null,null,"Dodatkowy moduł 11",null,null,null,null,{"$f":"IFERROR(INDEX(Kalkulacja!V:V,Q185),0)","v":0},0,null,null,null,{"$f":"IFERROR(IF($J$115>0,INDEX(Kalkulacja!D:D,Q186),\"\"),\"\")","v":""},null,null,null,{"$f":"S185","v":0}]
[null,null,null,{"$f":"IFERROR(IF(N186>0,\"SUGEROWANE\",IF((INDEX(Kalkulacja!B:B,MATCH(G186,Kalkulacja!I:I,0)))=\"x\",\"USŁUGA\",\"\")),\"\")","v":""},{"$f":"Kalkulacja!I104","v":"Marketing"},null,null,null,null,null,null,{"$f":"IFERROR(IF(Kalkulacja!$D$2=\"x\",IF(INDEX(Kalkulacja!J:J,Q186)=\"od\",\"od\",\"\"),\"\"),\"\")","v":""},{"$f":"IFERROR(IF(AND(Kalkulacja!$D$2=\"x\",$J$115>0),(IF(INDEX(Kalkulacja!D:D,Q186)=\"x\",\"Nie-Elementor\",\"\")),\"\"),\"\")","v":""},{"$f":"IFERROR(INDEX('Podświetlanie modułów'!H:H,MATCH(G186,'Podświetlanie modułów'!F:F,0)),0)","v":0},{"$f":"IF(COUNTIF(O187:O197,\"x\")>0,\"x\",0)","v":"x"},"TRUE",{"$f":"MATCH(E186,Kalkulacja!$I$1:$I$416,0)","v":104},null,null,0,null,0,null,null,null,null,0,null,null,null,null,{"$f":"IFERROR(INDEX(Kalkulacja!V:V,Q186),0)","v":0},0,null,null,null,{"$f":"IFERROR(IF($J$115>0,INDEX(Kalkulacja!D:D,Q187),\"\"),\"\")","v":""}]
[null,null,null,{"$f":"IFERROR(IF(N187>0,\"SUGEROWANE\",IF((INDEX(Kalkulacja!B:B,MATCH(G187,Kalkulacja!I:I,0)))=\"x\",\"USŁUGA\",\"\")),\"\")","v":""},"i",null,{"$f":"Kalkulacja!I105","v":"Box Facebooka na stronie"},null,null,{"$f":"AO187*1","v":0},{"$f":"IFERROR(IF(Kalkulacja!$G$2=\"x\",INDEX(Kalkulacja!$Y$1:$Y$416,Q187),\"\"),\"\")","v":""},{"$f":"IFERROR(IF(Kalkulacja!$D$2=\"x\",IF(INDEX(Kalkulacja!J:J,Q187)=\"od\",\"od\",\"\"),\"\"),\"\")","v":""},{"$f":"IFERROR(IF(AND(Kalkulacja!$D$2=\"x\",$J$115>0),(IF(INDEX(Kalkulacja!D:D,Q187)=\"x\",\"Nie-Elementor\",\"\")),\"\"),\"\")","v":""},{"$f":"IFERROR(INDEX('Podświetlanie modułów'!H:H,MATCH(G187,'Podświetlanie modułów'!F:F,0)),0)","v":0},{"$f":"IF(AO187*1>0,\"x\",IF(INDEX(Kalkulacja!A:A,Q187)=\"x\",\"x\",0))","v":"x"},"TRUE",{"$f":"MATCH(G187,Kalkulacja!$I$1:$I$416,0)","v":105},null,null,0,null,0,null,null,null,null,"Box Facebooka na stronie",null,null,null,null,{"$f":"IFERROR(INDEX(Kalkulacja!V:V,Q187),0)","v":0},0,null,null,null,{"$f":"IFERROR(IF($J$115>0,INDEX(Kalkulacja!D:D,Q188),\"\"),\"\")","v":""},null,null,null,false]
[null,null,null,{"$f":"IFERROR(IF(N188>0,\"SUGEROWANE\",IF((INDEX(Kalkulacja!B:B,MATCH(G188,Kalkulacja!I:I,0)))=\"x\",\"USŁUGA\",\"\")),\"\")","v":""},"i",null,{"$f":"Kalkulacja!I106","v":"Box Facebooka przyklejony do przeglądarki"},null,null,0,{"$f":"IFERROR(IF(Kalkulacja!$G$2=\"x\",INDEX(Kalkulacja!$Y$1:$Y$416,Q188),\"\"),\"\")","v":""},{"$f":"IFERROR(IF(Kalkulacja!$D$2=\"x\",IF(INDEX(Kalkulacja!J:J,Q188)=\"od\",\"od\",\"\"),\"\"),\"\")","v":""},{"$f":"IFERROR(IF(AND(Kalkulacja!$D$2=\"x\",$J$115>0),(IF(INDEX(Kalkulacja!D:D,Q188)=\"x\",\"Nie-Elementor\",\"\")),\"\"),\"\")","v":""},{"$f":"IFERROR(INDEX('Podświetlanie modułów'!H:H,MATCH(G188,'Podświetlanie modułów'!F:F,0)),0)","v":0},{"$f":"IF(AO188*1>0,\"x\",IF(INDEX(Kalkulacja!A:A,Q188)=\"x\",\"x\",0))","v":"x"},"TRUE",{"$f":"MATCH(G188,Kalkulacja!$I$1:$I$416,0)","v":106},null,null,0,null,0,null,null,null,null,"Box Facebooka przyklejony do przeglądarki",null,null,null,null,{"$f":"IFERROR(INDEX(Kalkulacja!V:V,Q188),0)","v":0},0,null,null,null,{"$f":"IFERROR(IF($J$115>0,INDEX(Kalkulacja!D:D,Q189),\"\"),\"\")","v":""},null,null,null,false]
[null,null,null,{"$f":"IFERROR(IF(N189>0,\"SUGEROWANE\",IF((INDEX(Kalkulacja!B:B,MATCH(G189,Kalkulacja!I:I,0)))=\"x\",\"USŁUGA\",\"\")),\"\")","v":""},"i",null,{"$f":"Kalkulacja!I107","v":"Linki do Twoich social media"},null,null,1,{"$f":"IFERROR(IF(Kalkulacja!$G$2=\"x\",INDEX(Kalkulacja!$Y$1:$Y$416,Q189),\"\"),\"\")","v":""},{"$f":"IFERROR(IF(Kalkulacja!$D$2=\"x\",IF(INDEX(Kalkulacja!J:J,Q189)=\"od\",\"od\",\"\"),\"\"),\"\")","v":""},{"$f":"IFERROR(IF(AND(Kalkulacja!$D$2=\"x\",$J$115>0),(IF(INDEX(Kalkulacja!D:D,Q189)=\"x\",\"Nie-Elementor\",\"\")),\"\"),\"\")","v":""},{"$f":"IFERROR(INDEX('Podświetlanie modułów'!H:H,MATCH(G189,'Podświetlanie modułów'!F:F,0)),0)","v":0},{"$f":"IF(AO189*1>0,\"x\",IF(INDEX(Kalkulacja!A:A,Q189)=\"x\",\"x\",0))","v":"x"},"TRUE",{"$f":"MATCH(G189,Kalkulacja!$I$1:$I$416,0)","v":107},null,null,0,null,0,null,null,null,null,"Linki do Twoich social media",null,null,null,null,{"$f":"IFERROR(INDEX(Kalkulacja!V:V,Q189),0)","v":"x"},0,null,null,null,{"$f":"IFERROR(IF($J$115>0,INDEX(Kalkulacja!D:D,Q190),\"\"),\"\")","v":""},null,null,null,true]
[null,null,null,{"$f":"IFERROR(IF(N190>0,\"SUGEROWANE\",IF((INDEX(Kalkulacja!B:B,MATCH(G190,Kalkulacja!I:I,0)))=\"x\",\"USŁUGA\",\"\")),\"\")","v":""},"i",null,{"$f":"Kalkulacja!I108","v":"Przyciski: Lubię to Udostępnij Tweetnij"},null,null,0,{"$f":"IFERROR(IF(Kalkulacja!$G$2=\"x\",INDEX(Kalkulacja!$Y$1:$Y$416,Q190),\"\"),\"\")","v":""},{"$f":"IFERROR(IF(Kalkulacja!$D$2=\"x\",IF(INDEX(Kalkulacja!J:J,Q190)=\"od\",\"od\",\"\"),\"\"),\"\")","v":""},{"$f":"IFERROR(IF(AND(Kalkulacja!$D$2=\"x\",$J$115>0),(IF(INDEX(Kalkulacja!D:D,Q190)=\"x\",\"Nie-Elementor\",\"\")),\"\"),\"\")","v":""},{"$f":"IFERROR(INDEX('Podświetlanie modułów'!H:H,MATCH(G190,'Podświetlanie modułów'!F:F,0)),0)","v":0},{"$f":"IF(AO190*1>0,\"x\",IF(INDEX(Kalkulacja!A:A,Q190)=\"x\",\"x\",0))","v":"x"},"TRUE",{"$f":"MATCH(G190,Kalkulacja!$I$1:$I$416,0)","v":108},null,null,0,null,0,null,null,null,null,{"$f":"G190","v":"Przyciski: Lubię to Udostępnij Tweetnij"},null,null,null,null,{"$f":"IFERROR(INDEX(Kalkulacja!V:V,Q190),0)","v":0},0,null,null,null,{"$f":"IFERROR(IF($J$115>0,INDEX(Kalkulacja!D:D,Q191),\"\"),\"\")","v":""},null,null,null,false]
[null,null,null,{"$f":"IFERROR(IF(N191>0,\"SUGEROWANE\",IF((INDEX(Kalkulacja!B:B,MATCH(G191,Kalkulacja!I:I,0)))=\"x\",\"USŁUGA\",\"\")),\"\")","v":""},"i",null,{"$f":"Kalkulacja!I109","v":"Newsletter (integracja formularza)"},null,null,0,{"$f":"IFERROR(IF(Kalkulacja!$G$2=\"x\",INDEX(Kalkulacja!$Y$1:$Y$416,Q191),\"\"),\"\")","v":""},{"$f":"IFERROR(IF(Kalkulacja!$D$2=\"x\",IF(INDEX(Kalkulacja!J:J,Q191)=\"od\",\"od\",\"\"),\"\"),\"\")","v":""},{"$f":"IFERROR(IF(AND(Kalkulacja!$D$2=\"x\",$J$115>0),(IF(INDEX(Kalkulacja!D:D,Q191)=\"x\",\"Nie-Elementor\",\"\")),\"\"),\"\")","v":""},{"$f":"IFERROR(INDEX('Podświetlanie modułów'!H:H,MATCH(G191,'Podświetlanie modułów'!F:F,0)),0)","v":0},{"$f":"IF(AO191*1>0,\"x\",IF(INDEX(Kalkulacja!A:A,Q191)=\"x\",\"x\",0))","v":"x"},"TRUE",{"$f":"MATCH(G191,Kalkulacja!$I$1:$I$416,0)","v":109},null,null,0,null,0,null,null,null,null,"Newsletter (integracja formularza)",null,null,null,null,{"$f":"IFERROR(INDEX(Kalkulacja!V:V,Q191),0)","v":0},0,null,null,null,{"$f":"IFERROR(IF($J$115>0,INDEX(Kalkulacja!D:D,Q192),\"\"),\"\")","v":""},null,null,null,false]
[null,null,null,{"$f":"IFERROR(IF(N192>0,\"SUGEROWANE\",IF((INDEX(Kalkulacja!B:B,MATCH(G192,Kalkulacja!I:I,0)))=\"x\",\"USŁUGA\",\"\")),\"\")","v":""},"i",null,{"$f":"Kalkulacja!I110","v":"PopUp (promocja lub informacja)"},null,null,0,{"$f":"IFERROR(IF(Kalkulacja!$G$2=\"x\",INDEX(Kalkulacja!$Y$1:$Y$416,Q192),\"\"),\"\")","v":""},{"$f":"IFERROR(IF(Kalkulacja!$D$2=\"x\",IF(INDEX(Kalkulacja!J:J,Q192)=\"od\",\"od\",\"\"),\"\"),\"\")","v":""},{"$f":"IFERROR(IF(AND(Kalkulacja!$D$2=\"x\",$J$115>0),(IF(INDEX(Kalkulacja!D:D,Q192)=\"x\",\"Nie-Elementor\",\"\")),\"\"),\"\")","v":""},{"$f":"IFERROR(INDEX('Podświetlanie modułów'!H:H,MATCH(G192,'Podświetlanie modułów'!F:F,0)),0)","v":0},{"$f":"IF(AO192*1>0,\"x\",IF(INDEX(Kalkulacja!A:A,Q192)=\"x\",\"x\",0))","v":"x"},"TRUE",{"$f":"MATCH(G192,Kalkulacja!$I$1:$I$416,0)","v":110},null,null,0,null,0,null,null,null,null,"PopUp (promocja lub informacja)",null,null,null,null,{"$f":"IFERROR(INDEX(Kalkulacja!V:V,Q192),0)","v":0},0,null,null,null,{"$f":"IFERROR(IF($J$115>0,INDEX(Kalkulacja!D:D,Q193),\"\"),\"\")","v":""},null,null,null,false]
[null,null,null,{"$f":"IFERROR(IF(N193>0,\"SUGEROWANE\",IF((INDEX(Kalkulacja!B:B,MATCH(G193,Kalkulacja!I:I,0)))=\"x\",\"USŁUGA\",\"\")),\"\")","v":""},"i",null,{"$f":"Kalkulacja!I111","v":"PopUp (newsletter)"},null,null,0,{"$f":"IFERROR(IF(Kalkulacja!$G$2=\"x\",INDEX(Kalkulacja!$Y$1:$Y$416,Q193),\"\"),\"\")","v":""},{"$f":"IFERROR(IF(Kalkulacja!$D$2=\"x\",IF(INDEX(Kalkulacja!J:J,Q193)=\"od\",\"od\",\"\"),\"\"),\"\")","v":""},{"$f":"IFERROR(IF(AND(Kalkulacja!$D$2=\"x\",$J$115>0),(IF(INDEX(Kalkulacja!D:D,Q193)=\"x\",\"Nie-Elementor\",\"\")),\"\"),\"\")","v":""},{"$f":"IFERROR(INDEX('Podświetlanie modułów'!H:H,MATCH(G193,'Podświetlanie modułów'!F:F,0)),0)","v":0},{"$f":"IF(AO193*1>0,\"x\",IF(INDEX(Kalkulacja!A:A,Q193)=\"x\",\"x\",0))","v":"x"},"TRUE",{"$f":"MATCH(G193,Kalkulacja!$I$1:$I$416,0)","v":111},null,null,0,null,0,null,null,null,null,"PopUp (newsletter)",null,null,null,null,{"$f":"IFERROR(INDEX(Kalkulacja!V:V,Q193),0)","v":0},0,null,null,null,{"$f":"IFERROR(IF($J$115>0,INDEX(Kalkulacja!D:D,Q194),\"\"),\"\")","v":""},null,null,null,false]
[null,null,null,{"$f":"IFERROR(IF(N194>0,\"SUGEROWANE\",IF((INDEX(Kalkulacja!B:B,MATCH(G194,Kalkulacja!I:I,0)))=\"x\",\"USŁUGA\",\"\")),\"\")","v":"USŁUGA"},"i",null,{"$f":"Kalkulacja!I112","v":"Utworzenie kolejny - popup (grafika + treść)"},null,null,0,{"$f":"IFERROR(IF(Kalkulacja!$G$2=\"x\",INDEX(Kalkulacja!$Y$1:$Y$416,Q194),\"\"),\"\")","v":""},{"$f":"IFERROR(IF(Kalkulacja!$D$2=\"x\",IF(INDEX(Kalkulacja!J:J,Q194)=\"od\",\"od\",\"\"),\"\"),\"\")","v":""},{"$f":"IFERROR(IF(AND(Kalkulacja!$D$2=\"x\",$J$115>0),(IF(INDEX(Kalkulacja!D:D,Q194)=\"x\",\"Nie-Elementor\",\"\")),\"\"),\"\")","v":""},{"$f":"IFERROR(INDEX('Podświetlanie modułów'!H:H,MATCH(G194,'Podświetlanie modułów'!F:F,0)),0)","v":0},{"$f":"IF(AO194*1>0,\"x\",IF(INDEX(Kalkulacja!A:A,Q194)=\"x\",\"x\",0))","v":0},"FALSE",{"$f":"MATCH(G194,Kalkulacja!$I$1:$I$416,0)","v":112},null,null,0,null,0,null,null,null,null,"Utworzenie kolejny - popup (grafika + treść)",null,null,null,null,{"$f":"IFERROR(INDEX(Kalkulacja!V:V,Q194),0)","v":0},0,null,null,null,{"$f":"IFERROR(IF($J$115>0,INDEX(Kalkulacja!D:D,Q195),\"\"),\"\")","v":""},null,null,null,false]
[null,null,null,{"$f":"IFERROR(IF(N195>0,\"SUGEROWANE\",IF((INDEX(Kalkulacja!B:B,MATCH(G195,Kalkulacja!I:I,0)))=\"x\",\"USŁUGA\",\"\")),\"\")","v":""},"i",null,{"$f":"Kalkulacja!I113","v":"Dodatkowy moduł 12"},null,null,0,{"$f":"IFERROR(IF(Kalkulacja!$G$2=\"x\",INDEX(Kalkulacja!$Y$1:$Y$416,Q195),\"\"),\"\")","v":""},{"$f":"IFERROR(IF(Kalkulacja!$D$2=\"x\",IF(INDEX(Kalkulacja!J:J,Q195)=\"od\",\"od\",\"\"),\"\"),\"\")","v":""},{"$f":"IFERROR(IF(AND(Kalkulacja!$D$2=\"x\",$J$115>0),(IF(INDEX(Kalkulacja!D:D,Q195)=\"x\",\"Nie-Elementor\",\"\")),\"\"),\"\")","v":""},{"$f":"IFERROR(INDEX('Podświetlanie modułów'!H:H,MATCH(G195,'Podświetlanie modułów'!F:F,0)),0)","v":0},{"$f":"IF(AO195*1>0,\"x\",IF(INDEX(Kalkulacja!A:A,Q195)=\"x\",\"x\",0))","v":0},"FALSE",{"$f":"MATCH(G195,Kalkulacja!$I$1:$I$416,0)","v":113},null,null,0,null,0,null,null,null,null,"Dodatkowy moduł 12",null,null,null,null,{"$f":"IFERROR(INDEX(Kalkulacja!V:V,Q195),0)","v":0},0,null,null,null,{"$f":"IFERROR(IF($J$115>0,INDEX(Kalkulacja!D:D,Q196),\"\"),\"\")","v":""},null,null,null,false]
[null,null,null,{"$f":"IFERROR(IF(N196>0,\"SUGEROWANE\",IF((INDEX(Kalkulacja!B:B,MATCH(G196,Kalkulacja!I:I,0)))=\"x\",\"USŁUGA\",\"\")),\"\")","v":""},"i",null,{"$f":"Kalkulacja!I114","v":"Dodatkowy moduł 13"},null,null,0,{"$f":"IFERROR(IF(Kalkulacja!$G$2=\"x\",INDEX(Kalkulacja!$Y$1:$Y$416,Q196),\"\"),\"\")","v":""},{"$f":"IFERROR(IF(Kalkulacja!$D$2=\"x\",IF(INDEX(Kalkulacja!J:J,Q196)=\"od\",\"od\",\"\"),\"\"),\"\")","v":""},{"$f":"IFERROR(IF(AND(Kalkulacja!$D$2=\"x\",$J$115>0),(IF(INDEX(Kalkulacja!D:D,Q196)=\"x\",\"Nie-Elementor\",\"\")),\"\"),\"\")","v":""},{"$f":"IFERROR(INDEX('Podświetlanie modułów'!H:H,MATCH(G196,'Podświetlanie modułów'!F:F,0)),0)","v":0},{"$f":"IF(AO196*1>0,\"x\",IF(INDEX(Kalkulacja!A:A,Q196)=\"x\",\"x\",0))","v":0},"FALSE",{"$f":"MATCH(G196,Kalkulacja!$I$1:$I$416,0)","v":114},null,null,0,null,0,null,null,null,null,"Dodatkowy moduł 13",null,null,null,null,{"$f":"IFERROR(INDEX(Kalkulacja!V:V,Q196),0)","v":0},0,null,null,null,{"$f":"IFERROR(IF($J$115>0,INDEX(Kalkulacja!D:D,Q197),\"\"),\"\")","v":""},null,null,null,false]
[null,null,null,{"$f":"IFERROR(IF(N197>0,\"SUGEROWANE\",IF((INDEX(Kalkulacja!B:B,MATCH(G197,Kalkulacja!I:I,0)))=\"x\",\"USŁUGA\",\"\")),\"\")","v":""},"i",null,{"$f":"Kalkulacja!I115","v":"Dodatkowy moduł 14"},null,null,0,{"$f":"IFERROR(IF(Kalkulacja!$G$2=\"x\",INDEX(Kalkulacja!$Y$1:$Y$416,Q197),\"\"),\"\")","v":""},{"$f":"IFERROR(IF(Kalkulacja!$D$2=\"x\",IF(INDEX(Kalkulacja!J:J,Q197)=\"od\",\"od\",\"\"),\"\"),\"\")","v":""},{"$f":"IFERROR(IF(AND(Kalkulacja!$D$2=\"x\",$J$115>0),(IF(INDEX(Kalkulacja!D:D,Q197)=\"x\",\"Nie-Elementor\",\"\")),\"\"),\"\")","v":""},{"$f":"IFERROR(INDEX('Podświetlanie modułów'!H:H,MATCH(G197,'Podświetlanie modułów'!F:F,0)),0)","v":0},{"$f":"IF(AO197*1>0,\"x\",IF(INDEX(Kalkulacja!A:A,Q197)=\"x\",\"x\",0))","v":0},"FALSE",{"$f":"MATCH(G197,Kalkulacja!$I$1:$I$416,0)","v":115},null,null,0,null,0,null,null,null,null,"Dodatkowy moduł 14",null,null,null,null,{"$f":"IFERROR(INDEX(Kalkulacja!V:V,Q197),0)","v":0},0,null,null,null,{"$f":"IFERROR(IF($J$115>0,INDEX(Kalkulacja!D:D,Q198),\"\"),\"\")","v":""},null,null,null,{"$f":"S197","v":0}]
[null,null,null,{"$f":"IFERROR(IF(N198>0,\"SUGEROWANE\",IF((INDEX(Kalkulacja!B:B,MATCH(G198,Kalkulacja!I:I,0)))=\"x\",\"USŁUGA\",\"\")),\"\")","v":""},{"$f":"Kalkulacja!I116","v":"Optymalizacja pod Google"},null,null,null,null,null,null,{"$f":"IFERROR(IF(Kalkulacja!$D$2=\"x\",IF(INDEX(Kalkulacja!J:J,Q198)=\"od\",\"od\",\"\"),\"\"),\"\")","v":""},{"$f":"IFERROR(IF(AND(Kalkulacja!$D$2=\"x\",$J$115>0),(IF(INDEX(Kalkulacja!D:D,Q198)=\"x\",\"Nie-Elementor\",\"\")),\"\"),\"\")","v":""},{"$f":"IFERROR(INDEX('Podświetlanie modułów'!H:H,MATCH(G198,'Podświetlanie modułów'!F:F,0)),0)","v":0},{"$f":"IF(COUNTIF(O199:O214,\"x\")>0,\"x\",0)","v":"x"},"TRUE",{"$f":"MATCH(E198,Kalkulacja!$I$1:$I$416,0)","v":116},null,null,0,null,0,null,null,null,null,0,null,null,null,null,{"$f":"IFERROR(INDEX(Kalkulacja!V:V,Q198),0)","v":0},0,null,null,null,{"$f":"IFERROR(IF($J$115>0,INDEX(Kalkulacja!D:D,Q199),\"\"),\"\")","v":""}]
[null,null,null,{"$f":"IFERROR(IF(N199>0,\"SUGEROWANE\",IF((INDEX(Kalkulacja!B:B,MATCH(G199,Kalkulacja!I:I,0)))=\"x\",\"USŁUGA\",\"\")),\"\")","v":""},"i",null,{"$f":"Kalkulacja!I117","v":"SEO ustawienia (Yoast SEO)"},null,null,{"$f":"AO199*1","v":1},{"$f":"IFERROR(IF(Kalkulacja!$G$2=\"x\",INDEX(Kalkulacja!$Y$1:$Y$416,Q199),\"\"),\"\")","v":""},{"$f":"IFERROR(IF(Kalkulacja!$D$2=\"x\",IF(INDEX(Kalkulacja!J:J,Q199)=\"od\",\"od\",\"\"),\"\"),\"\")","v":""},{"$f":"IFERROR(IF(AND(Kalkulacja!$D$2=\"x\",$J$115>0),(IF(INDEX(Kalkulacja!D:D,Q199)=\"x\",\"Nie-Elementor\",\"\")),\"\"),\"\")","v":""},{"$f":"IFERROR(INDEX('Podświetlanie modułów'!H:H,MATCH(G199,'Podświetlanie modułów'!F:F,0)),0)","v":0},{"$f":"IF(AO199*1>0,\"x\",IF(INDEX(Kalkulacja!A:A,Q199)=\"x\",\"x\",0))","v":"x"},"TRUE",{"$f":"MATCH(G199,Kalkulacja!$I$1:$I$416,0)","v":117},null,null,0,null,0,null,null,null,null,"SEO ustawienia (Yoast SEO)",null,null,null,null,{"$f":"IFERROR(INDEX(Kalkulacja!V:V,Q199),0)","v":"x"},0,null,null,null,{"$f":"IFERROR(IF($J$115>0,INDEX(Kalkulacja!D:D,Q200),\"\"),\"\")","v":""},null,null,null,true]
[null,null,null,{"$f":"IFERROR(IF(N200>0,\"SUGEROWANE\",IF((INDEX(Kalkulacja!B:B,MATCH(G200,Kalkulacja!I:I,0)))=\"x\",\"USŁUGA\",\"\")),\"\")","v":"USŁUGA"},"i",null,{"$f":"Kalkulacja!I118","v":"Optymalizacja SEO - Tylko Strona główna "},null,null,1,{"$f":"IFERROR(IF(Kalkulacja!$G$2=\"x\",INDEX(Kalkulacja!$Y$1:$Y$416,Q200),\"\"),\"\")","v":""},{"$f":"IFERROR(IF(Kalkulacja!$D$2=\"x\",IF(INDEX(Kalkulacja!J:J,Q200)=\"od\",\"od\",\"\"),\"\"),\"\")","v":""},{"$f":"IFERROR(IF(AND(Kalkulacja!$D$2=\"x\",$J$115>0),(IF(INDEX(Kalkulacja!D:D,Q200)=\"x\",\"Nie-Elementor\",\"\")),\"\"),\"\")","v":""},{"$f":"IFERROR(INDEX('Podświetlanie modułów'!H:H,MATCH(G200,'Podświetlanie modułów'!F:F,0)),0)","v":0},{"$f":"IF(AO200*1>0,\"x\",IF(INDEX(Kalkulacja!A:A,Q200)=\"x\",\"x\",0))","v":"x"},"TRUE",{"$f":"MATCH(G200,Kalkulacja!$I$1:$I$416,0)","v":118},null,null,0,null,0,null,null,null,null,"Optymalizacja SEO - Tylko Strona główna ",null,null,null,null,{"$f":"IFERROR(INDEX(Kalkulacja!V:V,Q200),0)","v":"x"},0,null,null,null,{"$f":"IFERROR(IF($J$115>0,INDEX(Kalkulacja!D:D,Q201),\"\"),\"\")","v":""},null,null,null,true]
[null,null,null,{"$f":"IFERROR(IF(N201>0,\"SUGEROWANE\",IF((INDEX(Kalkulacja!B:B,MATCH(G201,Kalkulacja!I:I,0)))=\"x\",\"USŁUGA\",\"\")),\"\")","v":"USŁUGA"},"i",null,{"$f":"Kalkulacja!I119","v":"Optymalizacja SEO - Meta dane + H1 (1 strona)"},null,null,0,{"$f":"IFERROR(IF(Kalkulacja!$G$2=\"x\",INDEX(Kalkulacja!$Y$1:$Y$416,Q201),\"\"),\"\")","v":""},{"$f":"IFERROR(IF(Kalkulacja!$D$2=\"x\",IF(INDEX(Kalkulacja!J:J,Q201)=\"od\",\"od\",\"\"),\"\"),\"\")","v":""},{"$f":"IFERROR(IF(AND(Kalkulacja!$D$2=\"x\",$J$115>0),(IF(INDEX(Kalkulacja!D:D,Q201)=\"x\",\"Nie-Elementor\",\"\")),\"\"),\"\")","v":""},{"$f":"IFERROR(INDEX('Podświetlanie modułów'!H:H,MATCH(G201,'Podświetlanie modułów'!F:F,0)),0)","v":0},{"$f":"IF(AO201*1>0,\"x\",IF(INDEX(Kalkulacja!A:A,Q201)=\"x\",\"x\",0))","v":"x"},"TRUE",{"$f":"MATCH(G201,Kalkulacja!$I$1:$I$416,0)","v":119},null,null,0,null,0,null,null,null,null,"Optymalizacja SEO - Meta dane + H1 (1 strona)",null,null,null,null,{"$f":"IFERROR(INDEX(Kalkulacja!V:V,Q201),0)","v":0},0,null,null,null,{"$f":"IFERROR(IF($J$115>0,INDEX(Kalkulacja!D:D,Q202),\"\"),\"\")","v":""},null,null,null,false]
[null,null,null,{"$f":"IFERROR(IF(N202>0,\"SUGEROWANE\",IF((INDEX(Kalkulacja!B:B,MATCH(G202,Kalkulacja!I:I,0)))=\"x\",\"USŁUGA\",\"\")),\"\")","v":"USŁUGA"},"i",null,{"$f":"Kalkulacja!I120","v":"Optymalizacja SEO - Kompleksowa (1 strona)"},null,null,0,{"$f":"IFERROR(IF(Kalkulacja!$G$2=\"x\",INDEX(Kalkulacja!$Y$1:$Y$416,Q202),\"\"),\"\")","v":""},{"$f":"IFERROR(IF(Kalkulacja!$D$2=\"x\",IF(INDEX(Kalkulacja!J:J,Q202)=\"od\",\"od\",\"\"),\"\"),\"\")","v":""},{"$f":"IFERROR(IF(AND(Kalkulacja!$D$2=\"x\",$J$115>0),(IF(INDEX(Kalkulacja!D:D,Q202)=\"x\",\"Nie-Elementor\",\"\")),\"\"),\"\")","v":""},{"$f":"IFERROR(INDEX('Podświetlanie modułów'!H:H,MATCH(G202,'Podświetlanie modułów'!F:F,0)),0)","v":0},{"$f":"IF(AO202*1>0,\"x\",IF(INDEX(Kalkulacja!A:A,Q202)=\"x\",\"x\",0))","v":"x"},"TRUE",{"$f":"MATCH(G202,Kalkulacja!$I$1:$I$416,0)","v":120},null,null,0,null,0,null,null,null,null,"Optymalizacja SEO - Kompleksowa (1 strona)",null,null,null,null,{"$f":"IFERROR(INDEX(Kalkulacja!V:V,Q202),0)","v":0},0,null,null,null,{"$f":"IFERROR(IF($J$115>0,INDEX(Kalkulacja!D:D,Q203),\"\"),\"\")","v":""},null,null,null,false]
[null,null,null,{"$f":"IFERROR(IF(N203>0,\"SUGEROWANE\",IF((INDEX(Kalkulacja!B:B,MATCH(G203,Kalkulacja!I:I,0)))=\"x\",\"USŁUGA\",\"\")),\"\")","v":""},"i",null,{"$f":"Kalkulacja!I121","v":"Przekierowania"},null,null,0,{"$f":"IFERROR(IF(Kalkulacja!$G$2=\"x\",INDEX(Kalkulacja!$Y$1:$Y$416,Q203),\"\"),\"\")","v":""},{"$f":"IFERROR(IF(Kalkulacja!$D$2=\"x\",IF(INDEX(Kalkulacja!J:J,Q203)=\"od\",\"od\",\"\"),\"\"),\"\")","v":""},{"$f":"IFERROR(IF(AND(Kalkulacja!$D$2=\"x\",$J$115>0),(IF(INDEX(Kalkulacja!D:D,Q203)=\"x\",\"Nie-Elementor\",\"\")),\"\"),\"\")","v":""},{"$f":"IFERROR(INDEX('Podświetlanie modułów'!H:H,MATCH(G203,'Podświetlanie modułów'!F:F,0)),0)","v":0},{"$f":"IF(AO203*1>0,\"x\",IF(INDEX(Kalkulacja!A:A,Q203)=\"x\",\"x\",0))","v":0},"FALSE",{"$f":"MATCH(G203,Kalkulacja!$I$1:$I$416,0)","v":121},null,null,0,null,0,null,null,null,null,"Przekierowania",null,null,null,null,{"$f":"IFERROR(INDEX(Kalkulacja!V:V,Q203),0)","v":0},0,null,null,null,{"$f":"IFERROR(IF($J$115>0,INDEX(Kalkulacja!D:D,Q204),\"\"),\"\")","v":""},null,null,null,false]
[null,null,null,{"$f":"IFERROR(IF(N204>0,\"SUGEROWANE\",IF((INDEX(Kalkulacja!B:B,MATCH(G204,Kalkulacja!I:I,0)))=\"x\",\"USŁUGA\",\"\")),\"\")","v":"USŁUGA"},"i",null,{"$f":"Kalkulacja!I122","v":"Konfiguracja przekierowania (1 szt)"},null,null,0,{"$f":"IFERROR(IF(Kalkulacja!$G$2=\"x\",INDEX(Kalkulacja!$Y$1:$Y$416,Q204),\"\"),\"\")","v":""},{"$f":"IFERROR(IF(Kalkulacja!$D$2=\"x\",IF(INDEX(Kalkulacja!J:J,Q204)=\"od\",\"od\",\"\"),\"\"),\"\")","v":""},{"$f":"IFERROR(IF(AND(Kalkulacja!$D$2=\"x\",$J$115>0),(IF(INDEX(Kalkulacja!D:D,Q204)=\"x\",\"Nie-Elementor\",\"\")),\"\"),\"\")","v":""},{"$f":"IFERROR(INDEX('Podświetlanie modułów'!H:H,MATCH(G204,'Podświetlanie modułów'!F:F,0)),0)","v":0},{"$f":"IF(AO204*1>0,\"x\",IF(INDEX(Kalkulacja!A:A,Q204)=\"x\",\"x\",0))","v":0},"FALSE",{"$f":"MATCH(G204,Kalkulacja!$I$1:$I$416,0)","v":122},null,null,0,null,0,null,null,null,null,"Konfiguracja przekierowania (1 szt)",null,null,null,null,{"$f":"IFERROR(INDEX(Kalkulacja!V:V,Q204),0)","v":0},0,null,null,null,{"$f":"IFERROR(IF($J$115>0,INDEX(Kalkulacja!D:D,Q205),\"\"),\"\")","v":""},null,null,null,false]
[null,null,null,{"$f":"IFERROR(IF(N205>0,\"SUGEROWANE\",IF((INDEX(Kalkulacja!B:B,MATCH(G205,Kalkulacja!I:I,0)))=\"x\",\"USŁUGA\",\"\")),\"\")","v":"USŁUGA"},"i",null,{"$f":"Kalkulacja!I123","v":"Konfiguracja Certyfikat SSL na hostingu serwerkreacja"},null,null,0,{"$f":"IFERROR(IF(Kalkulacja!$G$2=\"x\",INDEX(Kalkulacja!$Y$1:$Y$416,Q205),\"\"),\"\")","v":""},{"$f":"IFERROR(IF(Kalkulacja!$D$2=\"x\",IF(INDEX(Kalkulacja!J:J,Q205)=\"od\",\"od\",\"\"),\"\"),\"\")","v":""},{"$f":"IFERROR(IF(AND(Kalkulacja!$D$2=\"x\",$J$115>0),(IF(INDEX(Kalkulacja!D:D,Q205)=\"x\",\"Nie-Elementor\",\"\")),\"\"),\"\")","v":""},{"$f":"IFERROR(INDEX('Podświetlanie modułów'!H:H,MATCH(G205,'Podświetlanie modułów'!F:F,0)),0)","v":0},{"$f":"IF(AO205*1>0,\"x\",IF(INDEX(Kalkulacja!A:A,Q205)=\"x\",\"x\",0))","v":0},"FALSE",{"$f":"MATCH(G205,Kalkulacja!$I$1:$I$416,0)","v":123},null,null,0,null,0,null,null,null,null,"Konfiguracja Certyfikat SSL na hostingu serwerkreacja",null,null,null,null,{"$f":"IFERROR(INDEX(Kalkulacja!V:V,Q205),0)","v":"x"},0,null,null,null,{"$f":"IFERROR(IF($J$115>0,INDEX(Kalkulacja!D:D,Q206),\"\"),\"\")","v":""},null,null,null,false]
[null,null,null,{"$f":"IFERROR(IF(N206>0,\"SUGEROWANE\",IF((INDEX(Kalkulacja!B:B,MATCH(G206,Kalkulacja!I:I,0)))=\"x\",\"USŁUGA\",\"\")),\"\")","v":"USŁUGA"},"i",null,{"$f":"Kalkulacja!I124","v":"Konfiguracja Certyfikat SSL na hostingu zewnętrznym"},null,null,0,{"$f":"IFERROR(IF(Kalkulacja!$G$2=\"x\",INDEX(Kalkulacja!$Y$1:$Y$416,Q206),\"\"),\"\")","v":""},{"$f":"IFERROR(IF(Kalkulacja!$D$2=\"x\",IF(INDEX(Kalkulacja!J:J,Q206)=\"od\",\"od\",\"\"),\"\"),\"\")","v":""},{"$f":"IFERROR(IF(AND(Kalkulacja!$D$2=\"x\",$J$115>0),(IF(INDEX(Kalkulacja!D:D,Q206)=\"x\",\"Nie-Elementor\",\"\")),\"\"),\"\")","v":""},{"$f":"IFERROR(INDEX('Podświetlanie modułów'!H:H,MATCH(G206,'Podświetlanie modułów'!F:F,0)),0)","v":0},{"$f":"IF(AO206*1>0,\"x\",IF(INDEX(Kalkulacja!A:A,Q206)=\"x\",\"x\",0))","v":0},"FALSE",{"$f":"MATCH(G206,Kalkulacja!$I$1:$I$416,0)","v":124},null,null,0,null,0,null,null,null,null,"Konfiguracja Certyfikat SSL na hostingu zewnętrznym",null,null,null,null,{"$f":"IFERROR(INDEX(Kalkulacja!V:V,Q206),0)","v":0},0,null,null,null,{"$f":"IFERROR(IF($J$115>0,INDEX(Kalkulacja!D:D,Q207),\"\"),\"\")","v":""},null,null,null,false]
[null,null,null,{"$f":"IFERROR(IF(N207>0,\"SUGEROWANE\",IF((INDEX(Kalkulacja!B:B,MATCH(G207,Kalkulacja!I:I,0)))=\"x\",\"USŁUGA\",\"\")),\"\")","v":"USŁUGA"},"i",null,{"$f":"Kalkulacja!I125","v":"Optymalizacja szybkości"},null,null,0,{"$f":"IFERROR(IF(Kalkulacja!$G$2=\"x\",INDEX(Kalkulacja!$Y$1:$Y$416,Q207),\"\"),\"\")","v":""},{"$f":"IFERROR(IF(Kalkulacja!$D$2=\"x\",IF(INDEX(Kalkulacja!J:J,Q207)=\"od\",\"od\",\"\"),\"\"),\"\")","v":""},{"$f":"IFERROR(IF(AND(Kalkulacja!$D$2=\"x\",$J$115>0),(IF(INDEX(Kalkulacja!D:D,Q207)=\"x\",\"Nie-Elementor\",\"\")),\"\"),\"\")","v":""},{"$f":"IFERROR(INDEX('Podświetlanie modułów'!H:H,MATCH(G207,'Podświetlanie modułów'!F:F,0)),0)","v":0},{"$f":"IF(AO207*1>0,\"x\",IF(INDEX(Kalkulacja!A:A,Q207)=\"x\",\"x\",0))","v":"x"},"TRUE",{"$f":"MATCH(G207,Kalkulacja!$I$1:$I$416,0)","v":125},null,null,0,null,0,null,null,null,null,"Optymalizacja szybkości",null,null,null,null,{"$f":"IFERROR(INDEX(Kalkulacja!V:V,Q207),0)","v":0},0,null,null,null,{"$f":"IFERROR(IF($J$115>0,INDEX(Kalkulacja!D:D,Q208),\"\"),\"\")","v":""},null,null,null,false]
[null,null,null,{"$f":"IFERROR(IF(N208>0,\"SUGEROWANE\",IF((INDEX(Kalkulacja!B:B,MATCH(G208,Kalkulacja!I:I,0)))=\"x\",\"USŁUGA\",\"\")),\"\")","v":""},"i",null,{"$f":"Kalkulacja!I126","v":"Statystyki Google Analytics"},null,null,1,{"$f":"IFERROR(IF(Kalkulacja!$G$2=\"x\",INDEX(Kalkulacja!$Y$1:$Y$416,Q208),\"\"),\"\")","v":""},{"$f":"IFERROR(IF(Kalkulacja!$D$2=\"x\",IF(INDEX(Kalkulacja!J:J,Q208)=\"od\",\"od\",\"\"),\"\"),\"\")","v":""},{"$f":"IFERROR(IF(AND(Kalkulacja!$D$2=\"x\",$J$115>0),(IF(INDEX(Kalkulacja!D:D,Q208)=\"x\",\"Nie-Elementor\",\"\")),\"\"),\"\")","v":""},{"$f":"IFERROR(INDEX('Podświetlanie modułów'!H:H,MATCH(G208,'Podświetlanie modułów'!F:F,0)),0)","v":0},{"$f":"IF(AO208*1>0,\"x\",IF(INDEX(Kalkulacja!A:A,Q208)=\"x\",\"x\",0))","v":"x"},"TRUE",{"$f":"MATCH(G208,Kalkulacja!$I$1:$I$416,0)","v":126},null,null,0,null,0,null,null,null,null,"Statystyki Google Analytics",null,null,null,null,{"$f":"IFERROR(INDEX(Kalkulacja!V:V,Q208),0)","v":"x"},0,null,null,null,{"$f":"IFERROR(IF($J$115>0,INDEX(Kalkulacja!D:D,Q209),\"\"),\"\")","v":""},null,null,null,true]
[null,null,null,{"$f":"IFERROR(IF(N209>0,\"SUGEROWANE\",IF((INDEX(Kalkulacja!B:B,MATCH(G209,Kalkulacja!I:I,0)))=\"x\",\"USŁUGA\",\"\")),\"\")","v":""},"i",null,{"$f":"Kalkulacja!I127","v":"Statystyki Google Analytics - strony zewnętrzne"},null,null,0,{"$f":"IFERROR(IF(Kalkulacja!$G$2=\"x\",INDEX(Kalkulacja!$Y$1:$Y$416,Q209),\"\"),\"\")","v":""},{"$f":"IFERROR(IF(Kalkulacja!$D$2=\"x\",IF(INDEX(Kalkulacja!J:J,Q209)=\"od\",\"od\",\"\"),\"\"),\"\")","v":""},{"$f":"IFERROR(IF(AND(Kalkulacja!$D$2=\"x\",$J$115>0),(IF(INDEX(Kalkulacja!D:D,Q209)=\"x\",\"Nie-Elementor\",\"\")),\"\"),\"\")","v":""},{"$f":"IFERROR(INDEX('Podświetlanie modułów'!H:H,MATCH(G209,'Podświetlanie modułów'!F:F,0)),0)","v":0},{"$f":"IF(AO209*1>0,\"x\",IF(INDEX(Kalkulacja!A:A,Q209)=\"x\",\"x\",0))","v":0},"FALSE",{"$f":"MATCH(G209,Kalkulacja!$I$1:$I$416,0)","v":127},null,null,0,null,0,null,null,null,null,"Statystyki Google Analytics - strony zewnętrzne",null,null,null,null,{"$f":"IFERROR(INDEX(Kalkulacja!V:V,Q209),0)","v":0},0,null,null,null,{"$f":"IFERROR(IF($J$115>0,INDEX(Kalkulacja!D:D,Q210),\"\"),\"\")","v":""},null,null,null,false]
[null,null,null,{"$f":"IFERROR(IF(N210>0,\"SUGEROWANE\",IF((INDEX(Kalkulacja!B:B,MATCH(G210,Kalkulacja!I:I,0)))=\"x\",\"USŁUGA\",\"\")),\"\")","v":""},"i",null,{"$f":"Kalkulacja!I128","v":"Dodatkowy moduł 15"},null,null,0,{"$f":"IFERROR(IF(Kalkulacja!$G$2=\"x\",INDEX(Kalkulacja!$Y$1:$Y$416,Q210),\"\"),\"\")","v":""},{"$f":"IFERROR(IF(Kalkulacja!$D$2=\"x\",IF(INDEX(Kalkulacja!J:J,Q210)=\"od\",\"od\",\"\"),\"\"),\"\")","v":""},{"$f":"IFERROR(IF(AND(Kalkulacja!$D$2=\"x\",$J$115>0),(IF(INDEX(Kalkulacja!D:D,Q210)=\"x\",\"Nie-Elementor\",\"\")),\"\"),\"\")","v":""},{"$f":"IFERROR(INDEX('Podświetlanie modułów'!H:H,MATCH(G210,'Podświetlanie modułów'!F:F,0)),0)","v":0},{"$f":"IF(AO210*1>0,\"x\",IF(INDEX(Kalkulacja!A:A,Q210)=\"x\",\"x\",0))","v":0},"FALSE",{"$f":"MATCH(G210,Kalkulacja!$I$1:$I$416,0)","v":128},null,null,0,null,0,null,null,null,null,"Dodatkowy moduł 15",null,null,null,null,{"$f":"IFERROR(INDEX(Kalkulacja!V:V,Q210),0)","v":0},0,null,null,null,{"$f":"IFERROR(IF($J$115>0,INDEX(Kalkulacja!D:D,Q211),\"\"),\"\")","v":""},null,null,null,{"$f":"S210","v":0}]
[null,null,null,{"$f":"IFERROR(IF(N211>0,\"SUGEROWANE\",IF((INDEX(Kalkulacja!B:B,MATCH(G211,Kalkulacja!I:I,0)))=\"x\",\"USŁUGA\",\"\")),\"\")","v":""},"i",null,{"$f":"Kalkulacja!I129","v":"Dodatkowy moduł 16"},null,null,0,{"$f":"IFERROR(IF(Kalkulacja!$G$2=\"x\",INDEX(Kalkulacja!$Y$1:$Y$416,Q211),\"\"),\"\")","v":""},{"$f":"IFERROR(IF(Kalkulacja!$D$2=\"x\",IF(INDEX(Kalkulacja!J:J,Q211)=\"od\",\"od\",\"\"),\"\"),\"\")","v":""},{"$f":"IFERROR(IF(AND(Kalkulacja!$D$2=\"x\",$J$115>0),(IF(INDEX(Kalkulacja!D:D,Q211)=\"x\",\"Nie-Elementor\",\"\")),\"\"),\"\")","v":""},{"$f":"IFERROR(INDEX('Podświetlanie modułów'!H:H,MATCH(G211,'Podświetlanie modułów'!F:F,0)),0)","v":0},{"$f":"IF(AO211*1>0,\"x\",IF(INDEX(Kalkulacja!A:A,Q211)=\"x\",\"x\",0))","v":0},"FALSE",{"$f":"MATCH(G211,Kalkulacja!$I$1:$I$416,0)","v":129},null,null,0,null,0,null,null,null,null,"Dodatkowy moduł 16",null,null,null,null,{"$f":"IFERROR(INDEX(Kalkulacja!V:V,Q211),0)","v":0},0,null,null,null,{"$f":"IFERROR(IF($J$115>0,INDEX(Kalkulacja!D:D,Q212),\"\"),\"\")","v":""},null,null,null,0]
[null,null,null,{"$f":"IFERROR(IF(N212>0,\"SUGEROWANE\",IF((INDEX(Kalkulacja!B:B,MATCH(G212,Kalkulacja!I:I,0)))=\"x\",\"USŁUGA\",\"\")),\"\")","v":""},"i",null,{"$f":"Kalkulacja!I130","v":"Dodatkowy moduł 17"},null,null,0,{"$f":"IFERROR(IF(Kalkulacja!$G$2=\"x\",INDEX(Kalkulacja!$Y$1:$Y$416,Q212),\"\"),\"\")","v":""},{"$f":"IFERROR(IF(Kalkulacja!$D$2=\"x\",IF(INDEX(Kalkulacja!J:J,Q212)=\"od\",\"od\",\"\"),\"\"),\"\")","v":""},{"$f":"IFERROR(IF(AND(Kalkulacja!$D$2=\"x\",$J$115>0),(IF(INDEX(Kalkulacja!D:D,Q212)=\"x\",\"Nie-Elementor\",\"\")),\"\"),\"\")","v":""},{"$f":"IFERROR(INDEX('Podświetlanie modułów'!H:H,MATCH(G212,'Podświetlanie modułów'!F:F,0)),0)","v":0},{"$f":"IF(AO212*1>0,\"x\",IF(INDEX(Kalkulacja!A:A,Q212)=\"x\",\"x\",0))","v":0},"FALSE",{"$f":"MATCH(G212,Kalkulacja!$I$1:$I$416,0)","v":130},null,null,0,null,0,null,null,null,null,"Dodatkowy moduł 17",null,null,null,null,{"$f":"IFERROR(INDEX(Kalkulacja!V:V,Q212),0)","v":0},0,null,null,null,{"$f":"IFERROR(IF($J$115>0,INDEX(Kalkulacja!D:D,Q213),\"\"),\"\")","v":""},null,null,null,0]
[null,null,null,{"$f":"IFERROR(IF(N213>0,\"SUGEROWANE\",IF((INDEX(Kalkulacja!B:B,MATCH(G213,Kalkulacja!I:I,0)))=\"x\",\"USŁUGA\",\"\")),\"\")","v":""},"i",null,{"$f":"Kalkulacja!I131","v":"Dodatkowy moduł 18"},null,null,0,{"$f":"IFERROR(IF(Kalkulacja!$G$2=\"x\",INDEX(Kalkulacja!$Y$1:$Y$416,Q213),\"\"),\"\")","v":""},{"$f":"IFERROR(IF(Kalkulacja!$D$2=\"x\",IF(INDEX(Kalkulacja!J:J,Q213)=\"od\",\"od\",\"\"),\"\"),\"\")","v":""},{"$f":"IFERROR(IF(AND(Kalkulacja!$D$2=\"x\",$J$115>0),(IF(INDEX(Kalkulacja!D:D,Q213)=\"x\",\"Nie-Elementor\",\"\")),\"\"),\"\")","v":""},{"$f":"IFERROR(INDEX('Podświetlanie modułów'!H:H,MATCH(G213,'Podświetlanie modułów'!F:F,0)),0)","v":0},{"$f":"IF(AO213*1>0,\"x\",IF(INDEX(Kalkulacja!A:A,Q213)=\"x\",\"x\",0))","v":0},"FALSE",{"$f":"MATCH(G213,Kalkulacja!$I$1:$I$416,0)","v":131},null,null,0,null,0,null,null,null,null,"Dodatkowy moduł 18",null,null,null,null,{"$f":"IFERROR(INDEX(Kalkulacja!V:V,Q213),0)","v":0},0,null,null,null,{"$f":"IFERROR(IF($J$115>0,INDEX(Kalkulacja!D:D,Q214),\"\"),\"\")","v":""},null,null,null,0]
[null,null,null,{"$f":"IFERROR(IF(N214>0,\"SUGEROWANE\",IF((INDEX(Kalkulacja!B:B,MATCH(G214,Kalkulacja!I:I,0)))=\"x\",\"USŁUGA\",\"\")),\"\")","v":""},"i",null,{"$f":"Kalkulacja!I132","v":"Dodatkowy moduł 19"},null,null,0,{"$f":"IFERROR(IF(Kalkulacja!$G$2=\"x\",INDEX(Kalkulacja!$Y$1:$Y$416,Q214),\"\"),\"\")","v":""},{"$f":"IFERROR(IF(Kalkulacja!$D$2=\"x\",IF(INDEX(Kalkulacja!J:J,Q214)=\"od\",\"od\",\"\"),\"\"),\"\")","v":""},{"$f":"IFERROR(IF(AND(Kalkulacja!$D$2=\"x\",$J$115>0),(IF(INDEX(Kalkulacja!D:D,Q214)=\"x\",\"Nie-Elementor\",\"\")),\"\"),\"\")","v":""},{"$f":"IFERROR(INDEX('Podświetlanie modułów'!H:H,MATCH(G214,'Podświetlanie modułów'!F:F,0)),0)","v":0},{"$f":"IF(AO214*1>0,\"x\",IF(INDEX(Kalkulacja!A:A,Q214)=\"x\",\"x\",0))","v":0},"FALSE",{"$f":"MATCH(G214,Kalkulacja!$I$1:$I$416,0)","v":132},null,null,{"$f":"U214","v":0},null,{"$f":"AG214","v":0},null,null,null,null,"Dodatkowy moduł 19",null,null,null,null,{"$f":"IFERROR(INDEX(Kalkulacja!V:V,Q214),0)","v":0},0,null,null,null,{"$f":"IFERROR(IF($J$115>0,INDEX(Kalkulacja!D:D,Q215),\"\"),\"\")","v":""},null,null,null,0]
[null,null,null,{"$f":"IFERROR(IF(N215>0,\"SUGEROWANE\",IF((INDEX(Kalkulacja!B:B,MATCH(G215,Kalkulacja!I:I,0)))=\"x\",\"USŁUGA\",\"\")),\"\")","v":""},{"$f":"Kalkulacja!I133","v":"Dodatkowe moduły"},null,null,null,null,null,null,{"$f":"IFERROR(IF(Kalkulacja!$D$2=\"x\",IF(INDEX(Kalkulacja!J:J,Q215)=\"od\",\"od\",\"\"),\"\"),\"\")","v":""},{"$f":"IFERROR(IF(AND(Kalkulacja!$D$2=\"x\",$J$115>0),(IF(INDEX(Kalkulacja!D:D,Q215)=\"x\",\"Nie-Elementor\",\"\")),\"\"),\"\")","v":""},{"$f":"IFERROR(INDEX('Podświetlanie modułów'!H:H,MATCH(G215,'Podświetlanie modułów'!F:F,0)),0)","v":0},{"$f":"IF(COUNTIF(O216:O224,\"x\")>0,\"x\",0)","v":"x"},"TRUE",{"$f":"MATCH(E215,Kalkulacja!$I$1:$I$416,0)","v":133},null,null,0,null,0,null,null,null,null,0,null,null,null,null,{"$f":"IFERROR(INDEX(Kalkulacja!V:V,Q215),0)","v":0},0,null,null,null,{"$f":"IFERROR(IF($J$115>0,INDEX(Kalkulacja!D:D,Q216),\"\"),\"\")","v":""}]
[null,null,null,{"$f":"IFERROR(IF(N216>0,\"SUGEROWANE\",IF((INDEX(Kalkulacja!B:B,MATCH(G216,Kalkulacja!I:I,0)))=\"x\",\"USŁUGA\",\"\")),\"\")","v":""},"i",null,{"$f":"Kalkulacja!I134","v":"Polityka prywatności i Cookies + komunikat - domyślny"},null,null,{"$f":"AO216*1","v":1},{"$f":"IFERROR(IF(Kalkulacja!$G$2=\"x\",INDEX(Kalkulacja!$Y$1:$Y$416,Q216),\"\"),\"\")","v":""},{"$f":"IFERROR(IF(Kalkulacja!$D$2=\"x\",IF(INDEX(Kalkulacja!J:J,Q216)=\"od\",\"od\",\"\"),\"\"),\"\")","v":""},{"$f":"IFERROR(IF(AND(Kalkulacja!$D$2=\"x\",$J$115>0),(IF(INDEX(Kalkulacja!D:D,Q216)=\"x\",\"Nie-Elementor\",\"\")),\"\"),\"\")","v":""},{"$f":"IFERROR(INDEX('Podświetlanie modułów'!H:H,MATCH(G216,'Podświetlanie modułów'!F:F,0)),0)","v":0},{"$f":"IF(AO216*1>0,\"x\",IF(INDEX(Kalkulacja!A:A,Q216)=\"x\",\"x\",0))","v":"x"},"TRUE",{"$f":"MATCH(G216,Kalkulacja!$I$1:$I$416,0)","v":134},null,null,0,null,0,null,null,null,null,"Polityka prywatności i Cookies + komunikat - domyślny",null,null,null,null,{"$f":"IFERROR(INDEX(Kalkulacja!V:V,Q216),0)","v":"x"},0,null,null,null,{"$f":"IFERROR(IF($J$115>0,INDEX(Kalkulacja!D:D,Q217),\"\"),\"\")","v":""},null,null,null,true]
[null,null,null,{"$f":"IFERROR(IF(N217>0,\"SUGEROWANE\",IF((INDEX(Kalkulacja!B:B,MATCH(G217,Kalkulacja!I:I,0)))=\"x\",\"USŁUGA\",\"\")),\"\")","v":""},"i",null,{"$f":"Kalkulacja!I135","v":"Polityka prywatności i Cookies + komunikat - personalizowany"},null,null,0,{"$f":"IFERROR(IF(Kalkulacja!$G$2=\"x\",INDEX(Kalkulacja!$Y$1:$Y$416,Q217),\"\"),\"\")","v":""},{"$f":"IFERROR(IF(Kalkulacja!$D$2=\"x\",IF(INDEX(Kalkulacja!J:J,Q217)=\"od\",\"od\",\"\"),\"\"),\"\")","v":""},{"$f":"IFERROR(IF(AND(Kalkulacja!$D$2=\"x\",$J$115>0),(IF(INDEX(Kalkulacja!D:D,Q217)=\"x\",\"Nie-Elementor\",\"\")),\"\"),\"\")","v":""},{"$f":"IFERROR(INDEX('Podświetlanie modułów'!H:H,MATCH(G217,'Podświetlanie modułów'!F:F,0)),0)","v":0},{"$f":"IF(AO217*1>0,\"x\",IF(INDEX(Kalkulacja!A:A,Q217)=\"x\",\"x\",0))","v":0},"FALSE",{"$f":"MATCH(G217,Kalkulacja!$I$1:$I$416,0)","v":135},null,null,0,null,0,null,null,null,null,"Polityka prywatności i Cookies + komunikat - personalizowany",null,null,null,null,{"$f":"IFERROR(INDEX(Kalkulacja!V:V,Q217),0)","v":0},0,null,null,null,{"$f":"IFERROR(IF($J$115>0,INDEX(Kalkulacja!D:D,Q218),\"\"),\"\")","v":""},null,null,null,false]
[null,null,null,{"$f":"IFERROR(IF(N218>0,\"SUGEROWANE\",IF((INDEX(Kalkulacja!B:B,MATCH(G218,Kalkulacja!I:I,0)))=\"x\",\"USŁUGA\",\"\")),\"\")","v":""},"i",null,{"$f":"Kalkulacja!I136","v":"Favicon - domyślny (sygnet lub litera z nazwy)"},null,null,0,{"$f":"IFERROR(IF(Kalkulacja!$G$2=\"x\",INDEX(Kalkulacja!$Y$1:$Y$416,Q218),\"\"),\"\")","v":""},{"$f":"IFERROR(IF(Kalkulacja!$D$2=\"x\",IF(INDEX(Kalkulacja!J:J,Q218)=\"od\",\"od\",\"\"),\"\"),\"\")","v":""},{"$f":"IFERROR(IF(AND(Kalkulacja!$D$2=\"x\",$J$115>0),(IF(INDEX(Kalkulacja!D:D,Q218)=\"x\",\"Nie-Elementor\",\"\")),\"\"),\"\")","v":""},{"$f":"IFERROR(INDEX('Podświetlanie modułów'!H:H,MATCH(G218,'Podświetlanie modułów'!F:F,0)),0)","v":0},{"$f":"IF(AO218*1>0,\"x\",IF(INDEX(Kalkulacja!A:A,Q218)=\"x\",\"x\",0))","v":"x"},"TRUE",{"$f":"MATCH(G218,Kalkulacja!$I$1:$I$416,0)","v":136},null,null,0,null,0,null,null,null,null,"Favicon - domyślny (sygnet lub litera z nazwy)",null,null,null,null,{"$f":"IFERROR(INDEX(Kalkulacja!V:V,Q218),0)","v":"x"},0,null,null,null,{"$f":"IFERROR(IF($J$115>0,INDEX(Kalkulacja!D:D,Q219),\"\"),\"\")","v":""},null,null,null,false]
[null,null,null,{"$f":"IFERROR(IF(N219>0,\"SUGEROWANE\",IF((INDEX(Kalkulacja!B:B,MATCH(G219,Kalkulacja!I:I,0)))=\"x\",\"USŁUGA\",\"\")),\"\")","v":""},"i",null,{"$f":"Kalkulacja!I137","v":"Favicon - personalizowany"},null,null,0,{"$f":"IFERROR(IF(Kalkulacja!$G$2=\"x\",INDEX(Kalkulacja!$Y$1:$Y$416,Q219),\"\"),\"\")","v":""},{"$f":"IFERROR(IF(Kalkulacja!$D$2=\"x\",IF(INDEX(Kalkulacja!J:J,Q219)=\"od\",\"od\",\"\"),\"\"),\"\")","v":""},{"$f":"IFERROR(IF(AND(Kalkulacja!$D$2=\"x\",$J$115>0),(IF(INDEX(Kalkulacja!D:D,Q219)=\"x\",\"Nie-Elementor\",\"\")),\"\"),\"\")","v":""},{"$f":"IFERROR(INDEX('Podświetlanie modułów'!H:H,MATCH(G219,'Podświetlanie modułów'!F:F,0)),0)","v":0},{"$f":"IF(AO219*1>0,\"x\",IF(INDEX(Kalkulacja!A:A,Q219)=\"x\",\"x\",0))","v":0},{"$f":"IF(O219=\"x\",\"TRUE\",\"FALSE\")","v":"FALSE"},{"$f":"MATCH(G219,Kalkulacja!$I$1:$I$416,0)","v":137},null,null,0,null,0,null,null,null,null,"Favicon - personalizowany",null,null,null,null,{"$f":"IFERROR(INDEX(Kalkulacja!V:V,Q219),0)","v":0},0,null,null,null,{"$f":"IFERROR(IF($J$115>0,INDEX(Kalkulacja!D:D,Q220),\"\"),\"\")","v":""},null,null,null,false]
[null,null,null,{"$f":"IFERROR(IF(N220>0,\"SUGEROWANE\",IF((INDEX(Kalkulacja!B:B,MATCH(G220,Kalkulacja!I:I,0)))=\"x\",\"USŁUGA\",\"\")),\"\")","v":""},"i",null,{"$f":"Kalkulacja!I138","v":"Dodatkowy moduł 20"},null,null,0,{"$f":"IFERROR(IF(Kalkulacja!$G$2=\"x\",INDEX(Kalkulacja!$Y$1:$Y$416,Q220),\"\"),\"\")","v":""},{"$f":"IFERROR(IF(Kalkulacja!$D$2=\"x\",IF(INDEX(Kalkulacja!J:J,Q220)=\"od\",\"od\",\"\"),\"\"),\"\")","v":""},{"$f":"IFERROR(IF(AND(Kalkulacja!$D$2=\"x\",$J$115>0),(IF(INDEX(Kalkulacja!D:D,Q220)=\"x\",\"Nie-Elementor\",\"\")),\"\"),\"\")","v":""},{"$f":"IFERROR(INDEX('Podświetlanie modułów'!H:H,MATCH(G220,'Podświetlanie modułów'!F:F,0)),0)","v":0},{"$f":"IF(AO220*1>0,\"x\",IF(INDEX(Kalkulacja!A:A,Q220)=\"x\",\"x\",0))","v":0},"FALSE",{"$f":"MATCH(G220,Kalkulacja!$I$1:$I$416,0)","v":138},null,null,0,null,0,null,null,null,null,"Dodatkowy moduł 20",null,null,null,null,{"$f":"IFERROR(INDEX(Kalkulacja!V:V,Q220),0)","v":0},0,null,null,null,{"$f":"IFERROR(IF($J$115>0,INDEX(Kalkulacja!D:D,Q221),\"\"),\"\")","v":""},null,null,null,false]
[null,null,null,{"$f":"IFERROR(IF(N221>0,\"SUGEROWANE\",IF((INDEX(Kalkulacja!B:B,MATCH(G221,Kalkulacja!I:I,0)))=\"x\",\"USŁUGA\",\"\")),\"\")","v":""},"i",null,{"$f":"Kalkulacja!I139","v":"Dodatkowy moduł 21"},null,null,0,{"$f":"IFERROR(IF(Kalkulacja!$G$2=\"x\",INDEX(Kalkulacja!$Y$1:$Y$416,Q221),\"\"),\"\")","v":""},{"$f":"IFERROR(IF(Kalkulacja!$D$2=\"x\",IF(INDEX(Kalkulacja!J:J,Q221)=\"od\",\"od\",\"\"),\"\"),\"\")","v":""},{"$f":"IFERROR(IF(AND(Kalkulacja!$D$2=\"x\",$J$115>0),(IF(INDEX(Kalkulacja!D:D,Q221)=\"x\",\"Nie-Elementor\",\"\")),\"\"),\"\")","v":""},{"$f":"IFERROR(INDEX('Podświetlanie modułów'!H:H,MATCH(G221,'Podświetlanie modułów'!F:F,0)),0)","v":0},{"$f":"IF(AO221*1>0,\"x\",IF(INDEX(Kalkulacja!A:A,Q221)=\"x\",\"x\",0))","v":0},"FALSE",{"$f":"MATCH(G221,Kalkulacja!$I$1:$I$416,0)","v":139},null,null,0,null,0,null,null,null,null,"Dodatkowy moduł 21",null,null,null,null,{"$f":"IFERROR(INDEX(Kalkulacja!V:V,Q221),0)","v":0},0,null,null,null,{"$f":"IFERROR(IF($J$115>0,INDEX(Kalkulacja!D:D,Q222),\"\"),\"\")","v":""},null,null,null,{"$f":"S221","v":0}]
[null,null,null,{"$f":"IFERROR(IF(N222>0,\"SUGEROWANE\",IF((INDEX(Kalkulacja!B:B,MATCH(G222,Kalkulacja!I:I,0)))=\"x\",\"USŁUGA\",\"\")),\"\")","v":""},"i",null,{"$f":"Kalkulacja!I140","v":"Dodatkowy moduł 22"},null,null,0,{"$f":"IFERROR(IF(Kalkulacja!$G$2=\"x\",INDEX(Kalkulacja!$Y$1:$Y$416,Q222),\"\"),\"\")","v":""},{"$f":"IFERROR(IF(Kalkulacja!$D$2=\"x\",IF(INDEX(Kalkulacja!J:J,Q222)=\"od\",\"od\",\"\"),\"\"),\"\")","v":""},{"$f":"IFERROR(IF(AND(Kalkulacja!$D$2=\"x\",$J$115>0),(IF(INDEX(Kalkulacja!D:D,Q222)=\"x\",\"Nie-Elementor\",\"\")),\"\"),\"\")","v":""},{"$f":"IFERROR(INDEX('Podświetlanie modułów'!H:H,MATCH(G222,'Podświetlanie modułów'!F:F,0)),0)","v":0},{"$f":"IF(AO222*1>0,\"x\",IF(INDEX(Kalkulacja!A:A,Q222)=\"x\",\"x\",0))","v":0},"FALSE",{"$f":"MATCH(G222,Kalkulacja!$I$1:$I$416,0)","v":140},null,null,0,null,0,null,null,null,null,"Dodatkowy moduł 22",null,null,null,null,{"$f":"IFERROR(INDEX(Kalkulacja!V:V,Q222),0)","v":0},0,null,null,null,{"$f":"IFERROR(IF($J$115>0,INDEX(Kalkulacja!D:D,Q223),\"\"),\"\")","v":""},null,null,null,{"$f":"S222","v":0}]
[null,null,null,{"$f":"IFERROR(IF(N223>0,\"SUGEROWANE\",IF((INDEX(Kalkulacja!B:B,MATCH(G223,Kalkulacja!I:I,0)))=\"x\",\"USŁUGA\",\"\")),\"\")","v":""},"i",null,{"$f":"Kalkulacja!I141","v":"Dodatkowy moduł 23"},null,null,0,{"$f":"IFERROR(IF(Kalkulacja!$G$2=\"x\",INDEX(Kalkulacja!$Y$1:$Y$416,Q223),\"\"),\"\")","v":""},{"$f":"IFERROR(IF(Kalkulacja!$D$2=\"x\",IF(INDEX(Kalkulacja!J:J,Q223)=\"od\",\"od\",\"\"),\"\"),\"\")","v":""},{"$f":"IFERROR(IF(AND(Kalkulacja!$D$2=\"x\",$J$115>0),(IF(INDEX(Kalkulacja!D:D,Q223)=\"x\",\"Nie-Elementor\",\"\")),\"\"),\"\")","v":""},{"$f":"IFERROR(INDEX('Podświetlanie modułów'!H:H,MATCH(G223,'Podświetlanie modułów'!F:F,0)),0)","v":0},{"$f":"IF(AO223*1>0,\"x\",IF(INDEX(Kalkulacja!A:A,Q223)=\"x\",\"x\",0))","v":0},"FALSE",{"$f":"MATCH(G223,Kalkulacja!$I$1:$I$416,0)","v":141},null,null,0,null,0,null,null,null,null,"Dodatkowy moduł 23",null,null,null,null,{"$f":"IFERROR(INDEX(Kalkulacja!V:V,Q223),0)","v":0},0,null,null,null,{"$f":"IFERROR(IF($J$115>0,INDEX(Kalkulacja!D:D,Q224),\"\"),\"\")","v":""},null,null,null,{"$f":"S223","v":0}]
[null,null,null,{"$f":"IFERROR(IF(N224>0,\"SUGEROWANE\",IF((INDEX(Kalkulacja!B:B,MATCH(G224,Kalkulacja!I:I,0)))=\"x\",\"USŁUGA\",\"\")),\"\")","v":""},"i",null,{"$f":"Kalkulacja!I142","v":"Dodatkowy moduł 24"},null,null,0,{"$f":"IFERROR(IF(Kalkulacja!$G$2=\"x\",INDEX(Kalkulacja!$Y$1:$Y$416,Q224),\"\"),\"\")","v":""},{"$f":"IFERROR(IF(Kalkulacja!$D$2=\"x\",IF(INDEX(Kalkulacja!J:J,Q224)=\"od\",\"od\",\"\"),\"\"),\"\")","v":""},{"$f":"IFERROR(IF(AND(Kalkulacja!$D$2=\"x\",$J$115>0),(IF(INDEX(Kalkulacja!D:D,Q224)=\"x\",\"Nie-Elementor\",\"\")),\"\"),\"\")","v":""},{"$f":"IFERROR(INDEX('Podświetlanie modułów'!H:H,MATCH(G224,'Podświetlanie modułów'!F:F,0)),0)","v":0},{"$f":"IF(AO224*1>0,\"x\",IF(INDEX(Kalkulacja!A:A,Q224)=\"x\",\"x\",0))","v":0},"FALSE",{"$f":"MATCH(G224,Kalkulacja!$I$1:$I$416,0)","v":142},null,null,0,null,0,null,null,null,null,"Dodatkowy moduł 24",null,null,null,null,{"$f":"IFERROR(INDEX(Kalkulacja!V:V,Q224),0)","v":0},0,null,null,null,{"$f":"IFERROR(IF($J$115>0,INDEX(Kalkulacja!D:D,Q225),\"\"),\"\")","v":""},null,null,null,{"$f":"S224","v":0}]
[null,null,null,{"$f":"IFERROR(IF(N225>0,\"SUGEROWANE\",IF((INDEX(Kalkulacja!B:B,MATCH(G225,Kalkulacja!I:I,0)))=\"x\",\"USŁUGA\",\"\")),\"\")","v":""},{"$f":"Kalkulacja!I143","v":"Moduły Zaawansowane - dla Serwisu Korporacyjnego"},null,null,null,null,null,null,{"$f":"IFERROR(IF(Kalkulacja!$D$2=\"x\",IF(INDEX(Kalkulacja!J:J,Q225)=\"od\",\"od\",\"\"),\"\"),\"\")","v":""},{"$f":"IFERROR(IF(AND(Kalkulacja!$D$2=\"x\",$J$115>0),(IF(INDEX(Kalkulacja!D:D,Q225)=\"x\",\"Nie-Elementor\",\"\")),\"\"),\"\")","v":""},{"$f":"IFERROR(INDEX('Podświetlanie modułów'!H:H,MATCH(G225,'Podświetlanie modułów'!F:F,0)),0)","v":0},{"$f":"IF(COUNTIF(O226:O285,\"x\")>0,\"x\",0)","v":"x"},"TRUE",{"$f":"MATCH(E225,Kalkulacja!$I$1:$I$416,0)","v":143},null,null,0,null,0,null,null,null,null,0,null,null,null,null,{"$f":"IFERROR(INDEX(Kalkulacja!V:V,Q225),0)","v":0},0,null,null,null,{"$f":"IFERROR(IF($J$115>0,INDEX(Kalkulacja!D:D,Q226),\"\"),\"\")","v":""}]
[null,null,null,{"$f":"IFERROR(IF(N226>0,\"SUGEROWANE\",IF((INDEX(Kalkulacja!B:B,MATCH(G226,Kalkulacja!I:I,0)))=\"x\",\"USŁUGA\",\"\")),\"\")","v":""},{"$f":"Kalkulacja!I144","v":"Oferta firmy"},null,null,null,null,null,null,{"$f":"IFERROR(IF(Kalkulacja!$D$2=\"x\",IF(INDEX(Kalkulacja!J:J,Q226)=\"od\",\"od\",\"\"),\"\"),\"\")","v":""},{"$f":"IFERROR(IF(AND(Kalkulacja!$D$2=\"x\",$J$115>0),(IF(INDEX(Kalkulacja!D:D,Q226)=\"x\",\"Nie-Elementor\",\"\")),\"\"),\"\")","v":""},{"$f":"IFERROR(INDEX('Podświetlanie modułów'!H:H,MATCH(G226,'Podświetlanie modułów'!F:F,0)),0)","v":0},{"$f":"IF(COUNTIF(O227:O243,\"x\")>0,\"x\",0)","v":0},"FALSE",{"$f":"MATCH(E226,Kalkulacja!$I$1:$I$416,0)","v":144},null,null,0,null,0,null,null,null,null,0,null,null,null,null,{"$f":"IFERROR(INDEX(Kalkulacja!V:V,Q226),0)","v":0},0,null,null,null,{"$f":"IFERROR(IF($J$115>0,INDEX(Kalkulacja!D:D,Q227),\"\"),\"\")","v":""}]
[null,null,null,{"$f":"IFERROR(IF(N227>0,\"SUGEROWANE\",IF((INDEX(Kalkulacja!B:B,MATCH(G227,Kalkulacja!I:I,0)))=\"x\",\"USŁUGA\",\"\")),\"\")","v":""},"i",null,{"$f":"Kalkulacja!I145","v":"Katalog produktów (bez opcji kupowania)"},null,null,{"$f":"AO227*1","v":0},{"$f":"IFERROR(IF(Kalkulacja!$G$2=\"x\",INDEX(Kalkulacja!$Y$1:$Y$416,Q227),\"\"),\"\")","v":""},{"$f":"IFERROR(IF(Kalkulacja!$D$2=\"x\",IF(INDEX(Kalkulacja!J:J,Q227)=\"od\",\"od\",\"\"),\"\"),\"\")","v":""},{"$f":"IFERROR(IF(AND(Kalkulacja!$D$2=\"x\",$J$115>0),(IF(INDEX(Kalkulacja!D:D,Q227)=\"x\",\"Nie-Elementor\",\"\")),\"\"),\"\")","v":""},{"$f":"IFERROR(INDEX('Podświetlanie modułów'!H:H,MATCH(G227,'Podświetlanie modułów'!F:F,0)),0)","v":0},{"$f":"IF(AO227*1>0,\"x\",IF(INDEX(Kalkulacja!A:A,Q227)=\"x\",\"x\",0))","v":0},"FALSE",{"$f":"MATCH(G227,Kalkulacja!$I$1:$I$416,0)","v":145},null,null,0,null,0,null,null,null,null,"Katalog produktów (bez opcji kupowania)",null,null,null,null,{"$f":"IFERROR(INDEX(Kalkulacja!V:V,Q227),0)","v":0},0,null,null,null,{"$f":"IFERROR(IF($J$115>0,INDEX(Kalkulacja!D:D,Q228),\"\"),\"\")","v":""},null,null,null,false]
[null,null,null,{"$f":"IFERROR(IF(N228>0,\"SUGEROWANE\",IF((INDEX(Kalkulacja!B:B,MATCH(G228,Kalkulacja!I:I,0)))=\"x\",\"USŁUGA\",\"\")),\"\")","v":""},"i",null,"Wpisz kluczowe opcje",null,null,null,null,{"$f":"IFERROR(IF(Kalkulacja!$D$2=\"x\",IF(INDEX(Kalkulacja!J:J,Q228)=\"od\",\"od\",\"\"),\"\"),\"\")","v":""},{"$f":"IFERROR(IF(AND(Kalkulacja!$D$2=\"x\",$J$115>0),(IF(INDEX(Kalkulacja!D:D,Q228)=\"x\",\"Nie-Elementor\",\"\")),\"\"),\"\")","v":""},{"$f":"IFERROR(INDEX('Podświetlanie modułów'!H:H,MATCH(G228,'Podświetlanie modułów'!F:F,0)),0)","v":0},{"$f":"IF(O227=\"x\",\"x\",0)","v":0},"FALSE",{"$f":"MATCH(G228,Kalkulacja!$I$1:$I$416,0)","v":{"$error":"#N/A"}},null,null,0,null,0,null,null,null,null,"Wpisz kluczowe opcje",null,null,null,null,null,null,null,null,null,{"$f":"IFERROR(IF($J$115>0,INDEX(Kalkulacja!D:D,Q229),\"\"),\"\")","v":""}]
[null,null,null,{"$f":"IFERROR(IF(N229>0,\"SUGEROWANE\",IF((INDEX(Kalkulacja!B:B,MATCH(G229,Kalkulacja!I:I,0)))=\"x\",\"USŁUGA\",\"\")),\"\")","v":"USŁUGA"},"i",null,{"$f":"Kalkulacja!I147","v":"Dodanie 1 kategorii"},null,null,{"$f":"AO229*1","v":0},{"$f":"IFERROR(IF(Kalkulacja!$G$2=\"x\",INDEX(Kalkulacja!$Y$1:$Y$416,Q229),\"\"),\"\")","v":""},{"$f":"IFERROR(IF(Kalkulacja!$D$2=\"x\",IF(INDEX(Kalkulacja!J:J,Q229)=\"od\",\"od\",\"\"),\"\"),\"\")","v":""},{"$f":"IFERROR(IF(AND(Kalkulacja!$D$2=\"x\",$J$115>0),(IF(INDEX(Kalkulacja!D:D,Q229)=\"x\",\"Nie-Elementor\",\"\")),\"\"),\"\")","v":""},{"$f":"IFERROR(INDEX('Podświetlanie modułów'!H:H,MATCH(G229,'Podświetlanie modułów'!F:F,0)),0)","v":0},{"$f":"IF(AO229*1>0,\"x\",IF(INDEX(Kalkulacja!A:A,Q229)=\"x\",\"x\",0))","v":0},"FALSE",{"$f":"MATCH(G229,Kalkulacja!$I$1:$I$416,0)","v":147},null,null,0,null,0,null,null,null,null,"Dodanie 1 kategorii",null,null,null,null,null,null,null,null,null,{"$f":"IFERROR(IF($J$115>0,INDEX(Kalkulacja!D:D,Q230),\"\"),\"\")","v":""},null,null,null,false]
[null,null,null,{"$f":"IFERROR(IF(N230>0,\"SUGEROWANE\",IF((INDEX(Kalkulacja!B:B,MATCH(G230,Kalkulacja!I:I,0)))=\"x\",\"USŁUGA\",\"\")),\"\")","v":"USŁUGA"},"i",null,{"$f":"Kalkulacja!I148","v":"Dodanie 1 produktu"},null,null,0,{"$f":"IFERROR(IF(Kalkulacja!$G$2=\"x\",INDEX(Kalkulacja!$Y$1:$Y$416,Q230),\"\"),\"\")","v":""},{"$f":"IFERROR(IF(Kalkulacja!$D$2=\"x\",IF(INDEX(Kalkulacja!J:J,Q230)=\"od\",\"od\",\"\"),\"\"),\"\")","v":""},{"$f":"IFERROR(IF(AND(Kalkulacja!$D$2=\"x\",$J$115>0),(IF(INDEX(Kalkulacja!D:D,Q230)=\"x\",\"Nie-Elementor\",\"\")),\"\"),\"\")","v":""},{"$f":"IFERROR(INDEX('Podświetlanie modułów'!H:H,MATCH(G230,'Podświetlanie modułów'!F:F,0)),0)","v":0},{"$f":"IF(AO230*1>0,\"x\",IF(INDEX(Kalkulacja!A:A,Q230)=\"x\",\"x\",0))","v":0},"FALSE",{"$f":"MATCH(G230,Kalkulacja!$I$1:$I$416,0)","v":148},null,null,0,null,0,null,null,null,null,"Dodanie 1 produktu",null,null,null,null,{"$f":"IFERROR(INDEX(Kalkulacja!V:V,Q230),0)","v":0},0,null,null,null,{"$f":"IFERROR(IF($J$115>0,INDEX(Kalkulacja!D:D,Q231),\"\"),\"\")","v":""},null,null,null,false]
[null,null,null,{"$f":"IFERROR(IF(N231>0,\"SUGEROWANE\",IF((INDEX(Kalkulacja!B:B,MATCH(G231,Kalkulacja!I:I,0)))=\"x\",\"USŁUGA\",\"\")),\"\")","v":""},"i",null,{"$f":"Kalkulacja!I149","v":"Filtry"},null,null,0,{"$f":"IFERROR(IF(Kalkulacja!$G$2=\"x\",INDEX(Kalkulacja!$Y$1:$Y$416,Q231),\"\"),\"\")","v":""},{"$f":"IFERROR(IF(Kalkulacja!$D$2=\"x\",IF(INDEX(Kalkulacja!J:J,Q231)=\"od\",\"od\",\"\"),\"\"),\"\")","v":""},{"$f":"IFERROR(IF(AND(Kalkulacja!$D$2=\"x\",$J$115>0),(IF(INDEX(Kalkulacja!D:D,Q231)=\"x\",\"Nie-Elementor\",\"\")),\"\"),\"\")","v":""},{"$f":"IFERROR(INDEX('Podświetlanie modułów'!H:H,MATCH(G231,'Podświetlanie modułów'!F:F,0)),0)","v":0},{"$f":"IF(AO231*1>0,\"x\",IF(INDEX(Kalkulacja!A:A,Q231)=\"x\",\"x\",0))","v":0},"FALSE",{"$f":"MATCH(G231,Kalkulacja!$I$1:$I$416,0)","v":149},null,null,0,null,0,null,null,null,null,"Filtry",null,null,null,null,{"$f":"IFERROR(INDEX(Kalkulacja!V:V,Q231),0)","v":0},0,null,null,null,{"$f":"IFERROR(IF($J$115>0,INDEX(Kalkulacja!D:D,Q232),\"\"),\"\")","v":""},null,null,null,false]
[null,null,null,{"$f":"IFERROR(IF(N232>0,\"SUGEROWANE\",IF((INDEX(Kalkulacja!B:B,MATCH(G232,Kalkulacja!I:I,0)))=\"x\",\"USŁUGA\",\"\")),\"\")","v":""},"i",null,{"$f":"Kalkulacja!I150","v":"Sortowanie"},null,null,0,{"$f":"IFERROR(IF(Kalkulacja!$G$2=\"x\",INDEX(Kalkulacja!$Y$1:$Y$416,Q232),\"\"),\"\")","v":""},{"$f":"IFERROR(IF(Kalkulacja!$D$2=\"x\",IF(INDEX(Kalkulacja!J:J,Q232)=\"od\",\"od\",\"\"),\"\"),\"\")","v":""},{"$f":"IFERROR(IF(AND(Kalkulacja!$D$2=\"x\",$J$115>0),(IF(INDEX(Kalkulacja!D:D,Q232)=\"x\",\"Nie-Elementor\",\"\")),\"\"),\"\")","v":""},{"$f":"IFERROR(INDEX('Podświetlanie modułów'!H:H,MATCH(G232,'Podświetlanie modułów'!F:F,0)),0)","v":0},{"$f":"IF(AO232*1>0,\"x\",IF(INDEX(Kalkulacja!A:A,Q232)=\"x\",\"x\",0))","v":0},"FALSE",{"$f":"MATCH(G232,Kalkulacja!$I$1:$I$416,0)","v":150},null,null,0,null,0,null,null,null,null,"Sortowanie",null,null,null,null,{"$f":"IFERROR(INDEX(Kalkulacja!V:V,Q232),0)","v":0},0,null,null,null,{"$f":"IFERROR(IF($J$115>0,INDEX(Kalkulacja!D:D,Q233),\"\"),\"\")","v":""},null,null,null,false]
[null,null,null,{"$f":"IFERROR(IF(N233>0,\"SUGEROWANE\",IF((INDEX(Kalkulacja!B:B,MATCH(G233,Kalkulacja!I:I,0)))=\"x\",\"USŁUGA\",\"\")),\"\")","v":""},"i",null,{"$f":"Kalkulacja!I151","v":"Porównywarka produktów"},null,null,0,{"$f":"IFERROR(IF(Kalkulacja!$G$2=\"x\",INDEX(Kalkulacja!$Y$1:$Y$416,Q233),\"\"),\"\")","v":""},{"$f":"IFERROR(IF(Kalkulacja!$D$2=\"x\",IF(INDEX(Kalkulacja!J:J,Q232)=\"od\",\"od\",\"\"),\"\"),\"\")","v":""},{"$f":"IFERROR(IF(AND(Kalkulacja!$D$2=\"x\",$J$115>0),(IF(INDEX(Kalkulacja!D:D,Q233)=\"x\",\"Nie-Elementor\",\"\")),\"\"),\"\")","v":""},{"$f":"IFERROR(INDEX('Podświetlanie modułów'!H:H,MATCH(G233,'Podświetlanie modułów'!F:F,0)),0)","v":0},{"$f":"IF(AO233*1>0,\"x\",IF(INDEX(Kalkulacja!A:A,Q233)=\"x\",\"x\",0))","v":0},"FALSE",{"$f":"MATCH(G233,Kalkulacja!$I$1:$I$416,0)","v":151},null,null,0,null,0,null,null,null,null,"Porównywarka produktów",null,null,null,null,{"$f":"IFERROR(INDEX(Kalkulacja!V:V,Q233),0)","v":0},0,null,null,null,{"$f":"IFERROR(IF($J$115>0,INDEX(Kalkulacja!D:D,Q234),\"\"),\"\")","v":""},null,null,null,false]
[null,null,null,{"$f":"IFERROR(IF(N234>0,\"SUGEROWANE\",IF((INDEX(Kalkulacja!B:B,MATCH(G234,Kalkulacja!I:I,0)))=\"x\",\"USŁUGA\",\"\")),\"\")","v":""},"i",null,{"$f":"Kalkulacja!I152","v":"Cenniki zaawansowane + popup z opisem"},null,null,0,{"$f":"IFERROR(IF(Kalkulacja!$G$2=\"x\",INDEX(Kalkulacja!$Y$1:$Y$416,Q234),\"\"),\"\")","v":""},{"$f":"IFERROR(IF(Kalkulacja!$D$2=\"x\",IF(INDEX(Kalkulacja!J:J,Q233)=\"od\",\"od\",\"\"),\"\"),\"\")","v":""},{"$f":"IFERROR(IF(AND(Kalkulacja!$D$2=\"x\",$J$115>0),(IF(INDEX(Kalkulacja!D:D,Q234)=\"x\",\"Nie-Elementor\",\"\")),\"\"),\"\")","v":""},{"$f":"IFERROR(INDEX('Podświetlanie modułów'!H:H,MATCH(G234,'Podświetlanie modułów'!F:F,0)),0)","v":0},{"$f":"IF(AO234*1>0,\"x\",IF(INDEX(Kalkulacja!A:A,Q234)=\"x\",\"x\",0))","v":0},"FALSE",{"$f":"MATCH(G234,Kalkulacja!$I$1:$I$416,0)","v":152},null,null,0,null,0,null,null,null,null,"Cenniki zaawansowane + popup z opisem",null,null,null,null,{"$f":"IFERROR(INDEX(Kalkulacja!V:V,Q234),0)","v":0},0,null,null,null,{"$f":"IFERROR(IF($J$115>0,INDEX(Kalkulacja!D:D,Q235),\"\"),\"\")","v":""},null,null,null,false]
[null,null,null,{"$f":"IFERROR(IF(N235>0,\"SUGEROWANE\",IF((INDEX(Kalkulacja!B:B,MATCH(G235,Kalkulacja!I:I,0)))=\"x\",\"USŁUGA\",\"\")),\"\")","v":""},"i",null,{"$f":"Kalkulacja!I153","v":"Menu dla gastronomii "},null,null,0,{"$f":"IFERROR(IF(Kalkulacja!$G$2=\"x\",INDEX(Kalkulacja!$Y$1:$Y$416,Q235),\"\"),\"\")","v":""},{"$f":"IFERROR(IF(Kalkulacja!$D$2=\"x\",IF(INDEX(Kalkulacja!J:J,Q234)=\"od\",\"od\",\"\"),\"\"),\"\")","v":""},{"$f":"IFERROR(IF(AND(Kalkulacja!$D$2=\"x\",$J$115>0),(IF(INDEX(Kalkulacja!D:D,Q235)=\"x\",\"Nie-Elementor\",\"\")),\"\"),\"\")","v":""},{"$f":"IFERROR(INDEX('Podświetlanie modułów'!H:H,MATCH(G235,'Podświetlanie modułów'!F:F,0)),0)","v":0},{"$f":"IF(AO235*1>0,\"x\",IF(INDEX(Kalkulacja!A:A,Q235)=\"x\",\"x\",0))","v":0},"FALSE",{"$f":"MATCH(G235,Kalkulacja!$I$1:$I$416,0)","v":153},null,null,0,null,0,null,null,null,null,"Menu dla gastronomii ",null,null,null,null,{"$f":"IFERROR(INDEX(Kalkulacja!V:V,Q235),0)","v":0},0,null,null,null,{"$f":"IFERROR(IF($J$115>0,INDEX(Kalkulacja!D:D,Q236),\"\"),\"\")","v":""},null,null,null,false]
[null,null,null,{"$f":"IFERROR(IF(N236>0,\"SUGEROWANE\",IF((INDEX(Kalkulacja!B:B,MATCH(G236,Kalkulacja!I:I,0)))=\"x\",\"USŁUGA\",\"\")),\"\")","v":""},"i",null,{"$f":"Kalkulacja!I154","v":"Kalkulator zapytania"},null,null,0,{"$f":"IFERROR(IF(Kalkulacja!$G$2=\"x\",INDEX(Kalkulacja!$Y$1:$Y$416,Q236),\"\"),\"\")","v":""},{"$f":"IFERROR(IF(Kalkulacja!$D$2=\"x\",IF(INDEX(Kalkulacja!J:J,Q235)=\"od\",\"od\",\"\"),\"\"),\"\")","v":""},{"$f":"IFERROR(IF(AND(Kalkulacja!$D$2=\"x\",$J$115>0),(IF(INDEX(Kalkulacja!D:D,Q236)=\"x\",\"Nie-Elementor\",\"\")),\"\"),\"\")","v":""},{"$f":"IFERROR(INDEX('Podświetlanie modułów'!H:H,MATCH(G236,'Podświetlanie modułów'!F:F,0)),0)","v":0},{"$f":"IF(AO236*1>0,\"x\",IF(INDEX(Kalkulacja!A:A,Q236)=\"x\",\"x\",0))","v":0},"FALSE",{"$f":"MATCH(G236,Kalkulacja!$I$1:$I$416,0)","v":154},null,null,0,null,0,null,null,null,null,"Kalkulator zapytania",null,null,null,null,{"$f":"IFERROR(INDEX(Kalkulacja!V:V,Q236),0)","v":0},0,null,null,null,{"$f":"IFERROR(IF($J$115>0,INDEX(Kalkulacja!D:D,Q237),\"\"),\"\")","v":""},null,null,null,false]
[null,null,null,{"$f":"IFERROR(IF(N237>0,\"SUGEROWANE\",IF((INDEX(Kalkulacja!B:B,MATCH(G237,Kalkulacja!I:I,0)))=\"x\",\"USŁUGA\",\"\")),\"\")","v":""},"i",null,{"$f":"Kalkulacja!I155","v":"Rozbudowane formularze zapytania"},null,null,0,{"$f":"IFERROR(IF(Kalkulacja!$G$2=\"x\",INDEX(Kalkulacja!$Y$1:$Y$416,Q237),\"\"),\"\")","v":""},{"$f":"IFERROR(IF(Kalkulacja!$D$2=\"x\",IF(INDEX(Kalkulacja!J:J,Q236)=\"od\",\"od\",\"\"),\"\"),\"\")","v":""},{"$f":"IFERROR(IF(AND(Kalkulacja!$D$2=\"x\",$J$115>0),(IF(INDEX(Kalkulacja!D:D,Q237)=\"x\",\"Nie-Elementor\",\"\")),\"\"),\"\")","v":""},{"$f":"IFERROR(INDEX('Podświetlanie modułów'!H:H,MATCH(G237,'Podświetlanie modułów'!F:F,0)),0)","v":0},{"$f":"IF(AO237*1>0,\"x\",IF(INDEX(Kalkulacja!A:A,Q237)=\"x\",\"x\",0))","v":0},"FALSE",{"$f":"MATCH(G237,Kalkulacja!$I$1:$I$416,0)","v":155},null,null,0,null,0,null,null,null,null,"Rozbudowane formularze zapytania",null,null,null,null,{"$f":"IFERROR(INDEX(Kalkulacja!V:V,Q237),0)","v":0},0,null,null,null,{"$f":"IFERROR(IF($J$115>0,INDEX(Kalkulacja!D:D,Q238),\"\"),\"\")","v":""},null,null,null,false]
[null,null,null,{"$f":"IFERROR(IF(N238>0,\"SUGEROWANE\",IF((INDEX(Kalkulacja!B:B,MATCH(G238,Kalkulacja!I:I,0)))=\"x\",\"USŁUGA\",\"\")),\"\")","v":""},"i",null,{"$f":"Kalkulacja!I156","v":"Konfigurator ofert PDF z panelem zarządzania"},null,null,0,{"$f":"IFERROR(IF(Kalkulacja!$G$2=\"x\",INDEX(Kalkulacja!$Y$1:$Y$416,Q238),\"\"),\"\")","v":""},{"$f":"IFERROR(IF(Kalkulacja!$D$2=\"x\",IF(INDEX(Kalkulacja!J:J,Q237)=\"od\",\"od\",\"\"),\"\"),\"\")","v":""},{"$f":"IFERROR(IF(AND(Kalkulacja!$D$2=\"x\",$J$115>0),(IF(INDEX(Kalkulacja!D:D,Q238)=\"x\",\"Nie-Elementor\",\"\")),\"\"),\"\")","v":""},{"$f":"IFERROR(INDEX('Podświetlanie modułów'!H:H,MATCH(G238,'Podświetlanie modułów'!F:F,0)),0)","v":0},{"$f":"IF(AO238*1>0,\"x\",IF(INDEX(Kalkulacja!A:A,Q238)=\"x\",\"x\",0))","v":0},"FALSE",{"$f":"MATCH(G238,Kalkulacja!$I$1:$I$416,0)","v":156},null,null,0,null,0,null,null,null,null,"Konfigurator ofert PDF z panelem zarządzania",null,null,null,null,{"$f":"IFERROR(INDEX(Kalkulacja!V:V,Q238),0)","v":0},0,null,null,null,{"$f":"IFERROR(IF($J$115>0,INDEX(Kalkulacja!D:D,Q239),\"\"),\"\")","v":""},null,null,null,false]
[null,null,null,{"$f":"IFERROR(IF(N239>0,\"SUGEROWANE\",IF((INDEX(Kalkulacja!B:B,MATCH(G239,Kalkulacja!I:I,0)))=\"x\",\"USŁUGA\",\"\")),\"\")","v":""},"i",null,{"$f":"Kalkulacja!I157","v":"Dodatkowy moduł 25"},null,null,0,{"$f":"IFERROR(IF(Kalkulacja!$G$2=\"x\",INDEX(Kalkulacja!$Y$1:$Y$416,Q239),\"\"),\"\")","v":""},{"$f":"IFERROR(IF(Kalkulacja!$D$2=\"x\",IF(INDEX(Kalkulacja!J:J,Q238)=\"od\",\"od\",\"\"),\"\"),\"\")","v":""},{"$f":"IFERROR(IF(AND(Kalkulacja!$D$2=\"x\",$J$115>0),(IF(INDEX(Kalkulacja!D:D,Q239)=\"x\",\"Nie-Elementor\",\"\")),\"\"),\"\")","v":""},{"$f":"IFERROR(INDEX('Podświetlanie modułów'!H:H,MATCH(G239,'Podświetlanie modułów'!F:F,0)),0)","v":0},{"$f":"IF(AO239*1>0,\"x\",IF(INDEX(Kalkulacja!A:A,Q239)=\"x\",\"x\",0))","v":0},"FALSE",{"$f":"MATCH(G239,Kalkulacja!$I$1:$I$416,0)","v":157},null,null,0,null,0,null,null,null,null,"Dodatkowy moduł 25",null,null,null,null,{"$f":"IFERROR(INDEX(Kalkulacja!V:V,Q239),0)","v":0},0,null,null,null,{"$f":"IFERROR(IF($J$115>0,INDEX(Kalkulacja!D:D,Q240),\"\"),\"\")","v":""},null,null,null,{"$f":"S239","v":0}]
[null,null,null,{"$f":"IFERROR(IF(N240>0,\"SUGEROWANE\",IF((INDEX(Kalkulacja!B:B,MATCH(G240,Kalkulacja!I:I,0)))=\"x\",\"USŁUGA\",\"\")),\"\")","v":""},"i",null,{"$f":"Kalkulacja!I158","v":"Dodatkowy moduł 26"},null,null,0,{"$f":"IFERROR(IF(Kalkulacja!$G$2=\"x\",INDEX(Kalkulacja!$Y$1:$Y$416,Q240),\"\"),\"\")","v":""},{"$f":"IFERROR(IF(Kalkulacja!$D$2=\"x\",IF(INDEX(Kalkulacja!J:J,Q239)=\"od\",\"od\",\"\"),\"\"),\"\")","v":""},{"$f":"IFERROR(IF(AND(Kalkulacja!$D$2=\"x\",$J$115>0),(IF(INDEX(Kalkulacja!D:D,Q240)=\"x\",\"Nie-Elementor\",\"\")),\"\"),\"\")","v":""},{"$f":"IFERROR(INDEX('Podświetlanie modułów'!H:H,MATCH(G240,'Podświetlanie modułów'!F:F,0)),0)","v":0},{"$f":"IF(AO240*1>0,\"x\",IF(INDEX(Kalkulacja!A:A,Q240)=\"x\",\"x\",0))","v":0},"FALSE",{"$f":"MATCH(G240,Kalkulacja!$I$1:$I$416,0)","v":158},null,null,0,null,0,null,null,null,null,"Dodatkowy moduł 26",null,null,null,null,{"$f":"IFERROR(INDEX(Kalkulacja!V:V,Q240),0)","v":0},0,null,null,null,{"$f":"IFERROR(IF($J$115>0,INDEX(Kalkulacja!D:D,Q241),\"\"),\"\")","v":""},null,null,null,false]
[null,null,null,{"$f":"IFERROR(IF(N241>0,\"SUGEROWANE\",IF((INDEX(Kalkulacja!B:B,MATCH(G241,Kalkulacja!I:I,0)))=\"x\",\"USŁUGA\",\"\")),\"\")","v":""},"i",null,{"$f":"Kalkulacja!I159","v":"Dodatkowy moduł 27"},null,null,0,{"$f":"IFERROR(IF(Kalkulacja!$G$2=\"x\",INDEX(Kalkulacja!$Y$1:$Y$416,Q241),\"\"),\"\")","v":""},{"$f":"IFERROR(IF(Kalkulacja!$D$2=\"x\",IF(INDEX(Kalkulacja!J:J,Q240)=\"od\",\"od\",\"\"),\"\"),\"\")","v":""},{"$f":"IFERROR(IF(AND(Kalkulacja!$D$2=\"x\",$J$115>0),(IF(INDEX(Kalkulacja!D:D,Q241)=\"x\",\"Nie-Elementor\",\"\")),\"\"),\"\")","v":""},{"$f":"IFERROR(INDEX('Podświetlanie modułów'!H:H,MATCH(G241,'Podświetlanie modułów'!F:F,0)),0)","v":0},{"$f":"IF(AO241*1>0,\"x\",IF(INDEX(Kalkulacja!A:A,Q241)=\"x\",\"x\",0))","v":0},"FALSE",{"$f":"MATCH(G241,Kalkulacja!$I$1:$I$416,0)","v":159},null,null,0,null,0,null,null,null,null,"Dodatkowy moduł 27",null,null,null,null,{"$f":"IFERROR(INDEX(Kalkulacja!V:V,Q241),0)","v":0},0,null,null,null,{"$f":"IFERROR(IF($J$115>0,INDEX(Kalkulacja!D:D,Q242),\"\"),\"\")","v":""},null,null,null,false]
[null,null,null,{"$f":"IFERROR(IF(N242>0,\"SUGEROWANE\",IF((INDEX(Kalkulacja!B:B,MATCH(G242,Kalkulacja!I:I,0)))=\"x\",\"USŁUGA\",\"\")),\"\")","v":""},"i",null,{"$f":"Kalkulacja!I160","v":"Dodatkowy moduł 28"},null,null,0,{"$f":"IFERROR(IF(Kalkulacja!$G$2=\"x\",INDEX(Kalkulacja!$Y$1:$Y$416,Q242),\"\"),\"\")","v":""},{"$f":"IFERROR(IF(Kalkulacja!$D$2=\"x\",IF(INDEX(Kalkulacja!J:J,Q241)=\"od\",\"od\",\"\"),\"\"),\"\")","v":""},{"$f":"IFERROR(IF(AND(Kalkulacja!$D$2=\"x\",$J$115>0),(IF(INDEX(Kalkulacja!D:D,Q242)=\"x\",\"Nie-Elementor\",\"\")),\"\"),\"\")","v":""},{"$f":"IFERROR(INDEX('Podświetlanie modułów'!H:H,MATCH(G242,'Podświetlanie modułów'!F:F,0)),0)","v":0},{"$f":"IF(AO242*1>0,\"x\",IF(INDEX(Kalkulacja!A:A,Q242)=\"x\",\"x\",0))","v":0},"FALSE",{"$f":"MATCH(G242,Kalkulacja!$I$1:$I$416,0)","v":160},null,null,0,null,0,null,null,null,null,"Dodatkowy moduł 28",null,null,null,null,{"$f":"IFERROR(INDEX(Kalkulacja!V:V,Q242),0)","v":0},0,null,null,null,{"$f":"IFERROR(IF($J$115>0,INDEX(Kalkulacja!D:D,Q243),\"\"),\"\")","v":""},null,null,null,{"$f":"S242","v":0}]
[null,null,null,{"$f":"IFERROR(IF(N243>0,\"SUGEROWANE\",IF((INDEX(Kalkulacja!B:B,MATCH(G243,Kalkulacja!I:I,0)))=\"x\",\"USŁUGA\",\"\")),\"\")","v":""},"i",null,{"$f":"Kalkulacja!I161","v":"Dodatkowy moduł 29"},null,null,0,{"$f":"IFERROR(IF(Kalkulacja!$G$2=\"x\",INDEX(Kalkulacja!$Y$1:$Y$416,Q243),\"\"),\"\")","v":""},{"$f":"IFERROR(IF(Kalkulacja!$D$2=\"x\",IF(INDEX(Kalkulacja!J:J,Q242)=\"od\",\"od\",\"\"),\"\"),\"\")","v":""},{"$f":"IFERROR(IF(AND(Kalkulacja!$D$2=\"x\",$J$115>0),(IF(INDEX(Kalkulacja!D:D,Q243)=\"x\",\"Nie-Elementor\",\"\")),\"\"),\"\")","v":""},{"$f":"IFERROR(INDEX('Podświetlanie modułów'!H:H,MATCH(G243,'Podświetlanie modułów'!F:F,0)),0)","v":0},{"$f":"IF(AO243*1>0,\"x\",IF(INDEX(Kalkulacja!A:A,Q243)=\"x\",\"x\",0))","v":0},"FALSE",{"$f":"MATCH(G243,Kalkulacja!$I$1:$I$416,0)","v":161},null,null,0,null,0,null,null,null,null,"Dodatkowy moduł 29",null,null,null,null,{"$f":"IFERROR(INDEX(Kalkulacja!V:V,Q243),0)","v":0},0,null,null,null,{"$f":"IFERROR(IF($J$115>0,INDEX(Kalkulacja!D:D,Q244),\"\"),\"\")","v":""},null,null,null,{"$f":"S243","v":0}]
[null,null,null,{"$f":"IFERROR(IF(N244>0,\"SUGEROWANE\",IF((INDEX(Kalkulacja!B:B,MATCH(G244,Kalkulacja!I:I,0)))=\"x\",\"USŁUGA\",\"\")),\"\")","v":""},{"$f":"Kalkulacja!I162","v":"Realizacje & Wydarzenia"},null,null,null,null,null,null,{"$f":"IFERROR(IF(Kalkulacja!$D$2=\"x\",IF(INDEX(Kalkulacja!J:J,Q243)=\"od\",\"od\",\"\"),\"\"),\"\")","v":""},{"$f":"IFERROR(IF(AND(Kalkulacja!$D$2=\"x\",$J$115>0),(IF(INDEX(Kalkulacja!D:D,Q244)=\"x\",\"Nie-Elementor\",\"\")),\"\"),\"\")","v":""},{"$f":"IFERROR(INDEX('Podświetlanie modułów'!H:H,MATCH(G244,'Podświetlanie modułów'!F:F,0)),0)","v":0},{"$f":"IF(COUNTIF(O245:O251,\"x\")>0,\"x\",0)","v":0},"FALSE",{"$f":"MATCH(E244,Kalkulacja!$I$1:$I$416,0)","v":162},null,null,0,null,0,null,null,null,null,0,null,null,null,null,{"$f":"IFERROR(INDEX(Kalkulacja!V:V,Q244),0)","v":0},0,null,null,null,{"$f":"IFERROR(IF($J$115>0,INDEX(Kalkulacja!D:D,Q245),\"\"),\"\")","v":""}]
[null,null,null,{"$f":"IFERROR(IF(N245>0,\"SUGEROWANE\",IF((INDEX(Kalkulacja!B:B,MATCH(G245,Kalkulacja!I:I,0)))=\"x\",\"USŁUGA\",\"\")),\"\")","v":""},"i",null,{"$f":"Kalkulacja!I163","v":"Dedykowane wpisy np. case study realizacje projekty przepisy kulinarne itp."},null,null,{"$f":"AO245*1","v":0},{"$f":"IFERROR(IF(Kalkulacja!$G$2=\"x\",INDEX(Kalkulacja!$Y$1:$Y$416,Q245),\"\"),\"\")","v":""},{"$f":"IFERROR(IF(Kalkulacja!$D$2=\"x\",IF(INDEX(Kalkulacja!J:J,Q244)=\"od\",\"od\",\"\"),\"\"),\"\")","v":""},{"$f":"IFERROR(IF(AND(Kalkulacja!$D$2=\"x\",$J$115>0),(IF(INDEX(Kalkulacja!D:D,Q245)=\"x\",\"Nie-Elementor\",\"\")),\"\"),\"\")","v":""},{"$f":"IFERROR(INDEX('Podświetlanie modułów'!H:H,MATCH(G245,'Podświetlanie modułów'!F:F,0)),0)","v":0},{"$f":"IF(AO245*1>0,\"x\",IF(INDEX(Kalkulacja!A:A,Q245)=\"x\",\"x\",0))","v":0},"FALSE",{"$f":"MATCH(G245,Kalkulacja!$I$1:$I$416,0)","v":163},null,null,0,null,0,null,null,null,null,"Dedykowane wpisy np. case study realizacje projekty przepisy kulinarne itp.",null,null,null,null,{"$f":"IFERROR(INDEX(Kalkulacja!V:V,Q245),0)","v":0},0,null,null,null,{"$f":"IFERROR(IF($J$115>0,INDEX(Kalkulacja!D:D,Q246),\"\"),\"\")","v":""},null,null,null,false]
[null,null,null,{"$f":"IFERROR(IF(N246>0,\"SUGEROWANE\",IF((INDEX(Kalkulacja!B:B,MATCH(G246,Kalkulacja!I:I,0)))=\"x\",\"USŁUGA\",\"\")),\"\")","v":""},"i",null,{"$f":"Kalkulacja!I164","v":"Realizacje na mapie Google "},null,null,0,{"$f":"IFERROR(IF(Kalkulacja!$G$2=\"x\",INDEX(Kalkulacja!$Y$1:$Y$416,Q246),\"\"),\"\")","v":""},{"$f":"IFERROR(IF(Kalkulacja!$D$2=\"x\",IF(INDEX(Kalkulacja!J:J,Q245)=\"od\",\"od\",\"\"),\"\"),\"\")","v":""},{"$f":"IFERROR(IF(AND(Kalkulacja!$D$2=\"x\",$J$115>0),(IF(INDEX(Kalkulacja!D:D,Q246)=\"x\",\"Nie-Elementor\",\"\")),\"\"),\"\")","v":""},{"$f":"IFERROR(INDEX('Podświetlanie modułów'!H:H,MATCH(G246,'Podświetlanie modułów'!F:F,0)),0)","v":0},{"$f":"IF(AO246*1>0,\"x\",IF(INDEX(Kalkulacja!A:A,Q246)=\"x\",\"x\",0))","v":0},"FALSE",{"$f":"MATCH(G246,Kalkulacja!$I$1:$I$416,0)","v":164},null,null,0,null,0,null,null,null,null,"Realizacje na mapie Google ",null,null,null,null,{"$f":"IFERROR(INDEX(Kalkulacja!V:V,Q246),0)","v":0},0,null,null,null,{"$f":"IFERROR(IF($J$115>0,INDEX(Kalkulacja!D:D,Q247),\"\"),\"\")","v":""},null,null,null,false]
[null,null,null,{"$f":"IFERROR(IF(N247>0,\"SUGEROWANE\",IF((INDEX(Kalkulacja!B:B,MATCH(G247,Kalkulacja!I:I,0)))=\"x\",\"USŁUGA\",\"\")),\"\")","v":""},"i",null,{"$f":"Kalkulacja!I165","v":"Autorski player audio"},null,null,0,{"$f":"IFERROR(IF(Kalkulacja!$G$2=\"x\",INDEX(Kalkulacja!$Y$1:$Y$416,Q247),\"\"),\"\")","v":""},{"$f":"IFERROR(IF(Kalkulacja!$D$2=\"x\",IF(INDEX(Kalkulacja!J:J,Q246)=\"od\",\"od\",\"\"),\"\"),\"\")","v":""},{"$f":"IFERROR(IF(AND(Kalkulacja!$D$2=\"x\",$J$115>0),(IF(INDEX(Kalkulacja!D:D,Q247)=\"x\",\"Nie-Elementor\",\"\")),\"\"),\"\")","v":""},{"$f":"IFERROR(INDEX('Podświetlanie modułów'!H:H,MATCH(G247,'Podświetlanie modułów'!F:F,0)),0)","v":0},{"$f":"IF(AO247*1>0,\"x\",IF(INDEX(Kalkulacja!A:A,Q247)=\"x\",\"x\",0))","v":0},"FALSE",{"$f":"MATCH(G247,Kalkulacja!$I$1:$I$416,0)","v":165},null,null,0,null,0,null,null,null,null,"Autorski player audio",null,null,null,null,{"$f":"IFERROR(INDEX(Kalkulacja!V:V,Q247),0)","v":0},0,null,null,null,{"$f":"IFERROR(IF($J$115>0,INDEX(Kalkulacja!D:D,Q248),\"\"),\"\")","v":""},null,null,null,false]
[null,null,null,{"$f":"IFERROR(IF(N248>0,\"SUGEROWANE\",IF((INDEX(Kalkulacja!B:B,MATCH(G248,Kalkulacja!I:I,0)))=\"x\",\"USŁUGA\",\"\")),\"\")","v":""},"i",null,{"$f":"Kalkulacja!I166","v":"Wydarzenia i kalendarium"},null,null,0,{"$f":"IFERROR(IF(Kalkulacja!$G$2=\"x\",INDEX(Kalkulacja!$Y$1:$Y$416,Q248),\"\"),\"\")","v":""},{"$f":"IFERROR(IF(Kalkulacja!$D$2=\"x\",IF(INDEX(Kalkulacja!J:J,Q247)=\"od\",\"od\",\"\"),\"\"),\"\")","v":""},{"$f":"IFERROR(IF(AND(Kalkulacja!$D$2=\"x\",$J$115>0),(IF(INDEX(Kalkulacja!D:D,Q248)=\"x\",\"Nie-Elementor\",\"\")),\"\"),\"\")","v":""},{"$f":"IFERROR(INDEX('Podświetlanie modułów'!H:H,MATCH(G248,'Podświetlanie modułów'!F:F,0)),0)","v":0},{"$f":"IF(AO248*1>0,\"x\",IF(INDEX(Kalkulacja!A:A,Q248)=\"x\",\"x\",0))","v":0},"FALSE",{"$f":"MATCH(G248,Kalkulacja!$I$1:$I$416,0)","v":166},null,null,0,null,0,null,null,null,null,"Wydarzenia i kalendarium",null,null,null,null,{"$f":"IFERROR(INDEX(Kalkulacja!V:V,Q248),0)","v":0},0,null,null,null,{"$f":"IFERROR(IF($J$115>0,INDEX(Kalkulacja!D:D,Q249),\"\"),\"\")","v":""},null,null,null,false]
[null,null,null,{"$f":"IFERROR(IF(N249>0,\"SUGEROWANE\",IF((INDEX(Kalkulacja!B:B,MATCH(G249,Kalkulacja!I:I,0)))=\"x\",\"USŁUGA\",\"\")),\"\")","v":""},"i",null,{"$f":"Kalkulacja!I167","v":"Dodatkowy moduł 30"},null,null,0,{"$f":"IFERROR(IF(Kalkulacja!$G$2=\"x\",INDEX(Kalkulacja!$Y$1:$Y$416,Q249),\"\"),\"\")","v":""},{"$f":"IFERROR(IF(Kalkulacja!$D$2=\"x\",IF(INDEX(Kalkulacja!J:J,Q248)=\"od\",\"od\",\"\"),\"\"),\"\")","v":""},{"$f":"IFERROR(IF(AND(Kalkulacja!$D$2=\"x\",$J$115>0),(IF(INDEX(Kalkulacja!D:D,Q249)=\"x\",\"Nie-Elementor\",\"\")),\"\"),\"\")","v":""},{"$f":"IFERROR(INDEX('Podświetlanie modułów'!H:H,MATCH(G249,'Podświetlanie modułów'!F:F,0)),0)","v":0},{"$f":"IF(AO249*1>0,\"x\",IF(INDEX(Kalkulacja!A:A,Q249)=\"x\",\"x\",0))","v":0},"FALSE",{"$f":"MATCH(G249,Kalkulacja!$I$1:$I$416,0)","v":167},null,null,0,null,0,null,null,null,null,"Dodatkowy moduł 30",null,null,null,null,{"$f":"IFERROR(INDEX(Kalkulacja!V:V,Q249),0)","v":0},0,null,null,null,{"$f":"IFERROR(IF($J$115>0,INDEX(Kalkulacja!D:D,Q250),\"\"),\"\")","v":""},null,null,null,false]
[null,null,null,{"$f":"IFERROR(IF(N250>0,\"SUGEROWANE\",IF((INDEX(Kalkulacja!B:B,MATCH(G250,Kalkulacja!I:I,0)))=\"x\",\"USŁUGA\",\"\")),\"\")","v":""},"i",null,{"$f":"Kalkulacja!I168","v":"Dodatkowy moduł 31"},null,null,0,{"$f":"IFERROR(IF(Kalkulacja!$G$2=\"x\",INDEX(Kalkulacja!$Y$1:$Y$416,Q250),\"\"),\"\")","v":""},{"$f":"IFERROR(IF(Kalkulacja!$D$2=\"x\",IF(INDEX(Kalkulacja!J:J,Q249)=\"od\",\"od\",\"\"),\"\"),\"\")","v":""},{"$f":"IFERROR(IF(AND(Kalkulacja!$D$2=\"x\",$J$115>0),(IF(INDEX(Kalkulacja!D:D,Q250)=\"x\",\"Nie-Elementor\",\"\")),\"\"),\"\")","v":""},{"$f":"IFERROR(INDEX('Podświetlanie modułów'!H:H,MATCH(G250,'Podświetlanie modułów'!F:F,0)),0)","v":0},{"$f":"IF(AO250*1>0,\"x\",IF(INDEX(Kalkulacja!A:A,Q250)=\"x\",\"x\",0))","v":0},"FALSE",{"$f":"MATCH(G250,Kalkulacja!$I$1:$I$416,0)","v":168},null,null,0,null,0,null,null,null,null,"Dodatkowy moduł 31",null,null,null,null,{"$f":"IFERROR(INDEX(Kalkulacja!V:V,Q250),0)","v":0},0,null,null,null,{"$f":"IFERROR(IF($J$115>0,INDEX(Kalkulacja!D:D,Q251),\"\"),\"\")","v":""},null,null,null,{"$f":"S250","v":0}]
[null,null,null,{"$f":"IFERROR(IF(N251>0,\"SUGEROWANE\",IF((INDEX(Kalkulacja!B:B,MATCH(G251,Kalkulacja!I:I,0)))=\"x\",\"USŁUGA\",\"\")),\"\")","v":""},"i",null,{"$f":"Kalkulacja!I169","v":"Dodatkowy moduł 32"},null,null,0,{"$f":"IFERROR(IF(Kalkulacja!$G$2=\"x\",INDEX(Kalkulacja!$Y$1:$Y$416,Q251),\"\"),\"\")","v":""},{"$f":"IFERROR(IF(Kalkulacja!$D$2=\"x\",IF(INDEX(Kalkulacja!J:J,Q250)=\"od\",\"od\",\"\"),\"\"),\"\")","v":""},{"$f":"IFERROR(IF(AND(Kalkulacja!$D$2=\"x\",$J$115>0),(IF(INDEX(Kalkulacja!D:D,Q251)=\"x\",\"Nie-Elementor\",\"\")),\"\"),\"\")","v":""},{"$f":"IFERROR(INDEX('Podświetlanie modułów'!H:H,MATCH(G251,'Podświetlanie modułów'!F:F,0)),0)","v":0},{"$f":"IF(AO251*1>0,\"x\",IF(INDEX(Kalkulacja!A:A,Q251)=\"x\",\"x\",0))","v":0},"FALSE",{"$f":"MATCH(G251,Kalkulacja!$I$1:$I$416,0)","v":169},null,null,0,null,0,null,null,null,null,"Dodatkowy moduł 32",null,null,null,null,{"$f":"IFERROR(INDEX(Kalkulacja!V:V,Q251),0)","v":0},0,null,null,null,{"$f":"IFERROR(IF($J$115>0,INDEX(Kalkulacja!D:D,Q252),\"\"),\"\")","v":""},null,null,null,{"$f":"S251","v":0}]
[null,null,null,{"$f":"IFERROR(IF(N252>0,\"SUGEROWANE\",IF((INDEX(Kalkulacja!B:B,MATCH(G252,Kalkulacja!I:I,0)))=\"x\",\"USŁUGA\",\"\")),\"\")","v":""},{"$f":"Kalkulacja!I170","v":"Rozszerzone informacje firmowe"},null,null,null,null,null,null,{"$f":"IFERROR(IF(Kalkulacja!$D$2=\"x\",IF(INDEX(Kalkulacja!J:J,Q251)=\"od\",\"od\",\"\"),\"\"),\"\")","v":""},{"$f":"IFERROR(IF(AND(Kalkulacja!$D$2=\"x\",$J$115>0),(IF(INDEX(Kalkulacja!D:D,Q252)=\"x\",\"Nie-Elementor\",\"\")),\"\"),\"\")","v":""},{"$f":"IFERROR(INDEX('Podświetlanie modułów'!H:H,MATCH(G252,'Podświetlanie modułów'!F:F,0)),0)","v":0},{"$f":"IF(COUNTIF(O253:O261,\"x\")>0,\"x\",0)","v":0},"FALSE",{"$f":"MATCH(E252,Kalkulacja!$I$1:$I$416,0)","v":170},null,null,0,null,0,null,null,null,null,0,null,null,null,null,{"$f":"IFERROR(INDEX(Kalkulacja!V:V,Q252),0)","v":0},0,null,null,null,{"$f":"IFERROR(IF($J$115>0,INDEX(Kalkulacja!D:D,Q253),\"\"),\"\")","v":""}]
[null,null,null,{"$f":"IFERROR(IF(N253>0,\"SUGEROWANE\",IF((INDEX(Kalkulacja!B:B,MATCH(G253,Kalkulacja!I:I,0)))=\"x\",\"USŁUGA\",\"\")),\"\")","v":""},"i",null,{"$f":"Kalkulacja!I171","v":"Linia czasu (historia)"},null,null,{"$f":"AO253*1","v":0},{"$f":"IFERROR(IF(Kalkulacja!$G$2=\"x\",INDEX(Kalkulacja!$Y$1:$Y$416,Q253),\"\"),\"\")","v":""},{"$f":"IFERROR(IF(Kalkulacja!$D$2=\"x\",IF(INDEX(Kalkulacja!J:J,Q252)=\"od\",\"od\",\"\"),\"\"),\"\")","v":""},{"$f":"IFERROR(IF(AND(Kalkulacja!$D$2=\"x\",$J$115>0),(IF(INDEX(Kalkulacja!D:D,Q253)=\"x\",\"Nie-Elementor\",\"\")),\"\"),\"\")","v":""},{"$f":"IFERROR(INDEX('Podświetlanie modułów'!H:H,MATCH(G253,'Podświetlanie modułów'!F:F,0)),0)","v":0},{"$f":"IF(AO253*1>0,\"x\",IF(INDEX(Kalkulacja!A:A,Q253)=\"x\",\"x\",0))","v":0},"FALSE",{"$f":"MATCH(G253,Kalkulacja!$I$1:$I$416,0)","v":171},null,null,0,null,0,null,null,null,null,"Linia czasu (historia)",null,null,null,null,{"$f":"IFERROR(INDEX(Kalkulacja!V:V,Q253),0)","v":0},0,null,null,null,{"$f":"IFERROR(IF($J$115>0,INDEX(Kalkulacja!D:D,Q254),\"\"),\"\")","v":""},null,null,null,false]
[null,null,null,{"$f":"IFERROR(IF(N254>0,\"SUGEROWANE\",IF((INDEX(Kalkulacja!B:B,MATCH(G254,Kalkulacja!I:I,0)))=\"x\",\"USŁUGA\",\"\")),\"\")","v":""},"i",null,{"$f":"Kalkulacja!I172","v":"Lista pracowników + strona o pracowniku"},null,null,0,{"$f":"IFERROR(IF(Kalkulacja!$G$2=\"x\",INDEX(Kalkulacja!$Y$1:$Y$416,Q254),\"\"),\"\")","v":""},{"$f":"IFERROR(IF(Kalkulacja!$D$2=\"x\",IF(INDEX(Kalkulacja!J:J,Q253)=\"od\",\"od\",\"\"),\"\"),\"\")","v":""},{"$f":"IFERROR(IF(AND(Kalkulacja!$D$2=\"x\",$J$115>0),(IF(INDEX(Kalkulacja!D:D,Q254)=\"x\",\"Nie-Elementor\",\"\")),\"\"),\"\")","v":""},{"$f":"IFERROR(INDEX('Podświetlanie modułów'!H:H,MATCH(G254,'Podświetlanie modułów'!F:F,0)),0)","v":0},{"$f":"IF(AO254*1>0,\"x\",IF(INDEX(Kalkulacja!A:A,Q254)=\"x\",\"x\",0))","v":0},"FALSE",{"$f":"MATCH(G254,Kalkulacja!$I$1:$I$416,0)","v":172},null,null,0,null,0,null,null,null,null,"Lista pracowników + strona o pracowniku",null,null,null,null,{"$f":"IFERROR(INDEX(Kalkulacja!V:V,Q254),0)","v":0},0,null,null,null,{"$f":"IFERROR(IF($J$115>0,INDEX(Kalkulacja!D:D,Q255),\"\"),\"\")","v":""},null,null,null,false]
[null,null,null,{"$f":"IFERROR(IF(N255>0,\"SUGEROWANE\",IF((INDEX(Kalkulacja!B:B,MATCH(G255,Kalkulacja!I:I,0)))=\"x\",\"USŁUGA\",\"\")),\"\")","v":""},"i",null,{"$f":"Kalkulacja!I173","v":"Mapa lokalizacji sklepów / oddziałów"},null,null,0,{"$f":"IFERROR(IF(Kalkulacja!$G$2=\"x\",INDEX(Kalkulacja!$Y$1:$Y$416,Q255),\"\"),\"\")","v":""},{"$f":"IFERROR(IF(Kalkulacja!$D$2=\"x\",IF(INDEX(Kalkulacja!J:J,Q254)=\"od\",\"od\",\"\"),\"\"),\"\")","v":""},{"$f":"IFERROR(IF(AND(Kalkulacja!$D$2=\"x\",$J$115>0),(IF(INDEX(Kalkulacja!D:D,Q255)=\"x\",\"Nie-Elementor\",\"\")),\"\"),\"\")","v":""},{"$f":"IFERROR(INDEX('Podświetlanie modułów'!H:H,MATCH(G255,'Podświetlanie modułów'!F:F,0)),0)","v":0},{"$f":"IF(AO255*1>0,\"x\",IF(INDEX(Kalkulacja!A:A,Q255)=\"x\",\"x\",0))","v":0},"FALSE",{"$f":"MATCH(G255,Kalkulacja!$I$1:$I$416,0)","v":173},null,null,0,null,0,null,null,null,null,"Mapa lokalizacji sklepów / oddziałów",null,null,null,null,{"$f":"IFERROR(INDEX(Kalkulacja!V:V,Q255),0)","v":0},0,null,null,null,{"$f":"IFERROR(IF($J$115>0,INDEX(Kalkulacja!D:D,Q256),\"\"),\"\")","v":""},null,null,null,false]
[null,null,null,{"$f":"IFERROR(IF(N256>0,\"SUGEROWANE\",IF((INDEX(Kalkulacja!B:B,MATCH(G256,Kalkulacja!I:I,0)))=\"x\",\"USŁUGA\",\"\")),\"\")","v":""},"i",null,{"$f":"Kalkulacja!I174","v":"Moduł opinii"},null,null,0,{"$f":"IFERROR(IF(Kalkulacja!$G$2=\"x\",INDEX(Kalkulacja!$Y$1:$Y$416,Q256),\"\"),\"\")","v":""},{"$f":"IFERROR(IF(Kalkulacja!$D$2=\"x\",IF(INDEX(Kalkulacja!J:J,Q255)=\"od\",\"od\",\"\"),\"\"),\"\")","v":""},{"$f":"IFERROR(IF(AND(Kalkulacja!$D$2=\"x\",$J$115>0),(IF(INDEX(Kalkulacja!D:D,Q256)=\"x\",\"Nie-Elementor\",\"\")),\"\"),\"\")","v":""},{"$f":"IFERROR(INDEX('Podświetlanie modułów'!H:H,MATCH(G256,'Podświetlanie modułów'!F:F,0)),0)","v":0},{"$f":"IF(AO256*1>0,\"x\",IF(INDEX(Kalkulacja!A:A,Q256)=\"x\",\"x\",0))","v":0},"FALSE",{"$f":"MATCH(G256,Kalkulacja!$I$1:$I$416,0)","v":174},null,null,0,null,0,null,null,null,null,{"$f":"G256","v":"Moduł opinii"},null,null,null,null,{"$f":"IFERROR(INDEX(Kalkulacja!V:V,Q256),0)","v":0},0,null,null,null,{"$f":"IFERROR(IF($J$115>0,INDEX(Kalkulacja!D:D,Q257),\"\"),\"\")","v":""},null,null,null,false]
[null,null,null,{"$f":"IFERROR(IF(N257>0,\"SUGEROWANE\",IF((INDEX(Kalkulacja!B:B,MATCH(G257,Kalkulacja!I:I,0)))=\"x\",\"USŁUGA\",\"\")),\"\")","v":""},"i",null,{"$f":"Kalkulacja!I175","v":"Oferty pracy + formularz aplikacji"},null,null,0,{"$f":"IFERROR(IF(Kalkulacja!$G$2=\"x\",INDEX(Kalkulacja!$Y$1:$Y$416,Q257),\"\"),\"\")","v":""},{"$f":"IFERROR(IF(Kalkulacja!$D$2=\"x\",IF(INDEX(Kalkulacja!J:J,Q256)=\"od\",\"od\",\"\"),\"\"),\"\")","v":""},{"$f":"IFERROR(IF(AND(Kalkulacja!$D$2=\"x\",$J$115>0),(IF(INDEX(Kalkulacja!D:D,Q257)=\"x\",\"Nie-Elementor\",\"\")),\"\"),\"\")","v":""},{"$f":"IFERROR(INDEX('Podświetlanie modułów'!H:H,MATCH(G257,'Podświetlanie modułów'!F:F,0)),0)","v":0},{"$f":"IF(AO257*1>0,\"x\",IF(INDEX(Kalkulacja!A:A,Q257)=\"x\",\"x\",0))","v":0},"FALSE",{"$f":"MATCH(G257,Kalkulacja!$I$1:$I$416,0)","v":175},null,null,0,null,0,null,null,null,null,"Oferty pracy + formularz aplikacji",null,null,null,null,{"$f":"IFERROR(INDEX(Kalkulacja!V:V,Q257),0)","v":0},0,null,null,null,{"$f":"IFERROR(IF($J$115>0,INDEX(Kalkulacja!D:D,Q258),\"\"),\"\")","v":""},null,null,null,false]
[null,null,null,{"$f":"IFERROR(IF(N258>0,\"SUGEROWANE\",IF((INDEX(Kalkulacja!B:B,MATCH(G258,Kalkulacja!I:I,0)))=\"x\",\"USŁUGA\",\"\")),\"\")","v":""},"i",null,{"$f":"Kalkulacja!I176","v":"Przetargi"},null,null,0,{"$f":"IFERROR(IF(Kalkulacja!$G$2=\"x\",INDEX(Kalkulacja!$Y$1:$Y$416,Q258),\"\"),\"\")","v":""},{"$f":"IFERROR(IF(Kalkulacja!$D$2=\"x\",IF(INDEX(Kalkulacja!J:J,Q257)=\"od\",\"od\",\"\"),\"\"),\"\")","v":""},{"$f":"IFERROR(IF(AND(Kalkulacja!$D$2=\"x\",$J$115>0),(IF(INDEX(Kalkulacja!D:D,Q258)=\"x\",\"Nie-Elementor\",\"\")),\"\"),\"\")","v":""},{"$f":"IFERROR(INDEX('Podświetlanie modułów'!H:H,MATCH(G258,'Podświetlanie modułów'!F:F,0)),0)","v":0},{"$f":"IF(AO258*1>0,\"x\",IF(INDEX(Kalkulacja!A:A,Q258)=\"x\",\"x\",0))","v":0},"FALSE",{"$f":"MATCH(G258,Kalkulacja!$I$1:$I$416,0)","v":176},null,null,0,null,0,null,null,null,null,"Przetargi",null,null,null,null,{"$f":"IFERROR(INDEX(Kalkulacja!V:V,Q258),0)","v":0},0,null,null,null,{"$f":"IFERROR(IF($J$115>0,INDEX(Kalkulacja!D:D,Q259),\"\"),\"\")","v":""},null,null,null,false]
[null,null,null,{"$f":"IFERROR(IF(N259>0,\"SUGEROWANE\",IF((INDEX(Kalkulacja!B:B,MATCH(G259,Kalkulacja!I:I,0)))=\"x\",\"USŁUGA\",\"\")),\"\")","v":""},"i",null,{"$f":"Kalkulacja!I177","v":"Dodatkowy moduł 33"},null,null,0,{"$f":"IFERROR(IF(Kalkulacja!$G$2=\"x\",INDEX(Kalkulacja!$Y$1:$Y$416,Q259),\"\"),\"\")","v":""},{"$f":"IFERROR(IF(Kalkulacja!$D$2=\"x\",IF(INDEX(Kalkulacja!J:J,Q258)=\"od\",\"od\",\"\"),\"\"),\"\")","v":""},{"$f":"IFERROR(IF(AND(Kalkulacja!$D$2=\"x\",$J$115>0),(IF(INDEX(Kalkulacja!D:D,Q259)=\"x\",\"Nie-Elementor\",\"\")),\"\"),\"\")","v":""},{"$f":"IFERROR(INDEX('Podświetlanie modułów'!H:H,MATCH(G259,'Podświetlanie modułów'!F:F,0)),0)","v":0},{"$f":"IF(AO259*1>0,\"x\",IF(INDEX(Kalkulacja!A:A,Q259)=\"x\",\"x\",0))","v":0},"FALSE",{"$f":"MATCH(G259,Kalkulacja!$I$1:$I$416,0)","v":177},null,null,0,null,0,null,null,null,null,"Dodatkowy moduł 33",null,null,null,null,{"$f":"IFERROR(INDEX(Kalkulacja!V:V,Q259),0)","v":0},0,null,null,null,{"$f":"IFERROR(IF($J$115>0,INDEX(Kalkulacja!D:D,Q260),\"\"),\"\")","v":""},null,null,null,{"$f":"S259","v":0}]
[null,null,null,{"$f":"IFERROR(IF(N260>0,\"SUGEROWANE\",IF((INDEX(Kalkulacja!B:B,MATCH(G260,Kalkulacja!I:I,0)))=\"x\",\"USŁUGA\",\"\")),\"\")","v":""},"i",null,{"$f":"Kalkulacja!I178","v":"Dodatkowy moduł 34"},null,null,0,{"$f":"IFERROR(IF(Kalkulacja!$G$2=\"x\",INDEX(Kalkulacja!$Y$1:$Y$416,Q260),\"\"),\"\")","v":""},{"$f":"IFERROR(IF(Kalkulacja!$D$2=\"x\",IF(INDEX(Kalkulacja!J:J,Q259)=\"od\",\"od\",\"\"),\"\"),\"\")","v":""},{"$f":"IFERROR(IF(AND(Kalkulacja!$D$2=\"x\",$J$115>0),(IF(INDEX(Kalkulacja!D:D,Q260)=\"x\",\"Nie-Elementor\",\"\")),\"\"),\"\")","v":""},{"$f":"IFERROR(INDEX('Podświetlanie modułów'!H:H,MATCH(G260,'Podświetlanie modułów'!F:F,0)),0)","v":0},{"$f":"IF(AO260*1>0,\"x\",IF(INDEX(Kalkulacja!A:A,Q260)=\"x\",\"x\",0))","v":0},"FALSE",{"$f":"MATCH(G260,Kalkulacja!$I$1:$I$416,0)","v":178},null,null,0,null,0,null,null,null,null,"Dodatkowy moduł 34",null,null,null,null,{"$f":"IFERROR(INDEX(Kalkulacja!V:V,Q260),0)","v":0},0,null,null,null,{"$f":"IFERROR(IF($J$115>0,INDEX(Kalkulacja!D:D,Q261),\"\"),\"\")","v":""},null,null,null,{"$f":"S260","v":0}]
[null,null,null,{"$f":"IFERROR(IF(N261>0,\"SUGEROWANE\",IF((INDEX(Kalkulacja!B:B,MATCH(G261,Kalkulacja!I:I,0)))=\"x\",\"USŁUGA\",\"\")),\"\")","v":""},"i",null,{"$f":"Kalkulacja!I179","v":"Dodatkowy moduł 35"},null,null,0,{"$f":"IFERROR(IF(Kalkulacja!$G$2=\"x\",INDEX(Kalkulacja!$Y$1:$Y$416,Q261),\"\"),\"\")","v":""},{"$f":"IFERROR(IF(Kalkulacja!$D$2=\"x\",IF(INDEX(Kalkulacja!J:J,Q260)=\"od\",\"od\",\"\"),\"\"),\"\")","v":""},{"$f":"IFERROR(IF(AND(Kalkulacja!$D$2=\"x\",$J$115>0),(IF(INDEX(Kalkulacja!D:D,Q261)=\"x\",\"Nie-Elementor\",\"\")),\"\"),\"\")","v":""},{"$f":"IFERROR(INDEX('Podświetlanie modułów'!H:H,MATCH(G261,'Podświetlanie modułów'!F:F,0)),0)","v":0},{"$f":"IF(AO261*1>0,\"x\",IF(INDEX(Kalkulacja!A:A,Q261)=\"x\",\"x\",0))","v":0},"FALSE",{"$f":"MATCH(G261,Kalkulacja!$I$1:$I$416,0)","v":179},null,null,0,null,0,null,null,null,null,"Dodatkowy moduł 35",null,null,null,null,{"$f":"IFERROR(INDEX(Kalkulacja!V:V,Q261),0)","v":0},0,null,null,null,{"$f":"IFERROR(IF($J$115>0,INDEX(Kalkulacja!D:D,Q262),\"\"),\"\")","v":""},null,null,null,{"$f":"S261","v":0}]
[null,null,null,{"$f":"IFERROR(IF(N262>0,\"SUGEROWANE\",IF((INDEX(Kalkulacja!B:B,MATCH(G262,Kalkulacja!I:I,0)))=\"x\",\"USŁUGA\",\"\")),\"\")","v":""},{"$f":"Kalkulacja!I180","v":"Powiadomienia i chat"},null,null,null,null,null,null,{"$f":"IFERROR(IF(Kalkulacja!$D$2=\"x\",IF(INDEX(Kalkulacja!J:J,Q261)=\"od\",\"od\",\"\"),\"\"),\"\")","v":""},{"$f":"IFERROR(IF(AND(Kalkulacja!$D$2=\"x\",$J$115>0),(IF(INDEX(Kalkulacja!D:D,Q262)=\"x\",\"Nie-Elementor\",\"\")),\"\"),\"\")","v":""},{"$f":"IFERROR(INDEX('Podświetlanie modułów'!H:H,MATCH(G262,'Podświetlanie modułów'!F:F,0)),0)","v":0},{"$f":"IF(COUNTIF(O263:O268,\"x\")>0,\"x\",0)","v":"x"},"TRUE",{"$f":"MATCH(E262,Kalkulacja!$I$1:$I$416,0)","v":180},null,null,0,null,0,null,null,null,null,0,null,null,null,null,{"$f":"IFERROR(INDEX(Kalkulacja!V:V,Q262),0)","v":0},0,null,null,null,{"$f":"IFERROR(IF($J$115>0,INDEX(Kalkulacja!D:D,Q263),\"\"),\"\")","v":""}]
[null,null,null,{"$f":"IFERROR(IF(N263>0,\"SUGEROWANE\",IF((INDEX(Kalkulacja!B:B,MATCH(G263,Kalkulacja!I:I,0)))=\"x\",\"USŁUGA\",\"\")),\"\")","v":""},"i",null,{"$f":"Kalkulacja!I181","v":"Powiadomienia Web Push (implementacja)"},null,null,{"$f":"AO263*1","v":0},{"$f":"IFERROR(IF(Kalkulacja!$G$2=\"x\",INDEX(Kalkulacja!$Y$1:$Y$416,Q263),\"\"),\"\")","v":""},{"$f":"IFERROR(IF(Kalkulacja!$D$2=\"x\",IF(INDEX(Kalkulacja!J:J,Q262)=\"od\",\"od\",\"\"),\"\"),\"\")","v":""},{"$f":"IFERROR(IF(AND(Kalkulacja!$D$2=\"x\",$J$115>0),(IF(INDEX(Kalkulacja!D:D,Q263)=\"x\",\"Nie-Elementor\",\"\")),\"\"),\"\")","v":""},{"$f":"IFERROR(INDEX('Podświetlanie modułów'!H:H,MATCH(G263,'Podświetlanie modułów'!F:F,0)),0)","v":0},{"$f":"IF(AO263*1>0,\"x\",IF(INDEX(Kalkulacja!A:A,Q263)=\"x\",\"x\",0))","v":"x"},"TRUE",{"$f":"MATCH(G263,Kalkulacja!$I$1:$I$416,0)","v":181},null,null,0,null,0,null,null,null,null,"Powiadomienia Web Push (implementacja)",null,null,null,null,{"$f":"IFERROR(INDEX(Kalkulacja!V:V,Q263),0)","v":0},0,null,null,null,{"$f":"IFERROR(IF($J$115>0,INDEX(Kalkulacja!D:D,Q264),\"\"),\"\")","v":""},null,null,null,false]
[null,null,null,{"$f":"IFERROR(IF(N264>0,\"SUGEROWANE\",IF((INDEX(Kalkulacja!B:B,MATCH(G264,Kalkulacja!I:I,0)))=\"x\",\"USŁUGA\",\"\")),\"\")","v":""},"i",null,{"$f":"Kalkulacja!I182","v":"Chat na stronie np.czater  (implementacja)"},null,null,0,{"$f":"IFERROR(IF(Kalkulacja!$G$2=\"x\",INDEX(Kalkulacja!$Y$1:$Y$416,Q264),\"\"),\"\")","v":""},{"$f":"IFERROR(IF(Kalkulacja!$D$2=\"x\",IF(INDEX(Kalkulacja!J:J,Q263)=\"od\",\"od\",\"\"),\"\"),\"\")","v":""},{"$f":"IFERROR(IF(AND(Kalkulacja!$D$2=\"x\",$J$115>0),(IF(INDEX(Kalkulacja!D:D,Q264)=\"x\",\"Nie-Elementor\",\"\")),\"\"),\"\")","v":""},{"$f":"IFERROR(INDEX('Podświetlanie modułów'!H:H,MATCH(G264,'Podświetlanie modułów'!F:F,0)),0)","v":0},{"$f":"IF(AO264*1>0,\"x\",IF(INDEX(Kalkulacja!A:A,Q264)=\"x\",\"x\",0))","v":"x"},"TRUE",{"$f":"MATCH(G264,Kalkulacja!$I$1:$I$416,0)","v":182},null,null,0,null,0,null,null,null,null,"Chat na stronie np.czater  (implementacja)",null,null,null,null,{"$f":"IFERROR(INDEX(Kalkulacja!V:V,Q264),0)","v":0},0,null,null,null,{"$f":"IFERROR(IF($J$115>0,INDEX(Kalkulacja!D:D,Q265),\"\"),\"\")","v":""},null,null,null,false]
[null,null,null,{"$f":"IFERROR(IF(N265>0,\"SUGEROWANE\",IF((INDEX(Kalkulacja!B:B,MATCH(G265,Kalkulacja!I:I,0)))=\"x\",\"USŁUGA\",\"\")),\"\")","v":""},"i",null,{"$f":"Kalkulacja!I183","v":"Messenger na stronie (implementacja)"},null,null,0,{"$f":"IFERROR(IF(Kalkulacja!$G$2=\"x\",INDEX(Kalkulacja!$Y$1:$Y$416,Q265),\"\"),\"\")","v":""},{"$f":"IFERROR(IF(Kalkulacja!$D$2=\"x\",IF(INDEX(Kalkulacja!J:J,Q264)=\"od\",\"od\",\"\"),\"\"),\"\")","v":""},{"$f":"IFERROR(IF(AND(Kalkulacja!$D$2=\"x\",$J$115>0),(IF(INDEX(Kalkulacja!D:D,Q265)=\"x\",\"Nie-Elementor\",\"\")),\"\"),\"\")","v":""},{"$f":"IFERROR(INDEX('Podświetlanie modułów'!H:H,MATCH(G265,'Podświetlanie modułów'!F:F,0)),0)","v":0},{"$f":"IF(AO265*1>0,\"x\",IF(INDEX(Kalkulacja!A:A,Q265)=\"x\",\"x\",0))","v":"x"},"TRUE",{"$f":"MATCH(G265,Kalkulacja!$I$1:$I$416,0)","v":183},null,null,0,null,0,null,null,null,null,"Messenger na stronie (implementacja)",null,null,null,null,{"$f":"IFERROR(INDEX(Kalkulacja!V:V,Q265),0)","v":0},0,null,null,null,{"$f":"IFERROR(IF($J$115>0,INDEX(Kalkulacja!D:D,Q266),\"\"),\"\")","v":""},null,null,null,false]
[null,null,null,{"$f":"IFERROR(IF(N266>0,\"SUGEROWANE\",IF((INDEX(Kalkulacja!B:B,MATCH(G266,Kalkulacja!I:I,0)))=\"x\",\"USŁUGA\",\"\")),\"\")","v":""},"i",null,{"$f":"Kalkulacja!I184","v":"Dodatkowy moduł 36"},null,null,0,{"$f":"IFERROR(IF(Kalkulacja!$G$2=\"x\",INDEX(Kalkulacja!$Y$1:$Y$416,Q266),\"\"),\"\")","v":""},{"$f":"IFERROR(IF(Kalkulacja!$D$2=\"x\",IF(INDEX(Kalkulacja!J:J,Q265)=\"od\",\"od\",\"\"),\"\"),\"\")","v":""},{"$f":"IFERROR(IF(AND(Kalkulacja!$D$2=\"x\",$J$115>0),(IF(INDEX(Kalkulacja!D:D,Q266)=\"x\",\"Nie-Elementor\",\"\")),\"\"),\"\")","v":""},{"$f":"IFERROR(INDEX('Podświetlanie modułów'!H:H,MATCH(G266,'Podświetlanie modułów'!F:F,0)),0)","v":0},{"$f":"IF(AO266*1>0,\"x\",IF(INDEX(Kalkulacja!A:A,Q266)=\"x\",\"x\",0))","v":0},"FALSE",{"$f":"MATCH(G266,Kalkulacja!$I$1:$I$416,0)","v":184},null,null,0,null,0,null,null,null,null,"Dodatkowy moduł 36",null,null,null,null,{"$f":"IFERROR(INDEX(Kalkulacja!V:V,Q266),0)","v":0},0,null,null,null,{"$f":"IFERROR(IF($J$115>0,INDEX(Kalkulacja!D:D,Q267),\"\"),\"\")","v":""},null,null,null,false]
[null,null,null,{"$f":"IFERROR(IF(N267>0,\"SUGEROWANE\",IF((INDEX(Kalkulacja!B:B,MATCH(G267,Kalkulacja!I:I,0)))=\"x\",\"USŁUGA\",\"\")),\"\")","v":""},"i",null,{"$f":"Kalkulacja!I185","v":"Dodatkowy moduł 37"},null,null,0,{"$f":"IFERROR(IF(Kalkulacja!$G$2=\"x\",INDEX(Kalkulacja!$Y$1:$Y$416,Q267),\"\"),\"\")","v":""},{"$f":"IFERROR(IF(Kalkulacja!$D$2=\"x\",IF(INDEX(Kalkulacja!J:J,Q266)=\"od\",\"od\",\"\"),\"\"),\"\")","v":""},{"$f":"IFERROR(IF(AND(Kalkulacja!$D$2=\"x\",$J$115>0),(IF(INDEX(Kalkulacja!D:D,Q267)=\"x\",\"Nie-Elementor\",\"\")),\"\"),\"\")","v":""},{"$f":"IFERROR(INDEX('Podświetlanie modułów'!H:H,MATCH(G267,'Podświetlanie modułów'!F:F,0)),0)","v":0},{"$f":"IF(AO267*1>0,\"x\",IF(INDEX(Kalkulacja!A:A,Q267)=\"x\",\"x\",0))","v":0},"FALSE",{"$f":"MATCH(G267,Kalkulacja!$I$1:$I$416,0)","v":185},null,null,0,null,0,null,null,null,null,"Dodatkowy moduł 37",null,null,null,null,{"$f":"IFERROR(INDEX(Kalkulacja!V:V,Q267),0)","v":0},0,null,null,null,{"$f":"IFERROR(IF($J$115>0,INDEX(Kalkulacja!D:D,Q268),\"\"),\"\")","v":""},null,null,null,{"$f":"S267","v":0}]
[null,null,null,{"$f":"IFERROR(IF(N268>0,\"SUGEROWANE\",IF((INDEX(Kalkulacja!B:B,MATCH(G268,Kalkulacja!I:I,0)))=\"x\",\"USŁUGA\",\"\")),\"\")","v":""},"i",null,{"$f":"Kalkulacja!I186","v":"Dodatkowy moduł 38"},null,null,0,{"$f":"IFERROR(IF(Kalkulacja!$G$2=\"x\",INDEX(Kalkulacja!$Y$1:$Y$416,Q268),\"\"),\"\")","v":""},{"$f":"IFERROR(IF(Kalkulacja!$D$2=\"x\",IF(INDEX(Kalkulacja!J:J,Q267)=\"od\",\"od\",\"\"),\"\"),\"\")","v":""},{"$f":"IFERROR(IF(AND(Kalkulacja!$D$2=\"x\",$J$115>0),(IF(INDEX(Kalkulacja!D:D,Q268)=\"x\",\"Nie-Elementor\",\"\")),\"\"),\"\")","v":""},{"$f":"IFERROR(INDEX('Podświetlanie modułów'!H:H,MATCH(G268,'Podświetlanie modułów'!F:F,0)),0)","v":0},{"$f":"IF(AO268*1>0,\"x\",IF(INDEX(Kalkulacja!A:A,Q268)=\"x\",\"x\",0))","v":0},"FALSE",{"$f":"MATCH(G268,Kalkulacja!$I$1:$I$416,0)","v":186},null,null,0,null,0,null,null,null,null,"Dodatkowy moduł 38",null,null,null,null,{"$f":"IFERROR(INDEX(Kalkulacja!V:V,Q268),0)","v":0},0,null,null,null,{"$f":"IFERROR(IF($J$115>0,INDEX(Kalkulacja!D:D,Q269),\"\"),\"\")","v":""},null,null,null,{"$f":"S268","v":0}]
[null,null,null,{"$f":"IFERROR(IF(N269>0,\"SUGEROWANE\",IF((INDEX(Kalkulacja!B:B,MATCH(G269,Kalkulacja!I:I,0)))=\"x\",\"USŁUGA\",\"\")),\"\")","v":""},{"$f":"Kalkulacja!I187","v":"Dodatkowe opcje"},null,null,null,null,null,null,{"$f":"IFERROR(IF(Kalkulacja!$D$2=\"x\",IF(INDEX(Kalkulacja!J:J,Q268)=\"od\",\"od\",\"\"),\"\"),\"\")","v":""},{"$f":"IFERROR(IF(AND(Kalkulacja!$D$2=\"x\",$J$115>0),(IF(INDEX(Kalkulacja!D:D,Q269)=\"x\",\"Nie-Elementor\",\"\")),\"\"),\"\")","v":""},{"$f":"IFERROR(INDEX('Podświetlanie modułów'!H:H,MATCH(G269,'Podświetlanie modułów'!F:F,0)),0)","v":0},{"$f":"IF(COUNTIF(O270:O275,\"x\")>0,\"x\",0)","v":0},"FALSE",{"$f":"MATCH(E269,Kalkulacja!$I$1:$I$416,0)","v":187},null,null,0,null,0,null,null,null,null,0,null,null,null,null,{"$f":"IFERROR(INDEX(Kalkulacja!V:V,Q269),0)","v":0},0,null,null,null,{"$f":"IFERROR(IF($J$115>0,INDEX(Kalkulacja!D:D,Q270),\"\"),\"\")","v":""}]
[null,null,null,{"$f":"IFERROR(IF(N270>0,\"SUGEROWANE\",IF((INDEX(Kalkulacja!B:B,MATCH(G270,Kalkulacja!I:I,0)))=\"x\",\"USŁUGA\",\"\")),\"\")","v":""},"i",null,{"$f":"Kalkulacja!I188","v":"Wersje językowe Google Translator"},null,null,{"$f":"AO270*1","v":0},{"$f":"IFERROR(IF(Kalkulacja!$G$2=\"x\",INDEX(Kalkulacja!$Y$1:$Y$416,Q270),\"\"),\"\")","v":""},{"$f":"IFERROR(IF(Kalkulacja!$D$2=\"x\",IF(INDEX(Kalkulacja!J:J,Q269)=\"od\",\"od\",\"\"),\"\"),\"\")","v":""},{"$f":"IFERROR(IF(AND(Kalkulacja!$D$2=\"x\",$J$115>0),(IF(INDEX(Kalkulacja!D:D,Q270)=\"x\",\"Nie-Elementor\",\"\")),\"\"),\"\")","v":""},{"$f":"IFERROR(INDEX('Podświetlanie modułów'!H:H,MATCH(G270,'Podświetlanie modułów'!F:F,0)),0)","v":0},{"$f":"IF(AO270*1>0,\"x\",IF(INDEX(Kalkulacja!A:A,Q270)=\"x\",\"x\",0))","v":0},"FALSE",{"$f":"MATCH(G270,Kalkulacja!$I$1:$I$416,0)","v":188},null,null,0,null,0,null,null,null,null,"Wersje językowe Google Translator",null,null,null,null,{"$f":"IFERROR(INDEX(Kalkulacja!V:V,Q270),0)","v":0},0,null,null,null,{"$f":"IFERROR(IF($J$115>0,INDEX(Kalkulacja!D:D,Q271),\"\"),\"\")","v":""},null,null,null,false]
[null,null,null,{"$f":"IFERROR(IF(N271>0,\"SUGEROWANE\",IF((INDEX(Kalkulacja!B:B,MATCH(G271,Kalkulacja!I:I,0)))=\"x\",\"USŁUGA\",\"\")),\"\")","v":""},"i",null,{"$f":"Kalkulacja!I189","v":"Tryby w header \"Klient indywidualny\" \"Klient biznesowy\""},null,null,0,{"$f":"IFERROR(IF(Kalkulacja!$G$2=\"x\",INDEX(Kalkulacja!$Y$1:$Y$416,Q271),\"\"),\"\")","v":""},{"$f":"IFERROR(IF(Kalkulacja!$D$2=\"x\",IF(INDEX(Kalkulacja!J:J,Q270)=\"od\",\"od\",\"\"),\"\"),\"\")","v":""},{"$f":"IFERROR(IF(AND(Kalkulacja!$D$2=\"x\",$J$115>0),(IF(INDEX(Kalkulacja!D:D,Q271)=\"x\",\"Nie-Elementor\",\"\")),\"\"),\"\")","v":""},{"$f":"IFERROR(INDEX('Podświetlanie modułów'!H:H,MATCH(G271,'Podświetlanie modułów'!F:F,0)),0)","v":0},{"$f":"IF(AO271*1>0,\"x\",IF(INDEX(Kalkulacja!A:A,Q271)=\"x\",\"x\",0))","v":0},"FALSE",{"$f":"MATCH(G271,Kalkulacja!$I$1:$I$416,0)","v":189},null,null,0,null,0,null,null,null,null,"Tryby w header \"Klient indywidualny\" \"Klient biznesowy\"",null,null,null,null,{"$f":"IFERROR(INDEX(Kalkulacja!V:V,Q271),0)","v":0},0,null,null,null,{"$f":"IFERROR(IF($J$115>0,INDEX(Kalkulacja!D:D,Q272),\"\"),\"\")","v":""},null,null,null,false]
[null,null,null,{"$f":"IFERROR(IF(N272>0,\"SUGEROWANE\",IF((INDEX(Kalkulacja!B:B,MATCH(G272,Kalkulacja!I:I,0)))=\"x\",\"USŁUGA\",\"\")),\"\")","v":""},"i",null,{"$f":"Kalkulacja!I190","v":"Powiększ litery kontrast"},null,null,0,{"$f":"IFERROR(IF(Kalkulacja!$G$2=\"x\",INDEX(Kalkulacja!$Y$1:$Y$416,Q272),\"\"),\"\")","v":""},{"$f":"IFERROR(IF(Kalkulacja!$D$2=\"x\",IF(INDEX(Kalkulacja!J:J,Q271)=\"od\",\"od\",\"\"),\"\"),\"\")","v":""},{"$f":"IFERROR(IF(AND(Kalkulacja!$D$2=\"x\",$J$115>0),(IF(INDEX(Kalkulacja!D:D,Q272)=\"x\",\"Nie-Elementor\",\"\")),\"\"),\"\")","v":""},{"$f":"IFERROR(INDEX('Podświetlanie modułów'!H:H,MATCH(G272,'Podświetlanie modułów'!F:F,0)),0)","v":0},{"$f":"IF(AO272*1>0,\"x\",IF(INDEX(Kalkulacja!A:A,Q272)=\"x\",\"x\",0))","v":0},"FALSE",{"$f":"MATCH(G272,Kalkulacja!$I$1:$I$416,0)","v":190},null,null,0,null,0,null,null,null,null,"Powiększ litery kontrast",null,null,null,null,{"$f":"IFERROR(INDEX(Kalkulacja!V:V,Q272),0)","v":0},0,null,null,null,{"$f":"IFERROR(IF($J$115>0,INDEX(Kalkulacja!D:D,Q273),\"\"),\"\")","v":""},null,null,null,false]
[null,null,null,{"$f":"IFERROR(IF(N273>0,\"SUGEROWANE\",IF((INDEX(Kalkulacja!B:B,MATCH(G273,Kalkulacja!I:I,0)))=\"x\",\"USŁUGA\",\"\")),\"\")","v":""},"i",null,{"$f":"Kalkulacja!I191","v":"Dodatkowy moduł 39"},null,null,0,{"$f":"IFERROR(IF(Kalkulacja!$G$2=\"x\",INDEX(Kalkulacja!$Y$1:$Y$416,Q273),\"\"),\"\")","v":""},{"$f":"IFERROR(IF(Kalkulacja!$D$2=\"x\",IF(INDEX(Kalkulacja!J:J,Q272)=\"od\",\"od\",\"\"),\"\"),\"\")","v":""},{"$f":"IFERROR(IF(AND(Kalkulacja!$D$2=\"x\",$J$115>0),(IF(INDEX(Kalkulacja!D:D,Q273)=\"x\",\"Nie-Elementor\",\"\")),\"\"),\"\")","v":""},{"$f":"IFERROR(INDEX('Podświetlanie modułów'!H:H,MATCH(G273,'Podświetlanie modułów'!F:F,0)),0)","v":0},{"$f":"IF(AO273*1>0,\"x\",IF(INDEX(Kalkulacja!A:A,Q273)=\"x\",\"x\",0))","v":0},"FALSE",{"$f":"MATCH(G273,Kalkulacja!$I$1:$I$416,0)","v":191},null,null,0,null,0,null,null,null,null,"Dodatkowy moduł 39",null,null,null,null,{"$f":"IFERROR(INDEX(Kalkulacja!V:V,Q273),0)","v":0},0,null,null,null,{"$f":"IFERROR(IF($J$115>0,INDEX(Kalkulacja!D:D,Q274),\"\"),\"\")","v":""},null,null,null,false]
[null,null,null,{"$f":"IFERROR(IF(N274>0,\"SUGEROWANE\",IF((INDEX(Kalkulacja!B:B,MATCH(G274,Kalkulacja!I:I,0)))=\"x\",\"USŁUGA\",\"\")),\"\")","v":""},"i",null,{"$f":"Kalkulacja!I192","v":"Dodatkowy moduł 40"},null,null,0,{"$f":"IFERROR(IF(Kalkulacja!$G$2=\"x\",INDEX(Kalkulacja!$Y$1:$Y$416,Q274),\"\"),\"\")","v":""},{"$f":"IFERROR(IF(Kalkulacja!$D$2=\"x\",IF(INDEX(Kalkulacja!J:J,Q273)=\"od\",\"od\",\"\"),\"\"),\"\")","v":""},{"$f":"IFERROR(IF(AND(Kalkulacja!$D$2=\"x\",$J$115>0),(IF(INDEX(Kalkulacja!D:D,Q274)=\"x\",\"Nie-Elementor\",\"\")),\"\"),\"\")","v":""},{"$f":"IFERROR(INDEX('Podświetlanie modułów'!H:H,MATCH(G274,'Podświetlanie modułów'!F:F,0)),0)","v":0},{"$f":"IF(AO274*1>0,\"x\",IF(INDEX(Kalkulacja!A:A,Q274)=\"x\",\"x\",0))","v":0},"FALSE",{"$f":"MATCH(G274,Kalkulacja!$I$1:$I$416,0)","v":192},null,null,0,null,0,null,null,null,null,"Dodatkowy moduł 40",null,null,null,null,{"$f":"IFERROR(INDEX(Kalkulacja!V:V,Q274),0)","v":0},0,null,null,null,{"$f":"IFERROR(IF($J$115>0,INDEX(Kalkulacja!D:D,Q275),\"\"),\"\")","v":""},null,null,null,{"$f":"S274","v":0}]
[null,null,null,{"$f":"IFERROR(IF(N275>0,\"SUGEROWANE\",IF((INDEX(Kalkulacja!B:B,MATCH(G275,Kalkulacja!I:I,0)))=\"x\",\"USŁUGA\",\"\")),\"\")","v":""},"i",null,{"$f":"Kalkulacja!I193","v":"Dodatkowy moduł 41"},null,null,0,{"$f":"IFERROR(IF(Kalkulacja!$G$2=\"x\",INDEX(Kalkulacja!$Y$1:$Y$416,Q275),\"\"),\"\")","v":""},{"$f":"IFERROR(IF(Kalkulacja!$D$2=\"x\",IF(INDEX(Kalkulacja!J:J,Q274)=\"od\",\"od\",\"\"),\"\"),\"\")","v":""},{"$f":"IFERROR(IF(AND(Kalkulacja!$D$2=\"x\",$J$115>0),(IF(INDEX(Kalkulacja!D:D,Q275)=\"x\",\"Nie-Elementor\",\"\")),\"\"),\"\")","v":""},{"$f":"IFERROR(INDEX('Podświetlanie modułów'!H:H,MATCH(G275,'Podświetlanie modułów'!F:F,0)),0)","v":0},{"$f":"IF(AO275*1>0,\"x\",IF(INDEX(Kalkulacja!A:A,Q275)=\"x\",\"x\",0))","v":0},"FALSE",{"$f":"MATCH(G275,Kalkulacja!$I$1:$I$416,0)","v":193},null,null,0,null,0,null,null,null,null,"Dodatkowy moduł 41",null,null,null,null,{"$f":"IFERROR(INDEX(Kalkulacja!V:V,Q275),0)","v":0},0,null,null,null,{"$f":"IFERROR(IF($J$115>0,INDEX(Kalkulacja!D:D,Q276),\"\"),\"\")","v":""},null,null,null,{"$f":"S275","v":0}]
[null,null,null,{"$f":"IFERROR(IF(N276>0,\"SUGEROWANE\",IF((INDEX(Kalkulacja!B:B,MATCH(G276,Kalkulacja!I:I,0)))=\"x\",\"USŁUGA\",\"\")),\"\")","v":""},{"$f":"Kalkulacja!I194","v":"Strefa dla klienta"},null,null,null,null,null,null,{"$f":"IFERROR(IF(Kalkulacja!$D$2=\"x\",IF(INDEX(Kalkulacja!J:J,Q275)=\"od\",\"od\",\"\"),\"\"),\"\")","v":""},{"$f":"IFERROR(IF(AND(Kalkulacja!$D$2=\"x\",$J$115>0),(IF(INDEX(Kalkulacja!D:D,Q276)=\"x\",\"Nie-Elementor\",\"\")),\"\"),\"\")","v":""},{"$f":"IFERROR(INDEX('Podświetlanie modułów'!H:H,MATCH(G276,'Podświetlanie modułów'!F:F,0)),0)","v":0},{"$f":"IF(COUNTIF(O277:O280,\"x\")>0,\"x\",0)","v":0},"FALSE",{"$f":"MATCH(E276,Kalkulacja!$I$1:$I$416,0)","v":194},null,null,0,null,0,null,null,null,null,0,null,null,null,null,{"$f":"IFERROR(INDEX(Kalkulacja!V:V,Q276),0)","v":0},0,null,null,null,{"$f":"IFERROR(IF($J$115>0,INDEX(Kalkulacja!D:D,Q277),\"\"),\"\")","v":""}]
[null,null,null,{"$f":"IFERROR(IF(N277>0,\"SUGEROWANE\",IF((INDEX(Kalkulacja!B:B,MATCH(G277,Kalkulacja!I:I,0)))=\"x\",\"USŁUGA\",\"\")),\"\")","v":""},"i",null,{"$f":"Kalkulacja!I195","v":"Repozytorium plików dla zalogowanych"},null,null,{"$f":"AO277*1","v":0},{"$f":"IFERROR(IF(Kalkulacja!$G$2=\"x\",INDEX(Kalkulacja!$Y$1:$Y$416,Q277),\"\"),\"\")","v":""},{"$f":"IFERROR(IF(Kalkulacja!$D$2=\"x\",IF(INDEX(Kalkulacja!J:J,Q276)=\"od\",\"od\",\"\"),\"\"),\"\")","v":""},{"$f":"IFERROR(IF(AND(Kalkulacja!$D$2=\"x\",$J$115>0),(IF(INDEX(Kalkulacja!D:D,Q277)=\"x\",\"Nie-Elementor\",\"\")),\"\"),\"\")","v":""},{"$f":"IFERROR(INDEX('Podświetlanie modułów'!H:H,MATCH(G277,'Podświetlanie modułów'!F:F,0)),0)","v":0},{"$f":"IF(AO277*1>0,\"x\",IF(INDEX(Kalkulacja!A:A,Q277)=\"x\",\"x\",0))","v":0},"FALSE",{"$f":"MATCH(G277,Kalkulacja!$I$1:$I$416,0)","v":195},null,null,0,null,0,null,null,null,null,"Repozytorium plików dla zalogowanych",null,null,null,null,{"$f":"IFERROR(INDEX(Kalkulacja!V:V,Q277),0)","v":0},0,null,null,null,{"$f":"IFERROR(IF($J$115>0,INDEX(Kalkulacja!D:D,Q278),\"\"),\"\")","v":""},null,null,null,false]
[null,null,null,{"$f":"IFERROR(IF(N278>0,\"SUGEROWANE\",IF((INDEX(Kalkulacja!B:B,MATCH(G278,Kalkulacja!I:I,0)))=\"x\",\"USŁUGA\",\"\")),\"\")","v":""},"i",null,{"$f":"Kalkulacja!I196","v":"Panel logowania dla klientów"},null,null,{"$f":"AO278*1","v":0},{"$f":"IFERROR(IF(Kalkulacja!$G$2=\"x\",INDEX(Kalkulacja!$Y$1:$Y$416,Q278),\"\"),\"\")","v":""},{"$f":"IFERROR(IF(Kalkulacja!$D$2=\"x\",IF(INDEX(Kalkulacja!J:J,Q277)=\"od\",\"od\",\"\"),\"\"),\"\")","v":""},{"$f":"IFERROR(IF(AND(Kalkulacja!$D$2=\"x\",$J$115>0),(IF(INDEX(Kalkulacja!D:D,Q278)=\"x\",\"Nie-Elementor\",\"\")),\"\"),\"\")","v":""},{"$f":"IFERROR(INDEX('Podświetlanie modułów'!H:H,MATCH(G278,'Podświetlanie modułów'!F:F,0)),0)","v":0},{"$f":"IF(AO278*1>0,\"x\",IF(INDEX(Kalkulacja!A:A,Q278)=\"x\",\"x\",0))","v":0},"FALSE",{"$f":"MATCH(G278,Kalkulacja!$I$1:$I$416,0)","v":196},null,null,{"$f":"U278","v":0},null,{"$f":"AG278","v":0},null,null,null,null,"Panel logowania dla klientów",null,null,null,null,{"$f":"IFERROR(INDEX(Kalkulacja!V:V,Q278),0)","v":0},0,null,null,null,{"$f":"IFERROR(IF($J$115>0,INDEX(Kalkulacja!D:D,Q279),\"\"),\"\")","v":""},null,null,null,false]
[null,null,null,{"$f":"IFERROR(IF(N279>0,\"SUGEROWANE\",IF((INDEX(Kalkulacja!B:B,MATCH(G279,Kalkulacja!I:I,0)))=\"x\",\"USŁUGA\",\"\")),\"\")","v":""},"i",null,{"$f":"Kalkulacja!I197","v":"Dodatkowy moduł 42"},null,null,{"$f":"AO279*1","v":0},{"$f":"IFERROR(IF(Kalkulacja!$G$2=\"x\",INDEX(Kalkulacja!$Y$1:$Y$416,Q279),\"\"),\"\")","v":""},{"$f":"IFERROR(IF(Kalkulacja!$D$2=\"x\",IF(INDEX(Kalkulacja!J:J,Q278)=\"od\",\"od\",\"\"),\"\"),\"\")","v":""},{"$f":"IFERROR(IF(AND(Kalkulacja!$D$2=\"x\",$J$115>0),(IF(INDEX(Kalkulacja!D:D,Q279)=\"x\",\"Nie-Elementor\",\"\")),\"\"),\"\")","v":""},{"$f":"IFERROR(INDEX('Podświetlanie modułów'!H:H,MATCH(G279,'Podświetlanie modułów'!F:F,0)),0)","v":0},{"$f":"IF(AO279*1>0,\"x\",IF(INDEX(Kalkulacja!A:A,Q279)=\"x\",\"x\",0))","v":0},"FALSE",{"$f":"MATCH(G279,Kalkulacja!$I$1:$I$416,0)","v":197},null,null,0,null,0,null,null,null,null,"Dodatkowy moduł 42",null,null,null,null,{"$f":"IFERROR(INDEX(Kalkulacja!V:V,Q279),0)","v":0},0,null,null,null,{"$f":"IFERROR(IF($J$115>0,INDEX(Kalkulacja!D:D,Q280),\"\"),\"\")","v":""},null,null,null,{"$f":"S279","v":0}]
[null,null,null,{"$f":"IFERROR(IF(N280>0,\"SUGEROWANE\",IF((INDEX(Kalkulacja!B:B,MATCH(G280,Kalkulacja!I:I,0)))=\"x\",\"USŁUGA\",\"\")),\"\")","v":""},"i",null,{"$f":"Kalkulacja!I198","v":"Dodatkowy moduł 43"},null,null,{"$f":"AO280*1","v":0},{"$f":"IFERROR(IF(Kalkulacja!$G$2=\"x\",INDEX(Kalkulacja!$Y$1:$Y$416,Q280),\"\"),\"\")","v":""},{"$f":"IFERROR(IF(Kalkulacja!$D$2=\"x\",IF(INDEX(Kalkulacja!J:J,Q279)=\"od\",\"od\",\"\"),\"\"),\"\")","v":""},{"$f":"IFERROR(IF(AND(Kalkulacja!$D$2=\"x\",$J$115>0),(IF(INDEX(Kalkulacja!D:D,Q280)=\"x\",\"Nie-Elementor\",\"\")),\"\"),\"\")","v":""},{"$f":"IFERROR(INDEX('Podświetlanie modułów'!H:H,MATCH(G280,'Podświetlanie modułów'!F:F,0)),0)","v":0},{"$f":"IF(AO280*1>0,\"x\",IF(INDEX(Kalkulacja!A:A,Q280)=\"x\",\"x\",0))","v":0},"FALSE",{"$f":"MATCH(G280,Kalkulacja!$I$1:$I$416,0)","v":198},null,null,0,null,0,null,null,null,null,"Dodatkowy moduł 43",null,null,null,null,{"$f":"IFERROR(INDEX(Kalkulacja!V:V,Q280),0)","v":0},0,null,null,null,{"$f":"IFERROR(IF($J$115>0,INDEX(Kalkulacja!D:D,Q281),\"\"),\"\")","v":""},null,null,null,{"$f":"S280","v":0}]
[null,null,null,{"$f":"IFERROR(IF(N281>0,\"SUGEROWANE\",IF((INDEX(Kalkulacja!B:B,MATCH(G281,Kalkulacja!I:I,0)))=\"x\",\"USŁUGA\",\"\")),\"\")","v":""},{"$f":"Kalkulacja!I199","v":"Płatności"},null,null,null,null,null,null,{"$f":"IFERROR(IF(Kalkulacja!$D$2=\"x\",IF(INDEX(Kalkulacja!J:J,Q280)=\"od\",\"od\",\"\"),\"\"),\"\")","v":""},{"$f":"IFERROR(IF(AND(Kalkulacja!$D$2=\"x\",$J$115>0),(IF(INDEX(Kalkulacja!D:D,Q281)=\"x\",\"Nie-Elementor\",\"\")),\"\"),\"\")","v":""},{"$f":"IFERROR(INDEX('Podświetlanie modułów'!H:H,MATCH(G281,'Podświetlanie modułów'!F:F,0)),0)","v":0},{"$f":"IF(COUNTIF(O282:O285,\"x\")>0,\"x\",0)","v":0},"FALSE",{"$f":"MATCH(E281,Kalkulacja!$I$1:$I$416,0)","v":199},null,null,0,null,0,null,null,null,null,0,null,null,null,null,{"$f":"IFERROR(INDEX(Kalkulacja!V:V,Q281),0)","v":0},0,null,null,null,{"$f":"IFERROR(IF($J$115>0,INDEX(Kalkulacja!D:D,Q282),\"\"),\"\")","v":""}]
[null,null,null,{"$f":"IFERROR(IF(N282>0,\"SUGEROWANE\",IF((INDEX(Kalkulacja!B:B,MATCH(G282,Kalkulacja!I:I,0)))=\"x\",\"USŁUGA\",\"\")),\"\")","v":""},"i",null,{"$f":"Kalkulacja!I200","v":"Szybka płatność (przelewy24)"},null,null,{"$f":"AO282*1","v":0},{"$f":"IFERROR(IF(Kalkulacja!$G$2=\"x\",INDEX(Kalkulacja!$Y$1:$Y$416,Q282),\"\"),\"\")","v":""},{"$f":"IFERROR(IF(Kalkulacja!$D$2=\"x\",IF(INDEX(Kalkulacja!J:J,Q281)=\"od\",\"od\",\"\"),\"\"),\"\")","v":""},{"$f":"IFERROR(IF(AND(Kalkulacja!$D$2=\"x\",$J$115>0),(IF(INDEX(Kalkulacja!D:D,Q282)=\"x\",\"Nie-Elementor\",\"\")),\"\"),\"\")","v":""},{"$f":"IFERROR(INDEX('Podświetlanie modułów'!H:H,MATCH(G282,'Podświetlanie modułów'!F:F,0)),0)","v":0},{"$f":"IF(AO282*1>0,\"x\",IF(INDEX(Kalkulacja!A:A,Q282)=\"x\",\"x\",0))","v":0},"FALSE",{"$f":"MATCH(G282,Kalkulacja!$I$1:$I$416,0)","v":200},null,null,0,null,0,null,null,null,null,"Szybka płatność (przelewy24)",null,null,null,null,{"$f":"IFERROR(INDEX(Kalkulacja!V:V,Q282),0)","v":0},0,null,null,null,{"$f":"IFERROR(IF($J$115>0,INDEX(Kalkulacja!D:D,Q283),\"\"),\"\")","v":""},null,null,null,false]
[null,null,null,{"$f":"IFERROR(IF(N283>0,\"SUGEROWANE\",IF((INDEX(Kalkulacja!B:B,MATCH(G283,Kalkulacja!I:I,0)))=\"x\",\"USŁUGA\",\"\")),\"\")","v":""},"i",null,{"$f":"Kalkulacja!I201","v":"Przelew darowizny "},null,null,{"$f":"AO283*1","v":0},{"$f":"IFERROR(IF(Kalkulacja!$G$2=\"x\",INDEX(Kalkulacja!$Y$1:$Y$416,Q283),\"\"),\"\")","v":""},{"$f":"IFERROR(IF(Kalkulacja!$D$2=\"x\",IF(INDEX(Kalkulacja!J:J,Q282)=\"od\",\"od\",\"\"),\"\"),\"\")","v":""},{"$f":"IFERROR(IF(AND(Kalkulacja!$D$2=\"x\",$J$115>0),(IF(INDEX(Kalkulacja!D:D,Q283)=\"x\",\"Nie-Elementor\",\"\")),\"\"),\"\")","v":""},{"$f":"IFERROR(INDEX('Podświetlanie modułów'!H:H,MATCH(G283,'Podświetlanie modułów'!F:F,0)),0)","v":0},{"$f":"IF(AO283*1>0,\"x\",IF(INDEX(Kalkulacja!A:A,Q283)=\"x\",\"x\",0))","v":0},"FALSE",{"$f":"MATCH(G283,Kalkulacja!$I$1:$I$416,0)","v":201},null,null,0,null,0,null,null,null,null,"Przelew darowizny ",null,null,null,null,{"$f":"IFERROR(INDEX(Kalkulacja!V:V,Q283),0)","v":0},0,null,null,null,{"$f":"IFERROR(IF($J$115>0,INDEX(Kalkulacja!D:D,Q284),\"\"),\"\")","v":""},null,null,null,false]
[null,null,null,{"$f":"IFERROR(IF(N284>0,\"SUGEROWANE\",IF((INDEX(Kalkulacja!B:B,MATCH(G284,Kalkulacja!I:I,0)))=\"x\",\"USŁUGA\",\"\")),\"\")","v":""},"i",null,{"$f":"Kalkulacja!I202","v":"Dodatkowy moduł 44"},null,null,{"$f":"AO284*1","v":0},{"$f":"IFERROR(IF(Kalkulacja!$G$2=\"x\",INDEX(Kalkulacja!$Y$1:$Y$416,Q284),\"\"),\"\")","v":""},{"$f":"IFERROR(IF(Kalkulacja!$D$2=\"x\",IF(INDEX(Kalkulacja!J:J,Q283)=\"od\",\"od\",\"\"),\"\"),\"\")","v":""},{"$f":"IFERROR(IF(AND(Kalkulacja!$D$2=\"x\",$J$115>0),(IF(INDEX(Kalkulacja!D:D,Q284)=\"x\",\"Nie-Elementor\",\"\")),\"\"),\"\")","v":""},{"$f":"IFERROR(INDEX('Podświetlanie modułów'!H:H,MATCH(G284,'Podświetlanie modułów'!F:F,0)),0)","v":0},{"$f":"IF(AO284*1>0,\"x\",IF(INDEX(Kalkulacja!A:A,Q284)=\"x\",\"x\",0))","v":0},"FALSE",{"$f":"MATCH(G284,Kalkulacja!$I$1:$I$416,0)","v":202},null,null,0,null,0,null,null,null,null,"Dodatkowy moduł 44",null,null,null,null,{"$f":"IFERROR(INDEX(Kalkulacja!V:V,Q284),0)","v":0},0,null,null,null,{"$f":"IFERROR(IF($J$115>0,INDEX(Kalkulacja!D:D,Q285),\"\"),\"\")","v":""},null,null,null,false]
[null,null,null,{"$f":"IFERROR(IF(N285>0,\"SUGEROWANE\",IF((INDEX(Kalkulacja!B:B,MATCH(G285,Kalkulacja!I:I,0)))=\"x\",\"USŁUGA\",\"\")),\"\")","v":""},"i",null,{"$f":"Kalkulacja!I203","v":"Dodatkowy moduł 45"},null,null,{"$f":"AO285*1","v":0},{"$f":"IFERROR(IF(Kalkulacja!$G$2=\"x\",INDEX(Kalkulacja!$Y$1:$Y$416,Q285),\"\"),\"\")","v":""},{"$f":"IFERROR(IF(Kalkulacja!$D$2=\"x\",IF(INDEX(Kalkulacja!J:J,Q284)=\"od\",\"od\",\"\"),\"\"),\"\")","v":""},{"$f":"IFERROR(IF(AND(Kalkulacja!$D$2=\"x\",$J$115>0),(IF(INDEX(Kalkulacja!D:D,Q285)=\"x\",\"Nie-Elementor\",\"\")),\"\"),\"\")","v":""},{"$f":"IFERROR(INDEX('Podświetlanie modułów'!H:H,MATCH(G285,'Podświetlanie modułów'!F:F,0)),0)","v":0},{"$f":"IF(AO285*1>0,\"x\",IF(INDEX(Kalkulacja!A:A,Q285)=\"x\",\"x\",0))","v":0},{"$f":"IF(O285=\"x\",\"TRUE\",\"FALSE\")","v":"FALSE"},{"$f":"MATCH(G285,Kalkulacja!$I$1:$I$416,0)","v":203},null,null,0,null,0,null,null,null,null,"Dodatkowy moduł 45",null,null,null,null,{"$f":"IFERROR(INDEX(Kalkulacja!V:V,Q285),0)","v":0},0,null,null,null,{"$f":"IFERROR(IF($J$115>0,INDEX(Kalkulacja!D:D,Q286),\"\"),\"\")","v":""},null,null,null,{"$f":"S285","v":0}]
[null,null,null,{"$f":"IFERROR(IF(N286>0,\"SUGEROWANE\",IF((INDEX(Kalkulacja!B:B,MATCH(G286,Kalkulacja!I:I,0)))=\"x\",\"USŁUGA\",\"\")),\"\")","v":""},{"$f":"Kalkulacja!I204","v":"Efekty specjalne"},null,null,null,null,null,null,{"$f":"IFERROR(IF(Kalkulacja!$D$2=\"x\",IF(INDEX(Kalkulacja!J:J,Q285)=\"od\",\"od\",\"\"),\"\"),\"\")","v":""},{"$f":"IFERROR(IF(AND(Kalkulacja!$D$2=\"x\",$J$115>0),(IF(INDEX(Kalkulacja!D:D,Q286)=\"x\",\"Nie-Elementor\",\"\")),\"\"),\"\")","v":""},{"$f":"IFERROR(INDEX('Podświetlanie modułów'!H:H,MATCH(G286,'Podświetlanie modułów'!F:F,0)),0)","v":0},{"$f":"IF(COUNTIF(O287:O304,\"x\")>0,\"x\",0)","v":"x"},"TRUE",{"$f":"MATCH(E286,Kalkulacja!$I$1:$I$416,0)","v":204},null,null,0,null,0,null,null,null,null,0,null,null,null,null,{"$f":"IFERROR(INDEX(Kalkulacja!V:V,Q286),0)","v":0},0,null,null,null,{"$f":"IFERROR(IF($J$115>0,INDEX(Kalkulacja!D:D,Q287),\"\"),\"\")","v":""}]
[null,null,null,{"$f":"IFERROR(IF(N287>0,\"SUGEROWANE\",IF((INDEX(Kalkulacja!B:B,MATCH(G287,Kalkulacja!I:I,0)))=\"x\",\"USŁUGA\",\"\")),\"\")","v":""},"i",null,{"$f":"Kalkulacja!I205","v":"Dynamiczny popup całej podstrony"},null,null,{"$f":"AO287*1","v":0},{"$f":"IFERROR(IF(Kalkulacja!$G$2=\"x\",INDEX(Kalkulacja!$Y$1:$Y$416,Q287),\"\"),\"\")","v":""},{"$f":"IFERROR(IF(Kalkulacja!$D$2=\"x\",IF(INDEX(Kalkulacja!J:J,Q286)=\"od\",\"od\",\"\"),\"\"),\"\")","v":""},{"$f":"IFERROR(IF(AND(Kalkulacja!$D$2=\"x\",$J$115>0),(IF(INDEX(Kalkulacja!D:D,Q287)=\"x\",\"Nie-Elementor\",\"\")),\"\"),\"\")","v":""},{"$f":"IFERROR(INDEX('Podświetlanie modułów'!H:H,MATCH(G287,'Podświetlanie modułów'!F:F,0)),0)","v":0},{"$f":"IF(AO287*1>0,\"x\",IF(INDEX(Kalkulacja!A:A,Q287)=\"x\",\"x\",0))","v":0},"FALSE",{"$f":"MATCH(G287,Kalkulacja!$I$1:$I$416,0)","v":205},null,null,0,null,0,null,null,null,null,"Dynamiczny popup całej podstrony",null,null,null,null,{"$f":"IFERROR(INDEX(Kalkulacja!V:V,Q287),0)","v":0},0,null,null,null,{"$f":"IFERROR(IF($J$115>0,INDEX(Kalkulacja!D:D,Q288),\"\"),\"\")","v":""},null,null,null,false]
[null,null,null,{"$f":"IFERROR(IF(N288>0,\"SUGEROWANE\",IF((INDEX(Kalkulacja!B:B,MATCH(G288,Kalkulacja!I:I,0)))=\"x\",\"USŁUGA\",\"\")),\"\")","v":""},"i",null,{"$f":"Kalkulacja!I206","v":"Obrazki z pinezkami (Elementor)"},null,null,0,{"$f":"IFERROR(IF(Kalkulacja!$G$2=\"x\",INDEX(Kalkulacja!$Y$1:$Y$416,Q288),\"\"),\"\")","v":""},{"$f":"IFERROR(IF(Kalkulacja!$D$2=\"x\",IF(INDEX(Kalkulacja!J:J,Q287)=\"od\",\"od\",\"\"),\"\"),\"\")","v":""},{"$f":"IFERROR(IF(AND(Kalkulacja!$D$2=\"x\",$J$115>0),(IF(INDEX(Kalkulacja!D:D,Q288)=\"x\",\"Nie-Elementor\",\"\")),\"\"),\"\")","v":""},{"$f":"IFERROR(INDEX('Podświetlanie modułów'!H:H,MATCH(G288,'Podświetlanie modułów'!F:F,0)),0)","v":0},{"$f":"IF(AO288*1>0,\"x\",IF(INDEX(Kalkulacja!A:A,Q288)=\"x\",\"x\",0))","v":"x"},"TRUE",{"$f":"MATCH(G288,Kalkulacja!$I$1:$I$416,0)","v":206},null,null,0,null,0,null,null,null,null,"Obrazki z pinezkami (Elementor)",null,null,null,null,{"$f":"IFERROR(INDEX(Kalkulacja!V:V,Q288),0)","v":0},0,null,null,null,{"$f":"IFERROR(IF($J$115>0,INDEX(Kalkulacja!D:D,Q289),\"\"),\"\")","v":""},null,null,null,false]
[null,null,null,{"$f":"IFERROR(IF(N289>0,\"SUGEROWANE\",IF((INDEX(Kalkulacja!B:B,MATCH(G289,Kalkulacja!I:I,0)))=\"x\",\"USŁUGA\",\"\")),\"\")","v":""},"i",null,{"$f":"Kalkulacja!I207","v":"Foto przed i po"},null,null,0,{"$f":"IFERROR(IF(Kalkulacja!$G$2=\"x\",INDEX(Kalkulacja!$Y$1:$Y$416,Q289),\"\"),\"\")","v":""},{"$f":"IFERROR(IF(Kalkulacja!$D$2=\"x\",IF(INDEX(Kalkulacja!J:J,Q288)=\"od\",\"od\",\"\"),\"\"),\"\")","v":""},{"$f":"IFERROR(IF(AND(Kalkulacja!$D$2=\"x\",$J$115>0),(IF(INDEX(Kalkulacja!D:D,Q289)=\"x\",\"Nie-Elementor\",\"\")),\"\"),\"\")","v":""},{"$f":"IFERROR(INDEX('Podświetlanie modułów'!H:H,MATCH(G289,'Podświetlanie modułów'!F:F,0)),0)","v":0},{"$f":"IF(AO289*1>0,\"x\",IF(INDEX(Kalkulacja!A:A,Q289)=\"x\",\"x\",0))","v":"x"},"TRUE",{"$f":"MATCH(G289,Kalkulacja!$I$1:$I$416,0)","v":207},null,null,0,null,0,null,null,null,null,"Foto przed i po",null,null,null,null,{"$f":"IFERROR(INDEX(Kalkulacja!V:V,Q289),0)","v":0},0,null,null,null,{"$f":"IFERROR(IF($J$115>0,INDEX(Kalkulacja!D:D,Q290),\"\"),\"\")","v":""},null,null,null,false]
[null,null,null,{"$f":"IFERROR(IF(N290>0,\"SUGEROWANE\",IF((INDEX(Kalkulacja!B:B,MATCH(G290,Kalkulacja!I:I,0)))=\"x\",\"USŁUGA\",\"\")),\"\")","v":""},"i",null,{"$f":"Kalkulacja!I208","v":"Animacje elementów (Elementor)"},null,null,0,{"$f":"IFERROR(IF(Kalkulacja!$G$2=\"x\",INDEX(Kalkulacja!$Y$1:$Y$416,Q290),\"\"),\"\")","v":""},{"$f":"IFERROR(IF(Kalkulacja!$D$2=\"x\",IF(INDEX(Kalkulacja!J:J,Q289)=\"od\",\"od\",\"\"),\"\"),\"\")","v":""},{"$f":"IFERROR(IF(AND(Kalkulacja!$D$2=\"x\",$J$115>0),(IF(INDEX(Kalkulacja!D:D,Q290)=\"x\",\"Nie-Elementor\",\"\")),\"\"),\"\")","v":""},{"$f":"IFERROR(INDEX('Podświetlanie modułów'!H:H,MATCH(G290,'Podświetlanie modułów'!F:F,0)),0)","v":0},{"$f":"IF(AO290*1>0,\"x\",IF(INDEX(Kalkulacja!A:A,Q290)=\"x\",\"x\",0))","v":"x"},"TRUE",{"$f":"MATCH(G290,Kalkulacja!$I$1:$I$416,0)","v":208},null,null,0,null,0,null,null,null,null,"Animacje elementów (Elementor)",null,null,null,null,{"$f":"IFERROR(INDEX(Kalkulacja!V:V,Q290),0)","v":0},0,null,null,null,{"$f":"IFERROR(IF($J$115>0,INDEX(Kalkulacja!D:D,Q291),\"\"),\"\")","v":""},null,null,null,false]
[null,null,null,{"$f":"IFERROR(IF(N291>0,\"SUGEROWANE\",IF((INDEX(Kalkulacja!B:B,MATCH(G291,Kalkulacja!I:I,0)))=\"x\",\"USŁUGA\",\"\")),\"\")","v":""},"i",null,{"$f":"Kalkulacja!I209","v":"Animacje elementów (autorskie)"},null,null,0,{"$f":"IFERROR(IF(Kalkulacja!$G$2=\"x\",INDEX(Kalkulacja!$Y$1:$Y$416,Q291),\"\"),\"\")","v":""},{"$f":"IFERROR(IF(Kalkulacja!$D$2=\"x\",IF(INDEX(Kalkulacja!J:J,Q290)=\"od\",\"od\",\"\"),\"\"),\"\")","v":""},{"$f":"IFERROR(IF(AND(Kalkulacja!$D$2=\"x\",$J$115>0),(IF(INDEX(Kalkulacja!D:D,Q291)=\"x\",\"Nie-Elementor\",\"\")),\"\"),\"\")","v":""},{"$f":"IFERROR(INDEX('Podświetlanie modułów'!H:H,MATCH(G291,'Podświetlanie modułów'!F:F,0)),0)","v":0},{"$f":"IF(AO291*1>0,\"x\",IF(INDEX(Kalkulacja!A:A,Q291)=\"x\",\"x\",0))","v":"x"},"TRUE",{"$f":"MATCH(G291,Kalkulacja!$I$1:$I$416,0)","v":209},null,null,0,null,0,null,null,null,null,"Animacje elementów (autorskie)",null,null,null,null,{"$f":"IFERROR(INDEX(Kalkulacja!V:V,Q291),0)","v":0},0,null,null,null,{"$f":"IFERROR(IF($J$115>0,INDEX(Kalkulacja!D:D,Q292),\"\"),\"\")","v":""},null,null,null,false]
[null,null,null,{"$f":"IFERROR(IF(N292>0,\"SUGEROWANE\",IF((INDEX(Kalkulacja!B:B,MATCH(G292,Kalkulacja!I:I,0)))=\"x\",\"USŁUGA\",\"\")),\"\")","v":""},"i",null,{"$f":"Kalkulacja!I210","v":"Tło wideo"},null,null,0,{"$f":"IFERROR(IF(Kalkulacja!$G$2=\"x\",INDEX(Kalkulacja!$Y$1:$Y$416,Q292),\"\"),\"\")","v":""},{"$f":"IFERROR(IF(Kalkulacja!$D$2=\"x\",IF(INDEX(Kalkulacja!J:J,Q291)=\"od\",\"od\",\"\"),\"\"),\"\")","v":""},{"$f":"IFERROR(IF(AND(Kalkulacja!$D$2=\"x\",$J$115>0),(IF(INDEX(Kalkulacja!D:D,Q292)=\"x\",\"Nie-Elementor\",\"\")),\"\"),\"\")","v":""},{"$f":"IFERROR(INDEX('Podświetlanie modułów'!H:H,MATCH(G292,'Podświetlanie modułów'!F:F,0)),0)","v":0},{"$f":"IF(AO292*1>0,\"x\",IF(INDEX(Kalkulacja!A:A,Q292)=\"x\",\"x\",0))","v":"x"},"TRUE",{"$f":"MATCH(G292,Kalkulacja!$I$1:$I$416,0)","v":210},null,null,0,null,0,null,null,null,null,"Tło wideo",null,null,null,null,{"$f":"IFERROR(INDEX(Kalkulacja!V:V,Q292),0)","v":0},0,null,null,null,{"$f":"IFERROR(IF($J$115>0,INDEX(Kalkulacja!D:D,Q293),\"\"),\"\")","v":""},null,null,null,false]
[null,null,null,{"$f":"IFERROR(IF(N293>0,\"SUGEROWANE\",IF((INDEX(Kalkulacja!B:B,MATCH(G293,Kalkulacja!I:I,0)))=\"x\",\"USŁUGA\",\"\")),\"\")","v":""},"i",null,{"$f":"Kalkulacja!I211","v":"Tło reagujące na kursor"},null,null,0,{"$f":"IFERROR(IF(Kalkulacja!$G$2=\"x\",INDEX(Kalkulacja!$Y$1:$Y$416,Q293),\"\"),\"\")","v":""},{"$f":"IFERROR(IF(Kalkulacja!$D$2=\"x\",IF(INDEX(Kalkulacja!J:J,Q292)=\"od\",\"od\",\"\"),\"\"),\"\")","v":""},{"$f":"IFERROR(IF(AND(Kalkulacja!$D$2=\"x\",$J$115>0),(IF(INDEX(Kalkulacja!D:D,Q293)=\"x\",\"Nie-Elementor\",\"\")),\"\"),\"\")","v":""},{"$f":"IFERROR(INDEX('Podświetlanie modułów'!H:H,MATCH(G293,'Podświetlanie modułów'!F:F,0)),0)","v":0},{"$f":"IF(AO293*1>0,\"x\",IF(INDEX(Kalkulacja!A:A,Q293)=\"x\",\"x\",0))","v":"x"},"TRUE",{"$f":"MATCH(G293,Kalkulacja!$I$1:$I$416,0)","v":211},null,null,0,null,0,null,null,null,null,"Tło reagujące na kursor",null,null,null,null,{"$f":"IFERROR(INDEX(Kalkulacja!V:V,Q293),0)","v":0},0,null,null,null,{"$f":"IFERROR(IF($J$115>0,INDEX(Kalkulacja!D:D,Q294),\"\"),\"\")","v":""},null,null,null,false]
[null,null,null,{"$f":"IFERROR(IF(N294>0,\"SUGEROWANE\",IF((INDEX(Kalkulacja!B:B,MATCH(G294,Kalkulacja!I:I,0)))=\"x\",\"USŁUGA\",\"\")),\"\")","v":""},"i",null,{"$f":"Kalkulacja!I212","v":"Tło parallax"},null,null,0,{"$f":"IFERROR(IF(Kalkulacja!$G$2=\"x\",INDEX(Kalkulacja!$Y$1:$Y$416,Q294),\"\"),\"\")","v":""},{"$f":"IFERROR(IF(Kalkulacja!$D$2=\"x\",IF(INDEX(Kalkulacja!J:J,Q293)=\"od\",\"od\",\"\"),\"\"),\"\")","v":""},{"$f":"IFERROR(IF(AND(Kalkulacja!$D$2=\"x\",$J$115>0),(IF(INDEX(Kalkulacja!D:D,Q294)=\"x\",\"Nie-Elementor\",\"\")),\"\"),\"\")","v":""},{"$f":"IFERROR(INDEX('Podświetlanie modułów'!H:H,MATCH(G294,'Podświetlanie modułów'!F:F,0)),0)","v":0},{"$f":"IF(AO294*1>0,\"x\",IF(INDEX(Kalkulacja!A:A,Q294)=\"x\",\"x\",0))","v":"x"},"TRUE",{"$f":"MATCH(G294,Kalkulacja!$I$1:$I$416,0)","v":212},null,null,0,null,0,null,null,null,null,"Tło parallax",null,null,null,null,{"$f":"IFERROR(INDEX(Kalkulacja!V:V,Q294),0)","v":0},0,null,null,null,{"$f":"IFERROR(IF($J$115>0,INDEX(Kalkulacja!D:D,Q295),\"\"),\"\")","v":""},null,null,null,false]
[null,null,null,{"$f":"IFERROR(IF(N295>0,\"SUGEROWANE\",IF((INDEX(Kalkulacja!B:B,MATCH(G295,Kalkulacja!I:I,0)))=\"x\",\"USŁUGA\",\"\")),\"\")","v":""},"i",null,{"$f":"Kalkulacja!I213","v":"Produkt 3D"},null,null,0,{"$f":"IFERROR(IF(Kalkulacja!$G$2=\"x\",INDEX(Kalkulacja!$Y$1:$Y$416,Q295),\"\"),\"\")","v":""},{"$f":"IFERROR(IF(Kalkulacja!$D$2=\"x\",IF(INDEX(Kalkulacja!J:J,Q294)=\"od\",\"od\",\"\"),\"\"),\"\")","v":""},{"$f":"IFERROR(IF(AND(Kalkulacja!$D$2=\"x\",$J$115>0),(IF(INDEX(Kalkulacja!D:D,Q295)=\"x\",\"Nie-Elementor\",\"\")),\"\"),\"\")","v":""},{"$f":"IFERROR(INDEX('Podświetlanie modułów'!H:H,MATCH(G295,'Podświetlanie modułów'!F:F,0)),0)","v":0},{"$f":"IF(AO295*1>0,\"x\",IF(INDEX(Kalkulacja!A:A,Q295)=\"x\",\"x\",0))","v":"x"},"TRUE",{"$f":"MATCH(G295,Kalkulacja!$I$1:$I$416,0)","v":213},null,null,0,null,0,null,null,null,null,"Produkt 3D",null,null,null,null,{"$f":"IFERROR(INDEX(Kalkulacja!V:V,Q295),0)","v":0},0,null,null,null,{"$f":"IFERROR(IF($J$115>0,INDEX(Kalkulacja!D:D,Q296),\"\"),\"\")","v":""},null,null,null,false]
[null,null,null,{"$f":"IFERROR(IF(N296>0,\"SUGEROWANE\",IF((INDEX(Kalkulacja!B:B,MATCH(G296,Kalkulacja!I:I,0)))=\"x\",\"USŁUGA\",\"\")),\"\")","v":""},"i",null,{"$f":"Kalkulacja!I214","v":"Produkt 360"},null,null,0,{"$f":"IFERROR(IF(Kalkulacja!$G$2=\"x\",INDEX(Kalkulacja!$Y$1:$Y$416,Q296),\"\"),\"\")","v":""},{"$f":"IFERROR(IF(Kalkulacja!$D$2=\"x\",IF(INDEX(Kalkulacja!J:J,Q295)=\"od\",\"od\",\"\"),\"\"),\"\")","v":""},{"$f":"IFERROR(IF(AND(Kalkulacja!$D$2=\"x\",$J$115>0),(IF(INDEX(Kalkulacja!D:D,Q296)=\"x\",\"Nie-Elementor\",\"\")),\"\"),\"\")","v":""},{"$f":"IFERROR(INDEX('Podświetlanie modułów'!H:H,MATCH(G296,'Podświetlanie modułów'!F:F,0)),0)","v":0},{"$f":"IF(AO296*1>0,\"x\",IF(INDEX(Kalkulacja!A:A,Q296)=\"x\",\"x\",0))","v":"x"},"TRUE",{"$f":"MATCH(G296,Kalkulacja!$I$1:$I$416,0)","v":214},null,null,0,null,0,null,null,null,null,"Produkt 360",null,null,null,null,{"$f":"IFERROR(INDEX(Kalkulacja!V:V,Q296),0)","v":0},0,null,null,null,{"$f":"IFERROR(IF($J$115>0,INDEX(Kalkulacja!D:D,Q297),\"\"),\"\")","v":""},null,null,null,false]
[null,null,null,{"$f":"IFERROR(IF(N297>0,\"SUGEROWANE\",IF((INDEX(Kalkulacja!B:B,MATCH(G297,Kalkulacja!I:I,0)))=\"x\",\"USŁUGA\",\"\")),\"\")","v":""},"i",null,{"$f":"Kalkulacja!I215","v":"Przestrzeń z kamery 360"},null,null,0,{"$f":"IFERROR(IF(Kalkulacja!$G$2=\"x\",INDEX(Kalkulacja!$Y$1:$Y$416,Q297),\"\"),\"\")","v":""},{"$f":"IFERROR(IF(Kalkulacja!$D$2=\"x\",IF(INDEX(Kalkulacja!J:J,Q296)=\"od\",\"od\",\"\"),\"\"),\"\")","v":""},{"$f":"IFERROR(IF(AND(Kalkulacja!$D$2=\"x\",$J$115>0),(IF(INDEX(Kalkulacja!D:D,Q297)=\"x\",\"Nie-Elementor\",\"\")),\"\"),\"\")","v":""},{"$f":"IFERROR(INDEX('Podświetlanie modułów'!H:H,MATCH(G297,'Podświetlanie modułów'!F:F,0)),0)","v":0},{"$f":"IF(AO297*1>0,\"x\",IF(INDEX(Kalkulacja!A:A,Q297)=\"x\",\"x\",0))","v":"x"},"TRUE",{"$f":"MATCH(G297,Kalkulacja!$I$1:$I$416,0)","v":215},null,null,0,null,0,null,null,null,null,"Przestrzeń z kamery 360",null,null,null,null,{"$f":"IFERROR(INDEX(Kalkulacja!V:V,Q297),0)","v":0},0,null,null,null,{"$f":"IFERROR(IF($J$115>0,INDEX(Kalkulacja!D:D,Q298),\"\"),\"\")","v":""},null,null,null,false]
[null,null,null,{"$f":"IFERROR(IF(N298>0,\"SUGEROWANE\",IF((INDEX(Kalkulacja!B:B,MATCH(G298,Kalkulacja!I:I,0)))=\"x\",\"USŁUGA\",\"\")),\"\")","v":""},"i",null,{"$f":"Kalkulacja!I216","v":"Flipbook / Interaktywna książka"},null,null,0,{"$f":"IFERROR(IF(Kalkulacja!$G$2=\"x\",INDEX(Kalkulacja!$Y$1:$Y$416,Q298),\"\"),\"\")","v":""},{"$f":"IFERROR(IF(Kalkulacja!$D$2=\"x\",IF(INDEX(Kalkulacja!J:J,Q297)=\"od\",\"od\",\"\"),\"\"),\"\")","v":""},{"$f":"IFERROR(IF(AND(Kalkulacja!$D$2=\"x\",$J$115>0),(IF(INDEX(Kalkulacja!D:D,Q298)=\"x\",\"Nie-Elementor\",\"\")),\"\"),\"\")","v":""},{"$f":"IFERROR(INDEX('Podświetlanie modułów'!H:H,MATCH(G298,'Podświetlanie modułów'!F:F,0)),0)","v":0},{"$f":"IF(AO298*1>0,\"x\",IF(INDEX(Kalkulacja!A:A,Q298)=\"x\",\"x\",0))","v":"x"},"TRUE",{"$f":"MATCH(G298,Kalkulacja!$I$1:$I$416,0)","v":216},null,null,0,null,0,null,null,null,null,"Flipbook / Interaktywna książka",null,null,null,null,{"$f":"IFERROR(INDEX(Kalkulacja!V:V,Q298),0)","v":0},0,null,null,null,{"$f":"IFERROR(IF($J$115>0,INDEX(Kalkulacja!D:D,Q299),\"\"),\"\")","v":""},null,null,null,false]
[null,null,null,{"$f":"IFERROR(IF(N299>0,\"SUGEROWANE\",IF((INDEX(Kalkulacja!B:B,MATCH(G299,Kalkulacja!I:I,0)))=\"x\",\"USŁUGA\",\"\")),\"\")","v":""},"i",null,{"$f":"Kalkulacja!I217","v":"Spacer Google "},null,null,0,{"$f":"IFERROR(IF(Kalkulacja!$G$2=\"x\",INDEX(Kalkulacja!$Y$1:$Y$416,Q299),\"\"),\"\")","v":""},{"$f":"IFERROR(IF(Kalkulacja!$D$2=\"x\",IF(INDEX(Kalkulacja!J:J,Q298)=\"od\",\"od\",\"\"),\"\"),\"\")","v":""},{"$f":"IFERROR(IF(AND(Kalkulacja!$D$2=\"x\",$J$115>0),(IF(INDEX(Kalkulacja!D:D,Q299)=\"x\",\"Nie-Elementor\",\"\")),\"\"),\"\")","v":""},{"$f":"IFERROR(INDEX('Podświetlanie modułów'!H:H,MATCH(G299,'Podświetlanie modułów'!F:F,0)),0)","v":0},{"$f":"IF(AO299*1>0,\"x\",IF(INDEX(Kalkulacja!A:A,Q299)=\"x\",\"x\",0))","v":"x"},"TRUE",{"$f":"MATCH(G299,Kalkulacja!$I$1:$I$416,0)","v":217},null,null,0,null,0,null,null,null,null,"Spacer Google ",null,null,null,null,{"$f":"IFERROR(INDEX(Kalkulacja!V:V,Q299),0)","v":0},0,null,null,null,{"$f":"IFERROR(IF($J$115>0,INDEX(Kalkulacja!D:D,Q300),\"\"),\"\")","v":""},null,null,null,false]
[null,null,null,{"$f":"IFERROR(IF(N300>0,\"SUGEROWANE\",IF((INDEX(Kalkulacja!B:B,MATCH(G300,Kalkulacja!I:I,0)))=\"x\",\"USŁUGA\",\"\")),\"\")","v":""},"i",null,{"$f":"Kalkulacja!I218","v":"Dodatkowy moduł 46"},null,null,0,{"$f":"IFERROR(IF(Kalkulacja!$G$2=\"x\",INDEX(Kalkulacja!$Y$1:$Y$416,Q300),\"\"),\"\")","v":""},{"$f":"IFERROR(IF(Kalkulacja!$D$2=\"x\",IF(INDEX(Kalkulacja!J:J,Q299)=\"od\",\"od\",\"\"),\"\"),\"\")","v":""},{"$f":"IFERROR(IF(AND(Kalkulacja!$D$2=\"x\",$J$115>0),(IF(INDEX(Kalkulacja!D:D,Q300)=\"x\",\"Nie-Elementor\",\"\")),\"\"),\"\")","v":""},{"$f":"IFERROR(INDEX('Podświetlanie modułów'!H:H,MATCH(G300,'Podświetlanie modułów'!F:F,0)),0)","v":0},{"$f":"IF(AO300*1>0,\"x\",IF(INDEX(Kalkulacja!A:A,Q300)=\"x\",\"x\",0))","v":0},"FALSE",{"$f":"MATCH(G300,Kalkulacja!$I$1:$I$416,0)","v":218},null,null,0,null,0,null,null,null,null,"Dodatkowy moduł 46",null,null,null,null,{"$f":"IFERROR(INDEX(Kalkulacja!V:V,Q300),0)","v":0},0,null,null,null,{"$f":"IFERROR(IF($J$115>0,INDEX(Kalkulacja!D:D,Q301),\"\"),\"\")","v":""},null,null,null,{"$f":"S300","v":0}]
[null,null,null,{"$f":"IFERROR(IF(N301>0,\"SUGEROWANE\",IF((INDEX(Kalkulacja!B:B,MATCH(G301,Kalkulacja!I:I,0)))=\"x\",\"USŁUGA\",\"\")),\"\")","v":""},"i",null,{"$f":"Kalkulacja!I219","v":"Dodatkowy moduł 47"},null,null,0,{"$f":"IFERROR(IF(Kalkulacja!$G$2=\"x\",INDEX(Kalkulacja!$Y$1:$Y$416,Q301),\"\"),\"\")","v":""},{"$f":"IFERROR(IF(Kalkulacja!$D$2=\"x\",IF(INDEX(Kalkulacja!J:J,Q300)=\"od\",\"od\",\"\"),\"\"),\"\")","v":""},{"$f":"IFERROR(IF(AND(Kalkulacja!$D$2=\"x\",$J$115>0),(IF(INDEX(Kalkulacja!D:D,Q301)=\"x\",\"Nie-Elementor\",\"\")),\"\"),\"\")","v":""},{"$f":"IFERROR(INDEX('Podświetlanie modułów'!H:H,MATCH(G301,'Podświetlanie modułów'!F:F,0)),0)","v":0},{"$f":"IF(AO301*1>0,\"x\",IF(INDEX(Kalkulacja!A:A,Q301)=\"x\",\"x\",0))","v":0},"FALSE",{"$f":"MATCH(G301,Kalkulacja!$I$1:$I$416,0)","v":219},null,null,0,null,0,null,null,null,null,"Dodatkowy moduł 47",null,null,null,null,{"$f":"IFERROR(INDEX(Kalkulacja!V:V,Q301),0)","v":0},0,null,null,null,{"$f":"IFERROR(IF($J$115>0,INDEX(Kalkulacja!D:D,Q302),\"\"),\"\")","v":""},null,null,null,0]
[null,null,null,{"$f":"IFERROR(IF(N302>0,\"SUGEROWANE\",IF((INDEX(Kalkulacja!B:B,MATCH(G302,Kalkulacja!I:I,0)))=\"x\",\"USŁUGA\",\"\")),\"\")","v":""},"i",null,{"$f":"Kalkulacja!I220","v":"Dodatkowy moduł 48"},null,null,0,{"$f":"IFERROR(IF(Kalkulacja!$G$2=\"x\",INDEX(Kalkulacja!$Y$1:$Y$416,Q302),\"\"),\"\")","v":""},{"$f":"IFERROR(IF(Kalkulacja!$D$2=\"x\",IF(INDEX(Kalkulacja!J:J,Q301)=\"od\",\"od\",\"\"),\"\"),\"\")","v":""},{"$f":"IFERROR(IF(AND(Kalkulacja!$D$2=\"x\",$J$115>0),(IF(INDEX(Kalkulacja!D:D,Q302)=\"x\",\"Nie-Elementor\",\"\")),\"\"),\"\")","v":""},{"$f":"IFERROR(INDEX('Podświetlanie modułów'!H:H,MATCH(G302,'Podświetlanie modułów'!F:F,0)),0)","v":0},{"$f":"IF(AO302*1>0,\"x\",IF(INDEX(Kalkulacja!A:A,Q302)=\"x\",\"x\",0))","v":0},"FALSE",{"$f":"MATCH(G302,Kalkulacja!$I$1:$I$416,0)","v":220},null,null,0,null,0,null,null,null,null,"Dodatkowy moduł 48",null,null,null,null,{"$f":"IFERROR(INDEX(Kalkulacja!V:V,Q302),0)","v":0},0,null,null,null,{"$f":"IFERROR(IF($J$115>0,INDEX(Kalkulacja!D:D,Q303),\"\"),\"\")","v":""},null,null,null,0]
[null,null,null,{"$f":"IFERROR(IF(N303>0,\"SUGEROWANE\",IF((INDEX(Kalkulacja!B:B,MATCH(G303,Kalkulacja!I:I,0)))=\"x\",\"USŁUGA\",\"\")),\"\")","v":""},"i",null,{"$f":"Kalkulacja!I221","v":"Dodatkowy moduł 49"},null,null,0,{"$f":"IFERROR(IF(Kalkulacja!$G$2=\"x\",INDEX(Kalkulacja!$Y$1:$Y$416,Q303),\"\"),\"\")","v":""},{"$f":"IFERROR(IF(Kalkulacja!$D$2=\"x\",IF(INDEX(Kalkulacja!J:J,Q302)=\"od\",\"od\",\"\"),\"\"),\"\")","v":""},{"$f":"IFERROR(IF(AND(Kalkulacja!$D$2=\"x\",$J$115>0),(IF(INDEX(Kalkulacja!D:D,Q303)=\"x\",\"Nie-Elementor\",\"\")),\"\"),\"\")","v":""},{"$f":"IFERROR(INDEX('Podświetlanie modułów'!H:H,MATCH(G303,'Podświetlanie modułów'!F:F,0)),0)","v":0},{"$f":"IF(AO303*1>0,\"x\",IF(INDEX(Kalkulacja!A:A,Q303)=\"x\",\"x\",0))","v":0},"FALSE",{"$f":"MATCH(G303,Kalkulacja!$I$1:$I$416,0)","v":221},null,null,0,null,0,null,null,null,null,"Dodatkowy moduł 49",null,null,null,null,{"$f":"IFERROR(INDEX(Kalkulacja!V:V,Q303),0)","v":0},0,null,null,null,{"$f":"IFERROR(IF($J$115>0,INDEX(Kalkulacja!D:D,Q304),\"\"),\"\")","v":""},null,null,null,0]
[null,null,null,{"$f":"IFERROR(IF(N304>0,\"SUGEROWANE\",IF((INDEX(Kalkulacja!B:B,MATCH(G304,Kalkulacja!I:I,0)))=\"x\",\"USŁUGA\",\"\")),\"\")","v":""},"i",null,{"$f":"Kalkulacja!I222","v":"Dodatkowy moduł 50"},null,null,0,{"$f":"IFERROR(IF(Kalkulacja!$G$2=\"x\",INDEX(Kalkulacja!$Y$1:$Y$416,Q304),\"\"),\"\")","v":""},{"$f":"IFERROR(IF(Kalkulacja!$D$2=\"x\",IF(INDEX(Kalkulacja!J:J,Q303)=\"od\",\"od\",\"\"),\"\"),\"\")","v":""},{"$f":"IFERROR(IF(AND(Kalkulacja!$D$2=\"x\",$J$115>0),(IF(INDEX(Kalkulacja!D:D,Q304)=\"x\",\"Nie-Elementor\",\"\")),\"\"),\"\")","v":""},{"$f":"IFERROR(INDEX('Podświetlanie modułów'!H:H,MATCH(G304,'Podświetlanie modułów'!F:F,0)),0)","v":0},{"$f":"IF(AO304*1>0,\"x\",IF(INDEX(Kalkulacja!A:A,Q304)=\"x\",\"x\",0))","v":0},"FALSE",{"$f":"MATCH(G304,Kalkulacja!$I$1:$I$416,0)","v":222},null,null,0,null,0,null,null,null,null,"Dodatkowy moduł 50",null,null,null,null,{"$f":"IFERROR(INDEX(Kalkulacja!V:V,Q304),0)","v":0},0,null,null,null,{"$f":"IFERROR(IF($J$115>0,INDEX(Kalkulacja!D:D,Q305),\"\"),\"\")","v":""},null,null,null,0]
[null,null,null,{"$f":"IFERROR(IF(N305>0,\"SUGEROWANE\",IF((INDEX(Kalkulacja!B:B,MATCH(G305,Kalkulacja!I:I,0)))=\"x\",\"USŁUGA\",\"\")),\"\")","v":""},{"$f":"Kalkulacja!I223","v":"Moduły aktualności / blog"},null,null,null,null,null,null,{"$f":"IFERROR(IF(Kalkulacja!$D$2=\"x\",IF(INDEX(Kalkulacja!J:J,Q304)=\"od\",\"od\",\"\"),\"\"),\"\")","v":""},{"$f":"IFERROR(IF(AND(Kalkulacja!$D$2=\"x\",$J$115>0),(IF(INDEX(Kalkulacja!D:D,Q305)=\"x\",\"Nie-Elementor\",\"\")),\"\"),\"\")","v":""},{"$f":"IFERROR(INDEX('Podświetlanie modułów'!H:H,MATCH(G305,'Podświetlanie modułów'!F:F,0)),0)","v":0},{"$f":"IF(COUNTIF(O306:O327,\"x\")>0,\"x\",0)","v":"x"},"TRUE",{"$f":"MATCH(E305,Kalkulacja!$I$1:$I$416,0)","v":223},null,null,0,null,0,null,null,null,null,0,null,null,null,null,{"$f":"IFERROR(INDEX(Kalkulacja!V:V,Q305),0)","v":0},0,null,null,null,{"$f":"IFERROR(IF($J$115>0,INDEX(Kalkulacja!D:D,Q306),\"\"),\"\")","v":""}]
[null,null,null,{"$f":"IFERROR(IF(N306>0,\"SUGEROWANE\",IF((INDEX(Kalkulacja!B:B,MATCH(G306,Kalkulacja!I:I,0)))=\"x\",\"USŁUGA\",\"\")),\"\")","v":""},"i",{"$f":"IF(ISBLANK(G306),\" Wybierz typ wpisu\",\"\")","v":""},{"$f":"INDEX(X$306:$X308,MATCH($T$306,$Y$306:$Y$308,0))","v":"Artykuł - Wpis STANDARD"},null,null,{"$f":"AO306*1","v":0},{"$f":"IFERROR(IF(Kalkulacja!$G$2=\"x\",INDEX(Kalkulacja!$Y$1:$Y$416,Q306),\"\"),\"\")","v":""},{"$f":"IFERROR(IF(Kalkulacja!$D$2=\"x\",IF(INDEX(Kalkulacja!J:J,Q305)=\"od\",\"od\",\"\"),\"\"),\"\")","v":""},{"$f":"IFERROR(IF(AND(Kalkulacja!$D$2=\"x\",$J$115>0),(IF(INDEX(Kalkulacja!D:D,Q306)=\"x\",\"Nie-Elementor\",\"\")),\"\"),\"\")","v":""},{"$f":"IFERROR(INDEX('Podświetlanie modułów'!H:H,MATCH(G306,'Podświetlanie modułów'!F:F,0)),0)","v":0},{"$f":"IF(AO306*1>0,\"x\",IF(COUNTIF(Kalkulacja!$A$224:$A$226,\"x\")>0,\"x\",0))","v":"x"},"TRUE",{"$f":"MATCH(G306,Kalkulacja!$I$1:$I$416,0)","v":225},null,null,2,{"$f":"IFERROR(INDEX($Y$306:$Y$308,MATCH(\"x\",Z306:Z308,0)),1)","v":1},0,null,{"$f":"Kalkulacja!I224","v":"Artykuł - Wpis BASIC"},1,{"$f":"INDEX(Kalkulacja!$C$224:$C$226,MATCH(X306,Kalkulacja!$I$224:$I$226,0))","v":0},"Artykuł - Wpis STANDARD",null,null,null,null,{"$f":"IFERROR(INDEX(Kalkulacja!V:V,Q306),0)","v":"x"},0,null,null,null,{"$f":"IFERROR(IF($J$115>0,INDEX(Kalkulacja!D:D,Q307),\"\"),\"\")","v":""},null,null,null,false]
[null,null,null,{"$f":"IFERROR(IF(N307>0,\"SUGEROWANE\",IF((INDEX(Kalkulacja!B:B,MATCH(G307,Kalkulacja!I:I,0)))=\"x\",\"USŁUGA\",\"\")),\"\")","v":"USŁUGA"},"i",null,{"$f":"Kalkulacja!I227","v":"Dodanie 1 artykułu"},null,null,0,{"$f":"IFERROR(IF(Kalkulacja!$G$2=\"x\",INDEX(Kalkulacja!$Y$1:$Y$416,Q307),\"\"),\"\")","v":""},{"$f":"IFERROR(IF(Kalkulacja!$D$2=\"x\",IF(INDEX(Kalkulacja!J:J,Q306)=\"od\",\"od\",\"\"),\"\"),\"\")","v":""},{"$f":"IFERROR(IF(AND(Kalkulacja!$D$2=\"x\",$J$115>0),(IF(INDEX(Kalkulacja!D:D,Q307)=\"x\",\"Nie-Elementor\",\"\")),\"\"),\"\")","v":""},{"$f":"IFERROR(INDEX('Podświetlanie modułów'!H:H,MATCH(G307,'Podświetlanie modułów'!F:F,0)),0)","v":0},{"$f":"IF(AO307*1>0,\"x\",IF(INDEX(Kalkulacja!A:A,Q307)=\"x\",\"x\",0))","v":0},"FALSE",{"$f":"MATCH(G307,Kalkulacja!$I$1:$I$416,0)","v":227},null,null,0,null,0,null,{"$f":"Kalkulacja!I225","v":"Artykuł - Wpis STANDARD"},2,{"$f":"INDEX(Kalkulacja!$C$224:$C$226,MATCH(X307,Kalkulacja!$I$224:$I$226,0))","v":0},"Dodanie 1 artykułu",null,null,null,null,{"$f":"IFERROR(INDEX(Kalkulacja!V:V,Q307),0)","v":0},0,null,null,null,{"$f":"IFERROR(IF($J$115>0,INDEX(Kalkulacja!D:D,Q308),\"\"),\"\")","v":""},null,null,null,false]
[null,null,null,{"$f":"IFERROR(IF(N308>0,\"SUGEROWANE\",IF((INDEX(Kalkulacja!B:B,MATCH(G308,Kalkulacja!I:I,0)))=\"x\",\"USŁUGA\",\"\")),\"\")","v":""},"i",null,{"$f":"Kalkulacja!I228","v":"Kategorie"},null,null,0,{"$f":"IFERROR(IF(Kalkulacja!$G$2=\"x\",INDEX(Kalkulacja!$Y$1:$Y$416,Q308),\"\"),\"\")","v":""},{"$f":"IFERROR(IF(Kalkulacja!$D$2=\"x\",IF(INDEX(Kalkulacja!J:J,Q307)=\"od\",\"od\",\"\"),\"\"),\"\")","v":""},{"$f":"IFERROR(IF(AND(Kalkulacja!$D$2=\"x\",$J$115>0),(IF(INDEX(Kalkulacja!D:D,Q308)=\"x\",\"Nie-Elementor\",\"\")),\"\"),\"\")","v":""},{"$f":"IFERROR(INDEX('Podświetlanie modułów'!H:H,MATCH(G308,'Podświetlanie modułów'!F:F,0)),0)","v":0},{"$f":"IF(AO308*1>0,\"x\",IF(INDEX(Kalkulacja!A:A,Q308)=\"x\",\"x\",0))","v":"x"},"TRUE",{"$f":"MATCH(G308,Kalkulacja!$I$1:$I$416,0)","v":228},null,null,0,null,0,null,{"$f":"Kalkulacja!I226","v":"Artykuł - Wpis PREMIUM"},3,{"$f":"INDEX(Kalkulacja!$C$224:$C$226,MATCH(X308,Kalkulacja!$I$224:$I$226,0))","v":0},"Kategorie",null,null,null,null,{"$f":"IFERROR(INDEX(Kalkulacja!V:V,Q308),0)","v":"x"},0,null,null,null,{"$f":"IFERROR(IF($J$115>0,INDEX(Kalkulacja!D:D,Q309),\"\"),\"\")","v":""},null,null,null,false]
[null,null,null,{"$f":"IFERROR(IF(N309>0,\"SUGEROWANE\",IF((INDEX(Kalkulacja!B:B,MATCH(G309,Kalkulacja!I:I,0)))=\"x\",\"USŁUGA\",\"\")),\"\")","v":""},"i",null,{"$f":"Kalkulacja!I229","v":"Tagi"},null,null,0,{"$f":"IFERROR(IF(Kalkulacja!$G$2=\"x\",INDEX(Kalkulacja!$Y$1:$Y$416,Q309),\"\"),\"\")","v":""},{"$f":"IFERROR(IF(Kalkulacja!$D$2=\"x\",IF(INDEX(Kalkulacja!J:J,Q308)=\"od\",\"od\",\"\"),\"\"),\"\")","v":""},{"$f":"IFERROR(IF(AND(Kalkulacja!$D$2=\"x\",$J$115>0),(IF(INDEX(Kalkulacja!D:D,Q309)=\"x\",\"Nie-Elementor\",\"\")),\"\"),\"\")","v":""},{"$f":"IFERROR(INDEX('Podświetlanie modułów'!H:H,MATCH(G309,'Podświetlanie modułów'!F:F,0)),0)","v":0},{"$f":"IF(AO309*1>0,\"x\",IF(INDEX(Kalkulacja!A:A,Q309)=\"x\",\"x\",0))","v":"x"},"TRUE",{"$f":"MATCH(G309,Kalkulacja!$I$1:$I$416,0)","v":229},null,null,0,null,0,null,null,null,null,"Tagi",null,null,null,null,{"$f":"IFERROR(INDEX(Kalkulacja!V:V,Q309),0)","v":0},0,null,null,null,{"$f":"IFERROR(IF($J$115>0,INDEX(Kalkulacja!D:D,Q310),\"\"),\"\")","v":""},null,null,null,false]
[null,null,null,{"$f":"IFERROR(IF(N310>0,\"SUGEROWANE\",IF((INDEX(Kalkulacja!B:B,MATCH(G310,Kalkulacja!I:I,0)))=\"x\",\"USŁUGA\",\"\")),\"\")","v":""},"i",{"$f":"IF(ISBLANK(G310),\" Wybierz typ listy wpisów\",\"\")","v":""},{"$f":"INDEX(X$310:$X313,MATCH($T$310,$Y$310:$Y$313,0))","v":"Lista wpisów BASIC układ nieregularny"},null,null,0,{"$f":"IFERROR(IF(Kalkulacja!$G$2=\"x\",INDEX(Kalkulacja!$Y$1:$Y$416,Q310),\"\"),\"\")","v":""},{"$f":"IFERROR(IF(Kalkulacja!$D$2=\"x\",IF(INDEX(Kalkulacja!J:J,Q309)=\"od\",\"od\",\"\"),\"\"),\"\")","v":""},{"$f":"IFERROR(IF(AND(Kalkulacja!$D$2=\"x\",$J$115>0),(IF(INDEX(Kalkulacja!D:D,Q310)=\"x\",\"Nie-Elementor\",\"\")),\"\"),\"\")","v":""},{"$f":"IFERROR(INDEX('Podświetlanie modułów'!H:H,MATCH(G310,'Podświetlanie modułów'!F:F,0)),0)","v":0},{"$f":"IF(AO310*1>0,\"x\",IF(COUNTIF(Kalkulacja!$A$230:$A$233,\"x\")>0,\"x\",0))","v":"x"},"TRUE",{"$f":"MATCH(G310,Kalkulacja!$I$1:$I$416,0)","v":231},null,null,2,{"$f":"IFERROR(INDEX($Y$310:$Y$313,MATCH(\"x\",Z310:Z313,0)),1)","v":1},0,null,{"$f":"Kalkulacja!I230","v":"Lista wpisów BASIC układ regularny"},1,{"$f":"INDEX(Kalkulacja!$C$230:$C$233,MATCH(X310,Kalkulacja!$I$230:$I$233,0))","v":0},"Lista wpisów BASIC układ nieregularny",null,null,null,null,{"$f":"IFERROR(INDEX(Kalkulacja!V:V,Q310),0)","v":"x"},0,null,null,null,{"$f":"IFERROR(IF($J$115>0,INDEX(Kalkulacja!D:D,Q311),\"\"),\"\")","v":""},null,null,null,false]
[null,null,null,{"$f":"IFERROR(IF(N311>0,\"SUGEROWANE\",IF((INDEX(Kalkulacja!B:B,MATCH(G311,Kalkulacja!I:I,0)))=\"x\",\"USŁUGA\",\"\")),\"\")","v":""},"i",null,{"$f":"Kalkulacja!I234","v":"Czas czytania wpisu"},null,null,0,{"$f":"IFERROR(IF(Kalkulacja!$G$2=\"x\",INDEX(Kalkulacja!$Y$1:$Y$416,Q311),\"\"),\"\")","v":""},{"$f":"IFERROR(IF(Kalkulacja!$D$2=\"x\",IF(INDEX(Kalkulacja!J:J,Q310)=\"od\",\"od\",\"\"),\"\"),\"\")","v":""},{"$f":"IFERROR(IF(AND(Kalkulacja!$D$2=\"x\",$J$115>0),(IF(INDEX(Kalkulacja!D:D,Q311)=\"x\",\"Nie-Elementor\",\"\")),\"\"),\"\")","v":""},{"$f":"IFERROR(INDEX('Podświetlanie modułów'!H:H,MATCH(G311,'Podświetlanie modułów'!F:F,0)),0)","v":0},{"$f":"IF(AO311*1>0,\"x\",IF(INDEX(Kalkulacja!A:A,Q311)=\"x\",\"x\",0))","v":0},"FALSE",{"$f":"MATCH(G311,Kalkulacja!$I$1:$I$416,0)","v":234},null,null,0,null,0,null,{"$f":"Kalkulacja!I231","v":"Lista wpisów BASIC układ nieregularny"},2,{"$f":"INDEX(Kalkulacja!$C$230:$C$233,MATCH(X311,Kalkulacja!$I$230:$I$233,0))","v":0},"Czas czytania wpisu",null,null,null,null,{"$f":"IFERROR(INDEX(Kalkulacja!V:V,Q311),0)","v":0},0,null,null,null,{"$f":"IFERROR(IF($J$115>0,INDEX(Kalkulacja!D:D,Q312),\"\"),\"\")","v":""},null,null,null,false]
[null,null,null,{"$f":"IFERROR(IF(N312>0,\"SUGEROWANE\",IF((INDEX(Kalkulacja!B:B,MATCH(G312,Kalkulacja!I:I,0)))=\"x\",\"USŁUGA\",\"\")),\"\")","v":""},"i",null,{"$f":"Kalkulacja!I235","v":"Pasek postępu czytania"},null,null,0,{"$f":"IFERROR(IF(Kalkulacja!$G$2=\"x\",INDEX(Kalkulacja!$Y$1:$Y$416,Q312),\"\"),\"\")","v":""},{"$f":"IFERROR(IF(Kalkulacja!$D$2=\"x\",IF(INDEX(Kalkulacja!J:J,Q311)=\"od\",\"od\",\"\"),\"\"),\"\")","v":""},{"$f":"IFERROR(IF(AND(Kalkulacja!$D$2=\"x\",$J$115>0),(IF(INDEX(Kalkulacja!D:D,Q312)=\"x\",\"Nie-Elementor\",\"\")),\"\"),\"\")","v":""},{"$f":"IFERROR(INDEX('Podświetlanie modułów'!H:H,MATCH(G312,'Podświetlanie modułów'!F:F,0)),0)","v":0},{"$f":"IF(AO312*1>0,\"x\",IF(INDEX(Kalkulacja!A:A,Q312)=\"x\",\"x\",0))","v":0},"FALSE",{"$f":"MATCH(G312,Kalkulacja!$I$1:$I$416,0)","v":235},null,null,0,null,0,null,{"$f":"Kalkulacja!I232","v":"Lista wpisów PREMIUM układ regularny"},3,{"$f":"INDEX(Kalkulacja!$C$230:$C$233,MATCH(X312,Kalkulacja!$I$230:$I$233,0))","v":0},"Pasek postępu czytania",null,null,null,null,{"$f":"IFERROR(INDEX(Kalkulacja!V:V,Q312),0)","v":0},0,null,null,null,{"$f":"IFERROR(IF($J$115>0,INDEX(Kalkulacja!D:D,Q313),\"\"),\"\")","v":""},null,null,null,false]
[null,null,null,{"$f":"IFERROR(IF(N313>0,\"SUGEROWANE\",IF((INDEX(Kalkulacja!B:B,MATCH(G313,Kalkulacja!I:I,0)))=\"x\",\"USŁUGA\",\"\")),\"\")","v":""},"i",null,{"$f":"Kalkulacja!I236","v":"Doładowywanie kolejnych 2 wpisów"},null,null,0,{"$f":"IFERROR(IF(Kalkulacja!$G$2=\"x\",INDEX(Kalkulacja!$Y$1:$Y$416,Q313),\"\"),\"\")","v":""},{"$f":"IFERROR(IF(Kalkulacja!$D$2=\"x\",IF(INDEX(Kalkulacja!J:J,Q312)=\"od\",\"od\",\"\"),\"\"),\"\")","v":""},{"$f":"IFERROR(IF(AND(Kalkulacja!$D$2=\"x\",$J$115>0),(IF(INDEX(Kalkulacja!D:D,Q313)=\"x\",\"Nie-Elementor\",\"\")),\"\"),\"\")","v":""},{"$f":"IFERROR(INDEX('Podświetlanie modułów'!H:H,MATCH(G313,'Podświetlanie modułów'!F:F,0)),0)","v":0},{"$f":"IF(AO313*1>0,\"x\",IF(INDEX(Kalkulacja!A:A,Q313)=\"x\",\"x\",0))","v":0},"FALSE",{"$f":"MATCH(G313,Kalkulacja!$I$1:$I$416,0)","v":236},null,null,0,null,0,null,{"$f":"Kalkulacja!I233","v":"Lista wpisów PREMIUM układ nieregularny"},4,{"$f":"INDEX(Kalkulacja!$C$230:$C$233,MATCH(X313,Kalkulacja!$I$230:$I$233,0))","v":0},"Doładowywanie kolejnych 2 wpisów",null,null,null,null,{"$f":"IFERROR(INDEX(Kalkulacja!V:V,Q313),0)","v":0},0,null,null,null,{"$f":"IFERROR(IF($J$115>0,INDEX(Kalkulacja!D:D,Q314),\"\"),\"\")","v":""},null,null,null,false]
[null,null,null,{"$f":"IFERROR(IF(N314>0,\"SUGEROWANE\",IF((INDEX(Kalkulacja!B:B,MATCH(G314,Kalkulacja!I:I,0)))=\"x\",\"USŁUGA\",\"\")),\"\")","v":""},"i",null,{"$f":"Kalkulacja!I237","v":"Playlisty wpisów"},null,null,0,{"$f":"IFERROR(IF(Kalkulacja!$G$2=\"x\",INDEX(Kalkulacja!$Y$1:$Y$416,Q314),\"\"),\"\")","v":""},{"$f":"IFERROR(IF(Kalkulacja!$D$2=\"x\",IF(INDEX(Kalkulacja!J:J,Q313)=\"od\",\"od\",\"\"),\"\"),\"\")","v":""},{"$f":"IFERROR(IF(AND(Kalkulacja!$D$2=\"x\",$J$115>0),(IF(INDEX(Kalkulacja!D:D,Q314)=\"x\",\"Nie-Elementor\",\"\")),\"\"),\"\")","v":""},{"$f":"IFERROR(INDEX('Podświetlanie modułów'!H:H,MATCH(G314,'Podświetlanie modułów'!F:F,0)),0)","v":0},{"$f":"IF(AO314*1>0,\"x\",IF(INDEX(Kalkulacja!A:A,Q314)=\"x\",\"x\",0))","v":0},"FALSE",{"$f":"MATCH(G314,Kalkulacja!$I$1:$I$416,0)","v":237},null,null,0,null,0,null,null,null,null,"Playlisty wpisów",null,null,null,null,{"$f":"IFERROR(INDEX(Kalkulacja!V:V,Q314),0)","v":0},0,null,null,null,{"$f":"IFERROR(IF($J$115>0,INDEX(Kalkulacja!D:D,Q315),\"\"),\"\")","v":""},null,null,null,false]
[null,null,null,{"$f":"IFERROR(IF(N315>0,\"SUGEROWANE\",IF((INDEX(Kalkulacja!B:B,MATCH(G315,Kalkulacja!I:I,0)))=\"x\",\"USŁUGA\",\"\")),\"\")","v":""},"i",null,{"$f":"Kalkulacja!I238","v":"Podobne wpisy"},null,null,0,{"$f":"IFERROR(IF(Kalkulacja!$G$2=\"x\",INDEX(Kalkulacja!$Y$1:$Y$416,Q315),\"\"),\"\")","v":""},{"$f":"IFERROR(IF(Kalkulacja!$D$2=\"x\",IF(INDEX(Kalkulacja!J:J,Q314)=\"od\",\"od\",\"\"),\"\"),\"\")","v":""},{"$f":"IFERROR(IF(AND(Kalkulacja!$D$2=\"x\",$J$115>0),(IF(INDEX(Kalkulacja!D:D,Q315)=\"x\",\"Nie-Elementor\",\"\")),\"\"),\"\")","v":""},{"$f":"IFERROR(INDEX('Podświetlanie modułów'!H:H,MATCH(G315,'Podświetlanie modułów'!F:F,0)),0)","v":0},{"$f":"IF(AO315*1>0,\"x\",IF(INDEX(Kalkulacja!A:A,Q315)=\"x\",\"x\",0))","v":"x"},"TRUE",{"$f":"MATCH(G315,Kalkulacja!$I$1:$I$416,0)","v":238},null,null,0,null,0,null,null,null,null,"Podobne wpisy",null,null,null,null,{"$f":"IFERROR(INDEX(Kalkulacja!V:V,Q315),0)","v":0},0,null,null,null,{"$f":"IFERROR(IF($J$115>0,INDEX(Kalkulacja!D:D,Q316),\"\"),\"\")","v":""},null,null,null,false]
[null,null,null,{"$f":"IFERROR(IF(N316>0,\"SUGEROWANE\",IF((INDEX(Kalkulacja!B:B,MATCH(G316,Kalkulacja!I:I,0)))=\"x\",\"USŁUGA\",\"\")),\"\")","v":""},"i",null,{"$f":"Kalkulacja!I239","v":"Komentarze Disqus"},null,null,0,{"$f":"IFERROR(IF(Kalkulacja!$G$2=\"x\",INDEX(Kalkulacja!$Y$1:$Y$416,Q316),\"\"),\"\")","v":""},{"$f":"IFERROR(IF(Kalkulacja!$D$2=\"x\",IF(INDEX(Kalkulacja!J:J,Q315)=\"od\",\"od\",\"\"),\"\"),\"\")","v":""},{"$f":"IFERROR(IF(AND(Kalkulacja!$D$2=\"x\",$J$115>0),(IF(INDEX(Kalkulacja!D:D,Q316)=\"x\",\"Nie-Elementor\",\"\")),\"\"),\"\")","v":""},{"$f":"IFERROR(INDEX('Podświetlanie modułów'!H:H,MATCH(G316,'Podświetlanie modułów'!F:F,0)),0)","v":0},{"$f":"IF(AO316*1>0,\"x\",IF(INDEX(Kalkulacja!A:A,Q316)=\"x\",\"x\",0))","v":0},"FALSE",{"$f":"MATCH(G316,Kalkulacja!$I$1:$I$416,0)","v":239},null,null,0,null,0,null,null,null,null,"Komentarze Disqus",null,null,null,null,{"$f":"IFERROR(INDEX(Kalkulacja!V:V,Q316),0)","v":0},0,null,null,null,{"$f":"IFERROR(IF($J$115>0,INDEX(Kalkulacja!D:D,Q317),\"\"),\"\")","v":""},null,null,null,false]
[null,null,null,{"$f":"IFERROR(IF(N317>0,\"SUGEROWANE\",IF((INDEX(Kalkulacja!B:B,MATCH(G317,Kalkulacja!I:I,0)))=\"x\",\"USŁUGA\",\"\")),\"\")","v":""},"i",null,{"$f":"Kalkulacja!I240","v":"Komentarze Facebook"},null,null,0,{"$f":"IFERROR(IF(Kalkulacja!$G$2=\"x\",INDEX(Kalkulacja!$Y$1:$Y$416,Q317),\"\"),\"\")","v":""},{"$f":"IFERROR(IF(Kalkulacja!$D$2=\"x\",IF(INDEX(Kalkulacja!J:J,Q316)=\"od\",\"od\",\"\"),\"\"),\"\")","v":""},{"$f":"IFERROR(IF(AND(Kalkulacja!$D$2=\"x\",$J$115>0),(IF(INDEX(Kalkulacja!D:D,Q317)=\"x\",\"Nie-Elementor\",\"\")),\"\"),\"\")","v":""},{"$f":"IFERROR(INDEX('Podświetlanie modułów'!H:H,MATCH(G317,'Podświetlanie modułów'!F:F,0)),0)","v":0},{"$f":"IF(AO317*1>0,\"x\",IF(INDEX(Kalkulacja!A:A,Q317)=\"x\",\"x\",0))","v":0},"FALSE",{"$f":"MATCH(G317,Kalkulacja!$I$1:$I$416,0)","v":240},null,null,0,null,0,null,null,null,null,"Komentarze Facebook",null,null,null,null,{"$f":"IFERROR(INDEX(Kalkulacja!V:V,Q317),0)","v":0},0,null,null,null,{"$f":"IFERROR(IF($J$115>0,INDEX(Kalkulacja!D:D,Q318),\"\"),\"\")","v":""},null,null,null,false]
[null,null,null,{"$f":"IFERROR(IF(N318>0,\"SUGEROWANE\",IF((INDEX(Kalkulacja!B:B,MATCH(G318,Kalkulacja!I:I,0)))=\"x\",\"USŁUGA\",\"\")),\"\")","v":""},"i",null,{"$f":"Kalkulacja!I241","v":"Ocena artykułu"},null,null,0,{"$f":"IFERROR(IF(Kalkulacja!$G$2=\"x\",INDEX(Kalkulacja!$Y$1:$Y$416,Q318),\"\"),\"\")","v":""},{"$f":"IFERROR(IF(Kalkulacja!$D$2=\"x\",IF(INDEX(Kalkulacja!J:J,Q317)=\"od\",\"od\",\"\"),\"\"),\"\")","v":""},{"$f":"IFERROR(IF(AND(Kalkulacja!$D$2=\"x\",$J$115>0),(IF(INDEX(Kalkulacja!D:D,Q318)=\"x\",\"Nie-Elementor\",\"\")),\"\"),\"\")","v":""},{"$f":"IFERROR(INDEX('Podświetlanie modułów'!H:H,MATCH(G318,'Podświetlanie modułów'!F:F,0)),0)","v":0},{"$f":"IF(AO318*1>0,\"x\",IF(INDEX(Kalkulacja!A:A,Q318)=\"x\",\"x\",0))","v":"x"},"TRUE",{"$f":"MATCH(G318,Kalkulacja!$I$1:$I$416,0)","v":241},null,null,0,null,0,null,null,null,null,"Ocena artykułu",null,null,null,null,{"$f":"IFERROR(INDEX(Kalkulacja!V:V,Q318),0)","v":0},0,null,null,null,{"$f":"IFERROR(IF($J$115>0,INDEX(Kalkulacja!D:D,Q319),\"\"),\"\")","v":""},null,null,null,false]
[null,null,null,{"$f":"IFERROR(IF(N319>0,\"SUGEROWANE\",IF((INDEX(Kalkulacja!B:B,MATCH(G319,Kalkulacja!I:I,0)))=\"x\",\"USŁUGA\",\"\")),\"\")","v":""},"i",null,{"$f":"Kalkulacja!I242","v":"Notka biograficzna autora"},null,null,0,{"$f":"IFERROR(IF(Kalkulacja!$G$2=\"x\",INDEX(Kalkulacja!$Y$1:$Y$416,Q319),\"\"),\"\")","v":""},{"$f":"IFERROR(IF(Kalkulacja!$D$2=\"x\",IF(INDEX(Kalkulacja!J:J,Q318)=\"od\",\"od\",\"\"),\"\"),\"\")","v":""},{"$f":"IFERROR(IF(AND(Kalkulacja!$D$2=\"x\",$J$115>0),(IF(INDEX(Kalkulacja!D:D,Q319)=\"x\",\"Nie-Elementor\",\"\")),\"\"),\"\")","v":""},{"$f":"IFERROR(INDEX('Podświetlanie modułów'!H:H,MATCH(G319,'Podświetlanie modułów'!F:F,0)),0)","v":0},{"$f":"IF(AO319*1>0,\"x\",IF(INDEX(Kalkulacja!A:A,Q319)=\"x\",\"x\",0))","v":"x"},"TRUE",{"$f":"MATCH(G319,Kalkulacja!$I$1:$I$416,0)","v":242},null,null,0,null,0,null,null,null,null,"Notka biograficzna autora",null,null,null,null,{"$f":"IFERROR(INDEX(Kalkulacja!V:V,Q319),0)","v":0},0,null,null,null,{"$f":"IFERROR(IF($J$115>0,INDEX(Kalkulacja!D:D,Q320),\"\"),\"\")","v":""},null,null,null,false]
[null,null,null,{"$f":"IFERROR(IF(N320>0,\"SUGEROWANE\",IF((INDEX(Kalkulacja!B:B,MATCH(G320,Kalkulacja!I:I,0)))=\"x\",\"USŁUGA\",\"\")),\"\")","v":""},"i",null,{"$f":"Kalkulacja!I243","v":"Zapis do newslettera"},null,null,0,{"$f":"IFERROR(IF(Kalkulacja!$G$2=\"x\",INDEX(Kalkulacja!$Y$1:$Y$416,Q320),\"\"),\"\")","v":""},{"$f":"IFERROR(IF(Kalkulacja!$D$2=\"x\",IF(INDEX(Kalkulacja!J:J,Q319)=\"od\",\"od\",\"\"),\"\"),\"\")","v":""},{"$f":"IFERROR(IF(AND(Kalkulacja!$D$2=\"x\",$J$115>0),(IF(INDEX(Kalkulacja!D:D,Q320)=\"x\",\"Nie-Elementor\",\"\")),\"\"),\"\")","v":""},{"$f":"IFERROR(INDEX('Podświetlanie modułów'!H:H,MATCH(G320,'Podświetlanie modułów'!F:F,0)),0)","v":0},{"$f":"IF(AO320*1>0,\"x\",IF(INDEX(Kalkulacja!A:A,Q320)=\"x\",\"x\",0))","v":"x"},"TRUE",{"$f":"MATCH(G320,Kalkulacja!$I$1:$I$416,0)","v":243},null,null,0,null,0,null,null,null,null,{"$f":"G320","v":"Zapis do newslettera"},null,null,null,null,{"$f":"IFERROR(INDEX(Kalkulacja!V:V,Q320),0)","v":0},0,null,null,null,{"$f":"IFERROR(IF($J$115>0,INDEX(Kalkulacja!D:D,Q321),\"\"),\"\")","v":""},null,null,null,false]
[null,null,null,{"$f":"IFERROR(IF(N321>0,\"SUGEROWANE\",IF((INDEX(Kalkulacja!B:B,MATCH(G321,Kalkulacja!I:I,0)))=\"x\",\"USŁUGA\",\"\")),\"\")","v":""},"i",null,{"$f":"Kalkulacja!I244","v":"Zapis na ebook/newsletter wewnątrz treści"},null,null,0,{"$f":"IFERROR(IF(Kalkulacja!$G$2=\"x\",INDEX(Kalkulacja!$Y$1:$Y$416,Q321),\"\"),\"\")","v":""},{"$f":"IFERROR(IF(Kalkulacja!$D$2=\"x\",IF(INDEX(Kalkulacja!J:J,Q320)=\"od\",\"od\",\"\"),\"\"),\"\")","v":""},{"$f":"IFERROR(IF(AND(Kalkulacja!$D$2=\"x\",$J$115>0),(IF(INDEX(Kalkulacja!D:D,Q321)=\"x\",\"Nie-Elementor\",\"\")),\"\"),\"\")","v":""},{"$f":"IFERROR(INDEX('Podświetlanie modułów'!H:H,MATCH(G321,'Podświetlanie modułów'!F:F,0)),0)","v":0},{"$f":"IF(AO321*1>0,\"x\",IF(INDEX(Kalkulacja!A:A,Q321)=\"x\",\"x\",0))","v":"x"},"TRUE",{"$f":"MATCH(G321,Kalkulacja!$I$1:$I$416,0)","v":244},null,null,0,null,0,null,null,null,null,"Zapis na ebook/newsletter wewnątrz treści",null,null,null,null,{"$f":"IFERROR(INDEX(Kalkulacja!V:V,Q321),0)","v":0},0,null,null,null,{"$f":"IFERROR(IF($J$115>0,INDEX(Kalkulacja!D:D,Q322),\"\"),\"\")","v":""},null,null,null,false]
[null,null,null,{"$f":"IFERROR(IF(N322>0,\"SUGEROWANE\",IF((INDEX(Kalkulacja!B:B,MATCH(G322,Kalkulacja!I:I,0)))=\"x\",\"USŁUGA\",\"\")),\"\")","v":""},"i",null,{"$f":"Kalkulacja!I245","v":"TOP3 lub TOP5 artykułów"},null,null,0,{"$f":"IFERROR(IF(Kalkulacja!$G$2=\"x\",INDEX(Kalkulacja!$Y$1:$Y$416,Q322),\"\"),\"\")","v":""},{"$f":"IFERROR(IF(Kalkulacja!$D$2=\"x\",IF(INDEX(Kalkulacja!J:J,Q321)=\"od\",\"od\",\"\"),\"\"),\"\")","v":""},{"$f":"IFERROR(IF(AND(Kalkulacja!$D$2=\"x\",$J$115>0),(IF(INDEX(Kalkulacja!D:D,Q322)=\"x\",\"Nie-Elementor\",\"\")),\"\"),\"\")","v":""},{"$f":"IFERROR(INDEX('Podświetlanie modułów'!H:H,MATCH(G322,'Podświetlanie modułów'!F:F,0)),0)","v":0},{"$f":"IF(AO322*1>0,\"x\",IF(INDEX(Kalkulacja!A:A,Q322)=\"x\",\"x\",0))","v":"x"},"TRUE",{"$f":"MATCH(G322,Kalkulacja!$I$1:$I$416,0)","v":245},null,null,0,null,0,null,null,null,null,"TOP3 lub TOP5 artykułów",null,null,null,null,{"$f":"IFERROR(INDEX(Kalkulacja!V:V,Q322),0)","v":0},0,null,null,null,{"$f":"IFERROR(IF($J$115>0,INDEX(Kalkulacja!D:D,Q323),\"\"),\"\")","v":""},null,null,null,false]
[null,null,null,{"$f":"IFERROR(IF(N323>0,\"SUGEROWANE\",IF((INDEX(Kalkulacja!B:B,MATCH(G323,Kalkulacja!I:I,0)))=\"x\",\"USŁUGA\",\"\")),\"\")","v":""},"i",null,{"$f":"Kalkulacja!I246","v":"Dodatkowy moduł 51"},null,null,0,{"$f":"IFERROR(IF(Kalkulacja!$G$2=\"x\",INDEX(Kalkulacja!$Y$1:$Y$416,Q323),\"\"),\"\")","v":""},{"$f":"IFERROR(IF(Kalkulacja!$D$2=\"x\",IF(INDEX(Kalkulacja!J:J,Q322)=\"od\",\"od\",\"\"),\"\"),\"\")","v":""},{"$f":"IFERROR(IF(AND(Kalkulacja!$D$2=\"x\",$J$115>0),(IF(INDEX(Kalkulacja!D:D,Q323)=\"x\",\"Nie-Elementor\",\"\")),\"\"),\"\")","v":""},{"$f":"IFERROR(INDEX('Podświetlanie modułów'!H:H,MATCH(G323,'Podświetlanie modułów'!F:F,0)),0)","v":0},{"$f":"IF(AO323*1>0,\"x\",IF(INDEX(Kalkulacja!A:A,Q323)=\"x\",\"x\",0))","v":0},"FALSE",{"$f":"MATCH(G323,Kalkulacja!$I$1:$I$416,0)","v":246},null,null,0,null,0,null,null,null,null,"Dodatkowy moduł 51",null,null,null,null,{"$f":"IFERROR(INDEX(Kalkulacja!V:V,Q323),0)","v":0},0,null,null,null,{"$f":"IFERROR(IF($J$115>0,INDEX(Kalkulacja!D:D,Q324),\"\"),\"\")","v":""},null,null,null,false]
[null,null,null,{"$f":"IFERROR(IF(N324>0,\"SUGEROWANE\",IF((INDEX(Kalkulacja!B:B,MATCH(G324,Kalkulacja!I:I,0)))=\"x\",\"USŁUGA\",\"\")),\"\")","v":""},"i",null,{"$f":"Kalkulacja!I247","v":"Dodatkowy moduł 52"},null,null,0,{"$f":"IFERROR(IF(Kalkulacja!$G$2=\"x\",INDEX(Kalkulacja!$Y$1:$Y$416,Q324),\"\"),\"\")","v":""},{"$f":"IFERROR(IF(Kalkulacja!$D$2=\"x\",IF(INDEX(Kalkulacja!J:J,Q323)=\"od\",\"od\",\"\"),\"\"),\"\")","v":""},{"$f":"IFERROR(IF(AND(Kalkulacja!$D$2=\"x\",$J$115>0),(IF(INDEX(Kalkulacja!D:D,Q324)=\"x\",\"Nie-Elementor\",\"\")),\"\"),\"\")","v":""},{"$f":"IFERROR(INDEX('Podświetlanie modułów'!H:H,MATCH(G324,'Podświetlanie modułów'!F:F,0)),0)","v":0},{"$f":"IF(AO324*1>0,\"x\",IF(INDEX(Kalkulacja!A:A,Q324)=\"x\",\"x\",0))","v":0},"FALSE",{"$f":"MATCH(G324,Kalkulacja!$I$1:$I$416,0)","v":247},null,null,0,null,0,null,null,null,null,"Dodatkowy moduł 52",null,null,null,null,{"$f":"IFERROR(INDEX(Kalkulacja!V:V,Q324),0)","v":0},0,null,null,null,{"$f":"IFERROR(IF($J$115>0,INDEX(Kalkulacja!D:D,Q325),\"\"),\"\")","v":""},null,null,null,false]
[null,null,null,{"$f":"IFERROR(IF(N325>0,\"SUGEROWANE\",IF((INDEX(Kalkulacja!B:B,MATCH(G325,Kalkulacja!I:I,0)))=\"x\",\"USŁUGA\",\"\")),\"\")","v":""},"i",null,{"$f":"Kalkulacja!I248","v":"Dodatkowy moduł 53"},null,null,0,{"$f":"IFERROR(IF(Kalkulacja!$G$2=\"x\",INDEX(Kalkulacja!$Y$1:$Y$416,Q325),\"\"),\"\")","v":""},{"$f":"IFERROR(IF(Kalkulacja!$D$2=\"x\",IF(INDEX(Kalkulacja!J:J,Q324)=\"od\",\"od\",\"\"),\"\"),\"\")","v":""},{"$f":"IFERROR(IF(AND(Kalkulacja!$D$2=\"x\",$J$115>0),(IF(INDEX(Kalkulacja!D:D,Q325)=\"x\",\"Nie-Elementor\",\"\")),\"\"),\"\")","v":""},{"$f":"IFERROR(INDEX('Podświetlanie modułów'!H:H,MATCH(G325,'Podświetlanie modułów'!F:F,0)),0)","v":0},{"$f":"IF(AO325*1>0,\"x\",IF(INDEX(Kalkulacja!A:A,Q325)=\"x\",\"x\",0))","v":0},"FALSE",{"$f":"MATCH(G325,Kalkulacja!$I$1:$I$416,0)","v":248},null,null,0,null,0,null,null,null,null,"Dodatkowy moduł 53",null,null,null,null,{"$f":"IFERROR(INDEX(Kalkulacja!V:V,Q325),0)","v":0},0,null,null,null,{"$f":"IFERROR(IF($J$115>0,INDEX(Kalkulacja!D:D,Q326),\"\"),\"\")","v":""},null,null,null,false]
[null,null,null,{"$f":"IFERROR(IF(N326>0,\"SUGEROWANE\",IF((INDEX(Kalkulacja!B:B,MATCH(G326,Kalkulacja!I:I,0)))=\"x\",\"USŁUGA\",\"\")),\"\")","v":""},"i",null,{"$f":"Kalkulacja!I249","v":"Dodatkowy moduł 54"},null,null,0,{"$f":"IFERROR(IF(Kalkulacja!$G$2=\"x\",INDEX(Kalkulacja!$Y$1:$Y$416,Q326),\"\"),\"\")","v":""},{"$f":"IFERROR(IF(Kalkulacja!$D$2=\"x\",IF(INDEX(Kalkulacja!J:J,Q325)=\"od\",\"od\",\"\"),\"\"),\"\")","v":""},{"$f":"IFERROR(IF(AND(Kalkulacja!$D$2=\"x\",$J$115>0),(IF(INDEX(Kalkulacja!D:D,Q326)=\"x\",\"Nie-Elementor\",\"\")),\"\"),\"\")","v":""},{"$f":"IFERROR(INDEX('Podświetlanie modułów'!H:H,MATCH(G326,'Podświetlanie modułów'!F:F,0)),0)","v":0},{"$f":"IF(AO326*1>0,\"x\",IF(INDEX(Kalkulacja!A:A,Q326)=\"x\",\"x\",0))","v":0},"FALSE",{"$f":"MATCH(G326,Kalkulacja!$I$1:$I$416,0)","v":249},null,null,0,null,0,null,null,null,null,"Dodatkowy moduł 54",null,null,null,null,{"$f":"IFERROR(INDEX(Kalkulacja!V:V,Q326),0)","v":0},0,null,null,null,{"$f":"IFERROR(IF($J$115>0,INDEX(Kalkulacja!D:D,Q327),\"\"),\"\")","v":""},null,null,null,false]
[null,null,null,{"$f":"IFERROR(IF(N327>0,\"SUGEROWANE\",IF((INDEX(Kalkulacja!B:B,MATCH(G327,Kalkulacja!I:I,0)))=\"x\",\"USŁUGA\",\"\")),\"\")","v":""},"i",null,{"$f":"Kalkulacja!I250","v":"Dodatkowy moduł 55"},null,null,0,{"$f":"IFERROR(IF(Kalkulacja!$G$2=\"x\",INDEX(Kalkulacja!$Y$1:$Y$416,Q327),\"\"),\"\")","v":""},{"$f":"IFERROR(IF(Kalkulacja!$D$2=\"x\",IF(INDEX(Kalkulacja!J:J,Q326)=\"od\",\"od\",\"\"),\"\"),\"\")","v":""},{"$f":"IFERROR(IF(AND(Kalkulacja!$D$2=\"x\",$J$115>0),(IF(INDEX(Kalkulacja!D:D,Q327)=\"x\",\"Nie-Elementor\",\"\")),\"\"),\"\")","v":""},{"$f":"IFERROR(INDEX('Podświetlanie modułów'!H:H,MATCH(G327,'Podświetlanie modułów'!F:F,0)),0)","v":0},{"$f":"IF(AO327*1>0,\"x\",IF(INDEX(Kalkulacja!A:A,Q327)=\"x\",\"x\",0))","v":0},"FALSE",{"$f":"MATCH(G327,Kalkulacja!$I$1:$I$416,0)","v":250},null,null,0,null,0,null,null,null,null,"Dodatkowy moduł 55",null,null,null,null,{"$f":"IFERROR(INDEX(Kalkulacja!V:V,Q327),0)","v":0},0,null,null,null,{"$f":"IFERROR(IF($J$115>0,INDEX(Kalkulacja!D:D,Q328),\"\"),\"\")","v":""},null,null,null,{"$f":"S327","v":0}]
[null,null,null,{"$f":"IFERROR(IF(N328>0,\"SUGEROWANE\",IF((INDEX(Kalkulacja!B:B,MATCH(G328,Kalkulacja!I:I,0)))=\"x\",\"USŁUGA\",\"\")),\"\")","v":""},{"$f":"Kalkulacja!I251","v":"Serwis informacyjny"},null,null,null,null,null,null,{"$f":"IFERROR(IF(Kalkulacja!$D$2=\"x\",IF(INDEX(Kalkulacja!J:J,Q327)=\"od\",\"od\",\"\"),\"\"),\"\")","v":""},{"$f":"IFERROR(IF(AND(Kalkulacja!$D$2=\"x\",$J$115>0),(IF(INDEX(Kalkulacja!D:D,Q328)=\"x\",\"Nie-Elementor\",\"\")),\"\"),\"\")","v":""},{"$f":"IFERROR(INDEX('Podświetlanie modułów'!H:H,MATCH(G328,'Podświetlanie modułów'!F:F,0)),0)","v":0},{"$f":"IF(COUNTIF(O329:O331,\"x\")>0,\"x\",0)","v":0},"FALSE",{"$f":"MATCH(E328,Kalkulacja!$I$1:$I$416,0)","v":251},null,null,0,null,0,null,null,null,null,0,null,null,null,null,{"$f":"IFERROR(INDEX(Kalkulacja!V:V,Q328),0)","v":0},0,null,null,null,{"$f":"IFERROR(IF($J$115>0,INDEX(Kalkulacja!D:D,Q329),\"\"),\"\")","v":""}]
[null,null,null,{"$f":"IFERROR(IF(N329>0,\"SUGEROWANE\",IF((INDEX(Kalkulacja!B:B,MATCH(G329,Kalkulacja!I:I,0)))=\"x\",\"USŁUGA\",\"\")),\"\")","v":""},"i",null,{"$f":"Kalkulacja!I252","v":"WCAG dostosowanie"},null,null,{"$f":"AO329*1","v":0},{"$f":"IFERROR(IF(Kalkulacja!$G$2=\"x\",INDEX(Kalkulacja!$Y$1:$Y$416,Q329),\"\"),\"\")","v":""},{"$f":"IFERROR(IF(Kalkulacja!$D$2=\"x\",IF(INDEX(Kalkulacja!J:J,Q328)=\"od\",\"od\",\"\"),\"\"),\"\")","v":""},{"$f":"IFERROR(IF(AND(Kalkulacja!$D$2=\"x\",$J$115>0),(IF(INDEX(Kalkulacja!D:D,Q329)=\"x\",\"Nie-Elementor\",\"\")),\"\"),\"\")","v":""},{"$f":"IFERROR(INDEX('Podświetlanie modułów'!H:H,MATCH(G329,'Podświetlanie modułów'!F:F,0)),0)","v":0},{"$f":"IF(AO329*1>0,\"x\",IF(INDEX(Kalkulacja!A:A,Q329)=\"x\",\"x\",0))","v":0},"FALSE",{"$f":"MATCH(G329,Kalkulacja!$I$1:$I$416,0)","v":252},null,null,0,null,0,null,null,null,null,"WCAG dostosowanie",null,null,null,null,{"$f":"IFERROR(INDEX(Kalkulacja!V:V,Q329),0)","v":0},0,null,null,null,{"$f":"IFERROR(IF($J$115>0,INDEX(Kalkulacja!D:D,Q330),\"\"),\"\")","v":""},null,null,null,false]
[null,null,null,{"$f":"IFERROR(IF(N330>0,\"SUGEROWANE\",IF((INDEX(Kalkulacja!B:B,MATCH(G330,Kalkulacja!I:I,0)))=\"x\",\"USŁUGA\",\"\")),\"\")","v":""},"i",null,{"$f":"Kalkulacja!I253","v":"Dodatkowy moduł 56"},null,null,{"$f":"AO330*1","v":0},{"$f":"IFERROR(IF(Kalkulacja!$G$2=\"x\",INDEX(Kalkulacja!$Y$1:$Y$416,Q330),\"\"),\"\")","v":""},{"$f":"IFERROR(IF(Kalkulacja!$D$2=\"x\",IF(INDEX(Kalkulacja!J:J,Q329)=\"od\",\"od\",\"\"),\"\"),\"\")","v":""},{"$f":"IFERROR(IF(AND(Kalkulacja!$D$2=\"x\",$J$115>0),(IF(INDEX(Kalkulacja!D:D,Q330)=\"x\",\"Nie-Elementor\",\"\")),\"\"),\"\")","v":""},{"$f":"IFERROR(INDEX('Podświetlanie modułów'!H:H,MATCH(G330,'Podświetlanie modułów'!F:F,0)),0)","v":0},{"$f":"IF(AO330*1>0,\"x\",IF(INDEX(Kalkulacja!A:A,Q330)=\"x\",\"x\",0))","v":0},"FALSE",{"$f":"MATCH(G330,Kalkulacja!$I$1:$I$416,0)","v":253},null,null,0,null,0,null,null,null,null,"Dodatkowy moduł 56",null,null,null,null,{"$f":"IFERROR(INDEX(Kalkulacja!V:V,Q330),0)","v":0},0,null,null,null,{"$f":"IFERROR(IF($J$115>0,INDEX(Kalkulacja!D:D,Q331),\"\"),\"\")","v":""},null,null,null,false]
[null,null,null,{"$f":"IFERROR(IF(N331>0,\"SUGEROWANE\",IF((INDEX(Kalkulacja!B:B,MATCH(G331,Kalkulacja!I:I,0)))=\"x\",\"USŁUGA\",\"\")),\"\")","v":""},"i",null,{"$f":"Kalkulacja!I254","v":"Dodatkowy moduł 57"},null,null,{"$f":"AO331*1","v":0},{"$f":"IFERROR(IF(Kalkulacja!$G$2=\"x\",INDEX(Kalkulacja!$Y$1:$Y$416,Q331),\"\"),\"\")","v":""},{"$f":"IFERROR(IF(Kalkulacja!$D$2=\"x\",IF(INDEX(Kalkulacja!J:J,Q330)=\"od\",\"od\",\"\"),\"\"),\"\")","v":""},{"$f":"IFERROR(IF(AND(Kalkulacja!$D$2=\"x\",$J$115>0),(IF(INDEX(Kalkulacja!D:D,Q331)=\"x\",\"Nie-Elementor\",\"\")),\"\"),\"\")","v":""},{"$f":"IFERROR(INDEX('Podświetlanie modułów'!H:H,MATCH(G331,'Podświetlanie modułów'!F:F,0)),0)","v":0},{"$f":"IF(AO331*1>0,\"x\",IF(INDEX(Kalkulacja!A:A,Q331)=\"x\",\"x\",0))","v":0},"FALSE",{"$f":"MATCH(G331,Kalkulacja!$I$1:$I$416,0)","v":254},null,null,0,null,0,null,null,null,null,"Dodatkowy moduł 57",null,null,null,null,{"$f":"IFERROR(INDEX(Kalkulacja!V:V,Q331),0)","v":0},0,null,null,null,{"$f":"IFERROR(IF($J$115>0,INDEX(Kalkulacja!D:D,Q332),\"\"),\"\")","v":""},null,null,null,false]
[null,null,null,{"$f":"IFERROR(IF(N332>0,\"SUGEROWANE\",IF((INDEX(Kalkulacja!B:B,MATCH(G332,Kalkulacja!I:I,0)))=\"x\",\"USŁUGA\",\"\")),\"\")","v":""},{"$f":"Kalkulacja!I255","v":"Moduły Deweloper"},null,null,null,null,null,null,{"$f":"IFERROR(IF(Kalkulacja!$D$2=\"x\",IF(INDEX(Kalkulacja!J:J,Q331)=\"od\",\"od\",\"\"),\"\"),\"\")","v":""},{"$f":"IFERROR(IF(AND(Kalkulacja!$D$2=\"x\",$J$115>0),(IF(INDEX(Kalkulacja!D:D,Q332)=\"x\",\"Nie-Elementor\",\"\")),\"\"),\"\")","v":""},{"$f":"IFERROR(INDEX('Podświetlanie modułów'!H:H,MATCH(G332,'Podświetlanie modułów'!F:F,0)),0)","v":0},{"$f":"IF(COUNTIF(O333:O346,\"x\")>0,\"x\",0)","v":0},"FALSE",{"$f":"MATCH(E332,Kalkulacja!$I$1:$I$416,0)","v":255},null,null,0,null,0,null,null,null,null,0,null,null,null,null,{"$f":"IFERROR(INDEX(Kalkulacja!V:V,Q332),0)","v":0},0,null,null,null,{"$f":"IFERROR(IF($J$115>0,INDEX(Kalkulacja!D:D,Q333),\"\"),\"\")","v":""}]
[null,null,null,{"$f":"IFERROR(IF(N333>0,\"SUGEROWANE\",IF((INDEX(Kalkulacja!B:B,MATCH(G333,Kalkulacja!I:I,0)))=\"x\",\"USŁUGA\",\"\")),\"\")","v":""},"i",null,{"$f":"Kalkulacja!I256","v":"Interaktywne budynki"},null,null,{"$f":"AO333*1","v":0},{"$f":"IFERROR(IF(Kalkulacja!$G$2=\"x\",INDEX(Kalkulacja!$Y$1:$Y$416,Q333),\"\"),\"\")","v":""},{"$f":"IFERROR(IF(Kalkulacja!$D$2=\"x\",IF(INDEX(Kalkulacja!J:J,Q332)=\"od\",\"od\",\"\"),\"\"),\"\")","v":""},{"$f":"IFERROR(IF(AND(Kalkulacja!$D$2=\"x\",$J$115>0),(IF(INDEX(Kalkulacja!D:D,Q333)=\"x\",\"Nie-Elementor\",\"\")),\"\"),\"\")","v":""},{"$f":"IFERROR(INDEX('Podświetlanie modułów'!H:H,MATCH(G333,'Podświetlanie modułów'!F:F,0)),0)","v":0},{"$f":"IF(AO333*1>0,\"x\",IF(INDEX(Kalkulacja!A:A,Q333)=\"x\",\"x\",0))","v":0},"FALSE",{"$f":"MATCH(G333,Kalkulacja!$I$1:$I$416,0)","v":256},null,null,0,null,0,null,null,null,null,"Interaktywne budynki",null,null,null,null,{"$f":"IFERROR(INDEX(Kalkulacja!V:V,Q333),0)","v":0},0,null,null,null,{"$f":"IFERROR(IF($J$115>0,INDEX(Kalkulacja!D:D,Q334),\"\"),\"\")","v":""},null,null,null,false]
[null,null,null,{"$f":"IFERROR(IF(N334>0,\"SUGEROWANE\",IF((INDEX(Kalkulacja!B:B,MATCH(G334,Kalkulacja!I:I,0)))=\"x\",\"USŁUGA\",\"\")),\"\")","v":""},"i",null,{"$f":"Kalkulacja!I257","v":"Wybór piętra w budynku (1 kondygnacja)"},null,null,0,{"$f":"IFERROR(IF(Kalkulacja!$G$2=\"x\",INDEX(Kalkulacja!$Y$1:$Y$416,Q334),\"\"),\"\")","v":""},{"$f":"IFERROR(IF(Kalkulacja!$D$2=\"x\",IF(INDEX(Kalkulacja!J:J,Q333)=\"od\",\"od\",\"\"),\"\"),\"\")","v":""},{"$f":"IFERROR(IF(AND(Kalkulacja!$D$2=\"x\",$J$115>0),(IF(INDEX(Kalkulacja!D:D,Q334)=\"x\",\"Nie-Elementor\",\"\")),\"\"),\"\")","v":""},{"$f":"IFERROR(INDEX('Podświetlanie modułów'!H:H,MATCH(G334,'Podświetlanie modułów'!F:F,0)),0)","v":0},{"$f":"IF(AO334*1>0,\"x\",IF(INDEX(Kalkulacja!A:A,Q334)=\"x\",\"x\",0))","v":0},"FALSE",{"$f":"MATCH(G334,Kalkulacja!$I$1:$I$416,0)","v":257},null,null,0,null,0,null,null,null,null,"Wybór piętra w budynku (1 kondygnacja)",null,null,null,null,{"$f":"IFERROR(INDEX(Kalkulacja!V:V,Q334),0)","v":0},0,null,null,null,{"$f":"IFERROR(IF($J$115>0,INDEX(Kalkulacja!D:D,Q335),\"\"),\"\")","v":""},null,null,null,false]
[null,null,null,{"$f":"IFERROR(IF(N335>0,\"SUGEROWANE\",IF((INDEX(Kalkulacja!B:B,MATCH(G335,Kalkulacja!I:I,0)))=\"x\",\"USŁUGA\",\"\")),\"\")","v":""},"i",null,{"$f":"Kalkulacja!I258","v":"Rzut kondygnacji + lista mieszkań z dostępnością"},null,null,0,{"$f":"IFERROR(IF(Kalkulacja!$G$2=\"x\",INDEX(Kalkulacja!$Y$1:$Y$416,Q335),\"\"),\"\")","v":""},{"$f":"IFERROR(IF(Kalkulacja!$D$2=\"x\",IF(INDEX(Kalkulacja!J:J,Q334)=\"od\",\"od\",\"\"),\"\"),\"\")","v":""},{"$f":"IFERROR(IF(AND(Kalkulacja!$D$2=\"x\",$J$115>0),(IF(INDEX(Kalkulacja!D:D,Q335)=\"x\",\"Nie-Elementor\",\"\")),\"\"),\"\")","v":""},{"$f":"IFERROR(INDEX('Podświetlanie modułów'!H:H,MATCH(G335,'Podświetlanie modułów'!F:F,0)),0)","v":0},{"$f":"IF(AO335*1>0,\"x\",IF(INDEX(Kalkulacja!A:A,Q335)=\"x\",\"x\",0))","v":0},"FALSE",{"$f":"MATCH(G335,Kalkulacja!$I$1:$I$416,0)","v":258},null,null,0,null,0,null,null,null,null,"Rzut kondygnacji + lista mieszkań z dostępnością",null,null,null,null,{"$f":"IFERROR(INDEX(Kalkulacja!V:V,Q335),0)","v":0},0,null,null,null,{"$f":"IFERROR(IF($J$115>0,INDEX(Kalkulacja!D:D,Q336),\"\"),\"\")","v":""},null,null,null,false]
[null,null,null,{"$f":"IFERROR(IF(N336>0,\"SUGEROWANE\",IF((INDEX(Kalkulacja!B:B,MATCH(G336,Kalkulacja!I:I,0)))=\"x\",\"USŁUGA\",\"\")),\"\")","v":""},"i",null,{"$f":"Kalkulacja!I259","v":"Plan mieszkania + karta do pobrania"},null,null,0,{"$f":"IFERROR(IF(Kalkulacja!$G$2=\"x\",INDEX(Kalkulacja!$Y$1:$Y$416,Q336),\"\"),\"\")","v":""},{"$f":"IFERROR(IF(Kalkulacja!$D$2=\"x\",IF(INDEX(Kalkulacja!J:J,Q335)=\"od\",\"od\",\"\"),\"\"),\"\")","v":""},{"$f":"IFERROR(IF(AND(Kalkulacja!$D$2=\"x\",$J$115>0),(IF(INDEX(Kalkulacja!D:D,Q336)=\"x\",\"Nie-Elementor\",\"\")),\"\"),\"\")","v":""},{"$f":"IFERROR(INDEX('Podświetlanie modułów'!H:H,MATCH(G336,'Podświetlanie modułów'!F:F,0)),0)","v":0},{"$f":"IF(AO336*1>0,\"x\",IF(INDEX(Kalkulacja!A:A,Q336)=\"x\",\"x\",0))","v":0},"FALSE",{"$f":"MATCH(G336,Kalkulacja!$I$1:$I$416,0)","v":259},null,null,0,null,0,null,null,null,null,"Plan mieszkania + karta do pobrania",null,null,null,null,{"$f":"IFERROR(INDEX(Kalkulacja!V:V,Q336),0)","v":0},0,null,null,null,{"$f":"IFERROR(IF($J$115>0,INDEX(Kalkulacja!D:D,Q337),\"\"),\"\")","v":""},null,null,null,false]
[null,null,null,{"$f":"IFERROR(IF(N337>0,\"SUGEROWANE\",IF((INDEX(Kalkulacja!B:B,MATCH(G337,Kalkulacja!I:I,0)))=\"x\",\"USŁUGA\",\"\")),\"\")","v":"USŁUGA"},"i",null,{"$f":"Kalkulacja!I260","v":"Dodanie lokalu z parametrami"},null,null,0,{"$f":"IFERROR(IF(Kalkulacja!$G$2=\"x\",INDEX(Kalkulacja!$Y$1:$Y$416,Q337),\"\"),\"\")","v":""},{"$f":"IFERROR(IF(Kalkulacja!$D$2=\"x\",IF(INDEX(Kalkulacja!J:J,Q336)=\"od\",\"od\",\"\"),\"\"),\"\")","v":""},{"$f":"IFERROR(IF(AND(Kalkulacja!$D$2=\"x\",$J$115>0),(IF(INDEX(Kalkulacja!D:D,Q337)=\"x\",\"Nie-Elementor\",\"\")),\"\"),\"\")","v":""},{"$f":"IFERROR(INDEX('Podświetlanie modułów'!H:H,MATCH(G337,'Podświetlanie modułów'!F:F,0)),0)","v":0},{"$f":"IF(AO337*1>0,\"x\",IF(INDEX(Kalkulacja!A:A,Q337)=\"x\",\"x\",0))","v":0},"FALSE",{"$f":"MATCH(G337,Kalkulacja!$I$1:$I$416,0)","v":260},null,null,0,null,0,null,null,null,null,"Dodanie lokalu z parametrami",null,null,null,null,{"$f":"IFERROR(INDEX(Kalkulacja!V:V,Q337),0)","v":0},0,null,null,null,{"$f":"IFERROR(IF($J$115>0,INDEX(Kalkulacja!D:D,Q338),\"\"),\"\")","v":""},null,null,null,false]
[null,null,null,{"$f":"IFERROR(IF(N338>0,\"SUGEROWANE\",IF((INDEX(Kalkulacja!B:B,MATCH(G338,Kalkulacja!I:I,0)))=\"x\",\"USŁUGA\",\"\")),\"\")","v":"USŁUGA"},"i",null,{"$f":"Kalkulacja!I261","v":"Dodanie lokalu bez parametrów"},null,null,0,{"$f":"IFERROR(IF(Kalkulacja!$G$2=\"x\",INDEX(Kalkulacja!$Y$1:$Y$416,Q338),\"\"),\"\")","v":""},{"$f":"IFERROR(IF(Kalkulacja!$D$2=\"x\",IF(INDEX(Kalkulacja!J:J,Q337)=\"od\",\"od\",\"\"),\"\"),\"\")","v":""},{"$f":"IFERROR(IF(AND(Kalkulacja!$D$2=\"x\",$J$115>0),(IF(INDEX(Kalkulacja!D:D,Q338)=\"x\",\"Nie-Elementor\",\"\")),\"\"),\"\")","v":""},{"$f":"IFERROR(INDEX('Podświetlanie modułów'!H:H,MATCH(G338,'Podświetlanie modułów'!F:F,0)),0)","v":0},{"$f":"IF(AO338*1>0,\"x\",IF(INDEX(Kalkulacja!A:A,Q338)=\"x\",\"x\",0))","v":0},"FALSE",{"$f":"MATCH(G338,Kalkulacja!$I$1:$I$416,0)","v":261},null,null,0,null,0,null,null,null,null,"Dodanie lokalu bez parametrów",null,null,null,null,{"$f":"IFERROR(INDEX(Kalkulacja!V:V,Q338),0)","v":0},0,null,null,null,{"$f":"IFERROR(IF($J$115>0,INDEX(Kalkulacja!D:D,Q339),\"\"),\"\")","v":""},null,null,null,false]
[null,null,null,{"$f":"IFERROR(IF(N339>0,\"SUGEROWANE\",IF((INDEX(Kalkulacja!B:B,MATCH(G339,Kalkulacja!I:I,0)))=\"x\",\"USŁUGA\",\"\")),\"\")","v":""},"i",null,{"$f":"Kalkulacja!I262","v":"Wyszukiwarka mieszkań"},null,null,0,{"$f":"IFERROR(IF(Kalkulacja!$G$2=\"x\",INDEX(Kalkulacja!$Y$1:$Y$416,Q339),\"\"),\"\")","v":""},{"$f":"IFERROR(IF(Kalkulacja!$D$2=\"x\",IF(INDEX(Kalkulacja!J:J,Q338)=\"od\",\"od\",\"\"),\"\"),\"\")","v":""},{"$f":"IFERROR(IF(AND(Kalkulacja!$D$2=\"x\",$J$115>0),(IF(INDEX(Kalkulacja!D:D,Q339)=\"x\",\"Nie-Elementor\",\"\")),\"\"),\"\")","v":""},{"$f":"IFERROR(INDEX('Podświetlanie modułów'!H:H,MATCH(G339,'Podświetlanie modułów'!F:F,0)),0)","v":0},{"$f":"IF(AO339*1>0,\"x\",IF(INDEX(Kalkulacja!A:A,Q339)=\"x\",\"x\",0))","v":0},"FALSE",{"$f":"MATCH(G339,Kalkulacja!$I$1:$I$416,0)","v":262},null,null,0,null,0,null,null,null,null,"Wyszukiwarka mieszkań",null,null,null,null,{"$f":"IFERROR(INDEX(Kalkulacja!V:V,Q339),0)","v":0},0,null,null,null,{"$f":"IFERROR(IF($J$115>0,INDEX(Kalkulacja!D:D,Q340),\"\"),\"\")","v":""},null,null,null,false]
[null,null,null,{"$f":"IFERROR(IF(N340>0,\"SUGEROWANE\",IF((INDEX(Kalkulacja!B:B,MATCH(G340,Kalkulacja!I:I,0)))=\"x\",\"USŁUGA\",\"\")),\"\")","v":""},"i",null,{"$f":"Kalkulacja!I263","v":"Formularz zapytania (popup)"},null,null,0,{"$f":"IFERROR(IF(Kalkulacja!$G$2=\"x\",INDEX(Kalkulacja!$Y$1:$Y$416,Q340),\"\"),\"\")","v":""},{"$f":"IFERROR(IF(Kalkulacja!$D$2=\"x\",IF(INDEX(Kalkulacja!J:J,Q339)=\"od\",\"od\",\"\"),\"\"),\"\")","v":""},{"$f":"IFERROR(IF(AND(Kalkulacja!$D$2=\"x\",$J$115>0),(IF(INDEX(Kalkulacja!D:D,Q340)=\"x\",\"Nie-Elementor\",\"\")),\"\"),\"\")","v":""},{"$f":"IFERROR(INDEX('Podświetlanie modułów'!H:H,MATCH(G340,'Podświetlanie modułów'!F:F,0)),0)","v":0},{"$f":"IF(AO340*1>0,\"x\",IF(INDEX(Kalkulacja!A:A,Q340)=\"x\",\"x\",0))","v":0},"FALSE",{"$f":"MATCH(G340,Kalkulacja!$I$1:$I$416,0)","v":263},null,null,0,null,0,null,null,null,null,"Formularz zapytania (popup)",null,null,null,null,{"$f":"IFERROR(INDEX(Kalkulacja!V:V,Q340),0)","v":0},0,null,null,null,{"$f":"IFERROR(IF($J$115>0,INDEX(Kalkulacja!D:D,Q341),\"\"),\"\")","v":""},null,null,null,false]
[null,null,null,{"$f":"IFERROR(IF(N341>0,\"SUGEROWANE\",IF((INDEX(Kalkulacja!B:B,MATCH(G341,Kalkulacja!I:I,0)))=\"x\",\"USŁUGA\",\"\")),\"\")","v":""},"i",null,{"$f":"Kalkulacja!I264","v":"Dziennik budowy"},null,null,0,{"$f":"IFERROR(IF(Kalkulacja!$G$2=\"x\",INDEX(Kalkulacja!$Y$1:$Y$416,Q341),\"\"),\"\")","v":""},{"$f":"IFERROR(IF(Kalkulacja!$D$2=\"x\",IF(INDEX(Kalkulacja!J:J,Q340)=\"od\",\"od\",\"\"),\"\"),\"\")","v":""},{"$f":"IFERROR(IF(AND(Kalkulacja!$D$2=\"x\",$J$115>0),(IF(INDEX(Kalkulacja!D:D,Q341)=\"x\",\"Nie-Elementor\",\"\")),\"\"),\"\")","v":""},{"$f":"IFERROR(INDEX('Podświetlanie modułów'!H:H,MATCH(G341,'Podświetlanie modułów'!F:F,0)),0)","v":0},{"$f":"IF(AO341*1>0,\"x\",IF(INDEX(Kalkulacja!A:A,Q341)=\"x\",\"x\",0))","v":0},"FALSE",{"$f":"MATCH(G341,Kalkulacja!$I$1:$I$416,0)","v":264},null,null,0,null,0,null,null,null,null,"Dziennik budowy",null,null,null,null,{"$f":"IFERROR(INDEX(Kalkulacja!V:V,Q341),0)","v":0},0,null,null,null,{"$f":"IFERROR(IF($J$115>0,INDEX(Kalkulacja!D:D,Q342),\"\"),\"\")","v":""},null,null,null,false]
[null,null,null,{"$f":"IFERROR(IF(N342>0,\"SUGEROWANE\",IF((INDEX(Kalkulacja!B:B,MATCH(G342,Kalkulacja!I:I,0)))=\"x\",\"USŁUGA\",\"\")),\"\")","v":""},"i",null,{"$f":"Kalkulacja!I265","v":"Dodatkowy moduł 58"},null,null,0,{"$f":"IFERROR(IF(Kalkulacja!$G$2=\"x\",INDEX(Kalkulacja!$Y$1:$Y$416,Q342),\"\"),\"\")","v":""},{"$f":"IFERROR(IF(Kalkulacja!$D$2=\"x\",IF(INDEX(Kalkulacja!J:J,Q341)=\"od\",\"od\",\"\"),\"\"),\"\")","v":""},{"$f":"IFERROR(IF(AND(Kalkulacja!$D$2=\"x\",$J$115>0),(IF(INDEX(Kalkulacja!D:D,Q342)=\"x\",\"Nie-Elementor\",\"\")),\"\"),\"\")","v":""},{"$f":"IFERROR(INDEX('Podświetlanie modułów'!H:H,MATCH(G342,'Podświetlanie modułów'!F:F,0)),0)","v":0},{"$f":"IF(AO342*1>0,\"x\",IF(INDEX(Kalkulacja!A:A,Q342)=\"x\",\"x\",0))","v":0},"FALSE",{"$f":"MATCH(G342,Kalkulacja!$I$1:$I$416,0)","v":265},null,null,{"$f":"U342","v":0},null,{"$f":"AG342","v":0},null,null,null,null,"Dodatkowy moduł 58",null,null,null,null,{"$f":"IFERROR(INDEX(Kalkulacja!V:V,Q342),0)","v":0},0,null,null,null,{"$f":"IFERROR(IF($J$115>0,INDEX(Kalkulacja!D:D,Q343),\"\"),\"\")","v":""},null,null,null,{"$f":"S342","v":0}]
[null,null,null,{"$f":"IFERROR(IF(N343>0,\"SUGEROWANE\",IF((INDEX(Kalkulacja!B:B,MATCH(G343,Kalkulacja!I:I,0)))=\"x\",\"USŁUGA\",\"\")),\"\")","v":""},"i",null,{"$f":"Kalkulacja!I266","v":"Dodatkowy moduł 59"},null,null,0,{"$f":"IFERROR(IF(Kalkulacja!$G$2=\"x\",INDEX(Kalkulacja!$Y$1:$Y$416,Q343),\"\"),\"\")","v":""},{"$f":"IFERROR(IF(Kalkulacja!$D$2=\"x\",IF(INDEX(Kalkulacja!J:J,Q342)=\"od\",\"od\",\"\"),\"\"),\"\")","v":""},{"$f":"IFERROR(IF(AND(Kalkulacja!$D$2=\"x\",$J$115>0),(IF(INDEX(Kalkulacja!D:D,Q343)=\"x\",\"Nie-Elementor\",\"\")),\"\"),\"\")","v":""},{"$f":"IFERROR(INDEX('Podświetlanie modułów'!H:H,MATCH(G343,'Podświetlanie modułów'!F:F,0)),0)","v":0},{"$f":"IF(AO343*1>0,\"x\",IF(INDEX(Kalkulacja!A:A,Q343)=\"x\",\"x\",0))","v":0},"FALSE",{"$f":"MATCH(G343,Kalkulacja!$I$1:$I$416,0)","v":266},null,null,0,null,0,null,null,null,null,"Dodatkowy moduł 59",null,null,null,null,{"$f":"IFERROR(INDEX(Kalkulacja!V:V,Q343),0)","v":0},0,null,null,null,{"$f":"IFERROR(IF($J$115>0,INDEX(Kalkulacja!D:D,Q344),\"\"),\"\")","v":""},null,null,null,0]
[null,null,null,{"$f":"IFERROR(IF(N344>0,\"SUGEROWANE\",IF((INDEX(Kalkulacja!B:B,MATCH(G344,Kalkulacja!I:I,0)))=\"x\",\"USŁUGA\",\"\")),\"\")","v":""},"i",null,{"$f":"Kalkulacja!I267","v":"Dodatkowy moduł 60"},null,null,0,{"$f":"IFERROR(IF(Kalkulacja!$G$2=\"x\",INDEX(Kalkulacja!$Y$1:$Y$416,Q344),\"\"),\"\")","v":""},{"$f":"IFERROR(IF(Kalkulacja!$D$2=\"x\",IF(INDEX(Kalkulacja!J:J,Q343)=\"od\",\"od\",\"\"),\"\"),\"\")","v":""},{"$f":"IFERROR(IF(AND(Kalkulacja!$D$2=\"x\",$J$115>0),(IF(INDEX(Kalkulacja!D:D,Q344)=\"x\",\"Nie-Elementor\",\"\")),\"\"),\"\")","v":""},{"$f":"IFERROR(INDEX('Podświetlanie modułów'!H:H,MATCH(G344,'Podświetlanie modułów'!F:F,0)),0)","v":0},{"$f":"IF(AO344*1>0,\"x\",IF(INDEX(Kalkulacja!A:A,Q344)=\"x\",\"x\",0))","v":0},"FALSE",{"$f":"MATCH(G344,Kalkulacja!$I$1:$I$416,0)","v":267},null,null,0,null,0,null,null,null,null,"Dodatkowy moduł 60",null,null,null,null,{"$f":"IFERROR(INDEX(Kalkulacja!V:V,Q344),0)","v":0},0,null,null,null,{"$f":"IFERROR(IF($J$115>0,INDEX(Kalkulacja!D:D,Q345),\"\"),\"\")","v":""},null,null,null,0]
[null,null,null,{"$f":"IFERROR(IF(N345>0,\"SUGEROWANE\",IF((INDEX(Kalkulacja!B:B,MATCH(G345,Kalkulacja!I:I,0)))=\"x\",\"USŁUGA\",\"\")),\"\")","v":""},"i",null,{"$f":"Kalkulacja!I268","v":"Dodatkowy moduł 61"},null,null,0,{"$f":"IFERROR(IF(Kalkulacja!$G$2=\"x\",INDEX(Kalkulacja!$Y$1:$Y$416,Q345),\"\"),\"\")","v":""},{"$f":"IFERROR(IF(Kalkulacja!$D$2=\"x\",IF(INDEX(Kalkulacja!J:J,Q344)=\"od\",\"od\",\"\"),\"\"),\"\")","v":""},{"$f":"IFERROR(IF(AND(Kalkulacja!$D$2=\"x\",$J$115>0),(IF(INDEX(Kalkulacja!D:D,Q345)=\"x\",\"Nie-Elementor\",\"\")),\"\"),\"\")","v":""},{"$f":"IFERROR(INDEX('Podświetlanie modułów'!H:H,MATCH(G345,'Podświetlanie modułów'!F:F,0)),0)","v":0},{"$f":"IF(AO345*1>0,\"x\",IF(INDEX(Kalkulacja!A:A,Q345)=\"x\",\"x\",0))","v":0},"FALSE",{"$f":"MATCH(G345,Kalkulacja!$I$1:$I$416,0)","v":268},null,null,0,null,0,null,null,null,null,"Dodatkowy moduł 61",null,null,null,null,{"$f":"IFERROR(INDEX(Kalkulacja!V:V,Q345),0)","v":0},0,null,null,null,{"$f":"IFERROR(IF($J$115>0,INDEX(Kalkulacja!D:D,Q346),\"\"),\"\")","v":""},null,null,null,0]
[null,null,null,{"$f":"IFERROR(IF(N346>0,\"SUGEROWANE\",IF((INDEX(Kalkulacja!B:B,MATCH(G346,Kalkulacja!I:I,0)))=\"x\",\"USŁUGA\",\"\")),\"\")","v":""},"i",null,{"$f":"Kalkulacja!I269","v":"Dodatkowy moduł 62"},null,null,0,{"$f":"IFERROR(IF(Kalkulacja!$G$2=\"x\",INDEX(Kalkulacja!$Y$1:$Y$416,Q346),\"\"),\"\")","v":""},{"$f":"IFERROR(IF(Kalkulacja!$D$2=\"x\",IF(INDEX(Kalkulacja!J:J,Q345)=\"od\",\"od\",\"\"),\"\"),\"\")","v":""},{"$f":"IFERROR(IF(AND(Kalkulacja!$D$2=\"x\",$J$115>0),(IF(INDEX(Kalkulacja!D:D,Q346)=\"x\",\"Nie-Elementor\",\"\")),\"\"),\"\")","v":""},{"$f":"IFERROR(INDEX('Podświetlanie modułów'!H:H,MATCH(G346,'Podświetlanie modułów'!F:F,0)),0)","v":0},{"$f":"IF(AO346*1>0,\"x\",IF(INDEX(Kalkulacja!A:A,Q346)=\"x\",\"x\",0))","v":0},"FALSE",{"$f":"MATCH(G346,Kalkulacja!$I$1:$I$416,0)","v":269},null,null,0,null,0,null,null,null,null,"Dodatkowy moduł 62",null,null,null,null,{"$f":"IFERROR(INDEX(Kalkulacja!V:V,Q346),0)","v":0},0,null,null,null,{"$f":"IFERROR(IF($J$115>0,INDEX(Kalkulacja!D:D,Q347),\"\"),\"\")","v":""},null,null,null,0]
[null,null,null,{"$f":"IFERROR(IF(N347>0,\"SUGEROWANE\",IF((INDEX(Kalkulacja!B:B,MATCH(G347,Kalkulacja!I:I,0)))=\"x\",\"USŁUGA\",\"\")),\"\")","v":""},{"$f":"Kalkulacja!I270","v":"Moduły Nieruchomości"},null,null,null,null,null,null,{"$f":"IFERROR(IF(Kalkulacja!$D$2=\"x\",IF(INDEX(Kalkulacja!J:J,Q346)=\"od\",\"od\",\"\"),\"\"),\"\")","v":""},{"$f":"IFERROR(IF(AND(Kalkulacja!$D$2=\"x\",$J$115>0),(IF(INDEX(Kalkulacja!D:D,Q347)=\"x\",\"Nie-Elementor\",\"\")),\"\"),\"\")","v":""},{"$f":"IFERROR(INDEX('Podświetlanie modułów'!H:H,MATCH(G347,'Podświetlanie modułów'!F:F,0)),0)","v":0},{"$f":"IF(COUNTIF(O348:O360,\"x\")>0,\"x\",0)","v":0},"FALSE",{"$f":"MATCH(E347,Kalkulacja!$I$1:$I$416,0)","v":270},null,null,0,null,0,null,null,null,null,0,null,null,null,null,{"$f":"IFERROR(INDEX(Kalkulacja!V:V,Q347),0)","v":0},0,null,null,null,{"$f":"IFERROR(IF($J$115>0,INDEX(Kalkulacja!D:D,Q348),\"\"),\"\")","v":""}]
[null,null,null,{"$f":"IFERROR(IF(N348>0,\"SUGEROWANE\",IF((INDEX(Kalkulacja!B:B,MATCH(G348,Kalkulacja!I:I,0)))=\"x\",\"USŁUGA\",\"\")),\"\")","v":""},"i",null,{"$f":"Kalkulacja!I271","v":"Oferty nieruchomości"},null,null,{"$f":"AO348*1","v":0},{"$f":"IFERROR(IF(Kalkulacja!$G$2=\"x\",INDEX(Kalkulacja!$Y$1:$Y$416,Q348),\"\"),\"\")","v":""},{"$f":"IFERROR(IF(Kalkulacja!$D$2=\"x\",IF(INDEX(Kalkulacja!J:J,Q347)=\"od\",\"od\",\"\"),\"\"),\"\")","v":""},{"$f":"IFERROR(IF(AND(Kalkulacja!$D$2=\"x\",$J$115>0),(IF(INDEX(Kalkulacja!D:D,Q348)=\"x\",\"Nie-Elementor\",\"\")),\"\"),\"\")","v":""},{"$f":"IFERROR(INDEX('Podświetlanie modułów'!H:H,MATCH(G348,'Podświetlanie modułów'!F:F,0)),0)","v":0},{"$f":"IF(AO348*1>0,\"x\",IF(INDEX(Kalkulacja!A:A,Q348)=\"x\",\"x\",0))","v":0},{"$f":"IF(O348=\"x\",\"TRUE\",\"FALSE\")","v":"FALSE"},{"$f":"MATCH(G348,Kalkulacja!$I$1:$I$416,0)","v":271},null,null,0,null,0,null,null,null,null,"Oferty nieruchomości",null,null,null,null,{"$f":"IFERROR(INDEX(Kalkulacja!V:V,Q348),0)","v":0},0,null,null,null,{"$f":"IFERROR(IF($J$115>0,INDEX(Kalkulacja!D:D,Q349),\"\"),\"\")","v":""},null,null,null,false]
[null,null,null,{"$f":"IFERROR(IF(N349>0,\"SUGEROWANE\",IF((INDEX(Kalkulacja!B:B,MATCH(G349,Kalkulacja!I:I,0)))=\"x\",\"USŁUGA\",\"\")),\"\")","v":""},"i",null,{"$f":"Kalkulacja!I272","v":"Wyszukiwarka mieszkań"},null,null,0,{"$f":"IFERROR(IF(Kalkulacja!$G$2=\"x\",INDEX(Kalkulacja!$Y$1:$Y$416,Q349),\"\"),\"\")","v":""},{"$f":"IFERROR(IF(Kalkulacja!$D$2=\"x\",IF(INDEX(Kalkulacja!J:J,Q348)=\"od\",\"od\",\"\"),\"\"),\"\")","v":""},{"$f":"IFERROR(IF(AND(Kalkulacja!$D$2=\"x\",$J$115>0),(IF(INDEX(Kalkulacja!D:D,Q349)=\"x\",\"Nie-Elementor\",\"\")),\"\"),\"\")","v":""},{"$f":"IFERROR(INDEX('Podświetlanie modułów'!H:H,MATCH(G349,'Podświetlanie modułów'!F:F,0)),0)","v":0},{"$f":"IF(AO349*1>0,\"x\",IF(INDEX(Kalkulacja!A:A,Q349)=\"x\",\"x\",0))","v":0},"FALSE",{"$f":"Q348+1","v":272},null,null,0,null,0,null,null,null,null,"Wyszukiwarka mieszkań",null,null,null,null,{"$f":"IFERROR(INDEX(Kalkulacja!V:V,Q349),0)","v":0},0,null,null,null,{"$f":"IFERROR(IF($J$115>0,INDEX(Kalkulacja!D:D,Q350),\"\"),\"\")","v":""},null,null,null,false]
[null,null,null,{"$f":"IFERROR(IF(N350>0,\"SUGEROWANE\",IF((INDEX(Kalkulacja!B:B,MATCH(G350,Kalkulacja!I:I,0)))=\"x\",\"USŁUGA\",\"\")),\"\")","v":""},"i",null,{"$f":"Kalkulacja!I273","v":"Widoki kafelkowe lista mapa"},null,null,0,{"$f":"IFERROR(IF(Kalkulacja!$G$2=\"x\",INDEX(Kalkulacja!$Y$1:$Y$416,Q350),\"\"),\"\")","v":""},{"$f":"IFERROR(IF(Kalkulacja!$D$2=\"x\",IF(INDEX(Kalkulacja!J:J,Q349)=\"od\",\"od\",\"\"),\"\"),\"\")","v":""},{"$f":"IFERROR(IF(AND(Kalkulacja!$D$2=\"x\",$J$115>0),(IF(INDEX(Kalkulacja!D:D,Q350)=\"x\",\"Nie-Elementor\",\"\")),\"\"),\"\")","v":""},{"$f":"IFERROR(INDEX('Podświetlanie modułów'!H:H,MATCH(G350,'Podświetlanie modułów'!F:F,0)),0)","v":0},{"$f":"IF(AO350*1>0,\"x\",IF(INDEX(Kalkulacja!A:A,Q350)=\"x\",\"x\",0))","v":0},"FALSE",{"$f":"MATCH(G350,Kalkulacja!$I$1:$I$416,0)","v":273},null,null,0,null,0,null,null,null,null,"Widoki kafelkowe lista mapa",null,null,null,null,{"$f":"IFERROR(INDEX(Kalkulacja!V:V,Q350),0)","v":0},0,null,null,null,{"$f":"IFERROR(IF($J$115>0,INDEX(Kalkulacja!D:D,Q351),\"\"),\"\")","v":""},null,null,null,false]
[null,null,null,{"$f":"IFERROR(IF(N351>0,\"SUGEROWANE\",IF((INDEX(Kalkulacja!B:B,MATCH(G351,Kalkulacja!I:I,0)))=\"x\",\"USŁUGA\",\"\")),\"\")","v":""},"i",null,{"$f":"Kalkulacja!I274","v":"Generator ofert PDF dla klienta"},null,null,0,{"$f":"IFERROR(IF(Kalkulacja!$G$2=\"x\",INDEX(Kalkulacja!$Y$1:$Y$416,Q351),\"\"),\"\")","v":""},{"$f":"IFERROR(IF(Kalkulacja!$D$2=\"x\",IF(INDEX(Kalkulacja!J:J,Q350)=\"od\",\"od\",\"\"),\"\"),\"\")","v":""},{"$f":"IFERROR(IF(AND(Kalkulacja!$D$2=\"x\",$J$115>0),(IF(INDEX(Kalkulacja!D:D,Q351)=\"x\",\"Nie-Elementor\",\"\")),\"\"),\"\")","v":""},{"$f":"IFERROR(INDEX('Podświetlanie modułów'!H:H,MATCH(G351,'Podświetlanie modułów'!F:F,0)),0)","v":0},{"$f":"IF(AO351*1>0,\"x\",IF(INDEX(Kalkulacja!A:A,Q351)=\"x\",\"x\",0))","v":0},"FALSE",{"$f":"MATCH(G351,Kalkulacja!$I$1:$I$416,0)","v":274},null,null,0,null,0,null,null,null,null,"Generator ofert PDF dla klienta",null,null,null,null,{"$f":"IFERROR(INDEX(Kalkulacja!V:V,Q351),0)","v":0},0,null,null,null,{"$f":"IFERROR(IF($J$115>0,INDEX(Kalkulacja!D:D,Q352),\"\"),\"\")","v":""},null,null,null,false]
[null,null,null,{"$f":"IFERROR(IF(N352>0,\"SUGEROWANE\",IF((INDEX(Kalkulacja!B:B,MATCH(G352,Kalkulacja!I:I,0)))=\"x\",\"USŁUGA\",\"\")),\"\")","v":""},"i",null,{"$f":"Kalkulacja!I275","v":"Generator ofert PDF do gabloty"},null,null,0,{"$f":"IFERROR(IF(Kalkulacja!$G$2=\"x\",INDEX(Kalkulacja!$Y$1:$Y$416,Q352),\"\"),\"\")","v":""},{"$f":"IFERROR(IF(Kalkulacja!$D$2=\"x\",IF(INDEX(Kalkulacja!J:J,Q351)=\"od\",\"od\",\"\"),\"\"),\"\")","v":""},{"$f":"IFERROR(IF(AND(Kalkulacja!$D$2=\"x\",$J$115>0),(IF(INDEX(Kalkulacja!D:D,Q352)=\"x\",\"Nie-Elementor\",\"\")),\"\"),\"\")","v":""},{"$f":"IFERROR(INDEX('Podświetlanie modułów'!H:H,MATCH(G352,'Podświetlanie modułów'!F:F,0)),0)","v":0},{"$f":"IF(AO352*1>0,\"x\",IF(INDEX(Kalkulacja!A:A,Q352)=\"x\",\"x\",0))","v":0},"FALSE",{"$f":"MATCH(G352,Kalkulacja!$I$1:$I$416,0)","v":275},null,null,0,null,0,null,null,null,null,"Generator ofert PDF do gabloty",null,null,null,null,{"$f":"IFERROR(INDEX(Kalkulacja!V:V,Q352),0)","v":0},0,null,null,null,{"$f":"IFERROR(IF($J$115>0,INDEX(Kalkulacja!D:D,Q353),\"\"),\"\")","v":""},null,null,null,false]
[null,null,null,{"$f":"IFERROR(IF(N353>0,\"SUGEROWANE\",IF((INDEX(Kalkulacja!B:B,MATCH(G353,Kalkulacja!I:I,0)))=\"x\",\"USŁUGA\",\"\")),\"\")","v":""},"i",null,{"$f":"Kalkulacja!I276","v":"Kalkulator kosztów "},null,null,0,{"$f":"IFERROR(IF(Kalkulacja!$G$2=\"x\",INDEX(Kalkulacja!$Y$1:$Y$416,Q353),\"\"),\"\")","v":""},{"$f":"IFERROR(IF(Kalkulacja!$D$2=\"x\",IF(INDEX(Kalkulacja!J:J,Q352)=\"od\",\"od\",\"\"),\"\"),\"\")","v":""},{"$f":"IFERROR(IF(AND(Kalkulacja!$D$2=\"x\",$J$115>0),(IF(INDEX(Kalkulacja!D:D,Q353)=\"x\",\"Nie-Elementor\",\"\")),\"\"),\"\")","v":""},{"$f":"IFERROR(INDEX('Podświetlanie modułów'!H:H,MATCH(G353,'Podświetlanie modułów'!F:F,0)),0)","v":0},{"$f":"IF(AO353*1>0,\"x\",IF(INDEX(Kalkulacja!A:A,Q353)=\"x\",\"x\",0))","v":0},"FALSE",{"$f":"MATCH(G353,Kalkulacja!$I$1:$I$416,0)","v":276},null,null,0,null,0,null,null,null,null,"Kalkulator kosztów ",null,null,null,null,{"$f":"IFERROR(INDEX(Kalkulacja!V:V,Q353),0)","v":0},0,null,null,null,{"$f":"IFERROR(IF($J$115>0,INDEX(Kalkulacja!D:D,Q354),\"\"),\"\")","v":""},null,null,null,false]
[null,null,null,{"$f":"IFERROR(IF(N354>0,\"SUGEROWANE\",IF((INDEX(Kalkulacja!B:B,MATCH(G354,Kalkulacja!I:I,0)))=\"x\",\"USŁUGA\",\"\")),\"\")","v":""},"i",null,{"$f":"Kalkulacja!I277","v":"Prezentacja oferty z Google Street View"},null,null,0,{"$f":"IFERROR(IF(Kalkulacja!$G$2=\"x\",INDEX(Kalkulacja!$Y$1:$Y$416,Q354),\"\"),\"\")","v":""},{"$f":"IFERROR(IF(Kalkulacja!$D$2=\"x\",IF(INDEX(Kalkulacja!J:J,Q353)=\"od\",\"od\",\"\"),\"\"),\"\")","v":""},{"$f":"IFERROR(IF(AND(Kalkulacja!$D$2=\"x\",$J$115>0),(IF(INDEX(Kalkulacja!D:D,Q354)=\"x\",\"Nie-Elementor\",\"\")),\"\"),\"\")","v":""},{"$f":"IFERROR(INDEX('Podświetlanie modułów'!H:H,MATCH(G354,'Podświetlanie modułów'!F:F,0)),0)","v":0},{"$f":"IF(AO354*1>0,\"x\",IF(INDEX(Kalkulacja!A:A,Q354)=\"x\",\"x\",0))","v":0},"FALSE",{"$f":"MATCH(G354,Kalkulacja!$I$1:$I$416,0)","v":277},null,null,0,null,0,null,null,null,null,"Prezentacja oferty z Google Street View",null,null,null,null,{"$f":"IFERROR(INDEX(Kalkulacja!V:V,Q354),0)","v":0},0,null,null,null,{"$f":"IFERROR(IF($J$115>0,INDEX(Kalkulacja!D:D,Q355),\"\"),\"\")","v":""},null,null,null,false]
[null,null,null,{"$f":"IFERROR(IF(N355>0,\"SUGEROWANE\",IF((INDEX(Kalkulacja!B:B,MATCH(G355,Kalkulacja!I:I,0)))=\"x\",\"USŁUGA\",\"\")),\"\")","v":""},"i",null,{"$f":"Kalkulacja!I278","v":"Oferty agenta"},null,null,0,{"$f":"IFERROR(IF(Kalkulacja!$G$2=\"x\",INDEX(Kalkulacja!$Y$1:$Y$416,Q355),\"\"),\"\")","v":""},{"$f":"IFERROR(IF(Kalkulacja!$D$2=\"x\",IF(INDEX(Kalkulacja!J:J,Q354)=\"od\",\"od\",\"\"),\"\"),\"\")","v":""},{"$f":"IFERROR(IF(AND(Kalkulacja!$D$2=\"x\",$J$115>0),(IF(INDEX(Kalkulacja!D:D,Q355)=\"x\",\"Nie-Elementor\",\"\")),\"\"),\"\")","v":""},{"$f":"IFERROR(INDEX('Podświetlanie modułów'!H:H,MATCH(G355,'Podświetlanie modułów'!F:F,0)),0)","v":0},{"$f":"IF(AO355*1>0,\"x\",IF(INDEX(Kalkulacja!A:A,Q355)=\"x\",\"x\",0))","v":0},"FALSE",{"$f":"MATCH(G355,Kalkulacja!$I$1:$I$416,0)","v":278},null,null,0,null,0,null,null,null,null,"Oferty agenta",null,null,null,null,{"$f":"IFERROR(INDEX(Kalkulacja!V:V,Q355),0)","v":0},0,null,null,null,{"$f":"IFERROR(IF($J$115>0,INDEX(Kalkulacja!D:D,Q356),\"\"),\"\")","v":""},null,null,null,false]
[null,null,null,{"$f":"IFERROR(IF(N356>0,\"SUGEROWANE\",IF((INDEX(Kalkulacja!B:B,MATCH(G356,Kalkulacja!I:I,0)))=\"x\",\"USŁUGA\",\"\")),\"\")","v":""},"i",null,{"$f":"Kalkulacja!I279","v":"Dodatkowy moduł 63"},null,null,0,{"$f":"IFERROR(IF(Kalkulacja!$G$2=\"x\",INDEX(Kalkulacja!$Y$1:$Y$416,Q356),\"\"),\"\")","v":""},{"$f":"IFERROR(IF(Kalkulacja!$D$2=\"x\",IF(INDEX(Kalkulacja!J:J,Q355)=\"od\",\"od\",\"\"),\"\"),\"\")","v":""},{"$f":"IFERROR(IF(AND(Kalkulacja!$D$2=\"x\",$J$115>0),(IF(INDEX(Kalkulacja!D:D,Q356)=\"x\",\"Nie-Elementor\",\"\")),\"\"),\"\")","v":""},{"$f":"IFERROR(INDEX('Podświetlanie modułów'!H:H,MATCH(G356,'Podświetlanie modułów'!F:F,0)),0)","v":0},{"$f":"IF(AO356*1>0,\"x\",IF(INDEX(Kalkulacja!A:A,Q356)=\"x\",\"x\",0))","v":0},"FALSE",{"$f":"MATCH(G356,Kalkulacja!$I$1:$I$416,0)","v":279},null,null,0,null,0,null,null,null,null,"Dodatkowy moduł 63",null,null,null,null,{"$f":"IFERROR(INDEX(Kalkulacja!V:V,Q356),0)","v":0},0,null,null,null,{"$f":"IFERROR(IF($J$115>0,INDEX(Kalkulacja!D:D,Q357),\"\"),\"\")","v":""},null,null,null,false]
[null,null,null,{"$f":"IFERROR(IF(N357>0,\"SUGEROWANE\",IF((INDEX(Kalkulacja!B:B,MATCH(G357,Kalkulacja!I:I,0)))=\"x\",\"USŁUGA\",\"\")),\"\")","v":""},"i",null,{"$f":"Kalkulacja!I280","v":"Dodatkowy moduł 64"},null,null,0,{"$f":"IFERROR(IF(Kalkulacja!$G$2=\"x\",INDEX(Kalkulacja!$Y$1:$Y$416,Q357),\"\"),\"\")","v":""},{"$f":"IFERROR(IF(Kalkulacja!$D$2=\"x\",IF(INDEX(Kalkulacja!J:J,Q356)=\"od\",\"od\",\"\"),\"\"),\"\")","v":""},{"$f":"IFERROR(IF(AND(Kalkulacja!$D$2=\"x\",$J$115>0),(IF(INDEX(Kalkulacja!D:D,Q357)=\"x\",\"Nie-Elementor\",\"\")),\"\"),\"\")","v":""},{"$f":"IFERROR(INDEX('Podświetlanie modułów'!H:H,MATCH(G357,'Podświetlanie modułów'!F:F,0)),0)","v":0},{"$f":"IF(AO357*1>0,\"x\",IF(INDEX(Kalkulacja!A:A,Q357)=\"x\",\"x\",0))","v":0},"FALSE",{"$f":"MATCH(G357,Kalkulacja!$I$1:$I$416,0)","v":280},null,null,0,null,0,null,null,null,null,"Dodatkowy moduł 64",null,null,null,null,{"$f":"IFERROR(INDEX(Kalkulacja!V:V,Q357),0)","v":0},0,null,null,null,{"$f":"IFERROR(IF($J$115>0,INDEX(Kalkulacja!D:D,Q358),\"\"),\"\")","v":""},null,null,null,false]
[null,null,null,{"$f":"IFERROR(IF(N358>0,\"SUGEROWANE\",IF((INDEX(Kalkulacja!B:B,MATCH(G358,Kalkulacja!I:I,0)))=\"x\",\"USŁUGA\",\"\")),\"\")","v":""},"i",null,{"$f":"Kalkulacja!I281","v":"Dodatkowy moduł 65"},null,null,0,{"$f":"IFERROR(IF(Kalkulacja!$G$2=\"x\",INDEX(Kalkulacja!$Y$1:$Y$416,Q358),\"\"),\"\")","v":""},{"$f":"IFERROR(IF(Kalkulacja!$D$2=\"x\",IF(INDEX(Kalkulacja!J:J,Q357)=\"od\",\"od\",\"\"),\"\"),\"\")","v":""},{"$f":"IFERROR(IF(AND(Kalkulacja!$D$2=\"x\",$J$115>0),(IF(INDEX(Kalkulacja!D:D,Q358)=\"x\",\"Nie-Elementor\",\"\")),\"\"),\"\")","v":""},{"$f":"IFERROR(INDEX('Podświetlanie modułów'!H:H,MATCH(G358,'Podświetlanie modułów'!F:F,0)),0)","v":0},{"$f":"IF(AO358*1>0,\"x\",IF(INDEX(Kalkulacja!A:A,Q358)=\"x\",\"x\",0))","v":0},"FALSE",{"$f":"MATCH(G358,Kalkulacja!$I$1:$I$416,0)","v":281},null,null,0,null,0,null,null,null,null,"Dodatkowy moduł 65",null,null,null,null,{"$f":"IFERROR(INDEX(Kalkulacja!V:V,Q358),0)","v":0},0,null,null,null,{"$f":"IFERROR(IF($J$115>0,INDEX(Kalkulacja!D:D,Q359),\"\"),\"\")","v":""},null,null,null,false]
[null,null,null,{"$f":"IFERROR(IF(N359>0,\"SUGEROWANE\",IF((INDEX(Kalkulacja!B:B,MATCH(G359,Kalkulacja!I:I,0)))=\"x\",\"USŁUGA\",\"\")),\"\")","v":""},"i",null,{"$f":"Kalkulacja!I282","v":"Dodatkowy moduł 66"},null,null,0,{"$f":"IFERROR(IF(Kalkulacja!$G$2=\"x\",INDEX(Kalkulacja!$Y$1:$Y$416,Q359),\"\"),\"\")","v":""},{"$f":"IFERROR(IF(Kalkulacja!$D$2=\"x\",IF(INDEX(Kalkulacja!J:J,Q358)=\"od\",\"od\",\"\"),\"\"),\"\")","v":""},{"$f":"IFERROR(IF(AND(Kalkulacja!$D$2=\"x\",$J$115>0),(IF(INDEX(Kalkulacja!D:D,Q359)=\"x\",\"Nie-Elementor\",\"\")),\"\"),\"\")","v":""},{"$f":"IFERROR(INDEX('Podświetlanie modułów'!H:H,MATCH(G359,'Podświetlanie modułów'!F:F,0)),0)","v":0},{"$f":"IF(AO359*1>0,\"x\",IF(INDEX(Kalkulacja!A:A,Q359)=\"x\",\"x\",0))","v":0},"FALSE",{"$f":"MATCH(G359,Kalkulacja!$I$1:$I$416,0)","v":282},null,null,0,null,0,null,null,null,null,"Dodatkowy moduł 66",null,null,null,null,{"$f":"IFERROR(INDEX(Kalkulacja!V:V,Q359),0)","v":0},0,null,null,null,{"$f":"IFERROR(IF($J$115>0,INDEX(Kalkulacja!D:D,Q360),\"\"),\"\")","v":""},null,null,null,false]
[null,null,null,{"$f":"IFERROR(IF(N360>0,\"SUGEROWANE\",IF((INDEX(Kalkulacja!B:B,MATCH(G360,Kalkulacja!I:I,0)))=\"x\",\"USŁUGA\",\"\")),\"\")","v":""},"i",null,{"$f":"Kalkulacja!I283","v":"Dodatkowy moduł 67"},null,null,0,{"$f":"IFERROR(IF(Kalkulacja!$G$2=\"x\",INDEX(Kalkulacja!$Y$1:$Y$416,Q360),\"\"),\"\")","v":""},{"$f":"IFERROR(IF(Kalkulacja!$D$2=\"x\",IF(INDEX(Kalkulacja!J:J,Q359)=\"od\",\"od\",\"\"),\"\"),\"\")","v":""},{"$f":"IFERROR(IF(AND(Kalkulacja!$D$2=\"x\",$J$115>0),(IF(INDEX(Kalkulacja!D:D,Q360)=\"x\",\"Nie-Elementor\",\"\")),\"\"),\"\")","v":""},{"$f":"IFERROR(INDEX('Podświetlanie modułów'!H:H,MATCH(G360,'Podświetlanie modułów'!F:F,0)),0)","v":0},{"$f":"IF(AO360*1>0,\"x\",IF(INDEX(Kalkulacja!A:A,Q360)=\"x\",\"x\",0))","v":0},"FALSE",{"$f":"MATCH(G360,Kalkulacja!$I$1:$I$416,0)","v":283},null,null,0,null,0,null,null,null,null,"Dodatkowy moduł 67",null,null,null,null,{"$f":"IFERROR(INDEX(Kalkulacja!V:V,Q360),0)","v":0},0,null,null,null,{"$f":"IFERROR(IF($J$115>0,INDEX(Kalkulacja!D:D,Q361),\"\"),\"\")","v":""},null,null,null,false]
[null,null,null,{"$f":"IFERROR(IF(N361>0,\"SUGEROWANE\",IF((INDEX(Kalkulacja!B:B,MATCH(G361,Kalkulacja!I:I,0)))=\"x\",\"USŁUGA\",\"\")),\"\")","v":""},{"$f":"Kalkulacja!I284","v":"Sklepy"},null,null,null,null,null,null,{"$f":"IFERROR(IF(Kalkulacja!$D$2=\"x\",IF(INDEX(Kalkulacja!J:J,Q360)=\"od\",\"od\",\"\"),\"\"),\"\")","v":""},{"$f":"IFERROR(IF(AND(Kalkulacja!$D$2=\"x\",$J$115>0),(IF(INDEX(Kalkulacja!D:D,Q361)=\"x\",\"Nie-Elementor\",\"\")),\"\"),\"\")","v":""},{"$f":"IFERROR(INDEX('Podświetlanie modułów'!H:H,MATCH(G361,'Podświetlanie modułów'!F:F,0)),0)","v":0},{"$f":"IF(COUNTIF(O362:O486,\"x\")>0,\"x\",0)","v":"x"},"TRUE",{"$f":"MATCH(E361,Kalkulacja!$I$1:$I$416,0)","v":284},null,null,0,null,0,null,null,null,null,0,null,null,null,null,{"$f":"IFERROR(INDEX(Kalkulacja!V:V,Q361),0)","v":0},0,null,null,null,{"$f":"IFERROR(IF($J$115>0,INDEX(Kalkulacja!D:D,Q362),\"\"),\"\")","v":""}]
[null,null,null,{"$f":"IFERROR(IF(N362>0,\"SUGEROWANE\",IF((INDEX(Kalkulacja!B:B,MATCH(G362,Kalkulacja!I:I,0)))=\"x\",\"USŁUGA\",\"\")),\"\")","v":""},{"$f":"Kalkulacja!I285","v":"Projekt graficzny sklepu"},null,null,null,null,null,null,{"$f":"IFERROR(IF(Kalkulacja!$D$2=\"x\",IF(INDEX(Kalkulacja!J:J,Q361)=\"od\",\"od\",\"\"),\"\"),\"\")","v":""},{"$f":"IFERROR(IF(AND(Kalkulacja!$D$2=\"x\",$J$115>0),(IF(INDEX(Kalkulacja!D:D,Q362)=\"x\",\"Nie-Elementor\",\"\")),\"\"),\"\")","v":""},{"$f":"IFERROR(INDEX('Podświetlanie modułów'!H:H,MATCH(G362,'Podświetlanie modułów'!F:F,0)),0)","v":0},{"$f":"IF(COUNTIF(O363:O373,\"x\")>0,\"x\",0)","v":"x"},"TRUE",{"$f":"MATCH(E362,Kalkulacja!$I$1:$I$416,0)","v":285},null,null,0,null,0,null,null,null,null,0,null,null,null,null,{"$f":"IFERROR(INDEX(Kalkulacja!V:V,Q362),0)","v":0},0,null,null,null,{"$f":"IFERROR(IF($J$115>0,INDEX(Kalkulacja!D:D,Q363),\"\"),\"\")","v":""}]
[null,null,null,{"$f":"IFERROR(IF(N363>0,\"SUGEROWANE\",IF((INDEX(Kalkulacja!B:B,MATCH(G363,Kalkulacja!I:I,0)))=\"x\",\"USŁUGA\",\"\")),\"\")","v":""},"i",{"$f":"IF(ISBLANK(G363),\" Wybierz typ strony\",\"\")","v":""},{"$f":"INDEX(X$363:$X366,MATCH($T$363,$Y$363:$Y$366,0))","v":"Strona produktu (zakładki domyślne)"},null,null,{"$f":"AO363*1","v":1},{"$f":"IFERROR(IF(Kalkulacja!$G$2=\"x\",INDEX(Kalkulacja!$Y$1:$Y$416,Q363),\"\"),\"\")","v":""},{"$f":"IFERROR(IF(Kalkulacja!$D$2=\"x\",IF(INDEX(Kalkulacja!J:J,Q362)=\"od\",\"od\",\"\"),\"\"),\"\")","v":""},{"$f":"IFERROR(IF(AND(Kalkulacja!$D$2=\"x\",$J$115>0),(IF(INDEX(Kalkulacja!D:D,Q363)=\"x\",\"Nie-Elementor\",\"\")),\"\"),\"\")","v":""},{"$f":"IFERROR(INDEX('Podświetlanie modułów'!H:H,MATCH(G363,'Podświetlanie modułów'!F:F,0)),0)","v":0},{"$f":"IF(AO363*1>0,\"x\",IF(COUNTIF(Kalkulacja!$A$286:$A$289,\"x\")>0,\"x\",0))","v":"x"},"TRUE",{"$f":"MATCH(G363,Kalkulacja!$I$1:$I$416,0)","v":286},null,null,1,{"$f":"IFERROR(INDEX($Y$363:$Y$366,MATCH(\"x\",Z363:Z366,0)),1)","v":1},0,null,{"$f":"Kalkulacja!I286","v":"Strona produktu (zakładki domyślne)"},1,{"$f":"INDEX(Kalkulacja!$C$286:$C$289,MATCH(X363,Kalkulacja!$I$286:$I$289,0))","v":0},"Strona produktu (zakładki domyślne)",null,null,null,null,{"$f":"IFERROR(INDEX(Kalkulacja!V:V,Q363),0)","v":"x"},0,null,null,null,{"$f":"IFERROR(IF($J$115>0,INDEX(Kalkulacja!D:D,Q364),\"\"),\"\")","v":""},null,null,null,true]
[null,null,null,{"$f":"IFERROR(IF(N364>0,\"SUGEROWANE\",IF((INDEX(Kalkulacja!B:B,MATCH(G364,Kalkulacja!I:I,0)))=\"x\",\"USŁUGA\",\"\")),\"\")","v":""},"i",null,{"$f":"Kalkulacja!I290","v":"Kategoria produktów prosta"},null,null,1,{"$f":"IFERROR(IF(Kalkulacja!$G$2=\"x\",INDEX(Kalkulacja!$Y$1:$Y$416,Q364),\"\"),\"\")","v":""},{"$f":"IFERROR(IF(Kalkulacja!$D$2=\"x\",IF(INDEX(Kalkulacja!J:J,Q363)=\"od\",\"od\",\"\"),\"\"),\"\")","v":""},{"$f":"IFERROR(IF(AND(Kalkulacja!$D$2=\"x\",$J$115>0),(IF(INDEX(Kalkulacja!D:D,Q364)=\"x\",\"Nie-Elementor\",\"\")),\"\"),\"\")","v":""},{"$f":"IFERROR(INDEX('Podświetlanie modułów'!H:H,MATCH(G364,'Podświetlanie modułów'!F:F,0)),0)","v":0},{"$f":"IF(AO364*1>0,\"x\",IF(INDEX(Kalkulacja!A:A,Q364)=\"x\",\"x\",0))","v":"x"},"TRUE",{"$f":"Q365-1","v":290},null,null,0,null,0,null,{"$f":"Kalkulacja!I287","v":"Strona produktu (zakłądki accordions -harmonijka)"},2,{"$f":"INDEX(Kalkulacja!$C$286:$C$289,MATCH(X364,Kalkulacja!$I$286:$I$289,0))","v":0},"Kategoria produktów prosta",null,null,null,null,{"$f":"IFERROR(INDEX(Kalkulacja!V:V,Q364),0)","v":"x"},0,null,null,null,{"$f":"IFERROR(IF($J$115>0,INDEX(Kalkulacja!D:D,Q365),\"\"),\"\")","v":""},null,null,null,true]
[null,null,null,{"$f":"IFERROR(IF(N365>0,\"SUGEROWANE\",IF((INDEX(Kalkulacja!B:B,MATCH(G365,Kalkulacja!I:I,0)))=\"x\",\"USŁUGA\",\"\")),\"\")","v":""},"i",null,{"$f":"Kalkulacja!I291","v":"Kategoria produktów rozbudowana"},null,null,0,{"$f":"IFERROR(IF(Kalkulacja!$G$2=\"x\",INDEX(Kalkulacja!$Y$1:$Y$416,Q365),\"\"),\"\")","v":""},{"$f":"IFERROR(IF(Kalkulacja!$D$2=\"x\",IF(INDEX(Kalkulacja!J:J,Q364)=\"od\",\"od\",\"\"),\"\"),\"\")","v":""},{"$f":"IFERROR(IF(AND(Kalkulacja!$D$2=\"x\",$J$115>0),(IF(INDEX(Kalkulacja!D:D,Q365)=\"x\",\"Nie-Elementor\",\"\")),\"\"),\"\")","v":""},{"$f":"IFERROR(INDEX('Podświetlanie modułów'!H:H,MATCH(G365,'Podświetlanie modułów'!F:F,0)),0)","v":0},{"$f":"IF(AO365*1>0,\"x\",IF(INDEX(Kalkulacja!A:A,Q365)=\"x\",\"x\",0))","v":"x"},"TRUE",{"$f":"Q366-1","v":291},null,null,0,null,0,null,{"$f":"Kalkulacja!I288","v":"Strona produktu + 3 sekcje"},3,{"$f":"INDEX(Kalkulacja!$C$286:$C$289,MATCH(X365,Kalkulacja!$I$286:$I$289,0))","v":0},"Kategoria produktów rozbudowana",null,null,null,null,{"$f":"IFERROR(INDEX(Kalkulacja!V:V,Q365),0)","v":"x"},0,null,null,null,{"$f":"IFERROR(IF($J$115>0,INDEX(Kalkulacja!D:D,Q366),\"\"),\"\")","v":""},null,null,null,false]
[null,null,null,{"$f":"IFERROR(IF(N366>0,\"SUGEROWANE\",IF((INDEX(Kalkulacja!B:B,MATCH(G366,Kalkulacja!I:I,0)))=\"x\",\"USŁUGA\",\"\")),\"\")","v":""},"i",null,{"$f":"Kalkulacja!I292","v":"Koszyk"},null,null,1,{"$f":"IFERROR(IF(Kalkulacja!$G$2=\"x\",INDEX(Kalkulacja!$Y$1:$Y$416,Q366),\"\"),\"\")","v":""},{"$f":"IFERROR(IF(Kalkulacja!$D$2=\"x\",IF(INDEX(Kalkulacja!J:J,Q365)=\"od\",\"od\",\"\"),\"\"),\"\")","v":""},{"$f":"IFERROR(IF(AND(Kalkulacja!$D$2=\"x\",$J$115>0),(IF(INDEX(Kalkulacja!D:D,Q366)=\"x\",\"Nie-Elementor\",\"\")),\"\"),\"\")","v":""},{"$f":"IFERROR(INDEX('Podświetlanie modułów'!H:H,MATCH(G366,'Podświetlanie modułów'!F:F,0)),0)","v":0},{"$f":"IF(AO366*1>0,\"x\",IF(INDEX(Kalkulacja!A:A,Q366)=\"x\",\"x\",0))","v":"x"},"TRUE",{"$f":"Q367-1","v":292},null,null,0,null,0,null,{"$f":"Kalkulacja!I289","v":"Strona produktu + 6 sekcji"},4,{"$f":"INDEX(Kalkulacja!$C$286:$C$289,MATCH(X366,Kalkulacja!$I$286:$I$289,0))","v":0},"Koszyk",null,null,null,null,{"$f":"IFERROR(INDEX(Kalkulacja!V:V,Q366),0)","v":"x"},0,null,null,null,{"$f":"IFERROR(IF($J$115>0,INDEX(Kalkulacja!D:D,Q367),\"\"),\"\")","v":""},null,null,null,true]
[null,null,null,{"$f":"IFERROR(IF(N367>0,\"SUGEROWANE\",IF((INDEX(Kalkulacja!B:B,MATCH(G367,Kalkulacja!I:I,0)))=\"x\",\"USŁUGA\",\"\")),\"\")","v":""},"i",null,{"$f":"Kalkulacja!I293","v":"Zamówienie"},null,null,1,{"$f":"IFERROR(IF(Kalkulacja!$G$2=\"x\",INDEX(Kalkulacja!$Y$1:$Y$416,Q367),\"\"),\"\")","v":""},{"$f":"IFERROR(IF(Kalkulacja!$D$2=\"x\",IF(INDEX(Kalkulacja!J:J,Q366)=\"od\",\"od\",\"\"),\"\"),\"\")","v":""},{"$f":"IFERROR(IF(AND(Kalkulacja!$D$2=\"x\",$J$115>0),(IF(INDEX(Kalkulacja!D:D,Q367)=\"x\",\"Nie-Elementor\",\"\")),\"\"),\"\")","v":""},{"$f":"IFERROR(INDEX('Podświetlanie modułów'!H:H,MATCH(G367,'Podświetlanie modułów'!F:F,0)),0)","v":0},{"$f":"IF(AO367*1>0,\"x\",IF(INDEX(Kalkulacja!A:A,Q367)=\"x\",\"x\",0))","v":"x"},"TRUE",{"$f":"Q368-1","v":293},null,null,0,null,0,null,null,null,null,"Zamówienie",null,null,null,null,{"$f":"IFERROR(INDEX(Kalkulacja!V:V,Q367),0)","v":"x"},0,null,null,null,{"$f":"IFERROR(IF($J$115>0,INDEX(Kalkulacja!D:D,Q368),\"\"),\"\")","v":""},null,null,null,true]
[null,null,null,{"$f":"IFERROR(IF(N368>0,\"SUGEROWANE\",IF((INDEX(Kalkulacja!B:B,MATCH(G368,Kalkulacja!I:I,0)))=\"x\",\"USŁUGA\",\"\")),\"\")","v":""},"i",null,{"$f":"Kalkulacja!I294","v":"Podsumowanie"},null,null,1,{"$f":"IFERROR(IF(Kalkulacja!$G$2=\"x\",INDEX(Kalkulacja!$Y$1:$Y$416,Q368),\"\"),\"\")","v":""},{"$f":"IFERROR(IF(Kalkulacja!$D$2=\"x\",IF(INDEX(Kalkulacja!J:J,Q367)=\"od\",\"od\",\"\"),\"\"),\"\")","v":""},{"$f":"IFERROR(IF(AND(Kalkulacja!$D$2=\"x\",$J$115>0),(IF(INDEX(Kalkulacja!D:D,Q368)=\"x\",\"Nie-Elementor\",\"\")),\"\"),\"\")","v":""},{"$f":"IFERROR(INDEX('Podświetlanie modułów'!H:H,MATCH(G368,'Podświetlanie modułów'!F:F,0)),0)","v":0},{"$f":"IF(AO368*1>0,\"x\",IF(INDEX(Kalkulacja!A:A,Q368)=\"x\",\"x\",0))","v":"x"},"TRUE",{"$f":"Q369-1","v":294},null,null,0,null,0,null,null,null,null,"Podsumowanie",null,null,null,null,{"$f":"IFERROR(INDEX(Kalkulacja!V:V,Q368),0)","v":"x"},0,null,null,null,{"$f":"IFERROR(IF($J$115>0,INDEX(Kalkulacja!D:D,Q369),\"\"),\"\")","v":""},null,null,null,true]
[null,null,null,{"$f":"IFERROR(IF(N369>0,\"SUGEROWANE\",IF((INDEX(Kalkulacja!B:B,MATCH(G369,Kalkulacja!I:I,0)))=\"x\",\"USŁUGA\",\"\")),\"\")","v":""},"i",null,{"$f":"Kalkulacja!I295","v":"Strony: Regulamin Warunki zakupów"},null,null,1,{"$f":"IFERROR(IF(Kalkulacja!$G$2=\"x\",INDEX(Kalkulacja!$Y$1:$Y$416,Q369),\"\"),\"\")","v":""},{"$f":"IFERROR(IF(Kalkulacja!$D$2=\"x\",IF(INDEX(Kalkulacja!J:J,Q368)=\"od\",\"od\",\"\"),\"\"),\"\")","v":""},{"$f":"IFERROR(IF(AND(Kalkulacja!$D$2=\"x\",$J$115>0),(IF(INDEX(Kalkulacja!D:D,Q369)=\"x\",\"Nie-Elementor\",\"\")),\"\"),\"\")","v":""},{"$f":"IFERROR(INDEX('Podświetlanie modułów'!H:H,MATCH(G369,'Podświetlanie modułów'!F:F,0)),0)","v":0},{"$f":"IF(AO369*1>0,\"x\",IF(INDEX(Kalkulacja!A:A,Q369)=\"x\",\"x\",0))","v":"x"},"TRUE",{"$f":"MATCH(G369,Kalkulacja!$I$1:$I$416,0)","v":295},null,null,0,null,0,null,null,null,null,"Strony: Regulamin Warunki zakupów",null,null,null,null,{"$f":"IFERROR(INDEX(Kalkulacja!V:V,Q369),0)","v":"x"},0,null,null,null,{"$f":"IFERROR(IF($J$115>0,INDEX(Kalkulacja!D:D,Q370),\"\"),\"\")","v":""},null,null,null,true]
[null,null,null,{"$f":"IFERROR(IF(N370>0,\"SUGEROWANE\",IF((INDEX(Kalkulacja!B:B,MATCH(G370,Kalkulacja!I:I,0)))=\"x\",\"USŁUGA\",\"\")),\"\")","v":""},"i",null,{"$f":"Kalkulacja!I296","v":"Strony: Zaloguj się i Załóż konto"},null,null,1,{"$f":"IFERROR(IF(Kalkulacja!$G$2=\"x\",INDEX(Kalkulacja!$Y$1:$Y$416,Q370),\"\"),\"\")","v":""},{"$f":"IFERROR(IF(Kalkulacja!$D$2=\"x\",IF(INDEX(Kalkulacja!J:J,Q369)=\"od\",\"od\",\"\"),\"\"),\"\")","v":""},{"$f":"IFERROR(IF(AND(Kalkulacja!$D$2=\"x\",$J$115>0),(IF(INDEX(Kalkulacja!D:D,Q370)=\"x\",\"Nie-Elementor\",\"\")),\"\"),\"\")","v":""},{"$f":"IFERROR(INDEX('Podświetlanie modułów'!H:H,MATCH(G370,'Podświetlanie modułów'!F:F,0)),0)","v":0},{"$f":"IF(AO370*1>0,\"x\",IF(INDEX(Kalkulacja!A:A,Q370)=\"x\",\"x\",0))","v":"x"},"TRUE",{"$f":"MATCH(G370,Kalkulacja!$I$1:$I$416,0)","v":296},null,null,0,null,0,null,null,null,null,"Strony: Zaloguj się i Załóż konto",null,null,null,null,{"$f":"IFERROR(INDEX(Kalkulacja!V:V,Q370),0)","v":"x"},0,null,null,null,{"$f":"IFERROR(IF($J$115>0,INDEX(Kalkulacja!D:D,Q371),\"\"),\"\")","v":""},null,null,null,true]
[null,null,null,{"$f":"IFERROR(IF(N371>0,\"SUGEROWANE\",IF((INDEX(Kalkulacja!B:B,MATCH(G371,Kalkulacja!I:I,0)))=\"x\",\"USŁUGA\",\"\")),\"\")","v":""},"i",null,{"$f":"Kalkulacja!I297","v":"Dodatkowy moduł 68"},null,null,0,{"$f":"IFERROR(IF(Kalkulacja!$G$2=\"x\",INDEX(Kalkulacja!$Y$1:$Y$416,Q371),\"\"),\"\")","v":""},{"$f":"IFERROR(IF(Kalkulacja!$D$2=\"x\",IF(INDEX(Kalkulacja!J:J,Q370)=\"od\",\"od\",\"\"),\"\"),\"\")","v":""},{"$f":"IFERROR(IF(AND(Kalkulacja!$D$2=\"x\",$J$115>0),(IF(INDEX(Kalkulacja!D:D,Q371)=\"x\",\"Nie-Elementor\",\"\")),\"\"),\"\")","v":""},{"$f":"IFERROR(INDEX('Podświetlanie modułów'!H:H,MATCH(G371,'Podświetlanie modułów'!F:F,0)),0)","v":0},{"$f":"IF(AO371*1>0,\"x\",IF(INDEX(Kalkulacja!A:A,Q371)=\"x\",\"x\",0))","v":0},"FALSE",{"$f":"MATCH(G371,Kalkulacja!$I$1:$I$416,0)","v":297},null,null,0,null,0,null,null,null,null,"Dodatkowy moduł 68",null,null,null,null,{"$f":"IFERROR(INDEX(Kalkulacja!V:V,Q371),0)","v":0},0,null,null,null,{"$f":"IFERROR(IF($J$115>0,INDEX(Kalkulacja!D:D,Q372),\"\"),\"\")","v":""},null,null,null,false]
[null,null,null,{"$f":"IFERROR(IF(N372>0,\"SUGEROWANE\",IF((INDEX(Kalkulacja!B:B,MATCH(G372,Kalkulacja!I:I,0)))=\"x\",\"USŁUGA\",\"\")),\"\")","v":""},"i",null,{"$f":"Kalkulacja!I298","v":"Dodatkowy moduł 69"},null,null,0,{"$f":"IFERROR(IF(Kalkulacja!$G$2=\"x\",INDEX(Kalkulacja!$Y$1:$Y$416,Q372),\"\"),\"\")","v":""},{"$f":"IFERROR(IF(Kalkulacja!$D$2=\"x\",IF(INDEX(Kalkulacja!J:J,Q371)=\"od\",\"od\",\"\"),\"\"),\"\")","v":""},{"$f":"IFERROR(IF(AND(Kalkulacja!$D$2=\"x\",$J$115>0),(IF(INDEX(Kalkulacja!D:D,Q372)=\"x\",\"Nie-Elementor\",\"\")),\"\"),\"\")","v":""},{"$f":"IFERROR(INDEX('Podświetlanie modułów'!H:H,MATCH(G372,'Podświetlanie modułów'!F:F,0)),0)","v":0},{"$f":"IF(AO372*1>0,\"x\",IF(INDEX(Kalkulacja!A:A,Q372)=\"x\",\"x\",0))","v":0},"FALSE",{"$f":"MATCH(G372,Kalkulacja!$I$1:$I$416,0)","v":298},null,null,0,null,0,null,null,null,null,"Dodatkowy moduł 69",null,null,null,null,{"$f":"IFERROR(INDEX(Kalkulacja!V:V,Q372),0)","v":0},0,null,null,null,{"$f":"IFERROR(IF($J$115>0,INDEX(Kalkulacja!D:D,Q373),\"\"),\"\")","v":""},null,null,null,false]
[null,null,null,{"$f":"IFERROR(IF(N373>0,\"SUGEROWANE\",IF((INDEX(Kalkulacja!B:B,MATCH(G373,Kalkulacja!I:I,0)))=\"x\",\"USŁUGA\",\"\")),\"\")","v":""},"i",null,{"$f":"Kalkulacja!I299","v":"Dodatkowy moduł 70"},null,null,0,{"$f":"IFERROR(IF(Kalkulacja!$G$2=\"x\",INDEX(Kalkulacja!$Y$1:$Y$416,Q373),\"\"),\"\")","v":""},{"$f":"IFERROR(IF(Kalkulacja!$D$2=\"x\",IF(INDEX(Kalkulacja!J:J,Q372)=\"od\",\"od\",\"\"),\"\"),\"\")","v":""},{"$f":"IFERROR(IF(AND(Kalkulacja!$D$2=\"x\",$J$115>0),(IF(INDEX(Kalkulacja!D:D,Q373)=\"x\",\"Nie-Elementor\",\"\")),\"\"),\"\")","v":""},{"$f":"IFERROR(INDEX('Podświetlanie modułów'!H:H,MATCH(G373,'Podświetlanie modułów'!F:F,0)),0)","v":0},{"$f":"IF(AO373*1>0,\"x\",IF(INDEX(Kalkulacja!A:A,Q373)=\"x\",\"x\",0))","v":0},"FALSE",{"$f":"MATCH(G373,Kalkulacja!$I$1:$I$416,0)","v":299},null,null,0,null,0,null,null,null,null,"Dodatkowy moduł 70",null,null,null,null,{"$f":"IFERROR(INDEX(Kalkulacja!V:V,Q373),0)","v":0},0,null,null,null,{"$f":"IFERROR(IF($J$115>0,INDEX(Kalkulacja!D:D,Q374),\"\"),\"\")","v":""},null,null,null,false]
[null,null,null,{"$f":"IFERROR(IF(N374>0,\"SUGEROWANE\",IF((INDEX(Kalkulacja!B:B,MATCH(G374,Kalkulacja!I:I,0)))=\"x\",\"USŁUGA\",\"\")),\"\")","v":""},{"$f":"Kalkulacja!I300","v":"Marketing i pozycjonowanie"},null,null,null,null,null,null,{"$f":"IFERROR(IF(Kalkulacja!$D$2=\"x\",IF(INDEX(Kalkulacja!J:J,Q373)=\"od\",\"od\",\"\"),\"\"),\"\")","v":""},{"$f":"IFERROR(IF(AND(Kalkulacja!$D$2=\"x\",$J$115>0),(IF(INDEX(Kalkulacja!D:D,Q374)=\"x\",\"Nie-Elementor\",\"\")),\"\"),\"\")","v":""},{"$f":"IFERROR(INDEX('Podświetlanie modułów'!H:H,MATCH(G374,'Podświetlanie modułów'!F:F,0)),0)","v":0},{"$f":"IF(COUNTIF(O375:O395,\"x\")>0,\"x\",0)","v":"x"},"TRUE",{"$f":"MATCH(E374,Kalkulacja!$I$1:$I$416,0)","v":300},null,null,0,null,0,null,null,null,null,0,null,null,null,null,{"$f":"IFERROR(INDEX(Kalkulacja!V:V,Q374),0)","v":0},0,null,null,null,{"$f":"IFERROR(IF($J$115>0,INDEX(Kalkulacja!D:D,Q375),\"\"),\"\")","v":""}]
[null,null,null,{"$f":"IFERROR(IF(N375>0,\"SUGEROWANE\",IF((INDEX(Kalkulacja!B:B,MATCH(G375,Kalkulacja!I:I,0)))=\"x\",\"USŁUGA\",\"\")),\"\")","v":""},"i",null,{"$f":"Kalkulacja!I301","v":"Integracja z Google Merchant Center"},null,null,{"$f":"AO375*1","v":0},{"$f":"IFERROR(IF(Kalkulacja!$G$2=\"x\",INDEX(Kalkulacja!$Y$1:$Y$416,Q375),\"\"),\"\")","v":""},{"$f":"IFERROR(IF(Kalkulacja!$D$2=\"x\",IF(INDEX(Kalkulacja!J:J,Q374)=\"od\",\"od\",\"\"),\"\"),\"\")","v":""},{"$f":"IFERROR(IF(AND(Kalkulacja!$D$2=\"x\",$J$115>0),(IF(INDEX(Kalkulacja!D:D,Q375)=\"x\",\"Nie-Elementor\",\"\")),\"\"),\"\")","v":""},{"$f":"IFERROR(INDEX('Podświetlanie modułów'!H:H,MATCH(G375,'Podświetlanie modułów'!F:F,0)),0)","v":0},{"$f":"IF(AO375*1>0,\"x\",IF(INDEX(Kalkulacja!A:A,Q375)=\"x\",\"x\",0))","v":"x"},"TRUE",{"$f":"MATCH(G375,Kalkulacja!$I$1:$I$416,0)","v":301},null,null,0,null,0,null,null,null,null,"Integracja z Google Merchant Center",null,null,null,null,{"$f":"IFERROR(INDEX(Kalkulacja!V:V,Q375),0)","v":0},0,null,null,null,{"$f":"IFERROR(IF($J$115>0,INDEX(Kalkulacja!D:D,Q376),\"\"),\"\")","v":""},null,null,null,false]
[null,null,null,{"$f":"IFERROR(IF(N376>0,\"SUGEROWANE\",IF((INDEX(Kalkulacja!B:B,MATCH(G376,Kalkulacja!I:I,0)))=\"x\",\"USŁUGA\",\"\")),\"\")","v":""},"i",null,{"$f":"Kalkulacja!I302","v":"Integracja z Ceneo Nokaut Homebook i Domodi"},null,null,0,{"$f":"IFERROR(IF(Kalkulacja!$G$2=\"x\",INDEX(Kalkulacja!$Y$1:$Y$416,Q376),\"\"),\"\")","v":""},{"$f":"IFERROR(IF(Kalkulacja!$D$2=\"x\",IF(INDEX(Kalkulacja!J:J,Q375)=\"od\",\"od\",\"\"),\"\"),\"\")","v":""},{"$f":"IFERROR(IF(AND(Kalkulacja!$D$2=\"x\",$J$115>0),(IF(INDEX(Kalkulacja!D:D,Q376)=\"x\",\"Nie-Elementor\",\"\")),\"\"),\"\")","v":""},{"$f":"IFERROR(INDEX('Podświetlanie modułów'!H:H,MATCH(G376,'Podświetlanie modułów'!F:F,0)),0)","v":0},{"$f":"IF(AO376*1>0,\"x\",IF(INDEX(Kalkulacja!A:A,Q376)=\"x\",\"x\",0))","v":"x"},"TRUE",{"$f":"MATCH(G376,Kalkulacja!$I$1:$I$416,0)","v":302},null,null,0,null,0,null,null,null,null,"Integracja z Ceneo Nokaut Homebook i Domodi",null,null,null,null,{"$f":"IFERROR(INDEX(Kalkulacja!V:V,Q376),0)","v":0},0,null,null,null,{"$f":"IFERROR(IF($J$115>0,INDEX(Kalkulacja!D:D,Q377),\"\"),\"\")","v":""},null,null,null,false]
[null,null,null,{"$f":"IFERROR(IF(N377>0,\"SUGEROWANE\",IF((INDEX(Kalkulacja!B:B,MATCH(G377,Kalkulacja!I:I,0)))=\"x\",\"USŁUGA\",\"\")),\"\")","v":""},"i",null,{"$f":"Kalkulacja!I303","v":"Integracja z Opineo"},null,null,0,{"$f":"IFERROR(IF(Kalkulacja!$G$2=\"x\",INDEX(Kalkulacja!$Y$1:$Y$416,Q377),\"\"),\"\")","v":""},{"$f":"IFERROR(IF(Kalkulacja!$D$2=\"x\",IF(INDEX(Kalkulacja!J:J,Q376)=\"od\",\"od\",\"\"),\"\"),\"\")","v":""},{"$f":"IFERROR(IF(AND(Kalkulacja!$D$2=\"x\",$J$115>0),(IF(INDEX(Kalkulacja!D:D,Q377)=\"x\",\"Nie-Elementor\",\"\")),\"\"),\"\")","v":""},{"$f":"IFERROR(INDEX('Podświetlanie modułów'!H:H,MATCH(G377,'Podświetlanie modułów'!F:F,0)),0)","v":0},{"$f":"IF(AO377*1>0,\"x\",IF(INDEX(Kalkulacja!A:A,Q377)=\"x\",\"x\",0))","v":"x"},"TRUE",{"$f":"MATCH(G377,Kalkulacja!$I$1:$I$416,0)","v":303},null,null,0,null,0,null,null,null,null,"Integracja z Opineo",null,null,null,null,{"$f":"IFERROR(INDEX(Kalkulacja!V:V,Q377),0)","v":0},0,null,null,null,{"$f":"IFERROR(IF($J$115>0,INDEX(Kalkulacja!D:D,Q378),\"\"),\"\")","v":""},null,null,null,false]
[null,null,null,{"$f":"IFERROR(IF(N378>0,\"SUGEROWANE\",IF((INDEX(Kalkulacja!B:B,MATCH(G378,Kalkulacja!I:I,0)))=\"x\",\"USŁUGA\",\"\")),\"\")","v":""},"i",null,{"$f":"Kalkulacja!I304","v":"Integracja z Allegro"},null,null,0,{"$f":"IFERROR(IF(Kalkulacja!$G$2=\"x\",INDEX(Kalkulacja!$Y$1:$Y$416,Q378),\"\"),\"\")","v":""},{"$f":"IFERROR(IF(Kalkulacja!$D$2=\"x\",IF(INDEX(Kalkulacja!J:J,Q377)=\"od\",\"od\",\"\"),\"\"),\"\")","v":""},{"$f":"IFERROR(IF(AND(Kalkulacja!$D$2=\"x\",$J$115>0),(IF(INDEX(Kalkulacja!D:D,Q378)=\"x\",\"Nie-Elementor\",\"\")),\"\"),\"\")","v":""},{"$f":"IFERROR(INDEX('Podświetlanie modułów'!H:H,MATCH(G378,'Podświetlanie modułów'!F:F,0)),0)","v":0},{"$f":"IF(AO378*1>0,\"x\",IF(INDEX(Kalkulacja!A:A,Q378)=\"x\",\"x\",0))","v":"x"},"TRUE",{"$f":"MATCH(G378,Kalkulacja!$I$1:$I$416,0)","v":304},null,null,0,null,0,null,null,null,null,"Integracja z Allegro",null,null,null,null,{"$f":"IFERROR(INDEX(Kalkulacja!V:V,Q378),0)","v":0},0,null,null,null,{"$f":"IFERROR(IF($J$115>0,INDEX(Kalkulacja!D:D,Q379),\"\"),\"\")","v":""},null,null,null,false]
[null,null,null,{"$f":"IFERROR(IF(N379>0,\"SUGEROWANE\",IF((INDEX(Kalkulacja!B:B,MATCH(G379,Kalkulacja!I:I,0)))=\"x\",\"USŁUGA\",\"\")),\"\")","v":""},"i",null,{"$f":"Kalkulacja!I305","v":"Integracja z OLX"},null,null,0,{"$f":"IFERROR(IF(Kalkulacja!$G$2=\"x\",INDEX(Kalkulacja!$Y$1:$Y$416,Q379),\"\"),\"\")","v":""},{"$f":"IFERROR(IF(Kalkulacja!$D$2=\"x\",IF(INDEX(Kalkulacja!J:J,Q378)=\"od\",\"od\",\"\"),\"\"),\"\")","v":""},{"$f":"IFERROR(IF(AND(Kalkulacja!$D$2=\"x\",$J$115>0),(IF(INDEX(Kalkulacja!D:D,Q379)=\"x\",\"Nie-Elementor\",\"\")),\"\"),\"\")","v":""},{"$f":"IFERROR(INDEX('Podświetlanie modułów'!H:H,MATCH(G379,'Podświetlanie modułów'!F:F,0)),0)","v":0},{"$f":"IF(AO379*1>0,\"x\",IF(INDEX(Kalkulacja!A:A,Q379)=\"x\",\"x\",0))","v":"x"},"TRUE",{"$f":"MATCH(G379,Kalkulacja!$I$1:$I$416,0)","v":305},null,null,0,null,0,null,null,null,null,"Integracja z OLX",null,null,null,null,{"$f":"IFERROR(INDEX(Kalkulacja!V:V,Q379),0)","v":0},0,null,null,null,{"$f":"IFERROR(IF($J$115>0,INDEX(Kalkulacja!D:D,Q380),\"\"),\"\")","v":""},null,null,null,false]
[null,null,null,{"$f":"IFERROR(IF(N380>0,\"SUGEROWANE\",IF((INDEX(Kalkulacja!B:B,MATCH(G380,Kalkulacja!I:I,0)))=\"x\",\"USŁUGA\",\"\")),\"\")","v":""},"i",null,{"$f":"Kalkulacja!I306","v":"Integracja z Baselinker"},null,null,0,{"$f":"IFERROR(IF(Kalkulacja!$G$2=\"x\",INDEX(Kalkulacja!$Y$1:$Y$416,Q380),\"\"),\"\")","v":""},{"$f":"IFERROR(IF(Kalkulacja!$D$2=\"x\",IF(INDEX(Kalkulacja!J:J,Q379)=\"od\",\"od\",\"\"),\"\"),\"\")","v":""},{"$f":"IFERROR(IF(AND(Kalkulacja!$D$2=\"x\",$J$115>0),(IF(INDEX(Kalkulacja!D:D,Q380)=\"x\",\"Nie-Elementor\",\"\")),\"\"),\"\")","v":""},{"$f":"IFERROR(INDEX('Podświetlanie modułów'!H:H,MATCH(G380,'Podświetlanie modułów'!F:F,0)),0)","v":0},{"$f":"IF(AO380*1>0,\"x\",IF(INDEX(Kalkulacja!A:A,Q380)=\"x\",\"x\",0))","v":"x"},"TRUE",{"$f":"MATCH(G380,Kalkulacja!$I$1:$I$416,0)","v":306},null,null,0,null,0,null,null,null,null,"Integracja z Baselinker",null,null,null,null,{"$f":"IFERROR(INDEX(Kalkulacja!V:V,Q380),0)","v":0},0,null,null,null,{"$f":"IFERROR(IF($J$115>0,INDEX(Kalkulacja!D:D,Q381),\"\"),\"\")","v":""},null,null,null,false]
[null,null,null,{"$f":"IFERROR(IF(N381>0,\"SUGEROWANE\",IF((INDEX(Kalkulacja!B:B,MATCH(G381,Kalkulacja!I:I,0)))=\"x\",\"USŁUGA\",\"\")),\"\")","v":""},"i",null,{"$f":"Kalkulacja!I307","v":"Integracja z GetResponse"},null,null,0,{"$f":"IFERROR(IF(Kalkulacja!$G$2=\"x\",INDEX(Kalkulacja!$Y$1:$Y$416,Q381),\"\"),\"\")","v":""},{"$f":"IFERROR(IF(Kalkulacja!$D$2=\"x\",IF(INDEX(Kalkulacja!J:J,Q380)=\"od\",\"od\",\"\"),\"\"),\"\")","v":""},{"$f":"IFERROR(IF(AND(Kalkulacja!$D$2=\"x\",$J$115>0),(IF(INDEX(Kalkulacja!D:D,Q381)=\"x\",\"Nie-Elementor\",\"\")),\"\"),\"\")","v":""},{"$f":"IFERROR(INDEX('Podświetlanie modułów'!H:H,MATCH(G381,'Podświetlanie modułów'!F:F,0)),0)","v":0},{"$f":"IF(AO381*1>0,\"x\",IF(INDEX(Kalkulacja!A:A,Q381)=\"x\",\"x\",0))","v":"x"},"TRUE",{"$f":"MATCH(G381,Kalkulacja!$I$1:$I$416,0)","v":307},null,null,0,null,0,null,null,null,null,"Integracja z GetResponse",null,null,null,null,{"$f":"IFERROR(INDEX(Kalkulacja!V:V,Q381),0)","v":0},0,null,null,null,{"$f":"IFERROR(IF($J$115>0,INDEX(Kalkulacja!D:D,Q382),\"\"),\"\")","v":""},null,null,null,false]
[null,null,null,{"$f":"IFERROR(IF(N382>0,\"SUGEROWANE\",IF((INDEX(Kalkulacja!B:B,MATCH(G382,Kalkulacja!I:I,0)))=\"x\",\"USŁUGA\",\"\")),\"\")","v":""},"i",null,{"$f":"Kalkulacja!I308","v":"Integracja z Fresmail"},null,null,0,{"$f":"IFERROR(IF(Kalkulacja!$G$2=\"x\",INDEX(Kalkulacja!$Y$1:$Y$416,Q382),\"\"),\"\")","v":""},{"$f":"IFERROR(IF(Kalkulacja!$D$2=\"x\",IF(INDEX(Kalkulacja!J:J,Q381)=\"od\",\"od\",\"\"),\"\"),\"\")","v":""},{"$f":"IFERROR(IF(AND(Kalkulacja!$D$2=\"x\",$J$115>0),(IF(INDEX(Kalkulacja!D:D,Q382)=\"x\",\"Nie-Elementor\",\"\")),\"\"),\"\")","v":""},{"$f":"IFERROR(INDEX('Podświetlanie modułów'!H:H,MATCH(G382,'Podświetlanie modułów'!F:F,0)),0)","v":0},{"$f":"IF(AO382*1>0,\"x\",IF(INDEX(Kalkulacja!A:A,Q382)=\"x\",\"x\",0))","v":"x"},"TRUE",{"$f":"MATCH(G382,Kalkulacja!$I$1:$I$416,0)","v":308},null,null,0,null,0,null,null,null,null,"Integracja z Fresmail",null,null,null,null,{"$f":"IFERROR(INDEX(Kalkulacja!V:V,Q382),0)","v":0},0,null,null,null,{"$f":"IFERROR(IF($J$115>0,INDEX(Kalkulacja!D:D,Q383),\"\"),\"\")","v":""},null,null,null,false]
[null,null,null,{"$f":"IFERROR(IF(N383>0,\"SUGEROWANE\",IF((INDEX(Kalkulacja!B:B,MATCH(G383,Kalkulacja!I:I,0)))=\"x\",\"USŁUGA\",\"\")),\"\")","v":""},"i",null,{"$f":"Kalkulacja!I309","v":"Integracja z Mailerlite"},null,null,0,{"$f":"IFERROR(IF(Kalkulacja!$G$2=\"x\",INDEX(Kalkulacja!$Y$1:$Y$416,Q383),\"\"),\"\")","v":""},{"$f":"IFERROR(IF(Kalkulacja!$D$2=\"x\",IF(INDEX(Kalkulacja!J:J,Q382)=\"od\",\"od\",\"\"),\"\"),\"\")","v":""},{"$f":"IFERROR(IF(AND(Kalkulacja!$D$2=\"x\",$J$115>0),(IF(INDEX(Kalkulacja!D:D,Q383)=\"x\",\"Nie-Elementor\",\"\")),\"\"),\"\")","v":""},{"$f":"IFERROR(INDEX('Podświetlanie modułów'!H:H,MATCH(G383,'Podświetlanie modułów'!F:F,0)),0)","v":0},{"$f":"IF(AO383*1>0,\"x\",IF(INDEX(Kalkulacja!A:A,Q383)=\"x\",\"x\",0))","v":"x"},"TRUE",{"$f":"MATCH(G383,Kalkulacja!$I$1:$I$416,0)","v":309},null,null,0,null,0,null,null,null,null,"Integracja z Mailerlite",null,null,null,null,{"$f":"IFERROR(INDEX(Kalkulacja!V:V,Q383),0)","v":0},0,null,null,null,{"$f":"IFERROR(IF($J$115>0,INDEX(Kalkulacja!D:D,Q384),\"\"),\"\")","v":""},null,null,null,false]
[null,null,null,{"$f":"IFERROR(IF(N384>0,\"SUGEROWANE\",IF((INDEX(Kalkulacja!B:B,MATCH(G384,Kalkulacja!I:I,0)))=\"x\",\"USŁUGA\",\"\")),\"\")","v":""},"i",null,{"$f":"Kalkulacja!I310","v":"ShopMagic PRO - automatyzacja maili"},null,null,0,{"$f":"IFERROR(IF(Kalkulacja!$G$2=\"x\",INDEX(Kalkulacja!$Y$1:$Y$416,Q384),\"\"),\"\")","v":""},{"$f":"IFERROR(IF(Kalkulacja!$D$2=\"x\",IF(INDEX(Kalkulacja!J:J,Q383)=\"od\",\"od\",\"\"),\"\"),\"\")","v":""},{"$f":"IFERROR(IF(AND(Kalkulacja!$D$2=\"x\",$J$115>0),(IF(INDEX(Kalkulacja!D:D,Q384)=\"x\",\"Nie-Elementor\",\"\")),\"\"),\"\")","v":""},{"$f":"IFERROR(INDEX('Podświetlanie modułów'!H:H,MATCH(G384,'Podświetlanie modułów'!F:F,0)),0)","v":0},{"$f":"IF(AO384*1>0,\"x\",IF(INDEX(Kalkulacja!A:A,Q384)=\"x\",\"x\",0))","v":"x"},"TRUE",{"$f":"MATCH(G384,Kalkulacja!$I$1:$I$416,0)","v":310},null,null,0,null,0,null,null,null,null,{"$f":"G384","v":"ShopMagic PRO - automatyzacja maili"},null,null,null,null,{"$f":"IFERROR(INDEX(Kalkulacja!V:V,Q384),0)","v":0},0,null,null,null,{"$f":"IFERROR(IF($J$115>0,INDEX(Kalkulacja!D:D,Q385),\"\"),\"\")","v":""},null,null,null,false]
[null,null,null,{"$f":"IFERROR(IF(N385>0,\"SUGEROWANE\",IF((INDEX(Kalkulacja!B:B,MATCH(G385,Kalkulacja!I:I,0)))=\"x\",\"USŁUGA\",\"\")),\"\")","v":""},"i",null,{"$f":"Kalkulacja!I311","v":"Kupony rabatowe (konfiguracja 1 kuponu)"},null,null,1,{"$f":"IFERROR(IF(Kalkulacja!$G$2=\"x\",INDEX(Kalkulacja!$Y$1:$Y$416,Q385),\"\"),\"\")","v":""},{"$f":"IFERROR(IF(Kalkulacja!$D$2=\"x\",IF(INDEX(Kalkulacja!J:J,Q384)=\"od\",\"od\",\"\"),\"\"),\"\")","v":""},{"$f":"IFERROR(IF(AND(Kalkulacja!$D$2=\"x\",$J$115>0),(IF(INDEX(Kalkulacja!D:D,Q385)=\"x\",\"Nie-Elementor\",\"\")),\"\"),\"\")","v":""},{"$f":"IFERROR(INDEX('Podświetlanie modułów'!H:H,MATCH(G385,'Podświetlanie modułów'!F:F,0)),0)","v":0},{"$f":"IF(AO385*1>0,\"x\",IF(INDEX(Kalkulacja!A:A,Q385)=\"x\",\"x\",0))","v":"x"},"TRUE",{"$f":"MATCH(G385,Kalkulacja!$I$1:$I$416,0)","v":311},null,null,0,null,0,null,null,null,null,"Kupony rabatowe (konfiguracja 1 kuponu)",null,null,null,null,{"$f":"IFERROR(INDEX(Kalkulacja!V:V,Q385),0)","v":"x"},0,null,null,null,{"$f":"IFERROR(IF($J$115>0,INDEX(Kalkulacja!D:D,Q386),\"\"),\"\")","v":""},null,null,null,true]
[null,null,null,{"$f":"IFERROR(IF(N386>0,\"SUGEROWANE\",IF((INDEX(Kalkulacja!B:B,MATCH(G386,Kalkulacja!I:I,0)))=\"x\",\"USŁUGA\",\"\")),\"\")","v":""},"i",null,{"$f":"Kalkulacja!I312","v":"Flexible Pricing - zaawansowane promocje (gratisy promocje)"},null,null,0,{"$f":"IFERROR(IF(Kalkulacja!$G$2=\"x\",INDEX(Kalkulacja!$Y$1:$Y$416,Q386),\"\"),\"\")","v":""},{"$f":"IFERROR(IF(Kalkulacja!$D$2=\"x\",IF(INDEX(Kalkulacja!J:J,Q385)=\"od\",\"od\",\"\"),\"\"),\"\")","v":""},{"$f":"IFERROR(IF(AND(Kalkulacja!$D$2=\"x\",$J$115>0),(IF(INDEX(Kalkulacja!D:D,Q386)=\"x\",\"Nie-Elementor\",\"\")),\"\"),\"\")","v":""},{"$f":"IFERROR(INDEX('Podświetlanie modułów'!H:H,MATCH(G386,'Podświetlanie modułów'!F:F,0)),0)","v":0},{"$f":"IF(AO386*1>0,\"x\",IF(INDEX(Kalkulacja!A:A,Q386)=\"x\",\"x\",0))","v":"x"},"TRUE",{"$f":"MATCH(G386,Kalkulacja!$I$1:$I$416,0)","v":312},null,null,0,null,0,null,null,null,null,"Flexible Pricing - zaawansowane promocje (gratisy promocje)",null,null,null,null,{"$f":"IFERROR(INDEX(Kalkulacja!V:V,Q386),0)","v":0},0,null,null,null,{"$f":"IFERROR(IF($J$115>0,INDEX(Kalkulacja!D:D,Q387),\"\"),\"\")","v":""},null,null,null,false]
[null,null,null,{"$f":"IFERROR(IF(N387>0,\"SUGEROWANE\",IF((INDEX(Kalkulacja!B:B,MATCH(G387,Kalkulacja!I:I,0)))=\"x\",\"USŁUGA\",\"\")),\"\")","v":""},"i",null,{"$f":"Kalkulacja!I313","v":"Flexible Product Fields PRO - dodatkowe opcje do produktów"},null,null,0,{"$f":"IFERROR(IF(Kalkulacja!$G$2=\"x\",INDEX(Kalkulacja!$Y$1:$Y$416,Q387),\"\"),\"\")","v":""},{"$f":"IFERROR(IF(Kalkulacja!$D$2=\"x\",IF(INDEX(Kalkulacja!J:J,Q386)=\"od\",\"od\",\"\"),\"\"),\"\")","v":""},{"$f":"IFERROR(IF(AND(Kalkulacja!$D$2=\"x\",$J$115>0),(IF(INDEX(Kalkulacja!D:D,Q387)=\"x\",\"Nie-Elementor\",\"\")),\"\"),\"\")","v":""},{"$f":"IFERROR(INDEX('Podświetlanie modułów'!H:H,MATCH(G387,'Podświetlanie modułów'!F:F,0)),0)","v":0},{"$f":"IF(AO387*1>0,\"x\",IF(INDEX(Kalkulacja!A:A,Q387)=\"x\",\"x\",0))","v":"x"},"TRUE",{"$f":"MATCH(G387,Kalkulacja!$I$1:$I$416,0)","v":313},null,null,0,null,0,null,null,null,null,"Flexible Product Fields PRO - dodatkowe opcje do produktów",null,null,null,null,{"$f":"IFERROR(INDEX(Kalkulacja!V:V,Q387),0)","v":0},0,null,null,null,{"$f":"IFERROR(IF($J$115>0,INDEX(Kalkulacja!D:D,Q388),\"\"),\"\")","v":""},null,null,null,false]
[null,null,null,{"$f":"IFERROR(IF(N388>0,\"SUGEROWANE\",IF((INDEX(Kalkulacja!B:B,MATCH(G388,Kalkulacja!I:I,0)))=\"x\",\"USŁUGA\",\"\")),\"\")","v":""},"i",null,{"$f":"Kalkulacja!I314","v":"Quick Cross-Sells - promocje powiązane"},null,null,0,{"$f":"IFERROR(IF(Kalkulacja!$G$2=\"x\",INDEX(Kalkulacja!$Y$1:$Y$416,Q388),\"\"),\"\")","v":""},{"$f":"IFERROR(IF(Kalkulacja!$D$2=\"x\",IF(INDEX(Kalkulacja!J:J,Q387)=\"od\",\"od\",\"\"),\"\"),\"\")","v":""},{"$f":"IFERROR(IF(AND(Kalkulacja!$D$2=\"x\",$J$115>0),(IF(INDEX(Kalkulacja!D:D,Q388)=\"x\",\"Nie-Elementor\",\"\")),\"\"),\"\")","v":""},{"$f":"IFERROR(INDEX('Podświetlanie modułów'!H:H,MATCH(G388,'Podświetlanie modułów'!F:F,0)),0)","v":0},{"$f":"IF(AO388*1>0,\"x\",IF(INDEX(Kalkulacja!A:A,Q388)=\"x\",\"x\",0))","v":"x"},"TRUE",{"$f":"MATCH(G388,Kalkulacja!$I$1:$I$416,0)","v":314},null,null,0,null,0,null,null,null,null,"Quick Cross-Sells - promocje powiązane",null,null,null,null,{"$f":"IFERROR(INDEX(Kalkulacja!V:V,Q388),0)","v":0},0,null,null,null,{"$f":"IFERROR(IF($J$115>0,INDEX(Kalkulacja!D:D,Q389),\"\"),\"\")","v":""},null,null,null,false]
[null,null,null,{"$f":"IFERROR(IF(N389>0,\"SUGEROWANE\",IF((INDEX(Kalkulacja!B:B,MATCH(G389,Kalkulacja!I:I,0)))=\"x\",\"USŁUGA\",\"\")),\"\")","v":""},"i",null,{"$f":"Kalkulacja!I315","v":"Polecane produkty"},null,null,1,{"$f":"IFERROR(IF(Kalkulacja!$G$2=\"x\",INDEX(Kalkulacja!$Y$1:$Y$416,Q389),\"\"),\"\")","v":""},{"$f":"IFERROR(IF(Kalkulacja!$D$2=\"x\",IF(INDEX(Kalkulacja!J:J,Q388)=\"od\",\"od\",\"\"),\"\"),\"\")","v":""},{"$f":"IFERROR(IF(AND(Kalkulacja!$D$2=\"x\",$J$115>0),(IF(INDEX(Kalkulacja!D:D,Q389)=\"x\",\"Nie-Elementor\",\"\")),\"\"),\"\")","v":""},{"$f":"IFERROR(INDEX('Podświetlanie modułów'!H:H,MATCH(G389,'Podświetlanie modułów'!F:F,0)),0)","v":0},{"$f":"IF(AO389*1>0,\"x\",IF(INDEX(Kalkulacja!A:A,Q389)=\"x\",\"x\",0))","v":"x"},"TRUE",{"$f":"MATCH(G389,Kalkulacja!$I$1:$I$416,0)","v":315},null,null,0,null,0,null,null,null,null,"Polecane produkty",null,null,null,null,{"$f":"IFERROR(INDEX(Kalkulacja!V:V,Q389),0)","v":"x"},0,null,null,null,{"$f":"IFERROR(IF($J$115>0,INDEX(Kalkulacja!D:D,Q390),\"\"),\"\")","v":""},null,null,null,true]
[null,null,null,{"$f":"IFERROR(IF(N390>0,\"SUGEROWANE\",IF((INDEX(Kalkulacja!B:B,MATCH(G390,Kalkulacja!I:I,0)))=\"x\",\"USŁUGA\",\"\")),\"\")","v":""},"i",null,{"$f":"Kalkulacja!I316","v":"Ostatnio oglądane produkty"},null,null,0,{"$f":"IFERROR(IF(Kalkulacja!$G$2=\"x\",INDEX(Kalkulacja!$Y$1:$Y$416,Q390),\"\"),\"\")","v":""},{"$f":"IFERROR(IF(Kalkulacja!$D$2=\"x\",IF(INDEX(Kalkulacja!J:J,Q389)=\"od\",\"od\",\"\"),\"\"),\"\")","v":""},{"$f":"IFERROR(IF(AND(Kalkulacja!$D$2=\"x\",$J$115>0),(IF(INDEX(Kalkulacja!D:D,Q390)=\"x\",\"Nie-Elementor\",\"\")),\"\"),\"\")","v":""},{"$f":"IFERROR(INDEX('Podświetlanie modułów'!H:H,MATCH(G390,'Podświetlanie modułów'!F:F,0)),0)","v":0},{"$f":"IF(AO390*1>0,\"x\",IF(INDEX(Kalkulacja!A:A,Q390)=\"x\",\"x\",0))","v":"x"},"TRUE",{"$f":"MATCH(G390,Kalkulacja!$I$1:$I$416,0)","v":316},null,null,0,null,0,null,null,null,null,"Ostatnio oglądane produkty",null,null,null,null,{"$f":"IFERROR(INDEX(Kalkulacja!V:V,Q390),0)","v":"x"},0,null,null,null,{"$f":"IFERROR(IF($J$115>0,INDEX(Kalkulacja!D:D,Q391),\"\"),\"\")","v":""},null,null,null,false]
[null,null,null,{"$f":"IFERROR(IF(N391>0,\"SUGEROWANE\",IF((INDEX(Kalkulacja!B:B,MATCH(G391,Kalkulacja!I:I,0)))=\"x\",\"USŁUGA\",\"\")),\"\")","v":""},"i",null,{"$f":"Kalkulacja!I317","v":"Powiadom mnie o dostępności produktu"},null,null,0,{"$f":"IFERROR(IF(Kalkulacja!$G$2=\"x\",INDEX(Kalkulacja!$Y$1:$Y$416,Q391),\"\"),\"\")","v":""},{"$f":"IFERROR(IF(Kalkulacja!$D$2=\"x\",IF(INDEX(Kalkulacja!J:J,Q390)=\"od\",\"od\",\"\"),\"\"),\"\")","v":""},{"$f":"IFERROR(IF(AND(Kalkulacja!$D$2=\"x\",$J$115>0),(IF(INDEX(Kalkulacja!D:D,Q391)=\"x\",\"Nie-Elementor\",\"\")),\"\"),\"\")","v":""},{"$f":"IFERROR(INDEX('Podświetlanie modułów'!H:H,MATCH(G391,'Podświetlanie modułów'!F:F,0)),0)","v":0},{"$f":"IF(AO391*1>0,\"x\",IF(INDEX(Kalkulacja!A:A,Q391)=\"x\",\"x\",0))","v":"x"},"TRUE",{"$f":"MATCH(G391,Kalkulacja!$I$1:$I$416,0)","v":317},null,null,0,null,0,null,null,null,null,"Powiadom mnie o dostępności produktu",null,null,null,null,{"$f":"IFERROR(INDEX(Kalkulacja!V:V,Q391),0)","v":"x"},0,null,null,null,{"$f":"IFERROR(IF($J$115>0,INDEX(Kalkulacja!D:D,Q392),\"\"),\"\")","v":""},null,null,null,false]
[null,null,null,{"$f":"IFERROR(IF(N392>0,\"SUGEROWANE\",IF((INDEX(Kalkulacja!B:B,MATCH(G392,Kalkulacja!I:I,0)))=\"x\",\"USŁUGA\",\"\")),\"\")","v":""},"i",null,{"$f":"Kalkulacja!I318","v":"TOPBAR komunikaty specjalne + kody rabatowe"},null,null,1,{"$f":"IFERROR(IF(Kalkulacja!$G$2=\"x\",INDEX(Kalkulacja!$Y$1:$Y$416,Q392),\"\"),\"\")","v":""},{"$f":"IFERROR(IF(Kalkulacja!$D$2=\"x\",IF(INDEX(Kalkulacja!J:J,Q391)=\"od\",\"od\",\"\"),\"\"),\"\")","v":""},{"$f":"IFERROR(IF(AND(Kalkulacja!$D$2=\"x\",$J$115>0),(IF(INDEX(Kalkulacja!D:D,Q392)=\"x\",\"Nie-Elementor\",\"\")),\"\"),\"\")","v":""},{"$f":"IFERROR(INDEX('Podświetlanie modułów'!H:H,MATCH(G392,'Podświetlanie modułów'!F:F,0)),0)","v":0},{"$f":"IF(AO392*1>0,\"x\",IF(INDEX(Kalkulacja!A:A,Q392)=\"x\",\"x\",0))","v":"x"},"TRUE",{"$f":"MATCH(G392,Kalkulacja!$I$1:$I$416,0)","v":318},null,null,0,null,0,null,null,null,null,"TOPBAR komunikaty specjalne + kody rabatowe",null,null,null,null,{"$f":"IFERROR(INDEX(Kalkulacja!V:V,Q392),0)","v":0},0,null,null,null,{"$f":"IFERROR(IF($J$115>0,INDEX(Kalkulacja!D:D,Q393),\"\"),\"\")","v":""},null,null,null,true]
[null,null,null,{"$f":"IFERROR(IF(N393>0,\"SUGEROWANE\",IF((INDEX(Kalkulacja!B:B,MATCH(G393,Kalkulacja!I:I,0)))=\"x\",\"USŁUGA\",\"\")),\"\")","v":""},"i",null,{"$f":"Kalkulacja!I319","v":"Dodatkowy moduł 71"},null,null,0,{"$f":"IFERROR(IF(Kalkulacja!$G$2=\"x\",INDEX(Kalkulacja!$Y$1:$Y$416,Q393),\"\"),\"\")","v":""},{"$f":"IFERROR(IF(Kalkulacja!$D$2=\"x\",IF(INDEX(Kalkulacja!J:J,Q392)=\"od\",\"od\",\"\"),\"\"),\"\")","v":""},{"$f":"IFERROR(IF(AND(Kalkulacja!$D$2=\"x\",$J$115>0),(IF(INDEX(Kalkulacja!D:D,Q393)=\"x\",\"Nie-Elementor\",\"\")),\"\"),\"\")","v":""},{"$f":"IFERROR(INDEX('Podświetlanie modułów'!H:H,MATCH(G393,'Podświetlanie modułów'!F:F,0)),0)","v":0},{"$f":"IF(AO393*1>0,\"x\",IF(INDEX(Kalkulacja!A:A,Q393)=\"x\",\"x\",0))","v":0},"FALSE",{"$f":"MATCH(G393,Kalkulacja!$I$1:$I$416,0)","v":319},null,null,0,null,0,null,null,null,null,"Dodatkowy moduł 71",null,null,null,null,{"$f":"IFERROR(INDEX(Kalkulacja!V:V,Q393),0)","v":0},0,null,null,null,{"$f":"IFERROR(IF($J$115>0,INDEX(Kalkulacja!D:D,Q394),\"\"),\"\")","v":""},null,null,null,{"$f":"S393","v":0}]
[null,null,null,{"$f":"IFERROR(IF(N394>0,\"SUGEROWANE\",IF((INDEX(Kalkulacja!B:B,MATCH(G394,Kalkulacja!I:I,0)))=\"x\",\"USŁUGA\",\"\")),\"\")","v":""},"i",null,{"$f":"Kalkulacja!I320","v":"Dodatkowy moduł 72"},null,null,0,{"$f":"IFERROR(IF(Kalkulacja!$G$2=\"x\",INDEX(Kalkulacja!$Y$1:$Y$416,Q394),\"\"),\"\")","v":""},{"$f":"IFERROR(IF(Kalkulacja!$D$2=\"x\",IF(INDEX(Kalkulacja!J:J,Q393)=\"od\",\"od\",\"\"),\"\"),\"\")","v":""},{"$f":"IFERROR(IF(AND(Kalkulacja!$D$2=\"x\",$J$115>0),(IF(INDEX(Kalkulacja!D:D,Q394)=\"x\",\"Nie-Elementor\",\"\")),\"\"),\"\")","v":""},{"$f":"IFERROR(INDEX('Podświetlanie modułów'!H:H,MATCH(G394,'Podświetlanie modułów'!F:F,0)),0)","v":0},{"$f":"IF(AO394*1>0,\"x\",IF(INDEX(Kalkulacja!A:A,Q394)=\"x\",\"x\",0))","v":0},"FALSE",{"$f":"MATCH(G394,Kalkulacja!$I$1:$I$416,0)","v":320},null,null,0,null,0,null,null,null,null,"Dodatkowy moduł 72",null,null,null,null,{"$f":"IFERROR(INDEX(Kalkulacja!V:V,Q394),0)","v":0},0,null,null,null,{"$f":"IFERROR(IF($J$115>0,INDEX(Kalkulacja!D:D,Q395),\"\"),\"\")","v":""},null,null,null,{"$f":"S394","v":0}]
[null,null,null,{"$f":"IFERROR(IF(N395>0,\"SUGEROWANE\",IF((INDEX(Kalkulacja!B:B,MATCH(G395,Kalkulacja!I:I,0)))=\"x\",\"USŁUGA\",\"\")),\"\")","v":""},"i",null,{"$f":"Kalkulacja!I321","v":"Dodatkowy moduł 73"},null,null,0,{"$f":"IFERROR(IF(Kalkulacja!$G$2=\"x\",INDEX(Kalkulacja!$Y$1:$Y$416,Q395),\"\"),\"\")","v":""},{"$f":"IFERROR(IF(Kalkulacja!$D$2=\"x\",IF(INDEX(Kalkulacja!J:J,Q394)=\"od\",\"od\",\"\"),\"\"),\"\")","v":""},{"$f":"IFERROR(IF(AND(Kalkulacja!$D$2=\"x\",$J$115>0),(IF(INDEX(Kalkulacja!D:D,Q395)=\"x\",\"Nie-Elementor\",\"\")),\"\"),\"\")","v":""},{"$f":"IFERROR(INDEX('Podświetlanie modułów'!H:H,MATCH(G395,'Podświetlanie modułów'!F:F,0)),0)","v":0},{"$f":"IF(AO395*1>0,\"x\",IF(INDEX(Kalkulacja!A:A,Q395)=\"x\",\"x\",0))","v":0},"FALSE",{"$f":"MATCH(G395,Kalkulacja!$I$1:$I$416,0)","v":321},null,null,0,null,0,null,null,null,null,"Dodatkowy moduł 73",null,null,null,null,{"$f":"IFERROR(INDEX(Kalkulacja!V:V,Q395),0)","v":0},0,null,null,null,{"$f":"IFERROR(IF($J$115>0,INDEX(Kalkulacja!D:D,Q396),\"\"),\"\")","v":""},null,null,null,{"$f":"S395","v":0}]
[null,null,null,{"$f":"IFERROR(IF(N396>0,\"SUGEROWANE\",IF((INDEX(Kalkulacja!B:B,MATCH(G396,Kalkulacja!I:I,0)))=\"x\",\"USŁUGA\",\"\")),\"\")","v":""},{"$f":"Kalkulacja!I322","v":"Zarządzanie produktami"},null,null,null,null,null,null,{"$f":"IFERROR(IF(Kalkulacja!$D$2=\"x\",IF(INDEX(Kalkulacja!J:J,Q395)=\"od\",\"od\",\"\"),\"\"),\"\")","v":""},{"$f":"IFERROR(IF(AND(Kalkulacja!$D$2=\"x\",$J$115>0),(IF(INDEX(Kalkulacja!D:D,Q396)=\"x\",\"Nie-Elementor\",\"\")),\"\"),\"\")","v":""},{"$f":"IFERROR(INDEX('Podświetlanie modułów'!H:H,MATCH(G396,'Podświetlanie modułów'!F:F,0)),0)","v":0},{"$f":"IF(COUNTIF(O397:O412,\"x\")>0,\"x\",0)","v":"x"},"TRUE",{"$f":"MATCH(E396,Kalkulacja!$I$1:$I$416,0)","v":322},null,null,0,null,0,null,null,null,null,0,null,null,null,null,{"$f":"IFERROR(INDEX(Kalkulacja!V:V,Q396),0)","v":0},0,null,null,null,{"$f":"IFERROR(IF($J$115>0,INDEX(Kalkulacja!D:D,Q397),\"\"),\"\")","v":""}]
[null,null,null,{"$f":"IFERROR(IF(N397>0,\"SUGEROWANE\",IF((INDEX(Kalkulacja!B:B,MATCH(G397,Kalkulacja!I:I,0)))=\"x\",\"USŁUGA\",\"\")),\"\")","v":""},"i",null,{"$f":"Kalkulacja!I323","v":"Ilość produktów bez limitu"},null,null,{"$f":"AO397*1","v":1},{"$f":"IFERROR(IF(Kalkulacja!$G$2=\"x\",INDEX(Kalkulacja!$Y$1:$Y$416,Q397),\"\"),\"\")","v":""},{"$f":"IFERROR(IF(Kalkulacja!$D$2=\"x\",IF(INDEX(Kalkulacja!J:J,Q396)=\"od\",\"od\",\"\"),\"\"),\"\")","v":""},{"$f":"IFERROR(IF(AND(Kalkulacja!$D$2=\"x\",$J$115>0),(IF(INDEX(Kalkulacja!D:D,Q397)=\"x\",\"Nie-Elementor\",\"\")),\"\"),\"\")","v":""},{"$f":"IFERROR(INDEX('Podświetlanie modułów'!H:H,MATCH(G397,'Podświetlanie modułów'!F:F,0)),0)","v":0},{"$f":"IF(AO397*1>0,\"x\",IF(INDEX(Kalkulacja!A:A,Q397)=\"x\",\"x\",0))","v":"x"},"TRUE",{"$f":"MATCH(G397,Kalkulacja!$I$1:$I$416,0)","v":323},null,null,0,null,0,null,null,null,null,"Ilość produktów bez limitu",null,null,null,null,{"$f":"IFERROR(INDEX(Kalkulacja!V:V,Q397),0)","v":"x"},0,null,null,null,{"$f":"IFERROR(IF($J$115>0,INDEX(Kalkulacja!D:D,Q398),\"\"),\"\")","v":""},null,null,null,true]
[null,null,null,{"$f":"IFERROR(IF(N398>0,\"SUGEROWANE\",IF((INDEX(Kalkulacja!B:B,MATCH(G398,Kalkulacja!I:I,0)))=\"x\",\"USŁUGA\",\"\")),\"\")","v":""},"i",null,{"$f":"Kalkulacja!I324","v":"Ilość kategorii i podkategorii bez limitu"},null,null,1,{"$f":"IFERROR(IF(Kalkulacja!$G$2=\"x\",INDEX(Kalkulacja!$Y$1:$Y$416,Q398),\"\"),\"\")","v":""},{"$f":"IFERROR(IF(Kalkulacja!$D$2=\"x\",IF(INDEX(Kalkulacja!J:J,Q397)=\"od\",\"od\",\"\"),\"\"),\"\")","v":""},{"$f":"IFERROR(IF(AND(Kalkulacja!$D$2=\"x\",$J$115>0),(IF(INDEX(Kalkulacja!D:D,Q398)=\"x\",\"Nie-Elementor\",\"\")),\"\"),\"\")","v":""},{"$f":"IFERROR(INDEX('Podświetlanie modułów'!H:H,MATCH(G398,'Podświetlanie modułów'!F:F,0)),0)","v":0},{"$f":"IF(AO398*1>0,\"x\",IF(INDEX(Kalkulacja!A:A,Q398)=\"x\",\"x\",0))","v":"x"},"TRUE",{"$f":"MATCH(G398,Kalkulacja!$I$1:$I$416,0)","v":324},null,null,0,null,0,null,null,null,null,"Ilość kategorii i podkategorii bez limitu",null,null,null,null,{"$f":"IFERROR(INDEX(Kalkulacja!V:V,Q398),0)","v":"x"},0,null,null,null,{"$f":"IFERROR(IF($J$115>0,INDEX(Kalkulacja!D:D,Q399),\"\"),\"\")","v":""},null,null,null,true]
[null,null,null,{"$f":"IFERROR(IF(N399>0,\"SUGEROWANE\",IF((INDEX(Kalkulacja!B:B,MATCH(G399,Kalkulacja!I:I,0)))=\"x\",\"USŁUGA\",\"\")),\"\")","v":""},"i",null,{"$f":"Kalkulacja!I325","v":"Producenci i serie"},null,null,1,{"$f":"IFERROR(IF(Kalkulacja!$G$2=\"x\",INDEX(Kalkulacja!$Y$1:$Y$416,Q399),\"\"),\"\")","v":""},{"$f":"IFERROR(IF(Kalkulacja!$D$2=\"x\",IF(INDEX(Kalkulacja!J:J,Q398)=\"od\",\"od\",\"\"),\"\"),\"\")","v":""},{"$f":"IFERROR(IF(AND(Kalkulacja!$D$2=\"x\",$J$115>0),(IF(INDEX(Kalkulacja!D:D,Q399)=\"x\",\"Nie-Elementor\",\"\")),\"\"),\"\")","v":""},{"$f":"IFERROR(INDEX('Podświetlanie modułów'!H:H,MATCH(G399,'Podświetlanie modułów'!F:F,0)),0)","v":0},{"$f":"IF(AO399*1>0,\"x\",IF(INDEX(Kalkulacja!A:A,Q399)=\"x\",\"x\",0))","v":"x"},"TRUE",{"$f":"MATCH(G399,Kalkulacja!$I$1:$I$416,0)","v":325},null,null,0,null,0,null,null,null,null,"Producenci i serie",null,null,null,null,{"$f":"IFERROR(INDEX(Kalkulacja!V:V,Q399),0)","v":"x"},0,null,null,null,{"$f":"IFERROR(IF($J$115>0,INDEX(Kalkulacja!D:D,Q400),\"\"),\"\")","v":""},null,null,null,true]
[null,null,null,{"$f":"IFERROR(IF(N400>0,\"SUGEROWANE\",IF((INDEX(Kalkulacja!B:B,MATCH(G400,Kalkulacja!I:I,0)))=\"x\",\"USŁUGA\",\"\")),\"\")","v":""},"i",null,{"$f":"Kalkulacja!I326","v":"Atrybuty produktów"},null,null,1,{"$f":"IFERROR(IF(Kalkulacja!$G$2=\"x\",INDEX(Kalkulacja!$Y$1:$Y$416,Q400),\"\"),\"\")","v":""},{"$f":"IFERROR(IF(Kalkulacja!$D$2=\"x\",IF(INDEX(Kalkulacja!J:J,Q399)=\"od\",\"od\",\"\"),\"\"),\"\")","v":""},{"$f":"IFERROR(IF(AND(Kalkulacja!$D$2=\"x\",$J$115>0),(IF(INDEX(Kalkulacja!D:D,Q400)=\"x\",\"Nie-Elementor\",\"\")),\"\"),\"\")","v":""},{"$f":"IFERROR(INDEX('Podświetlanie modułów'!H:H,MATCH(G400,'Podświetlanie modułów'!F:F,0)),0)","v":0},{"$f":"IF(AO400*1>0,\"x\",IF(INDEX(Kalkulacja!A:A,Q400)=\"x\",\"x\",0))","v":"x"},"TRUE",{"$f":"MATCH(G400,Kalkulacja!$I$1:$I$416,0)","v":326},null,null,0,null,0,null,null,null,null,"Atrybuty produktów",null,null,null,null,{"$f":"IFERROR(INDEX(Kalkulacja!V:V,Q400),0)","v":"x"},0,null,null,null,{"$f":"IFERROR(IF($J$115>0,INDEX(Kalkulacja!D:D,Q401),\"\"),\"\")","v":""},null,null,null,true]
[null,null,null,{"$f":"IFERROR(IF(N401>0,\"SUGEROWANE\",IF((INDEX(Kalkulacja!B:B,MATCH(G401,Kalkulacja!I:I,0)))=\"x\",\"USŁUGA\",\"\")),\"\")","v":""},"i",null,{"$f":"Kalkulacja!I327","v":"Warianty produktów"},null,null,1,{"$f":"IFERROR(IF(Kalkulacja!$G$2=\"x\",INDEX(Kalkulacja!$Y$1:$Y$416,Q401),\"\"),\"\")","v":""},{"$f":"IFERROR(IF(Kalkulacja!$D$2=\"x\",IF(INDEX(Kalkulacja!J:J,Q400)=\"od\",\"od\",\"\"),\"\"),\"\")","v":""},{"$f":"IFERROR(IF(AND(Kalkulacja!$D$2=\"x\",$J$115>0),(IF(INDEX(Kalkulacja!D:D,Q401)=\"x\",\"Nie-Elementor\",\"\")),\"\"),\"\")","v":""},{"$f":"IFERROR(INDEX('Podświetlanie modułów'!H:H,MATCH(G401,'Podświetlanie modułów'!F:F,0)),0)","v":0},{"$f":"IF(AO401*1>0,\"x\",IF(INDEX(Kalkulacja!A:A,Q401)=\"x\",\"x\",0))","v":"x"},"TRUE",{"$f":"MATCH(G401,Kalkulacja!$I$1:$I$416,0)","v":327},null,null,0,null,0,null,null,null,null,"Warianty produktów",null,null,null,null,{"$f":"IFERROR(INDEX(Kalkulacja!V:V,Q401),0)","v":"x"},0,null,null,null,{"$f":"IFERROR(IF($J$115>0,INDEX(Kalkulacja!D:D,Q402),\"\"),\"\")","v":""},null,null,null,true]
[null,null,null,{"$f":"IFERROR(IF(N402>0,\"SUGEROWANE\",IF((INDEX(Kalkulacja!B:B,MATCH(G402,Kalkulacja!I:I,0)))=\"x\",\"USŁUGA\",\"\")),\"\")","v":""},"i",null,{"$f":"Kalkulacja!I328","v":"Stany magazynowe"},null,null,1,{"$f":"IFERROR(IF(Kalkulacja!$G$2=\"x\",INDEX(Kalkulacja!$Y$1:$Y$416,Q402),\"\"),\"\")","v":""},{"$f":"IFERROR(IF(Kalkulacja!$D$2=\"x\",IF(INDEX(Kalkulacja!J:J,Q401)=\"od\",\"od\",\"\"),\"\"),\"\")","v":""},{"$f":"IFERROR(IF(AND(Kalkulacja!$D$2=\"x\",$J$115>0),(IF(INDEX(Kalkulacja!D:D,Q402)=\"x\",\"Nie-Elementor\",\"\")),\"\"),\"\")","v":""},{"$f":"IFERROR(INDEX('Podświetlanie modułów'!H:H,MATCH(G402,'Podświetlanie modułów'!F:F,0)),0)","v":0},{"$f":"IF(AO402*1>0,\"x\",IF(INDEX(Kalkulacja!A:A,Q402)=\"x\",\"x\",0))","v":"x"},"TRUE",{"$f":"MATCH(G402,Kalkulacja!$I$1:$I$416,0)","v":328},null,null,0,null,0,null,null,null,null,"Stany magazynowe",null,null,null,null,{"$f":"IFERROR(INDEX(Kalkulacja!V:V,Q402),0)","v":"x"},0,null,null,null,{"$f":"IFERROR(IF($J$115>0,INDEX(Kalkulacja!D:D,Q403),\"\"),\"\")","v":""},null,null,null,true]
[null,null,null,{"$f":"IFERROR(IF(N403>0,\"SUGEROWANE\",IF((INDEX(Kalkulacja!B:B,MATCH(G403,Kalkulacja!I:I,0)))=\"x\",\"USŁUGA\",\"\")),\"\")","v":""},"i",null,{"$f":"Kalkulacja!I329","v":"Możliwość włączania i wyłączania produktów"},null,null,1,{"$f":"IFERROR(IF(Kalkulacja!$G$2=\"x\",INDEX(Kalkulacja!$Y$1:$Y$416,Q403),\"\"),\"\")","v":""},{"$f":"IFERROR(IF(Kalkulacja!$D$2=\"x\",IF(INDEX(Kalkulacja!J:J,Q402)=\"od\",\"od\",\"\"),\"\"),\"\")","v":""},{"$f":"IFERROR(IF(AND(Kalkulacja!$D$2=\"x\",$J$115>0),(IF(INDEX(Kalkulacja!D:D,Q403)=\"x\",\"Nie-Elementor\",\"\")),\"\"),\"\")","v":""},{"$f":"IFERROR(INDEX('Podświetlanie modułów'!H:H,MATCH(G403,'Podświetlanie modułów'!F:F,0)),0)","v":0},{"$f":"IF(AO403*1>0,\"x\",IF(INDEX(Kalkulacja!A:A,Q403)=\"x\",\"x\",0))","v":"x"},"TRUE",{"$f":"MATCH(G403,Kalkulacja!$I$1:$I$416,0)","v":329},null,null,0,null,0,null,null,null,null,"Możliwość włączania i wyłączania produktów",null,null,null,null,{"$f":"IFERROR(INDEX(Kalkulacja!V:V,Q403),0)","v":"x"},0,null,null,null,{"$f":"IFERROR(IF($J$115>0,INDEX(Kalkulacja!D:D,Q404),\"\"),\"\")","v":""},null,null,null,true]
[null,null,null,{"$f":"IFERROR(IF(N404>0,\"SUGEROWANE\",IF((INDEX(Kalkulacja!B:B,MATCH(G404,Kalkulacja!I:I,0)))=\"x\",\"USŁUGA\",\"\")),\"\")","v":""},"i",null,{"$f":"Kalkulacja!I330","v":"Ustawianie promocji nowości bestsellerów"},null,null,1,{"$f":"IFERROR(IF(Kalkulacja!$G$2=\"x\",INDEX(Kalkulacja!$Y$1:$Y$416,Q404),\"\"),\"\")","v":""},{"$f":"IFERROR(IF(Kalkulacja!$D$2=\"x\",IF(INDEX(Kalkulacja!J:J,Q403)=\"od\",\"od\",\"\"),\"\"),\"\")","v":""},{"$f":"IFERROR(IF(AND(Kalkulacja!$D$2=\"x\",$J$115>0),(IF(INDEX(Kalkulacja!D:D,Q404)=\"x\",\"Nie-Elementor\",\"\")),\"\"),\"\")","v":""},{"$f":"IFERROR(INDEX('Podświetlanie modułów'!H:H,MATCH(G404,'Podświetlanie modułów'!F:F,0)),0)","v":0},{"$f":"IF(AO404*1>0,\"x\",IF(INDEX(Kalkulacja!A:A,Q404)=\"x\",\"x\",0))","v":"x"},"TRUE",{"$f":"MATCH(G404,Kalkulacja!$I$1:$I$416,0)","v":330},null,null,0,null,0,null,null,null,null,"Ustawianie promocji nowości bestsellerów",null,null,null,null,{"$f":"IFERROR(INDEX(Kalkulacja!V:V,Q404),0)","v":"x"},0,null,null,null,{"$f":"IFERROR(IF($J$115>0,INDEX(Kalkulacja!D:D,Q405),\"\"),\"\")","v":""},null,null,null,true]
[null,null,null,{"$f":"IFERROR(IF(N405>0,\"SUGEROWANE\",IF((INDEX(Kalkulacja!B:B,MATCH(G405,Kalkulacja!I:I,0)))=\"x\",\"USŁUGA\",\"\")),\"\")","v":""},"i",null,{"$f":"Kalkulacja!I331","v":"Możliwość tagowania produktów"},null,null,1,{"$f":"IFERROR(IF(Kalkulacja!$G$2=\"x\",INDEX(Kalkulacja!$Y$1:$Y$416,Q405),\"\"),\"\")","v":""},{"$f":"IFERROR(IF(Kalkulacja!$D$2=\"x\",IF(INDEX(Kalkulacja!J:J,Q404)=\"od\",\"od\",\"\"),\"\"),\"\")","v":""},{"$f":"IFERROR(IF(AND(Kalkulacja!$D$2=\"x\",$J$115>0),(IF(INDEX(Kalkulacja!D:D,Q405)=\"x\",\"Nie-Elementor\",\"\")),\"\"),\"\")","v":""},{"$f":"IFERROR(INDEX('Podświetlanie modułów'!H:H,MATCH(G405,'Podświetlanie modułów'!F:F,0)),0)","v":0},{"$f":"IF(AO405*1>0,\"x\",IF(INDEX(Kalkulacja!A:A,Q405)=\"x\",\"x\",0))","v":"x"},"TRUE",{"$f":"MATCH(G405,Kalkulacja!$I$1:$I$416,0)","v":331},null,null,0,null,0,null,null,null,null,"Możliwość tagowania produktów",null,null,null,null,{"$f":"IFERROR(INDEX(Kalkulacja!V:V,Q405),0)","v":"x"},0,null,null,null,{"$f":"IFERROR(IF($J$115>0,INDEX(Kalkulacja!D:D,Q406),\"\"),\"\")","v":""},null,null,null,true]
[null,null,null,{"$f":"IFERROR(IF(N406>0,\"SUGEROWANE\",IF((INDEX(Kalkulacja!B:B,MATCH(G406,Kalkulacja!I:I,0)))=\"x\",\"USŁUGA\",\"\")),\"\")","v":""},"i",null,{"$f":"Kalkulacja!I332","v":"Produkty grupowe"},null,null,0,{"$f":"IFERROR(IF(Kalkulacja!$G$2=\"x\",INDEX(Kalkulacja!$Y$1:$Y$416,Q406),\"\"),\"\")","v":""},{"$f":"IFERROR(IF(Kalkulacja!$D$2=\"x\",IF(INDEX(Kalkulacja!J:J,Q405)=\"od\",\"od\",\"\"),\"\"),\"\")","v":""},{"$f":"IFERROR(IF(AND(Kalkulacja!$D$2=\"x\",$J$115>0),(IF(INDEX(Kalkulacja!D:D,Q406)=\"x\",\"Nie-Elementor\",\"\")),\"\"),\"\")","v":""},{"$f":"IFERROR(INDEX('Podświetlanie modułów'!H:H,MATCH(G406,'Podświetlanie modułów'!F:F,0)),0)","v":0},{"$f":"IF(AO406*1>0,\"x\",IF(INDEX(Kalkulacja!A:A,Q406)=\"x\",\"x\",0))","v":"x"},"TRUE",{"$f":"MATCH(G406,Kalkulacja!$I$1:$I$416,0)","v":332},null,null,{"$f":"U406","v":0},null,{"$f":"AG406","v":0},null,null,null,null,"Produkty grupowe",null,null,null,null,{"$f":"IFERROR(INDEX(Kalkulacja!V:V,Q406),0)","v":"x"},0,null,null,null,{"$f":"IFERROR(IF($J$115>0,INDEX(Kalkulacja!D:D,Q407),\"\"),\"\")","v":""},null,null,null,false]
[null,null,null,{"$f":"IFERROR(IF(N407>0,\"SUGEROWANE\",IF((INDEX(Kalkulacja!B:B,MATCH(G407,Kalkulacja!I:I,0)))=\"x\",\"USŁUGA\",\"\")),\"\")","v":""},"i",null,{"$f":"Kalkulacja!I333","v":"Produkty wirtualne np. ebook"},null,null,0,{"$f":"IFERROR(IF(Kalkulacja!$G$2=\"x\",INDEX(Kalkulacja!$Y$1:$Y$416,Q407),\"\"),\"\")","v":""},{"$f":"IFERROR(IF(Kalkulacja!$D$2=\"x\",IF(INDEX(Kalkulacja!J:J,Q406)=\"od\",\"od\",\"\"),\"\"),\"\")","v":""},{"$f":"IFERROR(IF(AND(Kalkulacja!$D$2=\"x\",$J$115>0),(IF(INDEX(Kalkulacja!D:D,Q407)=\"x\",\"Nie-Elementor\",\"\")),\"\"),\"\")","v":""},{"$f":"IFERROR(INDEX('Podświetlanie modułów'!H:H,MATCH(G407,'Podświetlanie modułów'!F:F,0)),0)","v":0},{"$f":"IF(AO407*1>0,\"x\",IF(INDEX(Kalkulacja!A:A,Q407)=\"x\",\"x\",0))","v":"x"},"TRUE",{"$f":"MATCH(G407,Kalkulacja!$I$1:$I$416,0)","v":333},null,null,0,null,0,null,null,null,null,"Produkty wirtualne np. ebook",null,null,null,null,{"$f":"IFERROR(INDEX(Kalkulacja!V:V,Q407),0)","v":"x"},0,null,null,null,{"$f":"IFERROR(IF($J$115>0,INDEX(Kalkulacja!D:D,Q408),\"\"),\"\")","v":""},null,null,null,false]
[null,null,null,{"$f":"IFERROR(IF(N408>0,\"SUGEROWANE\",IF((INDEX(Kalkulacja!B:B,MATCH(G408,Kalkulacja!I:I,0)))=\"x\",\"USŁUGA\",\"\")),\"\")","v":""},"i",null,{"$f":"Kalkulacja!I334","v":"Buttony dla wyboru wariantu"},null,null,1,{"$f":"IFERROR(IF(Kalkulacja!$G$2=\"x\",INDEX(Kalkulacja!$Y$1:$Y$416,Q408),\"\"),\"\")","v":""},{"$f":"IFERROR(IF(Kalkulacja!$D$2=\"x\",IF(INDEX(Kalkulacja!J:J,Q407)=\"od\",\"od\",\"\"),\"\"),\"\")","v":""},{"$f":"IFERROR(IF(AND(Kalkulacja!$D$2=\"x\",$J$115>0),(IF(INDEX(Kalkulacja!D:D,Q408)=\"x\",\"Nie-Elementor\",\"\")),\"\"),\"\")","v":""},{"$f":"IFERROR(INDEX('Podświetlanie modułów'!H:H,MATCH(G408,'Podświetlanie modułów'!F:F,0)),0)","v":0},{"$f":"IF(AO408*1>0,\"x\",IF(INDEX(Kalkulacja!A:A,Q408)=\"x\",\"x\",0))","v":"x"},"TRUE",{"$f":"MATCH(G408,Kalkulacja!$I$1:$I$416,0)","v":334},null,null,0,null,0,null,null,null,null,"Buttony dla wyboru wariantu",null,null,null,null,{"$f":"IFERROR(INDEX(Kalkulacja!V:V,Q408),0)","v":"x"},0,null,null,null,{"$f":"IFERROR(IF($J$115>0,INDEX(Kalkulacja!D:D,Q409),\"\"),\"\")","v":""},null,null,null,true]
[null,null,null,{"$f":"IFERROR(IF(N409>0,\"SUGEROWANE\",IF((INDEX(Kalkulacja!B:B,MATCH(G409,Kalkulacja!I:I,0)))=\"x\",\"USŁUGA\",\"\")),\"\")","v":""},"i",null,{"$f":"Kalkulacja!I335","v":"Dodatkowy moduł 74"},null,null,0,{"$f":"IFERROR(IF(Kalkulacja!$G$2=\"x\",INDEX(Kalkulacja!$Y$1:$Y$416,Q409),\"\"),\"\")","v":""},{"$f":"IFERROR(IF(Kalkulacja!$D$2=\"x\",IF(INDEX(Kalkulacja!J:J,Q408)=\"od\",\"od\",\"\"),\"\"),\"\")","v":""},{"$f":"IFERROR(IF(AND(Kalkulacja!$D$2=\"x\",$J$115>0),(IF(INDEX(Kalkulacja!D:D,Q409)=\"x\",\"Nie-Elementor\",\"\")),\"\"),\"\")","v":""},{"$f":"IFERROR(INDEX('Podświetlanie modułów'!H:H,MATCH(G409,'Podświetlanie modułów'!F:F,0)),0)","v":0},{"$f":"IF(AO409*1>0,\"x\",IF(INDEX(Kalkulacja!A:A,Q409)=\"x\",\"x\",0))","v":0},"FALSE",{"$f":"MATCH(G409,Kalkulacja!$I$1:$I$416,0)","v":335},null,null,0,null,0,null,null,null,null,"Dodatkowy moduł 74",null,null,null,null,{"$f":"IFERROR(INDEX(Kalkulacja!V:V,Q409),0)","v":0},0,null,null,null,{"$f":"IFERROR(IF($J$115>0,INDEX(Kalkulacja!D:D,Q410),\"\"),\"\")","v":""},null,null,null,false]
[null,null,null,{"$f":"IFERROR(IF(N410>0,\"SUGEROWANE\",IF((INDEX(Kalkulacja!B:B,MATCH(G410,Kalkulacja!I:I,0)))=\"x\",\"USŁUGA\",\"\")),\"\")","v":""},"i",null,{"$f":"Kalkulacja!I336","v":"Dodatkowy moduł 75"},null,null,0,{"$f":"IFERROR(IF(Kalkulacja!$G$2=\"x\",INDEX(Kalkulacja!$Y$1:$Y$416,Q410),\"\"),\"\")","v":""},{"$f":"IFERROR(IF(Kalkulacja!$D$2=\"x\",IF(INDEX(Kalkulacja!J:J,Q409)=\"od\",\"od\",\"\"),\"\"),\"\")","v":""},{"$f":"IFERROR(IF(AND(Kalkulacja!$D$2=\"x\",$J$115>0),(IF(INDEX(Kalkulacja!D:D,Q410)=\"x\",\"Nie-Elementor\",\"\")),\"\"),\"\")","v":""},{"$f":"IFERROR(INDEX('Podświetlanie modułów'!H:H,MATCH(G410,'Podświetlanie modułów'!F:F,0)),0)","v":0},{"$f":"IF(AO410*1>0,\"x\",IF(INDEX(Kalkulacja!A:A,Q410)=\"x\",\"x\",0))","v":0},{"$f":"IF(O410=\"x\",\"TRUE\",\"FALSE\")","v":"FALSE"},{"$f":"MATCH(G410,Kalkulacja!$I$1:$I$416,0)","v":336},null,null,0,null,0,null,null,null,null,"Dodatkowy moduł 75",null,null,null,null,{"$f":"IFERROR(INDEX(Kalkulacja!V:V,Q410),0)","v":0},0,null,null,null,{"$f":"IFERROR(IF($J$115>0,INDEX(Kalkulacja!D:D,Q411),\"\"),\"\")","v":""},null,null,null,false]
[null,null,null,{"$f":"IFERROR(IF(N411>0,\"SUGEROWANE\",IF((INDEX(Kalkulacja!B:B,MATCH(G411,Kalkulacja!I:I,0)))=\"x\",\"USŁUGA\",\"\")),\"\")","v":""},"i",null,{"$f":"Kalkulacja!I337","v":"Dodatkowy moduł 76"},null,null,0,{"$f":"IFERROR(IF(Kalkulacja!$G$2=\"x\",INDEX(Kalkulacja!$Y$1:$Y$416,Q411),\"\"),\"\")","v":""},{"$f":"IFERROR(IF(Kalkulacja!$D$2=\"x\",IF(INDEX(Kalkulacja!J:J,Q410)=\"od\",\"od\",\"\"),\"\"),\"\")","v":""},{"$f":"IFERROR(IF(AND(Kalkulacja!$D$2=\"x\",$J$115>0),(IF(INDEX(Kalkulacja!D:D,Q411)=\"x\",\"Nie-Elementor\",\"\")),\"\"),\"\")","v":""},{"$f":"IFERROR(INDEX('Podświetlanie modułów'!H:H,MATCH(G411,'Podświetlanie modułów'!F:F,0)),0)","v":0},{"$f":"IF(AO411*1>0,\"x\",IF(INDEX(Kalkulacja!A:A,Q411)=\"x\",\"x\",0))","v":0},"FALSE",{"$f":"MATCH(G411,Kalkulacja!$I$1:$I$416,0)","v":337},null,null,0,null,0,null,null,null,null,"Dodatkowy moduł 76",null,null,null,null,{"$f":"IFERROR(INDEX(Kalkulacja!V:V,Q411),0)","v":0},0,null,null,null,{"$f":"IFERROR(IF($J$115>0,INDEX(Kalkulacja!D:D,Q412),\"\"),\"\")","v":""},null,null,null,{"$f":"S411","v":0}]
[null,null,null,{"$f":"IFERROR(IF(N412>0,\"SUGEROWANE\",IF((INDEX(Kalkulacja!B:B,MATCH(G412,Kalkulacja!I:I,0)))=\"x\",\"USŁUGA\",\"\")),\"\")","v":""},"i",null,{"$f":"Kalkulacja!I338","v":"Dodatkowy moduł 77"},null,null,0,{"$f":"IFERROR(IF(Kalkulacja!$G$2=\"x\",INDEX(Kalkulacja!$Y$1:$Y$416,Q412),\"\"),\"\")","v":""},{"$f":"IFERROR(IF(Kalkulacja!$D$2=\"x\",IF(INDEX(Kalkulacja!J:J,Q411)=\"od\",\"od\",\"\"),\"\"),\"\")","v":""},{"$f":"IFERROR(IF(AND(Kalkulacja!$D$2=\"x\",$J$115>0),(IF(INDEX(Kalkulacja!D:D,Q412)=\"x\",\"Nie-Elementor\",\"\")),\"\"),\"\")","v":""},{"$f":"IFERROR(INDEX('Podświetlanie modułów'!H:H,MATCH(G412,'Podświetlanie modułów'!F:F,0)),0)","v":0},{"$f":"IF(AO412*1>0,\"x\",IF(INDEX(Kalkulacja!A:A,Q412)=\"x\",\"x\",0))","v":0},"FALSE",{"$f":"MATCH(G412,Kalkulacja!$I$1:$I$416,0)","v":338},null,null,0,null,0,null,null,null,null,"Dodatkowy moduł 77",null,null,null,null,{"$f":"IFERROR(INDEX(Kalkulacja!V:V,Q412),0)","v":0},0,null,null,null,{"$f":"IFERROR(IF($J$115>0,INDEX(Kalkulacja!D:D,Q413),\"\"),\"\")","v":""},null,null,null,{"$f":"S412","v":0}]
[null,null,null,{"$f":"IFERROR(IF(N413>0,\"SUGEROWANE\",IF((INDEX(Kalkulacja!B:B,MATCH(G413,Kalkulacja!I:I,0)))=\"x\",\"USŁUGA\",\"\")),\"\")","v":""},{"$f":"Kalkulacja!I339","v":"Użytkowanie"},null,null,null,null,null,null,{"$f":"IFERROR(IF(Kalkulacja!$D$2=\"x\",IF(INDEX(Kalkulacja!J:J,Q412)=\"od\",\"od\",\"\"),\"\"),\"\")","v":""},{"$f":"IFERROR(IF(AND(Kalkulacja!$D$2=\"x\",$J$115>0),(IF(INDEX(Kalkulacja!D:D,Q413)=\"x\",\"Nie-Elementor\",\"\")),\"\"),\"\")","v":""},{"$f":"IFERROR(INDEX('Podświetlanie modułów'!H:H,MATCH(G413,'Podświetlanie modułów'!F:F,0)),0)","v":0},{"$f":"IF(COUNTIF(O414:O425,\"x\")>0,\"x\",0)","v":"x"},"TRUE",{"$f":"MATCH(E413,Kalkulacja!$I$1:$I$416,0)","v":339},null,null,0,null,0,null,null,null,null,0,null,null,null,null,{"$f":"IFERROR(INDEX(Kalkulacja!V:V,Q413),0)","v":0},0,null,null,null,{"$f":"IFERROR(IF($J$115>0,INDEX(Kalkulacja!D:D,Q414),\"\"),\"\")","v":""}]
[null,null,null,{"$f":"IFERROR(IF(N414>0,\"SUGEROWANE\",IF((INDEX(Kalkulacja!B:B,MATCH(G414,Kalkulacja!I:I,0)))=\"x\",\"USŁUGA\",\"\")),\"\")","v":""},"i",null,{"$f":"Kalkulacja!I340","v":"Ulubione produkty (zapamiętywanie)"},null,null,{"$f":"AO414*1","v":1},{"$f":"IFERROR(IF(Kalkulacja!$G$2=\"x\",INDEX(Kalkulacja!$Y$1:$Y$416,Q414),\"\"),\"\")","v":""},{"$f":"IFERROR(IF(Kalkulacja!$D$2=\"x\",IF(INDEX(Kalkulacja!J:J,Q413)=\"od\",\"od\",\"\"),\"\"),\"\")","v":""},{"$f":"IFERROR(IF(AND(Kalkulacja!$D$2=\"x\",$J$115>0),(IF(INDEX(Kalkulacja!D:D,Q414)=\"x\",\"Nie-Elementor\",\"\")),\"\"),\"\")","v":""},{"$f":"IFERROR(INDEX('Podświetlanie modułów'!H:H,MATCH(G414,'Podświetlanie modułów'!F:F,0)),0)","v":0},{"$f":"IF(AO414*1>0,\"x\",IF(INDEX(Kalkulacja!A:A,Q414)=\"x\",\"x\",0))","v":"x"},"TRUE",{"$f":"MATCH(G414,Kalkulacja!$I$1:$I$416,0)","v":340},null,null,0,null,0,null,null,null,null,"Ulubione produkty (zapamiętywanie)",null,null,null,null,{"$f":"IFERROR(INDEX(Kalkulacja!V:V,Q414),0)","v":"x"},0,null,null,null,{"$f":"IFERROR(IF($J$115>0,INDEX(Kalkulacja!D:D,Q415),\"\"),\"\")","v":""},null,null,null,true]
[null,null,null,{"$f":"IFERROR(IF(N415>0,\"SUGEROWANE\",IF((INDEX(Kalkulacja!B:B,MATCH(G415,Kalkulacja!I:I,0)))=\"x\",\"USŁUGA\",\"\")),\"\")","v":""},"i",null,{"$f":"Kalkulacja!I341","v":"Logowanie przez Facebook lub Google"},null,null,0,{"$f":"IFERROR(IF(Kalkulacja!$G$2=\"x\",INDEX(Kalkulacja!$Y$1:$Y$416,Q415),\"\"),\"\")","v":""},{"$f":"IFERROR(IF(Kalkulacja!$D$2=\"x\",IF(INDEX(Kalkulacja!J:J,Q414)=\"od\",\"od\",\"\"),\"\"),\"\")","v":""},{"$f":"IFERROR(IF(AND(Kalkulacja!$D$2=\"x\",$J$115>0),(IF(INDEX(Kalkulacja!D:D,Q415)=\"x\",\"Nie-Elementor\",\"\")),\"\"),\"\")","v":""},{"$f":"IFERROR(INDEX('Podświetlanie modułów'!H:H,MATCH(G415,'Podświetlanie modułów'!F:F,0)),0)","v":0},{"$f":"IF(AO415*1>0,\"x\",IF(INDEX(Kalkulacja!A:A,Q415)=\"x\",\"x\",0))","v":"x"},"TRUE",{"$f":"MATCH(G415,Kalkulacja!$I$1:$I$416,0)","v":341},null,null,0,null,0,null,null,null,null,"Logowanie przez Facebook lub Google",null,null,null,null,{"$f":"IFERROR(INDEX(Kalkulacja!V:V,Q415),0)","v":0},0,null,null,null,{"$f":"IFERROR(IF($J$115>0,INDEX(Kalkulacja!D:D,Q416),\"\"),\"\")","v":""},null,null,null,false]
[null,null,null,{"$f":"IFERROR(IF(N416>0,\"SUGEROWANE\",IF((INDEX(Kalkulacja!B:B,MATCH(G416,Kalkulacja!I:I,0)))=\"x\",\"USŁUGA\",\"\")),\"\")","v":""},"i",null,{"$f":"Kalkulacja!I342","v":"Konfiguracja filtrów"},null,null,1,{"$f":"IFERROR(IF(Kalkulacja!$G$2=\"x\",INDEX(Kalkulacja!$Y$1:$Y$416,Q416),\"\"),\"\")","v":""},{"$f":"IFERROR(IF(Kalkulacja!$D$2=\"x\",IF(INDEX(Kalkulacja!J:J,Q415)=\"od\",\"od\",\"\"),\"\"),\"\")","v":""},{"$f":"IFERROR(IF(AND(Kalkulacja!$D$2=\"x\",$J$115>0),(IF(INDEX(Kalkulacja!D:D,Q416)=\"x\",\"Nie-Elementor\",\"\")),\"\"),\"\")","v":""},{"$f":"IFERROR(INDEX('Podświetlanie modułów'!H:H,MATCH(G416,'Podświetlanie modułów'!F:F,0)),0)","v":0},{"$f":"IF(AO416*1>0,\"x\",IF(INDEX(Kalkulacja!A:A,Q416)=\"x\",\"x\",0))","v":"x"},"TRUE",{"$f":"MATCH(G416,Kalkulacja!$I$1:$I$416,0)","v":342},null,null,0,null,0,null,null,null,null,"Konfiguracja filtrów",null,null,null,null,{"$f":"IFERROR(INDEX(Kalkulacja!V:V,Q416),0)","v":"x"},0,null,null,null,{"$f":"IFERROR(IF($J$115>0,INDEX(Kalkulacja!D:D,Q417),\"\"),\"\")","v":""},null,null,null,true]
[null,null,null,{"$f":"IFERROR(IF(N417>0,\"SUGEROWANE\",IF((INDEX(Kalkulacja!B:B,MATCH(G417,Kalkulacja!I:I,0)))=\"x\",\"USŁUGA\",\"\")),\"\")","v":""},"i",null,{"$f":"Kalkulacja!I343","v":"Opcja sortowania"},null,null,1,{"$f":"IFERROR(IF(Kalkulacja!$G$2=\"x\",INDEX(Kalkulacja!$Y$1:$Y$416,Q417),\"\"),\"\")","v":""},{"$f":"IFERROR(IF(Kalkulacja!$D$2=\"x\",IF(INDEX(Kalkulacja!J:J,Q416)=\"od\",\"od\",\"\"),\"\"),\"\")","v":""},{"$f":"IFERROR(IF(AND(Kalkulacja!$D$2=\"x\",$J$115>0),(IF(INDEX(Kalkulacja!D:D,Q417)=\"x\",\"Nie-Elementor\",\"\")),\"\"),\"\")","v":""},{"$f":"IFERROR(INDEX('Podświetlanie modułów'!H:H,MATCH(G417,'Podświetlanie modułów'!F:F,0)),0)","v":0},{"$f":"IF(AO417*1>0,\"x\",IF(INDEX(Kalkulacja!A:A,Q417)=\"x\",\"x\",0))","v":"x"},"TRUE",{"$f":"MATCH(G417,Kalkulacja!$I$1:$I$416,0)","v":343},null,null,0,null,0,null,null,null,null,"Opcja sortowania",null,null,null,null,{"$f":"IFERROR(INDEX(Kalkulacja!V:V,Q417),0)","v":"x"},0,null,null,null,{"$f":"IFERROR(IF($J$115>0,INDEX(Kalkulacja!D:D,Q418),\"\"),\"\")","v":""},null,null,null,true]
[null,null,null,{"$f":"IFERROR(IF(N418>0,\"SUGEROWANE\",IF((INDEX(Kalkulacja!B:B,MATCH(G418,Kalkulacja!I:I,0)))=\"x\",\"USŁUGA\",\"\")),\"\")","v":""},"i",null,{"$f":"Kalkulacja!I344","v":"Opinie i recenzje produktów"},null,null,1,{"$f":"IFERROR(IF(Kalkulacja!$G$2=\"x\",INDEX(Kalkulacja!$Y$1:$Y$416,Q418),\"\"),\"\")","v":""},{"$f":"IFERROR(IF(Kalkulacja!$D$2=\"x\",IF(INDEX(Kalkulacja!J:J,Q417)=\"od\",\"od\",\"\"),\"\"),\"\")","v":""},{"$f":"IFERROR(IF(AND(Kalkulacja!$D$2=\"x\",$J$115>0),(IF(INDEX(Kalkulacja!D:D,Q418)=\"x\",\"Nie-Elementor\",\"\")),\"\"),\"\")","v":""},{"$f":"IFERROR(INDEX('Podświetlanie modułów'!H:H,MATCH(G418,'Podświetlanie modułów'!F:F,0)),0)","v":0},{"$f":"IF(AO418*1>0,\"x\",IF(INDEX(Kalkulacja!A:A,Q418)=\"x\",\"x\",0))","v":"x"},"TRUE",{"$f":"MATCH(G418,Kalkulacja!$I$1:$I$416,0)","v":344},null,null,0,null,0,null,null,null,null,"Opinie i recenzje produktów",null,null,null,null,{"$f":"IFERROR(INDEX(Kalkulacja!V:V,Q418),0)","v":"x"},0,null,null,null,{"$f":"IFERROR(IF($J$115>0,INDEX(Kalkulacja!D:D,Q419),\"\"),\"\")","v":""},null,null,null,true]
[null,null,null,{"$f":"IFERROR(IF(N419>0,\"SUGEROWANE\",IF((INDEX(Kalkulacja!B:B,MATCH(G419,Kalkulacja!I:I,0)))=\"x\",\"USŁUGA\",\"\")),\"\")","v":""},"i",null,{"$f":"Kalkulacja!I345","v":"Przełączanie widoku listy"},null,null,0,{"$f":"IFERROR(IF(Kalkulacja!$G$2=\"x\",INDEX(Kalkulacja!$Y$1:$Y$416,Q419),\"\"),\"\")","v":""},{"$f":"IFERROR(IF(Kalkulacja!$D$2=\"x\",IF(INDEX(Kalkulacja!J:J,Q418)=\"od\",\"od\",\"\"),\"\"),\"\")","v":""},{"$f":"IFERROR(IF(AND(Kalkulacja!$D$2=\"x\",$J$115>0),(IF(INDEX(Kalkulacja!D:D,Q419)=\"x\",\"Nie-Elementor\",\"\")),\"\"),\"\")","v":""},{"$f":"IFERROR(INDEX('Podświetlanie modułów'!H:H,MATCH(G419,'Podświetlanie modułów'!F:F,0)),0)","v":0},{"$f":"IF(AO419*1>0,\"x\",IF(INDEX(Kalkulacja!A:A,Q419)=\"x\",\"x\",0))","v":"x"},"TRUE",{"$f":"MATCH(G419,Kalkulacja!$I$1:$I$416,0)","v":345},null,null,0,null,0,null,null,null,null,"Przełączanie widoku listy",null,null,null,null,{"$f":"IFERROR(INDEX(Kalkulacja!V:V,Q419),0)","v":"x"},0,null,null,null,{"$f":"IFERROR(IF($J$115>0,INDEX(Kalkulacja!D:D,Q420),\"\"),\"\")","v":""},null,null,null,false]
[null,null,null,{"$f":"IFERROR(IF(N420>0,\"SUGEROWANE\",IF((INDEX(Kalkulacja!B:B,MATCH(G420,Kalkulacja!I:I,0)))=\"x\",\"USŁUGA\",\"\")),\"\")","v":""},"i",null,{"$f":"Kalkulacja!I346","v":"Uprawnienia (administrator kierownik sklepu redaktor)"},null,null,1,{"$f":"IFERROR(IF(Kalkulacja!$G$2=\"x\",INDEX(Kalkulacja!$Y$1:$Y$416,Q420),\"\"),\"\")","v":""},{"$f":"IFERROR(IF(Kalkulacja!$D$2=\"x\",IF(INDEX(Kalkulacja!J:J,Q419)=\"od\",\"od\",\"\"),\"\"),\"\")","v":""},{"$f":"IFERROR(IF(AND(Kalkulacja!$D$2=\"x\",$J$115>0),(IF(INDEX(Kalkulacja!D:D,Q420)=\"x\",\"Nie-Elementor\",\"\")),\"\"),\"\")","v":""},{"$f":"IFERROR(INDEX('Podświetlanie modułów'!H:H,MATCH(G420,'Podświetlanie modułów'!F:F,0)),0)","v":0},{"$f":"IF(AO420*1>0,\"x\",IF(INDEX(Kalkulacja!A:A,Q420)=\"x\",\"x\",0))","v":"x"},"TRUE",{"$f":"MATCH(G420,Kalkulacja!$I$1:$I$416,0)","v":346},null,null,0,null,0,null,null,null,null,"Uprawnienia (administrator kierownik sklepu redaktor)",null,null,null,null,{"$f":"IFERROR(INDEX(Kalkulacja!V:V,Q420),0)","v":"x"},0,null,null,null,{"$f":"IFERROR(IF($J$115>0,INDEX(Kalkulacja!D:D,Q421),\"\"),\"\")","v":""},null,null,null,true]
[null,null,null,{"$f":"IFERROR(IF(N421>0,\"SUGEROWANE\",IF((INDEX(Kalkulacja!B:B,MATCH(G421,Kalkulacja!I:I,0)))=\"x\",\"USŁUGA\",\"\")),\"\")","v":""},"i",null,{"$f":"Kalkulacja!I347","v":"Dodatkowy moduł 78"},null,null,0,{"$f":"IFERROR(IF(Kalkulacja!$G$2=\"x\",INDEX(Kalkulacja!$Y$1:$Y$416,Q421),\"\"),\"\")","v":""},{"$f":"IFERROR(IF(Kalkulacja!$D$2=\"x\",IF(INDEX(Kalkulacja!J:J,Q420)=\"od\",\"od\",\"\"),\"\"),\"\")","v":""},{"$f":"IFERROR(IF(AND(Kalkulacja!$D$2=\"x\",$J$115>0),(IF(INDEX(Kalkulacja!D:D,Q421)=\"x\",\"Nie-Elementor\",\"\")),\"\"),\"\")","v":""},{"$f":"IFERROR(INDEX('Podświetlanie modułów'!H:H,MATCH(G421,'Podświetlanie modułów'!F:F,0)),0)","v":0},{"$f":"IF(AO421*1>0,\"x\",IF(INDEX(Kalkulacja!A:A,Q421)=\"x\",\"x\",0))","v":0},"FALSE",{"$f":"MATCH(G421,Kalkulacja!$I$1:$I$416,0)","v":347},null,null,0,null,0,null,null,null,null,"Dodatkowy moduł 78",null,null,null,null,{"$f":"IFERROR(INDEX(Kalkulacja!V:V,Q421),0)","v":0},0,null,null,null,{"$f":"IFERROR(IF($J$115>0,INDEX(Kalkulacja!D:D,Q422),\"\"),\"\")","v":""},null,null,null,false]
[null,null,null,{"$f":"IFERROR(IF(N422>0,\"SUGEROWANE\",IF((INDEX(Kalkulacja!B:B,MATCH(G422,Kalkulacja!I:I,0)))=\"x\",\"USŁUGA\",\"\")),\"\")","v":""},"i",null,{"$f":"Kalkulacja!I348","v":"Dodatkowy moduł 79"},null,null,0,{"$f":"IFERROR(IF(Kalkulacja!$G$2=\"x\",INDEX(Kalkulacja!$Y$1:$Y$416,Q422),\"\"),\"\")","v":""},{"$f":"IFERROR(IF(Kalkulacja!$D$2=\"x\",IF(INDEX(Kalkulacja!J:J,Q421)=\"od\",\"od\",\"\"),\"\"),\"\")","v":""},{"$f":"IFERROR(IF(AND(Kalkulacja!$D$2=\"x\",$J$115>0),(IF(INDEX(Kalkulacja!D:D,Q422)=\"x\",\"Nie-Elementor\",\"\")),\"\"),\"\")","v":""},{"$f":"IFERROR(INDEX('Podświetlanie modułów'!H:H,MATCH(G422,'Podświetlanie modułów'!F:F,0)),0)","v":0},{"$f":"IF(AO422*1>0,\"x\",IF(INDEX(Kalkulacja!A:A,Q422)=\"x\",\"x\",0))","v":0},"FALSE",{"$f":"MATCH(G422,Kalkulacja!$I$1:$I$416,0)","v":348},null,null,0,null,0,null,null,null,null,"Dodatkowy moduł 79",null,null,null,null,{"$f":"IFERROR(INDEX(Kalkulacja!V:V,Q422),0)","v":0},0,null,null,null,{"$f":"IFERROR(IF($J$115>0,INDEX(Kalkulacja!D:D,Q423),\"\"),\"\")","v":""},null,null,null,{"$f":"S422","v":0}]
[null,null,null,{"$f":"IFERROR(IF(N423>0,\"SUGEROWANE\",IF((INDEX(Kalkulacja!B:B,MATCH(G423,Kalkulacja!I:I,0)))=\"x\",\"USŁUGA\",\"\")),\"\")","v":""},"i",null,{"$f":"Kalkulacja!I349","v":"Dodatkowy moduł 80"},null,null,0,{"$f":"IFERROR(IF(Kalkulacja!$G$2=\"x\",INDEX(Kalkulacja!$Y$1:$Y$416,Q423),\"\"),\"\")","v":""},{"$f":"IFERROR(IF(Kalkulacja!$D$2=\"x\",IF(INDEX(Kalkulacja!J:J,Q422)=\"od\",\"od\",\"\"),\"\"),\"\")","v":""},{"$f":"IFERROR(IF(AND(Kalkulacja!$D$2=\"x\",$J$115>0),(IF(INDEX(Kalkulacja!D:D,Q423)=\"x\",\"Nie-Elementor\",\"\")),\"\"),\"\")","v":""},{"$f":"IFERROR(INDEX('Podświetlanie modułów'!H:H,MATCH(G423,'Podświetlanie modułów'!F:F,0)),0)","v":0},{"$f":"IF(AO423*1>0,\"x\",IF(INDEX(Kalkulacja!A:A,Q423)=\"x\",\"x\",0))","v":0},"FALSE",{"$f":"MATCH(G423,Kalkulacja!$I$1:$I$416,0)","v":349},null,null,0,null,0,null,null,null,null,"Dodatkowy moduł 80",null,null,null,null,{"$f":"IFERROR(INDEX(Kalkulacja!V:V,Q423),0)","v":0},0,null,null,null,{"$f":"IFERROR(IF($J$115>0,INDEX(Kalkulacja!D:D,Q424),\"\"),\"\")","v":""},null,null,null,{"$f":"S423","v":0}]
[null,null,null,{"$f":"IFERROR(IF(N424>0,\"SUGEROWANE\",IF((INDEX(Kalkulacja!B:B,MATCH(G424,Kalkulacja!I:I,0)))=\"x\",\"USŁUGA\",\"\")),\"\")","v":""},"i",null,{"$f":"Kalkulacja!I350","v":"Dodatkowy moduł 81"},null,null,0,{"$f":"IFERROR(IF(Kalkulacja!$G$2=\"x\",INDEX(Kalkulacja!$Y$1:$Y$416,Q424),\"\"),\"\")","v":""},{"$f":"IFERROR(IF(Kalkulacja!$D$2=\"x\",IF(INDEX(Kalkulacja!J:J,Q423)=\"od\",\"od\",\"\"),\"\"),\"\")","v":""},{"$f":"IFERROR(IF(AND(Kalkulacja!$D$2=\"x\",$J$115>0),(IF(INDEX(Kalkulacja!D:D,Q424)=\"x\",\"Nie-Elementor\",\"\")),\"\"),\"\")","v":""},{"$f":"IFERROR(INDEX('Podświetlanie modułów'!H:H,MATCH(G424,'Podświetlanie modułów'!F:F,0)),0)","v":0},{"$f":"IF(AO424*1>0,\"x\",IF(INDEX(Kalkulacja!A:A,Q424)=\"x\",\"x\",0))","v":0},"FALSE",{"$f":"MATCH(G424,Kalkulacja!$I$1:$I$416,0)","v":350},null,null,0,null,0,null,null,null,null,"Dodatkowy moduł 81",null,null,null,null,{"$f":"IFERROR(INDEX(Kalkulacja!V:V,Q424),0)","v":0},0,null,null,null,{"$f":"IFERROR(IF($J$115>0,INDEX(Kalkulacja!D:D,Q425),\"\"),\"\")","v":""},null,null,null,{"$f":"S424","v":0}]
[null,null,null,{"$f":"IFERROR(IF(N425>0,\"SUGEROWANE\",IF((INDEX(Kalkulacja!B:B,MATCH(G425,Kalkulacja!I:I,0)))=\"x\",\"USŁUGA\",\"\")),\"\")","v":""},"i",null,{"$f":"Kalkulacja!I351","v":"Dodatkowy moduł 82"},null,null,0,{"$f":"IFERROR(IF(Kalkulacja!$G$2=\"x\",INDEX(Kalkulacja!$Y$1:$Y$416,Q425),\"\"),\"\")","v":""},{"$f":"IFERROR(IF(Kalkulacja!$D$2=\"x\",IF(INDEX(Kalkulacja!J:J,Q424)=\"od\",\"od\",\"\"),\"\"),\"\")","v":""},{"$f":"IFERROR(IF(AND(Kalkulacja!$D$2=\"x\",$J$115>0),(IF(INDEX(Kalkulacja!D:D,Q425)=\"x\",\"Nie-Elementor\",\"\")),\"\"),\"\")","v":""},{"$f":"IFERROR(INDEX('Podświetlanie modułów'!H:H,MATCH(G425,'Podświetlanie modułów'!F:F,0)),0)","v":0},{"$f":"IF(AO425*1>0,\"x\",IF(INDEX(Kalkulacja!A:A,Q425)=\"x\",\"x\",0))","v":0},"FALSE",{"$f":"MATCH(G425,Kalkulacja!$I$1:$I$416,0)","v":351},null,null,0,null,0,null,null,null,null,"Dodatkowy moduł 82",null,null,null,null,{"$f":"IFERROR(INDEX(Kalkulacja!V:V,Q425),0)","v":0},0,null,null,null,{"$f":"IFERROR(IF($J$115>0,INDEX(Kalkulacja!D:D,Q426),\"\"),\"\")","v":""},null,null,null,{"$f":"S425","v":0}]
[null,null,null,{"$f":"IFERROR(IF(N426>0,\"SUGEROWANE\",IF((INDEX(Kalkulacja!B:B,MATCH(G426,Kalkulacja!I:I,0)))=\"x\",\"USŁUGA\",\"\")),\"\")","v":""},{"$f":"Kalkulacja!I352","v":"Zamówienia"},null,null,null,null,null,null,{"$f":"IFERROR(IF(Kalkulacja!$D$2=\"x\",IF(INDEX(Kalkulacja!J:J,Q425)=\"od\",\"od\",\"\"),\"\"),\"\")","v":""},{"$f":"IFERROR(IF(AND(Kalkulacja!$D$2=\"x\",$J$115>0),(IF(INDEX(Kalkulacja!D:D,Q426)=\"x\",\"Nie-Elementor\",\"\")),\"\"),\"\")","v":""},{"$f":"IFERROR(INDEX('Podświetlanie modułów'!H:H,MATCH(G426,'Podświetlanie modułów'!F:F,0)),0)","v":0},{"$f":"IF(COUNTIF(O427:O436,\"x\")>0,\"x\",0)","v":"x"},"TRUE",{"$f":"MATCH(E426,Kalkulacja!$I$1:$I$416,0)","v":352},null,null,0,null,0,null,null,null,null,0,null,null,null,null,{"$f":"IFERROR(INDEX(Kalkulacja!V:V,Q426),0)","v":0},0,null,null,null,{"$f":"IFERROR(IF($J$115>0,INDEX(Kalkulacja!D:D,Q427),\"\"),\"\")","v":""}]
[null,null,null,{"$f":"IFERROR(IF(N427>0,\"SUGEROWANE\",IF((INDEX(Kalkulacja!B:B,MATCH(G427,Kalkulacja!I:I,0)))=\"x\",\"USŁUGA\",\"\")),\"\")","v":""},"i",null,{"$f":"Kalkulacja!I353","v":"Panel zamówień"},null,null,{"$f":"AO427*1","v":1},{"$f":"IFERROR(IF(Kalkulacja!$G$2=\"x\",INDEX(Kalkulacja!$Y$1:$Y$416,Q427),\"\"),\"\")","v":""},{"$f":"IFERROR(IF(Kalkulacja!$D$2=\"x\",IF(INDEX(Kalkulacja!J:J,Q426)=\"od\",\"od\",\"\"),\"\"),\"\")","v":""},{"$f":"IFERROR(IF(AND(Kalkulacja!$D$2=\"x\",$J$115>0),(IF(INDEX(Kalkulacja!D:D,Q427)=\"x\",\"Nie-Elementor\",\"\")),\"\"),\"\")","v":""},{"$f":"IFERROR(INDEX('Podświetlanie modułów'!H:H,MATCH(G427,'Podświetlanie modułów'!F:F,0)),0)","v":0},{"$f":"IF(AO427*1>0,\"x\",IF(INDEX(Kalkulacja!A:A,Q427)=\"x\",\"x\",0))","v":"x"},"TRUE",{"$f":"MATCH(G427,Kalkulacja!$I$1:$I$416,0)","v":353},null,null,0,null,0,null,null,null,null,"Panel zamówień",null,null,null,null,{"$f":"IFERROR(INDEX(Kalkulacja!V:V,Q427),0)","v":"x"},0,null,null,null,{"$f":"IFERROR(IF($J$115>0,INDEX(Kalkulacja!D:D,Q428),\"\"),\"\")","v":""},null,null,null,true]
[null,null,null,{"$f":"IFERROR(IF(N428>0,\"SUGEROWANE\",IF((INDEX(Kalkulacja!B:B,MATCH(G428,Kalkulacja!I:I,0)))=\"x\",\"USŁUGA\",\"\")),\"\")","v":""},"i",null,{"$f":"Kalkulacja!I354","v":"Powiadomienia email o statusie realizacji"},null,null,1,{"$f":"IFERROR(IF(Kalkulacja!$G$2=\"x\",INDEX(Kalkulacja!$Y$1:$Y$416,Q428),\"\"),\"\")","v":""},{"$f":"IFERROR(IF(Kalkulacja!$D$2=\"x\",IF(INDEX(Kalkulacja!J:J,Q427)=\"od\",\"od\",\"\"),\"\"),\"\")","v":""},{"$f":"IFERROR(IF(AND(Kalkulacja!$D$2=\"x\",$J$115>0),(IF(INDEX(Kalkulacja!D:D,Q428)=\"x\",\"Nie-Elementor\",\"\")),\"\"),\"\")","v":""},{"$f":"IFERROR(INDEX('Podświetlanie modułów'!H:H,MATCH(G428,'Podświetlanie modułów'!F:F,0)),0)","v":0},{"$f":"IF(AO428*1>0,\"x\",IF(INDEX(Kalkulacja!A:A,Q428)=\"x\",\"x\",0))","v":"x"},"TRUE",{"$f":"MATCH(G428,Kalkulacja!$I$1:$I$416,0)","v":354},null,null,0,null,0,null,null,null,null,"Powiadomienia email o statusie realizacji",null,null,null,null,{"$f":"IFERROR(INDEX(Kalkulacja!V:V,Q428),0)","v":"x"},0,null,null,null,{"$f":"IFERROR(IF($J$115>0,INDEX(Kalkulacja!D:D,Q429),\"\"),\"\")","v":""},null,null,null,true]
[null,null,null,{"$f":"IFERROR(IF(N429>0,\"SUGEROWANE\",IF((INDEX(Kalkulacja!B:B,MATCH(G429,Kalkulacja!I:I,0)))=\"x\",\"USŁUGA\",\"\")),\"\")","v":""},"i",null,{"$f":"Kalkulacja!I355","v":"Zamówienia gościnne lub jako zalogowany"},null,null,1,{"$f":"IFERROR(IF(Kalkulacja!$G$2=\"x\",INDEX(Kalkulacja!$Y$1:$Y$416,Q429),\"\"),\"\")","v":""},{"$f":"IFERROR(IF(Kalkulacja!$D$2=\"x\",IF(INDEX(Kalkulacja!J:J,Q428)=\"od\",\"od\",\"\"),\"\"),\"\")","v":""},{"$f":"IFERROR(IF(AND(Kalkulacja!$D$2=\"x\",$J$115>0),(IF(INDEX(Kalkulacja!D:D,Q429)=\"x\",\"Nie-Elementor\",\"\")),\"\"),\"\")","v":""},{"$f":"IFERROR(INDEX('Podświetlanie modułów'!H:H,MATCH(G429,'Podświetlanie modułów'!F:F,0)),0)","v":0},{"$f":"IF(AO429*1>0,\"x\",IF(INDEX(Kalkulacja!A:A,Q429)=\"x\",\"x\",0))","v":"x"},"TRUE",{"$f":"MATCH(G429,Kalkulacja!$I$1:$I$416,0)","v":355},null,null,0,null,0,null,null,null,null,"Zamówienia gościnne lub jako zalogowany",null,null,null,null,{"$f":"IFERROR(INDEX(Kalkulacja!V:V,Q429),0)","v":"x"},0,null,null,null,{"$f":"IFERROR(IF($J$115>0,INDEX(Kalkulacja!D:D,Q430),\"\"),\"\")","v":""},null,null,null,true]
[null,null,null,{"$f":"IFERROR(IF(N430>0,\"SUGEROWANE\",IF((INDEX(Kalkulacja!B:B,MATCH(G430,Kalkulacja!I:I,0)))=\"x\",\"USŁUGA\",\"\")),\"\")","v":""},"i",null,{"$f":"Kalkulacja!I356","v":"Statystyki sprzedaży"},null,null,1,{"$f":"IFERROR(IF(Kalkulacja!$G$2=\"x\",INDEX(Kalkulacja!$Y$1:$Y$416,Q430),\"\"),\"\")","v":""},{"$f":"IFERROR(IF(Kalkulacja!$D$2=\"x\",IF(INDEX(Kalkulacja!J:J,Q429)=\"od\",\"od\",\"\"),\"\"),\"\")","v":""},{"$f":"IFERROR(IF(AND(Kalkulacja!$D$2=\"x\",$J$115>0),(IF(INDEX(Kalkulacja!D:D,Q430)=\"x\",\"Nie-Elementor\",\"\")),\"\"),\"\")","v":""},{"$f":"IFERROR(INDEX('Podświetlanie modułów'!H:H,MATCH(G430,'Podświetlanie modułów'!F:F,0)),0)","v":0},{"$f":"IF(AO430*1>0,\"x\",IF(INDEX(Kalkulacja!A:A,Q430)=\"x\",\"x\",0))","v":"x"},"TRUE",{"$f":"MATCH(G430,Kalkulacja!$I$1:$I$416,0)","v":356},null,null,0,null,0,null,null,null,null,"Statystyki sprzedaży",null,null,null,null,{"$f":"IFERROR(INDEX(Kalkulacja!V:V,Q430),0)","v":"x"},0,null,null,null,{"$f":"IFERROR(IF($J$115>0,INDEX(Kalkulacja!D:D,Q431),\"\"),\"\")","v":""},null,null,null,true]
[null,null,null,{"$f":"IFERROR(IF(N431>0,\"SUGEROWANE\",IF((INDEX(Kalkulacja!B:B,MATCH(G431,Kalkulacja!I:I,0)))=\"x\",\"USŁUGA\",\"\")),\"\")","v":""},"i",null,{"$f":"Kalkulacja!I357","v":"Powiadomienia o niskim stanie magazynowym"},null,null,1,{"$f":"IFERROR(IF(Kalkulacja!$G$2=\"x\",INDEX(Kalkulacja!$Y$1:$Y$416,Q431),\"\"),\"\")","v":""},{"$f":"IFERROR(IF(Kalkulacja!$D$2=\"x\",IF(INDEX(Kalkulacja!J:J,Q430)=\"od\",\"od\",\"\"),\"\"),\"\")","v":""},{"$f":"IFERROR(IF(AND(Kalkulacja!$D$2=\"x\",$J$115>0),(IF(INDEX(Kalkulacja!D:D,Q431)=\"x\",\"Nie-Elementor\",\"\")),\"\"),\"\")","v":""},{"$f":"IFERROR(INDEX('Podświetlanie modułów'!H:H,MATCH(G431,'Podświetlanie modułów'!F:F,0)),0)","v":0},{"$f":"IF(AO431*1>0,\"x\",IF(INDEX(Kalkulacja!A:A,Q431)=\"x\",\"x\",0))","v":"x"},"TRUE",{"$f":"MATCH(G431,Kalkulacja!$I$1:$I$416,0)","v":357},null,null,0,null,0,null,null,null,null,"Powiadomienia o niskim stanie magazynowym",null,null,null,null,{"$f":"IFERROR(INDEX(Kalkulacja!V:V,Q431),0)","v":"x"},0,null,null,null,{"$f":"IFERROR(IF($J$115>0,INDEX(Kalkulacja!D:D,Q432),\"\"),\"\")","v":""},null,null,null,true]
[null,null,null,{"$f":"IFERROR(IF(N432>0,\"SUGEROWANE\",IF((INDEX(Kalkulacja!B:B,MATCH(G432,Kalkulacja!I:I,0)))=\"x\",\"USŁUGA\",\"\")),\"\")","v":""},"i",null,{"$f":"Kalkulacja!I358","v":"Dodatkowy moduł 83"},null,null,0,{"$f":"IFERROR(IF(Kalkulacja!$G$2=\"x\",INDEX(Kalkulacja!$Y$1:$Y$416,Q432),\"\"),\"\")","v":""},{"$f":"IFERROR(IF(Kalkulacja!$D$2=\"x\",IF(INDEX(Kalkulacja!J:J,Q431)=\"od\",\"od\",\"\"),\"\"),\"\")","v":""},{"$f":"IFERROR(IF(AND(Kalkulacja!$D$2=\"x\",$J$115>0),(IF(INDEX(Kalkulacja!D:D,Q432)=\"x\",\"Nie-Elementor\",\"\")),\"\"),\"\")","v":""},{"$f":"IFERROR(INDEX('Podświetlanie modułów'!H:H,MATCH(G432,'Podświetlanie modułów'!F:F,0)),0)","v":0},{"$f":"IF(AO432*1>0,\"x\",IF(INDEX(Kalkulacja!A:A,Q432)=\"x\",\"x\",0))","v":0},"FALSE",{"$f":"MATCH(G432,Kalkulacja!$I$1:$I$416,0)","v":358},null,null,0,null,0,null,null,null,null,"Dodatkowy moduł 83",null,null,null,null,{"$f":"IFERROR(INDEX(Kalkulacja!V:V,Q432),0)","v":0},0,null,null,null,{"$f":"IFERROR(IF($J$115>0,INDEX(Kalkulacja!D:D,Q433),\"\"),\"\")","v":""},null,null,null,false]
[null,null,null,{"$f":"IFERROR(IF(N433>0,\"SUGEROWANE\",IF((INDEX(Kalkulacja!B:B,MATCH(G433,Kalkulacja!I:I,0)))=\"x\",\"USŁUGA\",\"\")),\"\")","v":""},"i",null,{"$f":"Kalkulacja!I359","v":"Dodatkowy moduł 84"},null,null,0,{"$f":"IFERROR(IF(Kalkulacja!$G$2=\"x\",INDEX(Kalkulacja!$Y$1:$Y$416,Q433),\"\"),\"\")","v":""},{"$f":"IFERROR(IF(Kalkulacja!$D$2=\"x\",IF(INDEX(Kalkulacja!J:J,Q432)=\"od\",\"od\",\"\"),\"\"),\"\")","v":""},{"$f":"IFERROR(IF(AND(Kalkulacja!$D$2=\"x\",$J$115>0),(IF(INDEX(Kalkulacja!D:D,Q433)=\"x\",\"Nie-Elementor\",\"\")),\"\"),\"\")","v":""},{"$f":"IFERROR(INDEX('Podświetlanie modułów'!H:H,MATCH(G433,'Podświetlanie modułów'!F:F,0)),0)","v":0},{"$f":"IF(AO433*1>0,\"x\",IF(INDEX(Kalkulacja!A:A,Q433)=\"x\",\"x\",0))","v":0},"FALSE",{"$f":"MATCH(G433,Kalkulacja!$I$1:$I$416,0)","v":359},null,null,0,null,0,null,null,null,null,"Dodatkowy moduł 84",null,null,null,null,{"$f":"IFERROR(INDEX(Kalkulacja!V:V,Q433),0)","v":0},0,null,null,null,{"$f":"IFERROR(IF($J$115>0,INDEX(Kalkulacja!D:D,Q434),\"\"),\"\")","v":""},null,null,null,false]
[null,null,null,{"$f":"IFERROR(IF(N434>0,\"SUGEROWANE\",IF((INDEX(Kalkulacja!B:B,MATCH(G434,Kalkulacja!I:I,0)))=\"x\",\"USŁUGA\",\"\")),\"\")","v":""},"i",null,{"$f":"Kalkulacja!I360","v":"Dodatkowy moduł 85"},null,null,0,{"$f":"IFERROR(IF(Kalkulacja!$G$2=\"x\",INDEX(Kalkulacja!$Y$1:$Y$416,Q434),\"\"),\"\")","v":""},{"$f":"IFERROR(IF(Kalkulacja!$D$2=\"x\",IF(INDEX(Kalkulacja!J:J,Q433)=\"od\",\"od\",\"\"),\"\"),\"\")","v":""},{"$f":"IFERROR(IF(AND(Kalkulacja!$D$2=\"x\",$J$115>0),(IF(INDEX(Kalkulacja!D:D,Q434)=\"x\",\"Nie-Elementor\",\"\")),\"\"),\"\")","v":""},{"$f":"IFERROR(INDEX('Podświetlanie modułów'!H:H,MATCH(G434,'Podświetlanie modułów'!F:F,0)),0)","v":0},{"$f":"IF(AO434*1>0,\"x\",IF(INDEX(Kalkulacja!A:A,Q434)=\"x\",\"x\",0))","v":0},"FALSE",{"$f":"MATCH(G434,Kalkulacja!$I$1:$I$416,0)","v":360},null,null,0,null,0,null,null,null,null,"Dodatkowy moduł 85",null,null,null,null,{"$f":"IFERROR(INDEX(Kalkulacja!V:V,Q434),0)","v":0},0,null,null,null,{"$f":"IFERROR(IF($J$115>0,INDEX(Kalkulacja!D:D,Q435),\"\"),\"\")","v":""},null,null,null,{"$f":"S434","v":0}]
[null,null,null,{"$f":"IFERROR(IF(N435>0,\"SUGEROWANE\",IF((INDEX(Kalkulacja!B:B,MATCH(G435,Kalkulacja!I:I,0)))=\"x\",\"USŁUGA\",\"\")),\"\")","v":""},"i",null,{"$f":"Kalkulacja!I361","v":"Dodatkowy moduł 86"},null,null,0,{"$f":"IFERROR(IF(Kalkulacja!$G$2=\"x\",INDEX(Kalkulacja!$Y$1:$Y$416,Q435),\"\"),\"\")","v":""},{"$f":"IFERROR(IF(Kalkulacja!$D$2=\"x\",IF(INDEX(Kalkulacja!J:J,Q434)=\"od\",\"od\",\"\"),\"\"),\"\")","v":""},{"$f":"IFERROR(IF(AND(Kalkulacja!$D$2=\"x\",$J$115>0),(IF(INDEX(Kalkulacja!D:D,Q435)=\"x\",\"Nie-Elementor\",\"\")),\"\"),\"\")","v":""},{"$f":"IFERROR(INDEX('Podświetlanie modułów'!H:H,MATCH(G435,'Podświetlanie modułów'!F:F,0)),0)","v":0},{"$f":"IF(AO435*1>0,\"x\",IF(INDEX(Kalkulacja!A:A,Q435)=\"x\",\"x\",0))","v":0},"FALSE",{"$f":"MATCH(G435,Kalkulacja!$I$1:$I$416,0)","v":361},null,null,0,null,0,null,null,null,null,"Dodatkowy moduł 86",null,null,null,null,{"$f":"IFERROR(INDEX(Kalkulacja!V:V,Q435),0)","v":0},0,null,null,null,{"$f":"IFERROR(IF($J$115>0,INDEX(Kalkulacja!D:D,Q436),\"\"),\"\")","v":""},null,null,null,{"$f":"S435","v":0}]
[null,null,null,{"$f":"IFERROR(IF(N436>0,\"SUGEROWANE\",IF((INDEX(Kalkulacja!B:B,MATCH(G436,Kalkulacja!I:I,0)))=\"x\",\"USŁUGA\",\"\")),\"\")","v":""},"i",null,{"$f":"Kalkulacja!I362","v":"Dodatkowy moduł 87"},null,null,0,{"$f":"IFERROR(IF(Kalkulacja!$G$2=\"x\",INDEX(Kalkulacja!$Y$1:$Y$416,Q436),\"\"),\"\")","v":""},{"$f":"IFERROR(IF(Kalkulacja!$D$2=\"x\",IF(INDEX(Kalkulacja!J:J,Q435)=\"od\",\"od\",\"\"),\"\"),\"\")","v":""},{"$f":"IFERROR(IF(AND(Kalkulacja!$D$2=\"x\",$J$115>0),(IF(INDEX(Kalkulacja!D:D,Q436)=\"x\",\"Nie-Elementor\",\"\")),\"\"),\"\")","v":""},{"$f":"IFERROR(INDEX('Podświetlanie modułów'!H:H,MATCH(G436,'Podświetlanie modułów'!F:F,0)),0)","v":0},{"$f":"IF(AO436*1>0,\"x\",IF(INDEX(Kalkulacja!A:A,Q436)=\"x\",\"x\",0))","v":0},"FALSE",{"$f":"MATCH(G436,Kalkulacja!$I$1:$I$416,0)","v":362},null,null,0,null,0,null,null,null,null,"Dodatkowy moduł 87",null,null,null,null,{"$f":"IFERROR(INDEX(Kalkulacja!V:V,Q436),0)","v":0},0,null,null,null,{"$f":"IFERROR(IF($J$115>0,INDEX(Kalkulacja!D:D,Q437),\"\"),\"\")","v":""},null,null,null,{"$f":"S436","v":0}]
[null,null,null,{"$f":"IFERROR(IF(N437>0,\"SUGEROWANE\",IF((INDEX(Kalkulacja!B:B,MATCH(G437,Kalkulacja!I:I,0)))=\"x\",\"USŁUGA\",\"\")),\"\")","v":""},{"$f":"Kalkulacja!I363","v":"Płatności i podatki"},null,null,null,null,null,null,{"$f":"IFERROR(IF(Kalkulacja!$D$2=\"x\",IF(INDEX(Kalkulacja!J:J,Q436)=\"od\",\"od\",\"\"),\"\"),\"\")","v":""},{"$f":"IFERROR(IF(AND(Kalkulacja!$D$2=\"x\",$J$115>0),(IF(INDEX(Kalkulacja!D:D,Q437)=\"x\",\"Nie-Elementor\",\"\")),\"\"),\"\")","v":""},{"$f":"IFERROR(INDEX('Podświetlanie modułów'!H:H,MATCH(G437,'Podświetlanie modułów'!F:F,0)),0)","v":0},{"$f":"IF(COUNTIF(O438:O448,\"x\")>0,\"x\",0)","v":"x"},"TRUE",{"$f":"MATCH(E437,Kalkulacja!$I$1:$I$416,0)","v":363},null,null,0,null,0,null,null,null,null,0,null,null,null,null,{"$f":"IFERROR(INDEX(Kalkulacja!V:V,Q437),0)","v":0},0,null,null,null,{"$f":"IFERROR(IF($J$115>0,INDEX(Kalkulacja!D:D,Q438),\"\"),\"\")","v":""}]
[null,null,null,{"$f":"IFERROR(IF(N438>0,\"SUGEROWANE\",IF((INDEX(Kalkulacja!B:B,MATCH(G438,Kalkulacja!I:I,0)))=\"x\",\"USŁUGA\",\"\")),\"\")","v":""},"i",null,{"$f":"Kalkulacja!I364","v":"Integracja z PayU"},null,null,{"$f":"AO438*1","v":0},{"$f":"IFERROR(IF(Kalkulacja!$G$2=\"x\",INDEX(Kalkulacja!$Y$1:$Y$416,Q438),\"\"),\"\")","v":""},{"$f":"IFERROR(IF(Kalkulacja!$D$2=\"x\",IF(INDEX(Kalkulacja!J:J,Q437)=\"od\",\"od\",\"\"),\"\"),\"\")","v":""},{"$f":"IFERROR(IF(AND(Kalkulacja!$D$2=\"x\",$J$115>0),(IF(INDEX(Kalkulacja!D:D,Q438)=\"x\",\"Nie-Elementor\",\"\")),\"\"),\"\")","v":""},{"$f":"IFERROR(INDEX('Podświetlanie modułów'!H:H,MATCH(G438,'Podświetlanie modułów'!F:F,0)),0)","v":0},{"$f":"IF(AO438*1>0,\"x\",IF(INDEX(Kalkulacja!A:A,Q438)=\"x\",\"x\",0))","v":"x"},"TRUE",{"$f":"MATCH(G438,Kalkulacja!$I$1:$I$416,0)","v":364},null,null,0,null,0,null,null,null,null,"Integracja z PayU",null,null,null,null,{"$f":"IFERROR(INDEX(Kalkulacja!V:V,Q438),0)","v":0},0,null,null,null,{"$f":"IFERROR(IF($J$115>0,INDEX(Kalkulacja!D:D,Q439),\"\"),\"\")","v":""},null,null,null,false]
[null,null,null,{"$f":"IFERROR(IF(N439>0,\"SUGEROWANE\",IF((INDEX(Kalkulacja!B:B,MATCH(G439,Kalkulacja!I:I,0)))=\"x\",\"USŁUGA\",\"\")),\"\")","v":""},"i",null,{"$f":"Kalkulacja!I365","v":"Integracja z Przelewy24"},null,null,1,{"$f":"IFERROR(IF(Kalkulacja!$G$2=\"x\",INDEX(Kalkulacja!$Y$1:$Y$416,Q439),\"\"),\"\")","v":""},{"$f":"IFERROR(IF(Kalkulacja!$D$2=\"x\",IF(INDEX(Kalkulacja!J:J,Q438)=\"od\",\"od\",\"\"),\"\"),\"\")","v":""},{"$f":"IFERROR(IF(AND(Kalkulacja!$D$2=\"x\",$J$115>0),(IF(INDEX(Kalkulacja!D:D,Q439)=\"x\",\"Nie-Elementor\",\"\")),\"\"),\"\")","v":""},{"$f":"IFERROR(INDEX('Podświetlanie modułów'!H:H,MATCH(G439,'Podświetlanie modułów'!F:F,0)),0)","v":0},{"$f":"IF(AO439*1>0,\"x\",IF(INDEX(Kalkulacja!A:A,Q439)=\"x\",\"x\",0))","v":"x"},"TRUE",{"$f":"MATCH(G439,Kalkulacja!$I$1:$I$416,0)","v":365},null,null,0,null,0,null,null,null,null,"Integracja z Przelewy24",null,null,null,null,{"$f":"IFERROR(INDEX(Kalkulacja!V:V,Q439),0)","v":"x"},0,null,null,null,{"$f":"IFERROR(IF($J$115>0,INDEX(Kalkulacja!D:D,Q440),\"\"),\"\")","v":""},null,null,null,true]
[null,null,null,{"$f":"IFERROR(IF(N440>0,\"SUGEROWANE\",IF((INDEX(Kalkulacja!B:B,MATCH(G440,Kalkulacja!I:I,0)))=\"x\",\"USŁUGA\",\"\")),\"\")","v":""},"i",null,{"$f":"Kalkulacja!I366","v":"Integracja z PayPal"},null,null,0,{"$f":"IFERROR(IF(Kalkulacja!$G$2=\"x\",INDEX(Kalkulacja!$Y$1:$Y$416,Q440),\"\"),\"\")","v":""},{"$f":"IFERROR(IF(Kalkulacja!$D$2=\"x\",IF(INDEX(Kalkulacja!J:J,Q439)=\"od\",\"od\",\"\"),\"\"),\"\")","v":""},{"$f":"IFERROR(IF(AND(Kalkulacja!$D$2=\"x\",$J$115>0),(IF(INDEX(Kalkulacja!D:D,Q440)=\"x\",\"Nie-Elementor\",\"\")),\"\"),\"\")","v":""},{"$f":"IFERROR(INDEX('Podświetlanie modułów'!H:H,MATCH(G440,'Podświetlanie modułów'!F:F,0)),0)","v":0},{"$f":"IF(AO440*1>0,\"x\",IF(INDEX(Kalkulacja!A:A,Q440)=\"x\",\"x\",0))","v":"x"},"TRUE",{"$f":"MATCH(G440,Kalkulacja!$I$1:$I$416,0)","v":366},null,null,0,null,0,null,null,null,null,"Integracja z PayPal",null,null,null,null,{"$f":"IFERROR(INDEX(Kalkulacja!V:V,Q440),0)","v":"x"},0,null,null,null,{"$f":"IFERROR(IF($J$115>0,INDEX(Kalkulacja!D:D,Q441),\"\"),\"\")","v":""},null,null,null,false]
[null,null,null,{"$f":"IFERROR(IF(N441>0,\"SUGEROWANE\",IF((INDEX(Kalkulacja!B:B,MATCH(G441,Kalkulacja!I:I,0)))=\"x\",\"USŁUGA\",\"\")),\"\")","v":""},"i",null,{"$f":"Kalkulacja!I367","v":"Integracja z DotPay"},null,null,0,{"$f":"IFERROR(IF(Kalkulacja!$G$2=\"x\",INDEX(Kalkulacja!$Y$1:$Y$416,Q441),\"\"),\"\")","v":""},{"$f":"IFERROR(IF(Kalkulacja!$D$2=\"x\",IF(INDEX(Kalkulacja!J:J,Q440)=\"od\",\"od\",\"\"),\"\"),\"\")","v":""},{"$f":"IFERROR(IF(AND(Kalkulacja!$D$2=\"x\",$J$115>0),(IF(INDEX(Kalkulacja!D:D,Q441)=\"x\",\"Nie-Elementor\",\"\")),\"\"),\"\")","v":""},{"$f":"IFERROR(INDEX('Podświetlanie modułów'!H:H,MATCH(G441,'Podświetlanie modułów'!F:F,0)),0)","v":0},{"$f":"IF(AO441*1>0,\"x\",IF(INDEX(Kalkulacja!A:A,Q441)=\"x\",\"x\",0))","v":"x"},"TRUE",{"$f":"MATCH(G441,Kalkulacja!$I$1:$I$416,0)","v":367},null,null,0,null,0,null,null,null,null,"Integracja z DotPay",null,null,null,null,{"$f":"IFERROR(INDEX(Kalkulacja!V:V,Q441),0)","v":0},0,null,null,null,{"$f":"IFERROR(IF($J$115>0,INDEX(Kalkulacja!D:D,Q442),\"\"),\"\")","v":""},null,null,null,false]
[null,null,null,{"$f":"IFERROR(IF(N442>0,\"SUGEROWANE\",IF((INDEX(Kalkulacja!B:B,MATCH(G442,Kalkulacja!I:I,0)))=\"x\",\"USŁUGA\",\"\")),\"\")","v":""},"i",null,{"$f":"Kalkulacja!I368","v":"Integracja z tPay"},null,null,0,{"$f":"IFERROR(IF(Kalkulacja!$G$2=\"x\",INDEX(Kalkulacja!$Y$1:$Y$416,Q442),\"\"),\"\")","v":""},{"$f":"IFERROR(IF(Kalkulacja!$D$2=\"x\",IF(INDEX(Kalkulacja!J:J,Q441)=\"od\",\"od\",\"\"),\"\"),\"\")","v":""},{"$f":"IFERROR(IF(AND(Kalkulacja!$D$2=\"x\",$J$115>0),(IF(INDEX(Kalkulacja!D:D,Q442)=\"x\",\"Nie-Elementor\",\"\")),\"\"),\"\")","v":""},{"$f":"IFERROR(INDEX('Podświetlanie modułów'!H:H,MATCH(G442,'Podświetlanie modułów'!F:F,0)),0)","v":0},{"$f":"IF(AO442*1>0,\"x\",IF(INDEX(Kalkulacja!A:A,Q442)=\"x\",\"x\",0))","v":"x"},"TRUE",{"$f":"MATCH(G442,Kalkulacja!$I$1:$I$416,0)","v":368},null,null,0,null,0,null,null,null,null,"Integracja z tPay",null,null,null,null,{"$f":"IFERROR(INDEX(Kalkulacja!V:V,Q442),0)","v":0},0,null,null,null,{"$f":"IFERROR(IF($J$115>0,INDEX(Kalkulacja!D:D,Q443),\"\"),\"\")","v":""},null,null,null,false]
[null,null,null,{"$f":"IFERROR(IF(N443>0,\"SUGEROWANE\",IF((INDEX(Kalkulacja!B:B,MATCH(G443,Kalkulacja!I:I,0)))=\"x\",\"USŁUGA\",\"\")),\"\")","v":""},"i",null,{"$f":"Kalkulacja!I369","v":"Stawki podatkowe"},null,null,1,{"$f":"IFERROR(IF(Kalkulacja!$G$2=\"x\",INDEX(Kalkulacja!$Y$1:$Y$416,Q443),\"\"),\"\")","v":""},{"$f":"IFERROR(IF(Kalkulacja!$D$2=\"x\",IF(INDEX(Kalkulacja!J:J,Q442)=\"od\",\"od\",\"\"),\"\"),\"\")","v":""},{"$f":"IFERROR(IF(AND(Kalkulacja!$D$2=\"x\",$J$115>0),(IF(INDEX(Kalkulacja!D:D,Q443)=\"x\",\"Nie-Elementor\",\"\")),\"\"),\"\")","v":""},{"$f":"IFERROR(INDEX('Podświetlanie modułów'!H:H,MATCH(G443,'Podświetlanie modułów'!F:F,0)),0)","v":0},{"$f":"IF(AO443*1>0,\"x\",IF(INDEX(Kalkulacja!A:A,Q443)=\"x\",\"x\",0))","v":"x"},"TRUE",{"$f":"MATCH(G443,Kalkulacja!$I$1:$I$416,0)","v":369},null,null,0,null,0,null,null,null,null,"Stawki podatkowe",null,null,null,null,{"$f":"IFERROR(INDEX(Kalkulacja!V:V,Q443),0)","v":"x"},0,null,null,null,{"$f":"IFERROR(IF($J$115>0,INDEX(Kalkulacja!D:D,Q444),\"\"),\"\")","v":""},null,null,null,true]
[null,null,null,{"$f":"IFERROR(IF(N444>0,\"SUGEROWANE\",IF((INDEX(Kalkulacja!B:B,MATCH(G444,Kalkulacja!I:I,0)))=\"x\",\"USŁUGA\",\"\")),\"\")","v":""},"i",null,{"$f":"Kalkulacja!I370","v":"Dodatkowy moduł 88"},null,null,0,{"$f":"IFERROR(IF(Kalkulacja!$G$2=\"x\",INDEX(Kalkulacja!$Y$1:$Y$416,Q444),\"\"),\"\")","v":""},{"$f":"IFERROR(IF(Kalkulacja!$D$2=\"x\",IF(INDEX(Kalkulacja!J:J,Q443)=\"od\",\"od\",\"\"),\"\"),\"\")","v":""},{"$f":"IFERROR(IF(AND(Kalkulacja!$D$2=\"x\",$J$115>0),(IF(INDEX(Kalkulacja!D:D,Q444)=\"x\",\"Nie-Elementor\",\"\")),\"\"),\"\")","v":""},{"$f":"IFERROR(INDEX('Podświetlanie modułów'!H:H,MATCH(G444,'Podświetlanie modułów'!F:F,0)),0)","v":0},{"$f":"IF(AO444*1>0,\"x\",IF(INDEX(Kalkulacja!A:A,Q444)=\"x\",\"x\",0))","v":0},"FALSE",{"$f":"MATCH(G444,Kalkulacja!$I$1:$I$416,0)","v":370},null,null,0,null,0,null,null,null,null,"Dodatkowy moduł 88",null,null,null,null,{"$f":"IFERROR(INDEX(Kalkulacja!V:V,Q444),0)","v":0},0,null,null,null,{"$f":"IFERROR(IF($J$115>0,INDEX(Kalkulacja!D:D,Q445),\"\"),\"\")","v":""},null,null,null,false]
[null,null,null,{"$f":"IFERROR(IF(N445>0,\"SUGEROWANE\",IF((INDEX(Kalkulacja!B:B,MATCH(G445,Kalkulacja!I:I,0)))=\"x\",\"USŁUGA\",\"\")),\"\")","v":""},"i",null,{"$f":"Kalkulacja!I371","v":"Dodatkowy moduł 89"},null,null,0,{"$f":"IFERROR(IF(Kalkulacja!$G$2=\"x\",INDEX(Kalkulacja!$Y$1:$Y$416,Q445),\"\"),\"\")","v":""},{"$f":"IFERROR(IF(Kalkulacja!$D$2=\"x\",IF(INDEX(Kalkulacja!J:J,Q444)=\"od\",\"od\",\"\"),\"\"),\"\")","v":""},{"$f":"IFERROR(IF(AND(Kalkulacja!$D$2=\"x\",$J$115>0),(IF(INDEX(Kalkulacja!D:D,Q445)=\"x\",\"Nie-Elementor\",\"\")),\"\"),\"\")","v":""},{"$f":"IFERROR(INDEX('Podświetlanie modułów'!H:H,MATCH(G445,'Podświetlanie modułów'!F:F,0)),0)","v":0},{"$f":"IF(AO445*1>0,\"x\",IF(INDEX(Kalkulacja!A:A,Q445)=\"x\",\"x\",0))","v":0},"FALSE",{"$f":"MATCH(G445,Kalkulacja!$I$1:$I$416,0)","v":371},null,null,0,null,0,null,null,null,null,"Dodatkowy moduł 89",null,null,null,null,{"$f":"IFERROR(INDEX(Kalkulacja!V:V,Q445),0)","v":0},0,null,null,null,{"$f":"IFERROR(IF($J$115>0,INDEX(Kalkulacja!D:D,Q446),\"\"),\"\")","v":""},null,null,null,false]
[null,null,null,{"$f":"IFERROR(IF(N446>0,\"SUGEROWANE\",IF((INDEX(Kalkulacja!B:B,MATCH(G446,Kalkulacja!I:I,0)))=\"x\",\"USŁUGA\",\"\")),\"\")","v":""},"i",null,{"$f":"Kalkulacja!I372","v":"Dodatkowy moduł 90"},null,null,0,{"$f":"IFERROR(IF(Kalkulacja!$G$2=\"x\",INDEX(Kalkulacja!$Y$1:$Y$416,Q446),\"\"),\"\")","v":""},{"$f":"IFERROR(IF(Kalkulacja!$D$2=\"x\",IF(INDEX(Kalkulacja!J:J,Q445)=\"od\",\"od\",\"\"),\"\"),\"\")","v":""},{"$f":"IFERROR(IF(AND(Kalkulacja!$D$2=\"x\",$J$115>0),(IF(INDEX(Kalkulacja!D:D,Q446)=\"x\",\"Nie-Elementor\",\"\")),\"\"),\"\")","v":""},{"$f":"IFERROR(INDEX('Podświetlanie modułów'!H:H,MATCH(G446,'Podświetlanie modułów'!F:F,0)),0)","v":0},{"$f":"IF(AO446*1>0,\"x\",IF(INDEX(Kalkulacja!A:A,Q446)=\"x\",\"x\",0))","v":0},"FALSE",{"$f":"MATCH(G446,Kalkulacja!$I$1:$I$416,0)","v":372},null,null,0,null,0,null,null,null,null,{"$f":"G446","v":"Dodatkowy moduł 90"},null,null,null,null,{"$f":"IFERROR(INDEX(Kalkulacja!V:V,Q446),0)","v":0},0,null,null,null,{"$f":"IFERROR(IF($J$115>0,INDEX(Kalkulacja!D:D,Q447),\"\"),\"\")","v":""},null,null,null,{"$f":"S446","v":0}]
[null,null,null,{"$f":"IFERROR(IF(N447>0,\"SUGEROWANE\",IF((INDEX(Kalkulacja!B:B,MATCH(G447,Kalkulacja!I:I,0)))=\"x\",\"USŁUGA\",\"\")),\"\")","v":""},"i",null,{"$f":"Kalkulacja!I373","v":"Dodatkowy moduł 91"},null,null,0,{"$f":"IFERROR(IF(Kalkulacja!$G$2=\"x\",INDEX(Kalkulacja!$Y$1:$Y$416,Q447),\"\"),\"\")","v":""},{"$f":"IFERROR(IF(Kalkulacja!$D$2=\"x\",IF(INDEX(Kalkulacja!J:J,Q446)=\"od\",\"od\",\"\"),\"\"),\"\")","v":""},{"$f":"IFERROR(IF(AND(Kalkulacja!$D$2=\"x\",$J$115>0),(IF(INDEX(Kalkulacja!D:D,Q447)=\"x\",\"Nie-Elementor\",\"\")),\"\"),\"\")","v":""},{"$f":"IFERROR(INDEX('Podświetlanie modułów'!H:H,MATCH(G447,'Podświetlanie modułów'!F:F,0)),0)","v":0},{"$f":"IF(AO447*1>0,\"x\",IF(INDEX(Kalkulacja!A:A,Q447)=\"x\",\"x\",0))","v":0},"FALSE",{"$f":"MATCH(G447,Kalkulacja!$I$1:$I$416,0)","v":373},null,null,0,null,0,null,null,null,null,"Dodatkowy moduł 91",null,null,null,null,{"$f":"IFERROR(INDEX(Kalkulacja!V:V,Q447),0)","v":0},0,null,null,null,{"$f":"IFERROR(IF($J$115>0,INDEX(Kalkulacja!D:D,Q448),\"\"),\"\")","v":""},null,null,null,{"$f":"S447","v":0}]
[null,null,null,{"$f":"IFERROR(IF(N448>0,\"SUGEROWANE\",IF((INDEX(Kalkulacja!B:B,MATCH(G448,Kalkulacja!I:I,0)))=\"x\",\"USŁUGA\",\"\")),\"\")","v":""},"i",null,{"$f":"Kalkulacja!I374","v":"Dodatkowy moduł 92"},null,null,0,{"$f":"IFERROR(IF(Kalkulacja!$G$2=\"x\",INDEX(Kalkulacja!$Y$1:$Y$416,Q448),\"\"),\"\")","v":""},{"$f":"IFERROR(IF(Kalkulacja!$D$2=\"x\",IF(INDEX(Kalkulacja!J:J,Q447)=\"od\",\"od\",\"\"),\"\"),\"\")","v":""},{"$f":"IFERROR(IF(AND(Kalkulacja!$D$2=\"x\",$J$115>0),(IF(INDEX(Kalkulacja!D:D,Q448)=\"x\",\"Nie-Elementor\",\"\")),\"\"),\"\")","v":""},{"$f":"IFERROR(INDEX('Podświetlanie modułów'!H:H,MATCH(G448,'Podświetlanie modułów'!F:F,0)),0)","v":0},{"$f":"IF(AO448*1>0,\"x\",IF(INDEX(Kalkulacja!A:A,Q448)=\"x\",\"x\",0))","v":0},"FALSE",{"$f":"MATCH(G448,Kalkulacja!$I$1:$I$416,0)","v":374},null,null,0,null,0,null,null,null,null,"Dodatkowy moduł 92",null,null,null,null,{"$f":"IFERROR(INDEX(Kalkulacja!V:V,Q448),0)","v":0},0,null,null,null,{"$f":"IFERROR(IF($J$115>0,INDEX(Kalkulacja!D:D,Q449),\"\"),\"\")","v":""},null,null,null,false]
[null,null,null,{"$f":"IFERROR(IF(N449>0,\"SUGEROWANE\",IF((INDEX(Kalkulacja!B:B,MATCH(G449,Kalkulacja!I:I,0)))=\"x\",\"USŁUGA\",\"\")),\"\")","v":""},{"$f":"Kalkulacja!I375","v":"Wysyłka"},null,null,null,null,null,null,{"$f":"IFERROR(IF(Kalkulacja!$D$2=\"x\",IF(INDEX(Kalkulacja!J:J,Q448)=\"od\",\"od\",\"\"),\"\"),\"\")","v":""},{"$f":"IFERROR(IF(AND(Kalkulacja!$D$2=\"x\",$J$115>0),(IF(INDEX(Kalkulacja!D:D,Q449)=\"x\",\"Nie-Elementor\",\"\")),\"\"),\"\")","v":""},{"$f":"IFERROR(INDEX('Podświetlanie modułów'!H:H,MATCH(G449,'Podświetlanie modułów'!F:F,0)),0)","v":0},{"$f":"IF(COUNTIF(O450:O465,\"x\")>0,\"x\",0)","v":"x"},"TRUE",{"$f":"MATCH(E449,Kalkulacja!$I$1:$I$416,0)","v":375},null,null,0,null,0,null,null,null,null,0,null,null,null,null,{"$f":"IFERROR(INDEX(Kalkulacja!V:V,Q449),0)","v":0},0,null,null,null,{"$f":"IFERROR(IF($J$115>0,INDEX(Kalkulacja!D:D,Q450),\"\"),\"\")","v":""}]
[null,null,null,{"$f":"IFERROR(IF(N450>0,\"SUGEROWANE\",IF((INDEX(Kalkulacja!B:B,MATCH(G450,Kalkulacja!I:I,0)))=\"x\",\"USŁUGA\",\"\")),\"\")","v":""},"i",null,{"$f":"Kalkulacja!I376","v":"Darmowa wysyłka w oparciu o wielkość zamówienia"},null,null,{"$f":"AO450*1","v":1},{"$f":"IFERROR(IF(Kalkulacja!$G$2=\"x\",INDEX(Kalkulacja!$Y$1:$Y$416,Q450),\"\"),\"\")","v":""},{"$f":"IFERROR(IF(Kalkulacja!$D$2=\"x\",IF(INDEX(Kalkulacja!J:J,Q449)=\"od\",\"od\",\"\"),\"\"),\"\")","v":""},{"$f":"IFERROR(IF(AND(Kalkulacja!$D$2=\"x\",$J$115>0),(IF(INDEX(Kalkulacja!D:D,Q450)=\"x\",\"Nie-Elementor\",\"\")),\"\"),\"\")","v":""},{"$f":"IFERROR(INDEX('Podświetlanie modułów'!H:H,MATCH(G450,'Podświetlanie modułów'!F:F,0)),0)","v":0},{"$f":"IF(AO450*1>0,\"x\",IF(INDEX(Kalkulacja!A:A,Q450)=\"x\",\"x\",0))","v":"x"},"TRUE",{"$f":"MATCH(G450,Kalkulacja!$I$1:$I$416,0)","v":376},null,null,0,null,0,null,null,null,null,"Darmowa wysyłka w oparciu o wielkość zamówienia",null,null,null,null,{"$f":"IFERROR(INDEX(Kalkulacja!V:V,Q450),0)","v":"x"},0,null,null,null,{"$f":"IFERROR(IF($J$115>0,INDEX(Kalkulacja!D:D,Q451),\"\"),\"\")","v":""},null,null,null,true]
[null,null,null,{"$f":"IFERROR(IF(N451>0,\"SUGEROWANE\",IF((INDEX(Kalkulacja!B:B,MATCH(G451,Kalkulacja!I:I,0)))=\"x\",\"USŁUGA\",\"\")),\"\")","v":""},"i",null,{"$f":"Kalkulacja!I377","v":"Integracja z DPD"},null,null,1,{"$f":"IFERROR(IF(Kalkulacja!$G$2=\"x\",INDEX(Kalkulacja!$Y$1:$Y$416,Q451),\"\"),\"\")","v":""},{"$f":"IFERROR(IF(Kalkulacja!$D$2=\"x\",IF(INDEX(Kalkulacja!J:J,Q450)=\"od\",\"od\",\"\"),\"\"),\"\")","v":""},{"$f":"IFERROR(IF(AND(Kalkulacja!$D$2=\"x\",$J$115>0),(IF(INDEX(Kalkulacja!D:D,Q451)=\"x\",\"Nie-Elementor\",\"\")),\"\"),\"\")","v":""},{"$f":"IFERROR(INDEX('Podświetlanie modułów'!H:H,MATCH(G451,'Podświetlanie modułów'!F:F,0)),0)","v":0},{"$f":"IF(AO451*1>0,\"x\",IF(INDEX(Kalkulacja!A:A,Q451)=\"x\",\"x\",0))","v":"x"},"TRUE",{"$f":"MATCH(G451,Kalkulacja!$I$1:$I$416,0)","v":377},null,null,0,null,0,null,null,null,null,"Integracja z DPD",null,null,null,null,{"$f":"IFERROR(INDEX(Kalkulacja!V:V,Q451),0)","v":"x"},0,null,null,null,{"$f":"IFERROR(IF($J$115>0,INDEX(Kalkulacja!D:D,Q452),\"\"),\"\")","v":""},null,null,null,true]
[null,null,null,{"$f":"IFERROR(IF(N452>0,\"SUGEROWANE\",IF((INDEX(Kalkulacja!B:B,MATCH(G452,Kalkulacja!I:I,0)))=\"x\",\"USŁUGA\",\"\")),\"\")","v":""},"i",null,{"$f":"Kalkulacja!I378","v":"Integracja z Paczkomaty"},null,null,1,{"$f":"IFERROR(IF(Kalkulacja!$G$2=\"x\",INDEX(Kalkulacja!$Y$1:$Y$416,Q452),\"\"),\"\")","v":""},{"$f":"IFERROR(IF(Kalkulacja!$D$2=\"x\",IF(INDEX(Kalkulacja!J:J,Q451)=\"od\",\"od\",\"\"),\"\"),\"\")","v":""},{"$f":"IFERROR(IF(AND(Kalkulacja!$D$2=\"x\",$J$115>0),(IF(INDEX(Kalkulacja!D:D,Q452)=\"x\",\"Nie-Elementor\",\"\")),\"\"),\"\")","v":""},{"$f":"IFERROR(INDEX('Podświetlanie modułów'!H:H,MATCH(G452,'Podświetlanie modułów'!F:F,0)),0)","v":0},{"$f":"IF(AO452*1>0,\"x\",IF(INDEX(Kalkulacja!A:A,Q452)=\"x\",\"x\",0))","v":"x"},"TRUE",{"$f":"MATCH(G452,Kalkulacja!$I$1:$I$416,0)","v":378},null,null,0,null,0,null,null,null,null,"Integracja z Paczkomaty",null,null,null,null,{"$f":"IFERROR(INDEX(Kalkulacja!V:V,Q452),0)","v":"x"},0,null,null,null,{"$f":"IFERROR(IF($J$115>0,INDEX(Kalkulacja!D:D,Q453),\"\"),\"\")","v":""},null,null,null,true]
[null,null,null,{"$f":"IFERROR(IF(N453>0,\"SUGEROWANE\",IF((INDEX(Kalkulacja!B:B,MATCH(G453,Kalkulacja!I:I,0)))=\"x\",\"USŁUGA\",\"\")),\"\")","v":""},"i",null,{"$f":"Kalkulacja!I379","v":"Integracja z Furgonetka"},null,null,0,{"$f":"IFERROR(IF(Kalkulacja!$G$2=\"x\",INDEX(Kalkulacja!$Y$1:$Y$416,Q453),\"\"),\"\")","v":""},{"$f":"IFERROR(IF(Kalkulacja!$D$2=\"x\",IF(INDEX(Kalkulacja!J:J,Q452)=\"od\",\"od\",\"\"),\"\"),\"\")","v":""},{"$f":"IFERROR(IF(AND(Kalkulacja!$D$2=\"x\",$J$115>0),(IF(INDEX(Kalkulacja!D:D,Q453)=\"x\",\"Nie-Elementor\",\"\")),\"\"),\"\")","v":""},{"$f":"IFERROR(INDEX('Podświetlanie modułów'!H:H,MATCH(G453,'Podświetlanie modułów'!F:F,0)),0)","v":0},{"$f":"IF(AO453*1>0,\"x\",IF(INDEX(Kalkulacja!A:A,Q453)=\"x\",\"x\",0))","v":"x"},"TRUE",{"$f":"MATCH(G453,Kalkulacja!$I$1:$I$416,0)","v":379},null,null,0,null,0,null,null,null,null,"Integracja z Furgonetka",null,null,null,null,{"$f":"IFERROR(INDEX(Kalkulacja!V:V,Q453),0)","v":0},0,null,null,null,{"$f":"IFERROR(IF($J$115>0,INDEX(Kalkulacja!D:D,Q454),\"\"),\"\")","v":""},null,null,null,false]
[null,null,null,{"$f":"IFERROR(IF(N454>0,\"SUGEROWANE\",IF((INDEX(Kalkulacja!B:B,MATCH(G454,Kalkulacja!I:I,0)))=\"x\",\"USŁUGA\",\"\")),\"\")","v":""},"i",null,{"$f":"Kalkulacja!I380","v":"Integracja z DHL"},null,null,0,{"$f":"IFERROR(IF(Kalkulacja!$G$2=\"x\",INDEX(Kalkulacja!$Y$1:$Y$416,Q454),\"\"),\"\")","v":""},{"$f":"IFERROR(IF(Kalkulacja!$D$2=\"x\",IF(INDEX(Kalkulacja!J:J,Q453)=\"od\",\"od\",\"\"),\"\"),\"\")","v":""},{"$f":"IFERROR(IF(AND(Kalkulacja!$D$2=\"x\",$J$115>0),(IF(INDEX(Kalkulacja!D:D,Q454)=\"x\",\"Nie-Elementor\",\"\")),\"\"),\"\")","v":""},{"$f":"IFERROR(INDEX('Podświetlanie modułów'!H:H,MATCH(G454,'Podświetlanie modułów'!F:F,0)),0)","v":0},{"$f":"IF(AO454*1>0,\"x\",IF(INDEX(Kalkulacja!A:A,Q454)=\"x\",\"x\",0))","v":"x"},"TRUE",{"$f":"MATCH(G454,Kalkulacja!$I$1:$I$416,0)","v":380},null,null,0,null,0,null,null,null,null,"Integracja z DHL",null,null,null,null,{"$f":"IFERROR(INDEX(Kalkulacja!V:V,Q454),0)","v":0},0,null,null,null,{"$f":"IFERROR(IF($J$115>0,INDEX(Kalkulacja!D:D,Q455),\"\"),\"\")","v":""},null,null,null,false]
[null,null,null,{"$f":"IFERROR(IF(N455>0,\"SUGEROWANE\",IF((INDEX(Kalkulacja!B:B,MATCH(G455,Kalkulacja!I:I,0)))=\"x\",\"USŁUGA\",\"\")),\"\")","v":""},"i",null,{"$f":"Kalkulacja!I381","v":"Integracja z UPS"},null,null,0,{"$f":"IFERROR(IF(Kalkulacja!$G$2=\"x\",INDEX(Kalkulacja!$Y$1:$Y$416,Q455),\"\"),\"\")","v":""},{"$f":"IFERROR(IF(Kalkulacja!$D$2=\"x\",IF(INDEX(Kalkulacja!J:J,Q454)=\"od\",\"od\",\"\"),\"\"),\"\")","v":""},{"$f":"IFERROR(IF(AND(Kalkulacja!$D$2=\"x\",$J$115>0),(IF(INDEX(Kalkulacja!D:D,Q455)=\"x\",\"Nie-Elementor\",\"\")),\"\"),\"\")","v":""},{"$f":"IFERROR(INDEX('Podświetlanie modułów'!H:H,MATCH(G455,'Podświetlanie modułów'!F:F,0)),0)","v":0},{"$f":"IF(AO455*1>0,\"x\",IF(INDEX(Kalkulacja!A:A,Q455)=\"x\",\"x\",0))","v":"x"},"TRUE",{"$f":"MATCH(G455,Kalkulacja!$I$1:$I$416,0)","v":381},null,null,0,null,0,null,null,null,null,"Integracja z UPS",null,null,null,null,{"$f":"IFERROR(INDEX(Kalkulacja!V:V,Q455),0)","v":0},0,null,null,null,{"$f":"IFERROR(IF($J$115>0,INDEX(Kalkulacja!D:D,Q456),\"\"),\"\")","v":""},null,null,null,false]
[null,null,null,{"$f":"IFERROR(IF(N456>0,\"SUGEROWANE\",IF((INDEX(Kalkulacja!B:B,MATCH(G456,Kalkulacja!I:I,0)))=\"x\",\"USŁUGA\",\"\")),\"\")","v":""},"i",null,{"$f":"Kalkulacja!I382","v":"Integracja z FedEx"},null,null,0,{"$f":"IFERROR(IF(Kalkulacja!$G$2=\"x\",INDEX(Kalkulacja!$Y$1:$Y$416,Q456),\"\"),\"\")","v":""},{"$f":"IFERROR(IF(Kalkulacja!$D$2=\"x\",IF(INDEX(Kalkulacja!J:J,Q455)=\"od\",\"od\",\"\"),\"\"),\"\")","v":""},{"$f":"IFERROR(IF(AND(Kalkulacja!$D$2=\"x\",$J$115>0),(IF(INDEX(Kalkulacja!D:D,Q456)=\"x\",\"Nie-Elementor\",\"\")),\"\"),\"\")","v":""},{"$f":"IFERROR(INDEX('Podświetlanie modułów'!H:H,MATCH(G456,'Podświetlanie modułów'!F:F,0)),0)","v":0},{"$f":"IF(AO456*1>0,\"x\",IF(INDEX(Kalkulacja!A:A,Q456)=\"x\",\"x\",0))","v":"x"},"TRUE",{"$f":"MATCH(G456,Kalkulacja!$I$1:$I$416,0)","v":382},null,null,0,null,0,null,null,null,null,"Integracja z FedEx",null,null,null,null,{"$f":"IFERROR(INDEX(Kalkulacja!V:V,Q456),0)","v":0},0,null,null,null,{"$f":"IFERROR(IF($J$115>0,INDEX(Kalkulacja!D:D,Q457),\"\"),\"\")","v":""},null,null,null,false]
[null,null,null,{"$f":"IFERROR(IF(N457>0,\"SUGEROWANE\",IF((INDEX(Kalkulacja!B:B,MATCH(G457,Kalkulacja!I:I,0)))=\"x\",\"USŁUGA\",\"\")),\"\")","v":""},"i",null,{"$f":"Kalkulacja!I383","v":"Integracja z Poczta Polska"},null,null,0,{"$f":"IFERROR(IF(Kalkulacja!$G$2=\"x\",INDEX(Kalkulacja!$Y$1:$Y$416,Q457),\"\"),\"\")","v":""},{"$f":"IFERROR(IF(Kalkulacja!$D$2=\"x\",IF(INDEX(Kalkulacja!J:J,Q456)=\"od\",\"od\",\"\"),\"\"),\"\")","v":""},{"$f":"IFERROR(IF(AND(Kalkulacja!$D$2=\"x\",$J$115>0),(IF(INDEX(Kalkulacja!D:D,Q457)=\"x\",\"Nie-Elementor\",\"\")),\"\"),\"\")","v":""},{"$f":"IFERROR(INDEX('Podświetlanie modułów'!H:H,MATCH(G457,'Podświetlanie modułów'!F:F,0)),0)","v":0},{"$f":"IF(AO457*1>0,\"x\",IF(INDEX(Kalkulacja!A:A,Q457)=\"x\",\"x\",0))","v":"x"},"TRUE",{"$f":"MATCH(G457,Kalkulacja!$I$1:$I$416,0)","v":383},null,null,0,null,0,null,null,null,null,"Integracja z Poczta Polska",null,null,null,null,{"$f":"IFERROR(INDEX(Kalkulacja!V:V,Q457),0)","v":0},0,null,null,null,{"$f":"IFERROR(IF($J$115>0,INDEX(Kalkulacja!D:D,Q458),\"\"),\"\")","v":""},null,null,null,false]
[null,null,null,{"$f":"IFERROR(IF(N458>0,\"SUGEROWANE\",IF((INDEX(Kalkulacja!B:B,MATCH(G458,Kalkulacja!I:I,0)))=\"x\",\"USŁUGA\",\"\")),\"\")","v":""},"i",null,{"$f":"Kalkulacja!I384","v":"Integracja z Paczka w Ruchu"},null,null,0,{"$f":"IFERROR(IF(Kalkulacja!$G$2=\"x\",INDEX(Kalkulacja!$Y$1:$Y$416,Q458),\"\"),\"\")","v":""},{"$f":"IFERROR(IF(Kalkulacja!$D$2=\"x\",IF(INDEX(Kalkulacja!J:J,Q457)=\"od\",\"od\",\"\"),\"\"),\"\")","v":""},{"$f":"IFERROR(IF(AND(Kalkulacja!$D$2=\"x\",$J$115>0),(IF(INDEX(Kalkulacja!D:D,Q458)=\"x\",\"Nie-Elementor\",\"\")),\"\"),\"\")","v":""},{"$f":"IFERROR(INDEX('Podświetlanie modułów'!H:H,MATCH(G458,'Podświetlanie modułów'!F:F,0)),0)","v":0},{"$f":"IF(AO458*1>0,\"x\",IF(INDEX(Kalkulacja!A:A,Q458)=\"x\",\"x\",0))","v":"x"},"TRUE",{"$f":"MATCH(G458,Kalkulacja!$I$1:$I$416,0)","v":384},null,null,0,null,0,null,null,null,null,"Integracja z Paczka w Ruchu",null,null,null,null,{"$f":"IFERROR(INDEX(Kalkulacja!V:V,Q458),0)","v":0},0,null,null,null,{"$f":"IFERROR(IF($J$115>0,INDEX(Kalkulacja!D:D,Q459),\"\"),\"\")","v":""},null,null,null,false]
[null,null,null,{"$f":"IFERROR(IF(N459>0,\"SUGEROWANE\",IF((INDEX(Kalkulacja!B:B,MATCH(G459,Kalkulacja!I:I,0)))=\"x\",\"USŁUGA\",\"\")),\"\")","v":""},"i",null,{"$f":"Kalkulacja!I385","v":"Konfiguracja klas wysyłkowych"},null,null,1,{"$f":"IFERROR(IF(Kalkulacja!$G$2=\"x\",INDEX(Kalkulacja!$Y$1:$Y$416,Q459),\"\"),\"\")","v":""},{"$f":"IFERROR(IF(Kalkulacja!$D$2=\"x\",IF(INDEX(Kalkulacja!J:J,Q458)=\"od\",\"od\",\"\"),\"\"),\"\")","v":""},{"$f":"IFERROR(IF(AND(Kalkulacja!$D$2=\"x\",$J$115>0),(IF(INDEX(Kalkulacja!D:D,Q459)=\"x\",\"Nie-Elementor\",\"\")),\"\"),\"\")","v":""},{"$f":"IFERROR(INDEX('Podświetlanie modułów'!H:H,MATCH(G459,'Podświetlanie modułów'!F:F,0)),0)","v":0},{"$f":"IF(AO459*1>0,\"x\",IF(INDEX(Kalkulacja!A:A,Q459)=\"x\",\"x\",0))","v":"x"},"TRUE",{"$f":"MATCH(G459,Kalkulacja!$I$1:$I$416,0)","v":385},null,null,0,null,0,null,null,null,null,"Konfiguracja klas wysyłkowych",null,null,null,null,{"$f":"IFERROR(INDEX(Kalkulacja!V:V,Q459),0)","v":"x"},0,null,null,null,{"$f":"IFERROR(IF($J$115>0,INDEX(Kalkulacja!D:D,Q460),\"\"),\"\")","v":""},null,null,null,true]
[null,null,null,{"$f":"IFERROR(IF(N460>0,\"SUGEROWANE\",IF((INDEX(Kalkulacja!B:B,MATCH(G460,Kalkulacja!I:I,0)))=\"x\",\"USŁUGA\",\"\")),\"\")","v":""},"i",null,{"$f":"Kalkulacja!I386","v":"Konfiguracja zaawansowanych klas wysyłkowych "},null,null,0,{"$f":"IFERROR(IF(Kalkulacja!$G$2=\"x\",INDEX(Kalkulacja!$Y$1:$Y$416,Q460),\"\"),\"\")","v":""},{"$f":"IFERROR(IF(Kalkulacja!$D$2=\"x\",IF(INDEX(Kalkulacja!J:J,Q459)=\"od\",\"od\",\"\"),\"\"),\"\")","v":""},{"$f":"IFERROR(IF(AND(Kalkulacja!$D$2=\"x\",$J$115>0),(IF(INDEX(Kalkulacja!D:D,Q460)=\"x\",\"Nie-Elementor\",\"\")),\"\"),\"\")","v":""},{"$f":"IFERROR(INDEX('Podświetlanie modułów'!H:H,MATCH(G460,'Podświetlanie modułów'!F:F,0)),0)","v":0},{"$f":"IF(AO460*1>0,\"x\",IF(INDEX(Kalkulacja!A:A,Q460)=\"x\",\"x\",0))","v":"x"},"TRUE",{"$f":"MATCH(G460,Kalkulacja!$I$1:$I$416,0)","v":386},null,null,0,null,0,null,null,null,null,"Konfiguracja zaawansowanych klas wysyłkowych ",null,null,null,null,{"$f":"IFERROR(INDEX(Kalkulacja!V:V,Q460),0)","v":0},0,null,null,null,{"$f":"IFERROR(IF($J$115>0,INDEX(Kalkulacja!D:D,Q461),\"\"),\"\")","v":""},null,null,null,false]
[null,null,null,{"$f":"IFERROR(IF(N461>0,\"SUGEROWANE\",IF((INDEX(Kalkulacja!B:B,MATCH(G461,Kalkulacja!I:I,0)))=\"x\",\"USŁUGA\",\"\")),\"\")","v":""},"i",null,{"$f":"Kalkulacja!I387","v":"Dodatkowy moduł 93"},null,null,0,{"$f":"IFERROR(IF(Kalkulacja!$G$2=\"x\",INDEX(Kalkulacja!$Y$1:$Y$416,Q461),\"\"),\"\")","v":""},{"$f":"IFERROR(IF(Kalkulacja!$D$2=\"x\",IF(INDEX(Kalkulacja!J:J,Q460)=\"od\",\"od\",\"\"),\"\"),\"\")","v":""},{"$f":"IFERROR(IF(AND(Kalkulacja!$D$2=\"x\",$J$115>0),(IF(INDEX(Kalkulacja!D:D,Q461)=\"x\",\"Nie-Elementor\",\"\")),\"\"),\"\")","v":""},{"$f":"IFERROR(INDEX('Podświetlanie modułów'!H:H,MATCH(G461,'Podświetlanie modułów'!F:F,0)),0)","v":0},{"$f":"IF(AO461*1>0,\"x\",IF(INDEX(Kalkulacja!A:A,Q461)=\"x\",\"x\",0))","v":0},"FALSE",{"$f":"MATCH(G461,Kalkulacja!$I$1:$I$416,0)","v":387},null,null,0,null,0,null,null,null,null,"Dodatkowy moduł 93",null,null,null,null,{"$f":"IFERROR(INDEX(Kalkulacja!V:V,Q461),0)","v":0},0,null,null,null,{"$f":"IFERROR(IF($J$115>0,INDEX(Kalkulacja!D:D,Q462),\"\"),\"\")","v":""},null,null,null,{"$f":"S461","v":0}]
[null,null,null,{"$f":"IFERROR(IF(N462>0,\"SUGEROWANE\",IF((INDEX(Kalkulacja!B:B,MATCH(G462,Kalkulacja!I:I,0)))=\"x\",\"USŁUGA\",\"\")),\"\")","v":""},"i",null,{"$f":"Kalkulacja!I388","v":"Dodatkowy moduł 94"},null,null,0,{"$f":"IFERROR(IF(Kalkulacja!$G$2=\"x\",INDEX(Kalkulacja!$Y$1:$Y$416,Q462),\"\"),\"\")","v":""},{"$f":"IFERROR(IF(Kalkulacja!$D$2=\"x\",IF(INDEX(Kalkulacja!J:J,Q461)=\"od\",\"od\",\"\"),\"\"),\"\")","v":""},{"$f":"IFERROR(IF(AND(Kalkulacja!$D$2=\"x\",$J$115>0),(IF(INDEX(Kalkulacja!D:D,Q462)=\"x\",\"Nie-Elementor\",\"\")),\"\"),\"\")","v":""},{"$f":"IFERROR(INDEX('Podświetlanie modułów'!H:H,MATCH(G462,'Podświetlanie modułów'!F:F,0)),0)","v":0},{"$f":"IF(AO462*1>0,\"x\",IF(INDEX(Kalkulacja!A:A,Q462)=\"x\",\"x\",0))","v":0},"FALSE",{"$f":"MATCH(G462,Kalkulacja!$I$1:$I$416,0)","v":388},null,null,0,null,0,null,null,null,null,"Dodatkowy moduł 94",null,null,null,null,{"$f":"IFERROR(INDEX(Kalkulacja!V:V,Q462),0)","v":0},0,null,null,null,{"$f":"IFERROR(IF($J$115>0,INDEX(Kalkulacja!D:D,Q463),\"\"),\"\")","v":""},null,null,null,{"$f":"S462","v":0}]
[null,null,null,{"$f":"IFERROR(IF(N463>0,\"SUGEROWANE\",IF((INDEX(Kalkulacja!B:B,MATCH(G463,Kalkulacja!I:I,0)))=\"x\",\"USŁUGA\",\"\")),\"\")","v":""},"i",null,{"$f":"Kalkulacja!I389","v":"Dodatkowy moduł 95"},null,null,0,{"$f":"IFERROR(IF(Kalkulacja!$G$2=\"x\",INDEX(Kalkulacja!$Y$1:$Y$416,Q463),\"\"),\"\")","v":""},{"$f":"IFERROR(IF(Kalkulacja!$D$2=\"x\",IF(INDEX(Kalkulacja!J:J,Q462)=\"od\",\"od\",\"\"),\"\"),\"\")","v":""},{"$f":"IFERROR(IF(AND(Kalkulacja!$D$2=\"x\",$J$115>0),(IF(INDEX(Kalkulacja!D:D,Q463)=\"x\",\"Nie-Elementor\",\"\")),\"\"),\"\")","v":""},{"$f":"IFERROR(INDEX('Podświetlanie modułów'!H:H,MATCH(G463,'Podświetlanie modułów'!F:F,0)),0)","v":0},{"$f":"IF(AO463*1>0,\"x\",IF(INDEX(Kalkulacja!A:A,Q463)=\"x\",\"x\",0))","v":0},"FALSE",{"$f":"MATCH(G463,Kalkulacja!$I$1:$I$416,0)","v":389},null,null,0,null,0,null,null,null,null,"Dodatkowy moduł 95",null,null,null,null,{"$f":"IFERROR(INDEX(Kalkulacja!V:V,Q463),0)","v":0},0,null,null,null,{"$f":"IFERROR(IF($J$115>0,INDEX(Kalkulacja!D:D,Q464),\"\"),\"\")","v":""},null,null,null,{"$f":"S463","v":0}]
[null,null,null,{"$f":"IFERROR(IF(N464>0,\"SUGEROWANE\",IF((INDEX(Kalkulacja!B:B,MATCH(G464,Kalkulacja!I:I,0)))=\"x\",\"USŁUGA\",\"\")),\"\")","v":""},"i",null,{"$f":"Kalkulacja!I390","v":"Dodatkowy moduł 96"},null,null,0,{"$f":"IFERROR(IF(Kalkulacja!$G$2=\"x\",INDEX(Kalkulacja!$Y$1:$Y$416,Q464),\"\"),\"\")","v":""},{"$f":"IFERROR(IF(Kalkulacja!$D$2=\"x\",IF(INDEX(Kalkulacja!J:J,Q463)=\"od\",\"od\",\"\"),\"\"),\"\")","v":""},{"$f":"IFERROR(IF(AND(Kalkulacja!$D$2=\"x\",$J$115>0),(IF(INDEX(Kalkulacja!D:D,Q464)=\"x\",\"Nie-Elementor\",\"\")),\"\"),\"\")","v":""},{"$f":"IFERROR(INDEX('Podświetlanie modułów'!H:H,MATCH(G464,'Podświetlanie modułów'!F:F,0)),0)","v":0},{"$f":"IF(AO464*1>0,\"x\",IF(INDEX(Kalkulacja!A:A,Q464)=\"x\",\"x\",0))","v":0},"FALSE",{"$f":"MATCH(G464,Kalkulacja!$I$1:$I$416,0)","v":390},null,null,0,null,0,null,null,null,null,"Dodatkowy moduł 96",null,null,null,null,{"$f":"IFERROR(INDEX(Kalkulacja!V:V,Q464),0)","v":0},0,null,null,null,{"$f":"IFERROR(IF($J$115>0,INDEX(Kalkulacja!D:D,Q465),\"\"),\"\")","v":""},null,null,null,{"$f":"S464","v":0}]
[null,null,null,{"$f":"IFERROR(IF(N465>0,\"SUGEROWANE\",IF((INDEX(Kalkulacja!B:B,MATCH(G465,Kalkulacja!I:I,0)))=\"x\",\"USŁUGA\",\"\")),\"\")","v":""},"i",null,{"$f":"Kalkulacja!I391","v":"Dodatkowy moduł 97"},null,null,0,{"$f":"IFERROR(IF(Kalkulacja!$G$2=\"x\",INDEX(Kalkulacja!$Y$1:$Y$416,Q465),\"\"),\"\")","v":""},{"$f":"IFERROR(IF(Kalkulacja!$D$2=\"x\",IF(INDEX(Kalkulacja!J:J,Q464)=\"od\",\"od\",\"\"),\"\"),\"\")","v":""},{"$f":"IFERROR(IF(AND(Kalkulacja!$D$2=\"x\",$J$115>0),(IF(INDEX(Kalkulacja!D:D,Q465)=\"x\",\"Nie-Elementor\",\"\")),\"\"),\"\")","v":""},{"$f":"IFERROR(INDEX('Podświetlanie modułów'!H:H,MATCH(G465,'Podświetlanie modułów'!F:F,0)),0)","v":0},{"$f":"IF(AO465*1>0,\"x\",IF(INDEX(Kalkulacja!A:A,Q465)=\"x\",\"x\",0))","v":0},"FALSE",{"$f":"MATCH(G465,Kalkulacja!$I$1:$I$416,0)","v":391},null,null,0,null,0,null,null,null,null,"Dodatkowy moduł 97",null,null,null,null,{"$f":"IFERROR(INDEX(Kalkulacja!V:V,Q465),0)","v":0},0,null,null,null,{"$f":"IFERROR(IF($J$115>0,INDEX(Kalkulacja!D:D,Q466),\"\"),\"\")","v":""},null,null,null,{"$f":"S465","v":0}]
[null,null,null,{"$f":"IFERROR(IF(N466>0,\"SUGEROWANE\",IF((INDEX(Kalkulacja!B:B,MATCH(G466,Kalkulacja!I:I,0)))=\"x\",\"USŁUGA\",\"\")),\"\")","v":""},{"$f":"Kalkulacja!I392","v":"Polityka prywatności"},null,null,null,null,null,null,{"$f":"IFERROR(IF(Kalkulacja!$D$2=\"x\",IF(INDEX(Kalkulacja!J:J,Q465)=\"od\",\"od\",\"\"),\"\"),\"\")","v":""},{"$f":"IFERROR(IF(AND(Kalkulacja!$D$2=\"x\",$J$115>0),(IF(INDEX(Kalkulacja!D:D,Q466)=\"x\",\"Nie-Elementor\",\"\")),\"\"),\"\")","v":""},{"$f":"IFERROR(INDEX('Podświetlanie modułów'!H:H,MATCH(G466,'Podświetlanie modułów'!F:F,0)),0)","v":0},{"$f":"IF(COUNTIF(O467:O472,\"x\")>0,\"x\",0)","v":"x"},"TRUE",{"$f":"MATCH(E466,Kalkulacja!$I$1:$I$416,0)","v":392},null,null,0,null,0,null,null,null,null,0,null,null,null,null,{"$f":"IFERROR(INDEX(Kalkulacja!V:V,Q466),0)","v":0},0,null,null,null,{"$f":"IFERROR(IF($J$115>0,INDEX(Kalkulacja!D:D,Q467),\"\"),\"\")","v":""}]
[null,null,null,{"$f":"IFERROR(IF(N467>0,\"SUGEROWANE\",IF((INDEX(Kalkulacja!B:B,MATCH(G467,Kalkulacja!I:I,0)))=\"x\",\"USŁUGA\",\"\")),\"\")","v":""},"i",null,{"$f":"Kalkulacja!I393","v":"Klauzule i zgody prawne do zamówienia i rejestracji konta"},null,null,{"$f":"AO467*1","v":1},{"$f":"IFERROR(IF(Kalkulacja!$G$2=\"x\",INDEX(Kalkulacja!$Y$1:$Y$416,Q467),\"\"),\"\")","v":""},{"$f":"IFERROR(IF(Kalkulacja!$D$2=\"x\",IF(INDEX(Kalkulacja!J:J,Q466)=\"od\",\"od\",\"\"),\"\"),\"\")","v":""},{"$f":"IFERROR(IF(AND(Kalkulacja!$D$2=\"x\",$J$115>0),(IF(INDEX(Kalkulacja!D:D,Q467)=\"x\",\"Nie-Elementor\",\"\")),\"\"),\"\")","v":""},{"$f":"IFERROR(INDEX('Podświetlanie modułów'!H:H,MATCH(G467,'Podświetlanie modułów'!F:F,0)),0)","v":0},{"$f":"IF(AO467*1>0,\"x\",IF(INDEX(Kalkulacja!A:A,Q467)=\"x\",\"x\",0))","v":"x"},"TRUE",{"$f":"MATCH(G467,Kalkulacja!$I$1:$I$416,0)","v":393},null,null,0,null,0,null,null,null,null,"Klauzule i zgody prawne do zamówienia i rejestracji konta",null,null,null,null,{"$f":"IFERROR(INDEX(Kalkulacja!V:V,Q467),0)","v":"x"},0,null,null,null,{"$f":"IFERROR(IF($J$115>0,INDEX(Kalkulacja!D:D,Q468),\"\"),\"\")","v":""},null,null,null,true]
[null,null,null,{"$f":"IFERROR(IF(N468>0,\"SUGEROWANE\",IF((INDEX(Kalkulacja!B:B,MATCH(G468,Kalkulacja!I:I,0)))=\"x\",\"USŁUGA\",\"\")),\"\")","v":""},"i",null,{"$f":"Kalkulacja!I394","v":"Dodatkowy moduł 98"},null,null,0,{"$f":"IFERROR(IF(Kalkulacja!$G$2=\"x\",INDEX(Kalkulacja!$Y$1:$Y$416,Q468),\"\"),\"\")","v":""},{"$f":"IFERROR(IF(Kalkulacja!$D$2=\"x\",IF(INDEX(Kalkulacja!J:J,Q467)=\"od\",\"od\",\"\"),\"\"),\"\")","v":""},{"$f":"IFERROR(IF(AND(Kalkulacja!$D$2=\"x\",$J$115>0),(IF(INDEX(Kalkulacja!D:D,Q468)=\"x\",\"Nie-Elementor\",\"\")),\"\"),\"\")","v":""},{"$f":"IFERROR(INDEX('Podświetlanie modułów'!H:H,MATCH(G468,'Podświetlanie modułów'!F:F,0)),0)","v":0},{"$f":"IF(AO468*1>0,\"x\",IF(INDEX(Kalkulacja!A:A,Q468)=\"x\",\"x\",0))","v":0},{"$f":"IF(O468=\"x\",\"TRUE\",\"FALSE\")","v":"FALSE"},{"$f":"MATCH(G468,Kalkulacja!$I$1:$I$416,0)","v":394},null,null,0,null,0,null,null,null,null,"Dodatkowy moduł 98",null,null,null,null,{"$f":"IFERROR(INDEX(Kalkulacja!V:V,Q468),0)","v":0},0,null,null,null,{"$f":"IFERROR(IF($J$115>0,INDEX(Kalkulacja!D:D,Q469),\"\"),\"\")","v":""},null,null,null,false]
[null,null,null,{"$f":"IFERROR(IF(N469>0,\"SUGEROWANE\",IF((INDEX(Kalkulacja!B:B,MATCH(G469,Kalkulacja!I:I,0)))=\"x\",\"USŁUGA\",\"\")),\"\")","v":""},"i",null,{"$f":"Kalkulacja!I395","v":"Dodatkowy moduł 99"},null,null,0,{"$f":"IFERROR(IF(Kalkulacja!$G$2=\"x\",INDEX(Kalkulacja!$Y$1:$Y$416,Q469),\"\"),\"\")","v":""},{"$f":"IFERROR(IF(Kalkulacja!$D$2=\"x\",IF(INDEX(Kalkulacja!J:J,Q468)=\"od\",\"od\",\"\"),\"\"),\"\")","v":""},{"$f":"IFERROR(IF(AND(Kalkulacja!$D$2=\"x\",$J$115>0),(IF(INDEX(Kalkulacja!D:D,Q469)=\"x\",\"Nie-Elementor\",\"\")),\"\"),\"\")","v":""},{"$f":"IFERROR(INDEX('Podświetlanie modułów'!H:H,MATCH(G469,'Podświetlanie modułów'!F:F,0)),0)","v":0},{"$f":"IF(AO469*1>0,\"x\",IF(INDEX(Kalkulacja!A:A,Q469)=\"x\",\"x\",0))","v":0},"FALSE",{"$f":"MATCH(G469,Kalkulacja!$I$1:$I$416,0)","v":395},null,null,0,null,0,null,null,null,null,"Dodatkowy moduł 99",null,null,null,null,{"$f":"IFERROR(INDEX(Kalkulacja!V:V,Q469),0)","v":0},0,null,null,null,{"$f":"IFERROR(IF($J$115>0,INDEX(Kalkulacja!D:D,Q470),\"\"),\"\")","v":""},null,null,null,false]
[null,null,null,{"$f":"IFERROR(IF(N470>0,\"SUGEROWANE\",IF((INDEX(Kalkulacja!B:B,MATCH(G470,Kalkulacja!I:I,0)))=\"x\",\"USŁUGA\",\"\")),\"\")","v":""},"i",null,{"$f":"Kalkulacja!I396","v":"Dodatkowy moduł 100"},null,null,0,{"$f":"IFERROR(IF(Kalkulacja!$G$2=\"x\",INDEX(Kalkulacja!$Y$1:$Y$416,Q470),\"\"),\"\")","v":""},{"$f":"IFERROR(IF(Kalkulacja!$D$2=\"x\",IF(INDEX(Kalkulacja!J:J,Q469)=\"od\",\"od\",\"\"),\"\"),\"\")","v":""},{"$f":"IFERROR(IF(AND(Kalkulacja!$D$2=\"x\",$J$115>0),(IF(INDEX(Kalkulacja!D:D,Q470)=\"x\",\"Nie-Elementor\",\"\")),\"\"),\"\")","v":""},{"$f":"IFERROR(INDEX('Podświetlanie modułów'!H:H,MATCH(G470,'Podświetlanie modułów'!F:F,0)),0)","v":0},{"$f":"IF(AO470*1>0,\"x\",IF(INDEX(Kalkulacja!A:A,Q470)=\"x\",\"x\",0))","v":0},"FALSE",{"$f":"MATCH(G470,Kalkulacja!$I$1:$I$416,0)","v":396},null,null,{"$f":"U470","v":0},null,{"$f":"AG470","v":0},null,null,null,null,"Dodatkowy moduł 100",null,null,null,null,{"$f":"IFERROR(INDEX(Kalkulacja!V:V,Q470),0)","v":0},0,null,null,null,{"$f":"IFERROR(IF($J$115>0,INDEX(Kalkulacja!D:D,Q471),\"\"),\"\")","v":""},null,null,null,{"$f":"S470","v":0}]
[null,null,null,{"$f":"IFERROR(IF(N471>0,\"SUGEROWANE\",IF((INDEX(Kalkulacja!B:B,MATCH(G471,Kalkulacja!I:I,0)))=\"x\",\"USŁUGA\",\"\")),\"\")","v":""},"i",null,{"$f":"Kalkulacja!I397","v":"Dodatkowy moduł 101"},null,null,0,{"$f":"IFERROR(IF(Kalkulacja!$G$2=\"x\",INDEX(Kalkulacja!$Y$1:$Y$416,Q471),\"\"),\"\")","v":""},{"$f":"IFERROR(IF(Kalkulacja!$D$2=\"x\",IF(INDEX(Kalkulacja!J:J,Q470)=\"od\",\"od\",\"\"),\"\"),\"\")","v":""},{"$f":"IFERROR(IF(AND(Kalkulacja!$D$2=\"x\",$J$115>0),(IF(INDEX(Kalkulacja!D:D,Q471)=\"x\",\"Nie-Elementor\",\"\")),\"\"),\"\")","v":""},{"$f":"IFERROR(INDEX('Podświetlanie modułów'!H:H,MATCH(G471,'Podświetlanie modułów'!F:F,0)),0)","v":0},{"$f":"IF(AO471*1>0,\"x\",IF(INDEX(Kalkulacja!A:A,Q471)=\"x\",\"x\",0))","v":0},"FALSE",{"$f":"MATCH(G471,Kalkulacja!$I$1:$I$416,0)","v":397},null,null,0,null,0,null,null,null,null,"Dodatkowy moduł 101",null,null,null,null,{"$f":"IFERROR(INDEX(Kalkulacja!V:V,Q471),0)","v":0},0,null,null,null,{"$f":"IFERROR(IF($J$115>0,INDEX(Kalkulacja!D:D,Q472),\"\"),\"\")","v":""},null,null,null,false]
[null,null,null,{"$f":"IFERROR(IF(N472>0,\"SUGEROWANE\",IF((INDEX(Kalkulacja!B:B,MATCH(G472,Kalkulacja!I:I,0)))=\"x\",\"USŁUGA\",\"\")),\"\")","v":""},"i",null,{"$f":"Kalkulacja!I398","v":"Dodatkowy moduł 102"},null,null,0,{"$f":"IFERROR(IF(Kalkulacja!$G$2=\"x\",INDEX(Kalkulacja!$Y$1:$Y$416,Q472),\"\"),\"\")","v":""},{"$f":"IFERROR(IF(Kalkulacja!$D$2=\"x\",IF(INDEX(Kalkulacja!J:J,Q471)=\"od\",\"od\",\"\"),\"\"),\"\")","v":""},{"$f":"IFERROR(IF(AND(Kalkulacja!$D$2=\"x\",$J$115>0),(IF(INDEX(Kalkulacja!D:D,Q472)=\"x\",\"Nie-Elementor\",\"\")),\"\"),\"\")","v":""},{"$f":"IFERROR(INDEX('Podświetlanie modułów'!H:H,MATCH(G472,'Podświetlanie modułów'!F:F,0)),0)","v":0},{"$f":"IF(AO472*1>0,\"x\",IF(INDEX(Kalkulacja!A:A,Q472)=\"x\",\"x\",0))","v":0},"FALSE",{"$f":"MATCH(G472,Kalkulacja!$I$1:$I$416,0)","v":398},null,null,0,null,0,null,null,null,null,"Dodatkowy moduł 102",null,null,null,null,{"$f":"IFERROR(INDEX(Kalkulacja!V:V,Q472),0)","v":0},0,null,null,null,{"$f":"IFERROR(IF($J$115>0,INDEX(Kalkulacja!D:D,Q473),\"\"),\"\")","v":""},null,null,null,{"$f":"S472","v":0}]
[null,null,null,{"$f":"IFERROR(IF(N473>0,\"SUGEROWANE\",IF((INDEX(Kalkulacja!B:B,MATCH(G473,Kalkulacja!I:I,0)))=\"x\",\"USŁUGA\",\"\")),\"\")","v":""},{"$f":"Kalkulacja!I399","v":"Magazyn i księgowość"},null,null,null,null,null,null,{"$f":"IFERROR(IF(Kalkulacja!$D$2=\"x\",IF(INDEX(Kalkulacja!J:J,Q472)=\"od\",\"od\",\"\"),\"\"),\"\")","v":""},{"$f":"IFERROR(IF(AND(Kalkulacja!$D$2=\"x\",$J$115>0),(IF(INDEX(Kalkulacja!D:D,Q473)=\"x\",\"Nie-Elementor\",\"\")),\"\"),\"\")","v":""},{"$f":"IFERROR(INDEX('Podświetlanie modułów'!H:H,MATCH(G473,'Podświetlanie modułów'!F:F,0)),0)","v":0},{"$f":"IF(COUNTIF(O474:O486,\"x\")>0,\"x\",0)","v":"x"},"TRUE",{"$f":"MATCH(E473,Kalkulacja!$I$1:$I$416,0)","v":399},null,null,0,null,0,null,null,null,null,0,null,null,null,null,{"$f":"IFERROR(INDEX(Kalkulacja!V:V,Q473),0)","v":0},0,null,null,null,{"$f":"IFERROR(IF($J$115>0,INDEX(Kalkulacja!D:D,Q474),\"\"),\"\")","v":""}]
[null,null,null,{"$f":"IFERROR(IF(N474>0,\"SUGEROWANE\",IF((INDEX(Kalkulacja!B:B,MATCH(G474,Kalkulacja!I:I,0)))=\"x\",\"USŁUGA\",\"\")),\"\")","v":""},"i",null,{"$f":"Kalkulacja!I400","v":"Integracja z SubiektGT"},null,null,{"$f":"AO474*1","v":0},{"$f":"IFERROR(IF(Kalkulacja!$G$2=\"x\",INDEX(Kalkulacja!$Y$1:$Y$416,Q474),\"\"),\"\")","v":""},{"$f":"IFERROR(IF(Kalkulacja!$D$2=\"x\",IF(INDEX(Kalkulacja!J:J,Q473)=\"od\",\"od\",\"\"),\"\"),\"\")","v":""},{"$f":"IFERROR(IF(AND(Kalkulacja!$D$2=\"x\",$J$115>0),(IF(INDEX(Kalkulacja!D:D,Q474)=\"x\",\"Nie-Elementor\",\"\")),\"\"),\"\")","v":""},{"$f":"IFERROR(INDEX('Podświetlanie modułów'!H:H,MATCH(G474,'Podświetlanie modułów'!F:F,0)),0)","v":0},{"$f":"IF(AO474*1>0,\"x\",IF(INDEX(Kalkulacja!A:A,Q474)=\"x\",\"x\",0))","v":"x"},"TRUE",{"$f":"MATCH(G474,Kalkulacja!$I$1:$I$416,0)","v":400},null,null,0,null,0,null,null,null,null,"Integracja z SubiektGT",null,null,null,null,{"$f":"IFERROR(INDEX(Kalkulacja!V:V,Q474),0)","v":0},0,null,null,null,{"$f":"IFERROR(IF($J$115>0,INDEX(Kalkulacja!D:D,Q475),\"\"),\"\")","v":""},null,null,null,false]
[null,null,null,{"$f":"IFERROR(IF(N475>0,\"SUGEROWANE\",IF((INDEX(Kalkulacja!B:B,MATCH(G475,Kalkulacja!I:I,0)))=\"x\",\"USŁUGA\",\"\")),\"\")","v":""},"i",null,{"$f":"Kalkulacja!I401","v":"Integracja z Sage Symfonia"},null,null,0,{"$f":"IFERROR(IF(Kalkulacja!$G$2=\"x\",INDEX(Kalkulacja!$Y$1:$Y$416,Q475),\"\"),\"\")","v":""},{"$f":"IFERROR(IF(Kalkulacja!$D$2=\"x\",IF(INDEX(Kalkulacja!J:J,Q474)=\"od\",\"od\",\"\"),\"\"),\"\")","v":""},{"$f":"IFERROR(IF(AND(Kalkulacja!$D$2=\"x\",$J$115>0),(IF(INDEX(Kalkulacja!D:D,Q475)=\"x\",\"Nie-Elementor\",\"\")),\"\"),\"\")","v":""},{"$f":"IFERROR(INDEX('Podświetlanie modułów'!H:H,MATCH(G475,'Podświetlanie modułów'!F:F,0)),0)","v":0},{"$f":"IF(AO475*1>0,\"x\",IF(INDEX(Kalkulacja!A:A,Q475)=\"x\",\"x\",0))","v":"x"},"TRUE",{"$f":"MATCH(G475,Kalkulacja!$I$1:$I$416,0)","v":401},null,null,0,null,0,null,null,null,null,"Integracja z Sage Symfonia",null,null,null,null,{"$f":"IFERROR(INDEX(Kalkulacja!V:V,Q475),0)","v":0},0,null,null,null,{"$f":"IFERROR(IF($J$115>0,INDEX(Kalkulacja!D:D,Q476),\"\"),\"\")","v":""},null,null,null,false]
[null,null,null,{"$f":"IFERROR(IF(N476>0,\"SUGEROWANE\",IF((INDEX(Kalkulacja!B:B,MATCH(G476,Kalkulacja!I:I,0)))=\"x\",\"USŁUGA\",\"\")),\"\")","v":""},"i",null,{"$f":"Kalkulacja!I402","v":"Integracja z iFirma"},null,null,0,{"$f":"IFERROR(IF(Kalkulacja!$G$2=\"x\",INDEX(Kalkulacja!$Y$1:$Y$416,Q476),\"\"),\"\")","v":""},{"$f":"IFERROR(IF(Kalkulacja!$D$2=\"x\",IF(INDEX(Kalkulacja!J:J,Q475)=\"od\",\"od\",\"\"),\"\"),\"\")","v":""},{"$f":"IFERROR(IF(AND(Kalkulacja!$D$2=\"x\",$J$115>0),(IF(INDEX(Kalkulacja!D:D,Q476)=\"x\",\"Nie-Elementor\",\"\")),\"\"),\"\")","v":""},{"$f":"IFERROR(INDEX('Podświetlanie modułów'!H:H,MATCH(G476,'Podświetlanie modułów'!F:F,0)),0)","v":0},{"$f":"IF(AO476*1>0,\"x\",IF(INDEX(Kalkulacja!A:A,Q476)=\"x\",\"x\",0))","v":"x"},"TRUE",{"$f":"MATCH(G476,Kalkulacja!$I$1:$I$416,0)","v":402},null,null,0,null,0,null,null,null,null,"Integracja z iFirma",null,null,null,null,{"$f":"IFERROR(INDEX(Kalkulacja!V:V,Q476),0)","v":0},0,null,null,null,{"$f":"IFERROR(IF($J$115>0,INDEX(Kalkulacja!D:D,Q477),\"\"),\"\")","v":""},null,null,null,false]
[null,null,null,{"$f":"IFERROR(IF(N477>0,\"SUGEROWANE\",IF((INDEX(Kalkulacja!B:B,MATCH(G477,Kalkulacja!I:I,0)))=\"x\",\"USŁUGA\",\"\")),\"\")","v":""},"i",null,{"$f":"Kalkulacja!I403","v":"Integracja z wFirma"},null,null,0,{"$f":"IFERROR(IF(Kalkulacja!$G$2=\"x\",INDEX(Kalkulacja!$Y$1:$Y$416,Q477),\"\"),\"\")","v":""},{"$f":"IFERROR(IF(Kalkulacja!$D$2=\"x\",IF(INDEX(Kalkulacja!J:J,Q476)=\"od\",\"od\",\"\"),\"\"),\"\")","v":""},{"$f":"IFERROR(IF(AND(Kalkulacja!$D$2=\"x\",$J$115>0),(IF(INDEX(Kalkulacja!D:D,Q477)=\"x\",\"Nie-Elementor\",\"\")),\"\"),\"\")","v":""},{"$f":"IFERROR(INDEX('Podświetlanie modułów'!H:H,MATCH(G477,'Podświetlanie modułów'!F:F,0)),0)","v":0},{"$f":"IF(AO477*1>0,\"x\",IF(INDEX(Kalkulacja!A:A,Q477)=\"x\",\"x\",0))","v":"x"},"TRUE",{"$f":"MATCH(G477,Kalkulacja!$I$1:$I$416,0)","v":403},null,null,0,null,0,null,null,null,null,"Integracja z wFirma",null,null,null,null,{"$f":"IFERROR(INDEX(Kalkulacja!V:V,Q477),0)","v":0},0,null,null,null,{"$f":"IFERROR(IF($J$115>0,INDEX(Kalkulacja!D:D,Q478),\"\"),\"\")","v":""},null,null,null,false]
[null,null,null,{"$f":"IFERROR(IF(N478>0,\"SUGEROWANE\",IF((INDEX(Kalkulacja!B:B,MATCH(G478,Kalkulacja!I:I,0)))=\"x\",\"USŁUGA\",\"\")),\"\")","v":""},"i",null,{"$f":"Kalkulacja!I404","v":"Integracja z fakturownia"},null,null,0,{"$f":"IFERROR(IF(Kalkulacja!$G$2=\"x\",INDEX(Kalkulacja!$Y$1:$Y$416,Q478),\"\"),\"\")","v":""},{"$f":"IFERROR(IF(Kalkulacja!$D$2=\"x\",IF(INDEX(Kalkulacja!J:J,Q477)=\"od\",\"od\",\"\"),\"\"),\"\")","v":""},{"$f":"IFERROR(IF(AND(Kalkulacja!$D$2=\"x\",$J$115>0),(IF(INDEX(Kalkulacja!D:D,Q478)=\"x\",\"Nie-Elementor\",\"\")),\"\"),\"\")","v":""},{"$f":"IFERROR(INDEX('Podświetlanie modułów'!H:H,MATCH(G478,'Podświetlanie modułów'!F:F,0)),0)","v":0},{"$f":"IF(AO478*1>0,\"x\",IF(INDEX(Kalkulacja!A:A,Q478)=\"x\",\"x\",0))","v":"x"},"TRUE",{"$f":"MATCH(G478,Kalkulacja!$I$1:$I$416,0)","v":404},null,null,0,null,0,null,null,null,null,"Integracja z fakturownia",null,null,null,null,{"$f":"IFERROR(INDEX(Kalkulacja!V:V,Q478),0)","v":0},0,null,null,null,{"$f":"IFERROR(IF($J$115>0,INDEX(Kalkulacja!D:D,Q479),\"\"),\"\")","v":""},null,null,null,false]
[null,null,null,{"$f":"IFERROR(IF(N479>0,\"SUGEROWANE\",IF((INDEX(Kalkulacja!B:B,MATCH(G479,Kalkulacja!I:I,0)))=\"x\",\"USŁUGA\",\"\")),\"\")","v":""},"i",null,{"$f":"Kalkulacja!I405","v":"Integracja z inFakt"},null,null,0,{"$f":"IFERROR(IF(Kalkulacja!$G$2=\"x\",INDEX(Kalkulacja!$Y$1:$Y$416,Q479),\"\"),\"\")","v":""},{"$f":"IFERROR(IF(Kalkulacja!$D$2=\"x\",IF(INDEX(Kalkulacja!J:J,Q478)=\"od\",\"od\",\"\"),\"\"),\"\")","v":""},{"$f":"IFERROR(IF(AND(Kalkulacja!$D$2=\"x\",$J$115>0),(IF(INDEX(Kalkulacja!D:D,Q479)=\"x\",\"Nie-Elementor\",\"\")),\"\"),\"\")","v":""},{"$f":"IFERROR(INDEX('Podświetlanie modułów'!H:H,MATCH(G479,'Podświetlanie modułów'!F:F,0)),0)","v":0},{"$f":"IF(AO479*1>0,\"x\",IF(INDEX(Kalkulacja!A:A,Q479)=\"x\",\"x\",0))","v":"x"},"TRUE",{"$f":"MATCH(G479,Kalkulacja!$I$1:$I$416,0)","v":405},null,null,0,null,0,null,null,null,null,"Integracja z inFakt",null,null,null,null,{"$f":"IFERROR(INDEX(Kalkulacja!V:V,Q479),0)","v":0},0,null,null,null,{"$f":"IFERROR(IF($J$115>0,INDEX(Kalkulacja!D:D,Q480),\"\"),\"\")","v":""},null,null,null,false]
[null,null,null,{"$f":"IFERROR(IF(N480>0,\"SUGEROWANE\",IF((INDEX(Kalkulacja!B:B,MATCH(G480,Kalkulacja!I:I,0)))=\"x\",\"USŁUGA\",\"\")),\"\")","v":""},"i",null,{"$f":"Kalkulacja!I406","v":"Faktury WooCommerce"},null,null,0,{"$f":"IFERROR(IF(Kalkulacja!$G$2=\"x\",INDEX(Kalkulacja!$Y$1:$Y$416,Q480),\"\"),\"\")","v":""},{"$f":"IFERROR(IF(Kalkulacja!$D$2=\"x\",IF(INDEX(Kalkulacja!J:J,Q479)=\"od\",\"od\",\"\"),\"\"),\"\")","v":""},{"$f":"IFERROR(IF(AND(Kalkulacja!$D$2=\"x\",$J$115>0),(IF(INDEX(Kalkulacja!D:D,Q480)=\"x\",\"Nie-Elementor\",\"\")),\"\"),\"\")","v":""},{"$f":"IFERROR(INDEX('Podświetlanie modułów'!H:H,MATCH(G480,'Podświetlanie modułów'!F:F,0)),0)","v":0},{"$f":"IF(AO480*1>0,\"x\",IF(INDEX(Kalkulacja!A:A,Q480)=\"x\",\"x\",0))","v":"x"},"TRUE",{"$f":"MATCH(G480,Kalkulacja!$I$1:$I$416,0)","v":406},null,null,0,null,0,null,null,null,null,"Faktury WooCommerce",null,null,null,null,{"$f":"IFERROR(INDEX(Kalkulacja!V:V,Q480),0)","v":0},0,null,null,null,{"$f":"IFERROR(IF($J$115>0,INDEX(Kalkulacja!D:D,Q481),\"\"),\"\")","v":""},null,null,null,false]
[null,null,null,{"$f":"IFERROR(IF(N481>0,\"SUGEROWANE\",IF((INDEX(Kalkulacja!B:B,MATCH(G481,Kalkulacja!I:I,0)))=\"x\",\"USŁUGA\",\"\")),\"\")","v":""},"i",null,{"$f":"Kalkulacja!I407","v":"Integracja z Asseco WAPRO WF-MAG"},null,null,0,{"$f":"IFERROR(IF(Kalkulacja!$G$2=\"x\",INDEX(Kalkulacja!$Y$1:$Y$416,Q481),\"\"),\"\")","v":""},{"$f":"IFERROR(IF(Kalkulacja!$D$2=\"x\",IF(INDEX(Kalkulacja!J:J,Q480)=\"od\",\"od\",\"\"),\"\"),\"\")","v":""},{"$f":"IFERROR(IF(AND(Kalkulacja!$D$2=\"x\",$J$115>0),(IF(INDEX(Kalkulacja!D:D,Q481)=\"x\",\"Nie-Elementor\",\"\")),\"\"),\"\")","v":""},{"$f":"IFERROR(INDEX('Podświetlanie modułów'!H:H,MATCH(G481,'Podświetlanie modułów'!F:F,0)),0)","v":0},{"$f":"IF(AO481*1>0,\"x\",IF(INDEX(Kalkulacja!A:A,Q481)=\"x\",\"x\",0))","v":"x"},"TRUE",{"$f":"MATCH(G481,Kalkulacja!$I$1:$I$416,0)","v":407},null,null,0,null,0,null,null,null,null,"Integracja z Asseco WAPRO WF-MAG",null,null,null,null,{"$f":"IFERROR(INDEX(Kalkulacja!V:V,Q481),0)","v":0},0,null,null,null,{"$f":"IFERROR(IF($J$115>0,INDEX(Kalkulacja!D:D,Q482),\"\"),\"\")","v":""},null,null,null,false]
[null,null,null,{"$f":"IFERROR(IF(N482>0,\"SUGEROWANE\",IF((INDEX(Kalkulacja!B:B,MATCH(G482,Kalkulacja!I:I,0)))=\"x\",\"USŁUGA\",\"\")),\"\")","v":""},"i",null,{"$f":"Kalkulacja!I408","v":"Dodatkowy moduł 103"},null,null,0,{"$f":"IFERROR(IF(Kalkulacja!$G$2=\"x\",INDEX(Kalkulacja!$Y$1:$Y$416,Q482),\"\"),\"\")","v":""},{"$f":"IFERROR(IF(Kalkulacja!$D$2=\"x\",IF(INDEX(Kalkulacja!J:J,Q481)=\"od\",\"od\",\"\"),\"\"),\"\")","v":""},{"$f":"IFERROR(IF(AND(Kalkulacja!$D$2=\"x\",$J$115>0),(IF(INDEX(Kalkulacja!D:D,Q482)=\"x\",\"Nie-Elementor\",\"\")),\"\"),\"\")","v":""},{"$f":"IFERROR(INDEX('Podświetlanie modułów'!H:H,MATCH(G482,'Podświetlanie modułów'!F:F,0)),0)","v":0},{"$f":"IF(AO482*1>0,\"x\",IF(INDEX(Kalkulacja!A:A,Q482)=\"x\",\"x\",0))","v":0},"FALSE",{"$f":"MATCH(G482,Kalkulacja!$I$1:$I$416,0)","v":408},null,null,0,null,0,null,null,null,null,"Dodatkowy moduł 103",null,null,null,null,{"$f":"IFERROR(INDEX(Kalkulacja!V:V,Q482),0)","v":0},0,null,null,null,{"$f":"IFERROR(IF($J$115>0,INDEX(Kalkulacja!D:D,Q483),\"\"),\"\")","v":""},null,null,null,false]
[null,null,null,{"$f":"IFERROR(IF(N483>0,\"SUGEROWANE\",IF((INDEX(Kalkulacja!B:B,MATCH(G483,Kalkulacja!I:I,0)))=\"x\",\"USŁUGA\",\"\")),\"\")","v":""},"i",null,{"$f":"Kalkulacja!I409","v":"Dodatkowy moduł 104"},null,null,0,{"$f":"IFERROR(IF(Kalkulacja!$G$2=\"x\",INDEX(Kalkulacja!$Y$1:$Y$416,Q483),\"\"),\"\")","v":""},{"$f":"IFERROR(IF(Kalkulacja!$D$2=\"x\",IF(INDEX(Kalkulacja!J:J,Q482)=\"od\",\"od\",\"\"),\"\"),\"\")","v":""},{"$f":"IFERROR(IF(AND(Kalkulacja!$D$2=\"x\",$J$115>0),(IF(INDEX(Kalkulacja!D:D,Q483)=\"x\",\"Nie-Elementor\",\"\")),\"\"),\"\")","v":""},{"$f":"IFERROR(INDEX('Podświetlanie modułów'!H:H,MATCH(G483,'Podświetlanie modułów'!F:F,0)),0)","v":0},{"$f":"IF(AO483*1>0,\"x\",IF(INDEX(Kalkulacja!A:A,Q483)=\"x\",\"x\",0))","v":0},"FALSE",{"$f":"MATCH(G483,Kalkulacja!$I$1:$I$416,0)","v":409},null,null,0,null,0,null,null,null,null,"Dodatkowy moduł 104",null,null,null,null,{"$f":"IFERROR(INDEX(Kalkulacja!V:V,Q483),0)","v":0},0,null,null,null,{"$f":"IFERROR(IF($J$115>0,INDEX(Kalkulacja!D:D,Q484),\"\"),\"\")","v":""},null,null,null,false]
[null,null,null,{"$f":"IFERROR(IF(N484>0,\"SUGEROWANE\",IF((INDEX(Kalkulacja!B:B,MATCH(G484,Kalkulacja!I:I,0)))=\"x\",\"USŁUGA\",\"\")),\"\")","v":""},"i",null,{"$f":"Kalkulacja!I410","v":"Dodatkowy moduł 105"},null,null,0,{"$f":"IFERROR(IF(Kalkulacja!$G$2=\"x\",INDEX(Kalkulacja!$Y$1:$Y$416,Q484),\"\"),\"\")","v":""},{"$f":"IFERROR(IF(Kalkulacja!$D$2=\"x\",IF(INDEX(Kalkulacja!J:J,Q483)=\"od\",\"od\",\"\"),\"\"),\"\")","v":""},{"$f":"IFERROR(IF(AND(Kalkulacja!$D$2=\"x\",$J$115>0),(IF(INDEX(Kalkulacja!D:D,Q484)=\"x\",\"Nie-Elementor\",\"\")),\"\"),\"\")","v":""},{"$f":"IFERROR(INDEX('Podświetlanie modułów'!H:H,MATCH(G484,'Podświetlanie modułów'!F:F,0)),0)","v":0},{"$f":"IF(AO484*1>0,\"x\",IF(INDEX(Kalkulacja!A:A,Q484)=\"x\",\"x\",0))","v":0},"FALSE",{"$f":"MATCH(G484,Kalkulacja!$I$1:$I$416,0)","v":410},null,null,0,null,0,null,null,null,null,"Dodatkowy moduł 105",null,null,null,null,{"$f":"IFERROR(INDEX(Kalkulacja!V:V,Q484),0)","v":0},0,null,null,null,{"$f":"IFERROR(IF($J$115>0,INDEX(Kalkulacja!D:D,Q485),\"\"),\"\")","v":""},null,null,null,false]
[null,null,null,{"$f":"IFERROR(IF(N485>0,\"SUGEROWANE\",IF((INDEX(Kalkulacja!B:B,MATCH(G485,Kalkulacja!I:I,0)))=\"x\",\"USŁUGA\",\"\")),\"\")","v":""},"i",null,{"$f":"Kalkulacja!I411","v":"Dodatkowy moduł 106"},null,null,0,{"$f":"IFERROR(IF(Kalkulacja!$G$2=\"x\",INDEX(Kalkulacja!$Y$1:$Y$416,Q485),\"\"),\"\")","v":""},{"$f":"IFERROR(IF(Kalkulacja!$D$2=\"x\",IF(INDEX(Kalkulacja!J:J,Q484)=\"od\",\"od\",\"\"),\"\"),\"\")","v":""},{"$f":"IFERROR(IF(AND(Kalkulacja!$D$2=\"x\",$J$115>0),(IF(INDEX(Kalkulacja!D:D,Q485)=\"x\",\"Nie-Elementor\",\"\")),\"\"),\"\")","v":""},{"$f":"IFERROR(INDEX('Podświetlanie modułów'!H:H,MATCH(G485,'Podświetlanie modułów'!F:F,0)),0)","v":0},{"$f":"IF(AO485*1>0,\"x\",IF(INDEX(Kalkulacja!A:A,Q485)=\"x\",\"x\",0))","v":0},"FALSE",{"$f":"MATCH(G485,Kalkulacja!$I$1:$I$416,0)","v":411},null,null,0,null,0,null,null,null,null,"Dodatkowy moduł 106",null,null,null,null,{"$f":"IFERROR(INDEX(Kalkulacja!V:V,Q485),0)","v":0},0,null,null,null,{"$f":"IFERROR(IF($J$115>0,INDEX(Kalkulacja!D:D,Q486),\"\"),\"\")","v":""},null,null,null,false]
[null,null,null,{"$f":"IFERROR(IF(N486>0,\"SUGEROWANE\",IF((INDEX(Kalkulacja!B:B,MATCH(G486,Kalkulacja!I:I,0)))=\"x\",\"USŁUGA\",\"\")),\"\")","v":""},"i",null,{"$f":"Kalkulacja!I412","v":"Dodatkowy moduł 107"},null,null,0,{"$f":"IFERROR(IF(Kalkulacja!$G$2=\"x\",INDEX(Kalkulacja!$Y$1:$Y$416,Q486),\"\"),\"\")","v":""},{"$f":"IFERROR(IF(Kalkulacja!$D$2=\"x\",IF(INDEX(Kalkulacja!J:J,Q485)=\"od\",\"od\",\"\"),\"\"),\"\")","v":""},{"$f":"IFERROR(IF(AND(Kalkulacja!$D$2=\"x\",$J$115>0),(IF(INDEX(Kalkulacja!D:D,Q486)=\"x\",\"Nie-Elementor\",\"\")),\"\"),\"\")","v":""},{"$f":"IFERROR(INDEX('Podświetlanie modułów'!H:H,MATCH(G486,'Podświetlanie modułów'!F:F,0)),0)","v":0},{"$f":"IF(AO486*1>0,\"x\",IF(INDEX(Kalkulacja!A:A,Q486)=\"x\",\"x\",0))","v":0},{"$f":"IF(O486=\"x\",\"TRUE\",\"FALSE\")","v":"FALSE"},{"$f":"MATCH(G486,Kalkulacja!$I$1:$I$416,0)","v":412},null,null,0,null,0,null,null,null,null,"Dodatkowy moduł 107",null,null,null,null,{"$f":"IFERROR(INDEX(Kalkulacja!V:V,Q486),0)","v":0},0,null,null,null,{"$f":"IFERROR(IF($J$115>0,INDEX(Kalkulacja!D:D,Q487),\"\"),\"\")","v":""},null,null,null,{"$f":"S486","v":0}]
[null,null,null,null,{"$f":"Kalkulacja!I413","v":"Wersje mobilne"},null,null,null,null,null,null,null,null,{"$f":"IFERROR(INDEX('Podświetlanie modułów'!H:H,MATCH(G487,'Podświetlanie modułów'!F:F,0)),0)","v":0},{"$f":"IF(COUNTIF(O488,\"x\")>0,\"x\",0)","v":"x"},{"$f":"IF(O487=\"x\",\"TRUE\",\"FALSE\")","v":"TRUE"},{"$f":"MATCH(E487,Kalkulacja!$I$1:$I$416,0)","v":413},null,null,0,null,1,null,null,null,null,0,null,null,null,null,{"$f":"IFERROR(INDEX(Kalkulacja!V:V,Q487),0)","v":0},1,null,null,null,{"$f":"IFERROR(IF($J$115>0,INDEX(Kalkulacja!D:D,Q488),\"\"),\"\")","v":""}]
[null,null,null,null,"i",null,{"$f":"Kalkulacja!I414","v":"Dodatkowe projekty pod wersje mobilne (pionowy)"},null,null,{"$f":"AO488*1","v":0},{"$f":"IFERROR(IF(Kalkulacja!$G$2=\"x\",INDEX(Kalkulacja!$Y$1:$Y$416,Q488),\"\"),\"\")","v":""},null,null,{"$f":"IFERROR(INDEX('Podświetlanie modułów'!H:H,MATCH(G488,'Podświetlanie modułów'!F:F,0)),0)","v":0},{"$f":"IF(AO488*1>0,\"x\",IF(INDEX(Kalkulacja!A:A,Q488)=\"x\",\"x\",0))","v":"x"},"TRUE",{"$f":"MATCH(G488,Kalkulacja!$I$1:$I$416,0)","v":414},null,null,0,null,2,null,null,null,null,"Dodatkowe projekty pod wersje mobilne (pionowy)",null,null,null,null,{"$f":"IFERROR(INDEX(Kalkulacja!V:V,Q488),0)","v":0},2,null,null,null,{"$f":"IFERROR(IF($J$115>0,INDEX(Kalkulacja!D:D,Q489),\"\"),\"\")","v":""},null,null,null,false]
[null,null,null,{"$f":"IFERROR(IF(N489>0,\"SUGEROWANE\",IF((INDEX(Kalkulacja!B:B,MATCH(G489,Kalkulacja!I:I,0)))=\"x\",\"USŁUGA\",\"\")),\"\")","v":""},{"$f":"Kalkulacja!I415","v":"Języki"},null,null,null,null,null,null,{"$f":"IFERROR(IF(Kalkulacja!$D$2=\"x\",IF(INDEX(Kalkulacja!J:J,Q486)=\"od\",\"od\",\"\"),\"\"),\"\")","v":""},{"$f":"IFERROR(IF(AND(Kalkulacja!$D$2=\"x\",$J$115>0),(IF(INDEX(Kalkulacja!D:D,Q489)=\"x\",\"Nie-Elementor\",\"\")),\"\"),\"\")","v":""},{"$f":"IFERROR(INDEX('Podświetlanie modułów'!H:H,MATCH(G489,'Podświetlanie modułów'!F:F,0)),0)","v":0},{"$f":"IF(COUNTIF(O490,\"x\")>0,\"x\",0)","v":"x"},"TRUE",{"$f":"MATCH(E489,Kalkulacja!$I$1:$I$416,0)","v":415},null,null,0,null,3,null,null,null,null,0,null,null,null,null,{"$f":"IFERROR(INDEX(Kalkulacja!V:V,Q489),0)","v":0},3,null,null,null,{"$f":"IFERROR(IF($J$115>0,INDEX(Kalkulacja!D:D,Q490),\"\"),\"\")","v":""}]
[null,null,null,{"$f":"IFERROR(IF(N490>0,\"SUGEROWANE\",IF((INDEX(Kalkulacja!B:B,MATCH(G490,Kalkulacja!I:I,0)))=\"x\",\"USŁUGA\",\"\")),\"\")","v":""},"i",{"$f":"IF(ISBLANK(G490),\" Podaj liczbę wersji językowych\",\"\")","v":""},{"$f":"Kalkulacja!I416","v":"Dodatkowe wersje językowe"},null,null,null,{"$f":"IFERROR(IF(Kalkulacja!$G$2=\"x\",INDEX(Kalkulacja!$Y$1:$Y$416,MATCH(G490,Kalkulacja!$I$1:$I$416,0)),\"\"),\"\")","v":""},{"$f":"IFERROR(IF(Kalkulacja!$D$2=\"x\",IF(INDEX(Kalkulacja!J:J,Q489)=\"od\",\"od\",\"\"),\"\"),\"\")","v":""},{"$f":"IFERROR(IF(AND(Kalkulacja!$D$2=\"x\",$J$115>0),(IF(INDEX(Kalkulacja!D:D,Q490)=\"x\",\"Nie-Elementor\",\"\")),\"\"),\"\")","v":""},{"$f":"IFERROR(INDEX('Podświetlanie modułów'!H:H,MATCH(G490,'Podświetlanie modułów'!F:F,0)),0)","v":0},{"$f":"IF(AO490*1>0,\"x\",IF(INDEX(Kalkulacja!A:A,Q490)=\"x\",\"x\",0))","v":"x"},"TRUE",{"$f":"MATCH(G490,Kalkulacja!$I$1:$I$416,0)","v":416},null,null,0,null,0,null,null,null,null,"Dodatkowe wersje językowe",null,null,null,null,{"$f":"IFERROR(INDEX(Kalkulacja!V:V,Q490),0)","v":0},0,null,null,null,null,null,null,null,6]
[null,null,null,null,null,null,null,null,null,null,null,null,null,null,null,null,null,null,null,null,null,0]
[null,"Podsumowanie",null,null,null,null,null,"Cena bez języków",null,null,{"$f":"IF(Kalkulacja!$G$2=\"x\",Kalkulacja!Y417,\"\")","v":""},null,null,null,null,null,null,null,null,null,null,0]
[null,null,null,null,null,null,null,"Dodatkowe koszty licencji",null,null,{"$f":"IF(Kalkulacja!$G$2=\"x\",Kalkulacja!Y418)","v":false},null,null,null,null,null,null,null,null,null,null,0]
[null,null,null,null,null,null,null,"Cena całkowita",null,null,{"$f":"IF(Kalkulacja!$G$2=\"x\",Kalkulacja!Y419,\"\")","v":""},null,null,null,null,null,null,null,null,null,null,0]
[null,null,null,null,null,null,null,null,null,null,null,null,null,null,null,null,null,null,null,null,null,0]
[null,"Preferencje wizualne",null,null,null,null,null,null,null,null,null,null,null,null,null,null,null,null,null,null,null,0]
[null,"Jakie są Twoje oczekiwania dotyczące wyglądu strony www (np. kolorystyka, czcionki, styl)?  ",null,null,null,null,null,null,null,null,null,null,null,null,null,null,null,null,null,null,null,0]
[null,null,null,null,null,null,null,null,null,null,null,null,null,null,null,null,null,null,null,null,null,0]
[null,null,null,null,null,null,null,null,null,null,null,null,null,null,null,null,null,null,null,null,null,0]
[null,"Czy są strony (niekoniecznie z Waszej branży), które szczególnie się podobają? Proszę podać ich adresy www.",null,null,null,null,null,null,null,null,null,null,null,null,null,null,null,null,null,null,null,0]
[null,null,null,null,null,null,null,null,null,null,null,null,null,null,null,null,null,null,null,null,null,0]
[null,null,null,null,null,null,null,null,null,null,null,null,null,null,null,null,null,null,null,null,null,0]
[null,"Dodatkowe pytania",null,null,null,null,null,null,null,null,null,null,null,null,null,null,null,null,null,null,null,0]
[null,"Czy posiadasz treści\ni zdjęcia na stronę?\nCo jeszcze pozostało do przygotowania?",null,null,null,null,null,null,null,null,null,null,null,null,null,null,null,null,null,null,null,0]
[null,null,null,null,null,null,null,null,null,null,null,null,null,null,null,null,null,null,null,null,null,0]
[null,null,null,null,null,null,null,null,null,null,null,null,null,null,null,null,null,null,null,null,null,0]
[null,"Czy posidasz domenę?\nCzy posiadacie hosting (gdzie?) ",null,null,null,null,null,null,null,null,null,null,null,null,null,null,null,null,null,null,null,0]
[null,null,null,null,null,null,null,null,null,null,null,null,null,null,null,null,null,null,null,null,null,0]
[null,null,null,null,null,null,null,null,null,null,null,null,null,null,null,null,null,null,null,null,null,0]
[null,"Jakie działania marketingowe prowadzisz lub planujesz prowadzić? ",null,null,"Prowadzę (wpisz TAK lub NIE)",null,null,null,"Mam w planach (wpisz TAK lub NIE)",null,null,null,null,null,null,null,null,null,null,null,null,0]
[null,"Social Media np. Facebook, Instagram, Linkedin + podaj linki URL do swoich kanałów",null,null,null,null,null,null,null,null,null,null,null,null,null,null,null,null,null,null,null,0]
[null,null,null,null,null,null,null,null,null,null,null,null,null,null,null,null,null,null,null,null,null,0]
[]
[null,"Pozycjonowanie w Google"]
[]
[]
[null,"Reklama w Google Ads"]
[]
[]
[null,"E-mail marketing "]
[]
[]
[null,"Wizytówka na mapach Google"]

{"sheet":"Kalkulacja","index":1,"n_rows":446,"n_cols":41,"rows_kept":446,"cut":false,"hidden":true,"merged":[[434,25,434,27],[423,25,423,27],[433,25,433,27],[416,0,421,8],[425,26,425,27],[426,26,426,27],[427,26,427,27],[428,26,428,27],[416,9,418,13],[419,9,421,13]]}
["Na liście","Usługa","Opcja preferowana","Nie-Elementor","Podświetlenie modułów dot. podstron","Dodatkowy moduł","Pokazywanie cen","Pozycja modułu","Moduł","Przedział","Czas projektu","Cena projektu","Czas content manager","Cena content manager","Czas programowania","Cena programowania","Czas Elementor Koder","Cena Elementor Koder","Czas Elementor Developer","Cena Elementor Developer","Ilość","Podstawa","Cena wyjściowa","Cena wyjściowa Elementor","Cena finalna","Cena licencji","Ilość","Koszt licencji","Suma czasu projektu","Suma czasu content managera","Suma czasu programowania","Link","Przykład 1","Przykład 2",null,"Wtyczka",null,"Web developer",null,"Content manager"]
[null,null,null,null,{"$f":"IFERROR(INDEX('Podświetlanie modułów'!D:D,MATCH(I2,'Podświetlanie modułów'!B:B,0)),\"\")","v":""},null,null,null,null,null,"Stawka",120,"Stawka",120,"Stawka",150,"Stawka",120,"Stawka",150,null,"Narzut",0.1,0.1,{"$f":"VLOOKUP($W$417,Prowizja!$B$4:$D$61,3,1)","v":0.06},null,null,"Bufor:",0,0,0,null,null,null,null,null,null,"Czy czas","Pozycja","Czy czas","Pozycja"]
[null,null,null,null,{"$f":"IFERROR(INDEX('Podświetlanie modułów'!D:D,MATCH(I3,'Podświetlanie modułów'!B:B,0)),\"\")","v":""},null,null,null,"Materiały",null,null,null,null,null,null,null,null,null,null,null,null,null,null,null,null,null,null,null,null,null,{"$f":"IFERROR(IF(IF($U$19>0,S3*U3,O3*U3)=0,\"\",IF($U$19>0,S3*U3,O3*U3)),\"\")","v":""},null,null,null,null,null,null,{"$f":"IF(AE3=\"\",0,IF(AE3=0,0,1))","v":0},{"$f":"IF(AL3=1,SUM($AL$3:AL3),0)","v":0},{"$f":"IF(AD3=\"\",0,IF(AD3=0,0,1))","v":0},{"$f":"IF(AN3=1,SUM($AN$3:AN3),0)","v":0}]
[null,"x",null,null,{"$f":"IFERROR(INDEX('Podświetlanie modułów'!D:D,MATCH(I4,'Podświetlanie modułów'!B:B,0)),\"\")","v":""},{"$f":"LEFT(I4,15)","v":"Napisanie tekst"},{"$f":"IF($G$2=\"x\",W4,\"\")","v":""},{"$f":"IFERROR(MATCH(I4,Brief!AA:AA,0),\"\")","v":100},"Napisanie tekstu 1000 zzs (ok. 1/3 strony A4)",null,0.7,{"$f":"K4*$L$2+(AC2*(K4*$L$2))","v":84},null,null,null,null,null,{"$f":"IF(AND(D4=\"x\",Q4>0),\"błąd\",IF(Q4=\"\",\"\",Q4*$R$2+($AE$2*(Q4*$R$2))))","v":""},null,{"$f":"IF(AND(D4=\"x\",S4>0),\"błąd\",IF(S4=\"\",\"\",S4*$T$2+($AE$2*(S4*$T$2))))","v":""},{"$f":"IFERROR(INDEX(Brief!J:J,H4),0)","v":0},null,{"$f":"U4*(L4+P4)*(1+$W$2)","v":0},{"$f":"IF(D4=\"x\",W4,U4*(L4+IF(R4=\"\",0,R4)+IF(T4=\"\",0,T4))*(1+$X$2))","v":0},{"$f":"IF($U$19>0,ROUNDUP(X4*(1+$Y$2),-1),ROUNDUP(W4*(1+$Y$2),-1))","v":0},0,0,null,{"$f":"IF(U4=0,\"\",U4*K4)","v":""},{"$f":"IF(U4=0,\"\",IF($U$19=0,M4*U4,IF(ISBLANK(Q4),M4*U4,Q4*U4)))","v":""},{"$f":"IF(U4=0,\"\",IF($U$19=0,O4*U4,IF(ISBLANK(S4),O4*U4,S4*U4)))","v":""},null,null,null,null,null,null,{"$f":"IF(AE4=\"\",0,IF(AE4=0,0,1))","v":0},{"$f":"IF(AL4=1,SUM($AL$3:AL4),0)","v":0},{"$f":"IF(AD4=\"\",0,IF(AD4=0,0,1))","v":0},{"$f":"IF(AN4=1,SUM($AN$3:AN4),0)","v":0}]
[null,"x",null,null,{"$f":"IFERROR(INDEX('Podświetlanie modułów'!D:D,MATCH(I5,'Podświetlanie modułów'!B:B,0)),\"\")","v":""},"Przepisywanie t","",{"$f":"IFERROR(MATCH(I5,Brief!AA:AA,0),\"\")","v":101},"Przepisywanie tekstu 1000 zzs",null,0.3,{"$f":"K5*$L$2+(AC2*(K5*$L$2))","v":36},null,null,null,null,null,{"$f":"IF(AND(D5=\"x\",Q5>0),\"błąd\",IF(Q5=\"\",\"\",Q5*$R$2+($AE$2*(Q5*$R$2))))","v":""},null,{"$f":"IF(AND(D5=\"x\",S5>0),\"błąd\",IF(S5=\"\",\"\",S5*$T$2+($AE$2*(S5*$T$2))))","v":""},{"$f":"IFERROR(INDEX(Brief!J:J,H5),0)","v":0},null,0,{"$f":"IF(D5=\"x\",W5,U5*(L5+IF(R5=\"\",0,R5)+IF(T5=\"\",0,T5))*(1+$X$2))","v":0},{"$f":"IF($U$19>0,ROUNDUP(X5*(1+$Y$2),-1),ROUNDUP(W5*(1+$Y$2),-1))","v":0},null,0,null,{"$f":"IF(U5=0,\"\",U5*K5)","v":""},{"$f":"IF(U5=0,\"\",IF($U$19=0,M5*U5,IF(ISBLANK(Q5),M5*U5,Q5*U5)))","v":""},{"$f":"IF(U5=0,\"\",IF($U$19=0,O5*U5,IF(ISBLANK(S5),O5*U5,S5*U5)))","v":""},null,null,null,null,null,null,{"$f":"IF(AE5=\"\",0,IF(AE5=0,0,1))","v":0},{"$f":"IF(AL5=1,SUM($AL$3:AL5),0)","v":0},0,{"$f":"IF(AN5=1,SUM($AN$3:AN5),0)","v":0}]
[null,"x",null,null,{"$f":"IFERROR(INDEX('Podświetlanie modułów'!D:D,MATCH(I6,'Podświetlanie modułów'!B:B,0)),\"\")","v":""},"Korekta błędów ","",{"$f":"IFERROR(MATCH(I6,Brief!AA:AA,0),\"\")","v":102},"Korekta błędów ortograficznych 1000 zzs",null,0.3,{"$f":"K6*$L$2+(AC2*(K6*$L$2))","v":36},null,null,null,null,null,"",null,"",{"$f":"IFERROR(INDEX(Brief!J:J,H6),0)","v":0},null,0,0,0,null,0,null,"","",{"$f":"IF(U6=0,\"\",IF($U$19=0,O6*U6,IF(ISBLANK(S6),O6*U6,S6*U6)))","v":""},null,null,null,null,null,null,0,{"$f":"IF(AL6=1,SUM($AL$3:AL6),0)","v":0},0,{"$f":"IF(AN6=1,SUM($AN$3:AN6),0)","v":0}]
[null,"x",null,null,{"$f":"IFERROR(INDEX('Podświetlanie modułów'!D:D,MATCH(I7,'Podświetlanie modułów'!B:B,0)),\"\")","v":""},"Obróbka 1 zdjęc","",{"$f":"IFERROR(MATCH(I7,Brief!AA:AA,0),\"\")","v":103},"Obróbka 1 zdjęcia (kadrowanie kolory)",null,0.3,{"$f":"K7*$L$2+(AC2*(K7*$L$2))","v":36},null,null,null,null,null,"",null,"",{"$f":"IFERROR(INDEX(Brief!J:J,H7),0)","v":0},null,0,0,0,null,0,null,"","","",null,null,null,null,null,null,0,{"$f":"IF(AL7=1,SUM($AL$3:AL7),0)","v":0},0,{"$f":"IF(AN7=1,SUM($AN$3:AN7),0)","v":0}]
[null,"x",null,null,{"$f":"IFERROR(INDEX('Podświetlanie modułów'!D:D,MATCH(I8,'Podświetlanie modułów'!B:B,0)),\"\")","v":""},"Fotografia 1 sz","",{"$f":"IFERROR(MATCH(I8,Brief!AA:AA,0),\"\")","v":104},"Fotografia 1 szt z banku zdjęć",null,0.3,{"$f":"K8*$L$2+(AC2*(K8*$L$2))","v":36},null,null,null,null,null,"",null,"",{"$f":"IFERROR(INDEX(Brief!J:J,H8),0)","v":0},null,{"$f":"U8*(L8+P8)*(1+$W$2)","v":0},0,0,null,0,null,"","","",null,null,null,null,null,null,0,{"$f":"IF(AL8=1,SUM($AL$3:AL8),0)","v":0},0,{"$f":"IF(AN8=1,SUM($AN$3:AN8),0)","v":0}]
[null,"x",null,null,{"$f":"IFERROR(INDEX('Podświetlanie modułów'!D:D,MATCH(I9,'Podświetlanie modułów'!B:B,0)),\"\")","v":0},"Fotomontaż ze z","",{"$f":"IFERROR(MATCH(I9,Brief!AA:AA,0),\"\")","v":105},"Fotomontaż ze zdjęć 1 szt","od",1,{"$f":"K9*$L$2+(AC2*(K9*$L$2))","v":120},null,null,null,null,null,"",null,"",{"$f":"IFERROR(INDEX(Brief!J:J,H9),0)","v":0},null,0,0,0,null,0,null,"","","",null,"https://famag.pl/rozwiazanie/opakowanie-siatkowe-do-warzyw-owocow/",null,null,null,null,0,{"$f":"IF(AL9=1,SUM($AL$3:AL9),0)","v":0},0,{"$f":"IF(AN9=1,SUM($AN$3:AN9),0)","v":0}]
[null,"x",null,null,{"$f":"IFERROR(INDEX('Podświetlanie modułów'!D:D,MATCH(I10,'Podświetlanie modułów'!B:B,0)),\"\")","v":""},"Odrysowanie log","",{"$f":"IFERROR(MATCH(I10,Brief!AA:AA,0),\"\")","v":106},"Odrysowanie logo",null,5,{"$f":"K10*$L$2+(AC2*(K10*$L$2))","v":600},null,null,null,null,null,"",null,"",{"$f":"IFERROR(INDEX(Brief!J:J,H10),0)","v":0},null,0,0,0,null,0,null,"","","",null,null,null,null,null,null,0,{"$f":"IF(AL10=1,SUM($AL$3:AL10),0)","v":0},0,{"$f":"IF(AN10=1,SUM($AN$3:AN10),0)","v":0}]
[null,"x",null,null,{"$f":"IFERROR(INDEX('Podświetlanie modułów'!D:D,MATCH(I11,'Podświetlanie modułów'!B:B,0)),\"\")","v":""},"Projekt nowego ","",{"$f":"IFERROR(MATCH(I11,Brief!AA:AA,0),\"\")","v":107},"Projekt nowego logo",null,16,{"$f":"K11*$L$2+(AC2*(K11*$L$2))","v":1920},null,null,null,null,null,"",null,"",{"$f":"IFERROR(INDEX(Brief!J:J,H11),0)","v":0},null,0,0,0,null,0,null,"","","",null,null,null,null,null,null,0,{"$f":"IF(AL11=1,SUM($AL$3:AL11),0)","v":0},0,{"$f":"IF(AN11=1,SUM($AN$3:AN11),0)","v":0}]
[null,null,null,null,{"$f":"IFERROR(INDEX('Podświetlanie modułów'!D:D,MATCH(I12,'Podświetlanie modułów'!B:B,0)),\"\")","v":""},{"$f":"LEFT(I12,15)","v":"Dodatkowy moduł"},"",{"$f":"IFERROR(MATCH(I12,Brief!AA:AA,0),\"\")","v":108},{"$f":"\"Dodatkowy moduł \"&(COUNTIF($F$4:F11,\"Dodatkowy moduł\")+1)","v":"Dodatkowy moduł 1"},null,null,{"$f":"K12*$L$2+(AC2*(K12*$L$2))","v":0},null,null,null,null,null,"",null,"",{"$f":"IFERROR(INDEX(Brief!J:J,H12),0)","v":0},null,0,0,0,null,null,null,"","","",null,null,null,null,null,null,0,{"$f":"IF(AL12=1,SUM($AL$3:AL12),0)","v":0},0,{"$f":"IF(AN12=1,SUM($AN$3:AN12),0)","v":0}]
[null,null,null,null,{"$f":"IFERROR(INDEX('Podświetlanie modułów'!D:D,MATCH(I13,'Podświetlanie modułów'!B:B,0)),\"\")","v":""},{"$f":"LEFT(I13,15)","v":"Dodatkowy moduł"},"",{"$f":"IFERROR(MATCH(I13,Brief!AA:AA,0),\"\")","v":109},{"$f":"\"Dodatkowy moduł \"&(COUNTIF($F$4:F12,\"Dodatkowy moduł\")+1)","v":"Dodatkowy moduł 2"},null,null,{"$f":"K13*$L$2+(AC2*(K13*$L$2))","v":0},null,null,null,null,null,"",null,"",{"$f":"IFERROR(INDEX(Brief!J:J,H13),0)","v":0},null,0,0,0,null,null,null,"","","",null,null,null,null,null,null,0,{"$f":"IF(AL13=1,SUM($AL$3:AL13),0)","v":0},0,{"$f":"IF(AN13=1,SUM($AN$3:AN13),0)","v":0}]
[null,null,null,null,{"$f":"IFERROR(INDEX('Podświetlanie modułów'!D:D,MATCH(I14,'Podświetlanie modułów'!B:B,0)),\"\")","v":""},"Dodatkowy moduł","",{"$f":"IFERROR(MATCH(I14,Brief!AA:AA,0),\"\")","v":110},{"$f":"\"Dodatkowy moduł \"&(COUNTIF($F$4:F13,\"Dodatkowy moduł\")+1)","v":"Dodatkowy moduł 3"},null,null,{"$f":"K14*$L$2+(AC2*(K14*$L$2))","v":0},null,null,null,null,null,"",null,"",{"$f":"IFERROR(INDEX(Brief!J:J,H14),0)","v":0},null,0,0,0,null,null,null,"","","",null,null,null,null,null,null,0,{"$f":"IF(AL14=1,SUM($AL$3:AL14),0)","v":0},0,{"$f":"IF(AN14=1,SUM($AN$3:AN14),0)","v":0}]
[null,null,null,null,{"$f":"IFERROR(INDEX('Podświetlanie modułów'!D:D,MATCH(I15,'Podświetlanie modułów'!B:B,0)),\"\")","v":""},"Dodatkowy moduł","",{"$f":"IFERROR(MATCH(I15,Brief!AA:AA,0),\"\")","v":111},{"$f":"\"Dodatkowy moduł \"&(COUNTIF($F$4:F14,\"Dodatkowy moduł\")+1)","v":"Dodatkowy moduł 4"},null,null,{"$f":"K15*$L$2+(AC2*(K15*$L$2))","v":0},null,null,null,null,null,"",null,"",{"$f":"IFERROR(INDEX(Brief!J:J,H15),0)","v":0},null,0,0,0,null,null,null,"","","",null,null,null,null,null,null,0,{"$f":"IF(AL15=1,SUM($AL$3:AL15),0)","v":0},0,{"$f":"IF(AN15=1,SUM($AN$3:AN15),0)","v":0}]
[null,null,null,null,{"$f":"IFERROR(INDEX('Podświetlanie modułów'!D:D,MATCH(I16,'Podświetlanie modułów'!B:B,0)),\"\")","v":""},"Dodatkowy moduł","",{"$f":"IFERROR(MATCH(I16,Brief!AA:AA,0),\"\")","v":112},{"$f":"\"Dodatkowy moduł \"&(COUNTIF($F$4:F15,\"Dodatkowy moduł\")+1)","v":"Dodatkowy moduł 5"},null,null,{"$f":"K16*$L$2+(AC2*(K16*$L$2))","v":0},null,null,null,null,null,"",null,"",{"$f":"IFERROR(INDEX(Brief!J:J,H16),0)","v":0},null,{"$f":"U16*(L16+P16)*(1+$W$2)","v":0},0,0,null,null,null,"","","",null,null,null,null,null,null,0,{"$f":"IF(AL16=1,SUM($AL$3:AL16),0)","v":0},0,{"$f":"IF(AN16=1,SUM($AN$3:AN16),0)","v":0}]
[null,null,null,null,{"$f":"IFERROR(INDEX('Podświetlanie modułów'!D:D,MATCH(I17,'Podświetlanie modułów'!B:B,0)),\"\")","v":""},"Moduły i usługi",{"$f":"IF($G$2=\"x\",W17,\"\")","v":""},{"$f":"IFERROR(MATCH(I17,Brief!AA:AA,0),\"\")","v":""},"Moduły i usługi strony www",null,null,null,null,null,null,null,null,null,null,null,null,null,null,null,null,null,null,null,"","","",null,null,null,null,null,null,0,{"$f":"IF(AL17=1,SUM($AL$3:AL17),0)","v":0},0,{"$f":"IF(AN17=1,SUM($AN$3:AN17),0)","v":0}]
[null,null,null,null,{"$f":"IFERROR(INDEX('Podświetlanie modułów'!D:D,MATCH(I18,'Podświetlanie modułów'!B:B,0)),\"\")","v":""},"Moduły podstawo","",{"$f":"IFERROR(MATCH(I18,Brief!AA:AA,0),\"\")","v":""},"Moduły podstawowe",null,null,null,null,null,null,null,null,null,null,null,null,null,null,null,null,null,null,null,"","","",null,null,null,null,null,null,0,{"$f":"IF(AL18=1,SUM($AL$3:AL18),0)","v":0},0,{"$f":"IF(AN18=1,SUM($AN$3:AN18),0)","v":0}]
[null,null,null,null,{"$f":"IFERROR(INDEX('Podświetlanie modułów'!D:D,MATCH(I19,'Podświetlanie modułów'!B:B,0)),\"\")","v":""},"Edytor Elemento",{"$f":"IF($G$2=\"x\",W19,\"\")","v":""},{"$f":"IFERROR(MATCH(I19,Brief!AA:AA,0),\"\")","v":115},"Edytor Elementor (Drag & Drop)",null,0,{"$f":"K19*$L$2+(AC2*(K19*$L$2))","v":0},null,null,null,null,null,"",null,"",{"$f":"IFERROR(INDEX(Brief!J:J,H19),0)","v":0},null,{"$f":"U19*(L19+P19)*(1+$W$2)","v":0},0,{"$f":"IF($U$19>0,ROUNDUP(X19*(1+$Y$2),-1),ROUNDUP(W19*(1+$Y$2),-1))","v":0},null,{"$f":"U19","v":0},{"$f":"Z19*AA19","v":0},"",{"$f":"IF(U19=0,\"\",IF($U$19=0,M19*U19,IF(ISBLANK(Q19),M19*U19,Q19*U19)))","v":""},"",null,null,null,null,"Elementor",null,0,{"$f":"IF(AL19=1,SUM($AL$3:AL19),0)","v":0},0,{"$f":"IF(AN19=1,SUM($AN$3:AN19),0)","v":0}]
["x",null,null,null,{"$f":"IFERROR(INDEX('Podświetlanie modułów'!D:D,MATCH(I20,'Podświetlanie modułów'!B:B,0)),\"\")","v":""},"Strona główna 3","",{"$f":"IFERROR(MATCH(I20,Brief!AA:AA,0),\"\")","v":116},"Strona główna 3 sekcje (projekt + kodowanie)",null,7,{"$f":"K20*$L$2+(AC2*(K20*$L$2))","v":840},null,null,12,{"$f":"$P$2*O20+($AE$2*(O20*$P$2))","v":1800},4,480,4,600,{"$f":"IFERROR(INDEX(Brief!J:J,H20),0)","v":1},"x",2904.0000000000005,{"$f":"IF(D20=\"x\",W20,U20*(L20+IF(R20=\"\",0,R20)+IF(T20=\"\",0,T20))*(1+$X$2))","v":2112},3080,null,1,0,7,0,12,null,null,null,null,"WP",null,1,{"$f":"IF(AL20=1,SUM($AL$3:AL20),0)","v":1},0,{"$f":"IF(AN20=1,SUM($AN$3:AN20),0)","v":0}]
[null,null,null,null,{"$f":"IFERROR(INDEX('Podświetlanie modułów'!D:D,MATCH(I21,'Podświetlanie modułów'!B:B,0)),\"\")","v":""},"Strona główna 5","",{"$f":"IFERROR(MATCH(I21,Brief!AA:AA,0),\"\")","v":""},"Strona główna 5 sekcji (projekt + kodowanie)",null,9,{"$f":"K21*$L$2+(AC2*(K21*$L$2))","v":1080},null,null,14,2100,5,600,4,600,{"$f":"IFERROR(INDEX(Brief!J:J,H21),0)","v":0},"x",0,0,0,null,0,0,"","","",null,"http://folmat.pl/",null,null,"WP",null,0,{"$f":"IF(AL21=1,SUM($AL$3:AL21),0)","v":0},0,{"$f":"IF(AN21=1,SUM($AN$3:AN21),0)","v":0}]
[null,null,null,null,{"$f":"IFERROR(INDEX('Podświetlanie modułów'!D:D,MATCH(I22,'Podświetlanie modułów'!B:B,0)),\"\")","v":""},"Strona główna 7","",{"$f":"IFERROR(MATCH(I22,Brief!AA:AA,0),\"\")","v":""},"Strona główna 7 sekcji (projekt + kodowanie)",null,11,{"$f":"K22*$L$2+(AC2*(K22*$L$2))","v":1320},null,null,16,2400,6,720,4,600,{"$f":"IFERROR(INDEX(Brief!J:J,H22),0)","v":0},"x",0,0,0,null,0,0,"","","",null,"https://ama-bale.pl/",null,null,"WP",null,0,{"$f":"IF(AL22=1,SUM($AL$3:AL22),0)","v":0},0,{"$f":"IF(AN22=1,SUM($AN$3:AN22),0)","v":0}]
[null,null,null,null,{"$f":"IFERROR(INDEX('Podświetlanie modułów'!D:D,MATCH(I23,'Podświetlanie modułów'!B:B,0)),\"\")","v":""},"Strona główna 1","",{"$f":"IFERROR(MATCH(I23,Brief!AA:AA,0),\"\")","v":""},"Strona główna 10 sekcji (projekt + kodowanie)",null,13,{"$f":"K23*$L$2+(AC2*(K23*$L$2))","v":1560},null,null,20,3000,8,960,4,600,{"$f":"IFERROR(INDEX(Brief!J:J,H23),0)","v":0},"x",0,0,0,null,0,0,"","","",null,"https://tonyzgrywus.pl/",null,null,"WP",null,0,{"$f":"IF(AL23=1,SUM($AL$3:AL23),0)","v":0},0,{"$f":"IF(AN23=1,SUM($AN$3:AN23),0)","v":0}]
[null,null,null,null,{"$f":"IFERROR(INDEX('Podświetlanie modułów'!D:D,MATCH(I24,'Podświetlanie modułów'!B:B,0)),\"\")","v":""},"Strona główna 1","",{"$f":"IFERROR(MATCH(I24,Brief!AA:AA,0),\"\")","v":""},"Strona główna 15 sekcji (projekt + kodowanie)",null,16,{"$f":"K24*$L$2+(AC2*(K24*$L$2))","v":1920},null,null,25,3750,10,1200,4,600,{"$f":"IFERROR(INDEX(Brief!J:J,H24),0)","v":0},"x",0,0,0,null,0,0,"","","",null,"https://mrpost.pl/",null,null,"WP",null,0,{"$f":"IF(AL24=1,SUM($AL$3:AL24),0)","v":0},0,{"$f":"IF(AN24=1,SUM($AN$3:AN24),0)","v":0}]
[null,null,null,null,{"$f":"IFERROR(INDEX('Podświetlanie modułów'!D:D,MATCH(I25,'Podświetlanie modułów'!B:B,0)),\"\")","v":""},"Strona 1 sekcja","",{"$f":"IFERROR(MATCH(I25,Brief!AA:AA,0),\"\")","v":117},"Strona 1 sekcja (projekt + kodowanie)",null,1,{"$f":"K25*$L$2+(AC2*(K25*$L$2))","v":120},null,null,2,300,1,120,null,"",{"$f":"IFERROR(INDEX(Brief!J:J,H25),0)","v":0},null,0,0,0,null,0,0,"","","",null,"https://plusraty.pl/sprzedaz-bezposrednia/",null,null,"WP",null,0,{"$f":"IF(AL25=1,SUM($AL$3:AL25),0)","v":0},0,{"$f":"IF(AN25=1,SUM($AN$3:AN25),0)","v":0}]
[null,null,null,null,{"$f":"IFERROR(INDEX('Podświetlanie modułów'!D:D,MATCH(I26,'Podświetlanie modułów'!B:B,0)),\"\")","v":""},"> wpisz nazwy s","",{"$f":"IFERROR(MATCH(I26,Brief!AA:AA,0),\"\")","v":""},{"$f":"\"> \"&Brief!G118","v":"> wpisz nazwy stron"},null,null,null,null,null,null,null,null,null,null,null,null,null,null,null,null,null,null,null,"",{"$f":"IF(U26=0,\"\",IF($U$19=0,M26*U26,IF(ISBLANK(Q26),M26*U26,Q26*U26)))","v":""},"",null,null,null,null,null,null,{"$f":"IF(AL25=1,1,0)","v":0},{"$f":"IF(AL26=1,SUM($AL$3:AL26),0)","v":0},{"$f":"IF(AN25=1,1,0)","v":0},{"$f":"IF(AN26=1,SUM($AN$3:AN26),0)","v":0}]
[null,null,null,null,{"$f":"IFERROR(INDEX('Podświetlanie modułów'!D:D,MATCH(I27,'Podświetlanie modułów'!B:B,0)),\"\")","v":""},{"$f":"LEFT(I27,15)","v":"Strona 2 sekcje"},"",{"$f":"IFERROR(MATCH(I27,Brief!AA:AA,0),\"\")","v":119},"Strona 2 sekcje (projekt + kodowanie)",null,1.5,{"$f":"K27*$L$2+(AC2*(K27*$L$2))","v":180},null,null,3,{"$f":"$P$2*O27+($AE$2*(O27*$P$2))","v":450},2,240,null,"",{"$f":"IFERROR(INDEX(Brief!J:J,H27),0)","v":0},null,{"$f":"U27*(L27+P27)*(1+$W$2)","v":0},0,{"$f":"IF($U$19>0,ROUNDUP(X27*(1+$Y$2),-1),ROUNDUP(W27*(1+$Y$2),-1))","v":0},null,{"$f":"U25","v":0},{"$f":"Z27*AA27","v":0},"","","",null,null,null,null,"WP",null,0,{"$f":"IF(AL27=1,SUM($AL$3:AL27),0)","v":0},0,{"$f":"IF(AN27=1,SUM($AN$3:AN27),0)","v":0}]
[null,null,null,null,{"$f":"IFERROR(INDEX('Podświetlanie modułów'!D:D,MATCH(I28,'Podświetlanie modułów'!B:B,0)),\"\")","v":""},{"$f":"LEFT(I28,15)","v":"> wpisz nazwy s"},"",{"$f":"IFERROR(MATCH(I28,Brief!AA:AA,0),\"\")","v":""},{"$f":"\"> \"&Brief!G120","v":"> wpisz nazwy stron"},null,null,null,null,null,null,null,null,null,null,null,null,null,null,null,null,null,null,null,"","","",null,null,null,null,null,null,{"$f":"IF(AL27=1,1,0)","v":0},{"$f":"IF(AL28=1,SUM($AL$3:AL28),0)","v":0},{"$f":"IF(AN27=1,1,0)","v":0},{"$f":"IF(AN28=1,SUM($AN$3:AN28),0)","v":0}]
[null,null,null,null,{"$f":"IFERROR(INDEX('Podświetlanie modułów'!D:D,MATCH(I29,'Podświetlanie modułów'!B:B,0)),\"\")","v":""},"Strona 3 sekcje","",{"$f":"IFERROR(MATCH(I29,Brief!AA:AA,0),\"\")","v":121},"Strona 3 sekcje (projekt + kodowanie)",null,2,{"$f":"K29*$L$2+(AC2*(K29*$L$2))","v":240},null,null,4,{"$f":"$P$2*O29+($AE$2*(O29*$P$2))","v":600},3,360,null,"",{"$f":"IFERROR(INDEX(Brief!J:J,H29),0)","v":0},null,{"$f":"U29*(L29+P29)*(1+$W$2)","v":0},0,{"$f":"IF($U$19>0,ROUNDUP(X29*(1+$Y$2),-1),ROUNDUP(W29*(1+$Y$2),-1))","v":0},null,{"$f":"U25","v":0},{"$f":"Z29*AA29","v":0},"","","",null,"https://dlapracodawcy.contrain.pl/pracownicy-z-ukrainy/",null,null,"WP",null,0,{"$f":"IF(AL29=1,SUM($AL$3:AL29),0)","v":0},0,{"$f":"IF(AN29=1,SUM($AN$3:AN29),0)","v":0}]
[null,null,null,null,{"$f":"IFERROR(INDEX('Podświetlanie modułów'!D:D,MATCH(I30,'Podświetlanie modułów'!B:B,0)),\"\")","v":""},"> wpisz nazwy s","",{"$f":"IFERROR(MATCH(I30,Brief!AA:AA,0),\"\")","v":""},{"$f":"\"> \"&Brief!G122","v":"> wpisz nazwy stron"},null,null,null,null,null,null,null,null,null,null,null,null,null,null,null,null,null,null,null,"","","",null,null,null,null,null,null,{"$f":"IF(AL29=1,1,0)","v":0},{"$f":"IF(AL30=1,SUM($AL$3:AL30),0)","v":0},{"$f":"IF(AN29=1,1,0)","v":0},{"$f":"IF(AN30=1,SUM($AN$3:AN30),0)","v":0}]
[null,null,null,null,{"$f":"IFERROR(INDEX('Podświetlanie modułów'!D:D,MATCH(I31,'Podświetlanie modułów'!B:B,0)),\"\")","v":""},{"$f":"LEFT(I31,15)","v":"Strona 4 sekcje"},"",{"$f":"IFERROR(MATCH(I31,Brief!AA:AA,0),\"\")","v":123},"Strona 4 sekcje (projekt + kodowanie)",null,3,{"$f":"K31*$L$2+(AC2*(K31*$L$2))","v":360},null,null,5,{"$f":"$P$2*O31+($AE$2*(O31*$P$2))","v":750},4,480,null,"",{"$f":"IFERROR(INDEX(Brief!J:J,H31),0)","v":0},null,{"$f":"U31*(L31+P31)*(1+$W$2)","v":0},0,{"$f":"IF($U$19>0,ROUNDUP(X31*(1+$Y$2),-1),ROUNDUP(W31*(1+$Y$2),-1))","v":0},null,{"$f":"U25","v":0},{"$f":"Z31*AA31","v":0},"","","",null,null,null,null,"WP",null,0,{"$f":"IF(AL31=1,SUM($AL$3:AL31),0)","v":0},0,{"$f":"IF(AN31=1,SUM($AN$3:AN31),0)","v":0}]
[null,null,null,null,{"$f":"IFERROR(INDEX('Podświetlanie modułów'!D:D,MATCH(I32,'Podświetlanie modułów'!B:B,0)),\"\")","v":""},{"$f":"LEFT(I32,15)","v":"> wpisz nazwy s"},"",{"$f":"IFERROR(MATCH(I32,Brief!AA:AA,0),\"\")","v":""},{"$f":"\"> \"&Brief!G124","v":"> wpisz nazwy stron"},null,null,null,null,null,null,null,null,null,null,null,null,null,null,null,null,null,null,null,"","","",null,null,null,null,null,null,{"$f":"IF(AL31=1,1,0)","v":0},{"$f":"IF(AL32=1,SUM($AL$3:AL32),0)","v":0},{"$f":"IF(AN31=1,1,0)","v":0},{"$f":"IF(AN32=1,SUM($AN$3:AN32),0)","v":0}]
[null,null,null,null,{"$f":"IFERROR(INDEX('Podświetlanie modułów'!D:D,MATCH(I33,'Podświetlanie modułów'!B:B,0)),\"\")","v":""},"Strona 5 sekcji","",{"$f":"IFERROR(MATCH(I33,Brief!AA:AA,0),\"\")","v":125},"Strona 5 sekcji  (projekt + kodowanie)",null,4,{"$f":"K33*$L$2+(AC2*(K33*$L$2))","v":480},null,null,6,{"$f":"$P$2*O33+($AE$2*(O33*$P$2))","v":900},5,600,null,"",{"$f":"IFERROR(INDEX(Brief!J:J,H33),0)","v":0},null,{"$f":"U33*(L33+P33)*(1+$W$2)","v":0},0,{"$f":"IF($U$19>0,ROUNDUP(X33*(1+$Y$2),-1),ROUNDUP(W33*(1+$Y$2),-1))","v":0},null,{"$f":"U25","v":0},{"$f":"Z33*AA33","v":0},"","","",null,null,null,null,"WP",null,0,{"$f":"IF(AL33=1,SUM($AL$3:AL33),0)","v":0},0,{"$f":"IF(AN33=1,SUM($AN$3:AN33),0)","v":0}]
[null,null,null,null,{"$f":"IFERROR(INDEX('Podświetlanie modułów'!D:D,MATCH(I34,'Podświetlanie modułów'!B:B,0)),\"\")","v":""},"> wpisz nazwy s","",{"$f":"IFERROR(MATCH(I34,Brief!AA:AA,0),\"\")","v":""},{"$f":"\"> \"&Brief!G126","v":"> wpisz nazwy stron"},null,null,null,null,null,null,null,null,null,null,null,null,null,null,null,null,null,null,null,"","","",null,null,null,null,null,null,{"$f":"IF(AL33=1,1,0)","v":0},{"$f":"IF(AL34=1,SUM($AL$3:AL34),0)","v":0},{"$f":"IF(AN33=1,1,0)","v":0},{"$f":"IF(AN34=1,SUM($AN$3:AN34),0)","v":0}]
[null,null,null,null,{"$f":"IFERROR(INDEX('Podświetlanie modułów'!D:D,MATCH(I35,'Podświetlanie modułów'!B:B,0)),\"\")","v":""},{"$f":"LEFT(I35,15)","v":"Strona 6 sekcji"},"",{"$f":"IFERROR(MATCH(I35,Brief!AA:AA,0),\"\")","v":127},"Strona 6 sekcji (projekt + kodowanie)",null,5,{"$f":"K35*$L$2+(AC2*(K35*$L$2))","v":600},null,null,7,{"$f":"$P$2*O35+($AE$2*(O35*$P$2))","v":1050},6,720,null,"",{"$f":"IFERROR(INDEX(Brief!J:J,H35),0)","v":0},null,{"$f":"U35*(L35+P35)*(1+$W$2)","v":0},0,{"$f":"IF($U$19>0,ROUNDUP(X35*(1+$Y$2),-1),ROUNDUP(W35*(1+$Y$2),-1))","v":0},null,{"$f":"U25","v":0},{"$f":"Z35*AA35","v":0},"","","",null,"http://primecraftdeveloper.pl/",null,null,"WP",null,0,{"$f":"IF(AL35=1,SUM($AL$3:AL35),0)","v":0},0,{"$f":"IF(AN35=1,SUM($AN$3:AN35),0)","v":0}]
[null,null,null,null,{"$f":"IFERROR(INDEX('Podświetlanie modułów'!D:D,MATCH(I36,'Podświetlanie modułów'!B:B,0)),\"\")","v":""},{"$f":"LEFT(I36,15)","v":"> wpisz nazwy s"},"",{"$f":"IFERROR(MATCH(I36,Brief!AA:AA,0),\"\")","v":""},{"$f":"\"> \"&Brief!G128","v":"> wpisz nazwy stron"},null,null,null,null,null,null,null,null,null,null,null,null,null,null,null,null,null,null,null,"","","",null,null,null,null,null,null,{"$f":"IF(AL35=1,1,0)","v":0},{"$f":"IF(AL36=1,SUM($AL$3:AL36),0)","v":0},{"$f":"IF(AN35=1,1,0)","v":0},{"$f":"IF(AN36=1,SUM($AN$3:AN36),0)","v":0}]
[null,null,null,null,{"$f":"IFERROR(INDEX('Podświetlanie modułów'!D:D,MATCH(I37,'Podświetlanie modułów'!B:B,0)),\"\")","v":""},{"$f":"LEFT(I37,15)","v":"Strona 7 sekcji"},"",{"$f":"IFERROR(MATCH(I37,Brief!AA:AA,0),\"\")","v":129},"Strona 7 sekcji (projekt + kodowanie)",null,6,{"$f":"K37*$L$2+(AC2*(K37*$L$2))","v":720},null,null,8,{"$f":"$P$2*O37+($AE$2*(O37*$P$2))","v":1200},6.5,780,null,"",{"$f":"IFERROR(INDEX(Brief!J:J,H37),0)","v":0},null,{"$f":"U37*(L37+P37)*(1+$W$2)","v":0},0,{"$f":"IF($U$19>0,ROUNDUP(X37*(1+$Y$2),-1),ROUNDUP(W37*(1+$Y$2),-1))","v":0},null,{"$f":"U25","v":0},{"$f":"Z37*AA37","v":0},"","","",null,"http://primecraftdeveloper.pl/",null,null,"WP",null,0,{"$f":"IF(AL37=1,SUM($AL$3:AL37),0)","v":0},0,{"$f":"IF(AN37=1,SUM($AN$3:AN37),0)","v":0}]
[null,null,null,null,{"$f":"IFERROR(INDEX('Podświetlanie modułów'!D:D,MATCH(I38,'Podświetlanie modułów'!B:B,0)),\"\")","v":""},"> wpisz nazwy s",{"$f":"IF($G$2=\"x\",W38,\"\")","v":""},{"$f":"IFERROR(MATCH(I38,Brief!AA:AA,0),\"\")","v":""},{"$f":"\"> \"&Brief!G130","v":"> wpisz nazwy stron"},null,null,null,null,null,null,null,null,null,null,null,null,null,null,null,null,null,null,null,"","","",null,null,null,null,null,null,{"$f":"IF(AL37=1,1,0)","v":0},{"$f":"IF(AL38=1,SUM($AL$3:AL38),0)","v":0},{"$f":"IF(AN37=1,1,0)","v":0},{"$f":"IF(AN38=1,SUM($AN$3:AN38),0)","v":0}]
[null,null,null,null,{"$f":"IFERROR(INDEX('Podświetlanie modułów'!D:D,MATCH(I39,'Podświetlanie modułów'!B:B,0)),\"\")","v":""},{"$f":"LEFT(I39,15)","v":"Strona 8 sekcji"},"",{"$f":"IFERROR(MATCH(I39,Brief!AA:AA,0),\"\")","v":131},"Strona 8 sekcji (projekt + kodowanie)",null,7,{"$f":"K39*$L$2+(AC2*(K39*$L$2))","v":840},null,null,9,{"$f":"$P$2*O39+($AE$2*(O39*$P$2))","v":1350},7,840,null,"",{"$f":"IFERROR(INDEX(Brief!J:J,H39),0)","v":0},null,{"$f":"U39*(L39+P39)*(1+$W$2)","v":0},0,{"$f":"IF($U$19>0,ROUNDUP(X39*(1+$Y$2),-1),ROUNDUP(W39*(1+$Y$2),-1))","v":0},null,{"$f":"U25","v":0},{"$f":"Z39*AA39","v":0},"","","",null,"http://primecraftdeveloper.pl/",null,null,"WP",null,0,{"$f":"IF(AL39=1,SUM($AL$3:AL39),0)","v":0},0,{"$f":"IF(AN39=1,SUM($AN$3:AN39),0)","v":0}]
[null,null,null,null,{"$f":"IFERROR(INDEX('Podświetlanie modułów'!D:D,MATCH(I40,'Podświetlanie modułów'!B:B,0)),\"\")","v":""},{"$f":"LEFT(I40,15)","v":"> wpisz nazwy s"},"",{"$f":"IFERROR(MATCH(I40,Brief!AA:AA,0),\"\")","v":""},{"$f":"\"> \"&Brief!G132","v":"> wpisz nazwy stron"},null,null,null,null,null,null,null,null,null,null,null,null,null,null,null,null,null,null,null,"","","",null,null,null,null,null,null,{"$f":"IF(AL39=1,1,0)","v":0},{"$f":"IF(AL40=1,SUM($AL$3:AL40),0)","v":0},{"$f":"IF(AN39=1,1,0)","v":0},{"$f":"IF(AN40=1,SUM($AN$3:AN40),0)","v":0}]
[null,null,null,null,{"$f":"IFERROR(INDEX('Podświetlanie modułów'!D:D,MATCH(I41,'Podświetlanie modułów'!B:B,0)),\"\")","v":""},{"$f":"LEFT(I41,15)","v":"Strona 9 sekcji"},"",{"$f":"IFERROR(MATCH(I41,Brief!AA:AA,0),\"\")","v":133},"Strona 9 sekcji (projekt + kodowanie)",null,8,{"$f":"K41*$L$2+(AC2*(K41*$L$2))","v":960},null,null,10,{"$f":"$P$2*O41+($AE$2*(O41*$P$2))","v":1500},7.5,900,null,"",{"$f":"IFERROR(INDEX(Brief!J:J,H41),0)","v":0},null,{"$f":"U41*(L41+P41)*(1+$W$2)","v":0},0,{"$f":"IF($U$19>0,ROUNDUP(X41*(1+$Y$2),-1),ROUNDUP(W41*(1+$Y$2),-1))","v":0},null,{"$f":"U25","v":0},{"$f":"Z41*AA41","v":0},"","","",null,"http://primecraftdeveloper.pl/",null,null,"WP",null,0,{"$f":"IF(AL41=1,SUM($AL$3:AL41),0)","v":0},0,{"$f":"IF(AN41=1,SUM($AN$3:AN41),0)","v":0}]
[null,null,null,null,{"$f":"IFERROR(INDEX('Podświetlanie modułów'!D:D,MATCH(I42,'Podświetlanie modułów'!B:B,0)),\"\")","v":""},{"$f":"LEFT(I42,15)","v":"> wpisz nazwy s"},"",{"$f":"IFERROR(MATCH(I42,Brief!AA:AA,0),\"\")","v":""},{"$f":"\"> \"&Brief!G134","v":"> wpisz nazwy stron"},null,null,null,null,null,null,null,null,null,null,null,null,null,null,null,null,null,null,null,"","","",null,null,null,null,null,null,{"$f":"IF(AL41=1,1,0)","v":0},{"$f":"IF(AL42=1,SUM($AL$3:AL42),0)","v":0},{"$f":"IF(AN41=1,1,0)","v":0},{"$f":"IF(AN42=1,SUM($AN$3:AN42),0)","v":0}]
[null,null,null,null,{"$f":"IFERROR(INDEX('Podświetlanie modułów'!D:D,MATCH(I43,'Podświetlanie modułów'!B:B,0)),\"\")","v":""},"Strona 10 sekcj","",{"$f":"IFERROR(MATCH(I43,Brief!AA:AA,0),\"\")","v":135},"Strona 10 sekcji (projekt + kodowanie)",null,9,{"$f":"K43*$L$2+(AC2*(K43*$L$2))","v":1080},null,null,11,{"$f":"$P$2*O43+($AE$2*(O43*$P$2))","v":1650},8,960,null,"",{"$f":"IFERROR(INDEX(Brief!J:J,H43),0)","v":0},null,{"$f":"U43*(L43+P43)*(1+$W$2)","v":0},0,{"$f":"IF($U$19>0,ROUNDUP(X43*(1+$Y$2),-1),ROUNDUP(W43*(1+$Y$2),-1))","v":0},null,{"$f":"U25","v":0},{"$f":"Z43*AA43","v":0},"","","",null,null,null,null,"WP",null,0,{"$f":"IF(AL43=1,SUM($AL$3:AL43),0)","v":0},0,{"$f":"IF(AN43=1,SUM($AN$3:AN43),0)","v":0}]
[null,null,null,null,{"$f":"IFERROR(INDEX('Podświetlanie modułów'!D:D,MATCH(I44,'Podświetlanie modułów'!B:B,0)),\"\")","v":""},"> wpisz nazwy s","",{"$f":"IFERROR(MATCH(I44,Brief!AA:AA,0),\"\")","v":""},{"$f":"\"> \"&Brief!G136","v":"> wpisz nazwy stron"},null,null,null,null,null,null,null,null,null,null,null,null,null,null,null,null,null,null,null,"","","",null,null,null,null,null,null,{"$f":"IF(AL43=1,1,0)","v":0},{"$f":"IF(AL44=1,SUM($AL$3:AL44),0)","v":0},{"$f":"IF(AN43=1,1,0)","v":0},{"$f":"IF(AN44=1,SUM($AN$3:AN44),0)","v":0}]
[null,null,null,null,{"$f":"IFERROR(INDEX('Podświetlanie modułów'!D:D,MATCH(I45,'Podświetlanie modułów'!B:B,0)),\"\")","v":""},"Strona 1 sekcja","",{"$f":"IFERROR(MATCH(I45,Brief!AA:AA,0),\"\")","v":137},"Strona 1 sekcja (utworzenie bez projektu)",null,null,null,1,{"$f":"M45*$N$2+($AD$2*(M45*$N$2))","v":120},0,{"$f":"$P$2*O45+($AE$2*(O45*$P$2))","v":0},1,120,null,"",{"$f":"IFERROR(INDEX(Brief!J:J,H45),0)","v":0},null,{"$f":"U45*(N45+P45)*(1+$W$2)","v":0},0,{"$f":"IF($U$19>0,ROUNDUP(X45*(1+$Y$2),-1),ROUNDUP(W45*(1+$Y$2),-1))","v":0},null,{"$f":"U25","v":0},{"$f":"Z45*AA45","v":0},"","","",null,"https://dlapracodawcy.contrain.pl/pracownicy-z-ukrainy/",null,null,"WP",null,0,{"$f":"IF(AL45=1,SUM($AL$3:AL45),0)","v":0},0,{"$f":"IF(AN45=1,SUM($AN$3:AN45),0)","v":0}]
[null,null,null,null,{"$f":"IFERROR(INDEX('Podświetlanie modułów'!D:D,MATCH(I46,'Podświetlanie modułów'!B:B,0)),\"\")","v":""},{"$f":"LEFT(I46,15)","v":"> wpisz nazwy s"},"",{"$f":"IFERROR(MATCH(I46,Brief!AA:AA,0),\"\")","v":""},{"$f":"\"> \"&Brief!G138","v":"> wpisz nazwy stron"},null,null,null,null,null,null,null,null,null,null,null,null,null,null,null,null,null,null,null,"","","",null,null,null,null,null,null,{"$f":"IF(AL45=1,1,0)","v":0},{"$f":"IF(AL46=1,SUM($AL$3:AL46),0)","v":0},{"$f":"IF(AN45=1,1,0)","v":0},{"$f":"IF(AN46=1,SUM($AN$3:AN46),0)","v":0}]
[null,null,null,null,{"$f":"IFERROR(INDEX('Podświetlanie modułów'!D:D,MATCH(I47,'Podświetlanie modułów'!B:B,0)),\"\")","v":""},{"$f":"LEFT(I47,15)","v":"Strona 2 sekcje"},"",{"$f":"IFERROR(MATCH(I47,Brief!AA:AA,0),\"\")","v":139},"Strona 2 sekcje (utworzenie bez projektu)",null,null,null,2,{"$f":"M47*$N$2+($AD$2*(M47*$N$2))","v":240},0,{"$f":"$P$2*O47+($AE$2*(O47*$P$2))","v":0},2,240,null,"",{"$f":"IFERROR(INDEX(Brief!J:J,H47),0)","v":0},null,{"$f":"U47*(N47+P47)*(1+$W$2)","v":0},0,{"$f":"IF($U$19>0,ROUNDUP(X47*(1+$Y$2),-1),ROUNDUP(W47*(1+$Y$2),-1))","v":0},null,{"$f":"U25","v":0},{"$f":"Z47*AA47","v":0},"","","",null,null,null,null,"WP",null,0,{"$f":"IF(AL47=1,SUM($AL$3:AL47),0)","v":0},0,{"$f":"IF(AN47=1,SUM($AN$3:AN47),0)","v":0}]
[null,null,null,null,null,{"$f":"LEFT(I48,15)","v":"> wpisz nazwy s"},null,{"$f":"IFERROR(MATCH(I48,Brief!AA:AA,0),\"\")","v":""},{"$f":"\"> \"&Brief!G140","v":"> wpisz nazwy stron"},null,null,null,null,null,null,null,null,null,null,null,null,null,null,null,null,null,null,null,"","","",null,null,null,null,null,null,{"$f":"IF(AL47=1,1,0)","v":0},{"$f":"IF(AL48=1,SUM($AL$3:AL48),0)","v":0},{"$f":"IF(AN47=1,1,0)","v":0},{"$f":"IF(AN48=1,SUM($AN$3:AN48),0)","v":0}]
[null,null,null,null,{"$f":"IFERROR(INDEX('Podświetlanie modułów'!D:D,MATCH(I49,'Podświetlanie modułów'!B:B,0)),\"\")","v":""},"Strona 3 sekcje",{"$f":"IF($G$2=\"x\",W49,\"\")","v":""},{"$f":"IFERROR(MATCH(I49,Brief!AA:AA,0),\"\")","v":141},"Strona 3 sekcje (utworzenie bez projektu)",null,null,null,3,{"$f":"M49*$N$2+($AD$2*(M49*$N$2))","v":360},0,{"$f":"$P$2*O49+($AE$2*(O49*$P$2))","v":0},3,360,null,"",{"$f":"IFERROR(INDEX(Brief!J:J,H49),0)","v":0},null,{"$f":"U49*(N49+P49)*(1+$W$2)","v":0},0,{"$f":"IF($U$19>0,ROUNDUP(X49*(1+$Y$2),-1),ROUNDUP(W49*(1+$Y$2),-1))","v":0},null,{"$f":"U25","v":0},{"$f":"Z49*AA49","v":0},"","","",null,null,null,null,"WP",null,0,{"$f":"IF(AL49=1,SUM($AL$3:AL49),0)","v":0},0,{"$f":"IF(AN49=1,SUM($AN$3:AN49),0)","v":0}]
[null,null,null,null,{"$f":"IFERROR(INDEX('Podświetlanie modułów'!D:D,MATCH(I50,'Podświetlanie modułów'!B:B,0)),\"\")","v":""},"> wpisz nazwy s",{"$f":"IF($G$2=\"x\",W50,\"\")","v":""},{"$f":"IFERROR(MATCH(I50,Brief!AA:AA,0),\"\")","v":""},{"$f":"\"> \"&Brief!G142","v":"> wpisz nazwy stron"},null,null,null,null,null,null,null,null,null,null,null,null,null,null,null,null,null,null,null,"","","",null,null,null,null,null,null,{"$f":"IF(AL49=1,1,0)","v":0},{"$f":"IF(AL50=1,SUM($AL$3:AL50),0)","v":0},{"$f":"IF(AN49=1,1,0)","v":0},{"$f":"IF(AN50=1,SUM($AN$3:AN50),0)","v":0}]
[null,null,null,null,{"$f":"IFERROR(INDEX('Podświetlanie modułów'!D:D,MATCH(I51,'Podświetlanie modułów'!B:B,0)),\"\")","v":""},"Strona 4 sekcje",{"$f":"IF($G$2=\"x\",W51,\"\")","v":""},{"$f":"IFERROR(MATCH(I51,Brief!AA:AA,0),\"\")","v":143},"Strona 4 sekcje (utworzenie bez projektu)",null,null,null,4,{"$f":"M51*$N$2+($AD$2*(M51*$N$2))","v":480},0,{"$f":"$P$2*O51+($AE$2*(O51*$P$2))","v":0},4,480,null,"",{"$f":"IFERROR(INDEX(Brief!J:J,H51),0)","v":0},null,{"$f":"U51*(N51+P51)*(1+$W$2)","v":0},0,{"$f":"IF($U$19>0,ROUNDUP(X51*(1+$Y$2),-1),ROUNDUP(W51*(1+$Y$2),-1))","v":0},null,{"$f":"U25","v":0},{"$f":"Z51*AA51","v":0},"","","",null,null,null,null,"WP",null,0,{"$f":"IF(AL51=1,SUM($AL$3:AL51),0)","v":0},0,{"$f":"IF(AN51=1,SUM($AN$3:AN51),0)","v":0}]
[null,null,null,null,null,"> wpisz nazwy s",null,{"$f":"IFERROR(MATCH(I52,Brief!AA:AA,0),\"\")","v":""},{"$f":"\"> \"&Brief!G144","v":"> wpisz nazwy stron"},null,null,null,null,null,null,null,null,null,null,null,null,null,null,null,null,null,null,null,"","","",null,null,null,null,null,null,{"$f":"IF(AL51=1,1,0)","v":0},{"$f":"IF(AL52=1,SUM($AL$3:AL52),0)","v":0},{"$f":"IF(AN51=1,1,0)","v":0},{"$f":"IF(AN52=1,SUM($AN$3:AN52),0)","v":0}]
[null,null,null,null,{"$f":"IFERROR(INDEX('Podświetlanie modułów'!D:D,MATCH(I53,'Podświetlanie modułów'!B:B,0)),\"\")","v":""},"Strona 5 sekcji",{"$f":"IF($G$2=\"x\",W53,\"\")","v":""},{"$f":"IFERROR(MATCH(I53,Brief!AA:AA,0),\"\")","v":145},"Strona 5 sekcji (utworzenie bez projektu)",null,null,null,5,{"$f":"M53*$N$2+($AD$2*(M53*$N$2))","v":600},0,{"$f":"$P$2*O53+($AE$2*(O53*$P$2))","v":0},5,600,null,"",{"$f":"IFERROR(INDEX(Brief!J:J,H53),0)","v":0},null,{"$f":"U53*(N53+P53)*(1+$W$2)","v":0},0,{"$f":"IF($U$19>0,ROUNDUP(X53*(1+$Y$2),-1),ROUNDUP(W53*(1+$Y$2),-1))","v":0},null,{"$f":"U25","v":0},{"$f":"Z53*AA53","v":0},"","","",null,null,null,null,"WP",null,0,{"$f":"IF(AL53=1,SUM($AL$3:AL53),0)","v":0},0,{"$f":"IF(AN53=1,SUM($AN$3:AN53),0)","v":0}]
[null,null,null,null,{"$f":"IFERROR(INDEX('Podświetlanie modułów'!D:D,MATCH(I54,'Podświetlanie modułów'!B:B,0)),\"\")","v":""},"> wpisz nazwy s",{"$f":"IF($G$2=\"x\",W54,\"\")","v":""},{"$f":"IFERROR(MATCH(I54,Brief!AA:AA,0),\"\")","v":""},{"$f":"\"> \"&Brief!G146","v":"> wpisz nazwy stron"},null,null,null,null,null,null,null,null,null,null,null,null,null,null,null,null,null,null,null,"","","",null,null,null,null,null,null,{"$f":"IF(AL53=1,1,0)","v":0},{"$f":"IF(AL54=1,SUM($AL$3:AL54),0)","v":0},{"$f":"IF(AN53=1,1,0)","v":0},{"$f":"IF(AN54=1,SUM($AN$3:AN54),0)","v":0}]
[null,null,null,null,{"$f":"IFERROR(INDEX('Podświetlanie modułów'!D:D,MATCH(I55,'Podświetlanie modułów'!B:B,0)),\"\")","v":""},"Strona 6 sekcji",{"$f":"IF($G$2=\"x\",W55,\"\")","v":""},{"$f":"IFERROR(MATCH(I55,Brief!AA:AA,0),\"\")","v":147},"Strona 6 sekcji (utworzenie bez projektu)",null,null,null,6,{"$f":"M55*$N$2+($AD$2*(M55*$N$2))","v":720},0,{"$f":"$P$2*O55+($AE$2*(O55*$P$2))","v":0},6,720,null,"",{"$f":"IFERROR(INDEX(Brief!J:J,H55),0)","v":0},null,{"$f":"U55*(N55+P55)*(1+$W$2)","v":0},0,{"$f":"IF($U$19>0,ROUNDUP(X55*(1+$Y$2),-1),ROUNDUP(W55*(1+$Y$2),-1))","v":0},null,{"$f":"U25","v":0},{"$f":"Z55*AA55","v":0},"","","",null,null,null,null,"WP",null,0,{"$f":"IF(AL55=1,SUM($AL$3:AL55),0)","v":0},0,{"$f":"IF(AN55=1,SUM($AN$3:AN55),0)","v":0}]
[null,null,null,null,null,"> wpisz nazwy s",null,{"$f":"IFERROR(MATCH(I56,Brief!AA:AA,0),\"\")","v":""},{"$f":"\"> \"&Brief!G148","v":"> wpisz nazwy stron"},null,null,null,null,null,null,null,null,null,null,null,null,null,null,null,null,null,null,null,"","","",null,null,null,null,null,null,{"$f":"IF(AL55=1,1,0)","v":0},{"$f":"IF(AL56=1,SUM($AL$3:AL56),0)","v":0},{"$f":"IF(AN55=1,1,0)","v":0},{"$f":"IF(AN56=1,SUM($AN$3:AN56),0)","v":0}]
[null,null,null,null,{"$f":"IFERROR(INDEX('Podświetlanie modułów'!D:D,MATCH(I57,'Podświetlanie modułów'!B:B,0)),\"\")","v":""},"Strona 7 sekcji",{"$f":"IF($G$2=\"x\",W57,\"\")","v":""},{"$f":"IFERROR(MATCH(I57,Brief!AA:AA,0),\"\")","v":149},"Strona 7 sekcji (utworzenie bez projektu)",null,null,null,6.5,{"$f":"M57*$N$2+($AD$2*(M57*$N$2))","v":780},0,{"$f":"$P$2*O57+($AE$2*(O57*$P$2))","v":0},6.5,780,null,"",{"$f":"IFERROR(INDEX(Brief!J:J,H57),0)","v":0},null,{"$f":"U57*(N57+P57)*(1+$W$2)","v":0},0,{"$f":"IF($U$19>0,ROUNDUP(X57*(1+$Y$2),-1),ROUNDUP(W57*(1+$Y$2),-1))","v":0},null,{"$f":"U25","v":0},{"$f":"Z57*AA57","v":0},"","","",null,"http://primecraftdeveloper.pl/",null,null,"WP",null,0,{"$f":"IF(AL57=1,SUM($AL$3:AL57),0)","v":0},0,{"$f":"IF(AN57=1,SUM($AN$3:AN57),0)","v":0}]
[null,null,null,null,{"$f":"IFERROR(INDEX('Podświetlanie modułów'!D:D,MATCH(I58,'Podświetlanie modułów'!B:B,0)),\"\")","v":""},"> wpisz nazwy s",{"$f":"IF($G$2=\"x\",W58,\"\")","v":""},{"$f":"IFERROR(MATCH(I58,Brief!AA:AA,0),\"\")","v":""},{"$f":"\"> \"&Brief!G150","v":"> wpisz nazwy stron"},null,null,null,null,null,null,null,null,null,null,null,null,null,null,null,null,null,null,null,"","","",null,null,null,null,null,null,{"$f":"IF(AL57=1,1,0)","v":0},{"$f":"IF(AL58=1,SUM($AL$3:AL58),0)","v":0},{"$f":"IF(AN57=1,1,0)","v":0},{"$f":"IF(AN58=1,SUM($AN$3:AN58),0)","v":0}]
[null,null,null,null,{"$f":"IFERROR(INDEX('Podświetlanie modułów'!D:D,MATCH(I59,'Podświetlanie modułów'!B:B,0)),\"\")","v":""},"Strona 8 sekcji",{"$f":"IF($G$2=\"x\",W59,\"\")","v":""},{"$f":"IFERROR(MATCH(I59,Brief!AA:AA,0),\"\")","v":151},"Strona 8 sekcji (utworzenie bez projektu)",null,null,null,7,{"$f":"M59*$N$2+($AD$2*(M59*$N$2))","v":840},0,{"$f":"$P$2*O59+($AE$2*(O59*$P$2))","v":0},7,840,null,"",{"$f":"IFERROR(INDEX(Brief!J:J,H59),0)","v":0},null,{"$f":"U59*(N59+P59)*(1+$W$2)","v":0},0,{"$f":"IF($U$19>0,ROUNDUP(X59*(1+$Y$2),-1),ROUNDUP(W59*(1+$Y$2),-1))","v":0},null,{"$f":"U25","v":0},{"$f":"Z59*AA59","v":0},"","","",null,"http://primecraftdeveloper.pl/",null,null,"WP",null,0,{"$f":"IF(AL59=1,SUM($AL$3:AL59),0)","v":0},0,{"$f":"IF(AN59=1,SUM($AN$3:AN59),0)","v":0}]
[null,null,null,null,null,"> wpisz nazwy s",null,{"$f":"IFERROR(MATCH(I60,Brief!AA:AA,0),\"\")","v":""},{"$f":"\"> \"&Brief!G152","v":"> wpisz nazwy stron"},null,null,null,null,null,null,null,null,null,null,null,null,null,null,null,null,null,null,null,"","","",null,null,null,null,null,null,{"$f":"IF(AL59=1,1,0)","v":0},{"$f":"IF(AL60=1,SUM($AL$3:AL60),0)","v":0},{"$f":"IF(AN59=1,1,0)","v":0},{"$f":"IF(AN60=1,SUM($AN$3:AN60),0)","v":0}]
[null,null,null,null,{"$f":"IFERROR(INDEX('Podświetlanie modułów'!D:D,MATCH(I61,'Podświetlanie modułów'!B:B,0)),\"\")","v":""},"Strona 9 sekcji",{"$f":"IF($G$2=\"x\",W61,\"\")","v":""},{"$f":"IFERROR(MATCH(I61,Brief!AA:AA,0),\"\")","v":153},"Strona 9 sekcji (utworzenie bez projektu)",null,null,null,7.5,{"$f":"M61*$N$2+($AD$2*(M61*$N$2))","v":900},0,{"$f":"$P$2*O61+($AE$2*(O61*$P$2))","v":0},7.5,900,null,"",{"$f":"IFERROR(INDEX(Brief!J:J,H61),0)","v":0},null,{"$f":"U61*(N61+P61)*(1+$W$2)","v":0},0,{"$f":"IF($U$19>0,ROUNDUP(X61*(1+$Y$2),-1),ROUNDUP(W61*(1+$Y$2),-1))","v":0},null,{"$f":"U25","v":0},{"$f":"Z61*AA61","v":0},"","","",null,"http://primecraftdeveloper.pl/",null,null,"WP",null,0,{"$f":"IF(AL61=1,SUM($AL$3:AL61),0)","v":0},0,{"$f":"IF(AN61=1,SUM($AN$3:AN61),0)","v":0}]
[null,null,null,null,null,"> wpisz nazwy s",null,{"$f":"IFERROR(MATCH(I62,Brief!AA:AA,0),\"\")","v":""},{"$f":"\"> \"&Brief!G154","v":"> wpisz nazwy stron"},null,null,null,null,null,null,null,null,null,null,null,null,null,null,null,null,null,null,null,"","","",null,null,null,null,null,null,{"$f":"IF(AL61=1,1,0)","v":0},{"$f":"IF(AL62=1,SUM($AL$3:AL62),0)","v":0},{"$f":"IF(AN61=1,1,0)","v":0},{"$f":"IF(AN62=1,SUM($AN$3:AN62),0)","v":0}]
[null,null,null,null,{"$f":"IFERROR(INDEX('Podświetlanie modułów'!D:D,MATCH(I63,'Podświetlanie modułów'!B:B,0)),\"\")","v":""},"Strona 10 sekcj",{"$f":"IF($G$2=\"x\",W63,\"\")","v":""},{"$f":"IFERROR(MATCH(I63,Brief!AA:AA,0),\"\")","v":155},"Strona 10 sekcji (utworzenie bez projektu)",null,null,null,8,{"$f":"M63*$N$2+($AD$2*(M63*$N$2))","v":960},0,{"$f":"$P$2*O63+($AE$2*(O63*$P$2))","v":0},8,960,null,"",{"$f":"IFERROR(INDEX(Brief!J:J,H63),0)","v":0},null,{"$f":"U63*(N63+P63)*(1+$W$2)","v":0},0,{"$f":"IF($U$19>0,ROUNDUP(X63*(1+$Y$2),-1),ROUNDUP(W63*(1+$Y$2),-1))","v":0},null,{"$f":"U25","v":0},{"$f":"Z63*AA63","v":0},"","","",null,null,null,null,"WP",null,0,{"$f":"IF(AL63=1,SUM($AL$3:AL63),0)","v":0},0,{"$f":"IF(AN63=1,SUM($AN$3:AN63),0)","v":0}]
[null,null,null,null,null,"> wpisz nazwy s",null,{"$f":"IFERROR(MATCH(I64,Brief!AA:AA,0),\"\")","v":""},{"$f":"\"> \"&Brief!G156","v":"> wpisz nazwy stron"},null,null,null,null,null,null,null,null,null,null,null,null,null,null,null,null,null,null,null,"","","",null,null,null,null,null,null,{"$f":"IF(AL63=1,1,0)","v":0},{"$f":"IF(AL64=1,SUM($AL$3:AL64),0)","v":0},{"$f":"IF(AN63=1,1,0)","v":0},{"$f":"IF(AN64=1,SUM($AN$3:AN64),0)","v":0}]
["x",null,null,null,{"$f":"IFERROR(INDEX('Podświetlanie modułów'!D:D,MATCH(I65,'Podświetlanie modułów'!B:B,0)),\"\")","v":""},"Menu klasyczne ",{"$f":"IF($G$2=\"x\",W65,\"\")","v":""},{"$f":"IFERROR(MATCH(I65,Brief!AA:AA,0),\"\")","v":""},"Menu klasyczne poziome",null,0.2,{"$f":"K65*$L$2+(AC2*(K65*$L$2))","v":24},null,null,1,{"$f":"$P$2*O65+($AE$2*(O65*$P$2))","v":150},1,120,null,"",{"$f":"IFERROR(INDEX(Brief!J:J,H65),0)","v":0},"x",{"$f":"U65*(L65+P65)*(1+$W$2)","v":0},0,{"$f":"IF($U$19>0,ROUNDUP(X65*(1+$Y$2),-1),ROUNDUP(W65*(1+$Y$2),-1))","v":0},null,{"$f":"U25","v":0},0,"","","",null,"https://commhaven.pl/",null,null,"WP + autorski skrypt",null,0,{"$f":"IF(AL65=1,SUM($AL$3:AL65),0)","v":0},0,{"$f":"IF(AN65=1,SUM($AN$3:AN65),0)","v":0}]
[null,null,null,null,{"$f":"IFERROR(INDEX('Podświetlanie modułów'!D:D,MATCH(I66,'Podświetlanie modułów'!B:B,0)),\"\")","v":""},"Menu klasyczne ","",{"$f":"IFERROR(MATCH(I66,Brief!AA:AA,0),\"\")","v":""},"Menu klasyczne pionowe boczne",null,0.5,{"$f":"K66*$L$2+(AC2*(K66*$L$2))","v":60},null,null,1,{"$f":"$P$2*O66+($AE$2*(O66*$P$2))","v":150},1,120,null,"",{"$f":"IFERROR(INDEX(Brief!J:J,H66),0)","v":0},"x",0,0,{"$f":"IF($U$19>0,ROUNDUP(X66*(1+$Y$2),-1),ROUNDUP(W66*(1+$Y$2),-1))","v":0},null,{"$f":"U26","v":0},0,"","","",null,"http://studiokreacja.pl",null,null,"WP + autorski skrypt",null,0,{"$f":"IF(AL66=1,SUM($AL$3:AL66),0)","v":0},0,{"$f":"IF(AN66=1,SUM($AN$3:AN66),0)","v":0}]
[null,null,null,null,{"$f":"IFERROR(INDEX('Podświetlanie modułów'!D:D,MATCH(I67,'Podświetlanie modułów'!B:B,0)),\"\")","v":""},"Menu z ikonami ","",{"$f":"IFERROR(MATCH(I67,Brief!AA:AA,0),\"\")","v":157},"Menu z ikonami obrazkami","od",1,{"$f":"K67*$L$2+(AC2*(K67*$L$2))","v":120},null,null,2,300,1,120,null,"",{"$f":"IFERROR(INDEX(Brief!J:J,H67),0)","v":0},null,0,0,{"$f":"IF($U$19>0,ROUNDUP(X67*(1+$Y$2),-1),ROUNDUP(W67*(1+$Y$2),-1))","v":0},null,0,0,"","","",null,"https://emspartner.pl/","https://cmt-advisory.pl/",null,"WP + autorski skrypt",null,0,{"$f":"IF(AL67=1,SUM($AL$3:AL67),0)","v":0},0,{"$f":"IF(AN67=1,SUM($AN$3:AN67),0)","v":0}]
[null,null,null,"x",{"$f":"IFERROR(INDEX('Podświetlanie modułów'!D:D,MATCH(I68,'Podświetlanie modułów'!B:B,0)),\"\")","v":""},"Menu mega","",{"$f":"IFERROR(MATCH(I68,Brief!AA:AA,0),\"\")","v":""},"Menu mega",null,null,{"$f":"K68*$L$2+(AC2*(K68*$L$2))","v":0},null,null,null,0,null,"",null,"",{"$f":"IFERROR(INDEX(Brief!J:J,H68),0)","v":0},null,0,0,{"$f":"IF($U$19>0,ROUNDUP(X68*(1+$Y$2),-1),ROUNDUP(W68*(1+$Y$2),-1))","v":0},null,0,0,"","","",null,null,null,null,null,null,0,{"$f":"IF(AL68=1,SUM($AL$3:AL68),0)","v":0},{"$f":"IF(AD68=\"\",0,IF(AD68=0,0,1))","v":0},{"$f":"IF(AN68=1,SUM($AN$3:AN68),0)","v":0}]
[null,null,null,null,{"$f":"IFERROR(INDEX('Podświetlanie modułów'!D:D,MATCH(I69,'Podświetlanie modułów'!B:B,0)),\"\")","v":""},"Menu Burger","",{"$f":"IFERROR(MATCH(I69,Brief!AA:AA,0),\"\")","v":""},"Menu Burger",null,null,{"$f":"K69*$L$2+(AC2*(K69*$L$2))","v":0},null,null,null,0,1.5,{"$f":"IF(AND(D69=\"x\",Q69>0),\"błąd\",IF(Q69=\"\",\"\",Q69*$R$2+($AE$2*(Q69*$R$2))))","v":180},null,{"$f":"IF(AND(D69=\"x\",S69>0),\"błąd\",IF(S69=\"\",\"\",S69*$T$2+($AE$2*(S69*$T$2))))","v":""},{"$f":"IFERROR(INDEX(Brief!J:J,H69),0)","v":0},null,0,{"$f":"IF(D69=\"x\",W69,U69*(L69+IF(R69=\"\",0,R69)+IF(T69=\"\",0,T69))*(1+$X$2))","v":0},0,null,0,0,{"$f":"IF(U69=0,\"\",U69*K69)","v":""},"",{"$f":"IF(U69=0,\"\",IF($U$19=0,O69*U69,IF(ISBLANK(S69),O69*U69,S69*U69)))","v":""},null,null,null,null,null,null,{"$f":"IF(AE69=\"\",0,IF(AE69=0,0,1))","v":0},{"$f":"IF(AL69=1,SUM($AL$3:AL69),0)","v":0},0,{"$f":"IF(AN69=1,SUM($AN$3:AN69),0)","v":0}]
[null,null,null,null,{"$f":"IFERROR(INDEX('Podświetlanie modułów'!D:D,MATCH(I70,'Podświetlanie modułów'!B:B,0)),\"\")","v":""},"Submenu przykle","",{"$f":"IFERROR(MATCH(I70,Brief!AA:AA,0),\"\")","v":158},"Submenu przyklejane","od",2,{"$f":"K70*$L$2+(AC2*(K70*$L$2))","v":240},null,null,3,450,1.3,156,null,"",{"$f":"IFERROR(INDEX(Brief!J:J,H70),0)","v":0},null,0,0,{"$f":"IF($U$19>0,ROUNDUP(X70*(1+$Y$2),-1),ROUNDUP(W70*(1+$Y$2),-1))","v":0},null,{"$f":"U28","v":0},0,"","","",null,"https://czempionhurt.pl/o-nas/#rozwoj","https://www.kukko.com/pl/produkt/mp_12_alligator/","https://lightwood.pl/#sales","WP + autorski skrypt",null,0,{"$f":"IF(AL70=1,SUM($AL$3:AL70),0)","v":0},0,{"$f":"IF(AN70=1,SUM($AN$3:AN70),0)","v":0}]
["x",null,null,null,{"$f":"IFERROR(INDEX('Podświetlanie modułów'!D:D,MATCH(I71,'Podświetlanie modułów'!B:B,0)),\"\")","v":""},"Baner/wideo na ","",{"$f":"IFERROR(MATCH(I71,Brief!AA:AA,0),\"\")","v":159},"Baner/wideo na stronie głównej","od",2,{"$f":"K71*$L$2+(AC2*(K71*$L$2))","v":240},null,null,1,150,0.7,84,null,"",{"$f":"IFERROR(INDEX(Brief!J:J,H71),0)","v":0},"x",0,0,0,null,0,0,"","","",null,null,null,null,"ACF autorski skrypt",null,0,{"$f":"IF(AL71=1,SUM($AL$3:AL71),0)","v":0},0,{"$f":"IF(AN71=1,SUM($AN$3:AN71),0)","v":0}]
["x",null,null,null,{"$f":"IFERROR(INDEX('Podświetlanie modułów'!D:D,MATCH(I72,'Podświetlanie modułów'!B:B,0)),\"\")","v":""},"Slider BASIC (1","",{"$f":"IFERROR(MATCH(I72,Brief!AA:AA,0),\"\")","v":160},"Slider BASIC (1 szt)",null,2,{"$f":"K72*$L$2+(AC2*(K72*$L$2))","v":240},null,null,1,150,0.8,96,null,"",{"$f":"IFERROR(INDEX(Brief!J:J,H72),0)","v":0},"x",0,0,0,null,0,0,"","","",null,null,null,null,"ACF autorski skrypt",null,0,{"$f":"IF(AL72=1,SUM($AL$3:AL72),0)","v":0},0,{"$f":"IF(AN72=1,SUM($AN$3:AN72),0)","v":0}]
["x","x",null,null,{"$f":"IFERROR(INDEX('Podświetlanie modułów'!D:D,MATCH(I73,'Podświetlanie modułów'!B:B,0)),\"\")","v":""},"Utworzenie kole","",{"$f":"IFERROR(MATCH(I73,Brief!AA:AA,0),\"\")","v":161},"Utworzenie kolejnego slajdu na slider (1 szt)",null,2,{"$f":"K73*$L$2+(AC2*(K73*$L$2))","v":240},0.4,{"$f":"M73*$N$2+($AD$2*(M73*$N$2))","v":48},0,0,0.4,48,null,"",{"$f":"IFERROR(INDEX(Brief!J:J,H73),0)","v":0},"x",{"$f":"U73*(L73+N73+P73)*(1+$W$2)","v":0},0,0,null,0,{"$f":"Z73*AA73","v":0},"","","",null,null,null,null,"ACF autorski skrypt",null,0,{"$f":"IF(AL73=1,SUM($AL$3:AL73),0)","v":0},0,{"$f":"IF(AN73=1,SUM($AN$3:AN73),0)","v":0}]
["x",null,null,"x",{"$f":"IFERROR(INDEX('Podświetlanie modułów'!D:D,MATCH(I74,'Podświetlanie modułów'!B:B,0)),\"\")","v":""},"Slider PREMIUM ","",{"$f":"IFERROR(MATCH(I74,Brief!AA:AA,0),\"\")","v":162},"Slider PREMIUM (1 szt)","od",3,{"$f":"K74*$L$2+(AC2*(K74*$L$2))","v":360},null,null,2,300,null,"",null,"",{"$f":"IFERROR(INDEX(Brief!J:J,H74),0)","v":0},null,{"$f":"U74*(L74+P74)*(1+$W$2)","v":0},0,0,null,0,0,"","","",null,null,null,null,"ACF autorski skrypt",null,0,{"$f":"IF(AL74=1,SUM($AL$3:AL74),0)","v":0},0,{"$f":"IF(AN74=1,SUM($AN$3:AN74),0)","v":0}]
[null,null,null,null,{"$f":"IFERROR(INDEX('Podświetlanie modułów'!D:D,MATCH(I75,'Podświetlanie modułów'!B:B,0)),\"\")","v":""},"Slider w treści","",{"$f":"IFERROR(MATCH(I75,Brief!AA:AA,0),\"\")","v":163},"Slider w treści (Elementor)",null,1,{"$f":"K75*$L$2+(AC2*(K75*$L$2))","v":120},null,null,1,150,1,120,null,"",{"$f":"IFERROR(INDEX(Brief!J:J,H75),0)","v":0},null,0,0,0,null,0,0,"","","",null,null,null,null,"Elementor",null,0,{"$f":"IF(AL75=1,SUM($AL$3:AL75),0)","v":0},0,{"$f":"IF(AN75=1,SUM($AN$3:AN75),0)","v":0}]
["x",null,null,null,{"$f":"IFERROR(INDEX('Podświetlanie modułów'!D:D,MATCH(I76,'Podświetlanie modułów'!B:B,0)),\"\")","v":""},"Galeria zdjęć (","",{"$f":"IFERROR(MATCH(I76,Brief!AA:AA,0),\"\")","v":164},"Galeria zdjęć (podstawowa)",null,0,{"$f":"K76*$L$2+(AC2*(K76*$L$2))","v":0},null,null,1.5,225,0.3,36,null,"",{"$f":"IFERROR(INDEX(Brief!J:J,H76),0)","v":0},"x",0,0,0,null,0,0,"","","",null,"http://smoczewzgorze.pl/galeria/kraciaste-marynary-historia-rock-and-rolla-2/",null,null,"WP, wlasny post type",null,0,{"$f":"IF(AL76=1,SUM($AL$3:AL76),0)","v":0},0,{"$f":"IF(AN76=1,SUM($AN$3:AN76),0)","v":0}]
["x",null,null,null,{"$f":"IFERROR(INDEX('Podświetlanie modułów'!D:D,MATCH(I77,'Podświetlanie modułów'!B:B,0)),\"\")","v":""},"Galeria zdjęć (","",{"$f":"IFERROR(MATCH(I77,Brief!AA:AA,0),\"\")","v":165},"Galeria zdjęć (Elementor)",null,0.5,{"$f":"K77*$L$2+(AC2*(K77*$L$2))","v":60},null,null,1,150,0.3,36,null,"",{"$f":"IFERROR(INDEX(Brief!J:J,H77),0)","v":0},null,0,0,0,null,0,0,"","","",null,null,null,null,"Elementor",null,0,{"$f":"IF(AL77=1,SUM($AL$3:AL77),0)","v":0},0,{"$f":"IF(AN77=1,SUM($AN$3:AN77),0)","v":0}]
[null,null,null,"x",{"$f":"IFERROR(INDEX('Podświetlanie modułów'!D:D,MATCH(I78,'Podświetlanie modułów'!B:B,0)),\"\")","v":""},"Galeria zdjęć P","",{"$f":"IFERROR(MATCH(I78,Brief!AA:AA,0),\"\")","v":166},"Galeria zdjęć PREMIUM","od",2,{"$f":"K78*$L$2+(AC2*(K78*$L$2))","v":240},null,null,2,300,null,"",null,"",{"$f":"IFERROR(INDEX(Brief!J:J,H78),0)","v":0},null,0,0,0,null,0,0,"","","",null,"https://xaris.pl/branze/","https://studiokreacja.pl/kategorie-realizacji/case-study/ ",null,"WP",null,0,{"$f":"IF(AL78=1,SUM($AL$3:AL78),0)","v":0},0,{"$f":"IF(AN78=1,SUM($AN$3:AN78),0)","v":0}]
["x",null,null,"x",{"$f":"IFERROR(INDEX('Podświetlanie modułów'!D:D,MATCH(I79,'Podświetlanie modułów'!B:B,0)),\"\")","v":""},"Biblioteka medi","",{"$f":"IFERROR(MATCH(I79,Brief!AA:AA,0),\"\")","v":167},"Biblioteka mediów",null,null,{"$f":"K79*$L$2+(AC2*(K79*$L$2))","v":0},null,null,null,0,null,"",null,"",{"$f":"IFERROR(INDEX(Brief!J:J,H79),0)","v":0},"x",0,0,0,null,0,0,"","","",null,null,null,null,"WP",null,0,{"$f":"IF(AL79=1,SUM($AL$3:AL79),0)","v":0},0,{"$f":"IF(AN79=1,SUM($AN$3:AN79),0)","v":0}]
[null,null,null,null,{"$f":"IFERROR(INDEX('Podświetlanie modułów'!D:D,MATCH(I80,'Podświetlanie modułów'!B:B,0)),\"\")","v":""},"Foldery w bibli","",{"$f":"IFERROR(MATCH(I80,Brief!AA:AA,0),\"\")","v":168},"Foldery w bibliotece mediów",null,0,{"$f":"K80*$L$2+(AC2*(K80*$L$2))","v":0},null,null,0.2,30,0.2,24,null,"",{"$f":"IFERROR(INDEX(Brief!J:J,H80),0)","v":0},null,0,0,0,120,0,0,"","","",null,null,null,null,"https://www.joomunited.com/wordpress-products/wp-media-folder",null,0,{"$f":"IF(AL80=1,SUM($AL$3:AL80),0)","v":0},0,{"$f":"IF(AN80=1,SUM($AN$3:AN80),0)","v":0}]
["x",null,null,null,{"$f":"IFERROR(INDEX('Podświetlanie modułów'!D:D,MATCH(I81,'Podświetlanie modułów'!B:B,0)),\"\")","v":""},"Mapa jako obraz","",{"$f":"IFERROR(MATCH(I81,Brief!AA:AA,0),\"\")","v":""},"Mapa jako obrazek z Google Mapy (bez interaktywności)",null,0.4,{"$f":"K81*$L$2+(AC2*(K81*$L$2))","v":48},null,null,0.2,30,0.2,24,null,"",{"$f":"IFERROR(INDEX(Brief!J:J,H81),0)","v":0},null,0,0,0,null,0,0,"","","",null,null,null,null,null,null,0,{"$f":"IF(AL81=1,SUM($AL$3:AL81),0)","v":0},0,{"$f":"IF(AN81=1,SUM($AN$3:AN81),0)","v":0}]
["x",null,null,null,{"$f":"IFERROR(INDEX('Podświetlanie modułów'!D:D,MATCH(I82,'Podświetlanie modułów'!B:B,0)),\"\")","v":0},"Mapa prosta Goo","",{"$f":"IFERROR(MATCH(I82,Brief!AA:AA,0),\"\")","v":169},"Mapa prosta Google Mapy",null,0.2,{"$f":"K82*$L$2+(AC2*(K82*$L$2))","v":24},null,null,0.2,30,0.2,24,null,"",{"$f":"IFERROR(INDEX(Brief!J:J,H82),0)","v":0},"x",0,0,0,null,0,0,"","","",null,null,null,null,null,null,0,{"$f":"IF(AL82=1,SUM($AL$3:AL82),0)","v":0},0,{"$f":"IF(AN82=1,SUM($AN$3:AN82),0)","v":0}]
["x",null,null,"x",{"$f":"IFERROR(INDEX('Podświetlanie modułów'!D:D,MATCH(I83,'Podświetlanie modułów'!B:B,0)),\"\")","v":""},"Mapa interaktyw","",{"$f":"IFERROR(MATCH(I83,Brief!AA:AA,0),\"\")","v":""},"Mapa interaktywna Google Mapy (API)",null,0.4,{"$f":"K83*$L$2+(AC2*(K83*$L$2))","v":48},null,null,2,300,null,"",null,"",{"$f":"IFERROR(INDEX(Brief!J:J,H83),0)","v":0},null,0,0,0,null,0,0,"",{"$f":"IF(U83=0,\"\",IF($U$19=0,M83*U83,IF(ISBLANK(Q83),M83*U83,Q83*U83)))","v":""},"",null,null,null,null,null,null,0,{"$f":"IF(AL83=1,SUM($AL$3:AL83),0)","v":0},0,{"$f":"IF(AN83=1,SUM($AN$3:AN83),0)","v":0}]
[null,null,null,null,{"$f":"IFERROR(INDEX('Podświetlanie modułów'!D:D,MATCH(I84,'Podświetlanie modułów'!B:B,0)),\"\")","v":""},"Mapa graficzna ","",{"$f":"IFERROR(MATCH(I84,Brief!AA:AA,0),\"\")","v":""},"Mapa graficzna (sytuacjna)","od",2,{"$f":"K84*$L$2+(AC2*(K84*$L$2))","v":240},null,null,0.5,75,0.3,36,null,"",{"$f":"IFERROR(INDEX(Brief!J:J,H84),0)","v":0},null,0,0,0,null,0,0,"","","",null,null,null,null,null,null,0,{"$f":"IF(AL84=1,SUM($AL$3:AL84),0)","v":0},0,{"$f":"IF(AN84=1,SUM($AN$3:AN84),0)","v":0}]
[null,null,null,null,{"$f":"IFERROR(INDEX('Podświetlanie modułów'!D:D,MATCH(I85,'Podświetlanie modułów'!B:B,0)),\"\")","v":""},"Mapa graficzna ","",{"$f":"IFERROR(MATCH(I85,Brief!AA:AA,0),\"\")","v":""},"Mapa graficzna (sytuacyjna) + interaktywność","od",null,{"$f":"K85*$L$2+(AC2*(K85*$L$2))","v":0},null,null,1,150,1.2,144,null,"",{"$f":"IFERROR(INDEX(Brief!J:J,H85),0)","v":0},null,0,0,0,null,0,{"$f":"Z85*AA85","v":0},"","","",null,null,null,null,null,null,0,{"$f":"IF(AL85=1,SUM($AL$3:AL85),0)","v":0},0,{"$f":"IF(AN85=1,SUM($AN$3:AN85),0)","v":0}]
["x",null,null,null,{"$f":"IFERROR(INDEX('Podświetlanie modułów'!D:D,MATCH(I86,'Podświetlanie modułów'!B:B,0)),\"\")","v":""},"Wyszukiwarka po","",{"$f":"IFERROR(MATCH(I86,Brief!AA:AA,0),\"\")","v":""},"Wyszukiwarka podstawowa tekstowa",null,1,{"$f":"K86*$L$2+(AC2*(K86*$L$2))","v":120},null,null,2,300,1.5,180,null,"",{"$f":"IFERROR(INDEX(Brief!J:J,H86),0)","v":0},"x",0,0,0,null,0,{"$f":"Z86*AA86","v":0},"","","",null,"https://studiokreacja.pl/?s=google",null,null,"WP",null,0,{"$f":"IF(AL86=1,SUM($AL$3:AL86),0)","v":0},0,{"$f":"IF(AN86=1,SUM($AN$3:AN86),0)","v":0}]
["x",null,null,"x",{"$f":"IFERROR(INDEX('Podświetlanie modułów'!D:D,MATCH(I87,'Podświetlanie modułów'!B:B,0)),\"\")","v":""},"Wyszukiwarka po","",{"$f":"IFERROR(MATCH(I87,Brief!AA:AA,0),\"\")","v":170},"Wyszukiwarka podstawowa z obrazkami",null,1,{"$f":"K87*$L$2+(AC2*(K87*$L$2))","v":120},null,null,3,450,null,"",null,"",{"$f":"IFERROR(INDEX(Brief!J:J,H87),0)","v":0},"x",{"$f":"U87*(L87+P87)*(1+$W$2)","v":0},0,0,null,0,0,"","","",null,"https://pandrwal.pl/?s=olejek","https://safetech.net.pl/?s=detektor",null,"WP",null,0,{"$f":"IF(AL87=1,SUM($AL$3:AL87),0)","v":0},0,{"$f":"IF(AN87=1,SUM($AN$3:AN87),0)","v":0}]
["x",null,null,"x",{"$f":"IFERROR(INDEX('Podświetlanie modułów'!D:D,MATCH(I88,'Podświetlanie modułów'!B:B,0)),\"\")","v":""},"Wyszukiwarka z ","",{"$f":"IFERROR(MATCH(I88,Brief!AA:AA,0),\"\")","v":""},"Wyszukiwarka z wynikami dynamicznymi","od",1,{"$f":"K88*$L$2+(AC2*(K88*$L$2))","v":120},null,null,4,600,null,"",null,"",{"$f":"IFERROR(INDEX(Brief!J:J,H88),0)","v":0},null,0,0,0,null,0,0,"","","",null,"https://colson.pl/","http://www.stomil-poznan.pl/","https://cmt-advisory.pl/","WP własny skrypt",null,0,{"$f":"IF(AL88=1,SUM($AL$3:AL88),0)","v":0},0,{"$f":"IF(AN88=1,SUM($AN$3:AN88),0)","v":0}]
["x",null,null,null,{"$f":"IFERROR(INDEX('Podświetlanie modułów'!D:D,MATCH(I89,'Podświetlanie modułów'!B:B,0)),\"\")","v":0},"Formularz konta","",{"$f":"IFERROR(MATCH(I89,Brief!AA:AA,0),\"\")","v":171},"Formularz kontaktowy (5 pól)",null,0.5,{"$f":"K89*$L$2+(AC2*(K89*$L$2))","v":60},null,null,1,150,0.6,72,null,"",{"$f":"IFERROR(INDEX(Brief!J:J,H89),0)","v":1},"x",231.00000000000003,145.20000000000002,250,null,0,0,0.5,0,1,null,"https://biznes.leszno.pl/kontakt/",null,null,"CF7",null,1,{"$f":"IF(AL89=1,SUM($AL$3:AL89),0)","v":2},0,{"$f":"IF(AN89=1,SUM($AN$3:AN89),0)","v":0}]
[null,null,null,null,{"$f":"IFERROR(INDEX('Podświetlanie modułów'!D:D,MATCH(I90,'Podświetlanie modułów'!B:B,0)),\"\")","v":""},"Formularz konta","",{"$f":"IFERROR(MATCH(I90,Brief!AA:AA,0),\"\")","v":172},"Formularz kontaktowy (15 pól)",null,1,{"$f":"K90*$L$2+(AC2*(K90*$L$2))","v":120},null,null,2,300,0.9,108,null,"",{"$f":"IFERROR(INDEX(Brief!J:J,H90),0)","v":0},null,0,0,0,null,0,0,"","","",null,"http://cambio.com.pl/#kontakt",null,null,"CF7",null,0,{"$f":"IF(AL90=1,SUM($AL$3:AL90),0)","v":0},0,{"$f":"IF(AN90=1,SUM($AN$3:AN90),0)","v":0}]
[null,null,null,null,{"$f":"IFERROR(INDEX('Podświetlanie modułów'!D:D,MATCH(I91,'Podświetlanie modułów'!B:B,0)),\"\")","v":""},"Formularz konta","",{"$f":"IFERROR(MATCH(I91,Brief!AA:AA,0),\"\")","v":173},"Formularz kontaktowy z etapami (kroki)",null,2,{"$f":"K91*$L$2+(AC2*(K91*$L$2))","v":240},null,null,4,600,1.2,144,null,"",{"$f":"IFERROR(INDEX(Brief!J:J,H91),0)","v":0},null,0,0,0,null,0,0,"","","",null,null,null,null,"CF7",null,0,{"$f":"IF(AL91=1,SUM($AL$3:AL91),0)","v":0},0,{"$f":"IF(AN91=1,SUM($AN$3:AN91),0)","v":0}]
[null,null,null,"x",{"$f":"IFERROR(INDEX('Podświetlanie modułów'!D:D,MATCH(I92,'Podświetlanie modułów'!B:B,0)),\"\")","v":""},"Formularz konta","",{"$f":"IFERROR(MATCH(I92,Brief!AA:AA,0),\"\")","v":174},"Formularz kontaktowy z wizualizacją","od",2,{"$f":"K92*$L$2+(AC2*(K92*$L$2))","v":240},null,null,5,750,null,"",null,"",{"$f":"IFERROR(INDEX(Brief!J:J,H92),0)","v":0},null,0,0,0,null,0,0,"","","",null,"http://mojapolisaonline.pl/",null,null,"CF7",null,0,{"$f":"IF(AL92=1,SUM($AL$3:AL92),0)","v":0},0,{"$f":"IF(AN92=1,SUM($AN$3:AN92),0)","v":0}]
["x","x",null,null,{"$f":"IFERROR(INDEX('Podświetlanie modułów'!D:D,MATCH(I93,'Podświetlanie modułów'!B:B,0)),\"\")","v":""},"Logotypy - rota","",{"$f":"IFERROR(MATCH(I93,Brief!AA:AA,0),\"\")","v":175},"Logotypy - rotator (do 10 szt)",null,2,{"$f":"K93*$L$2+(AC2*(K93*$L$2))","v":240},0.5,{"$f":"M93*$N$2+($AD$2*(M93*$N$2))","v":60},1,150,0.7,84,null,"",{"$f":"IFERROR(INDEX(Brief!J:J,H93),0)","v":1},null,{"$f":"U93*(L93+N93+P93)*(1+$W$2)","v":495.00000000000006},356.40000000000003,530,null,0,0,2,0.5,1,null,null,null,null,null,null,1,{"$f":"IF(AL93=1,SUM($AL$3:AL93),0)","v":3},1,{"$f":"IF(AN93=1,SUM($AN$3:AN93),0)","v":1}]
[null,null,null,null,{"$f":"IFERROR(INDEX('Podświetlanie modułów'!D:D,MATCH(I94,'Podświetlanie modułów'!B:B,0)),\"\")","v":""},"Dodatkowy moduł","",{"$f":"IFERROR(MATCH(I94,Brief!AA:AA,0),\"\")","v":176},{"$f":"\"Dodatkowy moduł \"&(COUNTIF($F$4:F93,\"Dodatkowy moduł\")+1)","v":"Dodatkowy moduł 6"},null,null,{"$f":"K94*$L$2+(AC2*(K94*$L$2))","v":0},null,null,null,0,null,"",null,"",{"$f":"IFERROR(INDEX(Brief!J:J,H94),0)","v":0},null,{"$f":"U94*(L94+P94)*(1+$W$2)","v":0},0,0,null,0,0,"","","",null,null,null,null,null,null,0,{"$f":"IF(AL94=1,SUM($AL$3:AL94),0)","v":0},0,{"$f":"IF(AN94=1,SUM($AN$3:AN94),0)","v":0}]
[null,null,null,null,{"$f":"IFERROR(INDEX('Podświetlanie modułów'!D:D,MATCH(I95,'Podświetlanie modułów'!B:B,0)),\"\")","v":""},"Dodatkowy moduł","",{"$f":"IFERROR(MATCH(I95,Brief!AA:AA,0),\"\")","v":177},{"$f":"\"Dodatkowy moduł \"&(COUNTIF($F$4:F94,\"Dodatkowy moduł\")+1)","v":"Dodatkowy moduł 7"},null,null,{"$f":"K95*$L$2+(AC2*(K95*$L$2))","v":0},null,null,null,0,null,"",null,"",{"$f":"IFERROR(INDEX(Brief!J:J,H95),0)","v":0},null,{"$f":"U95*(L95+P95)*(1+$W$2)","v":0},0,0,null,0,0,"","","",null,null,null,null,null,null,0,{"$f":"IF(AL95=1,SUM($AL$3:AL95),0)","v":0},0,{"$f":"IF(AN95=1,SUM($AN$3:AN95),0)","v":0}]
[null,null,null,null,{"$f":"IFERROR(INDEX('Podświetlanie modułów'!D:D,MATCH(I96,'Podświetlanie modułów'!B:B,0)),\"\")","v":""},"Dodatkowy moduł","",{"$f":"IFERROR(MATCH(I96,Brief!AA:AA,0),\"\")","v":178},{"$f":"\"Dodatkowy moduł \"&(COUNTIF($F$4:F95,\"Dodatkowy moduł\")+1)","v":"Dodatkowy moduł 8"},null,null,{"$f":"K96*$L$2+(AC2*(K96*$L$2))","v":0},null,null,null,0,null,"",null,"",{"$f":"IFERROR(INDEX(Brief!J:J,H96),0)","v":0},null,{"$f":"U96*(L96+P96)*(1+$W$2)","v":0},0,0,null,0,0,"","","",null,null,null,null,null,null,0,{"$f":"IF(AL96=1,SUM($AL$3:AL96),0)","v":0},0,{"$f":"IF(AN96=1,SUM($AN$3:AN96),0)","v":0}]
[null,null,null,null,{"$f":"IFERROR(INDEX('Podświetlanie modułów'!D:D,MATCH(I97,'Podświetlanie modułów'!B:B,0)),\"\")","v":""},"Dodatkowy moduł","",{"$f":"IFERROR(MATCH(I97,Brief!AA:AA,0),\"\")","v":179},{"$f":"\"Dodatkowy moduł \"&(COUNTIF($F$4:F96,\"Dodatkowy moduł\")+1)","v":"Dodatkowy moduł 9"},null,null,{"$f":"K97*$L$2+(AC2*(K97*$L$2))","v":0},null,null,null,0,null,"",null,"",{"$f":"IFERROR(INDEX(Brief!J:J,H97),0)","v":0},null,{"$f":"U97*(L97+P97)*(1+$W$2)","v":0},0,0,null,0,0,"","","",null,null,null,null,null,null,0,{"$f":"IF(AL97=1,SUM($AL$3:AL97),0)","v":0},0,{"$f":"IF(AN97=1,SUM($AN$3:AN97),0)","v":0}]
[null,null,null,null,{"$f":"IFERROR(INDEX('Podświetlanie modułów'!D:D,MATCH(I98,'Podświetlanie modułów'!B:B,0)),\"\")","v":""},"Pliki do pobran","",{"$f":"IFERROR(MATCH(I98,Brief!AA:AA,0),\"\")","v":""},"Pliki do pobrania",null,null,null,null,null,null,null,null,null,null,null,null,null,null,null,null,null,null,null,"","","",null,null,null,null,null,null,0,{"$f":"IF(AL98=1,SUM($AL$3:AL98),0)","v":0},0,{"$f":"IF(AN98=1,SUM($AN$3:AN98),0)","v":0}]
[null,null,null,null,{"$f":"IFERROR(INDEX('Podświetlanie modułów'!D:D,MATCH(I99,'Podświetlanie modułów'!B:B,0)),\"\")","v":""},"Dostęp do tajny","",{"$f":"IFERROR(MATCH(I99,Brief!AA:AA,0),\"\")","v":181},"Dostęp do tajnych treści ",null,0.2,{"$f":"K99*$L$2+(AC2*(K99*$L$2))","v":24},null,null,0.5,75,0.3,36,null,"",{"$f":"IFERROR(INDEX(Brief!J:J,H99),0)","v":0},null,{"$f":"U99*(L99+P99)*(1+$W$2)","v":0},0,{"$f":"IF($U$19>0,ROUNDUP(X99*(1+$Y$2),-1),ROUNDUP(W99*(1+$Y$2),-1))","v":0},null,{"$f":"U99","v":0},{"$f":"Z99*AA99","v":0},"","","",null,"http://krol-bhp.pl/panel-klienta-e-szkolenia/",null,null,"WP, Page Restrict",null,0,{"$f":"IF(AL99=1,SUM($AL$3:AL99),0)","v":0},0,{"$f":"IF(AN99=1,SUM($AN$3:AN99),0)","v":0}]
["x",null,null,"x",{"$f":"IFERROR(INDEX('Podświetlanie modułów'!D:D,MATCH(I100,'Podświetlanie modułów'!B:B,0)),\"\")","v":""},"Załączniki i pl","",{"$f":"IFERROR(MATCH(I100,Brief!AA:AA,0),\"\")","v":182},"Załączniki i pliki do pobrania (w treści)",null,0.1,{"$f":"K100*$L$2+(AC2*(K100*$L$2))","v":12},null,null,0,0,null,"",null,"",{"$f":"IFERROR(INDEX(Brief!J:J,H100),0)","v":0},"x",{"$f":"U100*(L100+P100)*(1+$W$2)","v":0},0,{"$f":"IF($U$19>0,ROUNDUP(X100*(1+$Y$2),-1),ROUNDUP(W100*(1+$Y$2),-1))","v":0},null,{"$f":"U100","v":0},{"$f":"Z100*AA100","v":0},"","","",null,"https://biznes.leszno.pl/do-pobrania/",null,null,"WP",null,0,{"$f":"IF(AL100=1,SUM($AL$3:AL100),0)","v":0},0,{"$f":"IF(AN100=1,SUM($AN$3:AN100),0)","v":0}]
[null,null,null,"x",{"$f":"IFERROR(INDEX('Podświetlanie modułów'!D:D,MATCH(I101,'Podświetlanie modułów'!B:B,0)),\"\")","v":0},"Załączniki i pl","",{"$f":"IFERROR(MATCH(I101,Brief!AA:AA,0),\"\")","v":183},"Załączniki i pliki do pobrania (osobny moduł)",null,1,{"$f":"K101*$L$2+(AC2*(K101*$L$2))","v":120},null,null,1,150,null,"",null,"",{"$f":"IFERROR(INDEX(Brief!J:J,H101),0)","v":0},null,{"$f":"U101*(L101+P101)*(1+$W$2)","v":0},0,{"$f":"IF($U$19>0,ROUNDUP(X101*(1+$Y$2),-1),ROUNDUP(W101*(1+$Y$2),-1))","v":0},null,{"$f":"U101","v":0},{"$f":"Z101*AA101","v":0},"","","",null,null,null,null,"ACF",null,0,{"$f":"IF(AL101=1,SUM($AL$3:AL101),0)","v":0},0,{"$f":"IF(AN101=1,SUM($AN$3:AN101),0)","v":0}]
[null,null,null,null,{"$f":"IFERROR(INDEX('Podświetlanie modułów'!D:D,MATCH(I102,'Podświetlanie modułów'!B:B,0)),\"\")","v":""},"Dodatkowy moduł","",{"$f":"IFERROR(MATCH(I102,Brief!AA:AA,0),\"\")","v":184},{"$f":"\"Dodatkowy moduł \"&(COUNTIF($F$4:F101,\"Dodatkowy moduł\")+1)","v":"Dodatkowy moduł 10"},null,null,{"$f":"K102*$L$2+(AC2*(K102*$L$2))","v":0},null,null,null,0,null,"",null,"",{"$f":"IFERROR(INDEX(Brief!J:J,H102),0)","v":0},null,{"$f":"U102*(L102+P102)*(1+$W$2)","v":0},0,{"$f":"IF($U$19>0,ROUNDUP(X102*(1+$Y$2),-1),ROUNDUP(W102*(1+$Y$2),-1))","v":0},null,{"$f":"U102","v":0},{"$f":"Z102*AA102","v":0},"","","",null,null,null,null,null,null,0,{"$f":"IF(AL102=1,SUM($AL$3:AL102),0)","v":0},0,{"$f":"IF(AN102=1,SUM($AN$3:AN102),0)","v":0}]
[null,null,null,null,{"$f":"IFERROR(INDEX('Podświetlanie modułów'!D:D,MATCH(I103,'Podświetlanie modułów'!B:B,0)),\"\")","v":""},"Dodatkowy moduł","",{"$f":"IFERROR(MATCH(I103,Brief!AA:AA,0),\"\")","v":185},{"$f":"\"Dodatkowy moduł \"&(COUNTIF($F$4:F102,\"Dodatkowy moduł\")+1)","v":"Dodatkowy moduł 11"},null,null,{"$f":"K103*$L$2+(AC2*(K103*$L$2))","v":0},null,null,null,0,null,"",null,"",{"$f":"IFERROR(INDEX(Brief!J:J,H103),0)","v":0},null,{"$f":"U103*(L103+P103)*(1+$W$2)","v":0},0,{"$f":"IF($U$19>0,ROUNDUP(X103*(1+$Y$2),-1),ROUNDUP(W103*(1+$Y$2),-1))","v":0},null,{"$f":"U103","v":0},{"$f":"Z103*AA103","v":0},"","","",null,null,null,null,null,null,0,{"$f":"IF(AL103=1,SUM($AL$3:AL103),0)","v":0},0,{"$f":"IF(AN103=1,SUM($AN$3:AN103),0)","v":0}]
[null,null,null,null,{"$f":"IFERROR(INDEX('Podświetlanie modułów'!D:D,MATCH(I104,'Podświetlanie modułów'!B:B,0)),\"\")","v":""},"Marketing","",{"$f":"IFERROR(MATCH(I104,Brief!AA:AA,0),\"\")","v":""},"Marketing",null,null,null,null,null,null,null,null,null,null,null,null,null,null,null,null,null,null,null,"","","",null,null,null,null,null,null,0,{"$f":"IF(AL104=1,SUM($AL$3:AL104),0)","v":0},0,{"$f":"IF(AN104=1,SUM($AN$3:AN104),0)","v":0}]
["x",null,null,null,{"$f":"IFERROR(INDEX('Podświetlanie modułów'!D:D,MATCH(I105,'Podświetlanie modułów'!B:B,0)),\"\")","v":""},"Box Facebooka n","",{"$f":"IFERROR(MATCH(I105,Brief!AA:AA,0),\"\")","v":187},"Box Facebooka na stronie",null,0.3,{"$f":"K105*$L$2+(AC2*(K105*$L$2))","v":36},null,null,0.3,45,0.3,36,null,"",{"$f":"IFERROR(INDEX(Brief!J:J,H105),0)","v":0},null,{"$f":"U105*(L105+P105)*(1+$W$2)","v":0},0,{"$f":"IF($U$19>0,ROUNDUP(X105*(1+$Y$2),-1),ROUNDUP(W105*(1+$Y$2),-1))","v":0},null,{"$f":"U105","v":0},{"$f":"Z105*AA105","v":0},"",{"$f":"IF(U105=0,\"\",IF($U$19=0,M105*U105,IF(ISBLANK(Q105),M105*U105,Q105*U105)))","v":""},"",null,"https://madebykarlik.pl/",null,null,"WP własny skrypt",null,0,{"$f":"IF(AL105=1,SUM($AL$3:AL105),0)","v":0},0,{"$f":"IF(AN105=1,SUM($AN$3:AN105),0)","v":0}]
["x",null,null,"x",{"$f":"IFERROR(INDEX('Podświetlanie modułów'!D:D,MATCH(I106,'Podświetlanie modułów'!B:B,0)),\"\")","v":""},"Box Facebooka p","",{"$f":"IFERROR(MATCH(I106,Brief!AA:AA,0),\"\")","v":188},"Box Facebooka przyklejony do przeglądarki",null,0.3,{"$f":"K106*$L$2+(AC2*(K106*$L$2))","v":36},null,null,1,150,null,"",null,"",{"$f":"IFERROR(INDEX(Brief!J:J,H106),0)","v":0},null,{"$f":"U106*(L106+P106)*(1+$W$2)","v":0},0,0,null,0,0,"","","",null,null,null,null,"WP własny skrypt",null,0,{"$f":"IF(AL106=1,SUM($AL$3:AL106),0)","v":0},0,{"$f":"IF(AN106=1,SUM($AN$3:AN106),0)","v":0}]
["x",null,null,null,{"$f":"IFERROR(INDEX('Podświetlanie modułów'!D:D,MATCH(I107,'Podświetlanie modułów'!B:B,0)),\"\")","v":""},"Linki do Twoich","",{"$f":"IFERROR(MATCH(I107,Brief!AA:AA,0),\"\")","v":189},"Linki do Twoich social media",null,0.4,{"$f":"K107*$L$2+(AC2*(K107*$L$2))","v":48},null,null,0.5,75,0.2,24,null,"",{"$f":"IFERROR(INDEX(Brief!J:J,H107),0)","v":1},"x",{"$f":"U107*(L107+P107)*(1+$W$2)","v":135.30000000000001},79.2,150,null,1,0,0.4,0,0.5,null,null,null,null,"WP",null,1,{"$f":"IF(AL107=1,SUM($AL$3:AL107),0)","v":4},0,{"$f":"IF(AN107=1,SUM($AN$3:AN107),0)","v":0}]
["x",null,null,null,{"$f":"IFERROR(INDEX('Podświetlanie modułów'!D:D,MATCH(I108,'Podświetlanie modułów'!B:B,0)),\"\")","v":""},"Przyciski: Lubi","",{"$f":"IFERROR(MATCH(I108,Brief!AA:AA,0),\"\")","v":190},"Przyciski: Lubię to Udostępnij Tweetnij",null,0.2,{"$f":"K108*$L$2+(AC2*(K108*$L$2))","v":24},null,null,1,150,0.3,36,null,"",{"$f":"IFERROR(INDEX(Brief!J:J,H108),0)","v":0},null,{"$f":"U108*(L108+P108)*(1+$W$2)","v":0},0,0,null,0,0,"","","",null,null,null,null,"Really Simple Share",null,0,{"$f":"IF(AL108=1,SUM($AL$3:AL108),0)","v":0},0,{"$f":"IF(AN108=1,SUM($AN$3:AN108),0)","v":0}]
["x",null,null,"x",{"$f":"IFERROR(INDEX('Podświetlanie modułów'!D:D,MATCH(I109,'Podświetlanie modułów'!B:B,0)),\"\")","v":""},"Newsletter (int","",{"$f":"IFERROR(MATCH(I109,Brief!AA:AA,0),\"\")","v":191},"Newsletter (integracja formularza)",null,1,{"$f":"K109*$L$2+(AC2*(K109*$L$2))","v":120},null,null,2,300,null,"",null,"",{"$f":"IFERROR(INDEX(Brief!J:J,H109),0)","v":0},null,{"$f":"U109*(L109+P109)*(1+$W$2)","v":0},0,{"$f":"IF($U$19>0,ROUNDUP(X109*(1+$Y$2),-1),ROUNDUP(W109*(1+$Y$2),-1))","v":0},null,0,0,"","","",null,"https://biznes.leszno.pl/",null,null,"GetResponse, Freshmail, Mailchimp",null,0,{"$f":"IF(AL109=1,SUM($AL$3:AL109),0)","v":0},0,{"$f":"IF(AN109=1,SUM($AN$3:AN109),0)","v":0}]
["x",null,null,null,{"$f":"IFERROR(INDEX('Podświetlanie modułów'!D:D,MATCH(I110,'Podświetlanie modułów'!B:B,0)),\"\")","v":""},"PopUp (promocja","",{"$f":"IFERROR(MATCH(I110,Brief!AA:AA,0),\"\")","v":192},"PopUp (promocja lub informacja)",null,1,{"$f":"K110*$L$2+(AC2*(K110*$L$2))","v":120},2,{"$f":"M110*$N$2+($AD$2*(M110*$N$2))","v":240},0,0,2,240,null,"",{"$f":"IFERROR(INDEX(Brief!J:J,H110),0)","v":0},null,{"$f":"U110*(L110+N110+P110)*(1+$W$2)","v":0},0,0,null,0,0,"","","",null,"https://jack-strong.com/",null,null,"Elementor",null,0,{"$f":"IF(AL110=1,SUM($AL$3:AL110),0)","v":0},0,{"$f":"IF(AN110=1,SUM($AN$3:AN110),0)","v":0}]
["x",null,null,null,{"$f":"IFERROR(INDEX('Podświetlanie modułów'!D:D,MATCH(I111,'Podświetlanie modułów'!B:B,0)),\"\")","v":""},"PopUp (newslett","",{"$f":"IFERROR(MATCH(I111,Brief!AA:AA,0),\"\")","v":193},"PopUp (newsletter)",null,1,{"$f":"K111*$L$2+(AC2*(K111*$L$2))","v":120},null,null,2.5,375,2,240,null,"",{"$f":"IFERROR(INDEX(Brief!J:J,H111),0)","v":0},null,{"$f":"U111*(L111+P111)*(1+$W$2)","v":0},0,0,null,0,0,"","","",null,"https://jack-strong.com/",null,null,"Elementor",null,0,{"$f":"IF(AL111=1,SUM($AL$3:AL111),0)","v":0},0,{"$f":"IF(AN111=1,SUM($AN$3:AN111),0)","v":0}]
[null,"x",null,null,{"$f":"IFERROR(INDEX('Podświetlanie modułów'!D:D,MATCH(I112,'Podświetlanie modułów'!B:B,0)),\"\")","v":""},"Utworzenie kole","",{"$f":"IFERROR(MATCH(I112,Brief!AA:AA,0),\"\")","v":194},"Utworzenie kolejny - popup (grafika + treść)",null,1,{"$f":"K112*$L$2+(AC2*(K112*$L$2))","v":120},2,{"$f":"M112*$N$2+($AD$2*(M112*$N$2))","v":240},0,0,2,240,null,"",{"$f":"IFERROR(INDEX(Brief!J:J,H112),0)","v":0},null,{"$f":"U112*(L112+N112+P112)*(1+$W$2)","v":0},0,0,null,0,0,"","","",null,null,null,null,null,null,0,{"$f":"IF(AL112=1,SUM($AL$3:AL112),0)","v":0},0,{"$f":"IF(AN112=1,SUM($AN$3:AN112),0)","v":0}]
[null,null,null,null,{"$f":"IFERROR(INDEX('Podświetlanie modułów'!D:D,MATCH(I113,'Podświetlanie modułów'!B:B,0)),\"\")","v":""},"Dodatkowy moduł","",{"$f":"IFERROR(MATCH(I113,Brief!AA:AA,0),\"\")","v":195},{"$f":"\"Dodatkowy moduł \"&(COUNTIF($F$4:F112,\"Dodatkowy moduł\")+1)","v":"Dodatkowy moduł 12"},null,null,{"$f":"K113*$L$2+(AC2*(K113*$L$2))","v":0},null,null,null,0,null,"",null,"",{"$f":"IFERROR(INDEX(Brief!J:J,H113),0)","v":0},null,{"$f":"U113*(L113+P113)*(1+$W$2)","v":0},0,0,null,0,0,"","","",null,null,null,null,null,null,0,{"$f":"IF(AL113=1,SUM($AL$3:AL113),0)","v":0},0,{"$f":"IF(AN113=1,SUM($AN$3:AN113),0)","v":0}]
[null,null,null,null,{"$f":"IFERROR(INDEX('Podświetlanie modułów'!D:D,MATCH(I114,'Podświetlanie modułów'!B:B,0)),\"\")","v":""},"Dodatkowy moduł","",{"$f":"IFERROR(MATCH(I114,Brief!AA:AA,0),\"\")","v":196},{"$f":"\"Dodatkowy moduł \"&(COUNTIF($F$4:F113,\"Dodatkowy moduł\")+1)","v":"Dodatkowy moduł 13"},null,null,{"$f":"K114*$L$2+(AC2*(K114*$L$2))","v":0},null,null,null,0,null,"",null,"",{"$f":"IFERROR(INDEX(Brief!J:J,H114),0)","v":0},null,{"$f":"U114*(L114+P114)*(1+$W$2)","v":0},0,0,null,0,0,"","","",null,null,null,null,null,null,0,{"$f":"IF(AL114=1,SUM($AL$3:AL114),0)","v":0},0,{"$f":"IF(AN114=1,SUM($AN$3:AN114),0)","v":0}]
[null,null,null,null,{"$f":"IFERROR(INDEX('Podświetlanie modułów'!D:D,MATCH(I115,'Podświetlanie modułów'!B:B,0)),\"\")","v":""},"Dodatkowy moduł","",{"$f":"IFERROR(MATCH(I115,Brief!AA:AA,0),\"\")","v":197},{"$f":"\"Dodatkowy moduł \"&(COUNTIF($F$4:F114,\"Dodatkowy moduł\")+1)","v":"Dodatkowy moduł 14"},null,null,{"$f":"K115*$L$2+(AC2*(K115*$L$2))","v":0},null,null,null,0,null,"",null,"",{"$f":"IFERROR(INDEX(Brief!J:J,H115),0)","v":0},null,{"$f":"U115*(L115+P115)*(1+$W$2)","v":0},0,0,null,0,0,"","","",null,null,null,null,null,null,0,{"$f":"IF(AL115=1,SUM($AL$3:AL115),0)","v":0},0,{"$f":"IF(AN115=1,SUM($AN$3:AN115),0)","v":0}]
[null,null,null,null,{"$f":"IFERROR(INDEX('Podświetlanie modułów'!D:D,MATCH(I116,'Podświetlanie modułów'!B:B,0)),\"\")","v":""},"Optymalizacja p","",{"$f":"IFERROR(MATCH(I116,Brief!AA:AA,0),\"\")","v":""},"Optymalizacja pod Google",null,null,null,null,null,null,null,null,null,null,null,null,null,null,null,null,null,null,null,"","","",null,null,null,null,null,null,0,{"$f":"IF(AL116=1,SUM($AL$3:AL116),0)","v":0},0,{"$f":"IF(AN116=1,SUM($AN$3:AN116),0)","v":0}]
["x",null,null,"x",{"$f":"IFERROR(INDEX('Podświetlanie modułów'!D:D,MATCH(I117,'Podświetlanie modułów'!B:B,0)),\"\")","v":""},"SEO ustawienia ","",{"$f":"IFERROR(MATCH(I117,Brief!AA:AA,0),\"\")","v":199},"SEO ustawienia (Yoast SEO)",null,null,{"$f":"K117*$L$2+(AC2*(K117*$L$2))","v":0},0,{"$f":"M117*$N$2+($AD$2*(M117*$N$2))","v":0},0,0,null,"",null,"",{"$f":"IFERROR(INDEX(Brief!J:J,H117),0)","v":1},"x",{"$f":"U117*(L117+P117)*(1+$W$2)","v":0},0,{"$f":"IF($U$19>0,ROUNDUP(X117*(1+$Y$2),-1),ROUNDUP(W117*(1+$Y$2),-1))","v":0},null,{"$f":"U117","v":1},{"$f":"Z117*AA117","v":0},0,{"$f":"IF(U117=0,\"\",IF($U$19=0,M117*U117,IF(ISBLANK(Q117),M117*U117,Q117*U117)))","v":0},0,null,null,null,null,"SEO Yoast",null,0,{"$f":"IF(AL117=1,SUM($AL$3:AL117),0)","v":0},0,{"$f":"IF(AN117=1,SUM($AN$3:AN117),0)","v":0}]
["x","x",null,"x",{"$f":"IFERROR(INDEX('Podświetlanie modułów'!D:D,MATCH(I118,'Podświetlanie modułów'!B:B,0)),\"\")","v":""},{"$f":"LEFT(I118,15)","v":"Optymalizacja S"},"",{"$f":"IFERROR(MATCH(I118,Brief!AA:AA,0),\"\")","v":200},"Optymalizacja SEO - Tylko Strona główna ",null,null,{"$f":"K118*$L$2+(AC2*(K118*$L$2))","v":0},1,{"$f":"M118*$N$2+($AD$2*(M118*$N$2))","v":120},0,0,null,"",null,"",{"$f":"IFERROR(INDEX(Brief!J:J,H118),0)","v":1},"x",{"$f":"U118*(L118+N118)*(1+$W$2)","v":132},132,140,null,{"$f":"U118","v":1},0,0,{"$f":"IF(U118=0,\"\",IF($U$19=0,M118*U118,IF(ISBLANK(Q118),M118*U118,Q118*U118)))","v":1},0,null,null,null,null,null,null,0,{"$f":"IF(AL118=1,SUM($AL$3:AL118),0)","v":0},1,{"$f":"IF(AN118=1,SUM($AN$3:AN118),0)","v":2}]
["x","x",null,"x",{"$f":"IFERROR(INDEX('Podświetlanie modułów'!D:D,MATCH(I119,'Podświetlanie modułów'!B:B,0)),\"\")","v":""},"Optymalizacja S","",{"$f":"IFERROR(MATCH(I119,Brief!AA:AA,0),\"\")","v":201},"Optymalizacja SEO - Meta dane + H1 (1 strona)",null,null,{"$f":"K119*$L$2+(AC2*(K119*$L$2))","v":0},0.5,60,0,0,null,"",null,"",{"$f":"IFERROR(INDEX(Brief!J:J,H119),0)","v":0},null,{"$f":"U119*(L119+N119)*(1+$W$2)","v":0},0,0,null,0,0,"","","",null,null,null,null,null,null,0,{"$f":"IF(AL119=1,SUM($AL$3:AL119),0)","v":0},0,{"$f":"IF(AN119=1,SUM($AN$3:AN119),0)","v":0}]
["x","x",null,"x",{"$f":"IFERROR(INDEX('Podświetlanie modułów'!D:D,MATCH(I120,'Podświetlanie modułów'!B:B,0)),\"\")","v":""},"Optymalizacja S","",{"$f":"IFERROR(MATCH(I120,Brief!AA:AA,0),\"\")","v":202},"Optymalizacja SEO - Kompleksowa (1 strona)",null,null,{"$f":"K120*$L$2+(AC2*(K120*$L$2))","v":0},1,120,0.2,30,null,"",null,"",{"$f":"IFERROR(INDEX(Brief!J:J,H120),0)","v":0},null,{"$f":"U120*(L120+P120)*(1+$W$2)","v":0},0,0,null,0,0,"","","",null,null,null,null,null,null,0,{"$f":"IF(AL120=1,SUM($AL$3:AL120),0)","v":0},0,{"$f":"IF(AN120=1,SUM($AN$3:AN120),0)","v":0}]
[null,null,null,"x",{"$f":"IFERROR(INDEX('Podświetlanie modułów'!D:D,MATCH(I121,'Podświetlanie modułów'!B:B,0)),\"\")","v":""},"Przekierowania","",{"$f":"IFERROR(MATCH(I121,Brief!AA:AA,0),\"\")","v":203},"Przekierowania",null,null,{"$f":"K121*$L$2+(AC2*(K121*$L$2))","v":0},0.3,36,0,0,null,"",null,"",{"$f":"IFERROR(INDEX(Brief!J:J,H121),0)","v":0},null,{"$f":"U121*(L121+N121)*(1+$W$2)","v":0},0,0,null,0,0,"","","",null,null,null,null,"Redirection",null,0,{"$f":"IF(AL121=1,SUM($AL$3:AL121),0)","v":0},0,{"$f":"IF(AN121=1,SUM($AN$3:AN121),0)","v":0}]
[null,"x",null,"x",{"$f":"IFERROR(INDEX('Podświetlanie modułów'!D:D,MATCH(I122,'Podświetlanie modułów'!B:B,0)),\"\")","v":""},"Konfiguracja pr","",{"$f":"IFERROR(MATCH(I122,Brief!AA:AA,0),\"\")","v":204},"Konfiguracja przekierowania (1 szt)",null,null,{"$f":"K122*$L$2+(AC2*(K122*$L$2))","v":0},0.1,12,0,0,null,"",null,"",{"$f":"IFERROR(INDEX(Brief!J:J,H122),0)","v":0},null,{"$f":"U122*(L122+N122)*(1+$W$2)","v":0},0,0,null,0,0,"","","",null,null,null,null,null,null,0,{"$f":"IF(AL122=1,SUM($AL$3:AL122),0)","v":0},0,{"$f":"IF(AN122=1,SUM($AN$3:AN122),0)","v":0}]
[null,"x",null,"x",{"$f":"IFERROR(INDEX('Podświetlanie modułów'!D:D,MATCH(I123,'Podświetlanie modułów'!B:B,0)),\"\")","v":""},"Konfiguracja Ce","",{"$f":"IFERROR(MATCH(I123,Brief!AA:AA,0),\"\")","v":205},"Konfiguracja Certyfikat SSL na hostingu serwerkreacja",null,null,{"$f":"K123*$L$2+(AC2*(K123*$L$2))","v":0},0.5,60,0,0,null,"",null,"",{"$f":"IFERROR(INDEX(Brief!J:J,H123),0)","v":0},"x",{"$f":"U123*(L123+N123)*(1+$W$2)","v":0},0,0,null,0,0,"","","",null,null,null,null,null,null,0,{"$f":"IF(AL123=1,SUM($AL$3:AL123),0)","v":0},0,{"$f":"IF(AN123=1,SUM($AN$3:AN123),0)","v":0}]
[null,"x",null,"x",{"$f":"IFERROR(INDEX('Podświetlanie modułów'!D:D,MATCH(I124,'Podświetlanie modułów'!B:B,0)),\"\")","v":""},"Konfiguracja Ce","",{"$f":"IFERROR(MATCH(I124,Brief!AA:AA,0),\"\")","v":206},"Konfiguracja Certyfikat SSL na hostingu zewnętrznym","od",null,{"$f":"K124*$L$2+(AC2*(K124*$L$2))","v":0},0,0,2,300,null,"",null,"",{"$f":"IFERROR(INDEX(Brief!J:J,H124),0)","v":0},null,{"$f":"U124*(L124+P124)*(1+$W$2)","v":0},0,0,null,0,0,"","","",null,null,null,null,null,null,0,{"$f":"IF(AL124=1,SUM($AL$3:AL124),0)","v":0},0,{"$f":"IF(AN124=1,SUM($AN$3:AN124),0)","v":0}]
["x","x",null,"x",{"$f":"IFERROR(INDEX('Podświetlanie modułów'!D:D,MATCH(I125,'Podświetlanie modułów'!B:B,0)),\"\")","v":""},"Optymalizacja s","",{"$f":"IFERROR(MATCH(I125,Brief!AA:AA,0),\"\")","v":207},"Optymalizacja szybkości","od",null,{"$f":"K125*$L$2+(AC2*(K125*$L$2))","v":0},0,0,5,750,null,"",null,"",{"$f":"IFERROR(INDEX(Brief!J:J,H125),0)","v":0},null,{"$f":"U125*(L125+P125)*(1+$W$2)","v":0},0,0,null,0,0,"","","",null,null,null,null,null,null,0,{"$f":"IF(AL125=1,SUM($AL$3:AL125),0)","v":0},0,{"$f":"IF(AN125=1,SUM($AN$3:AN125),0)","v":0}]
["x",null,null,"x",{"$f":"IFERROR(INDEX('Podświetlanie modułów'!D:D,MATCH(I126,'Podświetlanie modułów'!B:B,0)),\"\")","v":""},"Statystyki Goog","",{"$f":"IFERROR(MATCH(I126,Brief!AA:AA,0),\"\")","v":208},"Statystyki Google Analytics",null,null,{"$f":"K126*$L$2+(AC2*(K126*$L$2))","v":0},0.5,60,0,0,null,"",null,"",{"$f":"IFERROR(INDEX(Brief!J:J,H126),0)","v":1},"x",{"$f":"U126*(L126+N126)*(1+$W$2)","v":66},66,70,null,1,0,0,0.5,0,null,null,null,null,null,null,0,{"$f":"IF(AL126=1,SUM($AL$3:AL126),0)","v":0},1,{"$f":"IF(AN126=1,SUM($AN$3:AN126),0)","v":3}]
[null,null,null,"x",{"$f":"IFERROR(INDEX('Podświetlanie modułów'!D:D,MATCH(I127,'Podświetlanie modułów'!B:B,0)),\"\")","v":""},"Statystyki Goog","",{"$f":"IFERROR(MATCH(I127,Brief!AA:AA,0),\"\")","v":209},"Statystyki Google Analytics - strony zewnętrzne",null,null,{"$f":"K127*$L$2+(AC2*(K127*$L$2))","v":0},1,120,0,0,null,"",null,"",{"$f":"IFERROR(INDEX(Brief!J:J,H127),0)","v":0},null,{"$f":"U127*(L127+N127)*(1+$W$2)","v":0},0,0,null,0,0,"","","",null,null,null,null,"Google Analytics",null,0,{"$f":"IF(AL127=1,SUM($AL$3:AL127),0)","v":0},0,{"$f":"IF(AN127=1,SUM($AN$3:AN127),0)","v":0}]
[null,null,null,null,{"$f":"IFERROR(INDEX('Podświetlanie modułów'!D:D,MATCH(I128,'Podświetlanie modułów'!B:B,0)),\"\")","v":""},"Dodatkowy moduł","",{"$f":"IFERROR(MATCH(I128,Brief!AA:AA,0),\"\")","v":210},{"$f":"\"Dodatkowy moduł \"&(COUNTIF($F$4:F127,\"Dodatkowy moduł\")+1)","v":"Dodatkowy moduł 15"},null,null,{"$f":"K128*$L$2+(AC2*(K128*$L$2))","v":0},null,0,null,0,null,"",null,"",{"$f":"IFERROR(INDEX(Brief!J:J,H128),0)","v":0},null,{"$f":"U128*(L128+N128+P128)*(1+$W$2)","v":0},0,0,null,0,0,"","","",null,null,null,null,null,null,0,{"$f":"IF(AL128=1,SUM($AL$3:AL128),0)","v":0},0,{"$f":"IF(AN128=1,SUM($AN$3:AN128),0)","v":0}]
[null,null,null,null,{"$f":"IFERROR(INDEX('Podświetlanie modułów'!D:D,MATCH(I129,'Podświetlanie modułów'!B:B,0)),\"\")","v":""},"Dodatkowy moduł","",{"$f":"IFERROR(MATCH(I129,Brief!AA:AA,0),\"\")","v":211},{"$f":"\"Dodatkowy moduł \"&(COUNTIF($F$4:F128,\"Dodatkowy moduł\")+1)","v":"Dodatkowy moduł 16"},null,null,{"$f":"K129*$L$2+(AC2*(K129*$L$2))","v":0},null,0,null,0,null,"",null,"",{"$f":"IFERROR(INDEX(Brief!J:J,H129),0)","v":0},null,{"$f":"U129*(L129+N129+P129)*(1+$W$2)","v":0},0,0,null,0,0,"","","",null,null,null,null,null,null,0,{"$f":"IF(AL129=1,SUM($AL$3:AL129),0)","v":0},0,{"$f":"IF(AN129=1,SUM($AN$3:AN129),0)","v":0}]
[null,null,null,null,{"$f":"IFERROR(INDEX('Podświetlanie modułów'!D:D,MATCH(I130,'Podświetlanie modułów'!B:B,0)),\"\")","v":""},"Dodatkowy moduł","",{"$f":"IFERROR(MATCH(I130,Brief!AA:AA,0),\"\")","v":212},{"$f":"\"Dodatkowy moduł \"&(COUNTIF($F$4:F129,\"Dodatkowy moduł\")+1)","v":"Dodatkowy moduł 17"},null,null,{"$f":"K130*$L$2+(AC2*(K130*$L$2))","v":0},null,0,null,0,null,"",null,"",{"$f":"IFERROR(INDEX(Brief!J:J,H130),0)","v":0},null,{"$f":"U130*(L130+N130+P130)*(1+$W$2)","v":0},0,0,null,0,0,"","","",null,null,null,null,null,null,0,{"$f":"IF(AL130=1,SUM($AL$3:AL130),0)","v":0},0,{"$f":"IF(AN130=1,SUM($AN$3:AN130),0)","v":0}]
[null,null,null,null,{"$f":"IFERROR(INDEX('Podświetlanie modułów'!D:D,MATCH(I131,'Podświetlanie modułów'!B:B,0)),\"\")","v":""},"Dodatkowy moduł",{"$f":"IF($G$2=\"x\",W131,\"\")","v":""},{"$f":"IFERROR(MATCH(I131,Brief!AA:AA,0),\"\")","v":213},{"$f":"\"Dodatkowy moduł \"&(COUNTIF($F$4:F130,\"Dodatkowy moduł\")+1)","v":"Dodatkowy moduł 18"},null,null,{"$f":"K131*$L$2+(AC2*(K131*$L$2))","v":0},null,0,null,0,null,"",null,"",{"$f":"IFERROR(INDEX(Brief!J:J,H131),0)","v":0},null,{"$f":"U131*(L131+N131+P131)*(1+$W$2)","v":0},0,0,null,0,0,"","","",null,null,null,null,null,null,0,{"$f":"IF(AL131=1,SUM($AL$3:AL131),0)","v":0},0,{"$f":"IF(AN131=1,SUM($AN$3:AN131),0)","v":0}]
[null,null,null,null,{"$f":"IFERROR(INDEX('Podświetlanie modułów'!D:D,MATCH(I132,'Podświetlanie modułów'!B:B,0)),\"\")","v":""},"Dodatkowy moduł","",{"$f":"IFERROR(MATCH(I132,Brief!AA:AA,0),\"\")","v":214},{"$f":"\"Dodatkowy moduł \"&(COUNTIF($F$4:F131,\"Dodatkowy moduł\")+1)","v":"Dodatkowy moduł 19"},null,null,{"$f":"K132*$L$2+(AC2*(K132*$L$2))","v":0},null,0,null,{"$f":"$P$2*O132+($AE$2*(O132*$P$2))","v":0},null,"",null,"",{"$f":"IFERROR(INDEX(Brief!J:J,H132),0)","v":0},null,{"$f":"U132*(L132+N132+P132)*(1+$W$2)","v":0},0,0,null,0,0,"","","",null,null,null,null,null,null,0,{"$f":"IF(AL132=1,SUM($AL$3:AL132),0)","v":0},{"$f":"IF(AD132=\"\",0,IF(AD132=0,0,1))","v":0},{"$f":"IF(AN132=1,SUM($AN$3:AN132),0)","v":0}]
[null,null,null,null,{"$f":"IFERROR(INDEX('Podświetlanie modułów'!D:D,MATCH(I133,'Podświetlanie modułów'!B:B,0)),\"\")","v":""},"Dodatkowe moduł","",{"$f":"IFERROR(MATCH(I133,Brief!AA:AA,0),\"\")","v":""},"Dodatkowe moduły",null,null,null,null,null,null,null,null,null,null,null,null,null,null,null,null,null,null,null,{"$f":"IF(U133=0,\"\",U133*K133)","v":""},"",{"$f":"IF(U133=0,\"\",IF($U$19=0,O133*U133,IF(ISBLANK(S133),O133*U133,S133*U133)))","v":""},null,null,null,null,null,null,{"$f":"IF(AE133=\"\",0,IF(AE133=0,0,1))","v":0},{"$f":"IF(AL133=1,SUM($AL$3:AL133),0)","v":0},0,{"$f":"IF(AN133=1,SUM($AN$3:AN133),0)","v":0}]
["x",null,null,"x",{"$f":"IFERROR(INDEX('Podświetlanie modułów'!D:D,MATCH(I134,'Podświetlanie modułów'!B:B,0)),\"\")","v":""},"Polityka prywat","",{"$f":"IFERROR(MATCH(I134,Brief!AA:AA,0),\"\")","v":216},"Polityka prywatności i Cookies + komunikat - domyślny",null,0,{"$f":"K134*$L$2+(AC2*(K134*$L$2))","v":0},null,null,0.4,60,null,{"$f":"IF(AND(D134=\"x\",Q134>0),\"błąd\",IF(Q134=\"\",\"\",Q134*$R$2+($AE$2*(Q134*$R$2))))","v":""},null,{"$f":"IF(AND(D134=\"x\",S134>0),\"błąd\",IF(S134=\"\",\"\",S134*$T$2+($AE$2*(S134*$T$2))))","v":""},{"$f":"IFERROR(INDEX(Brief!J:J,H134),0)","v":1},"x",{"$f":"U134*(L134+P134)*(1+$W$2)","v":66},{"$f":"IF(D134=\"x\",W134,U134*(L134+IF(R134=\"\",0,R134)+IF(T134=\"\",0,T134))*(1+$X$2))","v":66},{"$f":"IF($U$19>0,ROUNDUP(X134*(1+$Y$2),-1),ROUNDUP(W134*(1+$Y$2),-1))","v":70},null,{"$f":"U134","v":1},{"$f":"Z134*AA134","v":0},0,0,0.4,null,"https://biznes.leszno.pl/polityka-prywatnosci-i-cookies/",null,null,"Complianz GDPR",null,1,{"$f":"IF(AL134=1,SUM($AL$3:AL134),0)","v":5},0,{"$f":"IF(AN134=1,SUM($AN$3:AN134),0)","v":0}]
[null,null,null,"x",{"$f":"IFERROR(INDEX('Podświetlanie modułów'!D:D,MATCH(I135,'Podświetlanie modułów'!B:B,0)),\"\")","v":""},"Polityka prywat","",{"$f":"IFERROR(MATCH(I135,Brief!AA:AA,0),\"\")","v":217},"Polityka prywatności i Cookies + komunikat - personalizowany",null,0.5,{"$f":"K135*$L$2+(AC2*(K135*$L$2))","v":60},null,null,1,150,null,"",null,"",{"$f":"IFERROR(INDEX(Brief!J:J,H135),0)","v":0},null,{"$f":"U135*(L135+P135)*(1+$W$2)","v":0},0,0,null,{"$f":"U135","v":0},0,"","","",null,"https://biznes.leszno.pl/polityka-prywatnosci-i-cookies/",null,null,"Complianz GDPR",null,0,{"$f":"IF(AL135=1,SUM($AL$3:AL135),0)","v":0},0,{"$f":"IF(AN135=1,SUM($AN$3:AN135),0)","v":0}]
["x",null,null,"x",{"$f":"IFERROR(INDEX('Podświetlanie modułów'!D:D,MATCH(I136,'Podświetlanie modułów'!B:B,0)),\"\")","v":""},"Favicon - domyś","",{"$f":"IFERROR(MATCH(I136,Brief!AA:AA,0),\"\")","v":218},"Favicon - domyślny (sygnet lub litera z nazwy)",null,0.2,{"$f":"K136*$L$2+(AC2*(K136*$L$2))","v":24},0.2,{"$f":"M136*$N$2+($AD$2*(M136*$N$2))","v":24},0,0,null,"",null,"",{"$f":"IFERROR(INDEX(Brief!J:J,H136),0)","v":0},"x",{"$f":"U136*(L136+N136)*(1+$W$2)","v":0},0,0,null,0,0,"","","",null,null,null,null,null,null,0,{"$f":"IF(AL136=1,SUM($AL$3:AL136),0)","v":0},0,{"$f":"IF(AN136=1,SUM($AN$3:AN136),0)","v":0}]
[null,null,null,"x",{"$f":"IFERROR(INDEX('Podświetlanie modułów'!D:D,MATCH(I137,'Podświetlanie modułów'!B:B,0)),\"\")","v":""},"Favicon - perso","",{"$f":"IFERROR(MATCH(I137,Brief!AA:AA,0),\"\")","v":219},"Favicon - personalizowany","od",1,{"$f":"K137*$L$2+(AC2*(K137*$L$2))","v":120},0.2,24,0,0,null,"",null,"",{"$f":"IFERROR(INDEX(Brief!J:J,H137),0)","v":0},null,{"$f":"U137*(L137+N137)*(1+$W$2)","v":0},0,0,null,0,0,"","","",null,null,null,null,null,null,0,{"$f":"IF(AL137=1,SUM($AL$3:AL137),0)","v":0},0,{"$f":"IF(AN137=1,SUM($AN$3:AN137),0)","v":0}]
[null,null,null,null,{"$f":"IFERROR(INDEX('Podświetlanie modułów'!D:D,MATCH(I138,'Podświetlanie modułów'!B:B,0)),\"\")","v":""},"Dodatkowy moduł","",{"$f":"IFERROR(MATCH(I138,Brief!AA:AA,0),\"\")","v":220},{"$f":"\"Dodatkowy moduł \"&(COUNTIF($F$4:F137,\"Dodatkowy moduł\")+1)","v":"Dodatkowy moduł 20"},null,null,{"$f":"K138*$L$2+(AC2*(K138*$L$2))","v":0},null,0,null,0,null,"",null,"",{"$f":"IFERROR(INDEX(Brief!J:J,H138),0)","v":0},null,{"$f":"U138*(L138+N138+P138)*(1+$W$2)","v":0},0,0,null,0,0,"","","",null,null,null,null,null,null,0,{"$f":"IF(AL138=1,SUM($AL$3:AL138),0)","v":0},0,{"$f":"IF(AN138=1,SUM($AN$3:AN138),0)","v":0}]
[null,null,null,null,{"$f":"IFERROR(INDEX('Podświetlanie modułów'!D:D,MATCH(I139,'Podświetlanie modułów'!B:B,0)),\"\")","v":""},"Dodatkowy moduł","",{"$f":"IFERROR(MATCH(I139,Brief!AA:AA,0),\"\")","v":221},{"$f":"\"Dodatkowy moduł \"&(COUNTIF($F$4:F138,\"Dodatkowy moduł\")+1)","v":"Dodatkowy moduł 21"},null,null,{"$f":"K139*$L$2+(AC2*(K139*$L$2))","v":0},null,0,null,0,null,"",null,"",{"$f":"IFERROR(INDEX(Brief!J:J,H139),0)","v":0},null,{"$f":"U139*(L139+N139+P139)*(1+$W$2)","v":0},0,0,null,0,0,"","","",null,null,null,null,null,null,0,{"$f":"IF(AL139=1,SUM($AL$3:AL139),0)","v":0},0,{"$f":"IF(AN139=1,SUM($AN$3:AN139),0)","v":0}]
[null,null,null,null,{"$f":"IFERROR(INDEX('Podświetlanie modułów'!D:D,MATCH(I140,'Podświetlanie modułów'!B:B,0)),\"\")","v":""},"Dodatkowy moduł","",{"$f":"IFERROR(MATCH(I140,Brief!AA:AA,0),\"\")","v":222},{"$f":"\"Dodatkowy moduł \"&(COUNTIF($F$4:F139,\"Dodatkowy moduł\")+1)","v":"Dodatkowy moduł 22"},null,null,{"$f":"K140*$L$2+(AC2*(K140*$L$2))","v":0},null,0,null,0,null,"",null,"",{"$f":"IFERROR(INDEX(Brief!J:J,H140),0)","v":0},null,{"$f":"U140*(L140+N140+P140)*(1+$W$2)","v":0},0,0,null,0,0,"","","",null,null,null,null,null,null,0,{"$f":"IF(AL140=1,SUM($AL$3:AL140),0)","v":0},0,{"$f":"IF(AN140=1,SUM($AN$3:AN140),0)","v":0}]
[null,null,null,null,{"$f":"IFERROR(INDEX('Podświetlanie modułów'!D:D,MATCH(I141,'Podświetlanie modułów'!B:B,0)),\"\")","v":""},"Dodatkowy moduł","",{"$f":"IFERROR(MATCH(I141,Brief!AA:AA,0),\"\")","v":223},{"$f":"\"Dodatkowy moduł \"&(COUNTIF($F$4:F140,\"Dodatkowy moduł\")+1)","v":"Dodatkowy moduł 23"},null,null,{"$f":"K141*$L$2+(AC2*(K141*$L$2))","v":0},null,0,null,0,null,"",null,"",{"$f":"IFERROR(INDEX(Brief!J:J,H141),0)","v":0},null,{"$f":"U141*(L141+N141+P141)*(1+$W$2)","v":0},0,0,null,0,0,"","","",null,null,null,null,null,null,0,{"$f":"IF(AL141=1,SUM($AL$3:AL141),0)","v":0},0,{"$f":"IF(AN141=1,SUM($AN$3:AN141),0)","v":0}]
[null,null,null,null,{"$f":"IFERROR(INDEX('Podświetlanie modułów'!D:D,MATCH(I142,'Podświetlanie modułów'!B:B,0)),\"\")","v":""},"Dodatkowy moduł","",{"$f":"IFERROR(MATCH(I142,Brief!AA:AA,0),\"\")","v":224},{"$f":"\"Dodatkowy moduł \"&(COUNTIF($F$4:F141,\"Dodatkowy moduł\")+1)","v":"Dodatkowy moduł 24"},null,null,{"$f":"K142*$L$2+(AC2*(K142*$L$2))","v":0},null,0,null,0,null,"",null,"",{"$f":"IFERROR(INDEX(Brief!J:J,H142),0)","v":0},null,{"$f":"U142*(L142+N142+P142)*(1+$W$2)","v":0},0,0,null,0,0,"","","",null,null,null,null,null,null,0,{"$f":"IF(AL142=1,SUM($AL$3:AL142),0)","v":0},0,{"$f":"IF(AN142=1,SUM($AN$3:AN142),0)","v":0}]
[null,null,null,null,{"$f":"IFERROR(INDEX('Podświetlanie modułów'!D:D,MATCH(I143,'Podświetlanie modułów'!B:B,0)),\"\")","v":""},"Moduły Zaawanso","",{"$f":"IFERROR(MATCH(I143,Brief!AA:AA,0),\"\")","v":""},"Moduły Zaawansowane - dla Serwisu Korporacyjnego",null,null,null,null,null,null,null,null,null,null,null,null,null,null,null,null,null,null,null,"","","",null,null,null,null,null,null,0,{"$f":"IF(AL143=1,SUM($AL$3:AL143),0)","v":0},0,{"$f":"IF(AN143=1,SUM($AN$3:AN143),0)","v":0}]
[null,null,null,null,{"$f":"IFERROR(INDEX('Podświetlanie modułów'!D:D,MATCH(I144,'Podświetlanie modułów'!B:B,0)),\"\")","v":""},"Oferta firmy","",{"$f":"IFERROR(MATCH(I144,Brief!AA:AA,0),\"\")","v":""},"Oferta firmy",null,null,null,null,null,null,null,null,null,null,null,null,null,null,null,null,null,null,null,"","","",null,null,null,null,null,null,0,{"$f":"IF(AL144=1,SUM($AL$3:AL144),0)","v":0},0,{"$f":"IF(AN144=1,SUM($AN$3:AN144),0)","v":0}]
[null,null,null,"x",{"$f":"IFERROR(INDEX('Podświetlanie modułów'!D:D,MATCH(I145,'Podświetlanie modułów'!B:B,0)),\"\")","v":""},"Katalog produkt","",{"$f":"IFERROR(MATCH(I145,Brief!AA:AA,0),\"\")","v":227},"Katalog produktów (bez opcji kupowania)","od",8,{"$f":"K145*$L$2+(AC2*(K145*$L$2))","v":960},null,null,14,2100,null,"",null,"",{"$f":"IFERROR(INDEX(Brief!J:J,H145),0)","v":0},null,{"$f":"U145*(L145+P145)*(1+$W$2)","v":0},0,{"$f":"IF($U$19>0,ROUNDUP(X145*(1+$Y$2),-1),ROUNDUP(W145*(1+$Y$2),-1))","v":0},null,{"$f":"U145","v":0},{"$f":"Z145*AA145","v":0},"","","",null,"https://danex.pl/produkty/",null,null,"Post type + ACF",null,0,{"$f":"IF(AL145=1,SUM($AL$3:AL145),0)","v":0},0,{"$f":"IF(AN145=1,SUM($AN$3:AN145),0)","v":0}]
[null,null,null,null,null,"> Wpisz kluczow","",{"$f":"IFERROR(MATCH(I146,Brief!AA:AA,0),\"\")","v":""},{"$f":"\"> \"&Brief!G228","v":"> Wpisz kluczowe opcje"},null,null,null,null,null,null,null,null,"",null,"",null,null,null,null,null,null,null,null,"","","",null,null,null,null,null,null,0,{"$f":"IF(AL146=1,SUM($AL$3:AL146),0)","v":0},0,{"$f":"IF(AN146=1,SUM($AN$3:AN146),0)","v":0}]
[null,"x",null,"x",null,"Dodanie 1 kateg","",{"$f":"IFERROR(MATCH(I147,Brief!AA:AA,0),\"\")","v":229},"Dodanie 1 kategorii","od",null,{"$f":"K147*$L$2+(AC2*(K147*$L$2))","v":0},0.3,{"$f":"M147*$N$2+($AD$2*(M147*$N$2))","v":36},0,{"$f":"$P$2*O147+($AE$2*(O147*$P$2))","v":0},null,"",null,"",{"$f":"IFERROR(INDEX(Brief!J:J,H147),0)","v":0},null,{"$f":"U147*(L147+P147)*(1+$W$2)","v":0},0,{"$f":"IF($U$19>0,ROUNDUP(X147*(1+$Y$2),-1),ROUNDUP(W147*(1+$Y$2),-1))","v":0},null,{"$f":"U147","v":0},0,"","","",null,null,null,null,null,null,0,{"$f":"IF(AL147=1,SUM($AL$3:AL147),0)","v":0},0,{"$f":"IF(AN147=1,SUM($AN$3:AN147),0)","v":0}]
[null,"x",null,"x",{"$f":"IFERROR(INDEX('Podświetlanie modułów'!D:D,MATCH(I148,'Podświetlanie modułów'!B:B,0)),\"\")","v":""},"Dodanie 1 produ","",{"$f":"IFERROR(MATCH(I148,Brief!AA:AA,0),\"\")","v":230},"Dodanie 1 produktu","od",null,{"$f":"K148*$L$2+(AC2*(K148*$L$2))","v":0},0.5,{"$f":"M148*$N$2+($AD$2*(M148*$N$2))","v":60},0,0,null,"",null,"",{"$f":"IFERROR(INDEX(Brief!J:J,H148),0)","v":0},null,0,0,0,null,0,0,"","","",null,null,null,null,null,null,0,{"$f":"IF(AL148=1,SUM($AL$3:AL148),0)","v":0},0,{"$f":"IF(AN148=1,SUM($AN$3:AN148),0)","v":0}]
[null,null,null,"x",{"$f":"IFERROR(INDEX('Podświetlanie modułów'!D:D,MATCH(I149,'Podświetlanie modułów'!B:B,0)),\"\")","v":""},"Filtry","",{"$f":"IFERROR(MATCH(I149,Brief!AA:AA,0),\"\")","v":231},"Filtry","od",2,{"$f":"K149*$L$2+(AC2*(K149*$L$2))","v":240},null,null,8,1200,null,"",null,"",{"$f":"IFERROR(INDEX(Brief!J:J,H149),0)","v":0},null,{"$f":"U149*(L149+P149)*(1+$W$2)","v":0},0,{"$f":"IF($U$19>0,ROUNDUP(X149*(1+$Y$2),-1),ROUNDUP(W149*(1+$Y$2),-1))","v":0},null,{"$f":"U149","v":0},0,"","","",null,"http://10.demooo.pl/kategoria-produktu/znicze/  http://www.stomil-poznan.pl/oferta-opony/opony/opony-wielkogabarytowe-do-maszyn-gorniczych-oraz-maszyn-do-prac-ziemnych/",null,null,"wlasne",null,0,{"$f":"IF(AL149=1,SUM($AL$3:AL149),0)","v":0},0,{"$f":"IF(AN149=1,SUM($AN$3:AN149),0)","v":0}]
[null,null,null,"x",{"$f":"IFERROR(INDEX('Podświetlanie modułów'!D:D,MATCH(I150,'Podświetlanie modułów'!B:B,0)),\"\")","v":""},"Sortowanie","",{"$f":"IFERROR(MATCH(I150,Brief!AA:AA,0),\"\")","v":232},"Sortowanie","od",2,{"$f":"K150*$L$2+(AC2*(K150*$L$2))","v":240},null,null,2,300,null,"",null,"",{"$f":"IFERROR(INDEX(Brief!J:J,H150),0)","v":0},null,0,0,0,null,0,0,"","","",null,null,null,null,null,null,0,{"$f":"IF(AL150=1,SUM($AL$3:AL150),0)","v":0},0,{"$f":"IF(AN150=1,SUM($AN$3:AN150),0)","v":0}]
[null,null,null,"x",{"$f":"IFERROR(INDEX('Podświetlanie modułów'!D:D,MATCH(I151,'Podświetlanie modułów'!B:B,0)),\"\")","v":""},"Porównywarka pr","",{"$f":"IFERROR(MATCH(I151,Brief!AA:AA,0),\"\")","v":233},"Porównywarka produktów","od",4,{"$f":"K151*$L$2+(AC2*(K151*$L$2))","v":480},null,null,10,1500,null,"",null,"",{"$f":"IFERROR(INDEX(Brief!J:J,H151),0)","v":0},null,0,0,0,null,0,0,"","","",null,"http://www.stomil-poznan.pl/en/products-comparer/",null,null,"wlasne",null,0,{"$f":"IF(AL151=1,SUM($AL$3:AL151),0)","v":0},0,{"$f":"IF(AN151=1,SUM($AN$3:AN151),0)","v":0}]
[null,null,null,"x",{"$f":"IFERROR(INDEX('Podświetlanie modułów'!D:D,MATCH(I152,'Podświetlanie modułów'!B:B,0)),\"\")","v":0},"Cenniki zaawans","",{"$f":"IFERROR(MATCH(I152,Brief!AA:AA,0),\"\")","v":234},"Cenniki zaawansowane + popup z opisem",null,4,{"$f":"K152*$L$2+(AC2*(K152*$L$2))","v":480},null,null,0,0,null,"",null,"",{"$f":"IFERROR(INDEX(Brief!J:J,H152),0)","v":0},null,0,0,0,null,0,0,"","","",null,null,null,null,"ACF",null,0,{"$f":"IF(AL152=1,SUM($AL$3:AL152),0)","v":0},0,{"$f":"IF(AN152=1,SUM($AN$3:AN152),0)","v":0}]
[null,null,null,"x",{"$f":"IFERROR(INDEX('Podświetlanie modułów'!D:D,MATCH(I153,'Podświetlanie modułów'!B:B,0)),\"\")","v":""},"Menu dla gastro","",{"$f":"IFERROR(MATCH(I153,Brief!AA:AA,0),\"\")","v":235},"Menu dla gastronomii ",null,4,{"$f":"K153*$L$2+(AC2*(K153*$L$2))","v":480},null,null,0,0,null,"",null,"",{"$f":"IFERROR(INDEX(Brief!J:J,H153),0)","v":0},null,0,0,0,null,0,0,"","","",null,null,null,null,"ACF",null,0,{"$f":"IF(AL153=1,SUM($AL$3:AL153),0)","v":0},0,{"$f":"IF(AN153=1,SUM($AN$3:AN153),0)","v":0}]
[null,null,null,"x",{"$f":"IFERROR(INDEX('Podświetlanie modułów'!D:D,MATCH(I154,'Podświetlanie modułów'!B:B,0)),\"\")","v":""},"Kalkulator zapy","",{"$f":"IFERROR(MATCH(I154,Brief!AA:AA,0),\"\")","v":236},"Kalkulator zapytania","od",3,{"$f":"K154*$L$2+(AC2*(K154*$L$2))","v":360},null,null,5,750,null,"",null,"",{"$f":"IFERROR(INDEX(Brief!J:J,H154),0)","v":0},null,0,0,0,null,0,0,"","","",null,"https://ratomedica.pl/dla-klienta/",null,null,"wlasne",null,0,{"$f":"IF(AL154=1,SUM($AL$3:AL154),0)","v":0},0,{"$f":"IF(AN154=1,SUM($AN$3:AN154),0)","v":0}]
[null,null,null,"x",{"$f":"IFERROR(INDEX('Podświetlanie modułów'!D:D,MATCH(I155,'Podświetlanie modułów'!B:B,0)),\"\")","v":""},"Rozbudowane for","",{"$f":"IFERROR(MATCH(I155,Brief!AA:AA,0),\"\")","v":237},"Rozbudowane formularze zapytania","od",3,{"$f":"K155*$L$2+(AC2*(K155*$L$2))","v":360},null,null,5,750,null,"",null,"",{"$f":"IFERROR(INDEX(Brief!J:J,H155),0)","v":0},null,{"$f":"U155*(L155+P155)*(1+$W$2)","v":0},0,0,null,0,0,"","","",null,"http://pv-partner.pl",null,null,"wlasne",null,0,{"$f":"IF(AL155=1,SUM($AL$3:AL155),0)","v":0},0,{"$f":"IF(AN155=1,SUM($AN$3:AN155),0)","v":0}]
[null,null,null,"x",{"$f":"IFERROR(INDEX('Podświetlanie modułów'!D:D,MATCH(I156,'Podświetlanie modułów'!B:B,0)),\"\")","v":""},"Konfigurator of","",{"$f":"IFERROR(MATCH(I156,Brief!AA:AA,0),\"\")","v":238},"Konfigurator ofert PDF z panelem zarządzania","od",20,{"$f":"K156*$L$2+(AC2*(K156*$L$2))","v":2400},null,null,100,15000,null,"",null,"",{"$f":"IFERROR(INDEX(Brief!J:J,H156),0)","v":0},null,0,0,0,null,0,0,"","","",null,"colson.pl/oferty/",null,null,"własne + php poza WP",null,0,{"$f":"IF(AL156=1,SUM($AL$3:AL156),0)","v":0},0,{"$f":"IF(AN156=1,SUM($AN$3:AN156),0)","v":0}]
[null,null,null,null,{"$f":"IFERROR(INDEX('Podświetlanie modułów'!D:D,MATCH(I157,'Podświetlanie modułów'!B:B,0)),\"\")","v":""},"Dodatkowy moduł","",{"$f":"IFERROR(MATCH(I157,Brief!AA:AA,0),\"\")","v":239},{"$f":"\"Dodatkowy moduł \"&(COUNTIF($F$4:F156,\"Dodatkowy moduł\")+1)","v":"Dodatkowy moduł 25"},null,null,{"$f":"K157*$L$2+(AC2*(K157*$L$2))","v":0},null,null,null,0,null,"",null,"",{"$f":"IFERROR(INDEX(Brief!J:J,H157),0)","v":0},null,0,0,0,null,0,0,"","","",null,null,null,null,null,null,0,{"$f":"IF(AL157=1,SUM($AL$3:AL157),0)","v":0},0,{"$f":"IF(AN157=1,SUM($AN$3:AN157),0)","v":0}]
[null,null,null,null,{"$f":"IFERROR(INDEX('Podświetlanie modułów'!D:D,MATCH(I158,'Podświetlanie modułów'!B:B,0)),\"\")","v":""},"Dodatkowy moduł","",{"$f":"IFERROR(MATCH(I158,Brief!AA:AA,0),\"\")","v":240},{"$f":"\"Dodatkowy moduł \"&(COUNTIF($F$4:F157,\"Dodatkowy moduł\")+1)","v":"Dodatkowy moduł 26"},null,null,{"$f":"K158*$L$2+(AC2*(K158*$L$2))","v":0},null,null,null,0,null,"",null,"",{"$f":"IFERROR(INDEX(Brief!J:J,H158),0)","v":0},null,0,0,0,null,0,0,"","","",null,null,null,null,null,null,0,{"$f":"IF(AL158=1,SUM($AL$3:AL158),0)","v":0},0,{"$f":"IF(AN158=1,SUM($AN$3:AN158),0)","v":0}]
[null,null,null,null,{"$f":"IFERROR(INDEX('Podświetlanie modułów'!D:D,MATCH(I159,'Podświetlanie modułów'!B:B,0)),\"\")","v":""},"Dodatkowy moduł","",{"$f":"IFERROR(MATCH(I159,Brief!AA:AA,0),\"\")","v":241},{"$f":"\"Dodatkowy moduł \"&(COUNTIF($F$4:F158,\"Dodatkowy moduł\")+1)","v":"Dodatkowy moduł 27"},null,null,{"$f":"K159*$L$2+(AC2*(K159*$L$2))","v":0},null,null,null,0,null,"",null,"",{"$f":"IFERROR(INDEX(Brief!J:J,H159),0)","v":0},null,0,0,0,null,0,0,"","","",null,null,null,null,null,null,0,{"$f":"IF(AL159=1,SUM($AL$3:AL159),0)","v":0},0,{"$f":"IF(AN159=1,SUM($AN$3:AN159),0)","v":0}]
[null,null,null,null,{"$f":"IFERROR(INDEX('Podświetlanie modułów'!D:D,MATCH(I160,'Podświetlanie modułów'!B:B,0)),\"\")","v":""},"Dodatkowy moduł","",{"$f":"IFERROR(MATCH(I160,Brief!AA:AA,0),\"\")","v":242},{"$f":"\"Dodatkowy moduł \"&(COUNTIF($F$4:F159,\"Dodatkowy moduł\")+1)","v":"Dodatkowy moduł 28"},null,null,{"$f":"K160*$L$2+(AC2*(K160*$L$2))","v":0},null,null,null,0,null,"",null,"",{"$f":"IFERROR(INDEX(Brief!J:J,H160),0)","v":0},null,0,0,0,null,0,0,"","","",null,null,null,null,null,null,0,{"$f":"IF(AL160=1,SUM($AL$3:AL160),0)","v":0},0,{"$f":"IF(AN160=1,SUM($AN$3:AN160),0)","v":0}]
[null,null,null,null,{"$f":"IFERROR(INDEX('Podświetlanie modułów'!D:D,MATCH(I161,'Podświetlanie modułów'!B:B,0)),\"\")","v":""},"Dodatkowy moduł","",{"$f":"IFERROR(MATCH(I161,Brief!AA:AA,0),\"\")","v":243},{"$f":"\"Dodatkowy moduł \"&(COUNTIF($F$4:F160,\"Dodatkowy moduł\")+1)","v":"Dodatkowy moduł 29"},null,null,{"$f":"K161*$L$2+(AC2*(K161*$L$2))","v":0},null,null,null,0,null,"",null,"",{"$f":"IFERROR(INDEX(Brief!J:J,H161),0)","v":0},null,0,0,0,null,0,0,"","","",null,null,null,null,null,null,0,{"$f":"IF(AL161=1,SUM($AL$3:AL161),0)","v":0},0,{"$f":"IF(AN161=1,SUM($AN$3:AN161),0)","v":0}]
[null,null,null,null,{"$f":"IFERROR(INDEX('Podświetlanie modułów'!D:D,MATCH(I162,'Podświetlanie modułów'!B:B,0)),\"\")","v":""},"Realizacje & Wy","",{"$f":"IFERROR(MATCH(I162,Brief!AA:AA,0),\"\")","v":""},"Realizacje & Wydarzenia",null,null,null,null,null,null,null,null,null,null,null,null,null,null,null,null,null,null,null,"","","",null,null,null,null,null,null,0,{"$f":"IF(AL162=1,SUM($AL$3:AL162),0)","v":0},0,{"$f":"IF(AN162=1,SUM($AN$3:AN162),0)","v":0}]
[null,null,null,"x",{"$f":"IFERROR(INDEX('Podświetlanie modułów'!D:D,MATCH(I163,'Podświetlanie modułów'!B:B,0)),\"\")","v":""},"Dedykowane wpis","",{"$f":"IFERROR(MATCH(I163,Brief!AA:AA,0),\"\")","v":245},"Dedykowane wpisy np. case study realizacje projekty przepisy kulinarne itp.","od",5,{"$f":"K163*$L$2+(AC2*(K163*$L$2))","v":600},null,null,10,1500,null,"",null,"",{"$f":"IFERROR(INDEX(Brief!J:J,H163),0)","v":0},null,{"$f":"U163*(L163+P163)*(1+$W$2)","v":0},0,{"$f":"IF($U$19>0,ROUNDUP(X163*(1+$Y$2),-1),ROUNDUP(W163*(1+$Y$2),-1))","v":0},null,{"$f":"U163","v":0},{"$f":"Z163*AA163","v":0},"","","",null,"http://idea-house.pl/projekty/  https://studiokreacja.pl/realizacje/xaris/  https://jano.com.pl/realizacje/",null,"http://wole-ole.pl/recipes/gnocchi-z-zielonym-pesto-i-suszonymi-pomidorami-w-paskach/",null,null,0,{"$f":"IF(AL163=1,SUM($AL$3:AL163),0)","v":0},0,{"$f":"IF(AN163=1,SUM($AN$3:AN163),0)","v":0}]
[null,null,null,"x",{"$f":"IFERROR(INDEX('Podświetlanie modułów'!D:D,MATCH(I164,'Podświetlanie modułów'!B:B,0)),\"\")","v":""},"Realizacje na m","",{"$f":"IFERROR(MATCH(I164,Brief!AA:AA,0),\"\")","v":246},"Realizacje na mapie Google ","od",3,{"$f":"K164*$L$2+(AC2*(K164*$L$2))","v":360},null,null,12,1800,null,"",null,"",{"$f":"IFERROR(INDEX(Brief!J:J,H164),0)","v":0},null,0,0,0,null,{"$f":"U164","v":0},0,"","","",null,"http://biotope.pl/realizacje",null,null,"ACF + API Google Maps",null,0,{"$f":"IF(AL164=1,SUM($AL$3:AL164),0)","v":0},0,{"$f":"IF(AN164=1,SUM($AN$3:AN164),0)","v":0}]
[null,null,null,"x",{"$f":"IFERROR(INDEX('Podświetlanie modułów'!D:D,MATCH(I165,'Podświetlanie modułów'!B:B,0)),\"\")","v":""},"Autorski player","",{"$f":"IFERROR(MATCH(I165,Brief!AA:AA,0),\"\")","v":247},"Autorski player audio","od",1,{"$f":"K165*$L$2+(AC2*(K165*$L$2))","v":120},null,null,2,300,null,"",null,"",{"$f":"IFERROR(INDEX(Brief!J:J,H165),0)","v":0},null,0,0,0,null,0,0,"","","",null,"https://szalapski.pl/",null,null,"ACF + API Google Maps",null,0,{"$f":"IF(AL165=1,SUM($AL$3:AL165),0)","v":0},0,{"$f":"IF(AN165=1,SUM($AN$3:AN165),0)","v":0}]
[null,null,null,"x",{"$f":"IFERROR(INDEX('Podświetlanie modułów'!D:D,MATCH(I166,'Podświetlanie modułów'!B:B,0)),\"\")","v":""},"Wydarzenia i ka","",{"$f":"IFERROR(MATCH(I166,Brief!AA:AA,0),\"\")","v":248},"Wydarzenia i kalendarium",null,4,{"$f":"K166*$L$2+(AC2*(K166*$L$2))","v":480},null,null,8,1200,null,"",null,"",{"$f":"IFERROR(INDEX(Brief!J:J,H166),0)","v":0},null,0,0,0,null,0,0,"","","",null,"https://biznes.leszno.pl/aktualnosci/",null,null,"własne",null,0,{"$f":"IF(AL166=1,SUM($AL$3:AL166),0)","v":0},0,{"$f":"IF(AN166=1,SUM($AN$3:AN166),0)","v":0}]
[null,null,null,null,{"$f":"IFERROR(INDEX('Podświetlanie modułów'!D:D,MATCH(I167,'Podświetlanie modułów'!B:B,0)),\"\")","v":""},"Dodatkowy moduł","",{"$f":"IFERROR(MATCH(I167,Brief!AA:AA,0),\"\")","v":249},{"$f":"\"Dodatkowy moduł \"&(COUNTIF($F$4:F166,\"Dodatkowy moduł\")+1)","v":"Dodatkowy moduł 30"},null,null,{"$f":"K167*$L$2+(AC2*(K167*$L$2))","v":0},null,null,null,0,null,"",null,"",{"$f":"IFERROR(INDEX(Brief!J:J,H167),0)","v":0},null,0,0,0,null,0,0,"","","",null,null,null,null,null,null,0,{"$f":"IF(AL167=1,SUM($AL$3:AL167),0)","v":0},0,{"$f":"IF(AN167=1,SUM($AN$3:AN167),0)","v":0}]
[null,null,null,null,{"$f":"IFERROR(INDEX('Podświetlanie modułów'!D:D,MATCH(I168,'Podświetlanie modułów'!B:B,0)),\"\")","v":""},"Dodatkowy moduł","",{"$f":"IFERROR(MATCH(I168,Brief!AA:AA,0),\"\")","v":250},{"$f":"\"Dodatkowy moduł \"&(COUNTIF($F$4:F167,\"Dodatkowy moduł\")+1)","v":"Dodatkowy moduł 31"},null,null,{"$f":"K168*$L$2+(AC2*(K168*$L$2))","v":0},null,null,null,0,null,"",null,"",{"$f":"IFERROR(INDEX(Brief!J:J,H168),0)","v":0},null,0,0,0,null,0,0,"","","",null,null,null,null,null,null,0,{"$f":"IF(AL168=1,SUM($AL$3:AL168),0)","v":0},0,{"$f":"IF(AN168=1,SUM($AN$3:AN168),0)","v":0}]
[null,null,null,null,{"$f":"IFERROR(INDEX('Podświetlanie modułów'!D:D,MATCH(I169,'Podświetlanie modułów'!B:B,0)),\"\")","v":""},"Dodatkowy moduł","",{"$f":"IFERROR(MATCH(I169,Brief!AA:AA,0),\"\")","v":251},{"$f":"\"Dodatkowy moduł \"&(COUNTIF($F$4:F168,\"Dodatkowy moduł\")+1)","v":"Dodatkowy moduł 32"},null,null,{"$f":"K169*$L$2+(AC2*(K169*$L$2))","v":0},null,null,null,0,null,"",null,"",{"$f":"IFERROR(INDEX(Brief!J:J,H169),0)","v":0},null,0,0,0,null,0,0,"","","",null,null,null,null,null,null,0,{"$f":"IF(AL169=1,SUM($AL$3:AL169),0)","v":0},0,{"$f":"IF(AN169=1,SUM($AN$3:AN169),0)","v":0}]
[null,null,null,null,{"$f":"IFERROR(INDEX('Podświetlanie modułów'!D:D,MATCH(I170,'Podświetlanie modułów'!B:B,0)),\"\")","v":""},"Rozszerzone inf","",{"$f":"IFERROR(MATCH(I170,Brief!AA:AA,0),\"\")","v":""},"Rozszerzone informacje firmowe",null,null,null,null,null,null,null,null,null,null,null,null,null,null,null,null,null,null,null,"","","",null,null,null,null,null,null,0,{"$f":"IF(AL170=1,SUM($AL$3:AL170),0)","v":0},0,{"$f":"IF(AN170=1,SUM($AN$3:AN170),0)","v":0}]
[null,null,null,null,{"$f":"IFERROR(INDEX('Podświetlanie modułów'!D:D,MATCH(I171,'Podświetlanie modułów'!B:B,0)),\"\")","v":0},"Linia czasu (hi","",{"$f":"IFERROR(MATCH(I171,Brief!AA:AA,0),\"\")","v":253},"Linia czasu (historia)",null,3,{"$f":"K171*$L$2+(AC2*(K171*$L$2))","v":360},null,null,3,450,2,240,null,"",{"$f":"IFERROR(INDEX(Brief!J:J,H171),0)","v":0},null,0,0,{"$f":"IF($U$19>0,ROUNDUP(X171*(1+$Y$2),-1),ROUNDUP(W171*(1+$Y$2),-1))","v":0},null,{"$f":"U171","v":0},{"$f":"Z171*AA171","v":0},"","","",null,"https://www.danmis.com.pl/historia/  http://10.demooo.pl/poznaj-max-pol/historia/",null,null,"ACF",null,0,{"$f":"IF(AL171=1,SUM($AL$3:AL171),0)","v":0},0,{"$f":"IF(AN171=1,SUM($AN$3:AN171),0)","v":0}]
[null,null,null,"x",{"$f":"IFERROR(INDEX('Podświetlanie modułów'!D:D,MATCH(I172,'Podświetlanie modułów'!B:B,0)),\"\")","v":0},"Lista pracownik","",{"$f":"IFERROR(MATCH(I172,Brief!AA:AA,0),\"\")","v":254},"Lista pracowników + strona o pracowniku","od",5,{"$f":"K172*$L$2+(AC2*(K172*$L$2))","v":600},null,null,12,1800,null,"",null,"",{"$f":"IFERROR(INDEX(Brief!J:J,H172),0)","v":0},null,0,0,0,null,{"$f":"U172","v":0},0,"","","",null,"https://cmt-advisory.pl/kim-jestesmy/","http://19.demooo.pl/zespol/",null,"ACF",null,0,{"$f":"IF(AL172=1,SUM($AL$3:AL172),0)","v":0},0,{"$f":"IF(AN172=1,SUM($AN$3:AN172),0)","v":0}]
[null,null,null,"x",{"$f":"IFERROR(INDEX('Podświetlanie modułów'!D:D,MATCH(I173,'Podświetlanie modułów'!B:B,0)),\"\")","v":""},"Mapa lokalizacj","",{"$f":"IFERROR(MATCH(I173,Brief!AA:AA,0),\"\")","v":255},"Mapa lokalizacji sklepów / oddziałów","od",3,{"$f":"K173*$L$2+(AC2*(K173*$L$2))","v":360},null,null,12,1800,null,"",null,"",{"$f":"IFERROR(INDEX(Brief!J:J,H173),0)","v":0},null,0,0,0,null,0,0,"","","",null,"http://sezamki.pl","http://biotope.pl/realizacje/",null,"ACF + API Google Maps",null,0,{"$f":"IF(AL173=1,SUM($AL$3:AL173),0)","v":0},0,{"$f":"IF(AN173=1,SUM($AN$3:AN173),0)","v":0}]
[null,null,null,"x",{"$f":"IFERROR(INDEX('Podświetlanie modułów'!D:D,MATCH(I174,'Podświetlanie modułów'!B:B,0)),\"\")","v":0},"Moduł opinii","",{"$f":"IFERROR(MATCH(I174,Brief!AA:AA,0),\"\")","v":256},"Moduł opinii","od",2,{"$f":"K174*$L$2+(AC2*(K174*$L$2))","v":240},null,null,7,1050,null,"",null,"",{"$f":"IFERROR(INDEX(Brief!J:J,H174),0)","v":0},null,0,0,0,null,0,0,"","","",null,"http://studiokreacja.pl",null,null,"ACF",null,0,{"$f":"IF(AL174=1,SUM($AL$3:AL174),0)","v":0},0,{"$f":"IF(AN174=1,SUM($AN$3:AN174),0)","v":0}]
[null,null,null,"x",{"$f":"IFERROR(INDEX('Podświetlanie modułów'!D:D,MATCH(I175,'Podświetlanie modułów'!B:B,0)),\"\")","v":0},"Oferty pracy + ","",{"$f":"IFERROR(MATCH(I175,Brief!AA:AA,0),\"\")","v":257},"Oferty pracy + formularz aplikacji","od",4,{"$f":"K175*$L$2+(AC2*(K175*$L$2))","v":480},null,null,8,1200,null,"",null,"",{"$f":"IFERROR(INDEX(Brief!J:J,H175),0)","v":0},null,0,0,0,null,0,0,"","","",null,"http://19.demooo.pl/kariera/",null,null,"ACF",null,0,{"$f":"IF(AL175=1,SUM($AL$3:AL175),0)","v":0},0,{"$f":"IF(AN175=1,SUM($AN$3:AN175),0)","v":0}]
[null,null,null,"x",{"$f":"IFERROR(INDEX('Podświetlanie modułów'!D:D,MATCH(I176,'Podświetlanie modułów'!B:B,0)),\"\")","v":""},"Przetargi","",{"$f":"IFERROR(MATCH(I176,Brief!AA:AA,0),\"\")","v":258},"Przetargi","od",7,{"$f":"K176*$L$2+(AC2*(K176*$L$2))","v":840},null,null,23,3450,null,"",null,"",{"$f":"IFERROR(INDEX(Brief!J:J,H176),0)","v":0},null,0,0,0,null,0,0,"","","",null,null,null,null,"ACF",null,0,{"$f":"IF(AL176=1,SUM($AL$3:AL176),0)","v":0},0,{"$f":"IF(AN176=1,SUM($AN$3:AN176),0)","v":0}]
[null,null,null,null,{"$f":"IFERROR(INDEX('Podświetlanie modułów'!D:D,MATCH(I177,'Podświetlanie modułów'!B:B,0)),\"\")","v":""},"Dodatkowy moduł","",{"$f":"IFERROR(MATCH(I177,Brief!AA:AA,0),\"\")","v":259},{"$f":"\"Dodatkowy moduł \"&(COUNTIF($F$4:F176,\"Dodatkowy moduł\")+1)","v":"Dodatkowy moduł 33"},null,null,{"$f":"K177*$L$2+(AC2*(K177*$L$2))","v":0},null,null,null,0,null,"",null,"",{"$f":"IFERROR(INDEX(Brief!J:J,H177),0)","v":0},null,0,0,0,null,0,0,"","","",null,null,null,null,null,null,0,{"$f":"IF(AL177=1,SUM($AL$3:AL177),0)","v":0},0,{"$f":"IF(AN177=1,SUM($AN$3:AN177),0)","v":0}]
[null,null,null,null,{"$f":"IFERROR(INDEX('Podświetlanie modułów'!D:D,MATCH(I178,'Podświetlanie modułów'!B:B,0)),\"\")","v":""},"Dodatkowy moduł","",{"$f":"IFERROR(MATCH(I178,Brief!AA:AA,0),\"\")","v":260},{"$f":"\"Dodatkowy moduł \"&(COUNTIF($F$4:F177,\"Dodatkowy moduł\")+1)","v":"Dodatkowy moduł 34"},null,null,{"$f":"K178*$L$2+(AC2*(K178*$L$2))","v":0},null,null,null,0,null,"",null,"",{"$f":"IFERROR(INDEX(Brief!J:J,H178),0)","v":0},null,0,0,0,null,0,0,"","","",null,null,null,null,null,null,0,{"$f":"IF(AL178=1,SUM($AL$3:AL178),0)","v":0},0,{"$f":"IF(AN178=1,SUM($AN$3:AN178),0)","v":0}]
[null,null,null,null,{"$f":"IFERROR(INDEX('Podświetlanie modułów'!D:D,MATCH(I179,'Podświetlanie modułów'!B:B,0)),\"\")","v":""},"Dodatkowy moduł","",{"$f":"IFERROR(MATCH(I179,Brief!AA:AA,0),\"\")","v":261},{"$f":"\"Dodatkowy moduł \"&(COUNTIF($F$4:F178,\"Dodatkowy moduł\")+1)","v":"Dodatkowy moduł 35"},null,null,{"$f":"K179*$L$2+(AC2*(K179*$L$2))","v":0},null,null,null,0,null,"",null,"",{"$f":"IFERROR(INDEX(Brief!J:J,H179),0)","v":0},null,0,0,0,null,0,0,"","","",null,null,null,null,null,null,0,{"$f":"IF(AL179=1,SUM($AL$3:AL179),0)","v":0},0,{"$f":"IF(AN179=1,SUM($AN$3:AN179),0)","v":0}]
[null,null,null,null,{"$f":"IFERROR(INDEX('Podświetlanie modułów'!D:D,MATCH(I180,'Podświetlanie modułów'!B:B,0)),\"\")","v":""},"Powiadomienia i","",{"$f":"IFERROR(MATCH(I180,Brief!AA:AA,0),\"\")","v":""},"Powiadomienia i chat",null,null,null,null,null,null,null,null,null,null,null,null,null,null,null,null,null,null,null,"","","",null,null,null,null,null,null,0,{"$f":"IF(AL180=1,SUM($AL$3:AL180),0)","v":0},0,{"$f":"IF(AN180=1,SUM($AN$3:AN180),0)","v":0}]
["x",null,null,"x",{"$f":"IFERROR(INDEX('Podświetlanie modułów'!D:D,MATCH(I181,'Podświetlanie modułów'!B:B,0)),\"\")","v":""},"Powiadomienia W","",{"$f":"IFERROR(MATCH(I181,Brief!AA:AA,0),\"\")","v":263},"Powiadomienia Web Push (implementacja)",null,0,{"$f":"K181*$L$2+(AC2*(K181*$L$2))","v":0},null,null,2,300,null,"",null,"",{"$f":"IFERROR(INDEX(Brief!J:J,H181),0)","v":0},null,0,0,{"$f":"IF($U$19>0,ROUNDUP(X181*(1+$Y$2),-1),ROUNDUP(W181*(1+$Y$2),-1))","v":0},null,{"$f":"U181","v":0},{"$f":"Z181*AA181","v":0},"","","",null,null,null,null,"https://wordpress.org/plugins/gravitec-net-web-push-notifications/",null,0,{"$f":"IF(AL181=1,SUM($AL$3:AL181),0)","v":0},0,{"$f":"IF(AN181=1,SUM($AN$3:AN181),0)","v":0}]
["x",null,null,"x",{"$f":"IFERROR(INDEX('Podświetlanie modułów'!D:D,MATCH(I182,'Podświetlanie modułów'!B:B,0)),\"\")","v":""},"Chat na stronie","",{"$f":"IFERROR(MATCH(I182,Brief!AA:AA,0),\"\")","v":264},"Chat na stronie np.czater  (implementacja)",null,0,{"$f":"K182*$L$2+(AC2*(K182*$L$2))","v":0},1,{"$f":"M182*$N$2+($AD$2*(M182*$N$2))","v":120},0,0,null,"",null,"",{"$f":"IFERROR(INDEX(Brief!J:J,H182),0)","v":0},null,{"$f":"U182*(L182+N182)*(1+$W$2)","v":0},0,0,null,0,0,"",{"$f":"IF(U182=0,\"\",IF($U$19=0,M182*U182,IF(ISBLANK(Q182),M182*U182,Q182*U182)))","v":""},"",null,null,null,null,"czater.pl",null,0,{"$f":"IF(AL182=1,SUM($AL$3:AL182),0)","v":0},0,{"$f":"IF(AN182=1,SUM($AN$3:AN182),0)","v":0}]
["x",null,null,"x",{"$f":"IFERROR(INDEX('Podświetlanie modułów'!D:D,MATCH(I183,'Podświetlanie modułów'!B:B,0)),\"\")","v":""},"Messenger na st","",{"$f":"IFERROR(MATCH(I183,Brief!AA:AA,0),\"\")","v":265},"Messenger na stronie (implementacja)",null,0,{"$f":"K183*$L$2+(AC2*(K183*$L$2))","v":0},1,{"$f":"M183*$N$2+($AD$2*(M183*$N$2))","v":120},0,0,null,"",null,"",{"$f":"IFERROR(INDEX(Brief!J:J,H183),0)","v":0},null,{"$f":"U183*(L183+N183)*(1+$W$2)","v":0},0,0,null,0,0,"","","",null,"https://studiokreacja.pl/",null,null,"messenger fb developer",null,0,{"$f":"IF(AL183=1,SUM($AL$3:AL183),0)","v":0},0,{"$f":"IF(AN183=1,SUM($AN$3:AN183),0)","v":0}]
[null,null,null,null,{"$f":"IFERROR(INDEX('Podświetlanie modułów'!D:D,MATCH(I184,'Podświetlanie modułów'!B:B,0)),\"\")","v":""},{"$f":"LEFT(I184,15)","v":"Dodatkowy moduł"},"",{"$f":"IFERROR(MATCH(I184,Brief!AA:AA,0),\"\")","v":266},{"$f":"\"Dodatkowy moduł \"&(COUNTIF($F$4:F183,\"Dodatkowy moduł\")+1)","v":"Dodatkowy moduł 36"},null,null,{"$f":"K184*$L$2+(AC2*(K184*$L$2))","v":0},null,null,null,0,null,"",null,"",{"$f":"IFERROR(INDEX(Brief!J:J,H184),0)","v":0},null,0,0,0,null,0,0,"","","",null,null,null,null,null,null,0,{"$f":"IF(AL184=1,SUM($AL$3:AL184),0)","v":0},0,{"$f":"IF(AN184=1,SUM($AN$3:AN184),0)","v":0}]
[null,null,null,null,{"$f":"IFERROR(INDEX('Podświetlanie modułów'!D:D,MATCH(I185,'Podświetlanie modułów'!B:B,0)),\"\")","v":""},"Dodatkowy moduł","",{"$f":"IFERROR(MATCH(I185,Brief!AA:AA,0),\"\")","v":267},{"$f":"\"Dodatkowy moduł \"&(COUNTIF($F$4:F184,\"Dodatkowy moduł\")+1)","v":"Dodatkowy moduł 37"},null,null,{"$f":"K185*$L$2+(AC2*(K185*$L$2))","v":0},null,null,null,0,null,"",null,"",{"$f":"IFERROR(INDEX(Brief!J:J,H185),0)","v":0},null,0,0,0,null,0,0,"","","",null,null,null,null,null,null,0,{"$f":"IF(AL185=1,SUM($AL$3:AL185),0)","v":0},0,{"$f":"IF(AN185=1,SUM($AN$3:AN185),0)","v":0}]
[null,null,null,null,{"$f":"IFERROR(INDEX('Podświetlanie modułów'!D:D,MATCH(I186,'Podświetlanie modułów'!B:B,0)),\"\")","v":""},"Dodatkowy moduł","",{"$f":"IFERROR(MATCH(I186,Brief!AA:AA,0),\"\")","v":268},{"$f":"\"Dodatkowy moduł \"&(COUNTIF($F$4:F185,\"Dodatkowy moduł\")+1)","v":"Dodatkowy moduł 38"},null,null,{"$f":"K186*$L$2+(AC2*(K186*$L$2))","v":0},null,null,null,0,null,"",null,"",{"$f":"IFERROR(INDEX(Brief!J:J,H186),0)","v":0},null,0,0,0,null,0,0,"","","",null,null,null,null,null,null,0,{"$f":"IF(AL186=1,SUM($AL$3:AL186),0)","v":0},0,{"$f":"IF(AN186=1,SUM($AN$3:AN186),0)","v":0}]
[null,null,null,null,{"$f":"IFERROR(INDEX('Podświetlanie modułów'!D:D,MATCH(I187,'Podświetlanie modułów'!B:B,0)),\"\")","v":""},"Dodatkowe opcje","",{"$f":"IFERROR(MATCH(I187,Brief!AA:AA,0),\"\")","v":""},"Dodatkowe opcje",null,null,null,null,null,null,null,null,null,null,null,null,null,null,null,null,null,null,null,"","","",null,null,null,null,null,null,0,{"$f":"IF(AL187=1,SUM($AL$3:AL187),0)","v":0},0,{"$f":"IF(AN187=1,SUM($AN$3:AN187),0)","v":0}]
[null,null,null,"x",{"$f":"IFERROR(INDEX('Podświetlanie modułów'!D:D,MATCH(I188,'Podświetlanie modułów'!B:B,0)),\"\")","v":""},"Wersje językowe","",{"$f":"IFERROR(MATCH(I188,Brief!AA:AA,0),\"\")","v":270},"Wersje językowe Google Translator",null,0,{"$f":"K188*$L$2+(AC2*(K188*$L$2))","v":0},null,null,1,150,null,"",null,"",{"$f":"IFERROR(INDEX(Brief!J:J,H188),0)","v":0},null,{"$f":"U188*(L188+P188)*(1+$W$2)","v":0},0,{"$f":"IF($U$19>0,ROUNDUP(X188*(1+$Y$2),-1),ROUNDUP(W188*(1+$Y$2),-1))","v":0},null,{"$f":"U188","v":0},{"$f":"Z188*AA188","v":0},"","","",null,null,null,null,null,null,0,{"$f":"IF(AL188=1,SUM($AL$3:AL188),0)","v":0},0,{"$f":"IF(AN188=1,SUM($AN$3:AN188),0)","v":0}]
[null,null,null,null,{"$f":"IFERROR(INDEX('Podświetlanie modułów'!D:D,MATCH(I189,'Podświetlanie modułów'!B:B,0)),\"\")","v":""},"Tryby w header ","",{"$f":"IFERROR(MATCH(I189,Brief!AA:AA,0),\"\")","v":271},"Tryby w header \"Klient indywidualny\" \"Klient biznesowy\"","od",3,{"$f":"K189*$L$2+(AC2*(K189*$L$2))","v":360},null,null,10,1500,2,240,null,"",{"$f":"IFERROR(INDEX(Brief!J:J,H189),0)","v":0},null,0,0,0,null,0,0,"","","",null,"https://bawa.com.pl/","https://pwsz-gniezno.edu.pl/",null,null,null,0,{"$f":"IF(AL189=1,SUM($AL$3:AL189),0)","v":0},0,{"$f":"IF(AN189=1,SUM($AN$3:AN189),0)","v":0}]
[null,null,null,"x",{"$f":"IFERROR(INDEX('Podświetlanie modułów'!D:D,MATCH(I190,'Podświetlanie modułów'!B:B,0)),\"\")","v":""},"Powiększ litery","",{"$f":"IFERROR(MATCH(I190,Brief!AA:AA,0),\"\")","v":272},"Powiększ litery kontrast","od",0.3,{"$f":"K190*$L$2+(AC2*(K190*$L$2))","v":36},null,null,3,450,null,"",null,"",{"$f":"IFERROR(INDEX(Brief!J:J,H190),0)","v":0},null,0,0,0,null,0,0,"","","",null,"https://www.sremskiewodociagi.pl/",null,null,"Availability - krzyśka",null,0,{"$f":"IF(AL190=1,SUM($AL$3:AL190),0)","v":0},0,{"$f":"IF(AN190=1,SUM($AN$3:AN190),0)","v":0}]
[null,null,null,null,{"$f":"IFERROR(INDEX('Podświetlanie modułów'!D:D,MATCH(I191,'Podświetlanie modułów'!B:B,0)),\"\")","v":""},"Dodatkowy moduł","",{"$f":"IFERROR(MATCH(I191,Brief!AA:AA,0),\"\")","v":273},{"$f":"\"Dodatkowy moduł \"&(COUNTIF($F$4:F190,\"Dodatkowy moduł\")+1)","v":"Dodatkowy moduł 39"},null,null,{"$f":"K191*$L$2+(AC2*(K191*$L$2))","v":0},null,null,null,0,null,"",null,"",{"$f":"IFERROR(INDEX(Brief!J:J,H191),0)","v":0},null,0,0,0,null,0,0,"","","",null,null,null,null,null,null,0,{"$f":"IF(AL191=1,SUM($AL$3:AL191),0)","v":0},0,{"$f":"IF(AN191=1,SUM($AN$3:AN191),0)","v":0}]
[null,null,null,null,{"$f":"IFERROR(INDEX('Podświetlanie modułów'!D:D,MATCH(I192,'Podświetlanie modułów'!B:B,0)),\"\")","v":""},"Dodatkowy moduł","",{"$f":"IFERROR(MATCH(I192,Brief!AA:AA,0),\"\")","v":274},{"$f":"\"Dodatkowy moduł \"&(COUNTIF($F$4:F191,\"Dodatkowy moduł\")+1)","v":"Dodatkowy moduł 40"},null,null,{"$f":"K192*$L$2+(AC2*(K192*$L$2))","v":0},null,null,null,0,null,"",null,"",{"$f":"IFERROR(INDEX(Brief!J:J,H192),0)","v":0},null,0,0,0,null,0,0,"","","",null,null,null,null,null,null,0,{"$f":"IF(AL192=1,SUM($AL$3:AL192),0)","v":0},0,{"$f":"IF(AN192=1,SUM($AN$3:AN192),0)","v":0}]
[null,null,null,null,{"$f":"IFERROR(INDEX('Podświetlanie modułów'!D:D,MATCH(I193,'Podświetlanie modułów'!B:B,0)),\"\")","v":""},"Dodatkowy moduł","",{"$f":"IFERROR(MATCH(I193,Brief!AA:AA,0),\"\")","v":275},{"$f":"\"Dodatkowy moduł \"&(COUNTIF($F$4:F192,\"Dodatkowy moduł\")+1)","v":"Dodatkowy moduł 41"},null,null,{"$f":"K193*$L$2+(AC2*(K193*$L$2))","v":0},null,null,null,0,null,"",null,"",{"$f":"IFERROR(INDEX(Brief!J:J,H193),0)","v":0},null,0,0,0,null,0,0,"","","",null,null,null,null,null,null,0,{"$f":"IF(AL193=1,SUM($AL$3:AL193),0)","v":0},0,{"$f":"IF(AN193=1,SUM($AN$3:AN193),0)","v":0}]
[null,null,null,null,{"$f":"IFERROR(INDEX('Podświetlanie modułów'!D:D,MATCH(I194,'Podświetlanie modułów'!B:B,0)),\"\")","v":""},"Strefa dla klie","",{"$f":"IFERROR(MATCH(I194,Brief!AA:AA,0),\"\")","v":""},"Strefa dla klienta",null,null,null,null,null,null,null,null,null,null,null,null,null,null,null,null,null,null,null,"","","",null,null,null,null,null,null,0,{"$f":"IF(AL194=1,SUM($AL$3:AL194),0)","v":0},0,{"$f":"IF(AN194=1,SUM($AN$3:AN194),0)","v":0}]
[null,null,null,"x",{"$f":"IFERROR(INDEX('Podświetlanie modułów'!D:D,MATCH(I195,'Podświetlanie modułów'!B:B,0)),\"\")","v":""},"Repozytorium pl","",{"$f":"IFERROR(MATCH(I195,Brief!AA:AA,0),\"\")","v":277},"Repozytorium plików dla zalogowanych","od",2,{"$f":"K195*$L$2+(AC2*(K195*$L$2))","v":240},null,null,5,750,null,"",null,"",{"$f":"IFERROR(INDEX(Brief!J:J,H195),0)","v":0},null,0,0,{"$f":"IF($U$19>0,ROUNDUP(X195*(1+$Y$2),-1),ROUNDUP(W195*(1+$Y$2),-1))","v":0},null,{"$f":"U195","v":0},{"$f":"Z195*AA195","v":0},"","","",null,null,null,null,"File Manager Frontend",null,0,{"$f":"IF(AL195=1,SUM($AL$3:AL195),0)","v":0},0,{"$f":"IF(AN195=1,SUM($AN$3:AN195),0)","v":0}]
[null,null,null,"x",{"$f":"IFERROR(INDEX('Podświetlanie modułów'!D:D,MATCH(I196,'Podświetlanie modułów'!B:B,0)),\"\")","v":""},"Panel logowania","",{"$f":"IFERROR(MATCH(I196,Brief!AA:AA,0),\"\")","v":278},"Panel logowania dla klientów","od",3,{"$f":"K196*$L$2+(AC2*(K196*$L$2))","v":360},null,null,10,1500,null,"",null,"",{"$f":"IFERROR(INDEX(Brief!J:J,H196),0)","v":0},null,0,0,{"$f":"IF($U$19>0,ROUNDUP(X196*(1+$Y$2),-1),ROUNDUP(W196*(1+$Y$2),-1))","v":0},null,{"$f":"U196","v":0},{"$f":"Z196*AA196","v":0},"","","",null,null,null,null,null,null,0,{"$f":"IF(AL196=1,SUM($AL$3:AL196),0)","v":0},{"$f":"IF(AD196=\"\",0,IF(AD196=0,0,1))","v":0},{"$f":"IF(AN196=1,SUM($AN$3:AN196),0)","v":0}]
[null,null,null,null,{"$f":"IFERROR(INDEX('Podświetlanie modułów'!D:D,MATCH(I197,'Podświetlanie modułów'!B:B,0)),\"\")","v":""},"Dodatkowy moduł",{"$f":"IF($G$2=\"x\",W197,\"\")","v":""},{"$f":"IFERROR(MATCH(I197,Brief!AA:AA,0),\"\")","v":279},{"$f":"\"Dodatkowy moduł \"&(COUNTIF($F$4:F196,\"Dodatkowy moduł\")+1)","v":"Dodatkowy moduł 42"},null,null,{"$f":"K197*$L$2+(AC2*(K197*$L$2))","v":0},null,null,null,0,null,{"$f":"IF(AND(D197=\"x\",Q197>0),\"błąd\",IF(Q197=\"\",\"\",Q197*$R$2+($AE$2*(Q197*$R$2))))","v":""},null,{"$f":"IF(AND(D197=\"x\",S197>0),\"błąd\",IF(S197=\"\",\"\",S197*$T$2+($AE$2*(S197*$T$2))))","v":""},{"$f":"IFERROR(INDEX(Brief!J:J,H197),0)","v":0},null,0,{"$f":"IF(D197=\"x\",W197,U197*(L197+IF(R197=\"\",0,R197)+IF(T197=\"\",0,T197))*(1+$X$2))","v":0},{"$f":"IF($U$19>0,ROUNDUP(X197*(1+$Y$2),-1),ROUNDUP(W197*(1+$Y$2),-1))","v":0},null,{"$f":"U197","v":0},{"$f":"Z197*AA197","v":0},{"$f":"IF(U197=0,\"\",U197*K197)","v":""},"",{"$f":"IF(U197=0,\"\",IF($U$19=0,O197*U197,IF(ISBLANK(S197),O197*U197,S197*U197)))","v":""},null,null,null,null,null,null,{"$f":"IF(AE197=\"\",0,IF(AE197=0,0,1))","v":0},{"$f":"IF(AL197=1,SUM($AL$3:AL197),0)","v":0},0,{"$f":"IF(AN197=1,SUM($AN$3:AN197),0)","v":0}]
[null,null,null,null,{"$f":"IFERROR(INDEX('Podświetlanie modułów'!D:D,MATCH(I198,'Podświetlanie modułów'!B:B,0)),\"\")","v":""},"Dodatkowy moduł","",{"$f":"IFERROR(MATCH(I198,Brief!AA:AA,0),\"\")","v":280},{"$f":"\"Dodatkowy moduł \"&(COUNTIF($F$4:F197,\"Dodatkowy moduł\")+1)","v":"Dodatkowy moduł 43"},null,null,{"$f":"K198*$L$2+(AC2*(K198*$L$2))","v":0},null,null,null,{"$f":"$P$2*O198+($AE$2*(O198*$P$2))","v":0},null,"",null,"",{"$f":"IFERROR(INDEX(Brief!J:J,H198),0)","v":0},null,0,0,{"$f":"IF($U$19>0,ROUNDUP(X198*(1+$Y$2),-1),ROUNDUP(W198*(1+$Y$2),-1))","v":0},null,{"$f":"U198","v":0},{"$f":"Z198*AA198","v":0},"","","",null,null,null,null,null,null,0,{"$f":"IF(AL198=1,SUM($AL$3:AL198),0)","v":0},0,{"$f":"IF(AN198=1,SUM($AN$3:AN198),0)","v":0}]
[null,null,null,null,{"$f":"IFERROR(INDEX('Podświetlanie modułów'!D:D,MATCH(I199,'Podświetlanie modułów'!B:B,0)),\"\")","v":""},"Płatności","",{"$f":"IFERROR(MATCH(I199,Brief!AA:AA,0),\"\")","v":""},"Płatności",null,null,null,null,null,null,null,null,null,null,null,null,null,null,null,null,null,null,null,"","","",null,null,null,null,null,null,0,{"$f":"IF(AL199=1,SUM($AL$3:AL199),0)","v":0},0,{"$f":"IF(AN199=1,SUM($AN$3:AN199),0)","v":0}]
[null,null,null,"x",{"$f":"IFERROR(INDEX('Podświetlanie modułów'!D:D,MATCH(I200,'Podświetlanie modułów'!B:B,0)),\"\")","v":""},"Szybka płatność","",{"$f":"IFERROR(MATCH(I200,Brief!AA:AA,0),\"\")","v":282},"Szybka płatność (przelewy24)",null,null,{"$f":"K200*$L$2+(AC2*(K200*$L$2))","v":0},2,{"$f":"M200*$N$2+($AD$2*(M200*$N$2))","v":240},0,{"$f":"$P$2*O200+($AE$2*(O200*$P$2))","v":0},null,"",null,"",{"$f":"IFERROR(INDEX(Brief!J:J,H200),0)","v":0},null,{"$f":"U200*(L200+N200)*(1+$W$2)","v":0},0,{"$f":"IF($U$19>0,ROUNDUP(X200*(1+$Y$2),-1),ROUNDUP(W200*(1+$Y$2),-1))","v":0},null,{"$f":"U200","v":0},{"$f":"Z200*AA200","v":0},"","","",null,"https://fundacjabezdzwonka.pl/wsparcie-dla-fundacji/",null,null,null,null,0,{"$f":"IF(AL200=1,SUM($AL$3:AL200),0)","v":0},0,{"$f":"IF(AN200=1,SUM($AN$3:AN200),0)","v":0}]
[null,null,null,"x",{"$f":"IFERROR(INDEX('Podświetlanie modułów'!D:D,MATCH(I201,'Podświetlanie modułów'!B:B,0)),\"\")","v":""},"Przelew darowiz","",{"$f":"IFERROR(MATCH(I201,Brief!AA:AA,0),\"\")","v":283},"Przelew darowizny ",null,null,{"$f":"K201*$L$2+(AC2*(K201*$L$2))","v":0},2,{"$f":"M201*$N$2+($AD$2*(M201*$N$2))","v":240},0,{"$f":"$P$2*O201+($AE$2*(O201*$P$2))","v":0},null,"",null,"",{"$f":"IFERROR(INDEX(Brief!J:J,H201),0)","v":0},null,{"$f":"U201*(L201+N201)*(1+$W$2)","v":0},0,{"$f":"IF($U$19>0,ROUNDUP(X201*(1+$Y$2),-1),ROUNDUP(W201*(1+$Y$2),-1))","v":0},null,{"$f":"U201","v":0},{"$f":"Z201*AA201","v":0},"","","",null,"https://mam-serce.org/zbiorki/jagoda-labus/",null,null,"mam-serce.org",null,0,{"$f":"IF(AL201=1,SUM($AL$3:AL201),0)","v":0},0,{"$f":"IF(AN201=1,SUM($AN$3:AN201),0)","v":0}]
[null,null,null,null,{"$f":"IFERROR(INDEX('Podświetlanie modułów'!D:D,MATCH(I202,'Podświetlanie modułów'!B:B,0)),\"\")","v":""},"Dodatkowy moduł","",{"$f":"IFERROR(MATCH(I202,Brief!AA:AA,0),\"\")","v":284},{"$f":"\"Dodatkowy moduł \"&(COUNTIF($F$4:F201,\"Dodatkowy moduł\")+1)","v":"Dodatkowy moduł 44"},null,null,{"$f":"K202*$L$2+(AC2*(K202*$L$2))","v":0},null,{"$f":"M202*$N$2+($AD$2*(M202*$N$2))","v":0},null,{"$f":"$P$2*O202+($AE$2*(O202*$P$2))","v":0},null,"",null,"",{"$f":"IFERROR(INDEX(Brief!J:J,H202),0)","v":0},null,0,0,{"$f":"IF($U$19>0,ROUNDUP(X202*(1+$Y$2),-1),ROUNDUP(W202*(1+$Y$2),-1))","v":0},null,{"$f":"U202","v":0},{"$f":"Z202*AA202","v":0},"","","",null,null,null,null,null,null,0,{"$f":"IF(AL202=1,SUM($AL$3:AL202),0)","v":0},0,{"$f":"IF(AN202=1,SUM($AN$3:AN202),0)","v":0}]
[null,null,null,null,{"$f":"IFERROR(INDEX('Podświetlanie modułów'!D:D,MATCH(I203,'Podświetlanie modułów'!B:B,0)),\"\")","v":""},"Dodatkowy moduł","",{"$f":"IFERROR(MATCH(I203,Brief!AA:AA,0),\"\")","v":285},{"$f":"\"Dodatkowy moduł \"&(COUNTIF($F$4:F202,\"Dodatkowy moduł\")+1)","v":"Dodatkowy moduł 45"},null,null,{"$f":"K203*$L$2+(AC2*(K203*$L$2))","v":0},null,{"$f":"M203*$N$2+($AD$2*(M203*$N$2))","v":0},null,{"$f":"$P$2*O203+($AE$2*(O203*$P$2))","v":0},null,"",null,"",{"$f":"IFERROR(INDEX(Brief!J:J,H203),0)","v":0},null,0,0,{"$f":"IF($U$19>0,ROUNDUP(X203*(1+$Y$2),-1),ROUNDUP(W203*(1+$Y$2),-1))","v":0},null,{"$f":"U203","v":0},{"$f":"Z203*AA203","v":0},"","","",null,null,null,null,null,null,0,{"$f":"IF(AL203=1,SUM($AL$3:AL203),0)","v":0},0,{"$f":"IF(AN203=1,SUM($AN$3:AN203),0)","v":0}]
[null,null,null,null,{"$f":"IFERROR(INDEX('Podświetlanie modułów'!D:D,MATCH(I204,'Podświetlanie modułów'!B:B,0)),\"\")","v":""},"Efekty specjaln","",{"$f":"IFERROR(MATCH(I204,Brief!AA:AA,0),\"\")","v":""},"Efekty specjalne",null,null,null,null,null,null,null,null,null,null,null,null,null,null,null,null,null,null,null,"","","",null,null,null,null,null,null,0,{"$f":"IF(AL204=1,SUM($AL$3:AL204),0)","v":0},0,{"$f":"IF(AN204=1,SUM($AN$3:AN204),0)","v":0}]
[null,null,null,"x",{"$f":"IFERROR(INDEX('Podświetlanie modułów'!D:D,MATCH(I205,'Podświetlanie modułów'!B:B,0)),\"\")","v":""},"Dynamiczny popu","",{"$f":"IFERROR(MATCH(I205,Brief!AA:AA,0),\"\")","v":287},"Dynamiczny popup całej podstrony","od",1,{"$f":"K205*$L$2+(AC2*(K205*$L$2))","v":120},null,null,5,{"$f":"$P$2*O205+($AE$2*(O205*$P$2))","v":750},null,"",null,"",{"$f":"IFERROR(INDEX(Brief!J:J,H205),0)","v":0},null,{"$f":"U205*(L205+P205)*(1+$W$2)","v":0},0,{"$f":"IF($U$19>0,ROUNDUP(X205*(1+$Y$2),-1),ROUNDUP(W205*(1+$Y$2),-1))","v":0},null,{"$f":"U205","v":0},{"$f":"Z205*AA205","v":0},"","","",null,"http://19.demooo.pl/?osoba=dr-hab-prof-uam-katarzyna-leskiewicz",null,null,"ACF własny ",null,0,{"$f":"IF(AL205=1,SUM($AL$3:AL205),0)","v":0},0,{"$f":"IF(AN205=1,SUM($AN$3:AN205),0)","v":0}]
["x",null,null,null,{"$f":"IFERROR(INDEX('Podświetlanie modułów'!D:D,MATCH(I206,'Podświetlanie modułów'!B:B,0)),\"\")","v":""},"Obrazki z pinez","",{"$f":"IFERROR(MATCH(I206,Brief!AA:AA,0),\"\")","v":288},"Obrazki z pinezkami (Elementor)","od",1,{"$f":"K206*$L$2+(AC2*(K206*$L$2))","v":120},2,{"$f":"M206*$N$2+($AD$2*(M206*$N$2))","v":240},0,0,2,240,null,"",{"$f":"IFERROR(INDEX(Brief!J:J,H206),0)","v":0},null,{"$f":"U206*(L206+N206)*(1+$W$2)","v":0},0,0,null,{"$f":"U206","v":0},0,"","","",null,"http://lightwood.pl",null,null,"ACF własny ",null,0,{"$f":"IF(AL206=1,SUM($AL$3:AL206),0)","v":0},0,{"$f":"IF(AN206=1,SUM($AN$3:AN206),0)","v":0}]
["x",null,null,null,{"$f":"IFERROR(INDEX('Podświetlanie modułów'!D:D,MATCH(I207,'Podświetlanie modułów'!B:B,0)),\"\")","v":""},"Foto przed i po","",{"$f":"IFERROR(MATCH(I207,Brief!AA:AA,0),\"\")","v":289},"Foto przed i po",null,0.5,{"$f":"K207*$L$2+(AC2*(K207*$L$2))","v":60},null,null,1,150,1,120,null,"",{"$f":"IFERROR(INDEX(Brief!J:J,H207),0)","v":0},null,{"$f":"U207*(L207+P207)*(1+$W$2)","v":0},0,0,null,0,0,"","","",null,"https://wordpress.org/plugins/before-after-image-comparison-slider-for-elementor/",null,null,null,null,0,{"$f":"IF(AL207=1,SUM($AL$3:AL207),0)","v":0},0,{"$f":"IF(AN207=1,SUM($AN$3:AN207),0)","v":0}]
["x",null,null,null,{"$f":"IFERROR(INDEX('Podświetlanie modułów'!D:D,MATCH(I208,'Podświetlanie modułów'!B:B,0)),\"\")","v":""},"Animacje elemen","",{"$f":"IFERROR(MATCH(I208,Brief!AA:AA,0),\"\")","v":290},"Animacje elementów (Elementor)",null,0,{"$f":"K208*$L$2+(AC2*(K208*$L$2))","v":0},2,{"$f":"M208*$N$2+($AD$2*(M208*$N$2))","v":240},0,0,2,240,null,"",{"$f":"IFERROR(INDEX(Brief!J:J,H208),0)","v":0},null,{"$f":"U208*(L208+N208)*(1+$W$2)","v":0},0,0,null,0,0,"","","",null,"http://8.demooo.pl/",null,null,null,null,0,{"$f":"IF(AL208=1,SUM($AL$3:AL208),0)","v":0},0,{"$f":"IF(AN208=1,SUM($AN$3:AN208),0)","v":0}]
["x",null,null,null,{"$f":"IFERROR(INDEX('Podświetlanie modułów'!D:D,MATCH(I209,'Podświetlanie modułów'!B:B,0)),\"\")","v":""},"Animacje elemen","",{"$f":"IFERROR(MATCH(I209,Brief!AA:AA,0),\"\")","v":291},"Animacje elementów (autorskie)","od",1,{"$f":"K209*$L$2+(AC2*(K209*$L$2))","v":120},null,null,3,450,null,"",null,"",{"$f":"IFERROR(INDEX(Brief!J:J,H209),0)","v":0},null,0,0,0,null,0,0,"","","",null,"http://8.demooo.pl/",null,null,null,null,0,{"$f":"IF(AL209=1,SUM($AL$3:AL209),0)","v":0},0,{"$f":"IF(AN209=1,SUM($AN$3:AN209),0)","v":0}]
["x",null,null,null,{"$f":"IFERROR(INDEX('Podświetlanie modułów'!D:D,MATCH(I210,'Podświetlanie modułów'!B:B,0)),\"\")","v":""},"Tło wideo","",{"$f":"IFERROR(MATCH(I210,Brief!AA:AA,0),\"\")","v":292},"Tło wideo",null,0,{"$f":"K210*$L$2+(AC2*(K210*$L$2))","v":0},null,null,1,150,0.5,60,null,"",{"$f":"IFERROR(INDEX(Brief!J:J,H210),0)","v":0},null,0,0,0,null,0,0,"","","",null,"https://tonyzgrywus.pl/",null,null,null,null,0,{"$f":"IF(AL210=1,SUM($AL$3:AL210),0)","v":0},0,{"$f":"IF(AN210=1,SUM($AN$3:AN210),0)","v":0}]
["x",null,null,null,{"$f":"IFERROR(INDEX('Podświetlanie modułów'!D:D,MATCH(I211,'Podświetlanie modułów'!B:B,0)),\"\")","v":""},"Tło reagujące n","",{"$f":"IFERROR(MATCH(I211,Brief!AA:AA,0),\"\")","v":293},"Tło reagujące na kursor","od",0,{"$f":"K211*$L$2+(AC2*(K211*$L$2))","v":0},null,null,2,300,1,120,null,"",{"$f":"IFERROR(INDEX(Brief!J:J,H211),0)","v":0},null,0,0,0,null,0,0,"","","",null,"https://studiokreacja.pl/",null,null,null,null,0,{"$f":"IF(AL211=1,SUM($AL$3:AL211),0)","v":0},0,{"$f":"IF(AN211=1,SUM($AN$3:AN211),0)","v":0}]
["x",null,null,null,{"$f":"IFERROR(INDEX('Podświetlanie modułów'!D:D,MATCH(I212,'Podświetlanie modułów'!B:B,0)),\"\")","v":""},"Tło parallax","",{"$f":"IFERROR(MATCH(I212,Brief!AA:AA,0),\"\")","v":294},"Tło parallax","od",0,{"$f":"K212*$L$2+(AC2*(K212*$L$2))","v":0},null,null,1,150,0.5,60,null,"",{"$f":"IFERROR(INDEX(Brief!J:J,H212),0)","v":0},null,0,0,0,null,0,0,"","","",null,"https://ama-bale.pl/",null,null,null,null,0,{"$f":"IF(AL212=1,SUM($AL$3:AL212),0)","v":0},0,{"$f":"IF(AN212=1,SUM($AN$3:AN212),0)","v":0}]
["x",null,null,"x",{"$f":"IFERROR(INDEX('Podświetlanie modułów'!D:D,MATCH(I213,'Podświetlanie modułów'!B:B,0)),\"\")","v":""},"Produkt 3D","",{"$f":"IFERROR(MATCH(I213,Brief!AA:AA,0),\"\")","v":295},"Produkt 3D",null,0.5,{"$f":"K213*$L$2+(AC2*(K213*$L$2))","v":60},null,null,2,300,null,"",null,"",{"$f":"IFERROR(INDEX(Brief!J:J,H213),0)","v":0},null,0,0,0,null,0,0,"","","",null,"http://www.stomil-poznan.pl/opony/opona-u42-rozmiar-8-40-15c-nosnosc-1/",null,null,null,null,0,{"$f":"IF(AL213=1,SUM($AL$3:AL213),0)","v":0},0,{"$f":"IF(AN213=1,SUM($AN$3:AN213),0)","v":0}]
["x",null,null,"x",{"$f":"IFERROR(INDEX('Podświetlanie modułów'!D:D,MATCH(I214,'Podświetlanie modułów'!B:B,0)),\"\")","v":""},"Produkt 360","",{"$f":"IFERROR(MATCH(I214,Brief!AA:AA,0),\"\")","v":296},"Produkt 360","od",0.5,{"$f":"K214*$L$2+(AC2*(K214*$L$2))","v":60},null,null,2,300,null,"",null,"",{"$f":"IFERROR(INDEX(Brief!J:J,H214),0)","v":0},null,0,0,0,null,0,0,"","","",null,null,null,null,null,null,0,{"$f":"IF(AL214=1,SUM($AL$3:AL214),0)","v":0},0,{"$f":"IF(AN214=1,SUM($AN$3:AN214),0)","v":0}]
["x",null,null,"x",{"$f":"IFERROR(INDEX('Podświetlanie modułów'!D:D,MATCH(I215,'Podświetlanie modułów'!B:B,0)),\"\")","v":""},"Przestrzeń z ka","",{"$f":"IFERROR(MATCH(I215,Brief!AA:AA,0),\"\")","v":297},"Przestrzeń z kamery 360","od",0.5,{"$f":"K215*$L$2+(AC2*(K215*$L$2))","v":60},2,{"$f":"M215*$N$2+($AD$2*(M215*$N$2))","v":240},2,300,null,"",null,"",{"$f":"IFERROR(INDEX(Brief!J:J,H215),0)","v":0},null,{"$f":"U215*(L215+N215)*(1+$W$2)","v":0},0,0,null,0,0,"","","",null,"http://rodzinny-zakatek.pl/dom-szeregowy-92-m2/#kamery-360","https://momento360.com/e/u/aed7c253b9cb4eaaa5f0bb5867895ed7?utm_campaign=embed&utm_source=other&heading=0&pitch=0&field-of-view=75",null,"osadzone w treści lub jako popup",null,0,{"$f":"IF(AL215=1,SUM($AL$3:AL215),0)","v":0},0,{"$f":"IF(AN215=1,SUM($AN$3:AN215),0)","v":0}]
["x",null,null,"x",{"$f":"IFERROR(INDEX('Podświetlanie modułów'!D:D,MATCH(I216,'Podświetlanie modułów'!B:B,0)),\"\")","v":""},"Flipbook / Inte","",{"$f":"IFERROR(MATCH(I216,Brief!AA:AA,0),\"\")","v":298},"Flipbook / Interaktywna książka",null,0.5,{"$f":"K216*$L$2+(AC2*(K216*$L$2))","v":60},2,{"$f":"M216*$N$2+($AD$2*(M216*$N$2))","v":240},1,150,null,"",null,"",{"$f":"IFERROR(INDEX(Brief!J:J,H216),0)","v":0},null,{"$f":"U216*(L216+N216)*(1+$W$2)","v":0},0,0,null,0,0,"",{"$f":"IF(U216=0,\"\",IF($U$19=0,M216*U216,IF(ISBLANK(Q216),M216*U216,Q216*U216)))","v":""},"",null,"https://lokum-inwest.pl/katalog-realizowanych-inwestycji/ ","https://formatiq.pl/katalog-produktow-posypki-impregnaty-beton/",null,"real3d-flipbook.zip",null,0,{"$f":"IF(AL216=1,SUM($AL$3:AL216),0)","v":0},0,{"$f":"IF(AN216=1,SUM($AN$3:AN216),0)","v":0}]
["x",null,null,"x",{"$f":"IFERROR(INDEX('Podświetlanie modułów'!D:D,MATCH(I217,'Podświetlanie modułów'!B:B,0)),\"\")","v":""},"Spacer Google ","",{"$f":"IFERROR(MATCH(I217,Brief!AA:AA,0),\"\")","v":299},"Spacer Google ",null,1,{"$f":"K217*$L$2+(AC2*(K217*$L$2))","v":120},null,null,2,300,null,"",null,"",{"$f":"IFERROR(INDEX(Brief!J:J,H217),0)","v":0},null,{"$f":"U217*(L217+P217)*(1+$W$2)","v":0},0,0,null,0,0,"","","",null,"http://luksusdom.pl/#spacer-3d",null,null,null,null,0,{"$f":"IF(AL217=1,SUM($AL$3:AL217),0)","v":0},0,{"$f":"IF(AN217=1,SUM($AN$3:AN217),0)","v":0}]
[null,null,null,null,{"$f":"IFERROR(INDEX('Podświetlanie modułów'!D:D,MATCH(I218,'Podświetlanie modułów'!B:B,0)),\"\")","v":""},"Dodatkowy moduł","",{"$f":"IFERROR(MATCH(I218,Brief!AA:AA,0),\"\")","v":300},{"$f":"\"Dodatkowy moduł \"&(COUNTIF($F$4:F217,\"Dodatkowy moduł\")+1)","v":"Dodatkowy moduł 46"},null,null,{"$f":"K218*$L$2+(AC2*(K218*$L$2))","v":0},null,{"$f":"M218*$N$2+($AD$2*(M218*$N$2))","v":0},null,0,null,"",null,"",{"$f":"IFERROR(INDEX(Brief!J:J,H218),0)","v":0},null,0,0,0,null,0,0,"","","",null,null,null,null,null,null,0,{"$f":"IF(AL218=1,SUM($AL$3:AL218),0)","v":0},0,{"$f":"IF(AN218=1,SUM($AN$3:AN218),0)","v":0}]
[null,null,null,null,{"$f":"IFERROR(INDEX('Podświetlanie modułów'!D:D,MATCH(I219,'Podświetlanie modułów'!B:B,0)),\"\")","v":""},"Dodatkowy moduł","",{"$f":"IFERROR(MATCH(I219,Brief!AA:AA,0),\"\")","v":301},{"$f":"\"Dodatkowy moduł \"&(COUNTIF($F$4:F218,\"Dodatkowy moduł\")+1)","v":"Dodatkowy moduł 47"},null,null,{"$f":"K219*$L$2+(AC2*(K219*$L$2))","v":0},null,{"$f":"M219*$N$2+($AD$2*(M219*$N$2))","v":0},null,0,null,"",null,"",{"$f":"IFERROR(INDEX(Brief!J:J,H219),0)","v":0},null,{"$f":"U219*(L219+P219)*(1+$W$2)","v":0},0,0,null,0,0,"","","",null,null,null,null,null,null,0,{"$f":"IF(AL219=1,SUM($AL$3:AL219),0)","v":0},0,{"$f":"IF(AN219=1,SUM($AN$3:AN219),0)","v":0}]
[null,null,null,null,{"$f":"IFERROR(INDEX('Podświetlanie modułów'!D:D,MATCH(I220,'Podświetlanie modułów'!B:B,0)),\"\")","v":""},"Dodatkowy moduł","",{"$f":"IFERROR(MATCH(I220,Brief!AA:AA,0),\"\")","v":302},{"$f":"\"Dodatkowy moduł \"&(COUNTIF($F$4:F219,\"Dodatkowy moduł\")+1)","v":"Dodatkowy moduł 48"},null,null,{"$f":"K220*$L$2+(AC2*(K220*$L$2))","v":0},null,{"$f":"M220*$N$2+($AD$2*(M220*$N$2))","v":0},null,0,null,"",null,"",{"$f":"IFERROR(INDEX(Brief!J:J,H220),0)","v":0},null,{"$f":"U220*(L220+P220)*(1+$W$2)","v":0},0,0,null,0,0,"","","",null,null,null,null,null,null,0,{"$f":"IF(AL220=1,SUM($AL$3:AL220),0)","v":0},0,{"$f":"IF(AN220=1,SUM($AN$3:AN220),0)","v":0}]
[null,null,null,null,{"$f":"IFERROR(INDEX('Podświetlanie modułów'!D:D,MATCH(I221,'Podświetlanie modułów'!B:B,0)),\"\")","v":""},"Dodatkowy moduł","",{"$f":"IFERROR(MATCH(I221,Brief!AA:AA,0),\"\")","v":303},{"$f":"\"Dodatkowy moduł \"&(COUNTIF($F$4:F220,\"Dodatkowy moduł\")+1)","v":"Dodatkowy moduł 49"},null,null,{"$f":"K221*$L$2+(AC2*(K221*$L$2))","v":0},null,{"$f":"M221*$N$2+($AD$2*(M221*$N$2))","v":0},null,0,null,"",null,"",{"$f":"IFERROR(INDEX(Brief!J:J,H221),0)","v":0},null,{"$f":"U221*(L221+P221)*(1+$W$2)","v":0},0,0,null,0,0,"","","",null,null,null,null,null,null,0,{"$f":"IF(AL221=1,SUM($AL$3:AL221),0)","v":0},0,{"$f":"IF(AN221=1,SUM($AN$3:AN221),0)","v":0}]
[null,null,null,null,{"$f":"IFERROR(INDEX('Podświetlanie modułów'!D:D,MATCH(I222,'Podświetlanie modułów'!B:B,0)),\"\")","v":""},"Dodatkowy moduł","",{"$f":"IFERROR(MATCH(I222,Brief!AA:AA,0),\"\")","v":304},{"$f":"\"Dodatkowy moduł \"&(COUNTIF($F$4:F221,\"Dodatkowy moduł\")+1)","v":"Dodatkowy moduł 50"},null,null,{"$f":"K222*$L$2+(AC2*(K222*$L$2))","v":0},null,{"$f":"M222*$N$2+($AD$2*(M222*$N$2))","v":0},null,0,null,"",null,"",{"$f":"IFERROR(INDEX(Brief!J:J,H222),0)","v":0},null,{"$f":"U222*(L222+P222)*(1+$W$2)","v":0},0,0,null,0,0,"","","",null,null,null,null,null,null,0,{"$f":"IF(AL222=1,SUM($AL$3:AL222),0)","v":0},0,{"$f":"IF(AN222=1,SUM($AN$3:AN222),0)","v":0}]
[null,null,null,null,{"$f":"IFERROR(INDEX('Podświetlanie modułów'!D:D,MATCH(I223,'Podświetlanie modułów'!B:B,0)),\"\")","v":""},"Moduły aktualno","",{"$f":"IFERROR(MATCH(I223,Brief!AA:AA,0),\"\")","v":""},"Moduły aktualności / blog",null,null,null,null,null,null,null,null,null,null,null,null,null,null,null,null,null,null,null,"","","",null,null,null,null,null,null,0,{"$f":"IF(AL223=1,SUM($AL$3:AL223),0)","v":0},0,{"$f":"IF(AN223=1,SUM($AN$3:AN223),0)","v":0}]
["x",null,null,null,{"$f":"IFERROR(INDEX('Podświetlanie modułów'!D:D,MATCH(I224,'Podświetlanie modułów'!B:B,0)),\"\")","v":""},"Artykuł - Wpis ","",{"$f":"IFERROR(MATCH(I224,Brief!AA:AA,0),\"\")","v":""},"Artykuł - Wpis BASIC",null,1,{"$f":"K224*$L$2+(AC2*(K224*$L$2))","v":120},null,null,3,{"$f":"$P$2*O224+($AE$2*(O224*$P$2))","v":450},2,240,null,"",{"$f":"IFERROR(INDEX(Brief!J:J,H224),0)","v":0},"x",{"$f":"U224*(L224+P224)*(1+$W$2)","v":0},0,{"$f":"IF($U$19>0,ROUNDUP(X224*(1+$Y$2),-1),ROUNDUP(W224*(1+$Y$2),-1))","v":0},null,{"$f":"U224","v":0},{"$f":"Z224*AA224","v":0},"","","",null,"https://famag.pl/aktualnosci/zmieniamy-sie-dla-panstwa/",null,null,"WP",null,0,{"$f":"IF(AL224=1,SUM($AL$3:AL224),0)","v":0},0,{"$f":"IF(AN224=1,SUM($AN$3:AN224),0)","v":0}]
["x",null,null,"x",{"$f":"IFERROR(INDEX('Podświetlanie modułów'!D:D,MATCH(I225,'Podświetlanie modułów'!B:B,0)),\"\")","v":""},"Artykuł - Wpis ","",{"$f":"IFERROR(MATCH(I225,Brief!AA:AA,0),\"\")","v":306},"Artykuł - Wpis STANDARD",null,2,{"$f":"K225*$L$2+(AC2*(K225*$L$2))","v":240},null,null,4,600,null,"",null,"",{"$f":"IFERROR(INDEX(Brief!J:J,H225),0)","v":0},"x",{"$f":"U225*(L225+P225)*(1+$W$2)","v":0},0,0,null,{"$f":"U225","v":0},0,"","","",null,"http://idea-house.pl/dla-biznesu/zmiany-w-prawie-budowlanym/",null,null,"WP",null,0,{"$f":"IF(AL225=1,SUM($AL$3:AL225),0)","v":0},0,{"$f":"IF(AN225=1,SUM($AN$3:AN225),0)","v":0}]
["x",null,null,"x",{"$f":"IFERROR(INDEX('Podświetlanie modułów'!D:D,MATCH(I226,'Podświetlanie modułów'!B:B,0)),\"\")","v":""},"Artykuł - Wpis ","",{"$f":"IFERROR(MATCH(I226,Brief!AA:AA,0),\"\")","v":""},"Artykuł - Wpis PREMIUM",null,4,{"$f":"K226*$L$2+(AC2*(K226*$L$2))","v":480},null,null,6,900,null,"",null,"",{"$f":"IFERROR(INDEX(Brief!J:J,H226),0)","v":0},"x",{"$f":"U226*(L226+P226)*(1+$W$2)","v":0},0,0,null,0,0,"","","",null,"https://premium-consulting.pl/blog/czy-w-kryzysie-nalezy-ciac-wydatki-reklamowe/",null,null,"WP",null,0,{"$f":"IF(AL226=1,SUM($AL$3:AL226),0)","v":0},0,{"$f":"IF(AN226=1,SUM($AN$3:AN226),0)","v":0}]
[null,"x",null,null,{"$f":"IFERROR(INDEX('Podświetlanie modułów'!D:D,MATCH(I227,'Podświetlanie modułów'!B:B,0)),\"\")","v":""},"Dodanie 1 artyk","",{"$f":"IFERROR(MATCH(I227,Brief!AA:AA,0),\"\")","v":307},"Dodanie 1 artykułu",null,null,{"$f":"K227*$L$2+(AC2*(K227*$L$2))","v":0},0.5,{"$f":"M227*$N$2+($AD$2*(M227*$N$2))","v":60},0,0,null,"",null,"",{"$f":"IFERROR(INDEX(Brief!J:J,H227),0)","v":0},null,{"$f":"U227*(L227+N227)*(1+$W$2)","v":0},0,0,null,0,0,"","","",null,null,null,null,null,null,0,{"$f":"IF(AL227=1,SUM($AL$3:AL227),0)","v":0},0,{"$f":"IF(AN227=1,SUM($AN$3:AN227),0)","v":0}]
["x",null,null,"x",{"$f":"IFERROR(INDEX('Podświetlanie modułów'!D:D,MATCH(I228,'Podświetlanie modułów'!B:B,0)),\"\")","v":""},"Kategorie","",{"$f":"IFERROR(MATCH(I228,Brief!AA:AA,0),\"\")","v":308},"Kategorie",null,0,{"$f":"K228*$L$2+(AC2*(K228*$L$2))","v":0},null,null,0.3,45,null,"",null,"",{"$f":"IFERROR(INDEX(Brief!J:J,H228),0)","v":0},"x",{"$f":"U228*(L228+P228)*(1+$W$2)","v":0},0,0,null,0,0,"","","",null,null,null,null,null,null,0,{"$f":"IF(AL228=1,SUM($AL$3:AL228),0)","v":0},0,{"$f":"IF(AN228=1,SUM($AN$3:AN228),0)","v":0}]
["x",null,null,"x",{"$f":"IFERROR(INDEX('Podświetlanie modułów'!D:D,MATCH(I229,'Podświetlanie modułów'!B:B,0)),\"\")","v":""},"Tagi",{"$f":"IF($G$2=\"x\",W229,\"\")","v":""},{"$f":"IFERROR(MATCH(I229,Brief!AA:AA,0),\"\")","v":309},"Tagi",null,0,{"$f":"K229*$L$2+(AC2*(K229*$L$2))","v":0},null,null,0.5,75,null,"",null,"",{"$f":"IFERROR(INDEX(Brief!J:J,H229),0)","v":0},null,0,0,0,null,0,0,"","","",null,null,null,null,null,null,0,{"$f":"IF(AL229=1,SUM($AL$3:AL229),0)","v":0},0,{"$f":"IF(AN229=1,SUM($AN$3:AN229),0)","v":0}]
["x",null,null,null,{"$f":"IFERROR(INDEX('Podświetlanie modułów'!D:D,MATCH(I230,'Podświetlanie modułów'!B:B,0)),\"\")","v":""},"Lista wpisów BA","",{"$f":"IFERROR(MATCH(I230,Brief!AA:AA,0),\"\")","v":""},"Lista wpisów BASIC układ regularny",null,1.5,{"$f":"K230*$L$2+(AC2*(K230*$L$2))","v":180},null,null,2,300,1,120,null,"",{"$f":"IFERROR(INDEX(Brief!J:J,H230),0)","v":0},"x",0,0,0,null,0,0,"","","",null,null,null,null,null,null,0,{"$f":"IF(AL230=1,SUM($AL$3:AL230),0)","v":0},0,{"$f":"IF(AN230=1,SUM($AN$3:AN230),0)","v":0}]
["x",null,null,"x",{"$f":"IFERROR(INDEX('Podświetlanie modułów'!D:D,MATCH(I231,'Podświetlanie modułów'!B:B,0)),\"\")","v":""},"Lista wpisów BA","",{"$f":"IFERROR(MATCH(I231,Brief!AA:AA,0),\"\")","v":310},"Lista wpisów BASIC układ nieregularny",null,2,{"$f":"K231*$L$2+(AC2*(K231*$L$2))","v":240},null,null,2,300,null,"",null,"",{"$f":"IFERROR(INDEX(Brief!J:J,H231),0)","v":0},"x",0,0,0,null,0,0,"","","",null,null,null,null,null,null,0,{"$f":"IF(AL231=1,SUM($AL$3:AL231),0)","v":0},0,{"$f":"IF(AN231=1,SUM($AN$3:AN231),0)","v":0}]
[null,null,null,"x",{"$f":"IFERROR(INDEX('Podświetlanie modułów'!D:D,MATCH(I232,'Podświetlanie modułów'!B:B,0)),\"\")","v":""},"Lista wpisów PR","",{"$f":"IFERROR(MATCH(I232,Brief!AA:AA,0),\"\")","v":""},"Lista wpisów PREMIUM układ regularny",null,2,{"$f":"K232*$L$2+(AC2*(K232*$L$2))","v":240},null,null,3,450,null,"",null,"",{"$f":"IFERROR(INDEX(Brief!J:J,H232),0)","v":0},"x",0,0,0,null,0,0,"","","",null,"https://cmt-advisory.pl/blog/",null,null,null,null,0,{"$f":"IF(AL232=1,SUM($AL$3:AL232),0)","v":0},0,{"$f":"IF(AN232=1,SUM($AN$3:AN232),0)","v":0}]
[null,null,null,"x",{"$f":"IFERROR(INDEX('Podświetlanie modułów'!D:D,MATCH(I233,'Podświetlanie modułów'!B:B,0)),\"\")","v":""},"Lista wpisów PR","",{"$f":"IFERROR(MATCH(I233,Brief!AA:AA,0),\"\")","v":""},"Lista wpisów PREMIUM układ nieregularny","od",3,{"$f":"K233*$L$2+(AC2*(K233*$L$2))","v":360},null,null,5,750,null,"",null,"",{"$f":"IFERROR(INDEX(Brief!J:J,H233),0)","v":0},"x",0,0,0,null,0,0,"","","",null,"https://cmt-advisory.pl/blog/",null,null,null,null,0,{"$f":"IF(AL233=1,SUM($AL$3:AL233),0)","v":0},0,{"$f":"IF(AN233=1,SUM($AN$3:AN233),0)","v":0}]
[null,null,null,"x",{"$f":"IFERROR(INDEX('Podświetlanie modułów'!D:D,MATCH(I234,'Podświetlanie modułów'!B:B,0)),\"\")","v":""},"Czas czytania w","",{"$f":"IFERROR(MATCH(I234,Brief!AA:AA,0),\"\")","v":311},"Czas czytania wpisu",null,0.2,{"$f":"K234*$L$2+(AC2*(K234*$L$2))","v":24},null,null,0.2,30,null,"",null,"",{"$f":"IFERROR(INDEX(Brief!J:J,H234),0)","v":0},null,0,0,0,null,0,0,"",{"$f":"IF(U234=0,\"\",IF($U$19=0,M234*U234,IF(ISBLANK(Q234),M234*U234,Q234*U234)))","v":""},"",null,"https://studiokreacja.pl/kategorie/blog/",null,null,"https://wordpress.org/plugins/yet-another-related-posts-plugin/",null,0,{"$f":"IF(AL234=1,SUM($AL$3:AL234),0)","v":0},0,{"$f":"IF(AN234=1,SUM($AN$3:AN234),0)","v":0}]
[null,null,null,"x",{"$f":"IFERROR(INDEX('Podświetlanie modułów'!D:D,MATCH(I235,'Podświetlanie modułów'!B:B,0)),\"\")","v":""},"Pasek postępu c","",{"$f":"IFERROR(MATCH(I235,Brief!AA:AA,0),\"\")","v":312},"Pasek postępu czytania",null,0.1,{"$f":"K235*$L$2+(AC2*(K235*$L$2))","v":12},null,null,0.3,45,null,"",null,"",{"$f":"IFERROR(INDEX(Brief!J:J,H235),0)","v":0},null,0,0,0,null,0,0,"","","",null,"https://studiokreacja.pl/blog/poradnik-wordpress/",null,null,"https://wordpress.org/plugins/yet-another-related-posts-plugin/",null,0,{"$f":"IF(AL235=1,SUM($AL$3:AL235),0)","v":0},0,{"$f":"IF(AN235=1,SUM($AN$3:AN235),0)","v":0}]
[null,null,null,"x",{"$f":"IFERROR(INDEX('Podświetlanie modułów'!D:D,MATCH(I236,'Podświetlanie modułów'!B:B,0)),\"\")","v":""},"Doładowywanie k","",{"$f":"IFERROR(MATCH(I236,Brief!AA:AA,0),\"\")","v":313},"Doładowywanie kolejnych 2 wpisów",null,0,{"$f":"K236*$L$2+(AC2*(K236*$L$2))","v":0},null,null,1,150,null,"",null,"",{"$f":"IFERROR(INDEX(Brief!J:J,H236),0)","v":0},null,0,0,0,null,0,0,"","","",null,null,null,null,"https://wordpress.org/plugins/yet-another-related-posts-plugin/",null,0,{"$f":"IF(AL236=1,SUM($AL$3:AL236),0)","v":0},0,{"$f":"IF(AN236=1,SUM($AN$3:AN236),0)","v":0}]
[null,null,null,"x",{"$f":"IFERROR(INDEX('Podświetlanie modułów'!D:D,MATCH(I237,'Podświetlanie modułów'!B:B,0)),\"\")","v":""},"Playlisty wpisó","",{"$f":"IFERROR(MATCH(I237,Brief!AA:AA,0),\"\")","v":314},"Playlisty wpisów",null,10,{"$f":"K237*$L$2+(AC2*(K237*$L$2))","v":1200},null,null,20,3000,null,"",null,"",{"$f":"IFERROR(INDEX(Brief!J:J,H237),0)","v":0},null,0,0,0,null,0,0,"","","",null,"https://michalpasterski.pl/listy/medytacja-dla-poczatkujacych/?read-list=1",null,null,null,null,0,{"$f":"IF(AL237=1,SUM($AL$3:AL237),0)","v":0},0,{"$f":"IF(AN237=1,SUM($AN$3:AN237),0)","v":0}]
["x",null,null,"x",{"$f":"IFERROR(INDEX('Podświetlanie modułów'!D:D,MATCH(I238,'Podświetlanie modułów'!B:B,0)),\"\")","v":""},"Podobne wpisy","",{"$f":"IFERROR(MATCH(I238,Brief!AA:AA,0),\"\")","v":315},"Podobne wpisy",null,0.3,{"$f":"K238*$L$2+(AC2*(K238*$L$2))","v":36},null,null,1,150,null,"",null,"",{"$f":"IFERROR(INDEX(Brief!J:J,H238),0)","v":0},null,0,0,0,null,0,0,"","","",null,null,null,null,"https://wordpress.org/plugins/yet-another-related-posts-plugin/",null,0,{"$f":"IF(AL238=1,SUM($AL$3:AL238),0)","v":0},0,{"$f":"IF(AN238=1,SUM($AN$3:AN238),0)","v":0}]
[null,null,null,"x",{"$f":"IFERROR(INDEX('Podświetlanie modułów'!D:D,MATCH(I239,'Podświetlanie modułów'!B:B,0)),\"\")","v":""},"Komentarze Disq","",{"$f":"IFERROR(MATCH(I239,Brief!AA:AA,0),\"\")","v":316},"Komentarze Disqus",null,0.3,{"$f":"K239*$L$2+(AC2*(K239*$L$2))","v":36},null,null,1,150,null,"",null,"",{"$f":"IFERROR(INDEX(Brief!J:J,H239),0)","v":0},null,0,0,0,null,0,0,"","","",null,"https://mrpost.pl/aktualnosci/fenomen-aplikacji-tiktok/",null,null,null,null,0,{"$f":"IF(AL239=1,SUM($AL$3:AL239),0)","v":0},0,{"$f":"IF(AN239=1,SUM($AN$3:AN239),0)","v":0}]
[null,null,null,"x",{"$f":"IFERROR(INDEX('Podświetlanie modułów'!D:D,MATCH(I240,'Podświetlanie modułów'!B:B,0)),\"\")","v":""},"Komentarze Face","",{"$f":"IFERROR(MATCH(I240,Brief!AA:AA,0),\"\")","v":317},"Komentarze Facebook",null,0.3,{"$f":"K240*$L$2+(AC2*(K240*$L$2))","v":36},null,null,1,150,null,"",null,"",{"$f":"IFERROR(INDEX(Brief!J:J,H240),0)","v":0},null,0,0,0,null,0,0,"","","",null,"http://sun-plus.pl/plac-zabaw-przedszkolu-urzadzenia-wybrac/",null,null,null,null,0,{"$f":"IF(AL240=1,SUM($AL$3:AL240),0)","v":0},0,{"$f":"IF(AN240=1,SUM($AN$3:AN240),0)","v":0}]
["x",null,null,"x",{"$f":"IFERROR(INDEX('Podświetlanie modułów'!D:D,MATCH(I241,'Podświetlanie modułów'!B:B,0)),\"\")","v":""},"Ocena artykułu","",{"$f":"IFERROR(MATCH(I241,Brief!AA:AA,0),\"\")","v":318},"Ocena artykułu",null,0.1,{"$f":"K241*$L$2+(AC2*(K241*$L$2))","v":12},null,null,1,150,null,"",null,"",{"$f":"IFERROR(INDEX(Brief!J:J,H241),0)","v":0},null,0,0,0,null,0,0,"","","",null,"https://mrpost.pl/aktualnosci/fenomen-aplikacji-tiktok/",null,null,null,null,0,{"$f":"IF(AL241=1,SUM($AL$3:AL241),0)","v":0},0,{"$f":"IF(AN241=1,SUM($AN$3:AN241),0)","v":0}]
["x",null,null,"x",{"$f":"IFERROR(INDEX('Podświetlanie modułów'!D:D,MATCH(I242,'Podświetlanie modułów'!B:B,0)),\"\")","v":""},"Notka biografic","",{"$f":"IFERROR(MATCH(I242,Brief!AA:AA,0),\"\")","v":319},"Notka biograficzna autora",null,0.5,{"$f":"K242*$L$2+(AC2*(K242*$L$2))","v":60},null,null,1,150,null,"",null,"",{"$f":"IFERROR(INDEX(Brief!J:J,H242),0)","v":0},null,0,0,0,null,0,0,"","","",null,"https://studiokreacja.pl/blog/marketing-automation/",null,null,null,null,0,{"$f":"IF(AL242=1,SUM($AL$3:AL242),0)","v":0},0,{"$f":"IF(AN242=1,SUM($AN$3:AN242),0)","v":0}]
["x",null,null,"x",{"$f":"IFERROR(INDEX('Podświetlanie modułów'!D:D,MATCH(I243,'Podświetlanie modułów'!B:B,0)),\"\")","v":""},"Zapis do newsle","",{"$f":"IFERROR(MATCH(I243,Brief!AA:AA,0),\"\")","v":320},"Zapis do newslettera",null,1,{"$f":"K243*$L$2+(AC2*(K243*$L$2))","v":120},null,null,1,150,null,"",null,"",{"$f":"IFERROR(INDEX(Brief!J:J,H243),0)","v":0},null,0,0,0,null,0,0,"","","",null,"https://pandrwal.pl/",null,null,null,null,0,{"$f":"IF(AL243=1,SUM($AL$3:AL243),0)","v":0},0,{"$f":"IF(AN243=1,SUM($AN$3:AN243),0)","v":0}]
["x",null,null,"x",{"$f":"IFERROR(INDEX('Podświetlanie modułów'!D:D,MATCH(I244,'Podświetlanie modułów'!B:B,0)),\"\")","v":""},"Zapis na ebook/","",{"$f":"IFERROR(MATCH(I244,Brief!AA:AA,0),\"\")","v":321},"Zapis na ebook/newsletter wewnątrz treści",null,2,{"$f":"K244*$L$2+(AC2*(K244*$L$2))","v":240},null,null,1,150,null,"",null,"",{"$f":"IFERROR(INDEX(Brief!J:J,H244),0)","v":0},null,0,0,0,null,0,0,"","","",null,"https://znakitowarowe-blog.pl/czy-musze-miec-firme-aby-zastrzec-znak-towarowy/",null,null,null,null,0,{"$f":"IF(AL244=1,SUM($AL$3:AL244),0)","v":0},0,{"$f":"IF(AN244=1,SUM($AN$3:AN244),0)","v":0}]
["x",null,null,"x",{"$f":"IFERROR(INDEX('Podświetlanie modułów'!D:D,MATCH(I245,'Podświetlanie modułów'!B:B,0)),\"\")","v":""},"TOP3 lub TOP5 a","",{"$f":"IFERROR(MATCH(I245,Brief!AA:AA,0),\"\")","v":322},"TOP3 lub TOP5 artykułów",null,0.5,{"$f":"K245*$L$2+(AC2*(K245*$L$2))","v":60},null,null,1,150,null,"",null,"",{"$f":"IFERROR(INDEX(Brief!J:J,H245),0)","v":0},null,0,0,0,null,0,0,"","","",null,null,null,null,null,null,0,{"$f":"IF(AL245=1,SUM($AL$3:AL245),0)","v":0},0,{"$f":"IF(AN245=1,SUM($AN$3:AN245),0)","v":0}]
[null,null,null,null,{"$f":"IFERROR(INDEX('Podświetlanie modułów'!D:D,MATCH(I246,'Podświetlanie modułów'!B:B,0)),\"\")","v":""},"Dodatkowy moduł","",{"$f":"IFERROR(MATCH(I246,Brief!AA:AA,0),\"\")","v":323},{"$f":"\"Dodatkowy moduł \"&(COUNTIF($F$4:F245,\"Dodatkowy moduł\")+1)","v":"Dodatkowy moduł 51"},null,null,{"$f":"K246*$L$2+(AC2*(K246*$L$2))","v":0},null,{"$f":"M246*$N$2+($AD$2*(M246*$N$2))","v":0},null,0,null,"",null,"",{"$f":"IFERROR(INDEX(Brief!J:J,H246),0)","v":0},null,0,0,0,null,0,0,"",{"$f":"IF(U246=0,\"\",IF($U$19=0,M246*U246,IF(ISBLANK(Q246),M246*U246,Q246*U246)))","v":""},"",null,null,null,null,null,null,0,{"$f":"IF(AL246=1,SUM($AL$3:AL246),0)","v":0},0,{"$f":"IF(AN246=1,SUM($AN$3:AN246),0)","v":0}]
[null,null,null,null,{"$f":"IFERROR(INDEX('Podświetlanie modułów'!D:D,MATCH(I247,'Podświetlanie modułów'!B:B,0)),\"\")","v":""},{"$f":"LEFT(I247,15)","v":"Dodatkowy moduł"},"",{"$f":"IFERROR(MATCH(I247,Brief!AA:AA,0),\"\")","v":324},{"$f":"\"Dodatkowy moduł \"&(COUNTIF($F$4:F246,\"Dodatkowy moduł\")+1)","v":"Dodatkowy moduł 52"},null,null,{"$f":"K247*$L$2+(AC2*(K247*$L$2))","v":0},null,{"$f":"M247*$N$2+($AD$2*(M247*$N$2))","v":0},null,0,null,"",null,"",{"$f":"IFERROR(INDEX(Brief!J:J,H247),0)","v":0},null,0,0,0,null,0,0,"","","",null,null,null,null,null,null,0,{"$f":"IF(AL247=1,SUM($AL$3:AL247),0)","v":0},0,{"$f":"IF(AN247=1,SUM($AN$3:AN247),0)","v":0}]
[null,null,null,null,{"$f":"IFERROR(INDEX('Podświetlanie modułów'!D:D,MATCH(I248,'Podświetlanie modułów'!B:B,0)),\"\")","v":""},"Dodatkowy moduł","",{"$f":"IFERROR(MATCH(I248,Brief!AA:AA,0),\"\")","v":325},{"$f":"\"Dodatkowy moduł \"&(COUNTIF($F$4:F247,\"Dodatkowy moduł\")+1)","v":"Dodatkowy moduł 53"},null,null,{"$f":"K248*$L$2+(AC2*(K248*$L$2))","v":0},null,{"$f":"M248*$N$2+($AD$2*(M248*$N$2))","v":0},null,0,null,"",null,"",{"$f":"IFERROR(INDEX(Brief!J:J,H248),0)","v":0},null,0,0,0,null,0,0,"","","",null,null,null,null,null,null,0,{"$f":"IF(AL248=1,SUM($AL$3:AL248),0)","v":0},0,{"$f":"IF(AN248=1,SUM($AN$3:AN248),0)","v":0}]
[null,null,null,null,{"$f":"IFERROR(INDEX('Podświetlanie modułów'!D:D,MATCH(I249,'Podświetlanie modułów'!B:B,0)),\"\")","v":""},"Dodatkowy moduł","",{"$f":"IFERROR(MATCH(I249,Brief!AA:AA,0),\"\")","v":326},{"$f":"\"Dodatkowy moduł \"&(COUNTIF($F$4:F248,\"Dodatkowy moduł\")+1)","v":"Dodatkowy moduł 54"},null,null,{"$f":"K249*$L$2+(AC2*(K249*$L$2))","v":0},null,{"$f":"M249*$N$2+($AD$2*(M249*$N$2))","v":0},null,0,null,"",null,"",{"$f":"IFERROR(INDEX(Brief!J:J,H249),0)","v":0},null,0,0,0,null,0,0,"","","",null,null,null,null,null,null,0,{"$f":"IF(AL249=1,SUM($AL$3:AL249),0)","v":0},0,{"$f":"IF(AN249=1,SUM($AN$3:AN249),0)","v":0}]
[null,null,null,null,{"$f":"IFERROR(INDEX('Podświetlanie modułów'!D:D,MATCH(I250,'Podświetlanie modułów'!B:B,0)),\"\")","v":""},"Dodatkowy moduł","",{"$f":"IFERROR(MATCH(I250,Brief!AA:AA,0),\"\")","v":327},{"$f":"\"Dodatkowy moduł \"&(COUNTIF($F$4:F249,\"Dodatkowy moduł\")+1)","v":"Dodatkowy moduł 55"},null,null,{"$f":"K250*$L$2+(AC2*(K250*$L$2))","v":0},null,{"$f":"M250*$N$2+($AD$2*(M250*$N$2))","v":0},null,0,null,"",null,"",{"$f":"IFERROR(INDEX(Brief!J:J,H250),0)","v":0},null,0,0,0,null,0,0,"","","",null,null,null,null,null,null,0,{"$f":"IF(AL250=1,SUM($AL$3:AL250),0)","v":0},0,{"$f":"IF(AN250=1,SUM($AN$3:AN250),0)","v":0}]
[null,null,null,null,{"$f":"IFERROR(INDEX('Podświetlanie modułów'!D:D,MATCH(I251,'Podświetlanie modułów'!B:B,0)),\"\")","v":""},"Serwis informac","",{"$f":"IFERROR(MATCH(I251,Brief!AA:AA,0),\"\")","v":""},"Serwis informacyjny",null,null,null,null,null,null,null,null,null,null,null,null,null,null,null,null,null,null,null,"","","",null,null,null,null,null,null,0,{"$f":"IF(AL251=1,SUM($AL$3:AL251),0)","v":0},0,{"$f":"IF(AN251=1,SUM($AN$3:AN251),0)","v":0}]
[null,null,null,"x",{"$f":"IFERROR(INDEX('Podświetlanie modułów'!D:D,MATCH(I252,'Podświetlanie modułów'!B:B,0)),\"\")","v":""},"WCAG dostosowan","",{"$f":"IFERROR(MATCH(I252,Brief!AA:AA,0),\"\")","v":329},"WCAG dostosowanie","od",2,{"$f":"K252*$L$2+(AC2*(K252*$L$2))","v":240},null,null,30,{"$f":"$P$2*O252+($AE$2*(O252*$P$2))","v":4500},null,"",null,"",{"$f":"IFERROR(INDEX(Brief!J:J,H252),0)","v":0},null,{"$f":"U252*(L252+P252)*(1+$W$2)","v":0},0,{"$f":"IF($U$19>0,ROUNDUP(X252*(1+$Y$2),-1),ROUNDUP(W252*(1+$Y$2),-1))","v":0},null,{"$f":"U252","v":0},{"$f":"Z252*AA252","v":0},"","","",null,null,null,null,null,null,0,{"$f":"IF(AL252=1,SUM($AL$3:AL252),0)","v":0},0,{"$f":"IF(AN252=1,SUM($AN$3:AN252),0)","v":0}]
[null,null,null,null,{"$f":"IFERROR(INDEX('Podświetlanie modułów'!D:D,MATCH(I253,'Podświetlanie modułów'!B:B,0)),\"\")","v":""},"Dodatkowy moduł","",{"$f":"IFERROR(MATCH(I253,Brief!AA:AA,0),\"\")","v":330},{"$f":"\"Dodatkowy moduł \"&(COUNTIF($F$4:F252,\"Dodatkowy moduł\")+1)","v":"Dodatkowy moduł 56"},null,null,{"$f":"K253*$L$2+(AC2*(K253*$L$2))","v":0},null,{"$f":"M253*$N$2+($AD$2*(M253*$N$2))","v":0},null,{"$f":"$P$2*O253+($AE$2*(O253*$P$2))","v":0},null,"",null,"",{"$f":"IFERROR(INDEX(Brief!J:J,H253),0)","v":0},null,{"$f":"U253*(L253+P253)*(1+$W$2)","v":0},0,{"$f":"IF($U$19>0,ROUNDUP(X253*(1+$Y$2),-1),ROUNDUP(W253*(1+$Y$2),-1))","v":0},null,{"$f":"U253","v":0},{"$f":"Z253*AA253","v":0},"","","",null,null,null,null,null,null,0,{"$f":"IF(AL253=1,SUM($AL$3:AL253),0)","v":0},0,{"$f":"IF(AN253=1,SUM($AN$3:AN253),0)","v":0}]
[null,null,null,null,{"$f":"IFERROR(INDEX('Podświetlanie modułów'!D:D,MATCH(I254,'Podświetlanie modułów'!B:B,0)),\"\")","v":""},"Dodatkowy moduł","",{"$f":"IFERROR(MATCH(I254,Brief!AA:AA,0),\"\")","v":331},{"$f":"\"Dodatkowy moduł \"&(COUNTIF($F$4:F253,\"Dodatkowy moduł\")+1)","v":"Dodatkowy moduł 57"},null,null,{"$f":"K254*$L$2+(AC2*(K254*$L$2))","v":0},null,{"$f":"M254*$N$2+($AD$2*(M254*$N$2))","v":0},null,{"$f":"$P$2*O254+($AE$2*(O254*$P$2))","v":0},null,"",null,"",{"$f":"IFERROR(INDEX(Brief!J:J,H254),0)","v":0},null,{"$f":"U254*(L254+P254)*(1+$W$2)","v":0},0,{"$f":"IF($U$19>0,ROUNDUP(X254*(1+$Y$2),-1),ROUNDUP(W254*(1+$Y$2),-1))","v":0},null,{"$f":"U254","v":0},{"$f":"Z254*AA254","v":0},"","","",null,null,null,null,null,null,0,{"$f":"IF(AL254=1,SUM($AL$3:AL254),0)","v":0},0,{"$f":"IF(AN254=1,SUM($AN$3:AN254),0)","v":0}]
[null,null,null,null,{"$f":"IFERROR(INDEX('Podświetlanie modułów'!D:D,MATCH(I255,'Podświetlanie modułów'!B:B,0)),\"\")","v":""},"Moduły Dewelope","",{"$f":"IFERROR(MATCH(I255,Brief!AA:AA,0),\"\")","v":""},"Moduły Deweloper",null,null,null,null,null,null,null,null,null,null,null,null,null,null,null,null,null,null,null,"","","",null,null,null,null,null,null,0,{"$f":"IF(AL255=1,SUM($AL$3:AL255),0)","v":0},0,{"$f":"IF(AN255=1,SUM($AN$3:AN255),0)","v":0}]
[null,null,null,"x",{"$f":"IFERROR(INDEX('Podświetlanie modułów'!D:D,MATCH(I256,'Podświetlanie modułów'!B:B,0)),\"\")","v":""},"Interaktywne bu","",{"$f":"IFERROR(MATCH(I256,Brief!AA:AA,0),\"\")","v":333},"Interaktywne budynki","od",1,{"$f":"K256*$L$2+(AC2*(K256*$L$2))","v":120},null,null,5,{"$f":"$P$2*O256+($AE$2*(O256*$P$2))","v":750},null,"",null,"",{"$f":"IFERROR(INDEX(Brief!J:J,H256),0)","v":0},null,{"$f":"U256*(L256+P256)*(1+$W$2)","v":0},0,{"$f":"IF($U$19>0,ROUNDUP(X256*(1+$Y$2),-1),ROUNDUP(W256*(1+$Y$2),-1))","v":0},null,{"$f":"U256","v":0},{"$f":"Z256*AA256","v":0},"","","",null,"https://lokum-inwest.pl/sprzedaz-mieszkan/inwestycja-osiedle-prymasa-wyszynskiego/",null,null,null,null,0,{"$f":"IF(AL256=1,SUM($AL$3:AL256),0)","v":0},0,{"$f":"IF(AN256=1,SUM($AN$3:AN256),0)","v":0}]
[null,null,null,"x",{"$f":"IFERROR(INDEX('Podświetlanie modułów'!D:D,MATCH(I257,'Podświetlanie modułów'!B:B,0)),\"\")","v":""},"Wybór piętra w ","",{"$f":"IFERROR(MATCH(I257,Brief!AA:AA,0),\"\")","v":334},"Wybór piętra w budynku (1 kondygnacja)","od",1,{"$f":"K257*$L$2+(AC2*(K257*$L$2))","v":120},null,null,5,{"$f":"$P$2*O257+($AE$2*(O257*$P$2))","v":750},null,"",null,"",{"$f":"IFERROR(INDEX(Brief!J:J,H257),0)","v":0},null,{"$f":"U257*(L257+P257)*(1+$W$2)","v":0},0,0,null,{"$f":"U257","v":0},0,"","","",null,"https://pbodeweloper.pl/inwestycja-garden-park/mieszkania-leszno-ogrody/",null,null,"Shapes Map - krzyska",null,0,{"$f":"IF(AL257=1,SUM($AL$3:AL257),0)","v":0},0,{"$f":"IF(AN257=1,SUM($AN$3:AN257),0)","v":0}]
[null,null,null,"x",{"$f":"IFERROR(INDEX('Podświetlanie modułów'!D:D,MATCH(I258,'Podświetlanie modułów'!B:B,0)),\"\")","v":""},"Rzut kondygnacj","",{"$f":"IFERROR(MATCH(I258,Brief!AA:AA,0),\"\")","v":335},"Rzut kondygnacji + lista mieszkań z dostępnością","od",2,{"$f":"K258*$L$2+(AC2*(K258*$L$2))","v":240},null,null,5,{"$f":"$P$2*O258+($AE$2*(O258*$P$2))","v":750},null,"",null,"",{"$f":"IFERROR(INDEX(Brief!J:J,H258),0)","v":0},null,{"$f":"U258*(L258+P258)*(1+$W$2)","v":0},0,0,null,0,0,"","","",null,"https://pbodeweloper.pl/inwestycja-garden-park/mieszkania-leszno-ogrody/",null,null,null,null,0,{"$f":"IF(AL258=1,SUM($AL$3:AL258),0)","v":0},0,{"$f":"IF(AN258=1,SUM($AN$3:AN258),0)","v":0}]
[null,null,null,"x",{"$f":"IFERROR(INDEX('Podświetlanie modułów'!D:D,MATCH(I259,'Podświetlanie modułów'!B:B,0)),\"\")","v":""},"Plan mieszkania","",{"$f":"IFERROR(MATCH(I259,Brief!AA:AA,0),\"\")","v":336},"Plan mieszkania + karta do pobrania",null,3,{"$f":"K259*$L$2+(AC2*(K259*$L$2))","v":360},null,null,5,{"$f":"$P$2*O259+($AE$2*(O259*$P$2))","v":750},null,"",null,"",{"$f":"IFERROR(INDEX(Brief!J:J,H259),0)","v":0},null,{"$f":"U259*(L259+P259)*(1+$W$2)","v":0},0,0,null,0,0,"","","",null,null,null,null,null,null,0,{"$f":"IF(AL259=1,SUM($AL$3:AL259),0)","v":0},0,{"$f":"IF(AN259=1,SUM($AN$3:AN259),0)","v":0}]
[null,"x",null,"x",{"$f":"IFERROR(INDEX('Podświetlanie modułów'!D:D,MATCH(I260,'Podświetlanie modułów'!B:B,0)),\"\")","v":""},"Dodanie lokalu ",{"$f":"IF($G$2=\"x\",W260,\"\")","v":""},{"$f":"IFERROR(MATCH(I260,Brief!AA:AA,0),\"\")","v":337},"Dodanie lokalu z parametrami",null,null,{"$f":"K260*$L$2+(AC2*(K260*$L$2))","v":0},0.5,{"$f":"M260*$N$2+($AD$2*(M260*$N$2))","v":60},0,{"$f":"$P$2*O260+($AE$2*(O260*$P$2))","v":0},null,"",null,"",{"$f":"IFERROR(INDEX(Brief!J:J,H260),0)","v":0},null,{"$f":"U260*(L260+N260)*(1+$W$2)","v":0},0,0,null,0,0,"","","",null,"https://pbodeweloper.pl/realizacje/garden-park-1-3-1/",null,null,null,null,0,{"$f":"IF(AL260=1,SUM($AL$3:AL260),0)","v":0},{"$f":"IF(AD260=\"\",0,IF(AD260=0,0,1))","v":0},{"$f":"IF(AN260=1,SUM($AN$3:AN260),0)","v":0}]
[null,"x",null,"x",{"$f":"IFERROR(INDEX('Podświetlanie modułów'!D:D,MATCH(I261,'Podświetlanie modułów'!B:B,0)),\"\")","v":""},"Dodanie lokalu ","",{"$f":"IFERROR(MATCH(I261,Brief!AA:AA,0),\"\")","v":338},"Dodanie lokalu bez parametrów",null,null,{"$f":"K261*$L$2+(AC2*(K261*$L$2))","v":0},0.3,{"$f":"M261*$N$2+($AD$2*(M261*$N$2))","v":36},0,{"$f":"$P$2*O261+($AE$2*(O261*$P$2))","v":0},null,{"$f":"IF(AND(D261=\"x\",Q261>0),\"błąd\",IF(Q261=\"\",\"\",Q261*$R$2+($AE$2*(Q261*$R$2))))","v":""},null,{"$f":"IF(AND(D261=\"x\",S261>0),\"błąd\",IF(S261=\"\",\"\",S261*$T$2+($AE$2*(S261*$T$2))))","v":""},{"$f":"IFERROR(INDEX(Brief!J:J,H261),0)","v":0},null,{"$f":"U261*(L261+N261)*(1+$W$2)","v":0},{"$f":"IF(D261=\"x\",W261,U261*(L261+IF(R261=\"\",0,R261)+IF(T261=\"\",0,T261))*(1+$X$2))","v":0},0,null,0,0,{"$f":"IF(U261=0,\"\",U261*K261)","v":""},"",{"$f":"IF(U261=0,\"\",IF($U$19=0,O261*U261,IF(ISBLANK(S261),O261*U261,S261*U261)))","v":""},null,"https://pbodeweloper.pl/realizacje/garden-park-1-3-1/",null,null,null,null,{"$f":"IF(AE261=\"\",0,IF(AE261=0,0,1))","v":0},{"$f":"IF(AL261=1,SUM($AL$3:AL261),0)","v":0},0,{"$f":"IF(AN261=1,SUM($AN$3:AN261),0)","v":0}]
[null,null,null,"x",{"$f":"IFERROR(INDEX('Podświetlanie modułów'!D:D,MATCH(I262,'Podświetlanie modułów'!B:B,0)),\"\")","v":""},"Wyszukiwarka mi","",{"$f":"IFERROR(MATCH(I262,Brief!AA:AA,0),\"\")","v":339},"Wyszukiwarka mieszkań",null,1,{"$f":"K262*$L$2+(AC2*(K262*$L$2))","v":120},null,null,3,450,null,"",null,"",{"$f":"IFERROR(INDEX(Brief!J:J,H262),0)","v":0},null,{"$f":"U262*(L262+P262)*(1+$W$2)","v":0},0,0,null,0,0,"","","",null,"https://arkadiabroker.pl/mieszkania/?filtered=1&investment=28&area=&floor=&rooms_number=&price_min=56500&price_max=407300","https://wartaresidence.com/realizacje/?filtered=1&area&building%5B0%5D=1&building%5B1%5D=2&building%5B2%5D=3&floor%5B0%5D=1&floor%5B1%5D=2&floor%5B2%5D=3&floor%5B3%5D=4&rooms%5B0%5D=4&rooms%5B1%5D=5#flat-list",null,null,null,0,{"$f":"IF(AL262=1,SUM($AL$3:AL262),0)","v":0},0,{"$f":"IF(AN262=1,SUM($AN$3:AN262),0)","v":0}]
[null,null,null,"x",{"$f":"IFERROR(INDEX('Podświetlanie modułów'!D:D,MATCH(I263,'Podświetlanie modułów'!B:B,0)),\"\")","v":""},"Formularz zapyt","",{"$f":"IFERROR(MATCH(I263,Brief!AA:AA,0),\"\")","v":340},"Formularz zapytania (popup)",null,0.5,{"$f":"K263*$L$2+(AC2*(K263*$L$2))","v":60},null,null,1,150,null,"",null,"",{"$f":"IFERROR(INDEX(Brief!J:J,H263),0)","v":0},null,0,0,0,null,0,0,"","","",null,null,null,null,null,null,0,{"$f":"IF(AL263=1,SUM($AL$3:AL263),0)","v":0},0,{"$f":"IF(AN263=1,SUM($AN$3:AN263),0)","v":0}]
[null,null,null,"x",{"$f":"IFERROR(INDEX('Podświetlanie modułów'!D:D,MATCH(I264,'Podświetlanie modułów'!B:B,0)),\"\")","v":""},"Dziennik budowy","",{"$f":"IFERROR(MATCH(I264,Brief!AA:AA,0),\"\")","v":341},"Dziennik budowy",null,2,{"$f":"K264*$L$2+(AC2*(K264*$L$2))","v":240},null,null,2,300,null,"",null,"",{"$f":"IFERROR(INDEX(Brief!J:J,H264),0)","v":0},null,0,0,0,null,0,0,"","","",null,"https://pbodeweloper.pl/rodzinna-przystan/https-pbodeweloper-pl-inwestycja-rodzinna-przystan-postepy-w-budowie/","https://napolance.com/aktualnosci/",null,null,null,0,{"$f":"IF(AL264=1,SUM($AL$3:AL264),0)","v":0},0,{"$f":"IF(AN264=1,SUM($AN$3:AN264),0)","v":0}]
[null,null,null,null,{"$f":"IFERROR(INDEX('Podświetlanie modułów'!D:D,MATCH(I265,'Podświetlanie modułów'!B:B,0)),\"\")","v":""},"Dodatkowy moduł","",{"$f":"IFERROR(MATCH(I265,Brief!AA:AA,0),\"\")","v":342},{"$f":"\"Dodatkowy moduł \"&(COUNTIF($F$4:F264,\"Dodatkowy moduł\")+1)","v":"Dodatkowy moduł 58"},null,null,{"$f":"K265*$L$2+(AC2*(K265*$L$2))","v":0},null,{"$f":"M265*$N$2+($AD$2*(M265*$N$2))","v":0},null,0,null,"",null,"",{"$f":"IFERROR(INDEX(Brief!J:J,H265),0)","v":0},null,0,0,0,null,0,0,"","","",null,null,null,null,null,null,0,{"$f":"IF(AL265=1,SUM($AL$3:AL265),0)","v":0},0,{"$f":"IF(AN265=1,SUM($AN$3:AN265),0)","v":0}]
[null,null,null,null,{"$f":"IFERROR(INDEX('Podświetlanie modułów'!D:D,MATCH(I266,'Podświetlanie modułów'!B:B,0)),\"\")","v":""},"Dodatkowy moduł","",{"$f":"IFERROR(MATCH(I266,Brief!AA:AA,0),\"\")","v":343},{"$f":"\"Dodatkowy moduł \"&(COUNTIF($F$4:F265,\"Dodatkowy moduł\")+1)","v":"Dodatkowy moduł 59"},null,null,{"$f":"K266*$L$2+(AC2*(K266*$L$2))","v":0},null,{"$f":"M266*$N$2+($AD$2*(M266*$N$2))","v":0},null,0,null,"",null,"",{"$f":"IFERROR(INDEX(Brief!J:J,H266),0)","v":0},null,0,0,0,null,0,0,"","","",null,null,null,null,null,null,0,{"$f":"IF(AL266=1,SUM($AL$3:AL266),0)","v":0},0,{"$f":"IF(AN266=1,SUM($AN$3:AN266),0)","v":0}]
[null,null,null,null,{"$f":"IFERROR(INDEX('Podświetlanie modułów'!D:D,MATCH(I267,'Podświetlanie modułów'!B:B,0)),\"\")","v":""},"Dodatkowy moduł","",{"$f":"IFERROR(MATCH(I267,Brief!AA:AA,0),\"\")","v":344},{"$f":"\"Dodatkowy moduł \"&(COUNTIF($F$4:F266,\"Dodatkowy moduł\")+1)","v":"Dodatkowy moduł 60"},null,null,{"$f":"K267*$L$2+(AC2*(K267*$L$2))","v":0},null,{"$f":"M267*$N$2+($AD$2*(M267*$N$2))","v":0},null,0,null,"",null,"",{"$f":"IFERROR(INDEX(Brief!J:J,H267),0)","v":0},null,0,0,0,null,0,0,"","","",null,null,null,null,null,null,0,{"$f":"IF(AL267=1,SUM($AL$3:AL267),0)","v":0},0,{"$f":"IF(AN267=1,SUM($AN$3:AN267),0)","v":0}]
[null,null,null,null,{"$f":"IFERROR(INDEX('Podświetlanie modułów'!D:D,MATCH(I268,'Podświetlanie modułów'!B:B,0)),\"\")","v":""},"Dodatkowy moduł","",{"$f":"IFERROR(MATCH(I268,Brief!AA:AA,0),\"\")","v":345},{"$f":"\"Dodatkowy moduł \"&(COUNTIF($F$4:F267,\"Dodatkowy moduł\")+1)","v":"Dodatkowy moduł 61"},null,null,{"$f":"K268*$L$2+(AC2*(K268*$L$2))","v":0},null,{"$f":"M268*$N$2+($AD$2*(M268*$N$2))","v":0},null,0,null,"",null,"",{"$f":"IFERROR(INDEX(Brief!J:J,H268),0)","v":0},null,0,0,0,null,0,0,"","","",null,null,null,null,null,null,0,{"$f":"IF(AL268=1,SUM($AL$3:AL268),0)","v":0},0,{"$f":"IF(AN268=1,SUM($AN$3:AN268),0)","v":0}]
[null,null,null,null,{"$f":"IFERROR(INDEX('Podświetlanie modułów'!D:D,MATCH(I269,'Podświetlanie modułów'!B:B,0)),\"\")","v":""},"Dodatkowy moduł","",{"$f":"IFERROR(MATCH(I269,Brief!AA:AA,0),\"\")","v":346},{"$f":"\"Dodatkowy moduł \"&(COUNTIF($F$4:F268,\"Dodatkowy moduł\")+1)","v":"Dodatkowy moduł 62"},null,null,{"$f":"K269*$L$2+(AC2*(K269*$L$2))","v":0},null,{"$f":"M269*$N$2+($AD$2*(M269*$N$2))","v":0},null,0,null,"",null,"",{"$f":"IFERROR(INDEX(Brief!J:J,H269),0)","v":0},null,0,0,0,null,0,0,"","","",null,null,null,null,null,null,0,{"$f":"IF(AL269=1,SUM($AL$3:AL269),0)","v":0},0,{"$f":"IF(AN269=1,SUM($AN$3:AN269),0)","v":0}]
[null,null,null,null,{"$f":"IFERROR(INDEX('Podświetlanie modułów'!D:D,MATCH(I270,'Podświetlanie modułów'!B:B,0)),\"\")","v":""},"Moduły Nierucho","",{"$f":"IFERROR(MATCH(I270,Brief!AA:AA,0),\"\")","v":""},"Moduły Nieruchomości",null,null,null,null,null,null,null,null,null,null,null,null,null,null,null,null,null,null,null,"","","",null,null,null,null,null,null,0,{"$f":"IF(AL270=1,SUM($AL$3:AL270),0)","v":0},0,{"$f":"IF(AN270=1,SUM($AN$3:AN270),0)","v":0}]
[null,null,null,"x",{"$f":"IFERROR(INDEX('Podświetlanie modułów'!D:D,MATCH(I271,'Podświetlanie modułów'!B:B,0)),\"\")","v":""},"Oferty nierucho","",{"$f":"IFERROR(MATCH(I271,Brief!AA:AA,0),\"\")","v":348},"Oferty nieruchomości",null,null,{"$f":"K271*$L$2+(AC2*(K271*$L$2))","v":0},null,null,null,0,null,"",null,"",{"$f":"IFERROR(INDEX(Brief!J:J,H271),0)","v":0},null,{"$f":"U271*(L271+P271)*(1+$W$2)","v":0},0,{"$f":"IF($U$19>0,ROUNDUP(X271*(1+$Y$2),-1),ROUNDUP(W271*(1+$Y$2),-1))","v":0},null,{"$f":"U271","v":0},{"$f":"Z271*AA271","v":0},"","","",null,"https://pbodeweloper.pl/kategorie-realizacji/garden-park/pietro1/",null,null,null,null,0,{"$f":"IF(AL271=1,SUM($AL$3:AL271),0)","v":0},0,{"$f":"IF(AN271=1,SUM($AN$3:AN271),0)","v":0}]
[null,null,null,"x",{"$f":"IFERROR(INDEX('Podświetlanie modułów'!D:D,MATCH(I272,'Podświetlanie modułów'!B:B,0)),\"\")","v":""},"Wyszukiwarka mi","",349,"Wyszukiwarka mieszkań",null,null,{"$f":"K272*$L$2+(AC2*(K272*$L$2))","v":0},null,null,null,0,null,"",null,"",{"$f":"IFERROR(INDEX(Brief!J:J,H272),0)","v":0},null,0,0,0,null,{"$f":"U272","v":0},0,"","","",null,null,null,null,null,null,0,{"$f":"IF(AL272=1,SUM($AL$3:AL272),0)","v":0},0,{"$f":"IF(AN272=1,SUM($AN$3:AN272),0)","v":0}]
[null,null,null,"x",{"$f":"IFERROR(INDEX('Podświetlanie modułów'!D:D,MATCH(I273,'Podświetlanie modułów'!B:B,0)),\"\")","v":""},"Widoki kafelkow","",{"$f":"IFERROR(MATCH(I273,Brief!AA:AA,0),\"\")","v":350},"Widoki kafelkowe lista mapa",null,null,{"$f":"K273*$L$2+(AC2*(K273*$L$2))","v":0},null,null,null,0,null,"",null,"",{"$f":"IFERROR(INDEX(Brief!J:J,H273),0)","v":0},null,0,0,0,null,0,0,"","","",null,null,null,null,null,null,0,{"$f":"IF(AL273=1,SUM($AL$3:AL273),0)","v":0},0,{"$f":"IF(AN273=1,SUM($AN$3:AN273),0)","v":0}]
[null,null,null,"x",{"$f":"IFERROR(INDEX('Podświetlanie modułów'!D:D,MATCH(I274,'Podświetlanie modułów'!B:B,0)),\"\")","v":""},"Generator ofert","",{"$f":"IFERROR(MATCH(I274,Brief!AA:AA,0),\"\")","v":351},"Generator ofert PDF dla klienta",null,null,{"$f":"K274*$L$2+(AC2*(K274*$L$2))","v":0},null,null,null,0,null,"",null,"",{"$f":"IFERROR(INDEX(Brief!J:J,H274),0)","v":0},null,0,0,0,null,0,0,"","","",null,null,null,null,null,null,0,{"$f":"IF(AL274=1,SUM($AL$3:AL274),0)","v":0},0,{"$f":"IF(AN274=1,SUM($AN$3:AN274),0)","v":0}]
[null,null,null,"x",{"$f":"IFERROR(INDEX('Podświetlanie modułów'!D:D,MATCH(I275,'Podświetlanie modułów'!B:B,0)),\"\")","v":""},"Generator ofert","",{"$f":"IFERROR(MATCH(I275,Brief!AA:AA,0),\"\")","v":352},"Generator ofert PDF do gabloty",null,null,{"$f":"K275*$L$2+(AC2*(K275*$L$2))","v":0},null,null,null,0,null,"",null,"",{"$f":"IFERROR(INDEX(Brief!J:J,H275),0)","v":0},null,0,0,0,null,0,0,"","","",null,null,null,null,null,null,0,{"$f":"IF(AL275=1,SUM($AL$3:AL275),0)","v":0},0,{"$f":"IF(AN275=1,SUM($AN$3:AN275),0)","v":0}]
[null,null,null,"x",{"$f":"IFERROR(INDEX('Podświetlanie modułów'!D:D,MATCH(I276,'Podświetlanie modułów'!B:B,0)),\"\")","v":""},"Kalkulator kosz","",{"$f":"IFERROR(MATCH(I276,Brief!AA:AA,0),\"\")","v":353},"Kalkulator kosztów ",null,null,{"$f":"K276*$L$2+(AC2*(K276*$L$2))","v":0},null,null,null,0,null,"",null,"",{"$f":"IFERROR(INDEX(Brief!J:J,H276),0)","v":0},null,0,0,0,null,0,0,"","","",null,null,null,null,null,null,0,{"$f":"IF(AL276=1,SUM($AL$3:AL276),0)","v":0},0,{"$f":"IF(AN276=1,SUM($AN$3:AN276),0)","v":0}]
[null,null,null,"x",{"$f":"IFERROR(INDEX('Podświetlanie modułów'!D:D,MATCH(I277,'Podświetlanie modułów'!B:B,0)),\"\")","v":""},"Prezentacja ofe","",{"$f":"IFERROR(MATCH(I277,Brief!AA:AA,0),\"\")","v":354},"Prezentacja oferty z Google Street View",null,null,{"$f":"K277*$L$2+(AC2*(K277*$L$2))","v":0},null,null,null,0,null,"",null,"",{"$f":"IFERROR(INDEX(Brief!J:J,H277),0)","v":0},null,0,0,0,null,0,0,"","","",null,null,null,null,null,null,0,{"$f":"IF(AL277=1,SUM($AL$3:AL277),0)","v":0},0,{"$f":"IF(AN277=1,SUM($AN$3:AN277),0)","v":0}]
[null,null,null,"x",{"$f":"IFERROR(INDEX('Podświetlanie modułów'!D:D,MATCH(I278,'Podświetlanie modułów'!B:B,0)),\"\")","v":""},"Oferty agenta","",{"$f":"IFERROR(MATCH(I278,Brief!AA:AA,0),\"\")","v":355},"Oferty agenta",null,null,{"$f":"K278*$L$2+(AC2*(K278*$L$2))","v":0},null,null,null,0,null,"",null,"",{"$f":"IFERROR(INDEX(Brief!J:J,H278),0)","v":0},null,0,0,0,null,0,0,"","","",null,null,null,null,null,null,0,{"$f":"IF(AL278=1,SUM($AL$3:AL278),0)","v":0},0,{"$f":"IF(AN278=1,SUM($AN$3:AN278),0)","v":0}]
[null,null,null,null,{"$f":"IFERROR(INDEX('Podświetlanie modułów'!D:D,MATCH(I279,'Podświetlanie modułów'!B:B,0)),\"\")","v":""},"Dodatkowy moduł","",{"$f":"IFERROR(MATCH(I279,Brief!AA:AA,0),\"\")","v":356},{"$f":"\"Dodatkowy moduł \"&(COUNTIF($F$4:F278,\"Dodatkowy moduł\")+1)","v":"Dodatkowy moduł 63"},null,null,{"$f":"K279*$L$2+(AC2*(K279*$L$2))","v":0},null,null,null,0,null,"",null,"",{"$f":"IFERROR(INDEX(Brief!J:J,H279),0)","v":0},null,0,0,0,null,0,0,"","","",null,null,null,null,null,null,0,{"$f":"IF(AL279=1,SUM($AL$3:AL279),0)","v":0},0,{"$f":"IF(AN279=1,SUM($AN$3:AN279),0)","v":0}]
[null,null,null,null,{"$f":"IFERROR(INDEX('Podświetlanie modułów'!D:D,MATCH(I280,'Podświetlanie modułów'!B:B,0)),\"\")","v":""},"Dodatkowy moduł","",{"$f":"IFERROR(MATCH(I280,Brief!AA:AA,0),\"\")","v":357},{"$f":"\"Dodatkowy moduł \"&(COUNTIF($F$4:F279,\"Dodatkowy moduł\")+1)","v":"Dodatkowy moduł 64"},null,null,{"$f":"K280*$L$2+(AC2*(K280*$L$2))","v":0},null,null,null,0,null,"",null,"",{"$f":"IFERROR(INDEX(Brief!J:J,H280),0)","v":0},null,0,0,0,null,0,0,"","","",null,null,null,null,null,null,0,{"$f":"IF(AL280=1,SUM($AL$3:AL280),0)","v":0},0,{"$f":"IF(AN280=1,SUM($AN$3:AN280),0)","v":0}]
[null,null,null,null,{"$f":"IFERROR(INDEX('Podświetlanie modułów'!D:D,MATCH(I281,'Podświetlanie modułów'!B:B,0)),\"\")","v":""},"Dodatkowy moduł","",{"$f":"IFERROR(MATCH(I281,Brief!AA:AA,0),\"\")","v":358},{"$f":"\"Dodatkowy moduł \"&(COUNTIF($F$4:F280,\"Dodatkowy moduł\")+1)","v":"Dodatkowy moduł 65"},null,null,{"$f":"K281*$L$2+(AC2*(K281*$L$2))","v":0},null,null,null,0,null,"",null,"",{"$f":"IFERROR(INDEX(Brief!J:J,H281),0)","v":0},null,0,0,0,null,0,0,"","","",null,null,null,null,null,null,0,{"$f":"IF(AL281=1,SUM($AL$3:AL281),0)","v":0},0,{"$f":"IF(AN281=1,SUM($AN$3:AN281),0)","v":0}]
[null,null,null,null,{"$f":"IFERROR(INDEX('Podświetlanie modułów'!D:D,MATCH(I282,'Podświetlanie modułów'!B:B,0)),\"\")","v":""},"Dodatkowy moduł","",{"$f":"IFERROR(MATCH(I282,Brief!AA:AA,0),\"\")","v":359},{"$f":"\"Dodatkowy moduł \"&(COUNTIF($F$4:F281,\"Dodatkowy moduł\")+1)","v":"Dodatkowy moduł 66"},null,null,{"$f":"K282*$L$2+(AC2*(K282*$L$2))","v":0},null,null,null,0,null,"",null,"",{"$f":"IFERROR(INDEX(Brief!J:J,H282),0)","v":0},null,{"$f":"U282*(L282+P282)*(1+$W$2)","v":0},0,0,null,0,0,"","","",null,null,null,null,null,null,0,{"$f":"IF(AL282=1,SUM($AL$3:AL282),0)","v":0},0,{"$f":"IF(AN282=1,SUM($AN$3:AN282),0)","v":0}]
[null,null,null,null,{"$f":"IFERROR(INDEX('Podświetlanie modułów'!D:D,MATCH(I283,'Podświetlanie modułów'!B:B,0)),\"\")","v":""},"Dodatkowy moduł","",{"$f":"IFERROR(MATCH(I283,Brief!AA:AA,0),\"\")","v":360},{"$f":"\"Dodatkowy moduł \"&(COUNTIF($F$4:F282,\"Dodatkowy moduł\")+1)","v":"Dodatkowy moduł 67"},null,null,{"$f":"K283*$L$2+(AC2*(K283*$L$2))","v":0},null,null,null,0,null,"",null,"",{"$f":"IFERROR(INDEX(Brief!J:J,H283),0)","v":0},null,0,0,0,null,0,0,"","","",null,null,null,null,null,null,0,{"$f":"IF(AL283=1,SUM($AL$3:AL283),0)","v":0},0,{"$f":"IF(AN283=1,SUM($AN$3:AN283),0)","v":0}]
[null,null,null,null,{"$f":"IFERROR(INDEX('Podświetlanie modułów'!D:D,MATCH(I284,'Podświetlanie modułów'!B:B,0)),\"\")","v":""},"Sklepy","",{"$f":"IFERROR(MATCH(I284,Brief!AA:AA,0),\"\")","v":""},"Sklepy",null,null,null,null,null,null,null,null,null,null,null,null,null,null,null,null,null,null,null,"","","",null,null,null,null,null,null,0,{"$f":"IF(AL284=1,SUM($AL$3:AL284),0)","v":0},0,{"$f":"IF(AN284=1,SUM($AN$3:AN284),0)","v":0}]
[null,null,null,null,{"$f":"IFERROR(INDEX('Podświetlanie modułów'!D:D,MATCH(I285,'Podświetlanie modułów'!B:B,0)),\"\")","v":""},"Projekt graficz","",{"$f":"IFERROR(MATCH(I285,Brief!AA:AA,0),\"\")","v":""},"Projekt graficzny sklepu",null,null,null,null,null,null,null,null,null,null,null,null,null,null,null,null,null,null,null,"","","",null,null,null,null,null,null,0,{"$f":"IF(AL285=1,SUM($AL$3:AL285),0)","v":0},0,{"$f":"IF(AN285=1,SUM($AN$3:AN285),0)","v":0}]
["x",null,null,null,{"$f":"IFERROR(INDEX('Podświetlanie modułów'!D:D,MATCH(I286,'Podświetlanie modułów'!B:B,0)),\"\")","v":""},"Strona produktu","",{"$f":"IFERROR(MATCH(I286,Brief!AA:AA,0),\"\")","v":363},"Strona produktu (zakładki domyślne)",null,3,{"$f":"K286*$L$2+(AC2*(K286*$L$2))","v":360},null,null,6,900,3,360,null,"",{"$f":"IFERROR(INDEX(Brief!J:J,H286),0)","v":1},"x",1386,792.00000000000011,{"$f":"IF($U$19>0,ROUNDUP(X286*(1+$Y$2),-1),ROUNDUP(W286*(1+$Y$2),-1))","v":1470},null,{"$f":"U286","v":1},{"$f":"Z286*AA286","v":0},3,0,6,null,"https://11.demooo.pl/product/bluza-1/ ","https://11.demooo.pl/product/obudowa-8/ ",null,null,null,1,{"$f":"IF(AL286=1,SUM($AL$3:AL286),0)","v":6},0,{"$f":"IF(AN286=1,SUM($AN$3:AN286),0)","v":0}]
["x",null,null,"x",{"$f":"IFERROR(INDEX('Podświetlanie modułów'!D:D,MATCH(I287,'Podświetlanie modułów'!B:B,0)),\"\")","v":""},"Strona produktu","",{"$f":"IFERROR(MATCH(I287,Brief!AA:AA,0),\"\")","v":""},"Strona produktu (zakłądki accordions -harmonijka)",null,5,{"$f":"K287*$L$2+(AC2*(K287*$L$2))","v":600},null,null,9,1350,null,"",null,"",{"$f":"IFERROR(INDEX(Brief!J:J,H287),0)","v":0},"x",0,0,0,null,{"$f":"U287","v":0},0,"","","",null,"https://11.demooo.pl/product/bluza-1/ ","https://11.demooo.pl/product/obudowa-8/ ",null,null,null,0,{"$f":"IF(AL287=1,SUM($AL$3:AL287),0)","v":0},0,{"$f":"IF(AN287=1,SUM($AN$3:AN287),0)","v":0}]
["x",null,null,null,{"$f":"IFERROR(INDEX('Podświetlanie modułów'!D:D,MATCH(I288,'Podświetlanie modułów'!B:B,0)),\"\")","v":""},"Strona produktu","",{"$f":"IFERROR(MATCH(I288,Brief!AA:AA,0),\"\")","v":""},"Strona produktu + 3 sekcje",null,8,{"$f":"K288*$L$2+(AC2*(K288*$L$2))","v":960},null,null,10,1500,6,720,null,"",{"$f":"IFERROR(INDEX(Brief!J:J,H288),0)","v":0},"x",0,0,0,null,0,0,"","","",null,"https://devaldano.pl/product/czeresnia-drylowana-do-ciast-i-deserow/",null,null,null,null,0,{"$f":"IF(AL288=1,SUM($AL$3:AL288),0)","v":0},0,{"$f":"IF(AN288=1,SUM($AN$3:AN288),0)","v":0}]
["x",null,null,null,{"$f":"IFERROR(INDEX('Podświetlanie modułów'!D:D,MATCH(I289,'Podświetlanie modułów'!B:B,0)),\"\")","v":""},"Strona produktu","",{"$f":"IFERROR(MATCH(I289,Brief!AA:AA,0),\"\")","v":""},"Strona produktu + 6 sekcji","od",10,{"$f":"K289*$L$2+(AC2*(K289*$L$2))","v":1200},null,null,13,1950,8,960,null,"",{"$f":"IFERROR(INDEX(Brief!J:J,H289),0)","v":0},"x",0,0,0,null,0,0,"","","",null,null,"https://lightwood.pl/produkt/lampa-podlogowa-stojaca-lw18-zygzak-zolty/",null,null,null,0,{"$f":"IF(AL289=1,SUM($AL$3:AL289),0)","v":0},0,{"$f":"IF(AN289=1,SUM($AN$3:AN289),0)","v":0}]
["x",null,null,null,{"$f":"IFERROR(INDEX('Podświetlanie modułów'!D:D,MATCH(I290,'Podświetlanie modułów'!B:B,0)),\"\")","v":""},"Kategoria produ","",{"$f":"IFERROR(MATCH(I290,Brief!AA:AA,0),\"\")","v":364},"Kategoria produktów prosta",null,3,{"$f":"K290*$L$2+(AC2*(K290*$L$2))","v":360},null,null,4,600,2,240,null,"",{"$f":"IFERROR(INDEX(Brief!J:J,H290),0)","v":1},"x",1056,660,1120,null,1,0,3,0,4,null,"https://11.demooo.pl/product-category/bluzy/ ",null,null,null,null,1,{"$f":"IF(AL290=1,SUM($AL$3:AL290),0)","v":7},0,{"$f":"IF(AN290=1,SUM($AN$3:AN290),0)","v":0}]
["x",null,null,"x",{"$f":"IFERROR(INDEX('Podświetlanie modułów'!D:D,MATCH(I291,'Podświetlanie modułów'!B:B,0)),\"\")","v":""},"Kategoria produ","",{"$f":"IFERROR(MATCH(I291,Brief!AA:AA,0),\"\")","v":365},"Kategoria produktów rozbudowana","od",5,{"$f":"K291*$L$2+(AC2*(K291*$L$2))","v":600},null,null,7,1050,null,"",null,"",{"$f":"IFERROR(INDEX(Brief!J:J,H291),0)","v":0},"x",0,0,0,null,0,0,"","","",null,null,null,null,null,null,0,{"$f":"IF(AL291=1,SUM($AL$3:AL291),0)","v":0},0,{"$f":"IF(AN291=1,SUM($AN$3:AN291),0)","v":0}]
["x",null,null,null,{"$f":"IFERROR(INDEX('Podświetlanie modułów'!D:D,MATCH(I292,'Podświetlanie modułów'!B:B,0)),\"\")","v":""},"Koszyk","",{"$f":"IFERROR(MATCH(I292,Brief!AA:AA,0),\"\")","v":366},"Koszyk",null,2,{"$f":"K292*$L$2+(AC2*(K292*$L$2))","v":240},null,null,3,450,1,120,null,"",{"$f":"IFERROR(INDEX(Brief!J:J,H292),0)","v":1},"x",759.00000000000011,396.00000000000006,810,null,1,0,2,0,3,null,"https://11.demooo.pl/koszyk/",null,null,null,null,1,{"$f":"IF(AL292=1,SUM($AL$3:AL292),0)","v":8},0,{"$f":"IF(AN292=1,SUM($AN$3:AN292),0)","v":0}]
["x",null,null,null,{"$f":"IFERROR(INDEX('Podświetlanie modułów'!D:D,MATCH(I293,'Podświetlanie modułów'!B:B,0)),\"\")","v":""},"Zamówienie","",{"$f":"IFERROR(MATCH(I293,Brief!AA:AA,0),\"\")","v":367},"Zamówienie",null,3,{"$f":"K293*$L$2+(AC2*(K293*$L$2))","v":360},null,null,4,600,1,120,null,"",{"$f":"IFERROR(INDEX(Brief!J:J,H293),0)","v":1},"x",1056,528,1120,null,1,0,3,0,4,null,"https://11.demooo.pl/zamowienie/",null,null,null,null,1,{"$f":"IF(AL293=1,SUM($AL$3:AL293),0)","v":9},0,{"$f":"IF(AN293=1,SUM($AN$3:AN293),0)","v":0}]
["x",null,null,"x",{"$f":"IFERROR(INDEX('Podświetlanie modułów'!D:D,MATCH(I294,'Podświetlanie modułów'!B:B,0)),\"\")","v":""},"Podsumowanie","",{"$f":"IFERROR(MATCH(I294,Brief!AA:AA,0),\"\")","v":368},"Podsumowanie",null,2,{"$f":"K294*$L$2+(AC2*(K294*$L$2))","v":240},null,null,2,300,null,"",null,"",{"$f":"IFERROR(INDEX(Brief!J:J,H294),0)","v":1},"x",594,594,630,null,1,0,2,0,2,null,null,null,null,null,null,1,{"$f":"IF(AL294=1,SUM($AL$3:AL294),0)","v":10},0,{"$f":"IF(AN294=1,SUM($AN$3:AN294),0)","v":0}]
["x",null,null,null,{"$f":"IFERROR(INDEX('Podświetlanie modułów'!D:D,MATCH(I295,'Podświetlanie modułów'!B:B,0)),\"\")","v":""},"Strony: Regulam","",{"$f":"IFERROR(MATCH(I295,Brief!AA:AA,0),\"\")","v":369},"Strony: Regulamin Warunki zakupów",null,0,{"$f":"K295*$L$2+(AC2*(K295*$L$2))","v":0},2,{"$f":"M295*$N$2+($AD$2*(M295*$N$2))","v":240},1,150,1,120,null,"",{"$f":"IFERROR(INDEX(Brief!J:J,H295),0)","v":1},"x",{"$f":"U295*(L295+N295)*(1+$W$2)","v":264},132,280,null,1,0,0,2,1,null,null,null,null,null,null,1,{"$f":"IF(AL295=1,SUM($AL$3:AL295),0)","v":11},1,{"$f":"IF(AN295=1,SUM($AN$3:AN295),0)","v":4}]
["x",null,null,null,{"$f":"IFERROR(INDEX('Podświetlanie modułów'!D:D,MATCH(I296,'Podświetlanie modułów'!B:B,0)),\"\")","v":""},"Strony: Zaloguj","",{"$f":"IFERROR(MATCH(I296,Brief!AA:AA,0),\"\")","v":370},"Strony: Zaloguj się i Załóż konto",null,1,{"$f":"K296*$L$2+(AC2*(K296*$L$2))","v":120},null,null,3,450,1,120,null,"",{"$f":"IFERROR(INDEX(Brief!J:J,H296),0)","v":1},"x",627,264,670,null,1,0,1,0,3,null,null,null,null,null,null,1,{"$f":"IF(AL296=1,SUM($AL$3:AL296),0)","v":12},0,{"$f":"IF(AN296=1,SUM($AN$3:AN296),0)","v":0}]
[null,null,null,null,{"$f":"IFERROR(INDEX('Podświetlanie modułów'!D:D,MATCH(I297,'Podświetlanie modułów'!B:B,0)),\"\")","v":""},"Dodatkowy moduł","",{"$f":"IFERROR(MATCH(I297,Brief!AA:AA,0),\"\")","v":371},{"$f":"\"Dodatkowy moduł \"&(COUNTIF($F$4:F296,\"Dodatkowy moduł\")+1)","v":"Dodatkowy moduł 68"},null,null,{"$f":"K297*$L$2+(AC2*(K297*$L$2))","v":0},null,{"$f":"M297*$N$2+($AD$2*(M297*$N$2))","v":0},null,0,null,"",null,"",{"$f":"IFERROR(INDEX(Brief!J:J,H297),0)","v":0},null,0,0,0,null,0,0,"","","",null,null,null,null,null,null,0,{"$f":"IF(AL297=1,SUM($AL$3:AL297),0)","v":0},0,{"$f":"IF(AN297=1,SUM($AN$3:AN297),0)","v":0}]
[null,null,null,null,{"$f":"IFERROR(INDEX('Podświetlanie modułów'!D:D,MATCH(I298,'Podświetlanie modułów'!B:B,0)),\"\")","v":""},"Dodatkowy moduł","",{"$f":"IFERROR(MATCH(I298,Brief!AA:AA,0),\"\")","v":372},{"$f":"\"Dodatkowy moduł \"&(COUNTIF($F$4:F297,\"Dodatkowy moduł\")+1)","v":"Dodatkowy moduł 69"},null,null,{"$f":"K298*$L$2+(AC2*(K298*$L$2))","v":0},null,{"$f":"M298*$N$2+($AD$2*(M298*$N$2))","v":0},null,0,null,"",null,"",{"$f":"IFERROR(INDEX(Brief!J:J,H298),0)","v":0},null,0,0,0,null,0,0,"","","",null,null,null,null,null,null,0,{"$f":"IF(AL298=1,SUM($AL$3:AL298),0)","v":0},0,{"$f":"IF(AN298=1,SUM($AN$3:AN298),0)","v":0}]
[null,null,null,null,{"$f":"IFERROR(INDEX('Podświetlanie modułów'!D:D,MATCH(I299,'Podświetlanie modułów'!B:B,0)),\"\")","v":""},"Dodatkowy moduł","",{"$f":"IFERROR(MATCH(I299,Brief!AA:AA,0),\"\")","v":373},{"$f":"\"Dodatkowy moduł \"&(COUNTIF($F$4:F298,\"Dodatkowy moduł\")+1)","v":"Dodatkowy moduł 70"},null,null,{"$f":"K299*$L$2+(AC2*(K299*$L$2))","v":0},null,{"$f":"M299*$N$2+($AD$2*(M299*$N$2))","v":0},null,0,null,"",null,"",{"$f":"IFERROR(INDEX(Brief!J:J,H299),0)","v":0},null,0,0,0,null,0,0,"","","",null,null,null,null,null,null,0,{"$f":"IF(AL299=1,SUM($AL$3:AL299),0)","v":0},0,{"$f":"IF(AN299=1,SUM($AN$3:AN299),0)","v":0}]
[null,null,null,null,{"$f":"IFERROR(INDEX('Podświetlanie modułów'!D:D,MATCH(I300,'Podświetlanie modułów'!B:B,0)),\"\")","v":""},"Marketing i poz","",{"$f":"IFERROR(MATCH(I300,Brief!AA:AA,0),\"\")","v":""},"Marketing i pozycjonowanie",null,null,null,null,null,null,null,null,null,null,null,null,null,null,null,null,null,null,null,"","","",null,null,null,null,null,null,0,{"$f":"IF(AL300=1,SUM($AL$3:AL300),0)","v":0},0,{"$f":"IF(AN300=1,SUM($AN$3:AN300),0)","v":0}]
["x",null,null,"x",{"$f":"IFERROR(INDEX('Podświetlanie modułów'!D:D,MATCH(I301,'Podświetlanie modułów'!B:B,0)),\"\")","v":""},"Integracja z Go","",{"$f":"IFERROR(MATCH(I301,Brief!AA:AA,0),\"\")","v":375},"Integracja z Google Merchant Center",null,0,{"$f":"K301*$L$2+(AC2*(K301*$L$2))","v":0},null,null,3,450,null,"",null,"",{"$f":"IFERROR(INDEX(Brief!J:J,H301),0)","v":0},null,0,0,{"$f":"IF($U$19>0,ROUNDUP(X301*(1+$Y$2),-1),ROUNDUP(W301*(1+$Y$2),-1))","v":0},200,{"$f":"U301","v":0},{"$f":"Z301*AA301","v":0},"","","",null,"https://kalithea.pl/produkt/concordia/",null,null,null,null,0,{"$f":"IF(AL301=1,SUM($AL$3:AL301),0)","v":0},0,{"$f":"IF(AN301=1,SUM($AN$3:AN301),0)","v":0}]
["x",null,null,"x",{"$f":"IFERROR(INDEX('Podświetlanie modułów'!D:D,MATCH(I302,'Podświetlanie modułów'!B:B,0)),\"\")","v":""},"Integracja z Ce","",{"$f":"IFERROR(MATCH(I302,Brief!AA:AA,0),\"\")","v":376},"Integracja z Ceneo Nokaut Homebook i Domodi",null,0,{"$f":"K302*$L$2+(AC2*(K302*$L$2))","v":0},null,null,1,150,null,"",null,"",{"$f":"IFERROR(INDEX(Brief!J:J,H302),0)","v":0},null,0,0,0,99,{"$f":"U302","v":0},0,"","","",null,null,null,null,null,null,0,{"$f":"IF(AL302=1,SUM($AL$3:AL302),0)","v":0},0,{"$f":"IF(AN302=1,SUM($AN$3:AN302),0)","v":0}]
["x",null,null,"x",{"$f":"IFERROR(INDEX('Podświetlanie modułów'!D:D,MATCH(I303,'Podświetlanie modułów'!B:B,0)),\"\")","v":""},"Integracja z Op","",{"$f":"IFERROR(MATCH(I303,Brief!AA:AA,0),\"\")","v":377},"Integracja z Opineo",null,0,{"$f":"K303*$L$2+(AC2*(K303*$L$2))","v":0},null,null,1,150,null,"",null,"",{"$f":"IFERROR(INDEX(Brief!J:J,H303),0)","v":0},null,0,0,0,null,0,0,"","","",null,null,null,null,null,null,0,{"$f":"IF(AL303=1,SUM($AL$3:AL303),0)","v":0},0,{"$f":"IF(AN303=1,SUM($AN$3:AN303),0)","v":0}]
["x",null,null,"x",{"$f":"IFERROR(INDEX('Podświetlanie modułów'!D:D,MATCH(I304,'Podświetlanie modułów'!B:B,0)),\"\")","v":""},"Integracja z Al","",{"$f":"IFERROR(MATCH(I304,Brief!AA:AA,0),\"\")","v":378},"Integracja z Allegro",null,0,{"$f":"K304*$L$2+(AC2*(K304*$L$2))","v":0},null,null,5,750,null,"",null,"",{"$f":"IFERROR(INDEX(Brief!J:J,H304),0)","v":0},null,0,0,0,499,0,0,"","","",null,null,null,null,null,null,0,{"$f":"IF(AL304=1,SUM($AL$3:AL304),0)","v":0},0,{"$f":"IF(AN304=1,SUM($AN$3:AN304),0)","v":0}]
["x",null,null,"x",{"$f":"IFERROR(INDEX('Podświetlanie modułów'!D:D,MATCH(I305,'Podświetlanie modułów'!B:B,0)),\"\")","v":""},"Integracja z OL","",{"$f":"IFERROR(MATCH(I305,Brief!AA:AA,0),\"\")","v":379},"Integracja z OLX",null,0,{"$f":"K305*$L$2+(AC2*(K305*$L$2))","v":0},null,null,2,300,null,"",null,"",{"$f":"IFERROR(INDEX(Brief!J:J,H305),0)","v":0},null,0,0,0,199,0,0,"","","",null,null,null,null,null,null,0,{"$f":"IF(AL305=1,SUM($AL$3:AL305),0)","v":0},0,{"$f":"IF(AN305=1,SUM($AN$3:AN305),0)","v":0}]
["x",null,null,"x",{"$f":"IFERROR(INDEX('Podświetlanie modułów'!D:D,MATCH(I306,'Podświetlanie modułów'!B:B,0)),\"\")","v":""},"Integracja z Ba","",{"$f":"IFERROR(MATCH(I306,Brief!AA:AA,0),\"\")","v":380},"Integracja z Baselinker",null,0,{"$f":"K306*$L$2+(AC2*(K306*$L$2))","v":0},null,null,5,750,null,"",null,"",{"$f":"IFERROR(INDEX(Brief!J:J,H306),0)","v":0},null,0,0,0,null,0,0,"","","",null,null,null,null,null,null,0,{"$f":"IF(AL306=1,SUM($AL$3:AL306),0)","v":0},0,{"$f":"IF(AN306=1,SUM($AN$3:AN306),0)","v":0}]
["x",null,null,"x",{"$f":"IFERROR(INDEX('Podświetlanie modułów'!D:D,MATCH(I307,'Podświetlanie modułów'!B:B,0)),\"\")","v":""},"Integracja z Ge","",{"$f":"IFERROR(MATCH(I307,Brief!AA:AA,0),\"\")","v":381},"Integracja z GetResponse",null,null,{"$f":"K307*$L$2+(AC2*(K307*$L$2))","v":0},1,{"$f":"M307*$N$2+($AD$2*(M307*$N$2))","v":120},3,450,null,"",null,"",{"$f":"IFERROR(INDEX(Brief!J:J,H307),0)","v":0},null,{"$f":"U307*(L307+N307+P307)*(1+$W$2)","v":0},0,0,null,0,0,"","","",null,null,null,null,null,null,0,{"$f":"IF(AL307=1,SUM($AL$3:AL307),0)","v":0},0,{"$f":"IF(AN307=1,SUM($AN$3:AN307),0)","v":0}]
["x",null,null,"x",{"$f":"IFERROR(INDEX('Podświetlanie modułów'!D:D,MATCH(I308,'Podświetlanie modułów'!B:B,0)),\"\")","v":""},"Integracja z Fr","",{"$f":"IFERROR(MATCH(I308,Brief!AA:AA,0),\"\")","v":382},"Integracja z Fresmail",null,null,{"$f":"K308*$L$2+(AC2*(K308*$L$2))","v":0},1,120,3,450,null,"",null,"",{"$f":"IFERROR(INDEX(Brief!J:J,H308),0)","v":0},null,{"$f":"U308*(L308+N308+P308)*(1+$W$2)","v":0},0,0,null,0,0,"","","",null,null,null,null,null,null,0,{"$f":"IF(AL308=1,SUM($AL$3:AL308),0)","v":0},0,{"$f":"IF(AN308=1,SUM($AN$3:AN308),0)","v":0}]
["x",null,null,"x",{"$f":"IFERROR(INDEX('Podświetlanie modułów'!D:D,MATCH(I309,'Podświetlanie modułów'!B:B,0)),\"\")","v":""},"Integracja z Ma","",{"$f":"IFERROR(MATCH(I309,Brief!AA:AA,0),\"\")","v":383},"Integracja z Mailerlite",null,null,{"$f":"K309*$L$2+(AC2*(K309*$L$2))","v":0},1,120,3,450,null,"",null,"",{"$f":"IFERROR(INDEX(Brief!J:J,H309),0)","v":0},null,0,0,0,null,0,0,"","","",null,null,null,null,null,null,0,{"$f":"IF(AL309=1,SUM($AL$3:AL309),0)","v":0},0,{"$f":"IF(AN309=1,SUM($AN$3:AN309),0)","v":0}]
["x",null,null,"x",{"$f":"IFERROR(INDEX('Podświetlanie modułów'!D:D,MATCH(I310,'Podświetlanie modułów'!B:B,0)),\"\")","v":""},{"$f":"LEFT(I310,15)","v":"ShopMagic PRO -"},"",{"$f":"IFERROR(MATCH(I310,Brief!AA:AA,0),\"\")","v":384},"ShopMagic PRO - automatyzacja maili",null,null,{"$f":"K310*$L$2+(AC2*(K310*$L$2))","v":0},5,600,1,150,null,"",null,"",{"$f":"IFERROR(INDEX(Brief!J:J,H310),0)","v":0},null,0,0,0,199,0,0,"",{"$f":"IF(U310=0,\"\",IF($U$19=0,M310*U310,IF(ISBLANK(Q310),M310*U310,Q310*U310)))","v":""},"",null,null,null,null,null,null,0,{"$f":"IF(AL310=1,SUM($AL$3:AL310),0)","v":0},0,{"$f":"IF(AN310=1,SUM($AN$3:AN310),0)","v":0}]
["x",null,null,"x",{"$f":"IFERROR(INDEX('Podświetlanie modułów'!D:D,MATCH(I311,'Podświetlanie modułów'!B:B,0)),\"\")","v":""},"Kupony rabatowe","",{"$f":"IFERROR(MATCH(I311,Brief!AA:AA,0),\"\")","v":385},"Kupony rabatowe (konfiguracja 1 kuponu)",null,null,{"$f":"K311*$L$2+(AC2*(K311*$L$2))","v":0},1,120,0,0,null,"",null,"",{"$f":"IFERROR(INDEX(Brief!J:J,H311),0)","v":1},"x",132,132,140,null,1,0,0,1,0,null,null,null,null,null,null,0,{"$f":"IF(AL311=1,SUM($AL$3:AL311),0)","v":0},1,{"$f":"IF(AN311=1,SUM($AN$3:AN311),0)","v":5}]
["x",null,null,"x",{"$f":"IFERROR(INDEX('Podświetlanie modułów'!D:D,MATCH(I312,'Podświetlanie modułów'!B:B,0)),\"\")","v":""},"Flexible Pricin","",{"$f":"IFERROR(MATCH(I312,Brief!AA:AA,0),\"\")","v":386},"Flexible Pricing - zaawansowane promocje (gratisy promocje)",null,null,{"$f":"K312*$L$2+(AC2*(K312*$L$2))","v":0},2,240,0,0,null,"",null,"",{"$f":"IFERROR(INDEX(Brief!J:J,H312),0)","v":0},null,0,0,0,199,0,0,"","","",null,null,null,null,null,null,0,{"$f":"IF(AL312=1,SUM($AL$3:AL312),0)","v":0},0,{"$f":"IF(AN312=1,SUM($AN$3:AN312),0)","v":0}]
["x",null,null,"x",{"$f":"IFERROR(INDEX('Podświetlanie modułów'!D:D,MATCH(I313,'Podświetlanie modułów'!B:B,0)),\"\")","v":""},"Flexible Produc","",{"$f":"IFERROR(MATCH(I313,Brief!AA:AA,0),\"\")","v":387},"Flexible Product Fields PRO - dodatkowe opcje do produktów",null,1,{"$f":"K313*$L$2+(AC2*(K313*$L$2))","v":120},1,120,0,0,null,"",null,"",{"$f":"IFERROR(INDEX(Brief!J:J,H313),0)","v":0},null,0,0,0,149,0,0,"","","",null,null,null,null,null,null,0,{"$f":"IF(AL313=1,SUM($AL$3:AL313),0)","v":0},0,{"$f":"IF(AN313=1,SUM($AN$3:AN313),0)","v":0}]
["x",null,null,"x",{"$f":"IFERROR(INDEX('Podświetlanie modułów'!D:D,MATCH(I314,'Podświetlanie modułów'!B:B,0)),\"\")","v":""},"Quick Cross-Sel","",{"$f":"IFERROR(MATCH(I314,Brief!AA:AA,0),\"\")","v":388},"Quick Cross-Sells - promocje powiązane",null,1,{"$f":"K314*$L$2+(AC2*(K314*$L$2))","v":120},1,120,1,150,null,"",null,"",{"$f":"IFERROR(INDEX(Brief!J:J,H314),0)","v":0},null,0,0,0,149,0,0,"","","",null,null,null,null,null,null,0,{"$f":"IF(AL314=1,SUM($AL$3:AL314),0)","v":0},0,{"$f":"IF(AN314=1,SUM($AN$3:AN314),0)","v":0}]
["x",null,null,"x",{"$f":"IFERROR(INDEX('Podświetlanie modułów'!D:D,MATCH(I315,'Podświetlanie modułów'!B:B,0)),\"\")","v":""},"Polecane produk","",{"$f":"IFERROR(MATCH(I315,Brief!AA:AA,0),\"\")","v":389},"Polecane produkty",null,0.5,{"$f":"K315*$L$2+(AC2*(K315*$L$2))","v":60},0.5,60,1,150,null,"",null,"",{"$f":"IFERROR(INDEX(Brief!J:J,H315),0)","v":1},"x",297,297,320,null,1,0,0.5,0.5,1,null,null,null,null,null,null,1,{"$f":"IF(AL315=1,SUM($AL$3:AL315),0)","v":13},1,{"$f":"IF(AN315=1,SUM($AN$3:AN315),0)","v":6}]
["x",null,null,"x",{"$f":"IFERROR(INDEX('Podświetlanie modułów'!D:D,MATCH(I316,'Podświetlanie modułów'!B:B,0)),\"\")","v":""},"Ostatnio ogląda","",{"$f":"IFERROR(MATCH(I316,Brief!AA:AA,0),\"\")","v":390},"Ostatnio oglądane produkty",null,0.5,{"$f":"K316*$L$2+(AC2*(K316*$L$2))","v":60},0.5,60,1,150,null,"",null,"",{"$f":"IFERROR(INDEX(Brief!J:J,H316),0)","v":0},"x",{"$f":"U316*(L316+N316+P316)*(1+$W$2)","v":0},0,0,null,0,0,"","","",null,null,null,null,null,null,0,{"$f":"IF(AL316=1,SUM($AL$3:AL316),0)","v":0},0,{"$f":"IF(AN316=1,SUM($AN$3:AN316),0)","v":0}]
["x",null,null,"x",{"$f":"IFERROR(INDEX('Podświetlanie modułów'!D:D,MATCH(I317,'Podświetlanie modułów'!B:B,0)),\"\")","v":""},"Powiadom mnie o","",{"$f":"IFERROR(MATCH(I317,Brief!AA:AA,0),\"\")","v":391},"Powiadom mnie o dostępności produktu",null,0.5,{"$f":"K317*$L$2+(AC2*(K317*$L$2))","v":60},1,120,1,150,null,"",null,"",{"$f":"IFERROR(INDEX(Brief!J:J,H317),0)","v":0},"x",0,0,0,200,0,0,"","","",null,null,null,null,"Back In Stock Notifications",null,0,{"$f":"IF(AL317=1,SUM($AL$3:AL317),0)","v":0},0,{"$f":"IF(AN317=1,SUM($AN$3:AN317),0)","v":0}]
["x",null,null,"x",{"$f":"IFERROR(INDEX('Podświetlanie modułów'!D:D,MATCH(I318,'Podświetlanie modułów'!B:B,0)),\"\")","v":""},"TOPBAR komunika","",{"$f":"IFERROR(MATCH(I318,Brief!AA:AA,0),\"\")","v":392},"TOPBAR komunikaty specjalne + kody rabatowe",null,0,{"$f":"K318*$L$2+(AC2*(K318*$L$2))","v":0},0,0,0,0,null,"",null,"",{"$f":"IFERROR(INDEX(Brief!J:J,H318),0)","v":1},null,0,0,0,null,1,0,0,0,0,null,null,null,null,null,null,0,{"$f":"IF(AL318=1,SUM($AL$3:AL318),0)","v":0},0,{"$f":"IF(AN318=1,SUM($AN$3:AN318),0)","v":0}]
[null,null,null,null,{"$f":"IFERROR(INDEX('Podświetlanie modułów'!D:D,MATCH(I319,'Podświetlanie modułów'!B:B,0)),\"\")","v":""},"Dodatkowy moduł","",{"$f":"IFERROR(MATCH(I319,Brief!AA:AA,0),\"\")","v":393},{"$f":"\"Dodatkowy moduł \"&(COUNTIF($F$4:F318,\"Dodatkowy moduł\")+1)","v":"Dodatkowy moduł 71"},null,null,{"$f":"K319*$L$2+(AC2*(K319*$L$2))","v":0},null,0,null,0,null,"",null,"",{"$f":"IFERROR(INDEX(Brief!J:J,H319),0)","v":0},null,0,0,0,null,0,0,"","","",null,null,null,null,null,null,0,{"$f":"IF(AL319=1,SUM($AL$3:AL319),0)","v":0},0,{"$f":"IF(AN319=1,SUM($AN$3:AN319),0)","v":0}]
[null,null,null,null,{"$f":"IFERROR(INDEX('Podświetlanie modułów'!D:D,MATCH(I320,'Podświetlanie modułów'!B:B,0)),\"\")","v":""},"Dodatkowy moduł","",{"$f":"IFERROR(MATCH(I320,Brief!AA:AA,0),\"\")","v":394},{"$f":"\"Dodatkowy moduł \"&(COUNTIF($F$4:F319,\"Dodatkowy moduł\")+1)","v":"Dodatkowy moduł 72"},null,null,{"$f":"K320*$L$2+(AC2*(K320*$L$2))","v":0},null,0,null,0,null,"",null,"",{"$f":"IFERROR(INDEX(Brief!J:J,H320),0)","v":0},null,0,0,0,null,0,0,"","","",null,null,null,null,null,null,0,{"$f":"IF(AL320=1,SUM($AL$3:AL320),0)","v":0},0,{"$f":"IF(AN320=1,SUM($AN$3:AN320),0)","v":0}]
[null,null,null,null,{"$f":"IFERROR(INDEX('Podświetlanie modułów'!D:D,MATCH(I321,'Podświetlanie modułów'!B:B,0)),\"\")","v":""},"Dodatkowy moduł","",{"$f":"IFERROR(MATCH(I321,Brief!AA:AA,0),\"\")","v":395},{"$f":"\"Dodatkowy moduł \"&(COUNTIF($F$4:F320,\"Dodatkowy moduł\")+1)","v":"Dodatkowy moduł 73"},null,null,{"$f":"K321*$L$2+(AC2*(K321*$L$2))","v":0},null,0,null,0,null,"",null,"",{"$f":"IFERROR(INDEX(Brief!J:J,H321),0)","v":0},null,0,0,0,null,0,0,"","","",null,null,null,null,null,null,0,{"$f":"IF(AL321=1,SUM($AL$3:AL321),0)","v":0},0,{"$f":"IF(AN321=1,SUM($AN$3:AN321),0)","v":0}]
[null,null,null,null,{"$f":"IFERROR(INDEX('Podświetlanie modułów'!D:D,MATCH(I322,'Podświetlanie modułów'!B:B,0)),\"\")","v":""},"Zarządzanie pro",{"$f":"IF($G$2=\"x\",W322,\"\")","v":""},{"$f":"IFERROR(MATCH(I322,Brief!AA:AA,0),\"\")","v":""},"Zarządzanie produktami",null,null,null,null,null,null,null,null,null,null,null,null,null,null,null,null,null,null,null,"","","",null,null,null,null,null,null,0,{"$f":"IF(AL322=1,SUM($AL$3:AL322),0)","v":0},0,{"$f":"IF(AN322=1,SUM($AN$3:AN322),0)","v":0}]
["x",null,null,"x",{"$f":"IFERROR(INDEX('Podświetlanie modułów'!D:D,MATCH(I323,'Podświetlanie modułów'!B:B,0)),\"\")","v":""},"Ilość produktów","",{"$f":"IFERROR(MATCH(I323,Brief!AA:AA,0),\"\")","v":397},"Ilość produktów bez limitu",null,0,{"$f":"K323*$L$2+(AC2*(K323*$L$2))","v":0},0,{"$f":"M323*$N$2+($AD$2*(M323*$N$2))","v":0},0,0,null,"",null,"",{"$f":"IFERROR(INDEX(Brief!J:J,H323),0)","v":1},"x",0,0,{"$f":"IF($U$19>0,ROUNDUP(X323*(1+$Y$2),-1),ROUNDUP(W323*(1+$Y$2),-1))","v":0},null,{"$f":"U323","v":1},{"$f":"Z323*AA323","v":0},0,0,0,null,null,null,null,null,null,0,{"$f":"IF(AL323=1,SUM($AL$3:AL323),0)","v":0},0,{"$f":"IF(AN323=1,SUM($AN$3:AN323),0)","v":0}]
["x",null,null,"x",{"$f":"IFERROR(INDEX('Podświetlanie modułów'!D:D,MATCH(I324,'Podświetlanie modułów'!B:B,0)),\"\")","v":""},"Ilość kategorii","",{"$f":"IFERROR(MATCH(I324,Brief!AA:AA,0),\"\")","v":398},"Ilość kategorii i podkategorii bez limitu",null,0,{"$f":"K324*$L$2+(AC2*(K324*$L$2))","v":0},0,0,0,0,null,"",null,"",{"$f":"IFERROR(INDEX(Brief!J:J,H324),0)","v":1},"x",0,0,0,null,{"$f":"U324","v":1},0,0,0,0,null,null,null,null,null,null,0,{"$f":"IF(AL324=1,SUM($AL$3:AL324),0)","v":0},{"$f":"IF(AD324=\"\",0,IF(AD324=0,0,1))","v":0},{"$f":"IF(AN324=1,SUM($AN$3:AN324),0)","v":0}]
["x",null,null,"x",{"$f":"IFERROR(INDEX('Podświetlanie modułów'!D:D,MATCH(I325,'Podświetlanie modułów'!B:B,0)),\"\")","v":""},"Producenci i se","",{"$f":"IFERROR(MATCH(I325,Brief!AA:AA,0),\"\")","v":399},"Producenci i serie",null,1,{"$f":"K325*$L$2+(AC2*(K325*$L$2))","v":120},1,120,2,{"$f":"$P$2*O325+($AE$2*(O325*$P$2))","v":300},null,{"$f":"IF(AND(D325=\"x\",Q325>0),\"błąd\",IF(Q325=\"\",\"\",Q325*$R$2+($AE$2*(Q325*$R$2))))","v":""},null,{"$f":"IF(AND(D325=\"x\",S325>0),\"błąd\",IF(S325=\"\",\"\",S325*$T$2+($AE$2*(S325*$T$2))))","v":""},{"$f":"IFERROR(INDEX(Brief!J:J,H325),0)","v":1},"x",{"$f":"U325*(L325+N325+P325)*(1+$W$2)","v":594},{"$f":"IF(D325=\"x\",W325,U325*(L325+IF(R325=\"\",0,R325)+IF(T325=\"\",0,T325))*(1+$X$2))","v":594},630,null,1,0,{"$f":"IF(U325=0,\"\",U325*K325)","v":1},1,{"$f":"IF(U325=0,\"\",IF($U$19=0,O325*U325,IF(ISBLANK(S325),O325*U325,S325*U325)))","v":2},null,null,null,null,null,null,{"$f":"IF(AE325=\"\",0,IF(AE325=0,0,1))","v":1},{"$f":"IF(AL325=1,SUM($AL$3:AL325),0)","v":14},1,{"$f":"IF(AN325=1,SUM($AN$3:AN325),0)","v":7}]
["x",null,null,"x",{"$f":"IFERROR(INDEX('Podświetlanie modułów'!D:D,MATCH(I326,'Podświetlanie modułów'!B:B,0)),\"\")","v":""},"Atrybuty produk","",{"$f":"IFERROR(MATCH(I326,Brief!AA:AA,0),\"\")","v":400},"Atrybuty produktów",null,0,{"$f":"K326*$L$2+(AC2*(K326*$L$2))","v":0},0,0,0,0,null,"",null,"",{"$f":"IFERROR(INDEX(Brief!J:J,H326),0)","v":1},"x",0,0,0,null,1,0,0,0,0,null,null,null,null,null,null,0,{"$f":"IF(AL326=1,SUM($AL$3:AL326),0)","v":0},0,{"$f":"IF(AN326=1,SUM($AN$3:AN326),0)","v":0}]
["x",null,null,"x",{"$f":"IFERROR(INDEX('Podświetlanie modułów'!D:D,MATCH(I327,'Podświetlanie modułów'!B:B,0)),\"\")","v":""},"Warianty produk","",{"$f":"IFERROR(MATCH(I327,Brief!AA:AA,0),\"\")","v":401},"Warianty produktów",null,0,{"$f":"K327*$L$2+(AC2*(K327*$L$2))","v":0},0,0,0,0,null,"",null,"",{"$f":"IFERROR(INDEX(Brief!J:J,H327),0)","v":1},"x",0,0,0,null,1,0,0,0,0,null,null,null,null,null,null,0,{"$f":"IF(AL327=1,SUM($AL$3:AL327),0)","v":0},0,{"$f":"IF(AN327=1,SUM($AN$3:AN327),0)","v":0}]
["x",null,null,"x",{"$f":"IFERROR(INDEX('Podświetlanie modułów'!D:D,MATCH(I328,'Podświetlanie modułów'!B:B,0)),\"\")","v":""},"Stany magazynow","",{"$f":"IFERROR(MATCH(I328,Brief!AA:AA,0),\"\")","v":402},"Stany magazynowe",null,0,{"$f":"K328*$L$2+(AC2*(K328*$L$2))","v":0},0,0,0,0,null,"",null,"",{"$f":"IFERROR(INDEX(Brief!J:J,H328),0)","v":1},"x",0,0,0,null,1,0,0,0,0,null,null,null,null,null,null,0,{"$f":"IF(AL328=1,SUM($AL$3:AL328),0)","v":0},0,{"$f":"IF(AN328=1,SUM($AN$3:AN328),0)","v":0}]
["x",null,null,"x",{"$f":"IFERROR(INDEX('Podświetlanie modułów'!D:D,MATCH(I329,'Podświetlanie modułów'!B:B,0)),\"\")","v":""},"Możliwość włącz","",{"$f":"IFERROR(MATCH(I329,Brief!AA:AA,0),\"\")","v":403},"Możliwość włączania i wyłączania produktów",null,0,{"$f":"K329*$L$2+(AC2*(K329*$L$2))","v":0},0,0,0,0,null,"",null,"",{"$f":"IFERROR(INDEX(Brief!J:J,H329),0)","v":1},"x",0,0,0,null,1,0,0,0,0,null,null,null,null,null,null,0,{"$f":"IF(AL329=1,SUM($AL$3:AL329),0)","v":0},0,{"$f":"IF(AN329=1,SUM($AN$3:AN329),0)","v":0}]
["x",null,null,"x",{"$f":"IFERROR(INDEX('Podświetlanie modułów'!D:D,MATCH(I330,'Podświetlanie modułów'!B:B,0)),\"\")","v":""},"Ustawianie prom","",{"$f":"IFERROR(MATCH(I330,Brief!AA:AA,0),\"\")","v":404},"Ustawianie promocji nowości bestsellerów",null,0,{"$f":"K330*$L$2+(AC2*(K330*$L$2))","v":0},0,0,0,0,null,"",null,"",{"$f":"IFERROR(INDEX(Brief!J:J,H330),0)","v":1},"x",0,0,0,null,1,0,0,0,0,null,null,null,null,null,null,0,{"$f":"IF(AL330=1,SUM($AL$3:AL330),0)","v":0},0,{"$f":"IF(AN330=1,SUM($AN$3:AN330),0)","v":0}]
["x",null,null,"x",{"$f":"IFERROR(INDEX('Podświetlanie modułów'!D:D,MATCH(I331,'Podświetlanie modułów'!B:B,0)),\"\")","v":""},"Możliwość tagow","",{"$f":"IFERROR(MATCH(I331,Brief!AA:AA,0),\"\")","v":405},"Możliwość tagowania produktów",null,0,{"$f":"K331*$L$2+(AC2*(K331*$L$2))","v":0},0,0,0,0,null,"",null,"",{"$f":"IFERROR(INDEX(Brief!J:J,H331),0)","v":1},"x",0,0,0,null,1,0,0,0,0,null,null,null,null,null,null,0,{"$f":"IF(AL331=1,SUM($AL$3:AL331),0)","v":0},0,{"$f":"IF(AN331=1,SUM($AN$3:AN331),0)","v":0}]
["x",null,null,"x",{"$f":"IFERROR(INDEX('Podświetlanie modułów'!D:D,MATCH(I332,'Podświetlanie modułów'!B:B,0)),\"\")","v":""},"Produkty grupow","",{"$f":"IFERROR(MATCH(I332,Brief!AA:AA,0),\"\")","v":406},"Produkty grupowe",null,0,{"$f":"K332*$L$2+(AC2*(K332*$L$2))","v":0},0,0,0,0,null,"",null,"",{"$f":"IFERROR(INDEX(Brief!J:J,H332),0)","v":0},"x",0,0,0,null,0,0,"","","",null,null,null,null,null,null,0,{"$f":"IF(AL332=1,SUM($AL$3:AL332),0)","v":0},0,{"$f":"IF(AN332=1,SUM($AN$3:AN332),0)","v":0}]
["x",null,null,"x",{"$f":"IFERROR(INDEX('Podświetlanie modułów'!D:D,MATCH(I333,'Podświetlanie modułów'!B:B,0)),\"\")","v":""},"Produkty wirtua","",{"$f":"IFERROR(MATCH(I333,Brief!AA:AA,0),\"\")","v":407},"Produkty wirtualne np. ebook",null,0,{"$f":"K333*$L$2+(AC2*(K333*$L$2))","v":0},0,0,0,0,null,"",null,"",{"$f":"IFERROR(INDEX(Brief!J:J,H333),0)","v":0},"x",0,0,0,null,0,0,"","","",null,null,null,null,null,null,0,{"$f":"IF(AL333=1,SUM($AL$3:AL333),0)","v":0},0,{"$f":"IF(AN333=1,SUM($AN$3:AN333),0)","v":0}]
["x",null,null,"x",{"$f":"IFERROR(INDEX('Podświetlanie modułów'!D:D,MATCH(I334,'Podświetlanie modułów'!B:B,0)),\"\")","v":""},"Buttony dla wyb","",{"$f":"IFERROR(MATCH(I334,Brief!AA:AA,0),\"\")","v":408},"Buttony dla wyboru wariantu",null,0.5,{"$f":"K334*$L$2+(AC2*(K334*$L$2))","v":60},null,0,1,150,null,"",null,"",{"$f":"IFERROR(INDEX(Brief!J:J,H334),0)","v":1},"x",231.00000000000003,231.00000000000003,250,null,1,0,0.5,0,1,null,null,null,null,"Variation Swatches for WooCommerce",null,1,{"$f":"IF(AL334=1,SUM($AL$3:AL334),0)","v":15},0,{"$f":"IF(AN334=1,SUM($AN$3:AN334),0)","v":0}]
[null,null,null,null,{"$f":"IFERROR(INDEX('Podświetlanie modułów'!D:D,MATCH(I335,'Podświetlanie modułów'!B:B,0)),\"\")","v":""},"Dodatkowy moduł","",{"$f":"IFERROR(MATCH(I335,Brief!AA:AA,0),\"\")","v":409},{"$f":"\"Dodatkowy moduł \"&(COUNTIF($F$4:F334,\"Dodatkowy moduł\")+1)","v":"Dodatkowy moduł 74"},null,null,{"$f":"K335*$L$2+(AC2*(K335*$L$2))","v":0},null,0,null,0,null,"",null,"",{"$f":"IFERROR(INDEX(Brief!J:J,H335),0)","v":0},null,0,0,0,null,0,0,"","","",null,null,null,null,null,null,0,{"$f":"IF(AL335=1,SUM($AL$3:AL335),0)","v":0},0,{"$f":"IF(AN335=1,SUM($AN$3:AN335),0)","v":0}]
[null,null,null,null,{"$f":"IFERROR(INDEX('Podświetlanie modułów'!D:D,MATCH(I336,'Podświetlanie modułów'!B:B,0)),\"\")","v":""},"Dodatkowy moduł","",{"$f":"IFERROR(MATCH(I336,Brief!AA:AA,0),\"\")","v":410},{"$f":"\"Dodatkowy moduł \"&(COUNTIF($F$4:F335,\"Dodatkowy moduł\")+1)","v":"Dodatkowy moduł 75"},null,null,{"$f":"K336*$L$2+(AC2*(K336*$L$2))","v":0},null,0,null,0,null,"",null,"",{"$f":"IFERROR(INDEX(Brief!J:J,H336),0)","v":0},null,0,0,0,null,0,0,"","","",null,null,null,null,null,null,0,{"$f":"IF(AL336=1,SUM($AL$3:AL336),0)","v":0},0,{"$f":"IF(AN336=1,SUM($AN$3:AN336),0)","v":0}]
[null,null,null,null,{"$f":"IFERROR(INDEX('Podświetlanie modułów'!D:D,MATCH(I337,'Podświetlanie modułów'!B:B,0)),\"\")","v":""},"Dodatkowy moduł","",{"$f":"IFERROR(MATCH(I337,Brief!AA:AA,0),\"\")","v":411},{"$f":"\"Dodatkowy moduł \"&(COUNTIF($F$4:F336,\"Dodatkowy moduł\")+1)","v":"Dodatkowy moduł 76"},null,null,{"$f":"K337*$L$2+(AC2*(K337*$L$2))","v":0},null,0,null,0,null,"",null,"",{"$f":"IFERROR(INDEX(Brief!J:J,H337),0)","v":0},null,0,0,0,null,0,0,"","","",null,null,null,null,null,null,0,{"$f":"IF(AL337=1,SUM($AL$3:AL337),0)","v":0},0,{"$f":"IF(AN337=1,SUM($AN$3:AN337),0)","v":0}]
[null,null,null,null,{"$f":"IFERROR(INDEX('Podświetlanie modułów'!D:D,MATCH(I338,'Podświetlanie modułów'!B:B,0)),\"\")","v":""},"Dodatkowy moduł","",{"$f":"IFERROR(MATCH(I338,Brief!AA:AA,0),\"\")","v":412},{"$f":"\"Dodatkowy moduł \"&(COUNTIF($F$4:F337,\"Dodatkowy moduł\")+1)","v":"Dodatkowy moduł 77"},null,null,{"$f":"K338*$L$2+(AC2*(K338*$L$2))","v":0},null,0,null,0,null,"",null,"",{"$f":"IFERROR(INDEX(Brief!J:J,H338),0)","v":0},null,0,0,0,null,0,0,"","","",null,null,null,null,null,null,0,{"$f":"IF(AL338=1,SUM($AL$3:AL338),0)","v":0},0,{"$f":"IF(AN338=1,SUM($AN$3:AN338),0)","v":0}]
[null,null,null,null,{"$f":"IFERROR(INDEX('Podświetlanie modułów'!D:D,MATCH(I339,'Podświetlanie modułów'!B:B,0)),\"\")","v":""},"Użytkowanie","",{"$f":"IFERROR(MATCH(I339,Brief!AA:AA,0),\"\")","v":""},"Użytkowanie",null,null,null,null,null,null,null,null,null,null,null,null,null,null,null,null,null,null,null,"","","",null,null,null,null,null,null,0,{"$f":"IF(AL339=1,SUM($AL$3:AL339),0)","v":0},0,{"$f":"IF(AN339=1,SUM($AN$3:AN339),0)","v":0}]
["x",null,null,"x",{"$f":"IFERROR(INDEX('Podświetlanie modułów'!D:D,MATCH(I340,'Podświetlanie modułów'!B:B,0)),\"\")","v":""},"Ulubione produk","",{"$f":"IFERROR(MATCH(I340,Brief!AA:AA,0),\"\")","v":414},"Ulubione produkty (zapamiętywanie)",null,1,{"$f":"K340*$L$2+(AC2*(K340*$L$2))","v":120},null,null,1,150,null,"",null,"",{"$f":"IFERROR(INDEX(Brief!J:J,H340),0)","v":1},"x",297,297,{"$f":"IF($U$19>0,ROUNDUP(X340*(1+$Y$2),-1),ROUNDUP(W340*(1+$Y$2),-1))","v":320},null,{"$f":"U340","v":1},{"$f":"Z340*AA340","v":0},1,0,1,null,null,null,null,"TI Wishlist",null,1,{"$f":"IF(AL340=1,SUM($AL$3:AL340),0)","v":16},0,{"$f":"IF(AN340=1,SUM($AN$3:AN340),0)","v":0}]
["x",null,null,"x",{"$f":"IFERROR(INDEX('Podświetlanie modułów'!D:D,MATCH(I341,'Podświetlanie modułów'!B:B,0)),\"\")","v":""},"Logowanie przez","",{"$f":"IFERROR(MATCH(I341,Brief!AA:AA,0),\"\")","v":415},"Logowanie przez Facebook lub Google",null,0.5,{"$f":"K341*$L$2+(AC2*(K341*$L$2))","v":60},null,null,2,300,null,"",null,"",{"$f":"IFERROR(INDEX(Brief!J:J,H341),0)","v":0},null,0,0,0,null,{"$f":"U341","v":0},0,"","","",null,null,null,null,null,null,0,{"$f":"IF(AL341=1,SUM($AL$3:AL341),0)","v":0},0,{"$f":"IF(AN341=1,SUM($AN$3:AN341),0)","v":0}]
["x",null,null,"x",{"$f":"IFERROR(INDEX('Podświetlanie modułów'!D:D,MATCH(I342,'Podświetlanie modułów'!B:B,0)),\"\")","v":""},"Konfiguracja fi","",{"$f":"IFERROR(MATCH(I342,Brief!AA:AA,0),\"\")","v":416},"Konfiguracja filtrów",null,1,{"$f":"K342*$L$2+(AC2*(K342*$L$2))","v":120},null,null,2,300,null,"",null,"",{"$f":"IFERROR(INDEX(Brief!J:J,H342),0)","v":1},"x",462.00000000000006,462.00000000000006,490,null,1,0,1,0,2,null,null,null,null,null,null,1,{"$f":"IF(AL342=1,SUM($AL$3:AL342),0)","v":17},0,{"$f":"IF(AN342=1,SUM($AN$3:AN342),0)","v":0}]
["x",null,null,"x",{"$f":"IFERROR(INDEX('Podświetlanie modułów'!D:D,MATCH(I343,'Podświetlanie modułów'!B:B,0)),\"\")","v":""},"Opcja sortowani","",{"$f":"IFERROR(MATCH(I343,Brief!AA:AA,0),\"\")","v":417},"Opcja sortowania","od",0,{"$f":"K343*$L$2+(AC2*(K343*$L$2))","v":0},null,null,2,300,null,"",null,"",{"$f":"IFERROR(INDEX(Brief!J:J,H343),0)","v":1},"x",330,330,350,null,1,0,0,0,2,null,null,null,null,null,null,1,{"$f":"IF(AL343=1,SUM($AL$3:AL343),0)","v":18},0,{"$f":"IF(AN343=1,SUM($AN$3:AN343),0)","v":0}]
["x",null,null,"x",{"$f":"IFERROR(INDEX('Podświetlanie modułów'!D:D,MATCH(I344,'Podświetlanie modułów'!B:B,0)),\"\")","v":""},"Opinie i recenz","",{"$f":"IFERROR(MATCH(I344,Brief!AA:AA,0),\"\")","v":418},"Opinie i recenzje produktów",null,1,{"$f":"K344*$L$2+(AC2*(K344*$L$2))","v":120},null,null,1,150,null,"",null,"",{"$f":"IFERROR(INDEX(Brief!J:J,H344),0)","v":1},"x",{"$f":"U344*(L344+P344)*(1+$W$2)","v":297},297,320,null,1,0,1,0,1,null,null,null,null,null,null,1,{"$f":"IF(AL344=1,SUM($AL$3:AL344),0)","v":19},0,{"$f":"IF(AN344=1,SUM($AN$3:AN344),0)","v":0}]
["x",null,null,"x",{"$f":"IFERROR(INDEX('Podświetlanie modułów'!D:D,MATCH(I345,'Podświetlanie modułów'!B:B,0)),\"\")","v":""},"Przełączanie wi","",{"$f":"IFERROR(MATCH(I345,Brief!AA:AA,0),\"\")","v":419},"Przełączanie widoku listy",null,0.5,{"$f":"K345*$L$2+(AC2*(K345*$L$2))","v":60},null,null,1,150,null,"",null,"",{"$f":"IFERROR(INDEX(Brief!J:J,H345),0)","v":0},"x",0,0,0,null,0,0,"","","",null,null,null,null,null,null,0,{"$f":"IF(AL345=1,SUM($AL$3:AL345),0)","v":0},0,{"$f":"IF(AN345=1,SUM($AN$3:AN345),0)","v":0}]
["x",null,null,"x",{"$f":"IFERROR(INDEX('Podświetlanie modułów'!D:D,MATCH(I346,'Podświetlanie modułów'!B:B,0)),\"\")","v":""},"Uprawnienia (ad","",{"$f":"IFERROR(MATCH(I346,Brief!AA:AA,0),\"\")","v":420},"Uprawnienia (administrator kierownik sklepu redaktor)",null,null,{"$f":"K346*$L$2+(AC2*(K346*$L$2))","v":0},null,null,1,150,null,"",null,"",{"$f":"IFERROR(INDEX(Brief!J:J,H346),0)","v":1},"x",165,165,180,null,1,0,0,0,1,null,null,null,null,"Wtyczka - User Role Editor",null,1,{"$f":"IF(AL346=1,SUM($AL$3:AL346),0)","v":20},0,{"$f":"IF(AN346=1,SUM($AN$3:AN346),0)","v":0}]
[null,null,null,null,{"$f":"IFERROR(INDEX('Podświetlanie modułów'!D:D,MATCH(I347,'Podświetlanie modułów'!B:B,0)),\"\")","v":""},"Dodatkowy moduł","",{"$f":"IFERROR(MATCH(I347,Brief!AA:AA,0),\"\")","v":421},{"$f":"\"Dodatkowy moduł \"&(COUNTIF($F$4:F346,\"Dodatkowy moduł\")+1)","v":"Dodatkowy moduł 78"},null,null,{"$f":"K347*$L$2+(AC2*(K347*$L$2))","v":0},null,{"$f":"M347*$N$2+($AD$2*(M347*$N$2))","v":0},null,0,null,"",null,"",{"$f":"IFERROR(INDEX(Brief!J:J,H347),0)","v":0},null,0,0,0,null,0,0,"","","",null,null,null,null,null,null,0,{"$f":"IF(AL347=1,SUM($AL$3:AL347),0)","v":0},0,{"$f":"IF(AN347=1,SUM($AN$3:AN347),0)","v":0}]
[null,null,null,null,{"$f":"IFERROR(INDEX('Podświetlanie modułów'!D:D,MATCH(I348,'Podświetlanie modułów'!B:B,0)),\"\")","v":""},"Dodatkowy moduł","",{"$f":"IFERROR(MATCH(I348,Brief!AA:AA,0),\"\")","v":422},{"$f":"\"Dodatkowy moduł \"&(COUNTIF($F$4:F347,\"Dodatkowy moduł\")+1)","v":"Dodatkowy moduł 79"},null,null,{"$f":"K348*$L$2+(AC2*(K348*$L$2))","v":0},null,{"$f":"M348*$N$2+($AD$2*(M348*$N$2))","v":0},null,0,null,"",null,"",{"$f":"IFERROR(INDEX(Brief!J:J,H348),0)","v":0},null,0,0,0,null,0,0,"","","",null,null,null,null,null,null,0,{"$f":"IF(AL348=1,SUM($AL$3:AL348),0)","v":0},0,{"$f":"IF(AN348=1,SUM($AN$3:AN348),0)","v":0}]
[null,null,null,null,{"$f":"IFERROR(INDEX('Podświetlanie modułów'!D:D,MATCH(I349,'Podświetlanie modułów'!B:B,0)),\"\")","v":""},"Dodatkowy moduł","",{"$f":"IFERROR(MATCH(I349,Brief!AA:AA,0),\"\")","v":423},{"$f":"\"Dodatkowy moduł \"&(COUNTIF($F$4:F348,\"Dodatkowy moduł\")+1)","v":"Dodatkowy moduł 80"},null,null,{"$f":"K349*$L$2+(AC2*(K349*$L$2))","v":0},null,{"$f":"M349*$N$2+($AD$2*(M349*$N$2))","v":0},null,0,null,"",null,"",{"$f":"IFERROR(INDEX(Brief!J:J,H349),0)","v":0},null,0,0,0,null,0,0,"","","",null,null,null,null,null,null,0,{"$f":"IF(AL349=1,SUM($AL$3:AL349),0)","v":0},0,{"$f":"IF(AN349=1,SUM($AN$3:AN349),0)","v":0}]
[null,null,null,null,{"$f":"IFERROR(INDEX('Podświetlanie modułów'!D:D,MATCH(I350,'Podświetlanie modułów'!B:B,0)),\"\")","v":""},"Dodatkowy moduł","",{"$f":"IFERROR(MATCH(I350,Brief!AA:AA,0),\"\")","v":424},{"$f":"\"Dodatkowy moduł \"&(COUNTIF($F$4:F349,\"Dodatkowy moduł\")+1)","v":"Dodatkowy moduł 81"},null,null,{"$f":"K350*$L$2+(AC2*(K350*$L$2))","v":0},null,{"$f":"M350*$N$2+($AD$2*(M350*$N$2))","v":0},null,0,null,"",null,"",{"$f":"IFERROR(INDEX(Brief!J:J,H350),0)","v":0},null,0,0,0,null,0,0,"","","",null,null,null,null,null,null,0,{"$f":"IF(AL350=1,SUM($AL$3:AL350),0)","v":0},0,{"$f":"IF(AN350=1,SUM($AN$3:AN350),0)","v":0}]
[null,null,null,null,{"$f":"IFERROR(INDEX('Podświetlanie modułów'!D:D,MATCH(I351,'Podświetlanie modułów'!B:B,0)),\"\")","v":""},"Dodatkowy moduł","",{"$f":"IFERROR(MATCH(I351,Brief!AA:AA,0),\"\")","v":425},{"$f":"\"Dodatkowy moduł \"&(COUNTIF($F$4:F350,\"Dodatkowy moduł\")+1)","v":"Dodatkowy moduł 82"},null,null,{"$f":"K351*$L$2+(AC2*(K351*$L$2))","v":0},null,{"$f":"M351*$N$2+($AD$2*(M351*$N$2))","v":0},null,0,null,"",null,"",{"$f":"IFERROR(INDEX(Brief!J:J,H351),0)","v":0},null,0,0,0,null,0,0,"","","",null,null,null,null,null,null,0,{"$f":"IF(AL351=1,SUM($AL$3:AL351),0)","v":0},0,{"$f":"IF(AN351=1,SUM($AN$3:AN351),0)","v":0}]
[null,null,null,null,{"$f":"IFERROR(INDEX('Podświetlanie modułów'!D:D,MATCH(I352,'Podświetlanie modułów'!B:B,0)),\"\")","v":""},"Zamówienia","",{"$f":"IFERROR(MATCH(I352,Brief!AA:AA,0),\"\")","v":""},"Zamówienia",null,null,null,null,null,null,null,null,null,null,null,null,null,null,null,null,null,null,null,"","","",null,null,null,null,null,null,0,{"$f":"IF(AL352=1,SUM($AL$3:AL352),0)","v":0},0,{"$f":"IF(AN352=1,SUM($AN$3:AN352),0)","v":0}]
["x",null,null,"x",{"$f":"IFERROR(INDEX('Podświetlanie modułów'!D:D,MATCH(I353,'Podświetlanie modułów'!B:B,0)),\"\")","v":""},"Panel zamówień","",{"$f":"IFERROR(MATCH(I353,Brief!AA:AA,0),\"\")","v":427},"Panel zamówień",null,0,{"$f":"K353*$L$2+(AC2*(K353*$L$2))","v":0},0,{"$f":"M353*$N$2","v":0},0,0,null,"",null,"",{"$f":"IFERROR(INDEX(Brief!J:J,H353),0)","v":1},"x",{"$f":"U353*(L353+P353)*(1+$W$2)","v":0},0,{"$f":"IF($U$19>0,ROUNDUP(X353*(1+$Y$2),-1),ROUNDUP(W353*(1+$Y$2),-1))","v":0},null,{"$f":"U353","v":1},{"$f":"Z353*AA353","v":0},0,0,0,null,null,null,null,null,null,0,{"$f":"IF(AL353=1,SUM($AL$3:AL353),0)","v":0},0,{"$f":"IF(AN353=1,SUM($AN$3:AN353),0)","v":0}]
["x",null,null,"x",{"$f":"IFERROR(INDEX('Podświetlanie modułów'!D:D,MATCH(I354,'Podświetlanie modułów'!B:B,0)),\"\")","v":""},"Powiadomienia e","",{"$f":"IFERROR(MATCH(I354,Brief!AA:AA,0),\"\")","v":428},"Powiadomienia email o statusie realizacji",null,null,{"$f":"K354*$L$2+(AC2*(K354*$L$2))","v":0},0.5,{"$f":"M354*$N$2+($AD$2*(M354*$N$2))","v":60},0,0,null,"",null,"",{"$f":"IFERROR(INDEX(Brief!J:J,H354),0)","v":1},"x",{"$f":"U354*(L354+N354)*(1+$W$2)","v":66},66,70,null,{"$f":"U354","v":1},0,0,0.5,0,null,null,null,null,null,null,0,{"$f":"IF(AL354=1,SUM($AL$3:AL354),0)","v":0},1,{"$f":"IF(AN354=1,SUM($AN$3:AN354),0)","v":8}]
["x",null,null,"x",{"$f":"IFERROR(INDEX('Podświetlanie modułów'!D:D,MATCH(I355,'Podświetlanie modułów'!B:B,0)),\"\")","v":""},"Zamówienia gośc","",{"$f":"IFERROR(MATCH(I355,Brief!AA:AA,0),\"\")","v":429},"Zamówienia gościnne lub jako zalogowany",null,0,{"$f":"K355*$L$2+(AC2*(K355*$L$2))","v":0},0,{"$f":"M355*$N$2","v":0},0,0,null,"",null,"",{"$f":"IFERROR(INDEX(Brief!J:J,H355),0)","v":1},"x",{"$f":"U355*(L355+P355)*(1+$W$2)","v":0},0,0,null,1,0,0,{"$f":"IF(U355=0,\"\",IF($U$19=0,M355*U355,IF(ISBLANK(Q355),M355*U355,Q355*U355)))","v":0},0,null,null,null,null,null,null,0,{"$f":"IF(AL355=1,SUM($AL$3:AL355),0)","v":0},0,{"$f":"IF(AN355=1,SUM($AN$3:AN355),0)","v":0}]
["x",null,null,"x",{"$f":"IFERROR(INDEX('Podświetlanie modułów'!D:D,MATCH(I356,'Podświetlanie modułów'!B:B,0)),\"\")","v":""},"Statystyki sprz","",{"$f":"IFERROR(MATCH(I356,Brief!AA:AA,0),\"\")","v":430},"Statystyki sprzedaży",null,0,{"$f":"K356*$L$2+(AC2*(K356*$L$2))","v":0},0,0,0,0,null,"",null,"",{"$f":"IFERROR(INDEX(Brief!J:J,H356),0)","v":1},"x",0,0,0,null,1,0,0,0,0,null,null,null,null,null,null,0,{"$f":"IF(AL356=1,SUM($AL$3:AL356),0)","v":0},0,{"$f":"IF(AN356=1,SUM($AN$3:AN356),0)","v":0}]
["x",null,null,"x",{"$f":"IFERROR(INDEX('Podświetlanie modułów'!D:D,MATCH(I357,'Podświetlanie modułów'!B:B,0)),\"\")","v":""},"Powiadomienia o","",{"$f":"IFERROR(MATCH(I357,Brief!AA:AA,0),\"\")","v":431},"Powiadomienia o niskim stanie magazynowym",null,0,{"$f":"K357*$L$2+(AC2*(K357*$L$2))","v":0},0,0,0,0,null,"",null,"",{"$f":"IFERROR(INDEX(Brief!J:J,H357),0)","v":1},"x",0,0,0,null,1,0,0,0,0,null,null,null,null,null,null,0,{"$f":"IF(AL357=1,SUM($AL$3:AL357),0)","v":0},0,{"$f":"IF(AN357=1,SUM($AN$3:AN357),0)","v":0}]
[null,null,null,"x",{"$f":"IFERROR(INDEX('Podświetlanie modułów'!D:D,MATCH(I358,'Podświetlanie modułów'!B:B,0)),\"\")","v":""},"Dodatkowy moduł","",{"$f":"IFERROR(MATCH(I358,Brief!AA:AA,0),\"\")","v":432},{"$f":"\"Dodatkowy moduł \"&(COUNTIF($F$4:F357,\"Dodatkowy moduł\")+1)","v":"Dodatkowy moduł 83"},null,null,{"$f":"K358*$L$2+(AC2*(K358*$L$2))","v":0},null,0,null,0,null,"",null,"",{"$f":"IFERROR(INDEX(Brief!J:J,H358),0)","v":0},null,0,0,0,null,0,0,"","","",null,null,null,null,null,null,0,{"$f":"IF(AL358=1,SUM($AL$3:AL358),0)","v":0},0,{"$f":"IF(AN358=1,SUM($AN$3:AN358),0)","v":0}]
[null,null,null,"x",{"$f":"IFERROR(INDEX('Podświetlanie modułów'!D:D,MATCH(I359,'Podświetlanie modułów'!B:B,0)),\"\")","v":""},"Dodatkowy moduł","",{"$f":"IFERROR(MATCH(I359,Brief!AA:AA,0),\"\")","v":433},{"$f":"\"Dodatkowy moduł \"&(COUNTIF($F$4:F358,\"Dodatkowy moduł\")+1)","v":"Dodatkowy moduł 84"},null,null,{"$f":"K359*$L$2+(AC2*(K359*$L$2))","v":0},null,0,null,0,null,"",null,"",{"$f":"IFERROR(INDEX(Brief!J:J,H359),0)","v":0},null,0,0,0,null,0,0,"","","",null,null,null,null,null,null,0,{"$f":"IF(AL359=1,SUM($AL$3:AL359),0)","v":0},0,{"$f":"IF(AN359=1,SUM($AN$3:AN359),0)","v":0}]
[null,null,null,"x",{"$f":"IFERROR(INDEX('Podświetlanie modułów'!D:D,MATCH(I360,'Podświetlanie modułów'!B:B,0)),\"\")","v":""},"Dodatkowy moduł","",{"$f":"IFERROR(MATCH(I360,Brief!AA:AA,0),\"\")","v":434},{"$f":"\"Dodatkowy moduł \"&(COUNTIF($F$4:F359,\"Dodatkowy moduł\")+1)","v":"Dodatkowy moduł 85"},null,null,{"$f":"K360*$L$2+(AC2*(K360*$L$2))","v":0},null,0,null,0,null,"",null,"",{"$f":"IFERROR(INDEX(Brief!J:J,H360),0)","v":0},null,0,0,0,null,0,0,"","","",null,null,null,null,null,null,0,{"$f":"IF(AL360=1,SUM($AL$3:AL360),0)","v":0},0,{"$f":"IF(AN360=1,SUM($AN$3:AN360),0)","v":0}]
[null,null,null,"x",{"$f":"IFERROR(INDEX('Podświetlanie modułów'!D:D,MATCH(I361,'Podświetlanie modułów'!B:B,0)),\"\")","v":""},"Dodatkowy moduł","",{"$f":"IFERROR(MATCH(I361,Brief!AA:AA,0),\"\")","v":435},{"$f":"\"Dodatkowy moduł \"&(COUNTIF($F$4:F360,\"Dodatkowy moduł\")+1)","v":"Dodatkowy moduł 86"},null,null,{"$f":"K361*$L$2+(AC2*(K361*$L$2))","v":0},null,0,null,0,null,"",null,"",{"$f":"IFERROR(INDEX(Brief!J:J,H361),0)","v":0},null,0,0,0,null,0,0,"","","",null,null,null,null,null,null,0,{"$f":"IF(AL361=1,SUM($AL$3:AL361),0)","v":0},0,{"$f":"IF(AN361=1,SUM($AN$3:AN361),0)","v":0}]
[null,null,null,"x",{"$f":"IFERROR(INDEX('Podświetlanie modułów'!D:D,MATCH(I362,'Podświetlanie modułów'!B:B,0)),\"\")","v":""},"Dodatkowy moduł","",{"$f":"IFERROR(MATCH(I362,Brief!AA:AA,0),\"\")","v":436},{"$f":"\"Dodatkowy moduł \"&(COUNTIF($F$4:F361,\"Dodatkowy moduł\")+1)","v":"Dodatkowy moduł 87"},null,null,{"$f":"K362*$L$2+(AC2*(K362*$L$2))","v":0},null,0,null,0,null,"",null,"",{"$f":"IFERROR(INDEX(Brief!J:J,H362),0)","v":0},null,0,0,0,null,0,0,"","","",null,null,null,null,null,null,0,{"$f":"IF(AL362=1,SUM($AL$3:AL362),0)","v":0},0,{"$f":"IF(AN362=1,SUM($AN$3:AN362),0)","v":0}]
[null,null,null,null,{"$f":"IFERROR(INDEX('Podświetlanie modułów'!D:D,MATCH(I363,'Podświetlanie modułów'!B:B,0)),\"\")","v":""},"Płatności i pod","",{"$f":"IFERROR(MATCH(I363,Brief!AA:AA,0),\"\")","v":""},"Płatności i podatki",null,null,null,null,null,null,null,null,null,null,null,null,null,null,null,null,null,null,null,"","","",null,null,null,null,null,null,0,{"$f":"IF(AL363=1,SUM($AL$3:AL363),0)","v":0},0,{"$f":"IF(AN363=1,SUM($AN$3:AN363),0)","v":0}]
["x",null,null,"x",{"$f":"IFERROR(INDEX('Podświetlanie modułów'!D:D,MATCH(I364,'Podświetlanie modułów'!B:B,0)),\"\")","v":""},"Integracja z Pa","",{"$f":"IFERROR(MATCH(I364,Brief!AA:AA,0),\"\")","v":438},"Integracja z PayU",null,0,{"$f":"K364*$L$2+(AC2*(K364*$L$2))","v":0},0.5,{"$f":"M364*$N$2+($AD$2*(M364*$N$2))","v":60},0,0,null,"",null,"",{"$f":"IFERROR(INDEX(Brief!J:J,H364),0)","v":0},null,{"$f":"U364*(L364+N364)*(1+$W$2)","v":0},0,{"$f":"IF($U$19>0,ROUNDUP(X364*(1+$Y$2),-1),ROUNDUP(W364*(1+$Y$2),-1))","v":0},0,{"$f":"U364","v":0},{"$f":"Z364*AA364","v":0},"","","",null,null,null,null,null,null,0,{"$f":"IF(AL364=1,SUM($AL$3:AL364),0)","v":0},0,{"$f":"IF(AN364=1,SUM($AN$3:AN364),0)","v":0}]
["x",null,null,"x",{"$f":"IFERROR(INDEX('Podświetlanie modułów'!D:D,MATCH(I365,'Podświetlanie modułów'!B:B,0)),\"\")","v":""},"Integracja z Pr","",{"$f":"IFERROR(MATCH(I365,Brief!AA:AA,0),\"\")","v":439},"Integracja z Przelewy24",null,0,{"$f":"K365*$L$2+(AC2*(K365*$L$2))","v":0},0.5,60,0,0,null,"",null,"",{"$f":"IFERROR(INDEX(Brief!J:J,H365),0)","v":1},"x",{"$f":"U365*(L365+N365)*(1+$W$2)","v":66},66,70,0,{"$f":"U365","v":1},0,0,0.5,0,null,null,null,null,null,null,0,{"$f":"IF(AL365=1,SUM($AL$3:AL365),0)","v":0},1,{"$f":"IF(AN365=1,SUM($AN$3:AN365),0)","v":9}]
["x",null,null,"x",{"$f":"IFERROR(INDEX('Podświetlanie modułów'!D:D,MATCH(I366,'Podświetlanie modułów'!B:B,0)),\"\")","v":""},"Integracja z Pa","",{"$f":"IFERROR(MATCH(I366,Brief!AA:AA,0),\"\")","v":440},"Integracja z PayPal",null,0,{"$f":"K366*$L$2+(AC2*(K366*$L$2))","v":0},0.5,60,0,0,null,"",null,"",{"$f":"IFERROR(INDEX(Brief!J:J,H366),0)","v":0},"x",0,0,0,0,0,0,"","","",null,null,null,null,null,null,0,{"$f":"IF(AL366=1,SUM($AL$3:AL366),0)","v":0},0,{"$f":"IF(AN366=1,SUM($AN$3:AN366),0)","v":0}]
["x",null,null,"x",{"$f":"IFERROR(INDEX('Podświetlanie modułów'!D:D,MATCH(I367,'Podświetlanie modułów'!B:B,0)),\"\")","v":""},"Integracja z Do","",{"$f":"IFERROR(MATCH(I367,Brief!AA:AA,0),\"\")","v":441},"Integracja z DotPay",null,0,{"$f":"K367*$L$2+(AC2*(K367*$L$2))","v":0},0.5,60,0,0,null,"",null,"",{"$f":"IFERROR(INDEX(Brief!J:J,H367),0)","v":0},null,0,0,0,99,0,0,"","","",null,null,null,null,null,null,0,{"$f":"IF(AL367=1,SUM($AL$3:AL367),0)","v":0},0,{"$f":"IF(AN367=1,SUM($AN$3:AN367),0)","v":0}]
["x",null,null,"x",{"$f":"IFERROR(INDEX('Podświetlanie modułów'!D:D,MATCH(I368,'Podświetlanie modułów'!B:B,0)),\"\")","v":""},"Integracja z tP","",{"$f":"IFERROR(MATCH(I368,Brief!AA:AA,0),\"\")","v":442},"Integracja z tPay",null,0,{"$f":"K368*$L$2+(AC2*(K368*$L$2))","v":0},0.5,60,0,0,null,"",null,"",{"$f":"IFERROR(INDEX(Brief!J:J,H368),0)","v":0},null,0,0,0,99,0,0,"","","",null,null,null,null,null,null,0,{"$f":"IF(AL368=1,SUM($AL$3:AL368),0)","v":0},0,{"$f":"IF(AN368=1,SUM($AN$3:AN368),0)","v":0}]
["x",null,null,"x",{"$f":"IFERROR(INDEX('Podświetlanie modułów'!D:D,MATCH(I369,'Podświetlanie modułów'!B:B,0)),\"\")","v":""},"Stawki podatkow","",{"$f":"IFERROR(MATCH(I369,Brief!AA:AA,0),\"\")","v":443},"Stawki podatkowe",null,0,{"$f":"K369*$L$2+(AC2*(K369*$L$2))","v":0},1,120,0,0,null,"",null,"",{"$f":"IFERROR(INDEX(Brief!J:J,H369),0)","v":1},"x",{"$f":"U369*(L369+N369)*(1+$W$2)","v":132},132,140,null,1,0,0,1,0,null,null,null,null,null,null,0,{"$f":"IF(AL369=1,SUM($AL$3:AL369),0)","v":0},1,{"$f":"IF(AN369=1,SUM($AN$3:AN369),0)","v":10}]
[null,null,null,"x",{"$f":"IFERROR(INDEX('Podświetlanie modułów'!D:D,MATCH(I370,'Podświetlanie modułów'!B:B,0)),\"\")","v":""},"Dodatkowy moduł","",{"$f":"IFERROR(MATCH(I370,Brief!AA:AA,0),\"\")","v":444},{"$f":"\"Dodatkowy moduł \"&(COUNTIF($F$4:F369,\"Dodatkowy moduł\")+1)","v":"Dodatkowy moduł 88"},null,null,{"$f":"K370*$L$2+(AC2*(K370*$L$2))","v":0},null,{"$f":"M370*$N$2","v":0},null,0,null,"",null,"",{"$f":"IFERROR(INDEX(Brief!J:J,H370),0)","v":0},null,0,0,0,null,0,0,"","","",null,null,null,null,null,null,0,{"$f":"IF(AL370=1,SUM($AL$3:AL370),0)","v":0},0,{"$f":"IF(AN370=1,SUM($AN$3:AN370),0)","v":0}]
[null,null,null,"x",{"$f":"IFERROR(INDEX('Podświetlanie modułów'!D:D,MATCH(I371,'Podświetlanie modułów'!B:B,0)),\"\")","v":""},{"$f":"LEFT(I371,15)","v":"Dodatkowy moduł"},"",{"$f":"IFERROR(MATCH(I371,Brief!AA:AA,0),\"\")","v":445},{"$f":"\"Dodatkowy moduł \"&(COUNTIF($F$4:F370,\"Dodatkowy moduł\")+1)","v":"Dodatkowy moduł 89"},null,null,{"$f":"K371*$L$2+(AC2*(K371*$L$2))","v":0},null,{"$f":"M371*$N$2","v":0},null,0,null,"",null,"",{"$f":"IFERROR(INDEX(Brief!J:J,H371),0)","v":0},null,0,0,0,null,0,0,"","","",null,null,null,null,null,null,0,{"$f":"IF(AL371=1,SUM($AL$3:AL371),0)","v":0},0,{"$f":"IF(AN371=1,SUM($AN$3:AN371),0)","v":0}]
[null,null,null,"x",{"$f":"IFERROR(INDEX('Podświetlanie modułów'!D:D,MATCH(I372,'Podświetlanie modułów'!B:B,0)),\"\")","v":""},"Dodatkowy moduł","",{"$f":"IFERROR(MATCH(I372,Brief!AA:AA,0),\"\")","v":446},{"$f":"\"Dodatkowy moduł \"&(COUNTIF($F$4:F371,\"Dodatkowy moduł\")+1)","v":"Dodatkowy moduł 90"},null,null,{"$f":"K372*$L$2+(AC2*(K372*$L$2))","v":0},null,{"$f":"M372*$N$2","v":0},null,0,null,"",null,"",{"$f":"IFERROR(INDEX(Brief!J:J,H372),0)","v":0},null,0,0,0,null,0,0,"","","",null,null,null,null,null,null,0,{"$f":"IF(AL372=1,SUM($AL$3:AL372),0)","v":0},0,{"$f":"IF(AN372=1,SUM($AN$3:AN372),0)","v":0}]
[null,null,null,"x",{"$f":"IFERROR(INDEX('Podświetlanie modułów'!D:D,MATCH(I373,'Podświetlanie modułów'!B:B,0)),\"\")","v":""},"Dodatkowy moduł","",{"$f":"IFERROR(MATCH(I373,Brief!AA:AA,0),\"\")","v":447},{"$f":"\"Dodatkowy moduł \"&(COUNTIF($F$4:F372,\"Dodatkowy moduł\")+1)","v":"Dodatkowy moduł 91"},null,null,{"$f":"K373*$L$2+(AC2*(K373*$L$2))","v":0},null,{"$f":"M373*$N$2","v":0},null,0,null,"",null,"",{"$f":"IFERROR(INDEX(Brief!J:J,H373),0)","v":0},null,0,0,0,null,0,0,"","","",null,null,null,null,null,null,0,{"$f":"IF(AL373=1,SUM($AL$3:AL373),0)","v":0},0,{"$f":"IF(AN373=1,SUM($AN$3:AN373),0)","v":0}]
[null,null,null,"x",{"$f":"IFERROR(INDEX('Podświetlanie modułów'!D:D,MATCH(I374,'Podświetlanie modułów'!B:B,0)),\"\")","v":""},"Dodatkowy moduł","",{"$f":"IFERROR(MATCH(I374,Brief!AA:AA,0),\"\")","v":448},{"$f":"\"Dodatkowy moduł \"&(COUNTIF($F$4:F373,\"Dodatkowy moduł\")+1)","v":"Dodatkowy moduł 92"},null,null,{"$f":"K374*$L$2+(AC2*(K374*$L$2))","v":0},null,{"$f":"M374*$N$2","v":0},null,0,null,"",null,"",{"$f":"IFERROR(INDEX(Brief!J:J,H374),0)","v":0},null,0,0,0,null,0,0,"",{"$f":"IF(U374=0,\"\",IF($U$19=0,M374*U374,IF(ISBLANK(Q374),M374*U374,Q374*U374)))","v":""},"",null,null,null,null,null,null,0,{"$f":"IF(AL374=1,SUM($AL$3:AL374),0)","v":0},0,{"$f":"IF(AN374=1,SUM($AN$3:AN374),0)","v":0}]
[null,null,null,null,{"$f":"IFERROR(INDEX('Podświetlanie modułów'!D:D,MATCH(I375,'Podświetlanie modułów'!B:B,0)),\"\")","v":""},"Wysyłka","",{"$f":"IFERROR(MATCH(I375,Brief!AA:AA,0),\"\")","v":""},"Wysyłka",null,null,null,null,null,null,null,null,null,null,null,null,null,null,null,null,null,null,null,"","","",null,null,null,null,null,null,0,{"$f":"IF(AL375=1,SUM($AL$3:AL375),0)","v":0},0,{"$f":"IF(AN375=1,SUM($AN$3:AN375),0)","v":0}]
["x",null,null,"x",{"$f":"IFERROR(INDEX('Podświetlanie modułów'!D:D,MATCH(I376,'Podświetlanie modułów'!B:B,0)),\"\")","v":""},"Darmowa wysyłka","",{"$f":"IFERROR(MATCH(I376,Brief!AA:AA,0),\"\")","v":450},"Darmowa wysyłka w oparciu o wielkość zamówienia",null,null,{"$f":"K376*$L$2+(AC2*(K376*$L$2))","v":0},0.5,{"$f":"M376*$N$2+($AD$2*(M376*$N$2))","v":60},null,0,null,"",null,"",{"$f":"IFERROR(INDEX(Brief!J:J,H376),0)","v":1},"x",{"$f":"U376*(L376+N376)*(1+$W$2)","v":66},66,{"$f":"IF($U$19>0,ROUNDUP(X376*(1+$Y$2),-1),ROUNDUP(W376*(1+$Y$2),-1))","v":70},null,{"$f":"U376","v":1},{"$f":"Z376*AA376","v":0},0,0.5,0,null,null,null,null,null,null,0,{"$f":"IF(AL376=1,SUM($AL$3:AL376),0)","v":0},1,{"$f":"IF(AN376=1,SUM($AN$3:AN376),0)","v":11}]
["x",null,null,"x",{"$f":"IFERROR(INDEX('Podświetlanie modułów'!D:D,MATCH(I377,'Podświetlanie modułów'!B:B,0)),\"\")","v":""},"Integracja z DP","",{"$f":"IFERROR(MATCH(I377,Brief!AA:AA,0),\"\")","v":451},"Integracja z DPD",null,0,{"$f":"K377*$L$2+(AC2*(K377*$L$2))","v":0},1,120,0,0,null,"",null,"",{"$f":"IFERROR(INDEX(Brief!J:J,H377),0)","v":1},"x",{"$f":"U377*(L377+N377)*(1+$W$2)","v":132},132,140,199,{"$f":"U377","v":1},199,0,1,0,null,null,null,null,null,null,0,{"$f":"IF(AL377=1,SUM($AL$3:AL377),0)","v":0},1,{"$f":"IF(AN377=1,SUM($AN$3:AN377),0)","v":12}]
["x",null,null,"x",{"$f":"IFERROR(INDEX('Podświetlanie modułów'!D:D,MATCH(I378,'Podświetlanie modułów'!B:B,0)),\"\")","v":""},"Integracja z Pa","",{"$f":"IFERROR(MATCH(I378,Brief!AA:AA,0),\"\")","v":452},"Integracja z Paczkomaty",null,0,{"$f":"K378*$L$2+(AC2*(K378*$L$2))","v":0},0.5,60,0,0,null,"",null,"",{"$f":"IFERROR(INDEX(Brief!J:J,H378),0)","v":1},"x",66,66,70,199,1,199,0,0.5,0,null,null,null,null,null,null,0,{"$f":"IF(AL378=1,SUM($AL$3:AL378),0)","v":0},1,{"$f":"IF(AN378=1,SUM($AN$3:AN378),0)","v":13}]
["x",null,null,"x",{"$f":"IFERROR(INDEX('Podświetlanie modułów'!D:D,MATCH(I379,'Podświetlanie modułów'!B:B,0)),\"\")","v":""},"Integracja z Fu","",{"$f":"IFERROR(MATCH(I379,Brief!AA:AA,0),\"\")","v":453},"Integracja z Furgonetka",null,0,{"$f":"K379*$L$2+(AC2*(K379*$L$2))","v":0},1,120,0,0,null,"",null,"",{"$f":"IFERROR(INDEX(Brief!J:J,H379),0)","v":0},null,0,0,0,199,0,0,"",{"$f":"IF(U379=0,\"\",IF($U$19=0,M379*U379,IF(ISBLANK(Q379),M379*U379,Q379*U379)))","v":""},"",null,null,null,null,null,null,0,{"$f":"IF(AL379=1,SUM($AL$3:AL379),0)","v":0},0,{"$f":"IF(AN379=1,SUM($AN$3:AN379),0)","v":0}]
["x",null,null,"x",{"$f":"IFERROR(INDEX('Podświetlanie modułów'!D:D,MATCH(I380,'Podświetlanie modułów'!B:B,0)),\"\")","v":""},"Integracja z DH","",{"$f":"IFERROR(MATCH(I380,Brief!AA:AA,0),\"\")","v":454},"Integracja z DHL",null,0,{"$f":"K380*$L$2+(AC2*(K380*$L$2))","v":0},1,120,0,0,null,"",null,"",{"$f":"IFERROR(INDEX(Brief!J:J,H380),0)","v":0},null,0,0,0,199,0,0,"","","",null,null,null,null,null,null,0,{"$f":"IF(AL380=1,SUM($AL$3:AL380),0)","v":0},0,{"$f":"IF(AN380=1,SUM($AN$3:AN380),0)","v":0}]
["x",null,null,"x",{"$f":"IFERROR(INDEX('Podświetlanie modułów'!D:D,MATCH(I381,'Podświetlanie modułów'!B:B,0)),\"\")","v":""},"Integracja z UP","",{"$f":"IFERROR(MATCH(I381,Brief!AA:AA,0),\"\")","v":455},"Integracja z UPS",null,0,{"$f":"K381*$L$2+(AC2*(K381*$L$2))","v":0},1,120,0,0,null,"",null,"",{"$f":"IFERROR(INDEX(Brief!J:J,H381),0)","v":0},null,0,0,0,99,0,0,"","","",null,null,null,null,null,null,0,{"$f":"IF(AL381=1,SUM($AL$3:AL381),0)","v":0},0,{"$f":"IF(AN381=1,SUM($AN$3:AN381),0)","v":0}]
["x",null,null,"x",{"$f":"IFERROR(INDEX('Podświetlanie modułów'!D:D,MATCH(I382,'Podświetlanie modułów'!B:B,0)),\"\")","v":""},"Integracja z Fe","",{"$f":"IFERROR(MATCH(I382,Brief!AA:AA,0),\"\")","v":456},"Integracja z FedEx",null,0,{"$f":"K382*$L$2+(AC2*(K382*$L$2))","v":0},1,120,0,0,null,"",null,"",{"$f":"IFERROR(INDEX(Brief!J:J,H382),0)","v":0},null,0,0,0,99,0,0,"","","",null,null,null,null,null,null,0,{"$f":"IF(AL382=1,SUM($AL$3:AL382),0)","v":0},0,{"$f":"IF(AN382=1,SUM($AN$3:AN382),0)","v":0}]
["x",null,null,"x",{"$f":"IFERROR(INDEX('Podświetlanie modułów'!D:D,MATCH(I383,'Podświetlanie modułów'!B:B,0)),\"\")","v":""},"Integracja z Po","",{"$f":"IFERROR(MATCH(I383,Brief!AA:AA,0),\"\")","v":457},"Integracja z Poczta Polska",null,0,{"$f":"K383*$L$2+(AC2*(K383*$L$2))","v":0},1,120,0,0,null,"",null,"",{"$f":"IFERROR(INDEX(Brief!J:J,H383),0)","v":0},null,0,0,0,199,0,0,"","","",null,null,null,null,null,null,0,{"$f":"IF(AL383=1,SUM($AL$3:AL383),0)","v":0},0,{"$f":"IF(AN383=1,SUM($AN$3:AN383),0)","v":0}]
["x",null,null,"x",{"$f":"IFERROR(INDEX('Podświetlanie modułów'!D:D,MATCH(I384,'Podświetlanie modułów'!B:B,0)),\"\")","v":""},"Integracja z Pa",{"$f":"IF($G$2=\"x\",W384,\"\")","v":""},{"$f":"IFERROR(MATCH(I384,Brief!AA:AA,0),\"\")","v":458},"Integracja z Paczka w Ruchu",null,0,{"$f":"K384*$L$2+(AC2*(K384*$L$2))","v":0},1,120,0,0,null,"",null,"",{"$f":"IFERROR(INDEX(Brief!J:J,H384),0)","v":0},null,0,0,0,199,0,0,"","","",null,null,null,null,null,null,0,{"$f":"IF(AL384=1,SUM($AL$3:AL384),0)","v":0},0,{"$f":"IF(AN384=1,SUM($AN$3:AN384),0)","v":0}]
["x",null,null,"x",{"$f":"IFERROR(INDEX('Podświetlanie modułów'!D:D,MATCH(I385,'Podświetlanie modułów'!B:B,0)),\"\")","v":""},"Konfiguracja kl","",{"$f":"IFERROR(MATCH(I385,Brief!AA:AA,0),\"\")","v":459},"Konfiguracja klas wysyłkowych",null,0,{"$f":"K385*$L$2+(AC2*(K385*$L$2))","v":0},1,120,0,0,null,"",null,"",{"$f":"IFERROR(INDEX(Brief!J:J,H385),0)","v":1},"x",{"$f":"U385*(L385+N385)*(1+$W$2)","v":132},132,140,199,1,199,0,1,0,null,null,null,null,null,null,0,{"$f":"IF(AL385=1,SUM($AL$3:AL385),0)","v":0},1,{"$f":"IF(AN385=1,SUM($AN$3:AN385),0)","v":14}]
["x",null,null,"x",{"$f":"IFERROR(INDEX('Podświetlanie modułów'!D:D,MATCH(I386,'Podświetlanie modułów'!B:B,0)),\"\")","v":""},"Konfiguracja za","",{"$f":"IFERROR(MATCH(I386,Brief!AA:AA,0),\"\")","v":460},"Konfiguracja zaawansowanych klas wysyłkowych ",null,0,{"$f":"K386*$L$2+(AC2*(K386*$L$2))","v":0},0,0,3,450,null,"",null,"",{"$f":"IFERROR(INDEX(Brief!J:J,H386),0)","v":0},null,0,0,0,199,0,0,"","","",null,null,null,null,null,null,0,{"$f":"IF(AL386=1,SUM($AL$3:AL386),0)","v":0},0,{"$f":"IF(AN386=1,SUM($AN$3:AN386),0)","v":0}]
[null,null,null,"x",{"$f":"IFERROR(INDEX('Podświetlanie modułów'!D:D,MATCH(I387,'Podświetlanie modułów'!B:B,0)),\"\")","v":""},"Dodatkowy moduł","",{"$f":"IFERROR(MATCH(I387,Brief!AA:AA,0),\"\")","v":461},{"$f":"\"Dodatkowy moduł \"&(COUNTIF($F$4:F386,\"Dodatkowy moduł\")+1)","v":"Dodatkowy moduł 93"},null,null,{"$f":"K387*$L$2+(AC2*(K387*$L$2))","v":0},null,0,null,{"$f":"$P$2*O387+($AE$2*(O387*$P$2))","v":0},null,"",null,"",{"$f":"IFERROR(INDEX(Brief!J:J,H387),0)","v":0},null,0,0,0,null,0,0,"","","",null,null,null,null,null,null,0,{"$f":"IF(AL387=1,SUM($AL$3:AL387),0)","v":0},0,{"$f":"IF(AN387=1,SUM($AN$3:AN387),0)","v":0}]
[null,null,null,"x",{"$f":"IFERROR(INDEX('Podświetlanie modułów'!D:D,MATCH(I388,'Podświetlanie modułów'!B:B,0)),\"\")","v":""},"Dodatkowy moduł","",{"$f":"IFERROR(MATCH(I388,Brief!AA:AA,0),\"\")","v":462},{"$f":"\"Dodatkowy moduł \"&(COUNTIF($F$4:F387,\"Dodatkowy moduł\")+1)","v":"Dodatkowy moduł 94"},null,null,{"$f":"K388*$L$2+(AC2*(K388*$L$2))","v":0},null,0,null,0,null,"",null,"",{"$f":"IFERROR(INDEX(Brief!J:J,H388),0)","v":0},null,0,0,0,null,0,0,"","","",null,null,null,null,null,null,0,{"$f":"IF(AL388=1,SUM($AL$3:AL388),0)","v":0},{"$f":"IF(AD388=\"\",0,IF(AD388=0,0,1))","v":0},{"$f":"IF(AN388=1,SUM($AN$3:AN388),0)","v":0}]
[null,null,null,"x",{"$f":"IFERROR(INDEX('Podświetlanie modułów'!D:D,MATCH(I389,'Podświetlanie modułów'!B:B,0)),\"\")","v":""},"Dodatkowy moduł","",{"$f":"IFERROR(MATCH(I389,Brief!AA:AA,0),\"\")","v":463},{"$f":"\"Dodatkowy moduł \"&(COUNTIF($F$4:F388,\"Dodatkowy moduł\")+1)","v":"Dodatkowy moduł 95"},null,null,{"$f":"K389*$L$2+(AC2*(K389*$L$2))","v":0},null,0,null,0,null,{"$f":"IF(AND(D389=\"x\",Q389>0),\"błąd\",IF(Q389=\"\",\"\",Q389*$R$2+($AE$2*(Q389*$R$2))))","v":""},null,{"$f":"IF(AND(D389=\"x\",S389>0),\"błąd\",IF(S389=\"\",\"\",S389*$T$2+($AE$2*(S389*$T$2))))","v":""},{"$f":"IFERROR(INDEX(Brief!J:J,H389),0)","v":0},null,0,{"$f":"IF(D389=\"x\",W389,U389*(L389+IF(R389=\"\",0,R389)+IF(T389=\"\",0,T389))*(1+$X$2))","v":0},0,null,0,0,{"$f":"IF(U389=0,\"\",U389*K389)","v":""},"",{"$f":"IF(U389=0,\"\",IF($U$19=0,O389*U389,IF(ISBLANK(S389),O389*U389,S389*U389)))","v":""},null,null,null,null,null,null,{"$f":"IF(AE389=\"\",0,IF(AE389=0,0,1))","v":0},{"$f":"IF(AL389=1,SUM($AL$3:AL389),0)","v":0},0,{"$f":"IF(AN389=1,SUM($AN$3:AN389),0)","v":0}]
[null,null,null,"x",{"$f":"IFERROR(INDEX('Podświetlanie modułów'!D:D,MATCH(I390,'Podświetlanie modułów'!B:B,0)),\"\")","v":""},"Dodatkowy moduł","",{"$f":"IFERROR(MATCH(I390,Brief!AA:AA,0),\"\")","v":464},{"$f":"\"Dodatkowy moduł \"&(COUNTIF($F$4:F389,\"Dodatkowy moduł\")+1)","v":"Dodatkowy moduł 96"},null,null,{"$f":"K390*$L$2+(AC2*(K390*$L$2))","v":0},null,0,null,0,null,"",null,"",{"$f":"IFERROR(INDEX(Brief!J:J,H390),0)","v":0},null,0,0,0,null,0,0,"","","",null,null,null,null,null,null,0,{"$f":"IF(AL390=1,SUM($AL$3:AL390),0)","v":0},0,{"$f":"IF(AN390=1,SUM($AN$3:AN390),0)","v":0}]
[null,null,null,"x",{"$f":"IFERROR(INDEX('Podświetlanie modułów'!D:D,MATCH(I391,'Podświetlanie modułów'!B:B,0)),\"\")","v":""},"Dodatkowy moduł","",{"$f":"IFERROR(MATCH(I391,Brief!AA:AA,0),\"\")","v":465},{"$f":"\"Dodatkowy moduł \"&(COUNTIF($F$4:F390,\"Dodatkowy moduł\")+1)","v":"Dodatkowy moduł 97"},null,null,{"$f":"K391*$L$2+(AC2*(K391*$L$2))","v":0},null,0,null,0,null,"",null,"",{"$f":"IFERROR(INDEX(Brief!J:J,H391),0)","v":0},null,0,0,0,null,0,0,"","","",null,null,null,null,null,null,0,{"$f":"IF(AL391=1,SUM($AL$3:AL391),0)","v":0},0,{"$f":"IF(AN391=1,SUM($AN$3:AN391),0)","v":0}]
[null,null,null,null,{"$f":"IFERROR(INDEX('Podświetlanie modułów'!D:D,MATCH(I392,'Podświetlanie modułów'!B:B,0)),\"\")","v":""},"Polityka prywat","",{"$f":"IFERROR(MATCH(I392,Brief!AA:AA,0),\"\")","v":""},"Polityka prywatności",null,null,null,null,null,null,null,null,null,null,null,null,null,null,null,null,null,null,null,"","","",null,null,null,null,null,null,0,{"$f":"IF(AL392=1,SUM($AL$3:AL392),0)","v":0},0,{"$f":"IF(AN392=1,SUM($AN$3:AN392),0)","v":0}]
["x",null,null,"x",{"$f":"IFERROR(INDEX('Podświetlanie modułów'!D:D,MATCH(I393,'Podświetlanie modułów'!B:B,0)),\"\")","v":""},"Klauzule i zgod","",{"$f":"IFERROR(MATCH(I393,Brief!AA:AA,0),\"\")","v":467},"Klauzule i zgody prawne do zamówienia i rejestracji konta",null,0,{"$f":"K393*$L$2+(AC2*(K393*$L$2))","v":0},1,120,0,0,null,"",null,"",{"$f":"IFERROR(INDEX(Brief!J:J,H393),0)","v":1},"x",{"$f":"U393*(L393+N393)*(1+$W$2)","v":132},132,{"$f":"IF($U$19>0,ROUNDUP(X393*(1+$Y$2),-1),ROUNDUP(W393*(1+$Y$2),-1))","v":140},0,{"$f":"U393","v":1},{"$f":"Z393*AA393","v":0},0,1,0,null,null,null,null,null,null,0,{"$f":"IF(AL393=1,SUM($AL$3:AL393),0)","v":0},1,{"$f":"IF(AN393=1,SUM($AN$3:AN393),0)","v":15}]
[null,null,null,"x",{"$f":"IFERROR(INDEX('Podświetlanie modułów'!D:D,MATCH(I394,'Podświetlanie modułów'!B:B,0)),\"\")","v":""},"Dodatkowy moduł","",{"$f":"IFERROR(MATCH(I394,Brief!AA:AA,0),\"\")","v":468},{"$f":"\"Dodatkowy moduł \"&(COUNTIF($F$4:F393,\"Dodatkowy moduł\")+1)","v":"Dodatkowy moduł 98"},null,null,{"$f":"K394*$L$2+(AC2*(K394*$L$2))","v":0},null,0,null,0,null,"",null,"",{"$f":"IFERROR(INDEX(Brief!J:J,H394),0)","v":0},null,{"$f":"U394*(L394+P394)*(1+$W$2)","v":0},0,0,null,0,0,"","","",null,null,null,null,null,null,0,{"$f":"IF(AL394=1,SUM($AL$3:AL394),0)","v":0},0,{"$f":"IF(AN394=1,SUM($AN$3:AN394),0)","v":0}]
[null,null,null,"x",{"$f":"IFERROR(INDEX('Podświetlanie modułów'!D:D,MATCH(I395,'Podświetlanie modułów'!B:B,0)),\"\")","v":""},"Dodatkowy moduł","",{"$f":"IFERROR(MATCH(I395,Brief!AA:AA,0),\"\")","v":469},{"$f":"\"Dodatkowy moduł \"&(COUNTIF($F$4:F394,\"Dodatkowy moduł\")+1)","v":"Dodatkowy moduł 99"},null,null,{"$f":"K395*$L$2+(AC2*(K395*$L$2))","v":0},null,0,null,0,null,"",null,"",{"$f":"IFERROR(INDEX(Brief!J:J,H395),0)","v":0},null,{"$f":"U395*(L395+P395)*(1+$W$2)","v":0},0,0,null,0,0,"","","",null,null,null,null,null,null,0,{"$f":"IF(AL395=1,SUM($AL$3:AL395),0)","v":0},0,{"$f":"IF(AN395=1,SUM($AN$3:AN395),0)","v":0}]
[null,null,null,"x",{"$f":"IFERROR(INDEX('Podświetlanie modułów'!D:D,MATCH(I396,'Podświetlanie modułów'!B:B,0)),\"\")","v":""},"Dodatkowy moduł","",{"$f":"IFERROR(MATCH(I396,Brief!AA:AA,0),\"\")","v":470},{"$f":"\"Dodatkowy moduł \"&(COUNTIF($F$4:F395,\"Dodatkowy moduł\")+1)","v":"Dodatkowy moduł 100"},null,null,{"$f":"K396*$L$2+(AC2*(K396*$L$2))","v":0},null,0,null,0,null,"",null,"",{"$f":"IFERROR(INDEX(Brief!J:J,H396),0)","v":0},null,{"$f":"U396*(L396+P396)*(1+$W$2)","v":0},0,0,null,0,0,"","","",null,null,null,null,null,null,0,{"$f":"IF(AL396=1,SUM($AL$3:AL396),0)","v":0},0,{"$f":"IF(AN396=1,SUM($AN$3:AN396),0)","v":0}]
[null,null,null,"x",{"$f":"IFERROR(INDEX('Podświetlanie modułów'!D:D,MATCH(I397,'Podświetlanie modułów'!B:B,0)),\"\")","v":""},"Dodatkowy moduł","",{"$f":"IFERROR(MATCH(I397,Brief!AA:AA,0),\"\")","v":471},{"$f":"\"Dodatkowy moduł \"&(COUNTIF($F$4:F396,\"Dodatkowy moduł\")+1)","v":"Dodatkowy moduł 101"},null,null,{"$f":"K397*$L$2+(AC2*(K397*$L$2))","v":0},null,0,null,0,null,"",null,"",{"$f":"IFERROR(INDEX(Brief!J:J,H397),0)","v":0},null,{"$f":"U397*(L397+P397)*(1+$W$2)","v":0},0,0,null,0,0,"","","",null,null,null,null,null,null,0,{"$f":"IF(AL397=1,SUM($AL$3:AL397),0)","v":0},0,{"$f":"IF(AN397=1,SUM($AN$3:AN397),0)","v":0}]
[null,null,null,"x",{"$f":"IFERROR(INDEX('Podświetlanie modułów'!D:D,MATCH(I398,'Podświetlanie modułów'!B:B,0)),\"\")","v":""},"Dodatkowy moduł","",{"$f":"IFERROR(MATCH(I398,Brief!AA:AA,0),\"\")","v":472},{"$f":"\"Dodatkowy moduł \"&(COUNTIF($F$4:F397,\"Dodatkowy moduł\")+1)","v":"Dodatkowy moduł 102"},null,null,{"$f":"K398*$L$2+(AC2*(K398*$L$2))","v":0},null,0,null,0,null,"",null,"",{"$f":"IFERROR(INDEX(Brief!J:J,H398),0)","v":0},null,{"$f":"U398*(L398+P398)*(1+$W$2)","v":0},0,0,null,0,0,"","","",null,null,null,null,null,null,0,{"$f":"IF(AL398=1,SUM($AL$3:AL398),0)","v":0},0,{"$f":"IF(AN398=1,SUM($AN$3:AN398),0)","v":0}]
[null,null,null,null,{"$f":"IFERROR(INDEX('Podświetlanie modułów'!D:D,MATCH(I399,'Podświetlanie modułów'!B:B,0)),\"\")","v":""},"Magazyn i księg","",{"$f":"IFERROR(MATCH(I399,Brief!AA:AA,0),\"\")","v":""},"Magazyn i księgowość",null,null,null,null,null,null,null,null,null,null,null,null,null,null,null,null,null,null,null,"","","",null,null,null,null,null,null,0,{"$f":"IF(AL399=1,SUM($AL$3:AL399),0)","v":0},0,{"$f":"IF(AN399=1,SUM($AN$3:AN399),0)","v":0}]
["x",null,null,"x",{"$f":"IFERROR(INDEX('Podświetlanie modułów'!D:D,MATCH(I400,'Podświetlanie modułów'!B:B,0)),\"\")","v":""},"Integracja z Su","",{"$f":"IFERROR(MATCH(I400,Brief!AA:AA,0),\"\")","v":474},"Integracja z SubiektGT",null,0,{"$f":"K400*$L$2+(AC2*(K400*$L$2))","v":0},0,0,1,150,null,"",null,"",{"$f":"IFERROR(INDEX(Brief!J:J,H400),0)","v":0},null,{"$f":"U400*(L400+P400)*(1+$W$2)","v":0},0,{"$f":"IF($U$19>0,ROUNDUP(X400*(1+$Y$2),-1),ROUNDUP(W400*(1+$Y$2),-1))","v":0},790,{"$f":"U400","v":0},{"$f":"Z400*AA400","v":0},"",{"$f":"IF(U400=0,\"\",IF($U$19=0,M400*U400,IF(ISBLANK(Q400),M400*U400,Q400*U400)))","v":""},"",null,null,null,null,"https://integratory.pl/tag-produktu/woocommerce/",null,0,{"$f":"IF(AL400=1,SUM($AL$3:AL400),0)","v":0},0,{"$f":"IF(AN400=1,SUM($AN$3:AN400),0)","v":0}]
["x",null,null,"x",{"$f":"IFERROR(INDEX('Podświetlanie modułów'!D:D,MATCH(I401,'Podświetlanie modułów'!B:B,0)),\"\")","v":""},"Integracja z Sa","",{"$f":"IFERROR(MATCH(I401,Brief!AA:AA,0),\"\")","v":475},"Integracja z Sage Symfonia",null,0,{"$f":"K401*$L$2+(AC2*(K401*$L$2))","v":0},0,0,1,150,null,"",null,"",{"$f":"IFERROR(INDEX(Brief!J:J,H401),0)","v":0},null,0,0,0,860,{"$f":"U401","v":0},0,"",{"$f":"IF(U401=0,\"\",IF($U$19=0,M401*U401,IF(ISBLANK(Q401),M401*U401,Q401*U401)))","v":""},"",null,null,null,null,"https://integratory.pl/tag-produktu/woocommerce/",null,0,{"$f":"IF(AL401=1,SUM($AL$3:AL401),0)","v":0},0,{"$f":"IF(AN401=1,SUM($AN$3:AN401),0)","v":0}]
["x",null,null,"x",{"$f":"IFERROR(INDEX('Podświetlanie modułów'!D:D,MATCH(I402,'Podświetlanie modułów'!B:B,0)),\"\")","v":""},"Integracja z iF","",{"$f":"IFERROR(MATCH(I402,Brief!AA:AA,0),\"\")","v":476},"Integracja z iFirma",null,0,{"$f":"K402*$L$2+(AC2*(K402*$L$2))","v":0},0,0,5,750,null,"",null,"",{"$f":"IFERROR(INDEX(Brief!J:J,H402),0)","v":0},null,0,0,0,199,0,0,"","","",null,null,null,null,null,null,0,{"$f":"IF(AL402=1,SUM($AL$3:AL402),0)","v":0},0,{"$f":"IF(AN402=1,SUM($AN$3:AN402),0)","v":0}]
["x",null,null,"x",{"$f":"IFERROR(INDEX('Podświetlanie modułów'!D:D,MATCH(I403,'Podświetlanie modułów'!B:B,0)),\"\")","v":""},"Integracja z wF","",{"$f":"IFERROR(MATCH(I403,Brief!AA:AA,0),\"\")","v":477},"Integracja z wFirma",null,0,{"$f":"K403*$L$2+(AC2*(K403*$L$2))","v":0},0,0,5,750,null,"",null,"",{"$f":"IFERROR(INDEX(Brief!J:J,H403),0)","v":0},null,0,0,0,199,0,0,"","","",null,null,null,null,null,null,0,{"$f":"IF(AL403=1,SUM($AL$3:AL403),0)","v":0},0,{"$f":"IF(AN403=1,SUM($AN$3:AN403),0)","v":0}]
["x",null,null,"x",{"$f":"IFERROR(INDEX('Podświetlanie modułów'!D:D,MATCH(I404,'Podświetlanie modułów'!B:B,0)),\"\")","v":""},"Integracja z fa","",{"$f":"IFERROR(MATCH(I404,Brief!AA:AA,0),\"\")","v":478},"Integracja z fakturownia",null,0,{"$f":"K404*$L$2+(AC2*(K404*$L$2))","v":0},0,0,5,750,null,"",null,"",{"$f":"IFERROR(INDEX(Brief!J:J,H404),0)","v":0},null,0,0,0,199,0,0,"","","",null,null,null,null,null,null,0,{"$f":"IF(AL404=1,SUM($AL$3:AL404),0)","v":0},0,{"$f":"IF(AN404=1,SUM($AN$3:AN404),0)","v":0}]
["x",null,null,"x",{"$f":"IFERROR(INDEX('Podświetlanie modułów'!D:D,MATCH(I405,'Podświetlanie modułów'!B:B,0)),\"\")","v":""},"Integracja z in","",{"$f":"IFERROR(MATCH(I405,Brief!AA:AA,0),\"\")","v":479},"Integracja z inFakt",null,0,{"$f":"K405*$L$2+(AC2*(K405*$L$2))","v":0},0,0,5,750,null,"",null,"",{"$f":"IFERROR(INDEX(Brief!J:J,H405),0)","v":0},null,{"$f":"U405*(L405+P405)*(1+$W$2)","v":0},0,0,199,0,0,"","","",null,null,null,null,null,null,0,{"$f":"IF(AL405=1,SUM($AL$3:AL405),0)","v":0},0,{"$f":"IF(AN405=1,SUM($AN$3:AN405),0)","v":0}]
["x",null,null,"x",{"$f":"IFERROR(INDEX('Podświetlanie modułów'!D:D,MATCH(I406,'Podświetlanie modułów'!B:B,0)),\"\")","v":""},"Faktury WooComm","",{"$f":"IFERROR(MATCH(I406,Brief!AA:AA,0),\"\")","v":480},"Faktury WooCommerce",null,0,{"$f":"K406*$L$2+(AC2*(K406*$L$2))","v":0},0,0,1,150,null,"",null,"",{"$f":"IFERROR(INDEX(Brief!J:J,H406),0)","v":0},null,0,0,0,199,0,0,"","","",null,null,null,null,null,null,0,{"$f":"IF(AL406=1,SUM($AL$3:AL406),0)","v":0},0,{"$f":"IF(AN406=1,SUM($AN$3:AN406),0)","v":0}]
["x",null,null,"x",{"$f":"IFERROR(INDEX('Podświetlanie modułów'!D:D,MATCH(I407,'Podświetlanie modułów'!B:B,0)),\"\")","v":""},"Integracja z As","",{"$f":"IFERROR(MATCH(I407,Brief!AA:AA,0),\"\")","v":481},"Integracja z Asseco WAPRO WF-MAG",null,0,{"$f":"K407*$L$2+(AC2*(K407*$L$2))","v":0},0,0,5,{"$f":"$P$2*O407+($AE$2*(O407*$P$2))","v":750},null,"",null,"",{"$f":"IFERROR(INDEX(Brief!J:J,H407),0)","v":0},null,0,0,0,860,0,0,"","","",null,null,null,null,null,null,0,{"$f":"IF(AL407=1,SUM($AL$3:AL407),0)","v":0},0,{"$f":"IF(AN407=1,SUM($AN$3:AN407),0)","v":0}]
[null,null,null,"x",{"$f":"IFERROR(INDEX('Podświetlanie modułów'!D:D,MATCH(I408,'Podświetlanie modułów'!B:B,0)),\"\")","v":""},"Dodatkowy moduł","",{"$f":"IFERROR(MATCH(I408,Brief!AA:AA,0),\"\")","v":482},{"$f":"\"Dodatkowy moduł \"&(COUNTIF($F$4:F407,\"Dodatkowy moduł\")+1)","v":"Dodatkowy moduł 103"},null,null,{"$f":"K408*$L$2+(AC2*(K408*$L$2))","v":0},null,0,null,0,null,"",null,"",{"$f":"IFERROR(INDEX(Brief!J:J,H408),0)","v":0},null,{"$f":"U408*(L408+P408)*(1+$W$2)","v":0},0,0,null,0,0,"","","",null,null,null,null,null,null,0,{"$f":"IF(AL408=1,SUM($AL$3:AL408),0)","v":0},0,{"$f":"IF(AN408=1,SUM($AN$3:AN408),0)","v":0}]
[null,null,null,"x",{"$f":"IFERROR(INDEX('Podświetlanie modułów'!D:D,MATCH(I409,'Podświetlanie modułów'!B:B,0)),\"\")","v":""},"Dodatkowy moduł","",{"$f":"IFERROR(MATCH(I409,Brief!AA:AA,0),\"\")","v":483},{"$f":"\"Dodatkowy moduł \"&(COUNTIF($F$4:F408,\"Dodatkowy moduł\")+1)","v":"Dodatkowy moduł 104"},null,null,{"$f":"K409*$L$2+(AC2*(K409*$L$2))","v":0},null,0,null,0,null,"",null,"",{"$f":"IFERROR(INDEX(Brief!J:J,H409),0)","v":0},null,0,0,0,null,0,{"$f":"Z409*AA409","v":0},"","","",null,null,null,null,null,null,0,{"$f":"IF(AL409=1,SUM($AL$3:AL409),0)","v":0},0,{"$f":"IF(AN409=1,SUM($AN$3:AN409),0)","v":0}]
[null,null,null,"x",{"$f":"IFERROR(INDEX('Podświetlanie modułów'!D:D,MATCH(I410,'Podświetlanie modułów'!B:B,0)),\"\")","v":""},"Dodatkowy moduł","",{"$f":"IFERROR(MATCH(I410,Brief!AA:AA,0),\"\")","v":484},{"$f":"\"Dodatkowy moduł \"&(COUNTIF($F$4:F409,\"Dodatkowy moduł\")+1)","v":"Dodatkowy moduł 105"},null,null,{"$f":"K410*$L$2+(AC2*(K410*$L$2))","v":0},null,0,null,0,null,"",null,"",{"$f":"IFERROR(INDEX(Brief!J:J,H410),0)","v":0},null,0,0,0,null,0,{"$f":"Z410*AA410","v":0},"","","",null,null,null,null,null,null,0,{"$f":"IF(AL410=1,SUM($AL$3:AL410),0)","v":0},0,{"$f":"IF(AN410=1,SUM($AN$3:AN410),0)","v":0}]
[null,null,null,"x",{"$f":"IFERROR(INDEX('Podświetlanie modułów'!D:D,MATCH(I411,'Podświetlanie modułów'!B:B,0)),\"\")","v":""},"Dodatkowy moduł","",{"$f":"IFERROR(MATCH(I411,Brief!AA:AA,0),\"\")","v":485},{"$f":"\"Dodatkowy moduł \"&(COUNTIF($F$4:F410,\"Dodatkowy moduł\")+1)","v":"Dodatkowy moduł 106"},null,null,{"$f":"K411*$L$2+(AC2*(K411*$L$2))","v":0},null,0,null,0,null,"",null,"",{"$f":"IFERROR(INDEX(Brief!J:J,H411),0)","v":0},null,0,0,0,null,0,{"$f":"Z411*AA411","v":0},"","","",null,null,null,null,null,null,0,{"$f":"IF(AL411=1,SUM($AL$3:AL411),0)","v":0},0,{"$f":"IF(AN411=1,SUM($AN$3:AN411),0)","v":0}]
[null,null,null,"x",{"$f":"IFERROR(INDEX('Podświetlanie modułów'!D:D,MATCH(I412,'Podświetlanie modułów'!B:B,0)),\"\")","v":""},"Dodatkowy moduł","",{"$f":"IFERROR(MATCH(I412,Brief!AA:AA,0),\"\")","v":486},{"$f":"\"Dodatkowy moduł \"&(COUNTIF($F$4:F411,\"Dodatkowy moduł\")+1)","v":"Dodatkowy moduł 107"},null,null,{"$f":"K412*$L$2+(AC2*(K412*$L$2))","v":0},null,0,null,0,null,"",null,"",{"$f":"IFERROR(INDEX(Brief!J:J,H412),0)","v":0},null,0,0,0,null,0,{"$f":"Z412*AA412","v":0},"","","",null,null,null,null,null,null,0,{"$f":"IF(AL412=1,SUM($AL$3:AL412),0)","v":0},0,{"$f":"IF(AN412=1,SUM($AN$3:AN412),0)","v":0}]
[null,null,null,null,{"$f":"IFERROR(INDEX('Podświetlanie modułów'!D:D,MATCH(I413,'Podświetlanie modułów'!B:B,0)),\"\")","v":""},{"$f":"LEFT(I413,15)","v":"Wersje mobilne"},{"$f":"IF($G$2=\"x\",W413,\"\")","v":""},{"$f":"IFERROR(MATCH(I413,Brief!AA:AA,0),\"\")","v":""},"Wersje mobilne",null,null,null,null,null,null,null,null,"",null,"",null,null,null,null,null,null,null,null,"","","",null,null,null,null,null,null,0,{"$f":"IF(AL413=1,SUM($AL$3:AL413),0)","v":0},0,{"$f":"IF(AN413=1,SUM($AN$3:AN413),0)","v":0}]
["x",null,null,null,{"$f":"IFERROR(INDEX('Podświetlanie modułów'!D:D,MATCH(I414,'Podświetlanie modułów'!B:B,0)),\"\")","v":""},"Dodatkowe proje","",{"$f":"IFERROR(MATCH(I414,Brief!AA:AA,0),\"\")","v":488},"Dodatkowe projekty pod wersje mobilne (pionowy)",null,null,null,null,null,null,null,null,"",null,"",{"$f":"IFERROR(INDEX(Brief!J:J,H414),0)","v":0},null,{"$f":"IF(U414>0,SUMIF(AC4:AC412,\">0\",W4:W412)*0.5,0)","v":0},0,{"$f":"IF($U$19>0,ROUNDUP(X414*(1+$Y$2),-1),ROUNDUP(W414*(1+$Y$2),-1))","v":0},null,null,null,"","","",null,null,null,null,null,null,0,{"$f":"IF(AL414=1,SUM($AL$3:AL414),0)","v":0},0,{"$f":"IF(AN414=1,SUM($AN$3:AN414),0)","v":0}]
[null,null,null,null,{"$f":"IFERROR(INDEX('Podświetlanie modułów'!D:D,MATCH(I415,'Podświetlanie modułów'!B:B,0)),\"\")","v":""},"Języki","",{"$f":"IFERROR(MATCH(I415,Brief!AA:AA,0),\"\")","v":""},"Języki",null,null,null,null,null,null,null,null,"",null,"",null,null,null,null,null,null,null,null,{"$f":"IF(U415*K415=0,\"\",U415*K415)","v":""},"",{"$f":"IF(U415=0,\"\",IF($U$19=0,O415*U415,IF(ISBLANK(S415),O415*U415,S415*U415)))","v":""},null,null,null,null,null,null,0,{"$f":"IF(AL415=1,SUM($AL$3:AL415),0)","v":0},0,{"$f":"IF(AN415=1,SUM($AN$3:AN415),0)","v":0}]
["x",null,null,null,{"$f":"IFERROR(INDEX('Podświetlanie modułów'!D:D,MATCH(I416,'Podświetlanie modułów'!B:B,0)),\"\")","v":""},"Dodatkowe wersj","",{"$f":"IFERROR(MATCH(I416,Brief!AA:AA,0),\"\")","v":490},"Dodatkowe wersje językowe",null,null,null,null,null,0.4,{"$f":"O416*W417","v":5347.3200000000006},null,"",null,"",{"$f":"IF(Brief!AO490=6,0,Brief!AO490)","v":0},null,{"$f":"U416*(L416+P416)*(1+$W$2)","v":0},{"$f":"W416","v":0},{"$f":"IF($U$19>0,ROUNDUP(X416*(1+$Y$2),-1),ROUNDUP(W416*(1+$Y$2),-1))","v":0},null,null,null,null,null,{"$f":"SUM(AE4:AE414)*0.4","v":19.560000000000002},null,null,null,null,null,null,1,{"$f":"IF(AL416=1,SUM($AL$3:AL416),0)","v":21},0,{"$f":"IF(AN416=1,SUM($AN$3:AN416),0)","v":0}]
["Podsumowanie",null,null,null,null,null,null,null,null,"Finanse",null,null,null,null,"Suma (bez jezyków)",null,null,null,null,null,null,null,{"$f":"SUM(W4:W414)","v":13368.300000000001},{"$f":"SUM(X4:X414)","v":9919.7999999999993},14230]
[null,null,null,null,null,null,null,null,null,null,null,null,null,null,"Koszt licencji",null,null,null,null,null,null,null,{"$f":"SUM(AB122:AB412)","v":597},{"$f":"W418","v":597},{"$f":"SUM(AB122:AB412)","v":597}]
[null,null,null,null,null,null,null,null,null,null,null,null,null,null,"Koszt całkowity",null,null,null,null,null,null,null,{"$f":"SUM(W4:W414)+W416","v":13368.300000000001},{"$f":"SUM(X4:X414)+X416","v":9919.7999999999993},14230]
[null,null,null,null,null,null,null,null,null,"Dni",null,null,null,null,"Projekt",null,null,null,null,null,null,null,null,null,{"$f":"AC420/8","v":3.6124999999999998},null,null,null,{"$f":"SUM(AC4:AC416)","v":28.9}]
[null,null,null,null,null,null,null,null,null,null,null,null,null,null,null,null,null,null,null,null,null,null,null,null,null,null,null,null,null,{"$f":"SUM(AD4:AD412)","v":12.5}]
[null,null,null,null,null,null,null,null,null,null,null,null,null,null,"Content Manager + Programowanie",null,null,null,null,null,null,null,null,null,{"$f":"(AE422/8)+(AD421/8)","v":10.120000000000001},null,null,null,null,null,{"$f":"SUM(AE4:AE416)","v":68.460000000000008}]
[]
[null,null,null,null,{"$f":"IFERROR(INDEX('Podświetlanie modułów'!D:D,MATCH(I424,'Podświetlanie modułów'!B:B,0)),\"\")","v":""}]
[null,"Przygotowanie briefu",null,null,null,null,null,null,null,null,null,null,null,null,null,null,null,null,null,null,null,null,null,{"$f":"AE416","v":19.560000000000002}]
[null,null,null,null,{"$f":"IFERROR(INDEX('Podświetlanie modułów'!D:D,MATCH(I426,'Podświetlanie modułów'!B:B,0)),\"\")","v":""},null,null,null,null,null,null,null,null,null,null,null,null,null,null,null,null,null,null,{"$f":"CSV!M154","v":""},127.5,{"$f":"Y426/X425","v":6.5184049079754596}]
[null,null,null,null,{"$f":"IFERROR(INDEX('Podświetlanie modułów'!D:D,MATCH(I427,'Podświetlanie modułów'!B:B,0)),\"\")","v":""},null,null,null,null,null,null,null,null,null,null,null,null,null,null,null,null,null,null,{"$f":"CSV!M387","v":""},73,{"$f":"Y427/X425","v":3.7321063394683023}]
[]
[null,null,null,null,null,null,null,null,null,null,null,null,null,null," "]
[]
[]
[null,"Przygotowanie wyceny"]
[]
[]
[]
[]
[]
[]
[null,"Przygotowanie checklisty dla UX/UI designera"]
[]
[]
[]
[]
[]
[]
[null,"Estymacja czasu realizacji w harmonogramie"]

{"sheet":"CSV","index":2,"n_rows":388,"n_cols":56,"rows_kept":388,"cut":false,"hidden":true,"merged":[[1,7,1,8],[1,10,1,11]]}
[]
[null,null,null,null,null,null,null,"Wybierz osoby zaangażowane",null,null,"Uzupełnij informacje:"]
[null,null,null,null,null,null,null,"Project Manager","Przemek",null,"Skrócona nazwa kontrahenta","Testowa Firma",null,null,null,null,null,null,null,null,null,null,null,null,null,null,null,null,"pokazywanie checklisty",null,null,"Liczba pozycji w CSV"]
[null,null,"Ustawienia checklisty",null,null,null,null,"UX/UI Designer","Marcelina",null,"Ostatni numer zadania w firmao",14031,null,null,null,null,null,null,null,null,null,null,null,null,null,null,null,null,null,null,null,{"$f":"COUNTIF($W$10:$W$387,\"x\")-COUNTIF(T10:T387,1)","v":54}]
[null,null,null,null,null,null,null,"Web Developer","Sebastian",null,"Numer projektu w firmao",126]
[null,null,null,null,null,null,null,"Content Manager","Łukasz"]
[]
[null,null,null,null,null,null,null,null,null,null,null,null,null,null,null,null,null,null,null,null,null,null,{"$f":"COLUMN(W9)","v":23},null,null,null,null,null,"CSV"]
[null,null,"Typ zadania","Udział pracy",null,null,"Obszar","Zadanie","Typ zadania","ID zadania","Osoba odpowiedzialna 1","Osoba odpowiedzialna 2","Czas pracy","Opis",null,null,null,null,"Opis zadania",null,"Pozycja modułu",null,"Ukrywanie","ID osoba 1","ID osoba 2","Czas pracy",null,null,null,"name","priority","estimatedHours","description","status","tags","responsibleUsers","customer.FINDBY.label","parent","project",{"$f":"IF(AD9=\"\",\"\",AD9&\", \"&AE9&\", \"&AF9&\", \"&AG9&\", \"&AH9&\", \"&AI9&\", \"&AJ9&\", \"&AK9&\", \"&AL9&\", \"&AM9)","v":"name, priority, estimatedHours, description, status, tags, responsibleUsers, customer.FINDBY.label, parent, project"},null,"Numery na liście",null,null,null,{"$f":"AN9","v":"name, priority, estimatedHours, description, status, tags, responsibleUsers, customer.FINDBY.label, parent, project"},null,null,null,null,null,null,null,"Opis1","Opis2","Opis"]
[null,"UX/UI Designer","Projekt www - Projekt 0",0.6,null,null,{"$f":"IF($AC$4=\"x\",\"UX/UI Designer\",\"\")","v":""},{"$f":"IF($AC$4=\"X\",\"Projekt www\",\"\")","v":""},{"$f":"IF($AC$4=\"x\",\"nadrzędne\",\"\")","v":""},{"$f":"IF($AC$4=\"x\",L4+1,\"\")","v":""},{"$f":"IF($AC$4=\"x\",IFERROR(VLOOKUP(G10,$H$3:$I$6,2,0),\"\"),\"\")","v":""},null,{"$f":"IF($AC$4=\"x\",IF(Z10=\"\",\"\",TRUNC(Z10)&\":\"&ROUND((Z10-TRUNC(Z10))*60,0)),\"\")","v":""},null,null,null,null,null,{"$f":"LEFT(H10,1)","v":""},{"$f":"IF(S11=\">\",1,0)","v":0},null,"Projekt www",{"$f":"IF(V10=\"\",0,\"x\")","v":"x"},{"$f":"VLOOKUP(K10,$C$31:$D$44,2,0)","v":{"$error":"#N/A"}},{"$f":"IFERROR(VLOOKUP(L10,$C$31:$D$44,2,0),\"\")","v":""},null,null,null,{"$f":"G10","v":""},{"$f":"IF(H10=\"\",\"\",H10&\" - \"&$L$3)","v":""},{"$f":"IF(AD10=\"\",\"\",100)","v":""},{"$f":"IF(AD10=\"\",\"\",IF(Z10=\"\",\"\",TRUNC(Z10)&\".\"&ROUND((Z10-TRUNC(Z10))*100,0)))","v":""},{"$f":"IF(AD10=\"\",\"\",IF(N10=\"\",BD10,N10))","v":""},{"$f":"IF(AD10=\"\",\"\",\"WAITING\")","v":""},{"$f":"IF(AD10=\"\",\"\",21)","v":""},{"$f":"IF(AD10=\"\",\"\",IF(COUNT($X10:$Y10)=2,$X10&\"|\"&$Y10,$X10))","v":""},{"$f":"IF(AD10=\"\",\"\",$L$3)","v":""}," ",{"$f":"IF(AD10=\"\",\"\",$L$5)","v":""},{"$f":"IF(AD10=\"\",\"\",AD10&\", \"&AE10&\", \"&AF10&\", \"&AG10&\", \"&AH10&\", \"&AI10&\", \"&AJ10&\", \"&AK10&\", \"&AL10&\", \"&AM10)","v":""},null,1,null,null,1,{"$f":"IFERROR(INDEX(AN:AN,MATCH(AS10,AP:AP,0)),\"\")","v":""},null,null,null,null,null,null,null,{"$f":"IF(N10=\"\",\"\",N10)","v":""},{"$f":"IF(T10=1,SUBSTITUTE(RIGHT(H11,LEN(H11)-2),\",\",\".\"),\"\")","v":""},{"$f":"IF(AND(BB10=\"\",BC10=\"\"),\"Opis\",IF(BB10=\"\",BC10,IF(BC10=\"\",BB10,(BB10&\" | \"&BC10))))","v":"Opis"}]
[null,null,"Projekt www - Korekty 1",0.12,null,null,{"$f":"IF($AC$4=\"x\",\"UX/UI Designer\",\"\")","v":""},{"$f":"IF($AC$4=\"X\",C10,\"\")","v":""},{"$f":"IF($AC$4=\"x\",\"podrzędne\",\"\")","v":""},null,"",null,{"$f":"IF($AC$4=\"x\",IF(Z11=\"\",\"\",TRUNC(Z11)&\":\"&AB11),\"\")","v":""},null,null,null,null,null,"",{"$f":"IF(S12=\">\",1,0)","v":0},null,"Projekt www - Projekt 0",{"$f":"IF(V11=\"\",0,\"x\")","v":"x"},{"$error":"#N/A"},"",{"$f":"IF($AC$4=\"x\",VLOOKUP(H11,$C$10:$D$16,2,0)*(Kalkulacja!$AC$420),\"\")","v":""},{"$f":"ROUND((Z11-TRUNC(Z11))*60,0)","v":{"$error":"#VALUE!"}},{"$f":"IF(AA11<10,\"0\"&AA11,AA11)","v":{"$error":"#VALUE!"}},null,"",{"$f":"IF(AD11=\"\",\"\",100)","v":""},{"$f":"IF(AD11=\"\",\"\",IF(Z11=\"\",\"\",TRUNC(Z11)&\".\"&ROUND((Z11-TRUNC(Z11))*100,0)))","v":""},{"$f":"IF(AD11=\"\",\"\",IF(N11=\"\",BD11,N11))","v":""},{"$f":"IF(AD11=\"\",\"\",\"WAITING\")","v":""},{"$f":"IF(AD11=\"\",\"\",21)","v":""},{"$f":"IF(AD11=\"\",\"\",IF(COUNT($X11:$Y11)=2,$X11&\"|\"&$Y11,$X11))","v":""},{"$f":"IF(AD11=\"\",\"\",$L$3)","v":""},{"$f":"IF($AD$11=\"\",\"\",$J$10)","v":""},{"$f":"IF(AD11=\"\",\"\",$L$5)","v":""},{"$f":"IF(AD11=\"\",\"\",AD11&\", \"&AE11&\", \"&AF11&\", \"&AG11&\", \"&AH11&\", \"&AI11&\", \"&AJ11&\", \"&AK11&\", \"&AL11&\", \"&AM11)","v":""},{"$f":"ROUND(AF11,0)","v":{"$error":"#VALUE!"}},{"$f":"IF(AP385=\"\",$AP$233+1,$AP$385+1)","v":6},null,null,{"$f":"IF(AS10<$AF$4,AS10+1,\"\")","v":2},"",null,null,null,null,null,null,null,{"$f":"IF(N11=\"\",\"\",N11)","v":""},{"$f":"IF(T11=1,SUBSTITUTE(RIGHT(H12,LEN(H12)-2),\",\",\".\"),\"\")","v":""},{"$f":"IF(AND(BB11=\"\",BC11=\"\"),\"Opis\",IF(BB11=\"\",BC11,IF(BC11=\"\",BB11,(BB11&\" | \"&BC11))))","v":"Opis"}]
[null,null,"Projekt www - Korekty 2",0.11,null,null,"","",{"$f":"IF($AC$4=\"x\",\"podrzędne\",\"\")","v":""},null,"",null,{"$f":"IF($AC$4=\"x\",IF(Z12=\"\",\"\",TRUNC(Z12)&\":\"&AB12),\"\")","v":""},null,null,null,null,null,"",0,null,"Projekt www - Korekty 1","x",{"$error":"#N/A"},"",{"$f":"IF($AC$4=\"x\",VLOOKUP(H12,$C$10:$D$16,2,0)*(Kalkulacja!$AC$420),\"\")","v":""},{"$f":"ROUND((Z12-TRUNC(Z12))*60,0)","v":{"$error":"#VALUE!"}},{"$f":"IF(AA12<10,\"0\"&AA12,AA12)","v":{"$error":"#VALUE!"}},null,"","",{"$f":"IF(AD12=\"\",\"\",IF(Z12=\"\",\"\",TRUNC(Z12)&\".\"&ROUND((Z12-TRUNC(Z12))*100,0)))","v":""},"","","","","","","",{"$f":"IF(AD12=\"\",\"\",AD12&\", \"&AE12&\", \"&AF12&\", \"&AG12&\", \"&AH12&\", \"&AI12&\", \"&AJ12&\", \"&AK12&\", \"&AL12&\", \"&AM12)","v":""},null,{"$f":"AP11+1","v":7},null,null,{"$f":"IF(AS11<$AF$4,AS11+1,\"\")","v":3},"",null,null,null,null,null,null,null,"","","Opis"]
[null,null,"Projekt www - Korekty 3",0.09,null,null,"","","",null,"",null,{"$f":"IF($AC$4=\"x\",IF(Z13=\"\",\"\",TRUNC(Z13)&\":\"&AB13),\"\")","v":""},null,null,null,null,null,"",0,null,"Projekt www - Korekty 2","x",{"$error":"#N/A"},"",{"$f":"IF($AC$4=\"x\",VLOOKUP(H13,$C$10:$D$16,2,0)*(Kalkulacja!$AC$420),\"\")","v":""},{"$error":"#VALUE!"},{"$error":"#VALUE!"},null,"","","","","","","","","","","",null,8,null,null,4,"",null,null,null,null,null,null,null,"","","Opis"]
[null,null,"Projekt www - Weryfikacje i konsultacje",0.02,null,null,"","","",null,"",null,"",null,null,null,null,null,"",0,null,"Projekt www - Korekty 3","x",{"$error":"#N/A"},"",{"$f":"IF($AC$4=\"x\",VLOOKUP(H14,$C$10:$D$16,2,0)*(Kalkulacja!$AC$420),\"\")","v":""},{"$error":"#VALUE!"},{"$error":"#VALUE!"},null,"","","","","","","","","","","",null,{"$f":"AP13+1","v":9},null,null,5,"",null,null,null,null,null,null,null,"","","Opis"]
[null,null,"Projekt www - Grafiki na etapie kodowania",0.02,null,null,"","","",null,"",null,"",null,null,null,null,null,"",0,null,"Projekt www - Weryfikacje i konsultacje","x",{"$error":"#N/A"},"",{"$f":"IF($AC$4=\"x\",VLOOKUP(H15,$C$10:$D$16,2,0)*(Kalkulacja!$AC$420),\"\")","v":""},{"$error":"#VALUE!"},{"$error":"#VALUE!"},null,"","","","","","","","","","","",null,10,null,null,6,"",null,null,null,null,null,null,null,"","","Opis"]
[null,null,"Projekt www - Eksport assetów",0.04,null,null,"","","",null,"",null,"",null,null,null,null,null,"",0,null,"Projekt www - Grafiki na etapie kodowania","x",{"$error":"#N/A"},"",{"$f":"IF($AC$4=\"x\",VLOOKUP(H16,$C$10:$D$16,2,0)*(Kalkulacja!$AC$420),\"\")","v":""},{"$error":"#VALUE!"},{"$error":"#VALUE!"},null,"","","","","","","","","","","",null,11,null,null,7,"",null,null,null,null,null,null,null,"","","Opis"]
[null,null,"test",{"$f":"SUM(D10:D16)","v":1},null,null,"","","",null,"",null,"",null,null,null,null,null,"",0,null,"Projekt www - Eksport assetów","x",{"$error":"#N/A"},"",{"$f":"IF($AC$4=\"x\",VLOOKUP(H17,$C$10:$D$16,2,0)*(Kalkulacja!$AC$420),\"\")","v":""},{"$error":"#VALUE!"},{"$error":"#VALUE!"},null,"","","","","","","","","","","",null,12,null,null,8,"",null,null,null,null,null,null,null,"","","Opis"]
[null,"Web Developer","Analiza i kosultacja programisty",0.05,null,null,{"$f":"IF($AC$4=\"x\",\"Web Developer\",\"\")","v":""},{"$f":"IF($AC$4=\"X\",\"Wdrożenie www\",\"\")","v":""},{"$f":"IF($AC$4=\"x\",\"nadrzędne\",\"\")","v":""},{"$f":"IF(AC4=\"x\",$J$10+1,\"\")","v":""},"","Tomek","",null,null,null,null,null,"",0,null,"Wdrożenie www","x",{"$error":"#N/A"},18,null,0,"00",{"$f":"G18","v":""},"","","","",{"$f":"IF(AD18=\"\",\"\",\"WAITING\")","v":""},{"$f":"IF(AD18=\"\",\"\",21)","v":""},"","",null,"","",null,2,null,null,9,"",null,null,null,null,null,null,null,"","","Opis"]
[null,null,"Korekty - Kodowanie www",0.2,null,null,{"$f":"IF($AC$4=\"x\",\"Web Developer\",\"\")","v":""},{"$f":"IF($AC$4=\"X\",C18,\"\")","v":""},"",null,"",null,"",null,null,null,null,null,"",0,null,"Analiza i kosultacja programisty","x",{"$error":"#N/A"},"",{"$f":"IF($AC$4=\"x\",VLOOKUP(H19,$C$18:$D$21,2,0)*Kalkulacja!$AE$422,\"\")","v":""},{"$error":"#VALUE!"},{"$error":"#VALUE!"},null,"","","","","","","","",{"$f":"IF(AD19=\"\",\"\",$J$18)","v":""},"","",null,{"$f":"AP17+1","v":13},null,null,10,"",null,null,null,null,null,null,null,"","","Opis"]
[null,null,"Uruchomienie + checklista",0.05,null,null,"",{"$f":"IF($AC$4=\"X\",C19,\"\")","v":""},"",null,"",null,"",null,null,null,null,null,"",0,null,"Korekty - Kodowanie www","x",{"$error":"#N/A"},"",{"$f":"IF($AC$4=\"x\",VLOOKUP(H20,$C$18:$D$21,2,0)*Kalkulacja!$AE$422,\"\")","v":""},{"$error":"#VALUE!"},{"$error":"#VALUE!"},null,"","","","","","","","",{"$f":"IF(AD20=\"\",\"\",$J$18)","v":""},"","",null,{"$f":"AP19+1","v":14},null,null,11,"",null,null,null,null,null,null,null,"",{"$f":"IF(T20=1,SUBSTITUTE(RIGHT(H22,LEN(H22)-2),\",\",\".\"),\"\")","v":""},"Opis"]
[null,null,"Moduły",0.7,null,null,"",{"$f":"IF($AC$4=\"x\",\"Uruchomienie + checklista\",\"\")","v":""},{"$f":"IF($AC$4=\"x\",\"podrzędne\",\"\")","v":""},null,"",null,{"$f":"IF($AC$4=\"x\",IF(Z21=\"\",\"\",TRUNC(Z21)&\":\"&AB21),\"\")","v":""},null,null,null,null,null,{"$f":"LEFT(H21,1)","v":""},0,null,"Uruchomienie + checklista","x",{"$error":"#N/A"},"",{"$f":"IF($AC$4=\"x\",VLOOKUP(H21,$C$18:$D$20,2,0)*Kalkulacja!$AE$422,\"\")","v":""},{"$f":"ROUND((Z21-TRUNC(Z21))*60,0)","v":{"$error":"#VALUE!"}},{"$f":"IF(AA21<10,\"0\"&AA21,AA21)","v":{"$error":"#VALUE!"}},null,{"$f":"IF(H21=\"\",\"\",H21&\" - \"&$L$3)","v":""},{"$f":"IF(AD21=\"\",\"\",100)","v":""},{"$f":"IF(AD21=\"\",\"\",IF(Z21=\"\",\"\",TRUNC(Z21)&\".\"&ROUND((Z21-TRUNC(Z21))*100,0)))","v":""},{"$f":"IF(AD21=\"\",\"\",IF(N21=\"\",BD21,N21))","v":""},{"$f":"IF(AD21=\"\",\"\",\"WAITING\")","v":""},{"$f":"IF(AD21=\"\",\"\",21)","v":""},{"$f":"IF(AD21=\"\",\"\",IF(COUNT($X21:$Y21)=2,$X21&\"|\"&$Y21,$X21))","v":""},{"$f":"IF(AD21=\"\",\"\",$L$3)","v":""},{"$f":"IF(AD21=\"\",\"\",$J$18)","v":""},{"$f":"IF(AD21=\"\",\"\",$L$5)","v":""},{"$f":"IF(AD21=\"\",\"\",AD21&\", \"&AE21&\", \"&AF21&\", \"&AG21&\", \"&AH21&\", \"&AI21&\", \"&AJ21&\", \"&AK21&\", \"&AL21&\", \"&AM21)","v":""},null,{"$f":"AP20+1","v":15},null,null,12,"",null,null,null,null,null,null,null,{"$f":"IF(N21=\"\",\"\",N21)","v":""},{"$f":"IF(T21=1,SUBSTITUTE(RIGHT(H234,LEN(H234)-2),\",\",\".\"),\"\")","v":""},"Opis"]
[null,null,"test",{"$f":"SUM(D18:D21)","v":1},null,null,"",{"$f":"IF($AC$4=\"X\",\"Kodowanie www\",\"\")","v":""},{"$f":"IF($AC$4=\"x\",\"nadrzędne\",\"\")","v":""},{"$f":"IF($AC$4=\"x\",$J$18+1,\"\")","v":""},"",null,"",null,null,null,null,null,"",0,null,"Kodowanie www","x",{"$error":"#N/A"},"",null,0,"00",null,"","","","","","","","",{"$f":"IF(AD22=\"\",\"\",$J$18)","v":""},"","",null,3,null,null,13,"",null,null,null,null,null,null,null,"","","Opis"]
[null,"Content Manager","Moduły",0.75,null,null,"",{"$f":"IF($AC$4=\"x\",IFERROR(INDEX(Kalkulacja!I:I,MATCH(U23,Kalkulacja!AM:AM,0))&\"- kodowanie www\",\"\"),\"\")","v":""},{"$f":"IF($AC$4=\"x\",IF(S23=\">\",\"\",\"podrzędne\"),\"\")","v":""},null,{"$f":"IF($AC$4=\"x\",IF(S23=\">\",\"\",IFERROR(VLOOKUP(G23,$H$3:$I$6,2,0),\"\")),\"\")","v":""},null,{"$f":"IF($AC$4=\"x\",IF(S23=\">\",\"\",IF(Z23=\"\",\"\",TRUNC(Z23)&\":\"&AB23)),\"\")","v":""},{"$f":"IF(IF($AC$4=\"x\",IFERROR(INDEX(Kalkulacja!AF:AF,MATCH(U23,Kalkulacja!AM:AM,0)),\"\"),\"\")=\"\",\"\",IF($AC$4=\"x\",IFERROR(INDEX(Kalkulacja!AF:AF,MATCH(U23,Kalkulacja!AM:AM,0)),\"\"),\"\"))","v":""},null,null,null,null,"",0,1,{"$f":"IFERROR(INDEX(Kalkulacja!I:I,MATCH(U23,Kalkulacja!AM:AM,0)),\"\")","v":"Strona główna 3 sekcje (projekt + kodowanie)"},"x",{"$error":"#N/A"},"",{"$f":"IF($AC$4=\"x\",IFERROR((INDEX(Kalkulacja!AE:AE,MATCH($U23,Kalkulacja!AM:AM,0)))*$D$21,\"\"),\"\")","v":""},{"$error":"#VALUE!"},{"$error":"#VALUE!"},null,{"$f":"IF(H23=\"\",\"\",IF(S23=\">\",\"\",H23&\" - \"&$L$3))","v":""},"","","","","","","",{"$f":"IF(AD23=\"\",\"\",$J$22)","v":""},"","",null,{"$f":"IF(AD23=\"\",\"\",MAX($AP$10:AP22)+1)","v":""},null,null,14,"",null,null,null,null,null,null,null,"","","Opis"]
[null,null,"Korekty - Uzupełnianie i konfiguracje",0.25,null,null,"",{"$f":"IF($AC$4=\"x\",IFERROR(INDEX(Kalkulacja!I:I,MATCH(U24,Kalkulacja!AM:AM,0))&\"- kodowanie www\",\"\"),\"\")","v":""},{"$f":"IF($AC$4=\"x\",IF(S24=\">\",\"\",\"podrzędne\"),\"\")","v":""},null,{"$f":"IF($AC$4=\"x\",IF(S24=\">\",\"\",IFERROR(VLOOKUP(G24,$H$3:$I$6,2,0),\"\")),\"\")","v":""},null,{"$f":"IF($AC$4=\"x\",IF(S24=\">\",\"\",IF(Z24=\"\",\"\",TRUNC(Z24)&\":\"&AB24)),\"\")","v":""},{"$f":"IF(IF($AC$4=\"x\",IFERROR(INDEX(Kalkulacja!AF:AF,MATCH(U24,Kalkulacja!AM:AM,0)),\"\"),\"\")=\"\",\"\",IF($AC$4=\"x\",IFERROR(INDEX(Kalkulacja!AF:AF,MATCH(U24,Kalkulacja!AM:AM,0)),\"\"),\"\"))","v":""},null,null,null,null,"",0,2,{"$f":"IFERROR(INDEX(Kalkulacja!I:I,MATCH(U24,Kalkulacja!AM:AM,0)),\"\")","v":"Formularz kontaktowy (5 pól)"},"x",{"$error":"#N/A"},"",{"$f":"IF($AC$4=\"x\",IFERROR((INDEX(Kalkulacja!AE:AE,MATCH($U24,Kalkulacja!AM:AM,0)))*$D$21,\"\"),\"\")","v":""},{"$error":"#VALUE!"},{"$error":"#VALUE!"},null,{"$f":"IF(H24=\"\",\"\",IF(S24=\">\",\"\",H24&\" - \"&$L$3))","v":""},"","","","","","","",{"$f":"IF(AD24=\"\",\"\",$J$22)","v":""},"","",null,{"$f":"IF(AD24=\"\",\"\",MAX($AP$10:AP23)+1)","v":""},null,null,15,"",null,null,null,null,null,null,null,"","","Opis"]
[null,null,"test",{"$f":"SUM(D23:D24)","v":1},null,null,"",{"$f":"IF($AC$4=\"x\",IFERROR(INDEX(Kalkulacja!I:I,MATCH(U25,Kalkulacja!AM:AM,0))&\"- kodowanie www\",\"\"),\"\")","v":""},"",null,"",null,"",{"$f":"IF(IF($AC$4=\"x\",IFERROR(INDEX(Kalkulacja!AF:AF,MATCH(U25,Kalkulacja!AM:AM,0)),\"\"),\"\")=\"\",\"\",IF($AC$4=\"x\",IFERROR(INDEX(Kalkulacja!AF:AF,MATCH(U25,Kalkulacja!AM:AM,0)),\"\"),\"\"))","v":""},null,null,null,null,"",0,3,{"$f":"IFERROR(INDEX(Kalkulacja!I:I,MATCH(U25,Kalkulacja!AM:AM,0)),\"\")","v":"Logotypy - rotator (do 10 szt)"},"x",{"$error":"#N/A"},"",{"$f":"IF($AC$4=\"x\",IFERROR((INDEX(Kalkulacja!AE:AE,MATCH($U25,Kalkulacja!AM:AM,0)))*$D$21,\"\"),\"\")","v":""},{"$error":"#VALUE!"},{"$error":"#VALUE!"},null,"","","","","","","","","","","",null,{"$f":"IF(AD25=\"\",\"\",MAX($AP$10:AP24)+1)","v":""},null,null,16,"",null,null,null,null,null,null,null,"","","Opis"]
[null,"Tłumaczenie","Content Manager",0.6,null,null,"",{"$f":"IF($AC$4=\"x\",IFERROR(INDEX(Kalkulacja!I:I,MATCH(U26,Kalkulacja!AM:AM,0))&\"- kodowanie www\",\"\"),\"\")","v":""},"",null,"",null,"",{"$f":"IF(IF($AC$4=\"x\",IFERROR(INDEX(Kalkulacja!AF:AF,MATCH(U26,Kalkulacja!AM:AM,0)),\"\"),\"\")=\"\",\"\",IF($AC$4=\"x\",IFERROR(INDEX(Kalkulacja!AF:AF,MATCH(U26,Kalkulacja!AM:AM,0)),\"\"),\"\"))","v":""},null,null,null,null,"",0,4,{"$f":"IFERROR(INDEX(Kalkulacja!I:I,MATCH(U26,Kalkulacja!AM:AM,0)),\"\")","v":"Linki do Twoich social media"},"x",{"$error":"#N/A"},"",{"$f":"IF($AC$4=\"x\",IFERROR((INDEX(Kalkulacja!AE:AE,MATCH($U26,Kalkulacja!AM:AM,0)))*$D$21,\"\"),\"\")","v":""},{"$error":"#VALUE!"},{"$error":"#VALUE!"},null,"","","","","","","","","","","",null,{"$f":"IF(AD26=\"\",\"\",MAX($AP$10:AP25)+1)","v":""},null,null,17,"",null,null,null,null,null,null,null,"","","Opis"]
[null,null,"Web Developer",0.4,null,null,"",{"$f":"IF($AC$4=\"x\",IFERROR(INDEX(Kalkulacja!I:I,MATCH(U27,Kalkulacja!AM:AM,0))&\"- kodowanie www\",\"\"),\"\")","v":""},"",null,"",null,"",{"$f":"IF(IF($AC$4=\"x\",IFERROR(INDEX(Kalkulacja!AF:AF,MATCH(U27,Kalkulacja!AM:AM,0)),\"\"),\"\")=\"\",\"\",IF($AC$4=\"x\",IFERROR(INDEX(Kalkulacja!AF:AF,MATCH(U27,Kalkulacja!AM:AM,0)),\"\"),\"\"))","v":""},null,null,null,null,"",0,5,{"$f":"IFERROR(INDEX(Kalkulacja!I:I,MATCH(U27,Kalkulacja!AM:AM,0)),\"\")","v":"Polityka prywatności i Cookies + komunikat - domyślny"},"x",{"$error":"#N/A"},"",{"$f":"IF($AC$4=\"x\",IFERROR((INDEX(Kalkulacja!AE:AE,MATCH($U27,Kalkulacja!AM:AM,0)))*$D$21,\"\"),\"\")","v":""},{"$error":"#VALUE!"},{"$error":"#VALUE!"},null,"","","","","","","","","","","",null,{"$f":"IF(AD27=\"\",\"\",MAX($AP$10:AP26)+1)","v":""},null,null,18,"",null,null,null,null,null,null,null,"","","Opis"]
[null,null,"test",{"$f":"SUM(D26:D27)","v":1},null,null,"",{"$f":"IF($AC$4=\"x\",IFERROR(INDEX(Kalkulacja!I:I,MATCH(U28,Kalkulacja!AM:AM,0))&\"- kodowanie www\",\"\"),\"\")","v":""},"",null,"",null,"",{"$f":"IF(IF($AC$4=\"x\",IFERROR(INDEX(Kalkulacja!AF:AF,MATCH(U28,Kalkulacja!AM:AM,0)),\"\"),\"\")=\"\",\"\",IF($AC$4=\"x\",IFERROR(INDEX(Kalkulacja!AF:AF,MATCH(U28,Kalkulacja!AM:AM,0)),\"\"),\"\"))","v":""},null,null,null,null,"",0,6,{"$f":"IFERROR(INDEX(Kalkulacja!I:I,MATCH(U28,Kalkulacja!AM:AM,0)),\"\")","v":"Strona produktu (zakładki domyślne)"},"x",{"$error":"#N/A"},"",{"$f":"IF($AC$4=\"x\",IFERROR((INDEX(Kalkulacja!AE:AE,MATCH($U28,Kalkulacja!AM:AM,0)))*$D$21,\"\"),\"\")","v":""},{"$error":"#VALUE!"},{"$error":"#VALUE!"},null,"","","",{"$f":"IF(AD28=\"\",\"\",IF(N28=\"\",BD28,N28))","v":""},"","","","","","","",null,{"$f":"IF(AD28=\"\",\"\",MAX($AP$10:AP27)+1)","v":""},null,null,19,"",null,null,null,null,null,null,null,"","","Opis"]
[null,null,null,null,null,null,"",{"$f":"IF($AC$4=\"x\",IFERROR(INDEX(Kalkulacja!I:I,MATCH(U29,Kalkulacja!AM:AM,0))&\"- kodowanie www\",\"\"),\"\")","v":""},"",null,"",null,"",{"$f":"IF(IF($AC$4=\"x\",IFERROR(INDEX(Kalkulacja!AF:AF,MATCH(U29,Kalkulacja!AM:AM,0)),\"\"),\"\")=\"\",\"\",IF($AC$4=\"x\",IFERROR(INDEX(Kalkulacja!AF:AF,MATCH(U29,Kalkulacja!AM:AM,0)),\"\"),\"\"))","v":""},null,null,null,null,"",0,7,{"$f":"IFERROR(INDEX(Kalkulacja!I:I,MATCH(U29,Kalkulacja!AM:AM,0)),\"\")","v":"Kategoria produktów prosta"},"x",{"$error":"#N/A"},"",{"$f":"IF($AC$4=\"x\",IFERROR((INDEX(Kalkulacja!AE:AE,MATCH($U29,Kalkulacja!AM:AM,0)))*$D$21,\"\"),\"\")","v":""},{"$error":"#VALUE!"},{"$error":"#VALUE!"},null,"","","","","","","","","","","",null,{"$f":"IF(AD29=\"\",\"\",MAX($AP$10:AP28)+1)","v":""},null,null,20,"",null,null,null,null,null,null,null,"","","Opis"]
[null,null,"Imię","ID",null,null,"",{"$f":"IF($AC$4=\"x\",IFERROR(INDEX(Kalkulacja!I:I,MATCH(U30,Kalkulacja!AM:AM,0))&\"- kodowanie www\",\"\"),\"\")","v":""},"",null,"",null,"",{"$f":"IF(IF($AC$4=\"x\",IFERROR(INDEX(Kalkulacja!AF:AF,MATCH(U30,Kalkulacja!AM:AM,0)),\"\"),\"\")=\"\",\"\",IF($AC$4=\"x\",IFERROR(INDEX(Kalkulacja!AF:AF,MATCH(U30,Kalkulacja!AM:AM,0)),\"\"),\"\"))","v":""},null,null,null,null,"",0,8,{"$f":"IFERROR(INDEX(Kalkulacja!I:I,MATCH(U30,Kalkulacja!AM:AM,0)),\"\")","v":"Koszyk"},"x",{"$error":"#N/A"},"",{"$f":"IF($AC$4=\"x\",IFERROR((INDEX(Kalkulacja!AE:AE,MATCH($U30,Kalkulacja!AM:AM,0)))*$D$21,\"\"),\"\")","v":""},{"$error":"#VALUE!"},{"$error":"#VALUE!"},null,"","","","","","","","","","","",null,{"$f":"IF(AD30=\"\",\"\",MAX($AP$10:AP29)+1)","v":""},null,null,21,"",null,null,null,null,null,null,null,"","","Opis"]
[null,"Pracownicy","Przemek",1,null,null,"",{"$f":"IF($AC$4=\"x\",IFERROR(INDEX(Kalkulacja!I:I,MATCH(U31,Kalkulacja!AM:AM,0))&\"- kodowanie www\",\"\"),\"\")","v":""},"",null,"",null,"",{"$f":"IF(IF($AC$4=\"x\",IFERROR(INDEX(Kalkulacja!AF:AF,MATCH(U31,Kalkulacja!AM:AM,0)),\"\"),\"\")=\"\",\"\",IF($AC$4=\"x\",IFERROR(INDEX(Kalkulacja!AF:AF,MATCH(U31,Kalkulacja!AM:AM,0)),\"\"),\"\"))","v":""},null,null,null,null,"",0,9,{"$f":"IFERROR(INDEX(Kalkulacja!I:I,MATCH(U31,Kalkulacja!AM:AM,0)),\"\")","v":"Zamówienie"},"x",{"$error":"#N/A"},"",{"$f":"IF($AC$4=\"x\",IFERROR((INDEX(Kalkulacja!AE:AE,MATCH($U31,Kalkulacja!AM:AM,0)))*$D$21,\"\"),\"\")","v":""},{"$error":"#VALUE!"},{"$error":"#VALUE!"},null,"","","","","","","","","","","",null,{"$f":"IF(AD31=\"\",\"\",MAX($AP$10:AP30)+1)","v":""},null,null,22,"",null,null,null,null,null,null,null,"","","Opis"]
[null,null,"Marcelina",15,null,null,"",{"$f":"IF($AC$4=\"x\",IFERROR(INDEX(Kalkulacja!I:I,MATCH(U32,Kalkulacja!AM:AM,0))&\"- kodowanie www\",\"\"),\"\")","v":""},"",null,"",null,"",{"$f":"IF(IF($AC$4=\"x\",IFERROR(INDEX(Kalkulacja!AF:AF,MATCH(U32,Kalkulacja!AM:AM,0)),\"\"),\"\")=\"\",\"\",IF($AC$4=\"x\",IFERROR(INDEX(Kalkulacja!AF:AF,MATCH(U32,Kalkulacja!AM:AM,0)),\"\"),\"\"))","v":""},null,null,null,null,"",0,10,{"$f":"IFERROR(INDEX(Kalkulacja!I:I,MATCH(U32,Kalkulacja!AM:AM,0)),\"\")","v":"Podsumowanie"},"x",{"$error":"#N/A"},"",{"$f":"IF($AC$4=\"x\",IFERROR((INDEX(Kalkulacja!AE:AE,MATCH($U32,Kalkulacja!AM:AM,0)))*$D$21,\"\"),\"\")","v":""},{"$error":"#VALUE!"},{"$error":"#VALUE!"},null,"","","","",{"$f":"IF(AD32=\"\",\"\",\"WAITING\")","v":""},{"$f":"IF(AD32=\"\",\"\",21)","v":""},"","","","","",null,{"$f":"IF(AD32=\"\",\"\",MAX($AP$10:AP31)+1)","v":""},null,null,23,"",null,null,null,null,null,null,null,"","","Opis"]
[null,null,"Tomek",18,null,null,"",{"$f":"IF($AC$4=\"x\",IFERROR(INDEX(Kalkulacja!I:I,MATCH(U33,Kalkulacja!AM:AM,0))&\"- kodowanie www\",\"\"),\"\")","v":""},"",null,"",null,"",{"$f":"IF(IF($AC$4=\"x\",IFERROR(INDEX(Kalkulacja!AF:AF,MATCH(U33,Kalkulacja!AM:AM,0)),\"\"),\"\")=\"\",\"\",IF($AC$4=\"x\",IFERROR(INDEX(Kalkulacja!AF:AF,MATCH(U33,Kalkulacja!AM:AM,0)),\"\"),\"\"))","v":""},null,null,null,null,"",0,11,{"$f":"IFERROR(INDEX(Kalkulacja!I:I,MATCH(U33,Kalkulacja!AM:AM,0)),\"\")","v":"Strony: Regulamin Warunki zakupów"},"x",{"$error":"#N/A"},"",{"$f":"IF($AC$4=\"x\",IFERROR((INDEX(Kalkulacja!AE:AE,MATCH($U33,Kalkulacja!AM:AM,0)))*$D$21,\"\"),\"\")","v":""},{"$error":"#VALUE!"},{"$error":"#VALUE!"},null,"","","","","","","","","","","",null,{"$f":"IF(AD33=\"\",\"\",MAX($AP$10:AP32)+1)","v":""},null,null,24,"",null,null,null,null,null,null,null,"","","Opis"]
[null,null,"Marcin",24,null,null,"",{"$f":"IF($AC$4=\"x\",IFERROR(INDEX(Kalkulacja!I:I,MATCH(U34,Kalkulacja!AM:AM,0))&\"- kodowanie www\",\"\"),\"\")","v":""},"",null,"",null,"",{"$f":"IF(IF($AC$4=\"x\",IFERROR(INDEX(Kalkulacja!AF:AF,MATCH(U34,Kalkulacja!AM:AM,0)),\"\"),\"\")=\"\",\"\",IF($AC$4=\"x\",IFERROR(INDEX(Kalkulacja!AF:AF,MATCH(U34,Kalkulacja!AM:AM,0)),\"\"),\"\"))","v":""},null,null,null,null,"",0,12,{"$f":"IFERROR(INDEX(Kalkulacja!I:I,MATCH(U34,Kalkulacja!AM:AM,0)),\"\")","v":"Strony: Zaloguj się i Załóż konto"},"x",{"$error":"#N/A"},"",{"$f":"IF($AC$4=\"x\",IFERROR((INDEX(Kalkulacja!AE:AE,MATCH($U34,Kalkulacja!AM:AM,0)))*$D$21,\"\"),\"\")","v":""},{"$error":"#VALUE!"},{"$error":"#VALUE!"},null,"","","","","","","","","","","",null,{"$f":"IF(AD34=\"\",\"\",MAX($AP$10:AP33)+1)","v":""},null,null,25,"",null,null,null,null,null,null,null,"","","Opis"]
[null,null,"Miłosz",25,null,null,"",{"$f":"IF($AC$4=\"x\",IFERROR(INDEX(Kalkulacja!I:I,MATCH(U35,Kalkulacja!AM:AM,0))&\"- kodowanie www\",\"\"),\"\")","v":""},"",null,"",null,"",{"$f":"IF(IF($AC$4=\"x\",IFERROR(INDEX(Kalkulacja!AF:AF,MATCH(U35,Kalkulacja!AM:AM,0)),\"\"),\"\")=\"\",\"\",IF($AC$4=\"x\",IFERROR(INDEX(Kalkulacja!AF:AF,MATCH(U35,Kalkulacja!AM:AM,0)),\"\"),\"\"))","v":""},null,null,null,null,"",0,13,{"$f":"IFERROR(INDEX(Kalkulacja!I:I,MATCH(U35,Kalkulacja!AM:AM,0)),\"\")","v":"Polecane produkty"},"x",{"$error":"#N/A"},"",{"$f":"IF($AC$4=\"x\",IFERROR((INDEX(Kalkulacja!AE:AE,MATCH($U35,Kalkulacja!AM:AM,0)))*$D$21,\"\"),\"\")","v":""},{"$error":"#VALUE!"},{"$error":"#VALUE!"},null,"","","","","","","","","","","",null,{"$f":"IF(AD35=\"\",\"\",MAX($AP$10:AP34)+1)","v":""},null,null,26,"",null,null,null,null,null,null,null,"","","Opis"]
[null,null,"Łukasz",6,null,null,"",{"$f":"IF($AC$4=\"x\",IFERROR(INDEX(Kalkulacja!I:I,MATCH(U36,Kalkulacja!AM:AM,0))&\"- kodowanie www\",\"\"),\"\")","v":""},"",null,"",null,"",{"$f":"IF(IF($AC$4=\"x\",IFERROR(INDEX(Kalkulacja!AF:AF,MATCH(U36,Kalkulacja!AM:AM,0)),\"\"),\"\")=\"\",\"\",IF($AC$4=\"x\",IFERROR(INDEX(Kalkulacja!AF:AF,MATCH(U36,Kalkulacja!AM:AM,0)),\"\"),\"\"))","v":""},null,null,null,null,"",0,14,{"$f":"IFERROR(INDEX(Kalkulacja!I:I,MATCH(U36,Kalkulacja!AM:AM,0)),\"\")","v":"Producenci i serie"},"x",{"$error":"#N/A"},"",{"$f":"IF($AC$4=\"x\",IFERROR((INDEX(Kalkulacja!AE:AE,MATCH($U36,Kalkulacja!AM:AM,0)))*$D$21,\"\"),\"\")","v":""},{"$error":"#VALUE!"},{"$error":"#VALUE!"},null,"","","","","","","","","","","",null,{"$f":"IF(AD36=\"\",\"\",MAX($AP$10:AP35)+1)","v":""},null,null,27,"",null,null,null,null,null,null,null,"","","Opis"]
[null,null,"Sebastian",26,null,null,"",{"$f":"IF($AC$4=\"x\",IFERROR(INDEX(Kalkulacja!I:I,MATCH(U37,Kalkulacja!AM:AM,0))&\"- kodowanie www\",\"\"),\"\")","v":""},"",null,"",null,"",{"$f":"IF(IF($AC$4=\"x\",IFERROR(INDEX(Kalkulacja!AF:AF,MATCH(U37,Kalkulacja!AM:AM,0)),\"\"),\"\")=\"\",\"\",IF($AC$4=\"x\",IFERROR(INDEX(Kalkulacja!AF:AF,MATCH(U37,Kalkulacja!AM:AM,0)),\"\"),\"\"))","v":""},null,null,null,null,"",0,15,{"$f":"IFERROR(INDEX(Kalkulacja!I:I,MATCH(U37,Kalkulacja!AM:AM,0)),\"\")","v":"Buttony dla wyboru wariantu"},"x",{"$error":"#N/A"},"",{"$f":"IF($AC$4=\"x\",IFERROR((INDEX(Kalkulacja!AE:AE,MATCH($U37,Kalkulacja!AM:AM,0)))*$D$21,\"\"),\"\")","v":""},{"$error":"#VALUE!"},{"$error":"#VALUE!"},null,"","","","","","","","","","","",null,{"$f":"IF(AD37=\"\",\"\",MAX($AP$10:AP36)+1)","v":""},null,null,28,"",null,null,null,null,null,null,null,"","","Opis"]
[null,null,"Agnieszka",20,null,null,"",{"$f":"IF($AC$4=\"x\",IFERROR(INDEX(Kalkulacja!I:I,MATCH(U38,Kalkulacja!AM:AM,0))&\"- kodowanie www\",\"\"),\"\")","v":""},"",null,"",null,"",{"$f":"IF(IF($AC$4=\"x\",IFERROR(INDEX(Kalkulacja!AF:AF,MATCH(U38,Kalkulacja!AM:AM,0)),\"\"),\"\")=\"\",\"\",IF($AC$4=\"x\",IFERROR(INDEX(Kalkulacja!AF:AF,MATCH(U38,Kalkulacja!AM:AM,0)),\"\"),\"\"))","v":""},null,null,null,null,"",0,16,{"$f":"IFERROR(INDEX(Kalkulacja!I:I,MATCH(U38,Kalkulacja!AM:AM,0)),\"\")","v":"Ulubione produkty (zapamiętywanie)"},"x",{"$error":"#N/A"},"",{"$f":"IF($AC$4=\"x\",IFERROR((INDEX(Kalkulacja!AE:AE,MATCH($U38,Kalkulacja!AM:AM,0)))*$D$21,\"\"),\"\")","v":""},{"$error":"#VALUE!"},{"$error":"#VALUE!"},null,"","","","","","","","","","","",null,{"$f":"IF(AD38=\"\",\"\",MAX($AP$10:AP37)+1)","v":""},null,null,29,"",null,null,null,null,null,null,null,"","","Opis"]
[null,null,"Sylwia",4,null,null,"",{"$f":"IF($AC$4=\"x\",IFERROR(INDEX(Kalkulacja!I:I,MATCH(U39,Kalkulacja!AM:AM,0))&\"- kodowanie www\",\"\"),\"\")","v":""},"",null,"",null,"",{"$f":"IF(IF($AC$4=\"x\",IFERROR(INDEX(Kalkulacja!AF:AF,MATCH(U39,Kalkulacja!AM:AM,0)),\"\"),\"\")=\"\",\"\",IF($AC$4=\"x\",IFERROR(INDEX(Kalkulacja!AF:AF,MATCH(U39,Kalkulacja!AM:AM,0)),\"\"),\"\"))","v":""},null,null,null,null,"",0,17,{"$f":"IFERROR(INDEX(Kalkulacja!I:I,MATCH(U39,Kalkulacja!AM:AM,0)),\"\")","v":"Konfiguracja filtrów"},"x",{"$error":"#N/A"},"",{"$f":"IF($AC$4=\"x\",IFERROR((INDEX(Kalkulacja!AE:AE,MATCH($U39,Kalkulacja!AM:AM,0)))*$D$21,\"\"),\"\")","v":""},{"$error":"#VALUE!"},{"$error":"#VALUE!"},null,"","","","","","","","","","","",null,{"$f":"IF(AD39=\"\",\"\",MAX($AP$10:AP38)+1)","v":""},null,null,30,"",null,null,null,null,null,null,null,"","","Opis"]
[null,null,null,null,null,null,"",{"$f":"IF($AC$4=\"x\",IFERROR(INDEX(Kalkulacja!I:I,MATCH(U40,Kalkulacja!AM:AM,0))&\"- kodowanie www\",\"\"),\"\")","v":""},"",null,"",null,"",{"$f":"IF(IF($AC$4=\"x\",IFERROR(INDEX(Kalkulacja!AF:AF,MATCH(U40,Kalkulacja!AM:AM,0)),\"\"),\"\")=\"\",\"\",IF($AC$4=\"x\",IFERROR(INDEX(Kalkulacja!AF:AF,MATCH(U40,Kalkulacja!AM:AM,0)),\"\"),\"\"))","v":""},null,null,null,null,"",0,18,{"$f":"IFERROR(INDEX(Kalkulacja!I:I,MATCH(U40,Kalkulacja!AM:AM,0)),\"\")","v":"Opcja sortowania"},"x",{"$error":"#N/A"},"",{"$f":"IF($AC$4=\"x\",IFERROR((INDEX(Kalkulacja!AE:AE,MATCH($U40,Kalkulacja!AM:AM,0)))*$D$21,\"\"),\"\")","v":""},{"$error":"#VALUE!"},{"$error":"#VALUE!"},null,"","","","","","","","","","","",null,{"$f":"IF(AD40=\"\",\"\",MAX($AP$10:AP39)+1)","v":""},null,null,31,"",null,null,null,null,null,null,null,"","","Opis"]
[null,null,null,null,null,null,"",{"$f":"IF($AC$4=\"x\",IFERROR(INDEX(Kalkulacja!I:I,MATCH(U41,Kalkulacja!AM:AM,0))&\" - kodowanie www\",\"\"),\"\")","v":""},"",null,"",null,"",{"$f":"IF(IF($AC$4=\"x\",IFERROR(INDEX(Kalkulacja!AF:AF,MATCH(U41,Kalkulacja!AM:AM,0)),\"\"),\"\")=\"\",\"\",IF($AC$4=\"x\",IFERROR(INDEX(Kalkulacja!AF:AF,MATCH(U41,Kalkulacja!AM:AM,0)),\"\"),\"\"))","v":""},null,null,null,null,"",0,19,{"$f":"IFERROR(INDEX(Kalkulacja!I:I,MATCH(U41,Kalkulacja!AM:AM,0)),\"\")","v":"Opinie i recenzje produktów"},"x",{"$error":"#N/A"},"",{"$f":"IF($AC$4=\"x\",IFERROR((INDEX(Kalkulacja!AE:AE,MATCH($U41,Kalkulacja!AM:AM,0)))*$D$21,\"\"),\"\")","v":""},{"$error":"#VALUE!"},{"$error":"#VALUE!"},null,"","","","","","","","","","","",null,{"$f":"IF(AD41=\"\",\"\",MAX($AP$10:AP40)+1)","v":""},null,null,32,"",null,null,null,null,null,null,null,"","","Opis"]
[null,null,null,null,null,null,"",{"$f":"IF($AC$4=\"x\",IFERROR(INDEX(Kalkulacja!I:I,MATCH(U42,Kalkulacja!AM:AM,0))&\" - kodowanie www\",\"\"),\"\")","v":""},"",null,"",null,"",{"$f":"IF(IF($AC$4=\"x\",IFERROR(INDEX(Kalkulacja!AF:AF,MATCH(U42,Kalkulacja!AM:AM,0)),\"\"),\"\")=\"\",\"\",IF($AC$4=\"x\",IFERROR(INDEX(Kalkulacja!AF:AF,MATCH(U42,Kalkulacja!AM:AM,0)),\"\"),\"\"))","v":""},null,null,null,null,"",0,20,{"$f":"IFERROR(INDEX(Kalkulacja!I:I,MATCH(U42,Kalkulacja!AM:AM,0)),\"\")","v":"Uprawnienia (administrator kierownik sklepu redaktor)"},"x",{"$error":"#N/A"},"",{"$f":"IF($AC$4=\"x\",IFERROR((INDEX(Kalkulacja!AE:AE,MATCH($U42,Kalkulacja!AM:AM,0)))*$D$21,\"\"),\"\")","v":""},{"$error":"#VALUE!"},{"$error":"#VALUE!"},null,"","","","","","","","","","","",null,{"$f":"IF(AD42=\"\",\"\",MAX($AP$10:AP41)+1)","v":""},null,null,33,"",null,null,null,null,null,null,null,"","","Opis"]
[null,null,null,null,null,null,"",{"$f":"IF($AC$4=\"x\",IFERROR(INDEX(Kalkulacja!I:I,MATCH(U43,Kalkulacja!AM:AM,0))&\" - kodowanie www\",\"\"),\"\")","v":""},"",null,"",null,"",{"$f":"IF(IF($AC$4=\"x\",IFERROR(INDEX(Kalkulacja!AF:AF,MATCH(U43,Kalkulacja!AM:AM,0)),\"\"),\"\")=\"\",\"\",IF($AC$4=\"x\",IFERROR(INDEX(Kalkulacja!AF:AF,MATCH(U43,Kalkulacja!AM:AM,0)),\"\"),\"\"))","v":""},null,null,null,null,"",0,21,{"$f":"IFERROR(INDEX(Kalkulacja!I:I,MATCH(U43,Kalkulacja!AM:AM,0)),\"\")","v":"Dodatkowe wersje językowe"},"x",{"$error":"#N/A"},"",{"$f":"IF($AC$4=\"x\",IFERROR((INDEX(Kalkulacja!AE:AE,MATCH($U43,Kalkulacja!AM:AM,0)))*$D$21,\"\"),\"\")","v":""},{"$error":"#VALUE!"},{"$error":"#VALUE!"},null,"","","","","","","","","","","",null,{"$f":"IF(AD43=\"\",\"\",MAX($AP$10:AP42)+1)","v":""},null,null,34,"",null,null,null,null,null,null,null,"","","Opis"]
[null,null,null,null,null,null,"",{"$f":"IF($AC$4=\"x\",IFERROR(INDEX(Kalkulacja!I:I,MATCH(U44,Kalkulacja!AM:AM,0))&\" - kodowanie www\",\"\"),\"\")","v":""},"",null,"",null,"",{"$f":"IF(IF($AC$4=\"x\",IFERROR(INDEX(Kalkulacja!AF:AF,MATCH(U44,Kalkulacja!AM:AM,0)),\"\"),\"\")=\"\",\"\",IF($AC$4=\"x\",IFERROR(INDEX(Kalkulacja!AF:AF,MATCH(U44,Kalkulacja!AM:AM,0)),\"\"),\"\"))","v":""},null,null,null,null,"",0,22,{"$f":"IFERROR(INDEX(Kalkulacja!I:I,MATCH(U44,Kalkulacja!AM:AM,0)),\"\")","v":""},0,{"$error":"#N/A"},"",{"$f":"IF($AC$4=\"x\",IFERROR((INDEX(Kalkulacja!AE:AE,MATCH($U44,Kalkulacja!AM:AM,0)))*$D$21,\"\"),\"\")","v":""},{"$error":"#VALUE!"},{"$error":"#VALUE!"},null,"","","","","","","","","","","",null,{"$f":"IF(AD44=\"\",\"\",MAX($AP$10:AP43)+1)","v":""},null,null,35,"",null,null,null,null,null,null,null,"","","Opis"]
[null,null,null,null,null,null,"",{"$f":"IF($AC$4=\"x\",IFERROR(INDEX(Kalkulacja!I:I,MATCH(U45,Kalkulacja!AM:AM,0))&\" - kodowanie www\",\"\"),\"\")","v":""},"",null,"",null,"",{"$f":"IF(IF($AC$4=\"x\",IFERROR(INDEX(Kalkulacja!AF:AF,MATCH(U45,Kalkulacja!AM:AM,0)),\"\"),\"\")=\"\",\"\",IF($AC$4=\"x\",IFERROR(INDEX(Kalkulacja!AF:AF,MATCH(U45,Kalkulacja!AM:AM,0)),\"\"),\"\"))","v":""},null,null,null,null,"",0,23,{"$f":"IFERROR(INDEX(Kalkulacja!I:I,MATCH(U45,Kalkulacja!AM:AM,0)),\"\")","v":""},0,{"$error":"#N/A"},"",{"$f":"IF($AC$4=\"x\",IFERROR((INDEX(Kalkulacja!AE:AE,MATCH($U45,Kalkulacja!AM:AM,0)))*$D$21,\"\"),\"\")","v":""},{"$error":"#VALUE!"},{"$error":"#VALUE!"},null,"","","","","","","","","","","",null,{"$f":"IF(AD45=\"\",\"\",MAX($AP$10:AP44)+1)","v":""},null,null,36,"",null,null,null,null,null,null,null,"","","Opis"]
[null,null,null,null,null,null,"",{"$f":"IF($AC$4=\"x\",IFERROR(INDEX(Kalkulacja!I:I,MATCH(U46,Kalkulacja!AM:AM,0))&\" - kodowanie www\",\"\"),\"\")","v":""},"",null,"",null,"",{"$f":"IF(IF($AC$4=\"x\",IFERROR(INDEX(Kalkulacja!AF:AF,MATCH(U46,Kalkulacja!AM:AM,0)),\"\"),\"\")=\"\",\"\",IF($AC$4=\"x\",IFERROR(INDEX(Kalkulacja!AF:AF,MATCH(U46,Kalkulacja!AM:AM,0)),\"\"),\"\"))","v":""},null,null,null,null,"",0,24,{"$f":"IFERROR(INDEX(Kalkulacja!I:I,MATCH(U46,Kalkulacja!AM:AM,0)),\"\")","v":""},0,{"$error":"#N/A"},"",{"$f":"IF($AC$4=\"x\",IFERROR((INDEX(Kalkulacja!AE:AE,MATCH($U46,Kalkulacja!AM:AM,0)))*$D$21,\"\"),\"\")","v":""},{"$error":"#VALUE!"},{"$error":"#VALUE!"},null,"","","","","","","","","","","",null,{"$f":"IF(AD46=\"\",\"\",MAX($AP$10:AP45)+1)","v":""},null,null,37,"",null,null,null,null,null,null,null,"","","Opis"]
[null,null,null,null,null,null,"",{"$f":"IF($AC$4=\"x\",IFERROR(INDEX(Kalkulacja!I:I,MATCH(U47,Kalkulacja!AM:AM,0))&\" - kodowanie www\",\"\"),\"\")","v":""},"",null,"",null,"",{"$f":"IF(IF($AC$4=\"x\",IFERROR(INDEX(Kalkulacja!AF:AF,MATCH(U47,Kalkulacja!AM:AM,0)),\"\"),\"\")=\"\",\"\",IF($AC$4=\"x\",IFERROR(INDEX(Kalkulacja!AF:AF,MATCH(U47,Kalkulacja!AM:AM,0)),\"\"),\"\"))","v":""},null,null,null,null,"",0,25,{"$f":"IFERROR(INDEX(Kalkulacja!I:I,MATCH(U47,Kalkulacja!AM:AM,0)),\"\")","v":""},0,{"$error":"#N/A"},"",{"$f":"IF($AC$4=\"x\",IFERROR((INDEX(Kalkulacja!AE:AE,MATCH($U47,Kalkulacja!AM:AM,0)))*$D$21,\"\"),\"\")","v":""},{"$error":"#VALUE!"},{"$error":"#VALUE!"},null,"","","","","","","","","","","",null,{"$f":"IF(AD47=\"\",\"\",MAX($AP$10:AP46)+1)","v":""},null,null,38,"",null,null,null,null,null,null,null,"","","Opis"]
[null,null,null,null,null,null,"",{"$f":"IF($AC$4=\"x\",IFERROR(INDEX(Kalkulacja!I:I,MATCH(U48,Kalkulacja!AM:AM,0))&\" - kodowanie www\",\"\"),\"\")","v":""},"",null,"",null,"",{"$f":"IF(IF($AC$4=\"x\",IFERROR(INDEX(Kalkulacja!AF:AF,MATCH(U48,Kalkulacja!AM:AM,0)),\"\"),\"\")=\"\",\"\",IF($AC$4=\"x\",IFERROR(INDEX(Kalkulacja!AF:AF,MATCH(U48,Kalkulacja!AM:AM,0)),\"\"),\"\"))","v":""},null,null,null,null,"",0,26,{"$f":"IFERROR(INDEX(Kalkulacja!I:I,MATCH(U48,Kalkulacja!AM:AM,0)),\"\")","v":""},0,{"$error":"#N/A"},"",{"$f":"IF($AC$4=\"x\",IFERROR((INDEX(Kalkulacja!AE:AE,MATCH($U48,Kalkulacja!AM:AM,0)))*$D$21,\"\"),\"\")","v":""},{"$error":"#VALUE!"},{"$error":"#VALUE!"},null,"","","","","","","","","","","",null,{"$f":"IF(AD48=\"\",\"\",MAX($AP$10:AP47)+1)","v":""},null,null,39,"",null,null,null,null,null,null,null,"","","Opis"]
[null,null,null,null,null,null,"",{"$f":"IF($AC$4=\"x\",IFERROR(INDEX(Kalkulacja!I:I,MATCH(U49,Kalkulacja!AM:AM,0))&\" - kodowanie www\",\"\"),\"\")","v":""},"",null,"",null,"",{"$f":"IF(IF($AC$4=\"x\",IFERROR(INDEX(Kalkulacja!AF:AF,MATCH(U49,Kalkulacja!AM:AM,0)),\"\"),\"\")=\"\",\"\",IF($AC$4=\"x\",IFERROR(INDEX(Kalkulacja!AF:AF,MATCH(U49,Kalkulacja!AM:AM,0)),\"\"),\"\"))","v":""},null,null,null,null,"",0,27,{"$f":"IFERROR(INDEX(Kalkulacja!I:I,MATCH(U49,Kalkulacja!AM:AM,0)),\"\")","v":""},0,{"$error":"#N/A"},"",{"$f":"IF($AC$4=\"x\",IFERROR((INDEX(Kalkulacja!AE:AE,MATCH($U49,Kalkulacja!AM:AM,0)))*$D$21,\"\"),\"\")","v":""},{"$error":"#VALUE!"},{"$error":"#VALUE!"},null,"","","","","","","","","","","",null,{"$f":"IF(AD49=\"\",\"\",MAX($AP$10:AP48)+1)","v":""},null,null,40,"",null,null,null,null,null,null,null,"","","Opis"]
[null,null,null,null,null,null,"",{"$f":"IF($AC$4=\"x\",IFERROR(INDEX(Kalkulacja!I:I,MATCH(U50,Kalkulacja!AM:AM,0))&\" - kodowanie www\",\"\"),\"\")","v":""},"",null,"",null,"",{"$f":"IF(IF($AC$4=\"x\",IFERROR(INDEX(Kalkulacja!AF:AF,MATCH(U50,Kalkulacja!AM:AM,0)),\"\"),\"\")=\"\",\"\",IF($AC$4=\"x\",IFERROR(INDEX(Kalkulacja!AF:AF,MATCH(U50,Kalkulacja!AM:AM,0)),\"\"),\"\"))","v":""},null,null,null,null,"",0,28,{"$f":"IFERROR(INDEX(Kalkulacja!I:I,MATCH(U50,Kalkulacja!AM:AM,0)),\"\")","v":""},0,{"$error":"#N/A"},"",{"$f":"IF($AC$4=\"x\",IFERROR((INDEX(Kalkulacja!AE:AE,MATCH($U50,Kalkulacja!AM:AM,0)))*$D$21,\"\"),\"\")","v":""},{"$error":"#VALUE!"},{"$error":"#VALUE!"},null,"","","","","","","","","","","",null,{"$f":"IF(AD50=\"\",\"\",MAX($AP$10:AP49)+1)","v":""},null,null,41,"",null,null,null,null,null,null,null,"","","Opis"]
[null,null,null,null,null,null,"",{"$f":"IF($AC$4=\"x\",IFERROR(INDEX(Kalkulacja!I:I,MATCH(U51,Kalkulacja!AM:AM,0))&\" - kodowanie www\",\"\"),\"\")","v":""},"",null,"",null,"",{"$f":"IF(IF($AC$4=\"x\",IFERROR(INDEX(Kalkulacja!AF:AF,MATCH(U51,Kalkulacja!AM:AM,0)),\"\"),\"\")=\"\",\"\",IF($AC$4=\"x\",IFERROR(INDEX(Kalkulacja!AF:AF,MATCH(U51,Kalkulacja!AM:AM,0)),\"\"),\"\"))","v":""},null,null,null,null,"",0,29,{"$f":"IFERROR(INDEX(Kalkulacja!I:I,MATCH(U51,Kalkulacja!AM:AM,0)),\"\")","v":""},0,{"$error":"#N/A"},"",{"$f":"IF($AC$4=\"x\",IFERROR((INDEX(Kalkulacja!AE:AE,MATCH($U51,Kalkulacja!AM:AM,0)))*$D$21,\"\"),\"\")","v":""},{"$error":"#VALUE!"},{"$error":"#VALUE!"},null,"","","","","","","","","","","",null,{"$f":"IF(AD51=\"\",\"\",MAX($AP$10:AP50)+1)","v":""},null,null,42,"",null,null,null,null,null,null,null,"","","Opis"]
[null,null,null,null,null,null,"",{"$f":"IF($AC$4=\"x\",IFERROR(INDEX(Kalkulacja!I:I,MATCH(U52,Kalkulacja!AM:AM,0))&\" - kodowanie www\",\"\"),\"\")","v":""},"",null,"",null,"",{"$f":"IF(IF($AC$4=\"x\",IFERROR(INDEX(Kalkulacja!AF:AF,MATCH(U52,Kalkulacja!AM:AM,0)),\"\"),\"\")=\"\",\"\",IF($AC$4=\"x\",IFERROR(INDEX(Kalkulacja!AF:AF,MATCH(U52,Kalkulacja!AM:AM,0)),\"\"),\"\"))","v":""},null,null,null,null,"",0,30,{"$f":"IFERROR(INDEX(Kalkulacja!I:I,MATCH(U52,Kalkulacja!AM:AM,0)),\"\")","v":""},0,{"$error":"#N/A"},"",{"$f":"IF($AC$4=\"x\",IFERROR((INDEX(Kalkulacja!AE:AE,MATCH($U52,Kalkulacja!AM:AM,0)))*$D$21,\"\"),\"\")","v":""},{"$error":"#VALUE!"},{"$error":"#VALUE!"},null,"","","","","","","","","","","",null,{"$f":"IF(AD52=\"\",\"\",MAX($AP$10:AP51)+1)","v":""},null,null,43,"",null,null,null,null,null,null,null,"","","Opis"]
[null,null,null,null,null,null,"",{"$f":"IF($AC$4=\"x\",IFERROR(INDEX(Kalkulacja!I:I,MATCH(U53,Kalkulacja!AM:AM,0))&\" - kodowanie www\",\"\"),\"\")","v":""},"",null,"",null,"",{"$f":"IF(IF($AC$4=\"x\",IFERROR(INDEX(Kalkulacja!AF:AF,MATCH(U53,Kalkulacja!AM:AM,0)),\"\"),\"\")=\"\",\"\",IF($AC$4=\"x\",IFERROR(INDEX(Kalkulacja!AF:AF,MATCH(U53,Kalkulacja!AM:AM,0)),\"\"),\"\"))","v":""},null,null,null,null,"",0,31,{"$f":"IFERROR(INDEX(Kalkulacja!I:I,MATCH(U53,Kalkulacja!AM:AM,0)),\"\")","v":""},0,{"$error":"#N/A"},"",{"$f":"IF($AC$4=\"x\",IFERROR((INDEX(Kalkulacja!AE:AE,MATCH($U53,Kalkulacja!AM:AM,0)))*$D$21,\"\"),\"\")","v":""},{"$error":"#VALUE!"},{"$error":"#VALUE!"},null,"","","","","","","","","","","",null,{"$f":"IF(AD53=\"\",\"\",MAX($AP$10:AP52)+1)","v":""},null,null,44,"",null,null,null,null,null,null,null,"","","Opis"]
[null,null,null,null,null,null,"",{"$f":"IF($AC$4=\"x\",IFERROR(INDEX(Kalkulacja!I:I,MATCH(U54,Kalkulacja!AM:AM,0))&\" - kodowanie www\",\"\"),\"\")","v":""},"",null,"",null,"",{"$f":"IF(IF($AC$4=\"x\",IFERROR(INDEX(Kalkulacja!AF:AF,MATCH(U54,Kalkulacja!AM:AM,0)),\"\"),\"\")=\"\",\"\",IF($AC$4=\"x\",IFERROR(INDEX(Kalkulacja!AF:AF,MATCH(U54,Kalkulacja!AM:AM,0)),\"\"),\"\"))","v":""},null,null,null,null,"",0,32,{"$f":"IFERROR(INDEX(Kalkulacja!I:I,MATCH(U54,Kalkulacja!AM:AM,0)),\"\")","v":""},0,{"$error":"#N/A"},"",{"$f":"IF($AC$4=\"x\",IFERROR((INDEX(Kalkulacja!AE:AE,MATCH($U54,Kalkulacja!AM:AM,0)))*$D$21,\"\"),\"\")","v":""},{"$error":"#VALUE!"},{"$error":"#VALUE!"},null,"","","","","","","","","","","",null,{"$f":"IF(AD54=\"\",\"\",MAX($AP$10:AP53)+1)","v":""},null,null,45,"",null,null,null,null,null,null,null,"","","Opis"]
[null,null,null,null,null,null,"",{"$f":"IF($AC$4=\"x\",IFERROR(INDEX(Kalkulacja!I:I,MATCH(U55,Kalkulacja!AM:AM,0))&\" - kodowanie www\",\"\"),\"\")","v":""},"",null,"",null,"",{"$f":"IF(IF($AC$4=\"x\",IFERROR(INDEX(Kalkulacja!AF:AF,MATCH(U55,Kalkulacja!AM:AM,0)),\"\"),\"\")=\"\",\"\",IF($AC$4=\"x\",IFERROR(INDEX(Kalkulacja!AF:AF,MATCH(U55,Kalkulacja!AM:AM,0)),\"\"),\"\"))","v":""},null,null,null,null,"",0,33,{"$f":"IFERROR(INDEX(Kalkulacja!I:I,MATCH(U55,Kalkulacja!AM:AM,0)),\"\")","v":""},0,{"$error":"#N/A"},"",{"$f":"IF($AC$4=\"x\",IFERROR((INDEX(Kalkulacja!AE:AE,MATCH($U55,Kalkulacja!AM:AM,0)))*$D$21,\"\"),\"\")","v":""},{"$error":"#VALUE!"},{"$error":"#VALUE!"},null,"","","","","","","","","","","",null,{"$f":"IF(AD55=\"\",\"\",MAX($AP$10:AP54)+1)","v":""},null,null,46,"",null,null,null,null,null,null,null,"","","Opis"]
[null,null,null,null,null,null,"",{"$f":"IF($AC$4=\"x\",IFERROR(INDEX(Kalkulacja!I:I,MATCH(U56,Kalkulacja!AM:AM,0))&\" - kodowanie www\",\"\"),\"\")","v":""},"",null,"",null,"",{"$f":"IF(IF($AC$4=\"x\",IFERROR(INDEX(Kalkulacja!AF:AF,MATCH(U56,Kalkulacja!AM:AM,0)),\"\"),\"\")=\"\",\"\",IF($AC$4=\"x\",IFERROR(INDEX(Kalkulacja!AF:AF,MATCH(U56,Kalkulacja!AM:AM,0)),\"\"),\"\"))","v":""},null,null,null,null,"",0,34,{"$f":"IFERROR(INDEX(Kalkulacja!I:I,MATCH(U56,Kalkulacja!AM:AM,0)),\"\")","v":""},0,{"$error":"#N/A"},"",{"$f":"IF($AC$4=\"x\",IFERROR((INDEX(Kalkulacja!AE:AE,MATCH($U56,Kalkulacja!AM:AM,0)))*$D$21,\"\"),\"\")","v":""},{"$error":"#VALUE!"},{"$error":"#VALUE!"},null,"","","","","","","","","","","",null,{"$f":"IF(AD56=\"\",\"\",MAX($AP$10:AP55)+1)","v":""},null,null,47,"",null,null,null,null,null,null,null,"","","Opis"]
[null,null,null,null,null,null,"",{"$f":"IF($AC$4=\"x\",IFERROR(INDEX(Kalkulacja!I:I,MATCH(U57,Kalkulacja!AM:AM,0))&\" - kodowanie www\",\"\"),\"\")","v":""},"",null,"",null,"",{"$f":"IF(IF($AC$4=\"x\",IFERROR(INDEX(Kalkulacja!AF:AF,MATCH(U57,Kalkulacja!AM:AM,0)),\"\"),\"\")=\"\",\"\",IF($AC$4=\"x\",IFERROR(INDEX(Kalkulacja!AF:AF,MATCH(U57,Kalkulacja!AM:AM,0)),\"\"),\"\"))","v":""},null,null,null,null,"",0,35,{"$f":"IFERROR(INDEX(Kalkulacja!I:I,MATCH(U57,Kalkulacja!AM:AM,0)),\"\")","v":""},0,{"$error":"#N/A"},"",{"$f":"IF($AC$4=\"x\",IFERROR((INDEX(Kalkulacja!AE:AE,MATCH($U57,Kalkulacja!AM:AM,0)))*$D$21,\"\"),\"\")","v":""},{"$error":"#VALUE!"},{"$error":"#VALUE!"},null,"","","","","","","","","","","",null,{"$f":"IF(AD57=\"\",\"\",MAX($AP$10:AP56)+1)","v":""},null,null,48,"",null,null,null,null,null,null,null,"","","Opis"]
[null,null,null,null,null,null,"",{"$f":"IF($AC$4=\"x\",IFERROR(INDEX(Kalkulacja!I:I,MATCH(U58,Kalkulacja!AM:AM,0))&\" - kodowanie www\",\"\"),\"\")","v":""},"",null,"",null,"",{"$f":"IF(IF($AC$4=\"x\",IFERROR(INDEX(Kalkulacja!AF:AF,MATCH(U58,Kalkulacja!AM:AM,0)),\"\"),\"\")=\"\",\"\",IF($AC$4=\"x\",IFERROR(INDEX(Kalkulacja!AF:AF,MATCH(U58,Kalkulacja!AM:AM,0)),\"\"),\"\"))","v":""},null,null,null,null,"",0,36,{"$f":"IFERROR(INDEX(Kalkulacja!I:I,MATCH(U58,Kalkulacja!AM:AM,0)),\"\")","v":""},0,{"$error":"#N/A"},"",{"$f":"IF($AC$4=\"x\",IFERROR((INDEX(Kalkulacja!AE:AE,MATCH($U58,Kalkulacja!AM:AM,0)))*$D$21,\"\"),\"\")","v":""},{"$error":"#VALUE!"},{"$error":"#VALUE!"},null,"","","","","","","","","","","",null,{"$f":"IF(AD58=\"\",\"\",MAX($AP$10:AP57)+1)","v":""},null,null,49,"",null,null,null,null,null,null,null,"","","Opis"]
[null,null,null,null,null,null,"",{"$f":"IF($AC$4=\"x\",IFERROR(INDEX(Kalkulacja!I:I,MATCH(U59,Kalkulacja!AM:AM,0))&\" - kodowanie www\",\"\"),\"\")","v":""},"",null,"",null,"",{"$f":"IF(IF($AC$4=\"x\",IFERROR(INDEX(Kalkulacja!AF:AF,MATCH(U59,Kalkulacja!AM:AM,0)),\"\"),\"\")=\"\",\"\",IF($AC$4=\"x\",IFERROR(INDEX(Kalkulacja!AF:AF,MATCH(U59,Kalkulacja!AM:AM,0)),\"\"),\"\"))","v":""},null,null,null,null,"",0,37,{"$f":"IFERROR(INDEX(Kalkulacja!I:I,MATCH(U59,Kalkulacja!AM:AM,0)),\"\")","v":""},0,{"$error":"#N/A"},"",{"$f":"IF($AC$4=\"x\",IFERROR((INDEX(Kalkulacja!AE:AE,MATCH($U59,Kalkulacja!AM:AM,0)))*$D$21,\"\"),\"\")","v":""},{"$error":"#VALUE!"},{"$error":"#VALUE!"},null,"","","","","","","","","","","",null,{"$f":"IF(AD59=\"\",\"\",MAX($AP$10:AP58)+1)","v":""},null,null,50,"",null,null,null,null,null,null,null,"","","Opis"]
[null,null,null,null,null,null,"",{"$f":"IF($AC$4=\"x\",IFERROR(INDEX(Kalkulacja!I:I,MATCH(U60,Kalkulacja!AM:AM,0))&\" - kodowanie www\",\"\"),\"\")","v":""},"",null,"",null,"",{"$f":"IF(IF($AC$4=\"x\",IFERROR(INDEX(Kalkulacja!AF:AF,MATCH(U60,Kalkulacja!AM:AM,0)),\"\"),\"\")=\"\",\"\",IF($AC$4=\"x\",IFERROR(INDEX(Kalkulacja!AF:AF,MATCH(U60,Kalkulacja!AM:AM,0)),\"\"),\"\"))","v":""},null,null,null,null,"",0,38,{"$f":"IFERROR(INDEX(Kalkulacja!I:I,MATCH(U60,Kalkulacja!AM:AM,0)),\"\")","v":""},0,{"$error":"#N/A"},"",{"$f":"IF($AC$4=\"x\",IFERROR((INDEX(Kalkulacja!AE:AE,MATCH($U60,Kalkulacja!AM:AM,0)))*$D$21,\"\"),\"\")","v":""},{"$error":"#VALUE!"},{"$error":"#VALUE!"},null,"","","","","","","","","","","",null,{"$f":"IF(AD60=\"\",\"\",MAX($AP$10:AP59)+1)","v":""},null,null,51,"",null,null,null,null,null,null,null,"","","Opis"]
[null,null,null,null,null,null,"",{"$f":"IF($AC$4=\"x\",IFERROR(INDEX(Kalkulacja!I:I,MATCH(U61,Kalkulacja!AM:AM,0))&\" - kodowanie www\",\"\"),\"\")","v":""},"",null,"",null,"",{"$f":"IF(IF($AC$4=\"x\",IFERROR(INDEX(Kalkulacja!AF:AF,MATCH(U61,Kalkulacja!AM:AM,0)),\"\"),\"\")=\"\",\"\",IF($AC$4=\"x\",IFERROR(INDEX(Kalkulacja!AF:AF,MATCH(U61,Kalkulacja!AM:AM,0)),\"\"),\"\"))","v":""},null,null,null,null,"",0,39,{"$f":"IFERROR(INDEX(Kalkulacja!I:I,MATCH(U61,Kalkulacja!AM:AM,0)),\"\")","v":""},0,{"$error":"#N/A"},"",{"$f":"IF($AC$4=\"x\",IFERROR((INDEX(Kalkulacja!AE:AE,MATCH($U61,Kalkulacja!AM:AM,0)))*$D$21,\"\"),\"\")","v":""},{"$error":"#VALUE!"},{"$error":"#VALUE!"},null,"","","","","","","","","","","",null,{"$f":"IF(AD61=\"\",\"\",MAX($AP$10:AP60)+1)","v":""},null,null,52,"",null,null,null,null,null,null,null,"","","Opis"]
[null,null,null,null,null,null,"",{"$f":"IF($AC$4=\"x\",IFERROR(INDEX(Kalkulacja!I:I,MATCH(U62,Kalkulacja!AM:AM,0))&\" - kodowanie www\",\"\"),\"\")","v":""},"",null,"",null,"",{"$f":"IF(IF($AC$4=\"x\",IFERROR(INDEX(Kalkulacja!AF:AF,MATCH(U62,Kalkulacja!AM:AM,0)),\"\"),\"\")=\"\",\"\",IF($AC$4=\"x\",IFERROR(INDEX(Kalkulacja!AF:AF,MATCH(U62,Kalkulacja!AM:AM,0)),\"\"),\"\"))","v":""},null,null,null,null,"",0,40,{"$f":"IFERROR(INDEX(Kalkulacja!I:I,MATCH(U62,Kalkulacja!AM:AM,0)),\"\")","v":""},0,{"$error":"#N/A"},"",{"$f":"IF($AC$4=\"x\",IFERROR((INDEX(Kalkulacja!AE:AE,MATCH($U62,Kalkulacja!AM:AM,0)))*$D$21,\"\"),\"\")","v":""},{"$error":"#VALUE!"},{"$error":"#VALUE!"},null,"","","","","","","","","","","",null,{"$f":"IF(AD62=\"\",\"\",MAX($AP$10:AP61)+1)","v":""},null,null,53,"",null,null,null,null,null,null,null,"","","Opis"]
[null,null,null,null,null,null,"",{"$f":"IF($AC$4=\"x\",IFERROR(INDEX(Kalkulacja!I:I,MATCH(U63,Kalkulacja!AM:AM,0))&\" - kodowanie www\",\"\"),\"\")","v":""},"",null,"",null,"",{"$f":"IF(IF($AC$4=\"x\",IFERROR(INDEX(Kalkulacja!AF:AF,MATCH(U63,Kalkulacja!AM:AM,0)),\"\"),\"\")=\"\",\"\",IF($AC$4=\"x\",IFERROR(INDEX(Kalkulacja!AF:AF,MATCH(U63,Kalkulacja!AM:AM,0)),\"\"),\"\"))","v":""},null,null,null,null,"",0,41,{"$f":"IFERROR(INDEX(Kalkulacja!I:I,MATCH(U63,Kalkulacja!AM:AM,0)),\"\")","v":""},0,{"$error":"#N/A"},"",{"$f":"IF($AC$4=\"x\",IFERROR((INDEX(Kalkulacja!AE:AE,MATCH($U63,Kalkulacja!AM:AM,0)))*$D$21,\"\"),\"\")","v":""},{"$error":"#VALUE!"},{"$error":"#VALUE!"},null,"","","","","","","","","","","",null,{"$f":"IF(AD63=\"\",\"\",MAX($AP$10:AP62)+1)","v":""},null,null,54,"",null,null,null,null,null,null,null,"","","Opis"]
[null,null,null,null,null,null,"",{"$f":"IF($AC$4=\"x\",IFERROR(INDEX(Kalkulacja!I:I,MATCH(U64,Kalkulacja!AM:AM,0))&\" - kodowanie www\",\"\"),\"\")","v":""},"",null,"",null,"",{"$f":"IF(IF($AC$4=\"x\",IFERROR(INDEX(Kalkulacja!AF:AF,MATCH(U64,Kalkulacja!AM:AM,0)),\"\"),\"\")=\"\",\"\",IF($AC$4=\"x\",IFERROR(INDEX(Kalkulacja!AF:AF,MATCH(U64,Kalkulacja!AM:AM,0)),\"\"),\"\"))","v":""},null,null,null,null,"",0,42,{"$f":"IFERROR(INDEX(Kalkulacja!I:I,MATCH(U64,Kalkulacja!AM:AM,0)),\"\")","v":""},0,{"$error":"#N/A"},"",{"$f":"IF($AC$4=\"x\",IFERROR((INDEX(Kalkulacja!AE:AE,MATCH($U64,Kalkulacja!AM:AM,0)))*$D$21,\"\"),\"\")","v":""},{"$error":"#VALUE!"},{"$error":"#VALUE!"},null,"","","","","","","","","","","",null,{"$f":"IF(AD64=\"\",\"\",MAX($AP$10:AP63)+1)","v":""},null,null,"","",null,null,null,null,null,null,null,"","","Opis"]
[null,null,null,null,null,null,"",{"$f":"IF($AC$4=\"x\",IFERROR(INDEX(Kalkulacja!I:I,MATCH(U65,Kalkulacja!AM:AM,0))&\" - kodowanie www\",\"\"),\"\")","v":""},"",null,"",null,"",{"$f":"IF(IF($AC$4=\"x\",IFERROR(INDEX(Kalkulacja!AF:AF,MATCH(U65,Kalkulacja!AM:AM,0)),\"\"),\"\")=\"\",\"\",IF($AC$4=\"x\",IFERROR(INDEX(Kalkulacja!AF:AF,MATCH(U65,Kalkulacja!AM:AM,0)),\"\"),\"\"))","v":""},null,null,null,null,"",0,43,{"$f":"IFERROR(INDEX(Kalkulacja!I:I,MATCH(U65,Kalkulacja!AM:AM,0)),\"\")","v":""},0,{"$error":"#N/A"},"",{"$f":"IF($AC$4=\"x\",IFERROR((INDEX(Kalkulacja!AE:AE,MATCH($U65,Kalkulacja!AM:AM,0)))*$D$21,\"\"),\"\")","v":""},{"$error":"#VALUE!"},{"$error":"#VALUE!"},null,"","","","","","","","","","","",null,{"$f":"IF(AD65=\"\",\"\",MAX($AP$10:AP64)+1)","v":""},null,null,"","",null,null,null,null,null,null,null,"","","Opis"]
[null,null,null,null,null,null,"",{"$f":"IF($AC$4=\"x\",IFERROR(INDEX(Kalkulacja!I:I,MATCH(U66,Kalkulacja!AM:AM,0))&\" - kodowanie www\",\"\"),\"\")","v":""},"",null,"",null,"",{"$f":"IF(IF($AC$4=\"x\",IFERROR(INDEX(Kalkulacja!AF:AF,MATCH(U66,Kalkulacja!AM:AM,0)),\"\"),\"\")=\"\",\"\",IF($AC$4=\"x\",IFERROR(INDEX(Kalkulacja!AF:AF,MATCH(U66,Kalkulacja!AM:AM,0)),\"\"),\"\"))","v":""},null,null,null,null,"",0,44,{"$f":"IFERROR(INDEX(Kalkulacja!I:I,MATCH(U66,Kalkulacja!AM:AM,0)),\"\")","v":""},0,{"$error":"#N/A"},"",{"$f":"IF($AC$4=\"x\",IFERROR((INDEX(Kalkulacja!AE:AE,MATCH($U66,Kalkulacja!AM:AM,0)))*$D$21,\"\"),\"\")","v":""},{"$error":"#VALUE!"},{"$error":"#VALUE!"},null,"","","","","","","","","","","",null,{"$f":"IF(AD66=\"\",\"\",MAX($AP$10:AP65)+1)","v":""},null,null,"","",null,null,null,null,null,null,null,"","","Opis"]
[null,null,null,null,null,null,"",{"$f":"IF($AC$4=\"x\",IFERROR(INDEX(Kalkulacja!I:I,MATCH(U67,Kalkulacja!AM:AM,0))&\" - kodowanie www\",\"\"),\"\")","v":""},"",null,"",null,"",{"$f":"IF(IF($AC$4=\"x\",IFERROR(INDEX(Kalkulacja!AF:AF,MATCH(U67,Kalkulacja!AM:AM,0)),\"\"),\"\")=\"\",\"\",IF($AC$4=\"x\",IFERROR(INDEX(Kalkulacja!AF:AF,MATCH(U67,Kalkulacja!AM:AM,0)),\"\"),\"\"))","v":""},null,null,null,null,"",0,45,{"$f":"IFERROR(INDEX(Kalkulacja!I:I,MATCH(U67,Kalkulacja!AM:AM,0)),\"\")","v":""},0,{"$error":"#N/A"},"",{"$f":"IF($AC$4=\"x\",IFERROR((INDEX(Kalkulacja!AE:AE,MATCH($U67,Kalkulacja!AM:AM,0)))*$D$21,\"\"),\"\")","v":""},{"$error":"#VALUE!"},{"$error":"#VALUE!"},null,"","","","","","","","","","","",null,{"$f":"IF(AD67=\"\",\"\",MAX($AP$10:AP66)+1)","v":""},null,null,"","",null,null,null,null,null,null,null,"","","Opis"]
[null,null,null,null,null,null,"",{"$f":"IF($AC$4=\"x\",IFERROR(INDEX(Kalkulacja!I:I,MATCH(U68,Kalkulacja!AM:AM,0))&\" - kodowanie www\",\"\"),\"\")","v":""},"",null,"",null,"",{"$f":"IF(IF($AC$4=\"x\",IFERROR(INDEX(Kalkulacja!AF:AF,MATCH(U68,Kalkulacja!AM:AM,0)),\"\"),\"\")=\"\",\"\",IF($AC$4=\"x\",IFERROR(INDEX(Kalkulacja!AF:AF,MATCH(U68,Kalkulacja!AM:AM,0)),\"\"),\"\"))","v":""},null,null,null,null,"",0,46,{"$f":"IFERROR(INDEX(Kalkulacja!I:I,MATCH(U68,Kalkulacja!AM:AM,0)),\"\")","v":""},0,{"$error":"#N/A"},"",{"$f":"IF($AC$4=\"x\",IFERROR((INDEX(Kalkulacja!AE:AE,MATCH($U68,Kalkulacja!AM:AM,0)))*$D$21,\"\"),\"\")","v":""},{"$error":"#VALUE!"},{"$error":"#VALUE!"},null,"","","","","","","","","","","",null,{"$f":"IF(AD68=\"\",\"\",MAX($AP$10:AP67)+1)","v":""},null,null,"","",null,null,null,null,null,null,null,"","","Opis"]
[null,null,null,null,null,null,"",{"$f":"IF($AC$4=\"x\",IFERROR(INDEX(Kalkulacja!I:I,MATCH(U69,Kalkulacja!AM:AM,0))&\" - kodowanie www\",\"\"),\"\")","v":""},"",null,"",null,"",{"$f":"IF(IF($AC$4=\"x\",IFERROR(INDEX(Kalkulacja!AF:AF,MATCH(U69,Kalkulacja!AM:AM,0)),\"\"),\"\")=\"\",\"\",IF($AC$4=\"x\",IFERROR(INDEX(Kalkulacja!AF:AF,MATCH(U69,Kalkulacja!AM:AM,0)),\"\"),\"\"))","v":""},null,null,null,null,"",0,47,{"$f":"IFERROR(INDEX(Kalkulacja!I:I,MATCH(U69,Kalkulacja!AM:AM,0)),\"\")","v":""},0,{"$error":"#N/A"},"",{"$f":"IF($AC$4=\"x\",IFERROR((INDEX(Kalkulacja!AE:AE,MATCH($U69,Kalkulacja!AM:AM,0)))*$D$21,\"\"),\"\")","v":""},{"$error":"#VALUE!"},{"$error":"#VALUE!"},null,"","","","","","","","","","","",null,{"$f":"IF(AD69=\"\",\"\",MAX($AP$10:AP68)+1)","v":""},null,null,"","",null,null,null,null,null,null,null,"","","Opis"]
[null,null,null,null,null,null,"",{"$f":"IF($AC$4=\"x\",IFERROR(INDEX(Kalkulacja!I:I,MATCH(U70,Kalkulacja!AM:AM,0))&\" - kodowanie www\",\"\"),\"\")","v":""},"",null,"",null,"",{"$f":"IF(IF($AC$4=\"x\",IFERROR(INDEX(Kalkulacja!AF:AF,MATCH(U70,Kalkulacja!AM:AM,0)),\"\"),\"\")=\"\",\"\",IF($AC$4=\"x\",IFERROR(INDEX(Kalkulacja!AF:AF,MATCH(U70,Kalkulacja!AM:AM,0)),\"\"),\"\"))","v":""},null,null,null,null,"",0,48,{"$f":"IFERROR(INDEX(Kalkulacja!I:I,MATCH(U70,Kalkulacja!AM:AM,0)),\"\")","v":""},0,{"$error":"#N/A"},"",{"$f":"IF($AC$4=\"x\",IFERROR((INDEX(Kalkulacja!AE:AE,MATCH($U70,Kalkulacja!AM:AM,0)))*$D$21,\"\"),\"\")","v":""},{"$error":"#VALUE!"},{"$error":"#VALUE!"},null,"","","","","","","","","","","",null,{"$f":"IF(AD70=\"\",\"\",MAX($AP$10:AP69)+1)","v":""},null,null,"","",null,null,null,null,null,null,null,"","","Opis"]
[null,null,null,null,null,null,"",{"$f":"IF($AC$4=\"x\",IFERROR(INDEX(Kalkulacja!I:I,MATCH(U71,Kalkulacja!AM:AM,0))&\" - kodowanie www\",\"\"),\"\")","v":""},"",null,"",null,"",{"$f":"IF(IF($AC$4=\"x\",IFERROR(INDEX(Kalkulacja!AF:AF,MATCH(U71,Kalkulacja!AM:AM,0)),\"\"),\"\")=\"\",\"\",IF($AC$4=\"x\",IFERROR(INDEX(Kalkulacja!AF:AF,MATCH(U71,Kalkulacja!AM:AM,0)),\"\"),\"\"))","v":""},null,null,null,null,"",0,49,{"$f":"IFERROR(INDEX(Kalkulacja!I:I,MATCH(U71,Kalkulacja!AM:AM,0)),\"\")","v":""},0,{"$error":"#N/A"},"",{"$f":"IF($AC$4=\"x\",IFERROR((INDEX(Kalkulacja!AE:AE,MATCH($U71,Kalkulacja!AM:AM,0)))*$D$21,\"\"),\"\")","v":""},{"$error":"#VALUE!"},{"$error":"#VALUE!"},null,"","","","","","","","","","","",null,{"$f":"IF(AD71=\"\",\"\",MAX($AP$10:AP70)+1)","v":""},null,null,"","",null,null,null,null,null,null,null,"","","Opis"]
[null,null,null,null,null,null,"",{"$f":"IF($AC$4=\"x\",IFERROR(INDEX(Kalkulacja!I:I,MATCH(U72,Kalkulacja!AM:AM,0))&\" - kodowanie www\",\"\"),\"\")","v":""},"",null,"",null,"",{"$f":"IF(IF($AC$4=\"x\",IFERROR(INDEX(Kalkulacja!AF:AF,MATCH(U72,Kalkulacja!AM:AM,0)),\"\"),\"\")=\"\",\"\",IF($AC$4=\"x\",IFERROR(INDEX(Kalkulacja!AF:AF,MATCH(U72,Kalkulacja!AM:AM,0)),\"\"),\"\"))","v":""},null,null,null,null,"",0,50,{"$f":"IFERROR(INDEX(Kalkulacja!I:I,MATCH(U72,Kalkulacja!AM:AM,0)),\"\")","v":""},0,{"$error":"#N/A"},"",{"$f":"IF($AC$4=\"x\",IFERROR((INDEX(Kalkulacja!AE:AE,MATCH($U72,Kalkulacja!AM:AM,0)))*$D$21,\"\"),\"\")","v":""},{"$error":"#VALUE!"},{"$error":"#VALUE!"},null,"","","","","","","","","","","",null,{"$f":"IF(AD72=\"\",\"\",MAX($AP$10:AP71)+1)","v":""},null,null,"","",null,null,null,null,null,null,null,"","","Opis"]
[null,null,null,null,null,null,"",{"$f":"IF($AC$4=\"x\",IFERROR(INDEX(Kalkulacja!I:I,MATCH(U73,Kalkulacja!AM:AM,0))&\" - kodowanie www\",\"\"),\"\")","v":""},"",null,"",null,"",{"$f":"IF(IF($AC$4=\"x\",IFERROR(INDEX(Kalkulacja!AF:AF,MATCH(U73,Kalkulacja!AM:AM,0)),\"\"),\"\")=\"\",\"\",IF($AC$4=\"x\",IFERROR(INDEX(Kalkulacja!AF:AF,MATCH(U73,Kalkulacja!AM:AM,0)),\"\"),\"\"))","v":""},null,null,null,null,"",0,51,{"$f":"IFERROR(INDEX(Kalkulacja!I:I,MATCH(U73,Kalkulacja!AM:AM,0)),\"\")","v":""},0,{"$error":"#N/A"},"",{"$f":"IF($AC$4=\"x\",IFERROR((INDEX(Kalkulacja!AE:AE,MATCH($U73,Kalkulacja!AM:AM,0)))*$D$21,\"\"),\"\")","v":""},{"$error":"#VALUE!"},{"$error":"#VALUE!"},null,"","","","","","","","","","","",null,{"$f":"IF(AD73=\"\",\"\",MAX($AP$10:AP72)+1)","v":""},null,null,"","",null,null,null,null,null,null,null,"","","Opis"]
[null,null,null,null,null,null,"",{"$f":"IF($AC$4=\"x\",IFERROR(INDEX(Kalkulacja!I:I,MATCH(U74,Kalkulacja!AM:AM,0))&\" - kodowanie www\",\"\"),\"\")","v":""},"",null,"",null,"",{"$f":"IF(IF($AC$4=\"x\",IFERROR(INDEX(Kalkulacja!AF:AF,MATCH(U74,Kalkulacja!AM:AM,0)),\"\"),\"\")=\"\",\"\",IF($AC$4=\"x\",IFERROR(INDEX(Kalkulacja!AF:AF,MATCH(U74,Kalkulacja!AM:AM,0)),\"\"),\"\"))","v":""},null,null,null,null,"",0,52,{"$f":"IFERROR(INDEX(Kalkulacja!I:I,MATCH(U74,Kalkulacja!AM:AM,0)),\"\")","v":""},0,{"$f":"VLOOKUP(K74,$C$31:$D$44,2,0)","v":{"$error":"#N/A"}},{"$f":"IFERROR(VLOOKUP(L74,$C$31:$D$44,2,0),\"\")","v":""},{"$f":"IF($AC$4=\"x\",IFERROR((INDEX(Kalkulacja!AE:AE,MATCH($U74,Kalkulacja!AM:AM,0)))*$D$21,\"\"),\"\")","v":""},{"$error":"#VALUE!"},{"$error":"#VALUE!"},null,"","","","","","","","","","","",null,{"$f":"IF(AD74=\"\",\"\",MAX($AP$10:AP73)+1)","v":""},null,null,"",{"$f":"IFERROR(INDEX(AN:AN,MATCH(AS74,AP:AP,0)),\"\")","v":""},null,null,null,null,null,null,null,"","","Opis"]
[null,null,null,null,null,null,"",{"$f":"IF($AC$4=\"x\",IFERROR(INDEX(Kalkulacja!I:I,MATCH(U75,Kalkulacja!AM:AM,0))&\" - kodowanie www\",\"\"),\"\")","v":""},"",null,"",null,"",{"$f":"IF(IF($AC$4=\"x\",IFERROR(INDEX(Kalkulacja!AF:AF,MATCH(U75,Kalkulacja!AM:AM,0)),\"\"),\"\")=\"\",\"\",IF($AC$4=\"x\",IFERROR(INDEX(Kalkulacja!AF:AF,MATCH(U75,Kalkulacja!AM:AM,0)),\"\"),\"\"))","v":""},null,null,null,null,{"$f":"LEFT(H75,1)","v":""},0,53,{"$f":"IFERROR(INDEX(Kalkulacja!I:I,MATCH(U75,Kalkulacja!AM:AM,0)),\"\")","v":""},{"$f":"IF(V75=\"\",0,\"x\")","v":0},{"$error":"#N/A"},"",{"$f":"IF($AC$4=\"x\",IFERROR((INDEX(Kalkulacja!AE:AE,MATCH($U75,Kalkulacja!AM:AM,0)))*$D$21,\"\"),\"\")","v":""},{"$error":"#VALUE!"},{"$error":"#VALUE!"},null,"","","","","","","","","","","",null,{"$f":"IF(AD75=\"\",\"\",MAX($AP$10:AP74)+1)","v":""},null,null,"","",null,null,null,null,null,null,null,"","","Opis"]
[null,null,null,null,null,null,"",{"$f":"IF($AC$4=\"x\",IFERROR(INDEX(Kalkulacja!I:I,MATCH(U76,Kalkulacja!AM:AM,0))&\" - kodowanie www\",\"\"),\"\")","v":""},"",null,"",null,"",{"$f":"IF(IF($AC$4=\"x\",IFERROR(INDEX(Kalkulacja!AF:AF,MATCH(U76,Kalkulacja!AM:AM,0)),\"\"),\"\")=\"\",\"\",IF($AC$4=\"x\",IFERROR(INDEX(Kalkulacja!AF:AF,MATCH(U76,Kalkulacja!AM:AM,0)),\"\"),\"\"))","v":""},null,null,null,null,"",{"$f":"IF(S77=\">\",1,0)","v":0},54,{"$f":"IFERROR(INDEX(Kalkulacja!I:I,MATCH(U76,Kalkulacja!AM:AM,0)),\"\")","v":""},0,{"$error":"#N/A"},"",{"$f":"IF($AC$4=\"x\",IFERROR((INDEX(Kalkulacja!AE:AE,MATCH($U76,Kalkulacja!AM:AM,0)))*$D$21,\"\"),\"\")","v":""},{"$error":"#VALUE!"},{"$error":"#VALUE!"},null,"",{"$f":"IF(AD76=\"\",\"\",100)","v":""},"",{"$f":"IF(AD76=\"\",\"\",IF(N76=\"\",BD76,N76))","v":""},"","",{"$f":"IF(AD76=\"\",\"\",IF(COUNT($X76:$Y76)=2,$X76&\"|\"&$Y76,$X76))","v":""},{"$f":"IF(AD76=\"\",\"\",$L$3)","v":""},"",{"$f":"IF(AD76=\"\",\"\",$L$5)","v":""},"",null,{"$f":"IF(AD76=\"\",\"\",MAX($AP$10:AP75)+1)","v":""},null,null,"","",null,null,null,null,null,null,null,{"$f":"IF(N76=\"\",\"\",N76)","v":""},{"$f":"IF(T76=1,SUBSTITUTE(RIGHT(H77,LEN(H77)-2),\",\",\".\"),\"\")","v":""},{"$f":"IF(AND(BB76=\"\",BC76=\"\"),\"Opis\",IF(BB76=\"\",BC76,IF(BC76=\"\",BB76,(BB76&\" | \"&BC76))))","v":"Opis"}]
[null,null,null,null,null,null,"",{"$f":"IF($AC$4=\"x\",IFERROR(INDEX(Kalkulacja!I:I,MATCH(U77,Kalkulacja!AM:AM,0))&\" - kodowanie www\",\"\"),\"\")","v":""},"",null,"",null,"",{"$f":"IF(IF($AC$4=\"x\",IFERROR(INDEX(Kalkulacja!AF:AF,MATCH(U77,Kalkulacja!AM:AM,0)),\"\"),\"\")=\"\",\"\",IF($AC$4=\"x\",IFERROR(INDEX(Kalkulacja!AF:AF,MATCH(U77,Kalkulacja!AM:AM,0)),\"\"),\"\"))","v":""},null,null,null,null,"",0,55,{"$f":"IFERROR(INDEX(Kalkulacja!I:I,MATCH(U77,Kalkulacja!AM:AM,0)),\"\")","v":""},0,{"$error":"#N/A"},"",{"$f":"IF($AC$4=\"x\",IFERROR((INDEX(Kalkulacja!AE:AE,MATCH($U77,Kalkulacja!AM:AM,0)))*$D$21,\"\"),\"\")","v":""},{"$f":"ROUND((Z77-TRUNC(Z77))*60,0)","v":{"$error":"#VALUE!"}},{"$f":"IF(AA77<10,\"0\"&AA77,AA77)","v":{"$error":"#VALUE!"}},null,"","",{"$f":"IF(AD77=\"\",\"\",IF(Z77=\"\",\"\",TRUNC(Z77)&\".\"&ROUND((Z77-TRUNC(Z77))*100,0)))","v":""},"","","","","","","",{"$f":"IF(AD77=\"\",\"\",AD77&\", \"&AE77&\", \"&AF77&\", \"&AG77&\", \"&AH77&\", \"&AI77&\", \"&AJ77&\", \"&AK77&\", \"&AL77&\", \"&AM77)","v":""},null,{"$f":"IF(AD77=\"\",\"\",MAX($AP$10:AP76)+1)","v":""},null,null,{"$f":"IF(AS76<$AF$4,AS76+1,\"\")","v":""},"",null,null,null,null,null,null,null,"","","Opis"]
[null,null,null,null,null,null,"",{"$f":"IF($AC$4=\"x\",IFERROR(INDEX(Kalkulacja!I:I,MATCH(U78,Kalkulacja!AM:AM,0))&\" - kodowanie www\",\"\"),\"\")","v":""},"",null,"",null,"",{"$f":"IF(IF($AC$4=\"x\",IFERROR(INDEX(Kalkulacja!AF:AF,MATCH(U78,Kalkulacja!AM:AM,0)),\"\"),\"\")=\"\",\"\",IF($AC$4=\"x\",IFERROR(INDEX(Kalkulacja!AF:AF,MATCH(U78,Kalkulacja!AM:AM,0)),\"\"),\"\"))","v":""},null,null,null,null,"",0,56,{"$f":"IFERROR(INDEX(Kalkulacja!I:I,MATCH(U78,Kalkulacja!AM:AM,0)),\"\")","v":""},0,{"$error":"#N/A"},"",{"$f":"IF($AC$4=\"x\",IFERROR((INDEX(Kalkulacja!AE:AE,MATCH($U78,Kalkulacja!AM:AM,0)))*$D$21,\"\"),\"\")","v":""},{"$error":"#VALUE!"},{"$error":"#VALUE!"},null,"","","","","","","","","","","",null,{"$f":"IF(AD78=\"\",\"\",MAX($AP$10:AP77)+1)","v":""},null,null,"","",null,null,null,null,null,null,null,"","","Opis"]
[null,null,null,null,null,null,"",{"$f":"IF($AC$4=\"x\",IFERROR(INDEX(Kalkulacja!I:I,MATCH(U79,Kalkulacja!AM:AM,0))&\" - kodowanie www\",\"\"),\"\")","v":""},"",null,"",null,"",{"$f":"IF(IF($AC$4=\"x\",IFERROR(INDEX(Kalkulacja!AF:AF,MATCH(U79,Kalkulacja!AM:AM,0)),\"\"),\"\")=\"\",\"\",IF($AC$4=\"x\",IFERROR(INDEX(Kalkulacja!AF:AF,MATCH(U79,Kalkulacja!AM:AM,0)),\"\"),\"\"))","v":""},null,null,null,null,"",0,57,{"$f":"IFERROR(INDEX(Kalkulacja!I:I,MATCH(U79,Kalkulacja!AM:AM,0)),\"\")","v":""},0,{"$error":"#N/A"},"",{"$f":"IF($AC$4=\"x\",IFERROR((INDEX(Kalkulacja!AE:AE,MATCH($U79,Kalkulacja!AM:AM,0)))*$D$21,\"\"),\"\")","v":""},{"$error":"#VALUE!"},{"$error":"#VALUE!"},null,"","","","","","","","","","","",null,{"$f":"IF(AD79=\"\",\"\",MAX($AP$10:AP78)+1)","v":""},null,null,"","",null,null,null,null,null,null,null,"","","Opis"]
[null,null,null,null,null,null,"",{"$f":"IF($AC$4=\"x\",IFERROR(INDEX(Kalkulacja!I:I,MATCH(U80,Kalkulacja!AM:AM,0))&\" - kodowanie www\",\"\"),\"\")","v":""},"",null,"",null,"",{"$f":"IF(IF($AC$4=\"x\",IFERROR(INDEX(Kalkulacja!AF:AF,MATCH(U80,Kalkulacja!AM:AM,0)),\"\"),\"\")=\"\",\"\",IF($AC$4=\"x\",IFERROR(INDEX(Kalkulacja!AF:AF,MATCH(U80,Kalkulacja!AM:AM,0)),\"\"),\"\"))","v":""},null,null,null,null,"",0,58,{"$f":"IFERROR(INDEX(Kalkulacja!I:I,MATCH(U80,Kalkulacja!AM:AM,0)),\"\")","v":""},0,{"$error":"#N/A"},"",{"$f":"IF($AC$4=\"x\",IFERROR((INDEX(Kalkulacja!AE:AE,MATCH($U80,Kalkulacja!AM:AM,0)))*$D$21,\"\"),\"\")","v":""},{"$error":"#VALUE!"},{"$error":"#VALUE!"},null,"","","","","","","","","","","",null,{"$f":"IF(AD80=\"\",\"\",MAX($AP$10:AP79)+1)","v":""},null,null,"","",null,null,null,null,null,null,null,"","","Opis"]
[null,null,null,null,null,null,"",{"$f":"IF($AC$4=\"x\",IFERROR(INDEX(Kalkulacja!I:I,MATCH(U81,Kalkulacja!AM:AM,0))&\" - kodowanie www\",\"\"),\"\")","v":""},"",null,"",null,"",{"$f":"IF(IF($AC$4=\"x\",IFERROR(INDEX(Kalkulacja!AF:AF,MATCH(U81,Kalkulacja!AM:AM,0)),\"\"),\"\")=\"\",\"\",IF($AC$4=\"x\",IFERROR(INDEX(Kalkulacja!AF:AF,MATCH(U81,Kalkulacja!AM:AM,0)),\"\"),\"\"))","v":""},null,null,null,null,"",0,59,{"$f":"IFERROR(INDEX(Kalkulacja!I:I,MATCH(U81,Kalkulacja!AM:AM,0)),\"\")","v":""},0,{"$error":"#N/A"},"",{"$f":"IF($AC$4=\"x\",IFERROR((INDEX(Kalkulacja!AE:AE,MATCH($U81,Kalkulacja!AM:AM,0)))*$D$21,\"\"),\"\")","v":""},{"$error":"#VALUE!"},{"$error":"#VALUE!"},null,"","","","","","","","","","","",null,{"$f":"IF(AD81=\"\",\"\",MAX($AP$10:AP80)+1)","v":""},null,null,"","",null,null,null,null,null,null,null,"","","Opis"]
[null,null,null,null,null,null,"",{"$f":"IF($AC$4=\"x\",IFERROR(INDEX(Kalkulacja!I:I,MATCH(U82,Kalkulacja!AM:AM,0))&\" - kodowanie www\",\"\"),\"\")","v":""},"",null,"",null,"",{"$f":"IF(IF($AC$4=\"x\",IFERROR(INDEX(Kalkulacja!AF:AF,MATCH(U82,Kalkulacja!AM:AM,0)),\"\"),\"\")=\"\",\"\",IF($AC$4=\"x\",IFERROR(INDEX(Kalkulacja!AF:AF,MATCH(U82,Kalkulacja!AM:AM,0)),\"\"),\"\"))","v":""},null,null,null,null,"",0,60,{"$f":"IFERROR(INDEX(Kalkulacja!I:I,MATCH(U82,Kalkulacja!AM:AM,0)),\"\")","v":""},0,{"$error":"#N/A"},"",{"$f":"IF($AC$4=\"x\",IFERROR((INDEX(Kalkulacja!AE:AE,MATCH($U82,Kalkulacja!AM:AM,0)))*$D$21,\"\"),\"\")","v":""},{"$error":"#VALUE!"},{"$error":"#VALUE!"},null,"","","","","","","","","","","",null,{"$f":"IF(AD82=\"\",\"\",MAX($AP$10:AP81)+1)","v":""},null,null,"","",null,null,null,null,null,null,null,"","","Opis"]
[null,null,null,null,null,null,"",{"$f":"IF($AC$4=\"x\",IFERROR(INDEX(Kalkulacja!I:I,MATCH(U83,Kalkulacja!AM:AM,0))&\" - kodowanie www\",\"\"),\"\")","v":""},"",null,"",null,"",{"$f":"IF(IF($AC$4=\"x\",IFERROR(INDEX(Kalkulacja!AF:AF,MATCH(U83,Kalkulacja!AM:AM,0)),\"\"),\"\")=\"\",\"\",IF($AC$4=\"x\",IFERROR(INDEX(Kalkulacja!AF:AF,MATCH(U83,Kalkulacja!AM:AM,0)),\"\"),\"\"))","v":""},null,null,null,null,"",0,61,{"$f":"IFERROR(INDEX(Kalkulacja!I:I,MATCH(U83,Kalkulacja!AM:AM,0)),\"\")","v":""},0,{"$error":"#N/A"},"",{"$f":"IF($AC$4=\"x\",IFERROR((INDEX(Kalkulacja!AE:AE,MATCH($U83,Kalkulacja!AM:AM,0)))*$D$21,\"\"),\"\")","v":""},{"$error":"#VALUE!"},{"$error":"#VALUE!"},null,"","","","","","","","","","","",null,{"$f":"IF(AD83=\"\",\"\",MAX($AP$10:AP82)+1)","v":""},null,null,"","",null,null,null,null,null,null,null,"","","Opis"]
[null,null,null,null,null,null,{"$f":"IF($AC$4=\"x\",\"Web Developer\",\"\")","v":""},{"$f":"IF($AC$4=\"x\",IFERROR(INDEX(Kalkulacja!I:I,MATCH(U84,Kalkulacja!AM:AM,0))&\" - kodowanie www\",\"\"),\"\")","v":""},"",null,"",null,"",{"$f":"IF(IF($AC$4=\"x\",IFERROR(INDEX(Kalkulacja!AF:AF,MATCH(U84,Kalkulacja!AM:AM,0)),\"\"),\"\")=\"\",\"\",IF($AC$4=\"x\",IFERROR(INDEX(Kalkulacja!AF:AF,MATCH(U84,Kalkulacja!AM:AM,0)),\"\"),\"\"))","v":""},null,null,null,null,"",0,62,{"$f":"IFERROR(INDEX(Kalkulacja!I:I,MATCH(U84,Kalkulacja!AM:AM,0)),\"\")","v":""},0,{"$error":"#N/A"},"",{"$f":"IF($AC$4=\"x\",IFERROR((INDEX(Kalkulacja!AE:AE,MATCH($U84,Kalkulacja!AM:AM,0)))*$D$21,\"\"),\"\")","v":""},{"$error":"#VALUE!"},{"$error":"#VALUE!"},null,"","","","","","","","","","","",null,{"$f":"IF(AD84=\"\",\"\",MAX($AP$10:AP83)+1)","v":""},null,null,"","",null,null,null,null,null,null,null,"","","Opis"]
[null,null,null,null,null,null,"",{"$f":"IF($AC$4=\"x\",IFERROR(INDEX(Kalkulacja!I:I,MATCH(U85,Kalkulacja!AM:AM,0))&\" - kodowanie www\",\"\"),\"\")","v":""},"",null,"",null,"",{"$f":"IF(IF($AC$4=\"x\",IFERROR(INDEX(Kalkulacja!AF:AF,MATCH(U85,Kalkulacja!AM:AM,0)),\"\"),\"\")=\"\",\"\",IF($AC$4=\"x\",IFERROR(INDEX(Kalkulacja!AF:AF,MATCH(U85,Kalkulacja!AM:AM,0)),\"\"),\"\"))","v":""},null,null,null,null,"",0,63,{"$f":"IFERROR(INDEX(Kalkulacja!I:I,MATCH(U85,Kalkulacja!AM:AM,0)),\"\")","v":""},0,{"$error":"#N/A"},"",{"$f":"IF($AC$4=\"x\",IFERROR((INDEX(Kalkulacja!AE:AE,MATCH($U85,Kalkulacja!AM:AM,0)))*$D$21,\"\"),\"\")","v":""},{"$error":"#VALUE!"},{"$error":"#VALUE!"},null,"","","","","","","","","","","",null,{"$f":"IF(AD85=\"\",\"\",MAX($AP$10:AP84)+1)","v":""},null,null,"","",null,null,null,null,null,null,null,"","","Opis"]
[null,null,null,null,null,null,"",{"$f":"IF($AC$4=\"x\",IFERROR(INDEX(Kalkulacja!I:I,MATCH(U86,Kalkulacja!AM:AM,0))&\" - kodowanie www\",\"\"),\"\")","v":""},"",null,"",null,"",{"$f":"IF(IF($AC$4=\"x\",IFERROR(INDEX(Kalkulacja!AF:AF,MATCH(U86,Kalkulacja!AM:AM,0)),\"\"),\"\")=\"\",\"\",IF($AC$4=\"x\",IFERROR(INDEX(Kalkulacja!AF:AF,MATCH(U86,Kalkulacja!AM:AM,0)),\"\"),\"\"))","v":""},null,null,null,null,"",0,64,{"$f":"IFERROR(INDEX(Kalkulacja!I:I,MATCH(U86,Kalkulacja!AM:AM,0)),\"\")","v":""},0,{"$error":"#N/A"},"",{"$f":"IF($AC$4=\"x\",IFERROR((INDEX(Kalkulacja!AE:AE,MATCH($U86,Kalkulacja!AM:AM,0)))*$D$21,\"\"),\"\")","v":""},{"$error":"#VALUE!"},{"$error":"#VALUE!"},null,"","","","","","","","","","","",null,{"$f":"IF(AD86=\"\",\"\",MAX($AP$10:AP85)+1)","v":""},null,null,"","",null,null,null,null,null,null,null,"","","Opis"]
[null,null,null,null,null,null,"",{"$f":"IF($AC$4=\"x\",IFERROR(INDEX(Kalkulacja!I:I,MATCH(U87,Kalkulacja!AM:AM,0))&\" - kodowanie www\",\"\"),\"\")","v":""},"",null,"",null,"",{"$f":"IF(IF($AC$4=\"x\",IFERROR(INDEX(Kalkulacja!AF:AF,MATCH(U87,Kalkulacja!AM:AM,0)),\"\"),\"\")=\"\",\"\",IF($AC$4=\"x\",IFERROR(INDEX(Kalkulacja!AF:AF,MATCH(U87,Kalkulacja!AM:AM,0)),\"\"),\"\"))","v":""},null,null,null,null,"",0,65,{"$f":"IFERROR(INDEX(Kalkulacja!I:I,MATCH(U87,Kalkulacja!AM:AM,0)),\"\")","v":""},0,{"$error":"#N/A"},"",{"$f":"IF($AC$4=\"x\",IFERROR((INDEX(Kalkulacja!AE:AE,MATCH($U87,Kalkulacja!AM:AM,0)))*$D$21,\"\"),\"\")","v":""},{"$error":"#VALUE!"},{"$error":"#VALUE!"},null,"","","","","","","","","","","",null,{"$f":"IF(AD87=\"\",\"\",MAX($AP$10:AP86)+1)","v":""},null,null,"","",null,null,null,null,null,null,null,"","","Opis"]
[null,null,null,null,null,null,"",{"$f":"IF($AC$4=\"x\",IFERROR(INDEX(Kalkulacja!I:I,MATCH(U88,Kalkulacja!AM:AM,0))&\" - kodowanie www\",\"\"),\"\")","v":""},{"$f":"IF($AC$4=\"x\",IF(S88=\">\",\"\",\"podrzędne\"),\"\")","v":""},null,{"$f":"IF($AC$4=\"x\",IF(S88=\">\",\"\",IFERROR(VLOOKUP(G88,$H$3:$I$6,2,0),\"\")),\"\")","v":""},null,{"$f":"IF($AC$4=\"x\",IF(S88=\">\",\"\",IF(Z88=\"\",\"\",TRUNC(Z88)&\":\"&AB88)),\"\")","v":""},{"$f":"IF(IF($AC$4=\"x\",IFERROR(INDEX(Kalkulacja!AF:AF,MATCH(U88,Kalkulacja!AM:AM,0)),\"\"),\"\")=\"\",\"\",IF($AC$4=\"x\",IFERROR(INDEX(Kalkulacja!AF:AF,MATCH(U88,Kalkulacja!AM:AM,0)),\"\"),\"\"))","v":""},null,null,null,null,"",0,66,{"$f":"IFERROR(INDEX(Kalkulacja!I:I,MATCH(U88,Kalkulacja!AM:AM,0)),\"\")","v":""},0,{"$error":"#N/A"},"",{"$f":"IF($AC$4=\"x\",IFERROR((INDEX(Kalkulacja!AE:AE,MATCH($U88,Kalkulacja!AM:AM,0)))*$D$21,\"\"),\"\")","v":""},{"$error":"#VALUE!"},{"$error":"#VALUE!"},null,{"$f":"IF(H88=\"\",\"\",IF(S88=\">\",\"\",H88&\" - \"&$L$3))","v":""},"","","","","","","",{"$f":"IF(AD88=\"\",\"\",$J$22)","v":""},"","",null,{"$f":"IF(AD88=\"\",\"\",MAX($AP$10:AP87)+1)","v":""},null,null,"","",null,null,null,null,null,null,null,"","","Opis"]
[null,null,null,null,null,null,"",{"$f":"IF($AC$4=\"x\",IFERROR(INDEX(Kalkulacja!I:I,MATCH(U89,Kalkulacja!AM:AM,0))&\" - kodowanie www\",\"\"),\"\")","v":""},"",null,"",null,"",{"$f":"IF(IF($AC$4=\"x\",IFERROR(INDEX(Kalkulacja!AF:AF,MATCH(U89,Kalkulacja!AM:AM,0)),\"\"),\"\")=\"\",\"\",IF($AC$4=\"x\",IFERROR(INDEX(Kalkulacja!AF:AF,MATCH(U89,Kalkulacja!AM:AM,0)),\"\"),\"\"))","v":""},null,null,null,null,"",0,67,{"$f":"IFERROR(INDEX(Kalkulacja!I:I,MATCH(U89,Kalkulacja!AM:AM,0)),\"\")","v":""},0,{"$error":"#N/A"},"",{"$f":"IF($AC$4=\"x\",IFERROR((INDEX(Kalkulacja!AE:AE,MATCH($U89,Kalkulacja!AM:AM,0)))*$D$21,\"\"),\"\")","v":""},{"$error":"#VALUE!"},{"$error":"#VALUE!"},null,"","","","","","","","","","","",null,{"$f":"IF(AD89=\"\",\"\",MAX($AP$10:AP88)+1)","v":""},null,null,"","",null,null,null,null,null,null,null,"","","Opis"]
[null,null,null,null,null,null,"",{"$f":"IF($AC$4=\"x\",IFERROR(INDEX(Kalkulacja!I:I,MATCH(U90,Kalkulacja!AM:AM,0))&\" - kodowanie www\",\"\"),\"\")","v":""},"",null,"",null,"",{"$f":"IF(IF($AC$4=\"x\",IFERROR(INDEX(Kalkulacja!AF:AF,MATCH(U90,Kalkulacja!AM:AM,0)),\"\"),\"\")=\"\",\"\",IF($AC$4=\"x\",IFERROR(INDEX(Kalkulacja!AF:AF,MATCH(U90,Kalkulacja!AM:AM,0)),\"\"),\"\"))","v":""},null,null,null,null,"",0,68,{"$f":"IFERROR(INDEX(Kalkulacja!I:I,MATCH(U90,Kalkulacja!AM:AM,0)),\"\")","v":""},0,{"$error":"#N/A"},"",{"$f":"IF($AC$4=\"x\",IFERROR((INDEX(Kalkulacja!AE:AE,MATCH($U90,Kalkulacja!AM:AM,0)))*$D$21,\"\"),\"\")","v":""},{"$error":"#VALUE!"},{"$error":"#VALUE!"},null,"","","","","","","","","","","",null,{"$f":"IF(AD90=\"\",\"\",MAX($AP$10:AP89)+1)","v":""},null,null,"","",null,null,null,null,null,null,null,"","","Opis"]
[null,null,null,null,null,null,"",{"$f":"IF($AC$4=\"x\",IFERROR(INDEX(Kalkulacja!I:I,MATCH(U91,Kalkulacja!AM:AM,0))&\" - kodowanie www\",\"\"),\"\")","v":""},"",null,"",null,"",{"$f":"IF(IF($AC$4=\"x\",IFERROR(INDEX(Kalkulacja!AF:AF,MATCH(U91,Kalkulacja!AM:AM,0)),\"\"),\"\")=\"\",\"\",IF($AC$4=\"x\",IFERROR(INDEX(Kalkulacja!AF:AF,MATCH(U91,Kalkulacja!AM:AM,0)),\"\"),\"\"))","v":""},null,null,null,null,"",0,69,{"$f":"IFERROR(INDEX(Kalkulacja!I:I,MATCH(U91,Kalkulacja!AM:AM,0)),\"\")","v":""},0,{"$error":"#N/A"},"",{"$f":"IF($AC$4=\"x\",IFERROR((INDEX(Kalkulacja!AE:AE,MATCH($U91,Kalkulacja!AM:AM,0)))*$D$21,\"\"),\"\")","v":""},{"$error":"#VALUE!"},{"$error":"#VALUE!"},null,"","","","","","","","","","","",null,{"$f":"IF(AD91=\"\",\"\",MAX($AP$10:AP90)+1)","v":""},null,null,"","",null,null,null,null,null,null,null,"","","Opis"]
[null,null,null,null,null,null,"",{"$f":"IF($AC$4=\"x\",IFERROR(INDEX(Kalkulacja!I:I,MATCH(U92,Kalkulacja!AM:AM,0))&\" - kodowanie www\",\"\"),\"\")","v":""},"",null,"",null,"",{"$f":"IF(IF($AC$4=\"x\",IFERROR(INDEX(Kalkulacja!AF:AF,MATCH(U92,Kalkulacja!AM:AM,0)),\"\"),\"\")=\"\",\"\",IF($AC$4=\"x\",IFERROR(INDEX(Kalkulacja!AF:AF,MATCH(U92,Kalkulacja!AM:AM,0)),\"\"),\"\"))","v":""},null,null,null,null,"",0,70,{"$f":"IFERROR(INDEX(Kalkulacja!I:I,MATCH(U92,Kalkulacja!AM:AM,0)),\"\")","v":""},0,{"$error":"#N/A"},"",{"$f":"IF($AC$4=\"x\",IFERROR((INDEX(Kalkulacja!AE:AE,MATCH($U92,Kalkulacja!AM:AM,0)))*$D$21,\"\"),\"\")","v":""},{"$error":"#VALUE!"},{"$error":"#VALUE!"},null,"","","","","","","","","","","",null,{"$f":"IF(AD92=\"\",\"\",MAX($AP$10:AP91)+1)","v":""},null,null,"","",null,null,null,null,null,null,null,"","","Opis"]
[null,null,null,null,null,null,"",{"$f":"IF($AC$4=\"x\",IFERROR(INDEX(Kalkulacja!I:I,MATCH(U93,Kalkulacja!AM:AM,0))&\" - kodowanie www\",\"\"),\"\")","v":""},"",null,"",null,"",{"$f":"IF(IF($AC$4=\"x\",IFERROR(INDEX(Kalkulacja!AF:AF,MATCH(U93,Kalkulacja!AM:AM,0)),\"\"),\"\")=\"\",\"\",IF($AC$4=\"x\",IFERROR(INDEX(Kalkulacja!AF:AF,MATCH(U93,Kalkulacja!AM:AM,0)),\"\"),\"\"))","v":""},null,null,null,null,"",0,71,{"$f":"IFERROR(INDEX(Kalkulacja!I:I,MATCH(U93,Kalkulacja!AM:AM,0)),\"\")","v":""},0,{"$error":"#N/A"},"",{"$f":"IF($AC$4=\"x\",IFERROR((INDEX(Kalkulacja!AE:AE,MATCH($U93,Kalkulacja!AM:AM,0)))*$D$21,\"\"),\"\")","v":""},{"$error":"#VALUE!"},{"$error":"#VALUE!"},null,"","","","","","","","","","","",null,{"$f":"IF(AD93=\"\",\"\",MAX($AP$10:AP92)+1)","v":""},null,null,"","",null,null,null,null,null,null,null,"","","Opis"]
[null,null,null,null,null,null,"",{"$f":"IF($AC$4=\"x\",IFERROR(INDEX(Kalkulacja!I:I,MATCH(U94,Kalkulacja!AM:AM,0))&\" - kodowanie www\",\"\"),\"\")","v":""},"",null,"",null,"",{"$f":"IF(IF($AC$4=\"x\",IFERROR(INDEX(Kalkulacja!AF:AF,MATCH(U94,Kalkulacja!AM:AM,0)),\"\"),\"\")=\"\",\"\",IF($AC$4=\"x\",IFERROR(INDEX(Kalkulacja!AF:AF,MATCH(U94,Kalkulacja!AM:AM,0)),\"\"),\"\"))","v":""},null,null,null,null,"",0,72,{"$f":"IFERROR(INDEX(Kalkulacja!I:I,MATCH(U94,Kalkulacja!AM:AM,0)),\"\")","v":""},0,{"$error":"#N/A"},"",{"$f":"IF($AC$4=\"x\",IFERROR((INDEX(Kalkulacja!AE:AE,MATCH($U94,Kalkulacja!AM:AM,0)))*$D$21,\"\"),\"\")","v":""},{"$error":"#VALUE!"},{"$error":"#VALUE!"},null,"","","","","","","","","","","",null,{"$f":"IF(AD94=\"\",\"\",MAX($AP$10:AP93)+1)","v":""},null,null,"","",null,null,null,null,null,null,null,"","","Opis"]
[null,null,null,null,null,null,"",{"$f":"IF($AC$4=\"x\",IFERROR(INDEX(Kalkulacja!I:I,MATCH(U95,Kalkulacja!AM:AM,0))&\" - kodowanie www\",\"\"),\"\")","v":""},"",null,"",null,"",{"$f":"IF(IF($AC$4=\"x\",IFERROR(INDEX(Kalkulacja!AF:AF,MATCH(U95,Kalkulacja!AM:AM,0)),\"\"),\"\")=\"\",\"\",IF($AC$4=\"x\",IFERROR(INDEX(Kalkulacja!AF:AF,MATCH(U95,Kalkulacja!AM:AM,0)),\"\"),\"\"))","v":""},null,null,null,null,"",0,73,{"$f":"IFERROR(INDEX(Kalkulacja!I:I,MATCH(U95,Kalkulacja!AM:AM,0)),\"\")","v":""},0,{"$error":"#N/A"},"",{"$f":"IF($AC$4=\"x\",IFERROR((INDEX(Kalkulacja!AE:AE,MATCH($U95,Kalkulacja!AM:AM,0)))*$D$21,\"\"),\"\")","v":""},{"$error":"#VALUE!"},{"$error":"#VALUE!"},null,"","","","","","","","","","","",null,{"$f":"IF(AD95=\"\",\"\",MAX($AP$10:AP94)+1)","v":""},null,null,"","",null,null,null,null,null,null,null,"","","Opis"]
[null,null,null,null,null,null,"",{"$f":"IF($AC$4=\"x\",IFERROR(INDEX(Kalkulacja!I:I,MATCH(U96,Kalkulacja!AM:AM,0))&\" - kodowanie www\",\"\"),\"\")","v":""},"",null,"",null,"",{"$f":"IF(IF($AC$4=\"x\",IFERROR(INDEX(Kalkulacja!AF:AF,MATCH(U96,Kalkulacja!AM:AM,0)),\"\"),\"\")=\"\",\"\",IF($AC$4=\"x\",IFERROR(INDEX(Kalkulacja!AF:AF,MATCH(U96,Kalkulacja!AM:AM,0)),\"\"),\"\"))","v":""},null,null,null,null,"",0,74,{"$f":"IFERROR(INDEX(Kalkulacja!I:I,MATCH(U96,Kalkulacja!AM:AM,0)),\"\")","v":""},0,{"$error":"#N/A"},"",{"$f":"IF($AC$4=\"x\",IFERROR((INDEX(Kalkulacja!AE:AE,MATCH($U96,Kalkulacja!AM:AM,0)))*$D$21,\"\"),\"\")","v":""},{"$error":"#VALUE!"},{"$error":"#VALUE!"},null,"","","","",{"$f":"IF(AD96=\"\",\"\",\"WAITING\")","v":""},{"$f":"IF(AD96=\"\",\"\",21)","v":""},"","","","","",null,{"$f":"IF(AD96=\"\",\"\",MAX($AP$10:AP95)+1)","v":""},null,null,"","",null,null,null,null,null,null,null,"","","Opis"]
[null,null,null,null,null,null,"",{"$f":"IF($AC$4=\"x\",IFERROR(INDEX(Kalkulacja!I:I,MATCH(U97,Kalkulacja!AM:AM,0))&\" - kodowanie www\",\"\"),\"\")","v":""},"",null,"",null,"",{"$f":"IF(IF($AC$4=\"x\",IFERROR(INDEX(Kalkulacja!AF:AF,MATCH(U97,Kalkulacja!AM:AM,0)),\"\"),\"\")=\"\",\"\",IF($AC$4=\"x\",IFERROR(INDEX(Kalkulacja!AF:AF,MATCH(U97,Kalkulacja!AM:AM,0)),\"\"),\"\"))","v":""},null,null,null,null,"",0,75,{"$f":"IFERROR(INDEX(Kalkulacja!I:I,MATCH(U97,Kalkulacja!AM:AM,0)),\"\")","v":""},0,{"$error":"#N/A"},"",{"$f":"IF($AC$4=\"x\",IFERROR((INDEX(Kalkulacja!AE:AE,MATCH($U97,Kalkulacja!AM:AM,0)))*$D$21,\"\"),\"\")","v":""},{"$error":"#VALUE!"},{"$error":"#VALUE!"},null,"","","","","","","","","","","",null,{"$f":"IF(AD97=\"\",\"\",MAX($AP$10:AP96)+1)","v":""},null,null,"","",null,null,null,null,null,null,null,"","","Opis"]
[null,null,null,null,null,null,"",{"$f":"IF($AC$4=\"x\",IFERROR(INDEX(Kalkulacja!I:I,MATCH(U98,Kalkulacja!AM:AM,0))&\" - kodowanie www\",\"\"),\"\")","v":""},"",null,"",null,"",{"$f":"IF(IF($AC$4=\"x\",IFERROR(INDEX(Kalkulacja!AF:AF,MATCH(U98,Kalkulacja!AM:AM,0)),\"\"),\"\")=\"\",\"\",IF($AC$4=\"x\",IFERROR(INDEX(Kalkulacja!AF:AF,MATCH(U98,Kalkulacja!AM:AM,0)),\"\"),\"\"))","v":""},null,null,null,null,"",0,76,{"$f":"IFERROR(INDEX(Kalkulacja!I:I,MATCH(U98,Kalkulacja!AM:AM,0)),\"\")","v":""},0,{"$error":"#N/A"},"",{"$f":"IF($AC$4=\"x\",IFERROR((INDEX(Kalkulacja!AE:AE,MATCH($U98,Kalkulacja!AM:AM,0)))*$D$21,\"\"),\"\")","v":""},{"$error":"#VALUE!"},{"$error":"#VALUE!"},null,"","","","","","","","","","","",null,{"$f":"IF(AD98=\"\",\"\",MAX($AP$10:AP97)+1)","v":""},null,null,"","",null,null,null,null,null,null,null,"","","Opis"]
[null,null,null,null,null,null,"",{"$f":"IF($AC$4=\"x\",IFERROR(INDEX(Kalkulacja!I:I,MATCH(U99,Kalkulacja!AM:AM,0))&\" - kodowanie www\",\"\"),\"\")","v":""},"",null,"",null,"",{"$f":"IF(IF($AC$4=\"x\",IFERROR(INDEX(Kalkulacja!AF:AF,MATCH(U99,Kalkulacja!AM:AM,0)),\"\"),\"\")=\"\",\"\",IF($AC$4=\"x\",IFERROR(INDEX(Kalkulacja!AF:AF,MATCH(U99,Kalkulacja!AM:AM,0)),\"\"),\"\"))","v":""},null,null,null,null,"",0,77,{"$f":"IFERROR(INDEX(Kalkulacja!I:I,MATCH(U99,Kalkulacja!AM:AM,0)),\"\")","v":""},0,{"$error":"#N/A"},"",{"$f":"IF($AC$4=\"x\",IFERROR((INDEX(Kalkulacja!AE:AE,MATCH($U99,Kalkulacja!AM:AM,0)))*$D$21,\"\"),\"\")","v":""},{"$error":"#VALUE!"},{"$error":"#VALUE!"},null,"","","","","","","","","","","",null,{"$f":"IF(AD99=\"\",\"\",MAX($AP$10:AP98)+1)","v":""},null,null,"","",null,null,null,null,null,null,null,"","","Opis"]
[null,null,null,null,null,null,"",{"$f":"IF($AC$4=\"x\",IFERROR(INDEX(Kalkulacja!I:I,MATCH(U100,Kalkulacja!AM:AM,0))&\" - kodowanie www\",\"\"),\"\")","v":""},"",null,"",null,"",{"$f":"IF(IF($AC$4=\"x\",IFERROR(INDEX(Kalkulacja!AF:AF,MATCH(U100,Kalkulacja!AM:AM,0)),\"\"),\"\")=\"\",\"\",IF($AC$4=\"x\",IFERROR(INDEX(Kalkulacja!AF:AF,MATCH(U100,Kalkulacja!AM:AM,0)),\"\"),\"\"))","v":""},null,null,null,null,"",0,78,{"$f":"IFERROR(INDEX(Kalkulacja!I:I,MATCH(U100,Kalkulacja!AM:AM,0)),\"\")","v":""},0,{"$error":"#N/A"},"",{"$f":"IF($AC$4=\"x\",IFERROR((INDEX(Kalkulacja!AE:AE,MATCH($U100,Kalkulacja!AM:AM,0)))*$D$21,\"\"),\"\")","v":""},{"$error":"#VALUE!"},{"$error":"#VALUE!"},null,"","","","","","","","","","","",null,{"$f":"IF(AD100=\"\",\"\",MAX($AP$10:AP99)+1)","v":""},null,null,"","",null,null,null,null,null,null,null,"","","Opis"]
[null,null,null,null,null,null,"",{"$f":"IF($AC$4=\"x\",IFERROR(INDEX(Kalkulacja!I:I,MATCH(U101,Kalkulacja!AM:AM,0))&\" - kodowanie www\",\"\"),\"\")","v":""},"",null,"",null,"",{"$f":"IF(IF($AC$4=\"x\",IFERROR(INDEX(Kalkulacja!AF:AF,MATCH(U101,Kalkulacja!AM:AM,0)),\"\"),\"\")=\"\",\"\",IF($AC$4=\"x\",IFERROR(INDEX(Kalkulacja!AF:AF,MATCH(U101,Kalkulacja!AM:AM,0)),\"\"),\"\"))","v":""},null,null,null,null,"",0,79,{"$f":"IFERROR(INDEX(Kalkulacja!I:I,MATCH(U101,Kalkulacja!AM:AM,0)),\"\")","v":""},0,{"$error":"#N/A"},"",{"$f":"IF($AC$4=\"x\",IFERROR((INDEX(Kalkulacja!AE:AE,MATCH($U101,Kalkulacja!AM:AM,0)))*$D$21,\"\"),\"\")","v":""},{"$error":"#VALUE!"},{"$error":"#VALUE!"},null,"","","","","","","","","","","",null,{"$f":"IF(AD101=\"\",\"\",MAX($AP$10:AP100)+1)","v":""},null,null,"","",null,null,null,null,null,null,null,"","","Opis"]
[null,null,null,null,null,null,"",{"$f":"IF($AC$4=\"x\",IFERROR(INDEX(Kalkulacja!I:I,MATCH(U102,Kalkulacja!AM:AM,0))&\" - kodowanie www\",\"\"),\"\")","v":""},"",null,"",null,"",{"$f":"IF(IF($AC$4=\"x\",IFERROR(INDEX(Kalkulacja!AF:AF,MATCH(U102,Kalkulacja!AM:AM,0)),\"\"),\"\")=\"\",\"\",IF($AC$4=\"x\",IFERROR(INDEX(Kalkulacja!AF:AF,MATCH(U102,Kalkulacja!AM:AM,0)),\"\"),\"\"))","v":""},null,null,null,null,"",0,80,{"$f":"IFERROR(INDEX(Kalkulacja!I:I,MATCH(U102,Kalkulacja!AM:AM,0)),\"\")","v":""},0,{"$error":"#N/A"},"",{"$f":"IF($AC$4=\"x\",IFERROR((INDEX(Kalkulacja!AE:AE,MATCH($U102,Kalkulacja!AM:AM,0)))*$D$21,\"\"),\"\")","v":""},{"$error":"#VALUE!"},{"$error":"#VALUE!"},null,"","","","","","","","","","","",null,{"$f":"IF(AD102=\"\",\"\",MAX($AP$10:AP101)+1)","v":""},null,null,"","",null,null,null,null,null,null,null,"","","Opis"]
[null,null,null,null,null,null,"",{"$f":"IF($AC$4=\"x\",IFERROR(INDEX(Kalkulacja!I:I,MATCH(U103,Kalkulacja!AM:AM,0))&\" - kodowanie www\",\"\"),\"\")","v":""},"",null,"",null,"",{"$f":"IF(IF($AC$4=\"x\",IFERROR(INDEX(Kalkulacja!AF:AF,MATCH(U103,Kalkulacja!AM:AM,0)),\"\"),\"\")=\"\",\"\",IF($AC$4=\"x\",IFERROR(INDEX(Kalkulacja!AF:AF,MATCH(U103,Kalkulacja!AM:AM,0)),\"\"),\"\"))","v":""},null,null,null,null,"",0,81,{"$f":"IFERROR(INDEX(Kalkulacja!I:I,MATCH(U103,Kalkulacja!AM:AM,0)),\"\")","v":""},0,{"$error":"#N/A"},"",{"$f":"IF($AC$4=\"x\",IFERROR((INDEX(Kalkulacja!AE:AE,MATCH($U103,Kalkulacja!AM:AM,0)))*$D$21,\"\"),\"\")","v":""},{"$error":"#VALUE!"},{"$error":"#VALUE!"},null,"","","","","","","","","","","",null,{"$f":"IF(AD103=\"\",\"\",MAX($AP$10:AP102)+1)","v":""},null,null,"","",null,null,null,null,null,null,null,"","","Opis"]
[null,null,null,null,null,null,"",{"$f":"IF($AC$4=\"x\",IFERROR(INDEX(Kalkulacja!I:I,MATCH(U104,Kalkulacja!AM:AM,0))&\" - kodowanie www\",\"\"),\"\")","v":""},"",null,"",null,"",{"$f":"IF(IF($AC$4=\"x\",IFERROR(INDEX(Kalkulacja!AF:AF,MATCH(U104,Kalkulacja!AM:AM,0)),\"\"),\"\")=\"\",\"\",IF($AC$4=\"x\",IFERROR(INDEX(Kalkulacja!AF:AF,MATCH(U104,Kalkulacja!AM:AM,0)),\"\"),\"\"))","v":""},null,null,null,null,"",0,82,{"$f":"IFERROR(INDEX(Kalkulacja!I:I,MATCH(U104,Kalkulacja!AM:AM,0)),\"\")","v":""},0,{"$error":"#N/A"},"",{"$f":"IF($AC$4=\"x\",IFERROR((INDEX(Kalkulacja!AE:AE,MATCH($U104,Kalkulacja!AM:AM,0)))*$D$21,\"\"),\"\")","v":""},{"$error":"#VALUE!"},{"$error":"#VALUE!"},null,"","","","","","","","","","","",null,{"$f":"IF(AD104=\"\",\"\",MAX($AP$10:AP103)+1)","v":""},null,null,"","",null,null,null,null,null,null,null,"","","Opis"]
[null,null,null,null,null,null,"",{"$f":"IF($AC$4=\"x\",IFERROR(INDEX(Kalkulacja!I:I,MATCH(U105,Kalkulacja!AM:AM,0))&\" - kodowanie www\",\"\"),\"\")","v":""},"",null,"",null,"",{"$f":"IF(IF($AC$4=\"x\",IFERROR(INDEX(Kalkulacja!AF:AF,MATCH(U105,Kalkulacja!AM:AM,0)),\"\"),\"\")=\"\",\"\",IF($AC$4=\"x\",IFERROR(INDEX(Kalkulacja!AF:AF,MATCH(U105,Kalkulacja!AM:AM,0)),\"\"),\"\"))","v":""},null,null,null,null,"",0,83,{"$f":"IFERROR(INDEX(Kalkulacja!I:I,MATCH(U105,Kalkulacja!AM:AM,0)),\"\")","v":""},0,{"$error":"#N/A"},"",{"$f":"IF($AC$4=\"x\",IFERROR((INDEX(Kalkulacja!AE:AE,MATCH($U105,Kalkulacja!AM:AM,0)))*$D$21,\"\"),\"\")","v":""},{"$error":"#VALUE!"},{"$error":"#VALUE!"},null,"","","","","","","","","","","",null,{"$f":"IF(AD105=\"\",\"\",MAX($AP$10:AP104)+1)","v":""},null,null,"","",null,null,null,null,null,null,null,"","","Opis"]
[null,null,null,null,null,null,"",{"$f":"IF($AC$4=\"x\",IFERROR(INDEX(Kalkulacja!I:I,MATCH(U106,Kalkulacja!AM:AM,0))&\" - kodowanie www\",\"\"),\"\")","v":""},"",null,"",null,"",{"$f":"IF(IF($AC$4=\"x\",IFERROR(INDEX(Kalkulacja!AF:AF,MATCH(U106,Kalkulacja!AM:AM,0)),\"\"),\"\")=\"\",\"\",IF($AC$4=\"x\",IFERROR(INDEX(Kalkulacja!AF:AF,MATCH(U106,Kalkulacja!AM:AM,0)),\"\"),\"\"))","v":""},null,null,null,null,"",0,84,{"$f":"IFERROR(INDEX(Kalkulacja!I:I,MATCH(U106,Kalkulacja!AM:AM,0)),\"\")","v":""},0,{"$error":"#N/A"},"",{"$f":"IF($AC$4=\"x\",IFERROR((INDEX(Kalkulacja!AE:AE,MATCH($U106,Kalkulacja!AM:AM,0)))*$D$21,\"\"),\"\")","v":""},{"$error":"#VALUE!"},{"$error":"#VALUE!"},null,"","","","","","","","","","","",null,{"$f":"IF(AD106=\"\",\"\",MAX($AP$10:AP105)+1)","v":""},null,null,"","",null,null,null,null,null,null,null,"","","Opis"]
[null,null,null,null,null,null,"",{"$f":"IF($AC$4=\"x\",IFERROR(INDEX(Kalkulacja!I:I,MATCH(U107,Kalkulacja!AM:AM,0))&\" - kodowanie www\",\"\"),\"\")","v":""},"",null,"",null,"",{"$f":"IF(IF($AC$4=\"x\",IFERROR(INDEX(Kalkulacja!AF:AF,MATCH(U107,Kalkulacja!AM:AM,0)),\"\"),\"\")=\"\",\"\",IF($AC$4=\"x\",IFERROR(INDEX(Kalkulacja!AF:AF,MATCH(U107,Kalkulacja!AM:AM,0)),\"\"),\"\"))","v":""},null,null,null,null,"",0,85,{"$f":"IFERROR(INDEX(Kalkulacja!I:I,MATCH(U107,Kalkulacja!AM:AM,0)),\"\")","v":""},0,{"$error":"#N/A"},"",{"$f":"IF($AC$4=\"x\",IFERROR((INDEX(Kalkulacja!AE:AE,MATCH($U107,Kalkulacja!AM:AM,0)))*$D$21,\"\"),\"\")","v":""},{"$error":"#VALUE!"},{"$error":"#VALUE!"},null,"","","","","","","","","","","",null,{"$f":"IF(AD107=\"\",\"\",MAX($AP$10:AP106)+1)","v":""},null,null,"","",null,null,null,null,null,null,null,"","","Opis"]
[null,null,null,null,null,null,"",{"$f":"IF($AC$4=\"x\",IFERROR(INDEX(Kalkulacja!I:I,MATCH(U108,Kalkulacja!AM:AM,0))&\" - kodowanie www\",\"\"),\"\")","v":""},"",null,"",null,"",{"$f":"IF(IF($AC$4=\"x\",IFERROR(INDEX(Kalkulacja!AF:AF,MATCH(U108,Kalkulacja!AM:AM,0)),\"\"),\"\")=\"\",\"\",IF($AC$4=\"x\",IFERROR(INDEX(Kalkulacja!AF:AF,MATCH(U108,Kalkulacja!AM:AM,0)),\"\"),\"\"))","v":""},null,null,null,null,"",0,86,{"$f":"IFERROR(INDEX(Kalkulacja!I:I,MATCH(U108,Kalkulacja!AM:AM,0)),\"\")","v":""},0,{"$error":"#N/A"},"",{"$f":"IF($AC$4=\"x\",IFERROR((INDEX(Kalkulacja!AE:AE,MATCH($U108,Kalkulacja!AM:AM,0)))*$D$21,\"\"),\"\")","v":""},{"$error":"#VALUE!"},{"$error":"#VALUE!"},null,"","","","","","","","","","","",null,{"$f":"IF(AD108=\"\",\"\",MAX($AP$10:AP107)+1)","v":""},null,null,"","",null,null,null,null,null,null,null,"","","Opis"]
[null,null,null,null,null,null,"",{"$f":"IF($AC$4=\"x\",IFERROR(INDEX(Kalkulacja!I:I,MATCH(U109,Kalkulacja!AM:AM,0))&\" - kodowanie www\",\"\"),\"\")","v":""},"",null,"",null,"",{"$f":"IF(IF($AC$4=\"x\",IFERROR(INDEX(Kalkulacja!AF:AF,MATCH(U109,Kalkulacja!AM:AM,0)),\"\"),\"\")=\"\",\"\",IF($AC$4=\"x\",IFERROR(INDEX(Kalkulacja!AF:AF,MATCH(U109,Kalkulacja!AM:AM,0)),\"\"),\"\"))","v":""},null,null,null,null,"",0,87,{"$f":"IFERROR(INDEX(Kalkulacja!I:I,MATCH(U109,Kalkulacja!AM:AM,0)),\"\")","v":""},0,{"$error":"#N/A"},"",{"$f":"IF($AC$4=\"x\",IFERROR((INDEX(Kalkulacja!AE:AE,MATCH($U109,Kalkulacja!AM:AM,0)))*$D$21,\"\"),\"\")","v":""},{"$error":"#VALUE!"},{"$error":"#VALUE!"},null,"","","","","","","","","","","",null,{"$f":"IF(AD109=\"\",\"\",MAX($AP$10:AP108)+1)","v":""},null,null,"","",null,null,null,null,null,null,null,"","","Opis"]
[null,null,null,null,null,null,"",{"$f":"IF($AC$4=\"x\",IFERROR(INDEX(Kalkulacja!I:I,MATCH(U110,Kalkulacja!AM:AM,0))&\" - kodowanie www\",\"\"),\"\")","v":""},"",null,"",null,"",{"$f":"IF(IF($AC$4=\"x\",IFERROR(INDEX(Kalkulacja!AF:AF,MATCH(U110,Kalkulacja!AM:AM,0)),\"\"),\"\")=\"\",\"\",IF($AC$4=\"x\",IFERROR(INDEX(Kalkulacja!AF:AF,MATCH(U110,Kalkulacja!AM:AM,0)),\"\"),\"\"))","v":""},null,null,null,null,"",0,88,{"$f":"IFERROR(INDEX(Kalkulacja!I:I,MATCH(U110,Kalkulacja!AM:AM,0)),\"\")","v":""},0,{"$error":"#N/A"},"",{"$f":"IF($AC$4=\"x\",IFERROR((INDEX(Kalkulacja!AE:AE,MATCH($U110,Kalkulacja!AM:AM,0)))*$D$21,\"\"),\"\")","v":""},{"$error":"#VALUE!"},{"$error":"#VALUE!"},null,"","","","","","","","","","","",null,{"$f":"IF(AD110=\"\",\"\",MAX($AP$10:AP109)+1)","v":""},null,null,"","",null,null,null,null,null,null,null,"","","Opis"]
[null,null,null,null,null,null,"",{"$f":"IF($AC$4=\"x\",IFERROR(INDEX(Kalkulacja!I:I,MATCH(U111,Kalkulacja!AM:AM,0))&\" - kodowanie www\",\"\"),\"\")","v":""},"",null,"",null,"",{"$f":"IF(IF($AC$4=\"x\",IFERROR(INDEX(Kalkulacja!AF:AF,MATCH(U111,Kalkulacja!AM:AM,0)),\"\"),\"\")=\"\",\"\",IF($AC$4=\"x\",IFERROR(INDEX(Kalkulacja!AF:AF,MATCH(U111,Kalkulacja!AM:AM,0)),\"\"),\"\"))","v":""},null,null,null,null,"",0,89,{"$f":"IFERROR(INDEX(Kalkulacja!I:I,MATCH(U111,Kalkulacja!AM:AM,0)),\"\")","v":""},0,{"$error":"#N/A"},"",{"$f":"IF($AC$4=\"x\",IFERROR((INDEX(Kalkulacja!AE:AE,MATCH($U111,Kalkulacja!AM:AM,0)))*$D$21,\"\"),\"\")","v":""},{"$error":"#VALUE!"},{"$error":"#VALUE!"},null,"","","","","","","","","","","",null,{"$f":"IF(AD111=\"\",\"\",MAX($AP$10:AP110)+1)","v":""},null,null,"","",null,null,null,null,null,null,null,"","","Opis"]
[null,null,null,null,null,null,"",{"$f":"IF($AC$4=\"x\",IFERROR(INDEX(Kalkulacja!I:I,MATCH(U112,Kalkulacja!AM:AM,0))&\" - kodowanie www\",\"\"),\"\")","v":""},"",null,"",null,"",{"$f":"IF(IF($AC$4=\"x\",IFERROR(INDEX(Kalkulacja!AF:AF,MATCH(U112,Kalkulacja!AM:AM,0)),\"\"),\"\")=\"\",\"\",IF($AC$4=\"x\",IFERROR(INDEX(Kalkulacja!AF:AF,MATCH(U112,Kalkulacja!AM:AM,0)),\"\"),\"\"))","v":""},null,null,null,null,"",0,90,{"$f":"IFERROR(INDEX(Kalkulacja!I:I,MATCH(U112,Kalkulacja!AM:AM,0)),\"\")","v":""},0,{"$error":"#N/A"},"",{"$f":"IF($AC$4=\"x\",IFERROR((INDEX(Kalkulacja!AE:AE,MATCH($U112,Kalkulacja!AM:AM,0)))*$D$21,\"\"),\"\")","v":""},{"$error":"#VALUE!"},{"$error":"#VALUE!"},null,"","","","","","","","","","","",null,{"$f":"IF(AD112=\"\",\"\",MAX($AP$10:AP111)+1)","v":""},null,null,"","",null,null,null,null,null,null,null,"","","Opis"]
[null,null,null,null,null,null,"",{"$f":"IF($AC$4=\"x\",IFERROR(INDEX(Kalkulacja!I:I,MATCH(U113,Kalkulacja!AM:AM,0))&\" - kodowanie www\",\"\"),\"\")","v":""},"",null,"",null,"",{"$f":"IF(IF($AC$4=\"x\",IFERROR(INDEX(Kalkulacja!AF:AF,MATCH(U113,Kalkulacja!AM:AM,0)),\"\"),\"\")=\"\",\"\",IF($AC$4=\"x\",IFERROR(INDEX(Kalkulacja!AF:AF,MATCH(U113,Kalkulacja!AM:AM,0)),\"\"),\"\"))","v":""},null,null,null,null,"",0,91,{"$f":"IFERROR(INDEX(Kalkulacja!I:I,MATCH(U113,Kalkulacja!AM:AM,0)),\"\")","v":""},0,{"$error":"#N/A"},"",{"$f":"IF($AC$4=\"x\",IFERROR((INDEX(Kalkulacja!AE:AE,MATCH($U113,Kalkulacja!AM:AM,0)))*$D$21,\"\"),\"\")","v":""},{"$error":"#VALUE!"},{"$error":"#VALUE!"},null,"","","","","","","","","","","",null,{"$f":"IF(AD113=\"\",\"\",MAX($AP$10:AP112)+1)","v":""},null,null,"","",null,null,null,null,null,null,null,"","","Opis"]
[null,null,null,null,null,null,"",{"$f":"IF($AC$4=\"x\",IFERROR(INDEX(Kalkulacja!I:I,MATCH(U114,Kalkulacja!AM:AM,0))&\" - kodowanie www\",\"\"),\"\")","v":""},"",null,"",null,"",{"$f":"IF(IF($AC$4=\"x\",IFERROR(INDEX(Kalkulacja!AF:AF,MATCH(U114,Kalkulacja!AM:AM,0)),\"\"),\"\")=\"\",\"\",IF($AC$4=\"x\",IFERROR(INDEX(Kalkulacja!AF:AF,MATCH(U114,Kalkulacja!AM:AM,0)),\"\"),\"\"))","v":""},null,null,null,null,"",0,92,{"$f":"IFERROR(INDEX(Kalkulacja!I:I,MATCH(U114,Kalkulacja!AM:AM,0)),\"\")","v":""},0,{"$error":"#N/A"},"",{"$f":"IF($AC$4=\"x\",IFERROR((INDEX(Kalkulacja!AE:AE,MATCH($U114,Kalkulacja!AM:AM,0)))*$D$21,\"\"),\"\")","v":""},{"$error":"#VALUE!"},{"$error":"#VALUE!"},null,"","","","","","","","","","","",null,{"$f":"IF(AD114=\"\",\"\",MAX($AP$10:AP113)+1)","v":""},null,null,"","",null,null,null,null,null,null,null,"","","Opis"]
[null,null,null,null,null,null,"",{"$f":"IF($AC$4=\"x\",IFERROR(INDEX(Kalkulacja!I:I,MATCH(U115,Kalkulacja!AM:AM,0))&\" - kodowanie www\",\"\"),\"\")","v":""},"",null,"",null,"",{"$f":"IF(IF($AC$4=\"x\",IFERROR(INDEX(Kalkulacja!AF:AF,MATCH(U115,Kalkulacja!AM:AM,0)),\"\"),\"\")=\"\",\"\",IF($AC$4=\"x\",IFERROR(INDEX(Kalkulacja!AF:AF,MATCH(U115,Kalkulacja!AM:AM,0)),\"\"),\"\"))","v":""},null,null,null,null,"",0,93,{"$f":"IFERROR(INDEX(Kalkulacja!I:I,MATCH(U115,Kalkulacja!AM:AM,0)),\"\")","v":""},0,{"$error":"#N/A"},"",{"$f":"IF($AC$4=\"x\",IFERROR((INDEX(Kalkulacja!AE:AE,MATCH($U115,Kalkulacja!AM:AM,0)))*$D$21,\"\"),\"\")","v":""},{"$error":"#VALUE!"},{"$error":"#VALUE!"},null,"","","","","","","","","","","",null,{"$f":"IF(AD115=\"\",\"\",MAX($AP$10:AP114)+1)","v":""},null,null,"","",null,null,null,null,null,null,null,"","","Opis"]
[null,null,null,null,null,null,"",{"$f":"IF($AC$4=\"x\",IFERROR(INDEX(Kalkulacja!I:I,MATCH(U116,Kalkulacja!AM:AM,0))&\" - kodowanie www\",\"\"),\"\")","v":""},"",null,"",null,"",{"$f":"IF(IF($AC$4=\"x\",IFERROR(INDEX(Kalkulacja!AF:AF,MATCH(U116,Kalkulacja!AM:AM,0)),\"\"),\"\")=\"\",\"\",IF($AC$4=\"x\",IFERROR(INDEX(Kalkulacja!AF:AF,MATCH(U116,Kalkulacja!AM:AM,0)),\"\"),\"\"))","v":""},null,null,null,null,"",0,94,{"$f":"IFERROR(INDEX(Kalkulacja!I:I,MATCH(U116,Kalkulacja!AM:AM,0)),\"\")","v":""},0,{"$error":"#N/A"},"",{"$f":"IF($AC$4=\"x\",IFERROR((INDEX(Kalkulacja!AE:AE,MATCH($U116,Kalkulacja!AM:AM,0)))*$D$21,\"\"),\"\")","v":""},{"$error":"#VALUE!"},{"$error":"#VALUE!"},null,"","","","","","","","","","","",null,{"$f":"IF(AD116=\"\",\"\",MAX($AP$10:AP115)+1)","v":""},null,null,"","",null,null,null,null,null,null,null,"","","Opis"]
[null,null,null,null,null,null,"",{"$f":"IF($AC$4=\"x\",IFERROR(INDEX(Kalkulacja!I:I,MATCH(U117,Kalkulacja!AM:AM,0))&\" - kodowanie www\",\"\"),\"\")","v":""},"",null,"",null,"",{"$f":"IF(IF($AC$4=\"x\",IFERROR(INDEX(Kalkulacja!AF:AF,MATCH(U117,Kalkulacja!AM:AM,0)),\"\"),\"\")=\"\",\"\",IF($AC$4=\"x\",IFERROR(INDEX(Kalkulacja!AF:AF,MATCH(U117,Kalkulacja!AM:AM,0)),\"\"),\"\"))","v":""},null,null,null,null,"",0,95,{"$f":"IFERROR(INDEX(Kalkulacja!I:I,MATCH(U117,Kalkulacja!AM:AM,0)),\"\")","v":""},0,{"$error":"#N/A"},"",{"$f":"IF($AC$4=\"x\",IFERROR((INDEX(Kalkulacja!AE:AE,MATCH($U117,Kalkulacja!AM:AM,0)))*$D$21,\"\"),\"\")","v":""},{"$error":"#VALUE!"},{"$error":"#VALUE!"},null,"","","","","","","","","","","",null,{"$f":"IF(AD117=\"\",\"\",MAX($AP$10:AP116)+1)","v":""},null,null,"","",null,null,null,null,null,null,null,"","","Opis"]
[null,null,null,null,null,null,"",{"$f":"IF($AC$4=\"x\",IFERROR(INDEX(Kalkulacja!I:I,MATCH(U118,Kalkulacja!AM:AM,0))&\" - kodowanie www\",\"\"),\"\")","v":""},"",null,"",null,"",{"$f":"IF(IF($AC$4=\"x\",IFERROR(INDEX(Kalkulacja!AF:AF,MATCH(U118,Kalkulacja!AM:AM,0)),\"\"),\"\")=\"\",\"\",IF($AC$4=\"x\",IFERROR(INDEX(Kalkulacja!AF:AF,MATCH(U118,Kalkulacja!AM:AM,0)),\"\"),\"\"))","v":""},null,null,null,null,"",0,96,{"$f":"IFERROR(INDEX(Kalkulacja!I:I,MATCH(U118,Kalkulacja!AM:AM,0)),\"\")","v":""},0,{"$error":"#N/A"},"",{"$f":"IF($AC$4=\"x\",IFERROR((INDEX(Kalkulacja!AE:AE,MATCH($U118,Kalkulacja!AM:AM,0)))*$D$21,\"\"),\"\")","v":""},{"$error":"#VALUE!"},{"$error":"#VALUE!"},null,"","","","","","","","","","","",null,{"$f":"IF(AD118=\"\",\"\",MAX($AP$10:AP117)+1)","v":""},null,null,"","",null,null,null,null,null,null,null,"","","Opis"]
[null,null,null,null,null,null,"",{"$f":"IF($AC$4=\"x\",IFERROR(INDEX(Kalkulacja!I:I,MATCH(U119,Kalkulacja!AM:AM,0))&\" - kodowanie www\",\"\"),\"\")","v":""},"",null,"",null,"",{"$f":"IF(IF($AC$4=\"x\",IFERROR(INDEX(Kalkulacja!AF:AF,MATCH(U119,Kalkulacja!AM:AM,0)),\"\"),\"\")=\"\",\"\",IF($AC$4=\"x\",IFERROR(INDEX(Kalkulacja!AF:AF,MATCH(U119,Kalkulacja!AM:AM,0)),\"\"),\"\"))","v":""},null,null,null,null,"",0,97,{"$f":"IFERROR(INDEX(Kalkulacja!I:I,MATCH(U119,Kalkulacja!AM:AM,0)),\"\")","v":""},0,{"$error":"#N/A"},"",{"$f":"IF($AC$4=\"x\",IFERROR((INDEX(Kalkulacja!AE:AE,MATCH($U119,Kalkulacja!AM:AM,0)))*$D$21,\"\"),\"\")","v":""},{"$error":"#VALUE!"},{"$error":"#VALUE!"},null,"","","","","","","","","","","",null,{"$f":"IF(AD119=\"\",\"\",MAX($AP$10:AP118)+1)","v":""},null,null,"","",null,null,null,null,null,null,null,"","","Opis"]
[null,null,null,null,null,null,"",{"$f":"IF($AC$4=\"x\",IFERROR(INDEX(Kalkulacja!I:I,MATCH(U120,Kalkulacja!AM:AM,0))&\" - kodowanie www\",\"\"),\"\")","v":""},"",null,"",null,"",{"$f":"IF(IF($AC$4=\"x\",IFERROR(INDEX(Kalkulacja!AF:AF,MATCH(U120,Kalkulacja!AM:AM,0)),\"\"),\"\")=\"\",\"\",IF($AC$4=\"x\",IFERROR(INDEX(Kalkulacja!AF:AF,MATCH(U120,Kalkulacja!AM:AM,0)),\"\"),\"\"))","v":""},null,null,null,null,"",0,98,{"$f":"IFERROR(INDEX(Kalkulacja!I:I,MATCH(U120,Kalkulacja!AM:AM,0)),\"\")","v":""},0,{"$error":"#N/A"},"",{"$f":"IF($AC$4=\"x\",IFERROR((INDEX(Kalkulacja!AE:AE,MATCH($U120,Kalkulacja!AM:AM,0)))*$D$21,\"\"),\"\")","v":""},{"$error":"#VALUE!"},{"$error":"#VALUE!"},null,"","","","","","","","","","","",null,{"$f":"IF(AD120=\"\",\"\",MAX($AP$10:AP119)+1)","v":""},null,null,"","",null,null,null,null,null,null,null,"","","Opis"]
[null,null,null,null,null,null,"",{"$f":"IF($AC$4=\"x\",IFERROR(INDEX(Kalkulacja!I:I,MATCH(U121,Kalkulacja!AM:AM,0))&\" - kodowanie www\",\"\"),\"\")","v":""},"",null,"",null,"",{"$f":"IF(IF($AC$4=\"x\",IFERROR(INDEX(Kalkulacja!AF:AF,MATCH(U121,Kalkulacja!AM:AM,0)),\"\"),\"\")=\"\",\"\",IF($AC$4=\"x\",IFERROR(INDEX(Kalkulacja!AF:AF,MATCH(U121,Kalkulacja!AM:AM,0)),\"\"),\"\"))","v":""},null,null,null,null,"",0,99,{"$f":"IFERROR(INDEX(Kalkulacja!I:I,MATCH(U121,Kalkulacja!AM:AM,0)),\"\")","v":""},0,{"$error":"#N/A"},"",{"$f":"IF($AC$4=\"x\",IFERROR((INDEX(Kalkulacja!AE:AE,MATCH($U121,Kalkulacja!AM:AM,0)))*$D$21,\"\"),\"\")","v":""},{"$error":"#VALUE!"},{"$error":"#VALUE!"},null,"","","","","","","","","","","",null,{"$f":"IF(AD121=\"\",\"\",MAX($AP$10:AP120)+1)","v":""},null,null,"","",null,null,null,null,null,null,null,"","","Opis"]
[null,null,null,null,null,null,"",{"$f":"IF($AC$4=\"x\",IFERROR(INDEX(Kalkulacja!I:I,MATCH(U122,Kalkulacja!AM:AM,0))&\" - kodowanie www\",\"\"),\"\")","v":""},"",null,"",null,"",{"$f":"IF(IF($AC$4=\"x\",IFERROR(INDEX(Kalkulacja!AF:AF,MATCH(U122,Kalkulacja!AM:AM,0)),\"\"),\"\")=\"\",\"\",IF($AC$4=\"x\",IFERROR(INDEX(Kalkulacja!AF:AF,MATCH(U122,Kalkulacja!AM:AM,0)),\"\"),\"\"))","v":""},null,null,null,null,"",0,100,{"$f":"IFERROR(INDEX(Kalkulacja!I:I,MATCH(U122,Kalkulacja!AM:AM,0)),\"\")","v":""},0,{"$error":"#N/A"},"",{"$f":"IF($AC$4=\"x\",IFERROR((INDEX(Kalkulacja!AE:AE,MATCH($U122,Kalkulacja!AM:AM,0)))*$D$21,\"\"),\"\")","v":""},{"$error":"#VALUE!"},{"$error":"#VALUE!"},null,"","","","","","","","","","","",null,{"$f":"IF(AD122=\"\",\"\",MAX($AP$10:AP121)+1)","v":""},null,null,"","",null,null,null,null,null,null,null,"","","Opis"]
[null,null,null,null,null,null,"",{"$f":"IF($AC$4=\"x\",IFERROR(INDEX(Kalkulacja!I:I,MATCH(U123,Kalkulacja!AM:AM,0))&\" - kodowanie www\",\"\"),\"\")","v":""},"",null,"",null,"",{"$f":"IF(IF($AC$4=\"x\",IFERROR(INDEX(Kalkulacja!AF:AF,MATCH(U123,Kalkulacja!AM:AM,0)),\"\"),\"\")=\"\",\"\",IF($AC$4=\"x\",IFERROR(INDEX(Kalkulacja!AF:AF,MATCH(U123,Kalkulacja!AM:AM,0)),\"\"),\"\"))","v":""},null,null,null,null,"",0,101,{"$f":"IFERROR(INDEX(Kalkulacja!I:I,MATCH(U123,Kalkulacja!AM:AM,0)),\"\")","v":""},0,{"$error":"#N/A"},"",{"$f":"IF($AC$4=\"x\",IFERROR((INDEX(Kalkulacja!AE:AE,MATCH($U123,Kalkulacja!AM:AM,0)))*$D$21,\"\"),\"\")","v":""},{"$error":"#VALUE!"},{"$error":"#VALUE!"},null,"","","","","","","","","","","",null,{"$f":"IF(AD123=\"\",\"\",MAX($AP$10:AP122)+1)","v":""},null,null,"","",null,null,null,null,null,null,null,"","","Opis"]
[null,null,null,null,null,null,"",{"$f":"IF($AC$4=\"x\",IFERROR(INDEX(Kalkulacja!I:I,MATCH(U124,Kalkulacja!AM:AM,0))&\" - kodowanie www\",\"\"),\"\")","v":""},"",null,"",null,"",{"$f":"IF(IF($AC$4=\"x\",IFERROR(INDEX(Kalkulacja!AF:AF,MATCH(U124,Kalkulacja!AM:AM,0)),\"\"),\"\")=\"\",\"\",IF($AC$4=\"x\",IFERROR(INDEX(Kalkulacja!AF:AF,MATCH(U124,Kalkulacja!AM:AM,0)),\"\"),\"\"))","v":""},null,null,null,null,"",0,102,{"$f":"IFERROR(INDEX(Kalkulacja!I:I,MATCH(U124,Kalkulacja!AM:AM,0)),\"\")","v":""},0,{"$error":"#N/A"},"",{"$f":"IF($AC$4=\"x\",IFERROR((INDEX(Kalkulacja!AE:AE,MATCH($U124,Kalkulacja!AM:AM,0)))*$D$21,\"\"),\"\")","v":""},{"$error":"#VALUE!"},{"$error":"#VALUE!"},null,"","","","","","","","","","","",null,{"$f":"IF(AD124=\"\",\"\",MAX($AP$10:AP123)+1)","v":""},null,null,"","",null,null,null,null,null,null,null,"","","Opis"]
[null,null,null,null,null,null,"",{"$f":"IF($AC$4=\"x\",IFERROR(INDEX(Kalkulacja!I:I,MATCH(U125,Kalkulacja!AM:AM,0))&\" - kodowanie www\",\"\"),\"\")","v":""},"",null,"",null,"",{"$f":"IF(IF($AC$4=\"x\",IFERROR(INDEX(Kalkulacja!AF:AF,MATCH(U125,Kalkulacja!AM:AM,0)),\"\"),\"\")=\"\",\"\",IF($AC$4=\"x\",IFERROR(INDEX(Kalkulacja!AF:AF,MATCH(U125,Kalkulacja!AM:AM,0)),\"\"),\"\"))","v":""},null,null,null,null,"",0,103,{"$f":"IFERROR(INDEX(Kalkulacja!I:I,MATCH(U125,Kalkulacja!AM:AM,0)),\"\")","v":""},0,{"$error":"#N/A"},"",{"$f":"IF($AC$4=\"x\",IFERROR((INDEX(Kalkulacja!AE:AE,MATCH($U125,Kalkulacja!AM:AM,0)))*$D$21,\"\"),\"\")","v":""},{"$error":"#VALUE!"},{"$error":"#VALUE!"},null,"","","","","","","","","","","",null,{"$f":"IF(AD125=\"\",\"\",MAX($AP$10:AP124)+1)","v":""},null,null,"","",null,null,null,null,null,null,null,"","","Opis"]
[null,null,null,null,null,null,"",{"$f":"IF($AC$4=\"x\",IFERROR(INDEX(Kalkulacja!I:I,MATCH(U126,Kalkulacja!AM:AM,0))&\" - kodowanie www\",\"\"),\"\")","v":""},"",null,"",null,"",{"$f":"IF(IF($AC$4=\"x\",IFERROR(INDEX(Kalkulacja!AF:AF,MATCH(U126,Kalkulacja!AM:AM,0)),\"\"),\"\")=\"\",\"\",IF($AC$4=\"x\",IFERROR(INDEX(Kalkulacja!AF:AF,MATCH(U126,Kalkulacja!AM:AM,0)),\"\"),\"\"))","v":""},null,null,null,null,"",0,104,{"$f":"IFERROR(INDEX(Kalkulacja!I:I,MATCH(U126,Kalkulacja!AM:AM,0)),\"\")","v":""},0,{"$error":"#N/A"},"",{"$f":"IF($AC$4=\"x\",IFERROR((INDEX(Kalkulacja!AE:AE,MATCH($U126,Kalkulacja!AM:AM,0)))*$D$21,\"\"),\"\")","v":""},{"$error":"#VALUE!"},{"$error":"#VALUE!"},null,"","","","","","","","","","","",null,{"$f":"IF(AD126=\"\",\"\",MAX($AP$10:AP125)+1)","v":""},null,null,"","",null,null,null,null,null,null,null,"","","Opis"]
[null,null,null,null,null,null,"",{"$f":"IF($AC$4=\"x\",IFERROR(INDEX(Kalkulacja!I:I,MATCH(U127,Kalkulacja!AM:AM,0))&\" - kodowanie www\",\"\"),\"\")","v":""},"",null,"",null,"",{"$f":"IF(IF($AC$4=\"x\",IFERROR(INDEX(Kalkulacja!AF:AF,MATCH(U127,Kalkulacja!AM:AM,0)),\"\"),\"\")=\"\",\"\",IF($AC$4=\"x\",IFERROR(INDEX(Kalkulacja!AF:AF,MATCH(U127,Kalkulacja!AM:AM,0)),\"\"),\"\"))","v":""},null,null,null,null,"",0,105,{"$f":"IFERROR(INDEX(Kalkulacja!I:I,MATCH(U127,Kalkulacja!AM:AM,0)),\"\")","v":""},0,{"$error":"#N/A"},"",{"$f":"IF($AC$4=\"x\",IFERROR((INDEX(Kalkulacja!AE:AE,MATCH($U127,Kalkulacja!AM:AM,0)))*$D$21,\"\"),\"\")","v":""},{"$error":"#VALUE!"},{"$error":"#VALUE!"},null,"","","","","","","","","","","",null,{"$f":"IF(AD127=\"\",\"\",MAX($AP$10:AP126)+1)","v":""},null,null,"","",null,null,null,null,null,null,null,"","","Opis"]
[null,null,null,null,null,null,"",{"$f":"IF($AC$4=\"x\",IFERROR(INDEX(Kalkulacja!I:I,MATCH(U128,Kalkulacja!AM:AM,0))&\" - kodowanie www\",\"\"),\"\")","v":""},"",null,"",null,"",{"$f":"IF(IF($AC$4=\"x\",IFERROR(INDEX(Kalkulacja!AF:AF,MATCH(U128,Kalkulacja!AM:AM,0)),\"\"),\"\")=\"\",\"\",IF($AC$4=\"x\",IFERROR(INDEX(Kalkulacja!AF:AF,MATCH(U128,Kalkulacja!AM:AM,0)),\"\"),\"\"))","v":""},null,null,null,null,"",0,106,{"$f":"IFERROR(INDEX(Kalkulacja!I:I,MATCH(U128,Kalkulacja!AM:AM,0)),\"\")","v":""},0,{"$error":"#N/A"},"",{"$f":"IF($AC$4=\"x\",IFERROR((INDEX(Kalkulacja!AE:AE,MATCH($U128,Kalkulacja!AM:AM,0)))*$D$21,\"\"),\"\")","v":""},{"$error":"#VALUE!"},{"$error":"#VALUE!"},null,"","","","","","","","","","","",null,{"$f":"IF(AD128=\"\",\"\",MAX($AP$10:AP127)+1)","v":""},null,null,"","",null,null,null,null,null,null,null,"","","Opis"]
[null,null,null,null,null,null,"",{"$f":"IF($AC$4=\"x\",IFERROR(INDEX(Kalkulacja!I:I,MATCH(U129,Kalkulacja!AM:AM,0))&\" - kodowanie www\",\"\"),\"\")","v":""},"",null,"",null,"",{"$f":"IF(IF($AC$4=\"x\",IFERROR(INDEX(Kalkulacja!AF:AF,MATCH(U129,Kalkulacja!AM:AM,0)),\"\"),\"\")=\"\",\"\",IF($AC$4=\"x\",IFERROR(INDEX(Kalkulacja!AF:AF,MATCH(U129,Kalkulacja!AM:AM,0)),\"\"),\"\"))","v":""},null,null,null,null,"",0,107,{"$f":"IFERROR(INDEX(Kalkulacja!I:I,MATCH(U129,Kalkulacja!AM:AM,0)),\"\")","v":""},0,{"$error":"#N/A"},"",{"$f":"IF($AC$4=\"x\",IFERROR((INDEX(Kalkulacja!AE:AE,MATCH($U129,Kalkulacja!AM:AM,0)))*$D$21,\"\"),\"\")","v":""},{"$error":"#VALUE!"},{"$error":"#VALUE!"},null,"","","","","","","","","","","",null,{"$f":"IF(AD129=\"\",\"\",MAX($AP$10:AP128)+1)","v":""},null,null,"","",null,null,null,null,null,null,null,"","","Opis"]
[null,null,null,null,null,null,"",{"$f":"IF($AC$4=\"x\",IFERROR(INDEX(Kalkulacja!I:I,MATCH(U130,Kalkulacja!AM:AM,0))&\" - kodowanie www\",\"\"),\"\")","v":""},"",null,"",null,"",{"$f":"IF(IF($AC$4=\"x\",IFERROR(INDEX(Kalkulacja!AF:AF,MATCH(U130,Kalkulacja!AM:AM,0)),\"\"),\"\")=\"\",\"\",IF($AC$4=\"x\",IFERROR(INDEX(Kalkulacja!AF:AF,MATCH(U130,Kalkulacja!AM:AM,0)),\"\"),\"\"))","v":""},null,null,null,null,"",0,108,{"$f":"IFERROR(INDEX(Kalkulacja!I:I,MATCH(U130,Kalkulacja!AM:AM,0)),\"\")","v":""},0,{"$error":"#N/A"},"",{"$f":"IF($AC$4=\"x\",IFERROR((INDEX(Kalkulacja!AE:AE,MATCH($U130,Kalkulacja!AM:AM,0)))*$D$21,\"\"),\"\")","v":""},{"$error":"#VALUE!"},{"$error":"#VALUE!"},null,"","","","","","","","","","","",null,{"$f":"IF(AD130=\"\",\"\",MAX($AP$10:AP129)+1)","v":""},null,null,"","",null,null,null,null,null,null,null,"","","Opis"]
[null,null,null,null,null,null,"",{"$f":"IF($AC$4=\"x\",IFERROR(INDEX(Kalkulacja!I:I,MATCH(U131,Kalkulacja!AM:AM,0))&\" - kodowanie www\",\"\"),\"\")","v":""},"",null,"",null,"",{"$f":"IF(IF($AC$4=\"x\",IFERROR(INDEX(Kalkulacja!AF:AF,MATCH(U131,Kalkulacja!AM:AM,0)),\"\"),\"\")=\"\",\"\",IF($AC$4=\"x\",IFERROR(INDEX(Kalkulacja!AF:AF,MATCH(U131,Kalkulacja!AM:AM,0)),\"\"),\"\"))","v":""},null,null,null,null,"",0,109,{"$f":"IFERROR(INDEX(Kalkulacja!I:I,MATCH(U131,Kalkulacja!AM:AM,0)),\"\")","v":""},0,{"$error":"#N/A"},"",{"$f":"IF($AC$4=\"x\",IFERROR((INDEX(Kalkulacja!AE:AE,MATCH($U131,Kalkulacja!AM:AM,0)))*$D$21,\"\"),\"\")","v":""},{"$error":"#VALUE!"},{"$error":"#VALUE!"},null,"","","","","","","","","","","",null,{"$f":"IF(AD131=\"\",\"\",MAX($AP$10:AP130)+1)","v":""},null,null,"","",null,null,null,null,null,null,null,"","","Opis"]
[null,null,null,null,null,null,"",{"$f":"IF($AC$4=\"x\",IFERROR(INDEX(Kalkulacja!I:I,MATCH(U132,Kalkulacja!AM:AM,0))&\" - kodowanie www\",\"\"),\"\")","v":""},"",null,"",null,"",{"$f":"IF(IF($AC$4=\"x\",IFERROR(INDEX(Kalkulacja!AF:AF,MATCH(U132,Kalkulacja!AM:AM,0)),\"\"),\"\")=\"\",\"\",IF($AC$4=\"x\",IFERROR(INDEX(Kalkulacja!AF:AF,MATCH(U132,Kalkulacja!AM:AM,0)),\"\"),\"\"))","v":""},null,null,null,null,"",0,110,{"$f":"IFERROR(INDEX(Kalkulacja!I:I,MATCH(U132,Kalkulacja!AM:AM,0)),\"\")","v":""},0,{"$error":"#N/A"},"",{"$f":"IF($AC$4=\"x\",IFERROR((INDEX(Kalkulacja!AE:AE,MATCH($U132,Kalkulacja!AM:AM,0)))*$D$21,\"\"),\"\")","v":""},{"$error":"#VALUE!"},{"$error":"#VALUE!"},null,"","","","","","","","","","","",null,{"$f":"IF(AD132=\"\",\"\",MAX($AP$10:AP131)+1)","v":""},null,null,"","",null,null,null,null,null,null,null,"","","Opis"]
[null,null,null,null,null,null,"",{"$f":"IF($AC$4=\"x\",IFERROR(INDEX(Kalkulacja!I:I,MATCH(U133,Kalkulacja!AM:AM,0))&\" - kodowanie www\",\"\"),\"\")","v":""},"",null,"",null,"",{"$f":"IF(IF($AC$4=\"x\",IFERROR(INDEX(Kalkulacja!AF:AF,MATCH(U133,Kalkulacja!AM:AM,0)),\"\"),\"\")=\"\",\"\",IF($AC$4=\"x\",IFERROR(INDEX(Kalkulacja!AF:AF,MATCH(U133,Kalkulacja!AM:AM,0)),\"\"),\"\"))","v":""},null,null,null,null,"",0,111,{"$f":"IFERROR(INDEX(Kalkulacja!I:I,MATCH(U133,Kalkulacja!AM:AM,0)),\"\")","v":""},0,{"$error":"#N/A"},"",{"$f":"IF($AC$4=\"x\",IFERROR((INDEX(Kalkulacja!AE:AE,MATCH($U133,Kalkulacja!AM:AM,0)))*$D$21,\"\"),\"\")","v":""},{"$error":"#VALUE!"},{"$error":"#VALUE!"},null,"","","","","","","","","","","",null,{"$f":"IF(AD133=\"\",\"\",MAX($AP$10:AP132)+1)","v":""},null,null,"","",null,null,null,null,null,null,null,"","","Opis"]
[null,null,null,null,null,null,"",{"$f":"IF($AC$4=\"x\",IFERROR(INDEX(Kalkulacja!I:I,MATCH(U134,Kalkulacja!AM:AM,0))&\" - kodowanie www\",\"\"),\"\")","v":""},"",null,"",null,"",{"$f":"IF(IF($AC$4=\"x\",IFERROR(INDEX(Kalkulacja!AF:AF,MATCH(U134,Kalkulacja!AM:AM,0)),\"\"),\"\")=\"\",\"\",IF($AC$4=\"x\",IFERROR(INDEX(Kalkulacja!AF:AF,MATCH(U134,Kalkulacja!AM:AM,0)),\"\"),\"\"))","v":""},null,null,null,null,"",0,112,{"$f":"IFERROR(INDEX(Kalkulacja!I:I,MATCH(U134,Kalkulacja!AM:AM,0)),\"\")","v":""},0,{"$error":"#N/A"},"",{"$f":"IF($AC$4=\"x\",IFERROR((INDEX(Kalkulacja!AE:AE,MATCH($U134,Kalkulacja!AM:AM,0)))*$D$21,\"\"),\"\")","v":""},{"$error":"#VALUE!"},{"$error":"#VALUE!"},null,"","","","","","","","","","","",null,{"$f":"IF(AD134=\"\",\"\",MAX($AP$10:AP133)+1)","v":""},null,null,"","",null,null,null,null,null,null,null,"","","Opis"]
[null,null,null,null,null,null,"",{"$f":"IF($AC$4=\"x\",IFERROR(INDEX(Kalkulacja!I:I,MATCH(U135,Kalkulacja!AM:AM,0))&\" - kodowanie www\",\"\"),\"\")","v":""},"",null,"",null,"",{"$f":"IF(IF($AC$4=\"x\",IFERROR(INDEX(Kalkulacja!AF:AF,MATCH(U135,Kalkulacja!AM:AM,0)),\"\"),\"\")=\"\",\"\",IF($AC$4=\"x\",IFERROR(INDEX(Kalkulacja!AF:AF,MATCH(U135,Kalkulacja!AM:AM,0)),\"\"),\"\"))","v":""},null,null,null,null,"",0,113,{"$f":"IFERROR(INDEX(Kalkulacja!I:I,MATCH(U135,Kalkulacja!AM:AM,0)),\"\")","v":""},0,{"$error":"#N/A"},"",{"$f":"IF($AC$4=\"x\",IFERROR((INDEX(Kalkulacja!AE:AE,MATCH($U135,Kalkulacja!AM:AM,0)))*$D$21,\"\"),\"\")","v":""},{"$error":"#VALUE!"},{"$error":"#VALUE!"},null,"","","","","","","","","","","",null,{"$f":"IF(AD135=\"\",\"\",MAX($AP$10:AP134)+1)","v":""},null,null,"","",null,null,null,null,null,null,null,"","","Opis"]
[null,null,null,null,null,null,"",{"$f":"IF($AC$4=\"x\",IFERROR(INDEX(Kalkulacja!I:I,MATCH(U136,Kalkulacja!AM:AM,0))&\" - kodowanie www\",\"\"),\"\")","v":""},"",null,"",null,"",{"$f":"IF(IF($AC$4=\"x\",IFERROR(INDEX(Kalkulacja!AF:AF,MATCH(U136,Kalkulacja!AM:AM,0)),\"\"),\"\")=\"\",\"\",IF($AC$4=\"x\",IFERROR(INDEX(Kalkulacja!AF:AF,MATCH(U136,Kalkulacja!AM:AM,0)),\"\"),\"\"))","v":""},null,null,null,null,"",0,114,{"$f":"IFERROR(INDEX(Kalkulacja!I:I,MATCH(U136,Kalkulacja!AM:AM,0)),\"\")","v":""},0,{"$error":"#N/A"},"",{"$f":"IF($AC$4=\"x\",IFERROR((INDEX(Kalkulacja!AE:AE,MATCH($U136,Kalkulacja!AM:AM,0)))*$D$21,\"\"),\"\")","v":""},{"$error":"#VALUE!"},{"$error":"#VALUE!"},null,"","","","","","","","","","","",null,{"$f":"IF(AD136=\"\",\"\",MAX($AP$10:AP135)+1)","v":""},null,null,"","",null,null,null,null,null,null,null,"","","Opis"]
[null,null,null,null,null,null,"",{"$f":"IF($AC$4=\"x\",IFERROR(INDEX(Kalkulacja!I:I,MATCH(U137,Kalkulacja!AM:AM,0))&\" - kodowanie www\",\"\"),\"\")","v":""},"",null,"",null,"",{"$f":"IF(IF($AC$4=\"x\",IFERROR(INDEX(Kalkulacja!AF:AF,MATCH(U137,Kalkulacja!AM:AM,0)),\"\"),\"\")=\"\",\"\",IF($AC$4=\"x\",IFERROR(INDEX(Kalkulacja!AF:AF,MATCH(U137,Kalkulacja!AM:AM,0)),\"\"),\"\"))","v":""},null,null,null,null,"",0,115,{"$f":"IFERROR(INDEX(Kalkulacja!I:I,MATCH(U137,Kalkulacja!AM:AM,0)),\"\")","v":""},0,{"$error":"#N/A"},"",{"$f":"IF($AC$4=\"x\",IFERROR((INDEX(Kalkulacja!AE:AE,MATCH($U137,Kalkulacja!AM:AM,0)))*$D$21,\"\"),\"\")","v":""},{"$error":"#VALUE!"},{"$error":"#VALUE!"},null,"","","","","","","","","","","",null,{"$f":"IF(AD137=\"\",\"\",MAX($AP$10:AP136)+1)","v":""},null,null,"","",null,null,null,null,null,null,null,"","","Opis"]
[null,null,null,null,null,null,"",{"$f":"IF($AC$4=\"x\",IFERROR(INDEX(Kalkulacja!I:I,MATCH(U138,Kalkulacja!AM:AM,0))&\" - kodowanie www\",\"\"),\"\")","v":""},"",null,"",null,"",{"$f":"IF(IF($AC$4=\"x\",IFERROR(INDEX(Kalkulacja!AF:AF,MATCH(U138,Kalkulacja!AM:AM,0)),\"\"),\"\")=\"\",\"\",IF($AC$4=\"x\",IFERROR(INDEX(Kalkulacja!AF:AF,MATCH(U138,Kalkulacja!AM:AM,0)),\"\"),\"\"))","v":""},null,null,null,null,"",0,116,{"$f":"IFERROR(INDEX(Kalkulacja!I:I,MATCH(U138,Kalkulacja!AM:AM,0)),\"\")","v":""},0,{"$f":"VLOOKUP(K138,$C$31:$D$44,2,0)","v":{"$error":"#N/A"}},{"$f":"IFERROR(VLOOKUP(L138,$C$31:$D$44,2,0),\"\")","v":""},{"$f":"IF($AC$4=\"x\",IFERROR((INDEX(Kalkulacja!AE:AE,MATCH($U138,Kalkulacja!AM:AM,0)))*$D$21,\"\"),\"\")","v":""},{"$error":"#VALUE!"},{"$error":"#VALUE!"},null,"","","","","","","","","","","",null,{"$f":"IF(AD138=\"\",\"\",MAX($AP$10:AP137)+1)","v":""},null,null,"",{"$f":"IFERROR(INDEX(AN:AN,MATCH(AS138,AP:AP,0)),\"\")","v":""},null,null,null,null,null,null,null,"","","Opis"]
[null,null,null,null,null,null,"",{"$f":"IF($AC$4=\"x\",IFERROR(INDEX(Kalkulacja!I:I,MATCH(U139,Kalkulacja!AM:AM,0))&\" - kodowanie www\",\"\"),\"\")","v":""},"",null,"",null,"",{"$f":"IF(IF($AC$4=\"x\",IFERROR(INDEX(Kalkulacja!AF:AF,MATCH(U139,Kalkulacja!AM:AM,0)),\"\"),\"\")=\"\",\"\",IF($AC$4=\"x\",IFERROR(INDEX(Kalkulacja!AF:AF,MATCH(U139,Kalkulacja!AM:AM,0)),\"\"),\"\"))","v":""},null,null,null,null,{"$f":"LEFT(H139,1)","v":""},0,117,{"$f":"IFERROR(INDEX(Kalkulacja!I:I,MATCH(U139,Kalkulacja!AM:AM,0)),\"\")","v":""},{"$f":"IF(V139=\"\",0,\"x\")","v":0},{"$error":"#N/A"},"",{"$f":"IF($AC$4=\"x\",IFERROR((INDEX(Kalkulacja!AE:AE,MATCH($U139,Kalkulacja!AM:AM,0)))*$D$21,\"\"),\"\")","v":""},{"$error":"#VALUE!"},{"$error":"#VALUE!"},null,"","","","","","","","","","","",null,{"$f":"IF(AD139=\"\",\"\",MAX($AP$10:AP138)+1)","v":""},null,null,"","",null,null,null,null,null,null,null,"","","Opis"]
[null,null,null,null,null,null,"",{"$f":"IF($AC$4=\"x\",IFERROR(INDEX(Kalkulacja!I:I,MATCH(U140,Kalkulacja!AM:AM,0))&\" - kodowanie www\",\"\"),\"\")","v":""},"",null,"",null,"",{"$f":"IF(IF($AC$4=\"x\",IFERROR(INDEX(Kalkulacja!AF:AF,MATCH(U140,Kalkulacja!AM:AM,0)),\"\"),\"\")=\"\",\"\",IF($AC$4=\"x\",IFERROR(INDEX(Kalkulacja!AF:AF,MATCH(U140,Kalkulacja!AM:AM,0)),\"\"),\"\"))","v":""},null,null,null,null,"",{"$f":"IF(S141=\">\",1,0)","v":0},118,{"$f":"IFERROR(INDEX(Kalkulacja!I:I,MATCH(U140,Kalkulacja!AM:AM,0)),\"\")","v":""},0,{"$error":"#N/A"},"",{"$f":"IF($AC$4=\"x\",IFERROR((INDEX(Kalkulacja!AE:AE,MATCH($U140,Kalkulacja!AM:AM,0)))*$D$21,\"\"),\"\")","v":""},{"$error":"#VALUE!"},{"$error":"#VALUE!"},null,"",{"$f":"IF(AD140=\"\",\"\",100)","v":""},"",{"$f":"IF(AD140=\"\",\"\",IF(N140=\"\",BD140,N140))","v":""},"","",{"$f":"IF(AD140=\"\",\"\",IF(COUNT($X140:$Y140)=2,$X140&\"|\"&$Y140,$X140))","v":""},{"$f":"IF(AD140=\"\",\"\",$L$3)","v":""},"",{"$f":"IF(AD140=\"\",\"\",$L$5)","v":""},"",null,{"$f":"IF(AD140=\"\",\"\",MAX($AP$10:AP139)+1)","v":""},null,null,"","",null,null,null,null,null,null,null,{"$f":"IF(N140=\"\",\"\",N140)","v":""},{"$f":"IF(T140=1,SUBSTITUTE(RIGHT(H141,LEN(H141)-2),\",\",\".\"),\"\")","v":""},{"$f":"IF(AND(BB140=\"\",BC140=\"\"),\"Opis\",IF(BB140=\"\",BC140,IF(BC140=\"\",BB140,(BB140&\" | \"&BC140))))","v":"Opis"}]
[null,null,null,null,null,null,"",{"$f":"IF($AC$4=\"x\",IFERROR(INDEX(Kalkulacja!I:I,MATCH(U141,Kalkulacja!AM:AM,0))&\" - kodowanie www\",\"\"),\"\")","v":""},"",null,"",null,"",{"$f":"IF(IF($AC$4=\"x\",IFERROR(INDEX(Kalkulacja!AF:AF,MATCH(U141,Kalkulacja!AM:AM,0)),\"\"),\"\")=\"\",\"\",IF($AC$4=\"x\",IFERROR(INDEX(Kalkulacja!AF:AF,MATCH(U141,Kalkulacja!AM:AM,0)),\"\"),\"\"))","v":""},null,null,null,null,"",0,119,{"$f":"IFERROR(INDEX(Kalkulacja!I:I,MATCH(U141,Kalkulacja!AM:AM,0)),\"\")","v":""},0,{"$error":"#N/A"},"",{"$f":"IF($AC$4=\"x\",IFERROR((INDEX(Kalkulacja!AE:AE,MATCH($U141,Kalkulacja!AM:AM,0)))*$D$21,\"\"),\"\")","v":""},{"$f":"ROUND((Z141-TRUNC(Z141))*60,0)","v":{"$error":"#VALUE!"}},{"$f":"IF(AA141<10,\"0\"&AA141,AA141)","v":{"$error":"#VALUE!"}},null,"","",{"$f":"IF(AD141=\"\",\"\",IF(Z141=\"\",\"\",TRUNC(Z141)&\".\"&ROUND((Z141-TRUNC(Z141))*100,0)))","v":""},"","","","","","","",{"$f":"IF(AD141=\"\",\"\",AD141&\", \"&AE141&\", \"&AF141&\", \"&AG141&\", \"&AH141&\", \"&AI141&\", \"&AJ141&\", \"&AK141&\", \"&AL141&\", \"&AM141)","v":""},null,{"$f":"IF(AD141=\"\",\"\",MAX($AP$10:AP140)+1)","v":""},null,null,{"$f":"IF(AS140<$AF$4,AS140+1,\"\")","v":""},"",null,null,null,null,null,null,null,"","","Opis"]
[null,null,null,null,null,null,"",{"$f":"IF($AC$4=\"x\",IFERROR(INDEX(Kalkulacja!I:I,MATCH(U142,Kalkulacja!AM:AM,0))&\" - kodowanie www\",\"\"),\"\")","v":""},"",null,"",null,"",{"$f":"IF(IF($AC$4=\"x\",IFERROR(INDEX(Kalkulacja!AF:AF,MATCH(U142,Kalkulacja!AM:AM,0)),\"\"),\"\")=\"\",\"\",IF($AC$4=\"x\",IFERROR(INDEX(Kalkulacja!AF:AF,MATCH(U142,Kalkulacja!AM:AM,0)),\"\"),\"\"))","v":""},null,null,null,null,"",0,120,{"$f":"IFERROR(INDEX(Kalkulacja!I:I,MATCH(U142,Kalkulacja!AM:AM,0)),\"\")","v":""},0,{"$error":"#N/A"},"",{"$f":"IF($AC$4=\"x\",IFERROR((INDEX(Kalkulacja!AE:AE,MATCH($U142,Kalkulacja!AM:AM,0)))*$D$21,\"\"),\"\")","v":""},{"$error":"#VALUE!"},{"$error":"#VALUE!"},null,"","","","","","","","","","","",null,{"$f":"IF(AD142=\"\",\"\",MAX($AP$10:AP141)+1)","v":""},null,null,"","",null,null,null,null,null,null,null,"","","Opis"]
[null,null,null,null,null,null,"",{"$f":"IF($AC$4=\"x\",IFERROR(INDEX(Kalkulacja!I:I,MATCH(U143,Kalkulacja!AM:AM,0))&\" - kodowanie www\",\"\"),\"\")","v":""},"",null,"",null,"",{"$f":"IF(IF($AC$4=\"x\",IFERROR(INDEX(Kalkulacja!AF:AF,MATCH(U143,Kalkulacja!AM:AM,0)),\"\"),\"\")=\"\",\"\",IF($AC$4=\"x\",IFERROR(INDEX(Kalkulacja!AF:AF,MATCH(U143,Kalkulacja!AM:AM,0)),\"\"),\"\"))","v":""},null,null,null,null,"",0,121,{"$f":"IFERROR(INDEX(Kalkulacja!I:I,MATCH(U143,Kalkulacja!AM:AM,0)),\"\")","v":""},0,{"$error":"#N/A"},"",{"$f":"IF($AC$4=\"x\",IFERROR((INDEX(Kalkulacja!AE:AE,MATCH($U143,Kalkulacja!AM:AM,0)))*$D$21,\"\"),\"\")","v":""},{"$error":"#VALUE!"},{"$error":"#VALUE!"},null,"","","","","","","","","","","",null,{"$f":"IF(AD143=\"\",\"\",MAX($AP$10:AP142)+1)","v":""},null,null,"","",null,null,null,null,null,null,null,"","","Opis"]
[null,null,null,null,null,null,"",{"$f":"IF($AC$4=\"x\",IFERROR(INDEX(Kalkulacja!I:I,MATCH(U144,Kalkulacja!AM:AM,0))&\" - kodowanie www\",\"\"),\"\")","v":""},"",null,"",null,"",{"$f":"IF(IF($AC$4=\"x\",IFERROR(INDEX(Kalkulacja!AF:AF,MATCH(U144,Kalkulacja!AM:AM,0)),\"\"),\"\")=\"\",\"\",IF($AC$4=\"x\",IFERROR(INDEX(Kalkulacja!AF:AF,MATCH(U144,Kalkulacja!AM:AM,0)),\"\"),\"\"))","v":""},null,null,null,null,"",0,122,{"$f":"IFERROR(INDEX(Kalkulacja!I:I,MATCH(U144,Kalkulacja!AM:AM,0)),\"\")","v":""},0,{"$error":"#N/A"},"",{"$f":"IF($AC$4=\"x\",IFERROR((INDEX(Kalkulacja!AE:AE,MATCH($U144,Kalkulacja!AM:AM,0)))*$D$21,\"\"),\"\")","v":""},{"$error":"#VALUE!"},{"$error":"#VALUE!"},null,"","","","","","","","","","","",null,{"$f":"IF(AD144=\"\",\"\",MAX($AP$10:AP143)+1)","v":""},null,null,"","",null,null,null,null,null,null,null,"","","Opis"]
[null,null,null,null,null,null,"",{"$f":"IF($AC$4=\"x\",IFERROR(INDEX(Kalkulacja!I:I,MATCH(U145,Kalkulacja!AM:AM,0))&\" - kodowanie www\",\"\"),\"\")","v":""},"",null,"",null,"",{"$f":"IF(IF($AC$4=\"x\",IFERROR(INDEX(Kalkulacja!AF:AF,MATCH(U145,Kalkulacja!AM:AM,0)),\"\"),\"\")=\"\",\"\",IF($AC$4=\"x\",IFERROR(INDEX(Kalkulacja!AF:AF,MATCH(U145,Kalkulacja!AM:AM,0)),\"\"),\"\"))","v":""},null,null,null,null,"",0,123,{"$f":"IFERROR(INDEX(Kalkulacja!I:I,MATCH(U145,Kalkulacja!AM:AM,0)),\"\")","v":""},0,{"$error":"#N/A"},"",{"$f":"IF($AC$4=\"x\",IFERROR((INDEX(Kalkulacja!AE:AE,MATCH($U145,Kalkulacja!AM:AM,0)))*$D$21,\"\"),\"\")","v":""},{"$error":"#VALUE!"},{"$error":"#VALUE!"},null,"","","","","","","","","","","",null,{"$f":"IF(AD145=\"\",\"\",MAX($AP$10:AP144)+1)","v":""},null,null,"","",null,null,null,null,null,null,null,"","","Opis"]
[null,null,null,null,null,null,"",{"$f":"IF($AC$4=\"x\",IFERROR(INDEX(Kalkulacja!I:I,MATCH(U146,Kalkulacja!AM:AM,0))&\" - kodowanie www\",\"\"),\"\")","v":""},"",null,"",null,"",{"$f":"IF(IF($AC$4=\"x\",IFERROR(INDEX(Kalkulacja!AF:AF,MATCH(U146,Kalkulacja!AM:AM,0)),\"\"),\"\")=\"\",\"\",IF($AC$4=\"x\",IFERROR(INDEX(Kalkulacja!AF:AF,MATCH(U146,Kalkulacja!AM:AM,0)),\"\"),\"\"))","v":""},null,null,null,null,"",0,124,{"$f":"IFERROR(INDEX(Kalkulacja!I:I,MATCH(U146,Kalkulacja!AM:AM,0)),\"\")","v":""},0,{"$error":"#N/A"},"",{"$f":"IF($AC$4=\"x\",IFERROR((INDEX(Kalkulacja!AE:AE,MATCH($U146,Kalkulacja!AM:AM,0)))*$D$21,\"\"),\"\")","v":""},{"$error":"#VALUE!"},{"$error":"#VALUE!"},null,"","","","","","","","","","","",null,{"$f":"IF(AD146=\"\",\"\",MAX($AP$10:AP145)+1)","v":""},null,null,"","",null,null,null,null,null,null,null,"","","Opis"]
[null,null,null,null,null,null,"",{"$f":"IF($AC$4=\"x\",IFERROR(INDEX(Kalkulacja!I:I,MATCH(U147,Kalkulacja!AM:AM,0))&\" - kodowanie www\",\"\"),\"\")","v":""},"",null,"",null,"",{"$f":"IF(IF($AC$4=\"x\",IFERROR(INDEX(Kalkulacja!AF:AF,MATCH(U147,Kalkulacja!AM:AM,0)),\"\"),\"\")=\"\",\"\",IF($AC$4=\"x\",IFERROR(INDEX(Kalkulacja!AF:AF,MATCH(U147,Kalkulacja!AM:AM,0)),\"\"),\"\"))","v":""},null,null,null,null,"",0,125,{"$f":"IFERROR(INDEX(Kalkulacja!I:I,MATCH(U147,Kalkulacja!AM:AM,0)),\"\")","v":""},0,{"$error":"#N/A"},"",{"$f":"IF($AC$4=\"x\",IFERROR((INDEX(Kalkulacja!AE:AE,MATCH($U147,Kalkulacja!AM:AM,0)))*$D$21,\"\"),\"\")","v":""},{"$error":"#VALUE!"},{"$error":"#VALUE!"},null,"","","","","","","","","","","",null,{"$f":"IF(AD147=\"\",\"\",MAX($AP$10:AP146)+1)","v":""},null,null,"","",null,null,null,null,null,null,null,"","","Opis"]
[null,null,null,null,null,null,{"$f":"IF($AC$4=\"x\",\"Web Developer\",\"\")","v":""},{"$f":"IF($AC$4=\"x\",IFERROR(INDEX(Kalkulacja!I:I,MATCH(U148,Kalkulacja!AM:AM,0))&\" - kodowanie www\",\"\"),\"\")","v":""},"",null,"",null,"",{"$f":"IF(IF($AC$4=\"x\",IFERROR(INDEX(Kalkulacja!AF:AF,MATCH(U148,Kalkulacja!AM:AM,0)),\"\"),\"\")=\"\",\"\",IF($AC$4=\"x\",IFERROR(INDEX(Kalkulacja!AF:AF,MATCH(U148,Kalkulacja!AM:AM,0)),\"\"),\"\"))","v":""},null,null,null,null,"",0,126,{"$f":"IFERROR(INDEX(Kalkulacja!I:I,MATCH(U148,Kalkulacja!AM:AM,0)),\"\")","v":""},0,{"$error":"#N/A"},"",{"$f":"IF($AC$4=\"x\",IFERROR((INDEX(Kalkulacja!AE:AE,MATCH($U148,Kalkulacja!AM:AM,0)))*$D$21,\"\"),\"\")","v":""},{"$error":"#VALUE!"},{"$error":"#VALUE!"},null,"","","","","","","","","","","",null,{"$f":"IF(AD148=\"\",\"\",MAX($AP$10:AP147)+1)","v":""},null,null,"","",null,null,null,null,null,null,null,"","","Opis"]
[null,null,null,null,null,null,"",{"$f":"IF($AC$4=\"x\",IFERROR(INDEX(Kalkulacja!I:I,MATCH(U149,Kalkulacja!AM:AM,0))&\" - kodowanie www\",\"\"),\"\")","v":""},"",null,"",null,"",{"$f":"IF(IF($AC$4=\"x\",IFERROR(INDEX(Kalkulacja!AF:AF,MATCH(U149,Kalkulacja!AM:AM,0)),\"\"),\"\")=\"\",\"\",IF($AC$4=\"x\",IFERROR(INDEX(Kalkulacja!AF:AF,MATCH(U149,Kalkulacja!AM:AM,0)),\"\"),\"\"))","v":""},null,null,null,null,"",0,127,{"$f":"IFERROR(INDEX(Kalkulacja!I:I,MATCH(U149,Kalkulacja!AM:AM,0)),\"\")","v":""},0,{"$error":"#N/A"},"",{"$f":"IF($AC$4=\"x\",IFERROR((INDEX(Kalkulacja!AE:AE,MATCH($U149,Kalkulacja!AM:AM,0)))*$D$21,\"\"),\"\")","v":""},{"$error":"#VALUE!"},{"$error":"#VALUE!"},null,"","","","","","","","","","","",null,{"$f":"IF(AD149=\"\",\"\",MAX($AP$10:AP148)+1)","v":""},null,null,"","",null,null,null,null,null,null,null,"","","Opis"]
[null,null,null,null,null,null,"",{"$f":"IF($AC$4=\"x\",IFERROR(INDEX(Kalkulacja!I:I,MATCH(U150,Kalkulacja!AM:AM,0))&\" - kodowanie www\",\"\"),\"\")","v":""},"",null,"",null,"",{"$f":"IF(IF($AC$4=\"x\",IFERROR(INDEX(Kalkulacja!AF:AF,MATCH(U150,Kalkulacja!AM:AM,0)),\"\"),\"\")=\"\",\"\",IF($AC$4=\"x\",IFERROR(INDEX(Kalkulacja!AF:AF,MATCH(U150,Kalkulacja!AM:AM,0)),\"\"),\"\"))","v":""},null,null,null,null,"",0,128,{"$f":"IFERROR(INDEX(Kalkulacja!I:I,MATCH(U150,Kalkulacja!AM:AM,0)),\"\")","v":""},0,{"$error":"#N/A"},"",{"$f":"IF($AC$4=\"x\",IFERROR((INDEX(Kalkulacja!AE:AE,MATCH($U150,Kalkulacja!AM:AM,0)))*$D$21,\"\"),\"\")","v":""},{"$error":"#VALUE!"},{"$error":"#VALUE!"},null,"","","","","","","","","","","",null,{"$f":"IF(AD150=\"\",\"\",MAX($AP$10:AP149)+1)","v":""},null,null,"","",null,null,null,null,null,null,null,"","","Opis"]
[null,null,null,null,null,null,"",{"$f":"IF($AC$4=\"x\",IFERROR(INDEX(Kalkulacja!I:I,MATCH(U151,Kalkulacja!AM:AM,0))&\" - kodowanie www\",\"\"),\"\")","v":""},"",null,"",null,"",{"$f":"IF(IF($AC$4=\"x\",IFERROR(INDEX(Kalkulacja!AF:AF,MATCH(U151,Kalkulacja!AM:AM,0)),\"\"),\"\")=\"\",\"\",IF($AC$4=\"x\",IFERROR(INDEX(Kalkulacja!AF:AF,MATCH(U151,Kalkulacja!AM:AM,0)),\"\"),\"\"))","v":""},null,null,null,null,"",0,129,{"$f":"IFERROR(INDEX(Kalkulacja!I:I,MATCH(U151,Kalkulacja!AM:AM,0)),\"\")","v":""},0,{"$error":"#N/A"},"",{"$f":"IF($AC$4=\"x\",IFERROR((INDEX(Kalkulacja!AE:AE,MATCH($U151,Kalkulacja!AM:AM,0)))*$D$21,\"\"),\"\")","v":""},{"$error":"#VALUE!"},{"$error":"#VALUE!"},null,"","","","","","","","","","","",null,{"$f":"IF(AD151=\"\",\"\",MAX($AP$10:AP150)+1)","v":""},null,null,"","",null,null,null,null,null,null,null,"","","Opis"]
[null,null,null,null,null,null,"",{"$f":"IF($AC$4=\"x\",IFERROR(INDEX(Kalkulacja!I:I,MATCH(U152,Kalkulacja!AM:AM,0))&\" - kodowanie www\",\"\"),\"\")","v":""},{"$f":"IF($AC$4=\"x\",IF(S152=\">\",\"\",\"podrzędne\"),\"\")","v":""},null,{"$f":"IF($AC$4=\"x\",IF(S152=\">\",\"\",IFERROR(VLOOKUP(G152,$H$3:$I$6,2,0),\"\")),\"\")","v":""},null,{"$f":"IF($AC$4=\"x\",IF(S152=\">\",\"\",IF(Z152=\"\",\"\",TRUNC(Z152)&\":\"&AB152)),\"\")","v":""},{"$f":"IF(IF($AC$4=\"x\",IFERROR(INDEX(Kalkulacja!AF:AF,MATCH(U152,Kalkulacja!AM:AM,0)),\"\"),\"\")=\"\",\"\",IF($AC$4=\"x\",IFERROR(INDEX(Kalkulacja!AF:AF,MATCH(U152,Kalkulacja!AM:AM,0)),\"\"),\"\"))","v":""},null,null,null,null,"",0,130,{"$f":"IFERROR(INDEX(Kalkulacja!I:I,MATCH(U152,Kalkulacja!AM:AM,0)),\"\")","v":""},0,{"$error":"#N/A"},"",{"$f":"IF($AC$4=\"x\",IFERROR((INDEX(Kalkulacja!AE:AE,MATCH($U152,Kalkulacja!AM:AM,0)))*$D$21,\"\"),\"\")","v":""},{"$error":"#VALUE!"},{"$error":"#VALUE!"},null,{"$f":"IF(H152=\"\",\"\",IF(S152=\">\",\"\",H152&\" - \"&$L$3))","v":""},"","","","","","","",{"$f":"IF(AD152=\"\",\"\",$J$22)","v":""},"","",null,{"$f":"IF(AD152=\"\",\"\",MAX($AP$10:AP151)+1)","v":""},null,null,"","",null,null,null,null,null,null,null,"","","Opis"]
[null,null,null,null,null,null,"",{"$f":"IF($AC$4=\"x\",IFERROR(INDEX(Kalkulacja!I:I,MATCH(U153,Kalkulacja!AM:AM,0))&\" - kodowanie www\",\"\"),\"\")","v":""},"",null,"",null,"",{"$f":"IF(IF($AC$4=\"x\",IFERROR(INDEX(Kalkulacja!AF:AF,MATCH(U153,Kalkulacja!AM:AM,0)),\"\"),\"\")=\"\",\"\",IF($AC$4=\"x\",IFERROR(INDEX(Kalkulacja!AF:AF,MATCH(U153,Kalkulacja!AM:AM,0)),\"\"),\"\"))","v":""},null,null,null,null,"",0,131,{"$f":"IFERROR(INDEX(Kalkulacja!I:I,MATCH(U153,Kalkulacja!AM:AM,0)),\"\")","v":""},0,{"$error":"#N/A"},"",{"$f":"IF($AC$4=\"x\",IFERROR((INDEX(Kalkulacja!AE:AE,MATCH($U153,Kalkulacja!AM:AM,0)))*$D$21,\"\"),\"\")","v":""},{"$error":"#VALUE!"},{"$error":"#VALUE!"},null,"","","","","","","","","","","",null,{"$f":"IF(AD153=\"\",\"\",MAX($AP$10:AP152)+1)","v":""},null,null,"","",null,null,null,null,null,null,null,"","","Opis"]
[null,null,null,null,null,null,"",{"$f":"IF($AC$4=\"x\",IFERROR(INDEX(Kalkulacja!I:I,MATCH(U154,Kalkulacja!AM:AM,0))&\" - kodowanie www\",\"\"),\"\")","v":""},"",null,"",null,"",{"$f":"IF(IF($AC$4=\"x\",IFERROR(INDEX(Kalkulacja!AF:AF,MATCH(U154,Kalkulacja!AM:AM,0)),\"\"),\"\")=\"\",\"\",IF($AC$4=\"x\",IFERROR(INDEX(Kalkulacja!AF:AF,MATCH(U154,Kalkulacja!AM:AM,0)),\"\"),\"\"))","v":""},null,null,null,null,"",0,132,{"$f":"IFERROR(INDEX(Kalkulacja!I:I,MATCH(U154,Kalkulacja!AM:AM,0)),\"\")","v":""},0,{"$error":"#N/A"},"",{"$f":"IF($AC$4=\"x\",IFERROR((INDEX(Kalkulacja!AE:AE,MATCH($U154,Kalkulacja!AM:AM,0)))*$D$21,\"\"),\"\")","v":""},{"$error":"#VALUE!"},{"$error":"#VALUE!"},null,"","","","","","","","","","","",null,{"$f":"IF(AD154=\"\",\"\",MAX($AP$10:AP153)+1)","v":""},null,null,"","",null,null,null,null,null,null,null,"","","Opis"]
[null,null,null,null,null,null,"",{"$f":"IF($AC$4=\"x\",IFERROR(INDEX(Kalkulacja!I:I,MATCH(U155,Kalkulacja!AM:AM,0))&\" - kodowanie www\",\"\"),\"\")","v":""},"",null,"",null,"",{"$f":"IF(IF($AC$4=\"x\",IFERROR(INDEX(Kalkulacja!AF:AF,MATCH(U155,Kalkulacja!AM:AM,0)),\"\"),\"\")=\"\",\"\",IF($AC$4=\"x\",IFERROR(INDEX(Kalkulacja!AF:AF,MATCH(U155,Kalkulacja!AM:AM,0)),\"\"),\"\"))","v":""},null,null,null,null,"",0,133,{"$f":"IFERROR(INDEX(Kalkulacja!I:I,MATCH(U155,Kalkulacja!AM:AM,0)),\"\")","v":""},0,{"$error":"#N/A"},"",{"$f":"IF($AC$4=\"x\",IFERROR((INDEX(Kalkulacja!AE:AE,MATCH($U155,Kalkulacja!AM:AM,0)))*$D$21,\"\"),\"\")","v":""},{"$error":"#VALUE!"},{"$error":"#VALUE!"},null,"","","","","","","","","","","",null,{"$f":"IF(AD155=\"\",\"\",MAX($AP$10:AP154)+1)","v":""},null,null,"","",null,null,null,null,null,null,null,"","","Opis"]
[null,null,null,null,null,null,"",{"$f":"IF($AC$4=\"x\",IFERROR(INDEX(Kalkulacja!I:I,MATCH(U156,Kalkulacja!AM:AM,0))&\" - kodowanie www\",\"\"),\"\")","v":""},"",null,"",null,"",{"$f":"IF(IF($AC$4=\"x\",IFERROR(INDEX(Kalkulacja!AF:AF,MATCH(U156,Kalkulacja!AM:AM,0)),\"\"),\"\")=\"\",\"\",IF($AC$4=\"x\",IFERROR(INDEX(Kalkulacja!AF:AF,MATCH(U156,Kalkulacja!AM:AM,0)),\"\"),\"\"))","v":""},null,null,null,null,"",0,134,{"$f":"IFERROR(INDEX(Kalkulacja!I:I,MATCH(U156,Kalkulacja!AM:AM,0)),\"\")","v":""},0,{"$error":"#N/A"},"",{"$f":"IF($AC$4=\"x\",IFERROR((INDEX(Kalkulacja!AE:AE,MATCH($U156,Kalkulacja!AM:AM,0)))*$D$21,\"\"),\"\")","v":""},{"$error":"#VALUE!"},{"$error":"#VALUE!"},null,"","","","","","","","","","","",null,{"$f":"IF(AD156=\"\",\"\",MAX($AP$10:AP155)+1)","v":""},null,null,"","",null,null,null,null,null,null,null,"","","Opis"]
[null,null,null,null,null,null,"",{"$f":"IF($AC$4=\"x\",IFERROR(INDEX(Kalkulacja!I:I,MATCH(U157,Kalkulacja!AM:AM,0))&\" - kodowanie www\",\"\"),\"\")","v":""},"",null,"",null,"",{"$f":"IF(IF($AC$4=\"x\",IFERROR(INDEX(Kalkulacja!AF:AF,MATCH(U157,Kalkulacja!AM:AM,0)),\"\"),\"\")=\"\",\"\",IF($AC$4=\"x\",IFERROR(INDEX(Kalkulacja!AF:AF,MATCH(U157,Kalkulacja!AM:AM,0)),\"\"),\"\"))","v":""},null,null,null,null,"",0,135,{"$f":"IFERROR(INDEX(Kalkulacja!I:I,MATCH(U157,Kalkulacja!AM:AM,0)),\"\")","v":""},0,{"$error":"#N/A"},"",{"$f":"IF($AC$4=\"x\",IFERROR((INDEX(Kalkulacja!AE:AE,MATCH($U157,Kalkulacja!AM:AM,0)))*$D$21,\"\"),\"\")","v":""},{"$error":"#VALUE!"},{"$error":"#VALUE!"},null,"","","","","","","","","","","",null,{"$f":"IF(AD157=\"\",\"\",MAX($AP$10:AP156)+1)","v":""},null,null,"","",null,null,null,null,null,null,null,"","","Opis"]
[null,null,null,null,null,null,"",{"$f":"IF($AC$4=\"x\",IFERROR(INDEX(Kalkulacja!I:I,MATCH(U158,Kalkulacja!AM:AM,0))&\" - kodowanie www\",\"\"),\"\")","v":""},"",null,"",null,"",{"$f":"IF(IF($AC$4=\"x\",IFERROR(INDEX(Kalkulacja!AF:AF,MATCH(U158,Kalkulacja!AM:AM,0)),\"\"),\"\")=\"\",\"\",IF($AC$4=\"x\",IFERROR(INDEX(Kalkulacja!AF:AF,MATCH(U158,Kalkulacja!AM:AM,0)),\"\"),\"\"))","v":""},null,null,null,null,"",0,136,{"$f":"IFERROR(INDEX(Kalkulacja!I:I,MATCH(U158,Kalkulacja!AM:AM,0)),\"\")","v":""},0,{"$error":"#N/A"},"",{"$f":"IF($AC$4=\"x\",IFERROR((INDEX(Kalkulacja!AE:AE,MATCH($U158,Kalkulacja!AM:AM,0)))*$D$21,\"\"),\"\")","v":""},{"$error":"#VALUE!"},{"$error":"#VALUE!"},null,"","","","","","","","","","","",null,{"$f":"IF(AD158=\"\",\"\",MAX($AP$10:AP157)+1)","v":""},null,null,"","",null,null,null,null,null,null,null,"","","Opis"]
[null,null,null,null,null,null,"",{"$f":"IF($AC$4=\"x\",IFERROR(INDEX(Kalkulacja!I:I,MATCH(U159,Kalkulacja!AM:AM,0))&\" - kodowanie www\",\"\"),\"\")","v":""},"",null,"",null,"",{"$f":"IF(IF($AC$4=\"x\",IFERROR(INDEX(Kalkulacja!AF:AF,MATCH(U159,Kalkulacja!AM:AM,0)),\"\"),\"\")=\"\",\"\",IF($AC$4=\"x\",IFERROR(INDEX(Kalkulacja!AF:AF,MATCH(U159,Kalkulacja!AM:AM,0)),\"\"),\"\"))","v":""},null,null,null,null,"",0,137,{"$f":"IFERROR(INDEX(Kalkulacja!I:I,MATCH(U159,Kalkulacja!AM:AM,0)),\"\")","v":""},0,{"$error":"#N/A"},"",{"$f":"IF($AC$4=\"x\",IFERROR((INDEX(Kalkulacja!AE:AE,MATCH($U159,Kalkulacja!AM:AM,0)))*$D$21,\"\"),\"\")","v":""},{"$error":"#VALUE!"},{"$error":"#VALUE!"},null,"","","","","","","","","","","",null,{"$f":"IF(AD159=\"\",\"\",MAX($AP$10:AP158)+1)","v":""},null,null,"","",null,null,null,null,null,null,null,"","","Opis"]
[null,null,null,null,null,null,"",{"$f":"IF($AC$4=\"x\",IFERROR(INDEX(Kalkulacja!I:I,MATCH(U160,Kalkulacja!AM:AM,0))&\" - kodowanie www\",\"\"),\"\")","v":""},"",null,"",null,"",{"$f":"IF(IF($AC$4=\"x\",IFERROR(INDEX(Kalkulacja!AF:AF,MATCH(U160,Kalkulacja!AM:AM,0)),\"\"),\"\")=\"\",\"\",IF($AC$4=\"x\",IFERROR(INDEX(Kalkulacja!AF:AF,MATCH(U160,Kalkulacja!AM:AM,0)),\"\"),\"\"))","v":""},null,null,null,null,"",0,138,{"$f":"IFERROR(INDEX(Kalkulacja!I:I,MATCH(U160,Kalkulacja!AM:AM,0)),\"\")","v":""},0,{"$error":"#N/A"},"",{"$f":"IF($AC$4=\"x\",IFERROR((INDEX(Kalkulacja!AE:AE,MATCH($U160,Kalkulacja!AM:AM,0)))*$D$21,\"\"),\"\")","v":""},{"$error":"#VALUE!"},{"$error":"#VALUE!"},null,"","","","",{"$f":"IF(AD160=\"\",\"\",\"WAITING\")","v":""},{"$f":"IF(AD160=\"\",\"\",21)","v":""},"","","","","",null,{"$f":"IF(AD160=\"\",\"\",MAX($AP$10:AP159)+1)","v":""},null,null,"","",null,null,null,null,null,null,null,"","","Opis"]
[null,null,null,null,null,null,"",{"$f":"IF($AC$4=\"x\",IFERROR(INDEX(Kalkulacja!I:I,MATCH(U161,Kalkulacja!AM:AM,0))&\" - kodowanie www\",\"\"),\"\")","v":""},"",null,"",null,"",{"$f":"IF(IF($AC$4=\"x\",IFERROR(INDEX(Kalkulacja!AF:AF,MATCH(U161,Kalkulacja!AM:AM,0)),\"\"),\"\")=\"\",\"\",IF($AC$4=\"x\",IFERROR(INDEX(Kalkulacja!AF:AF,MATCH(U161,Kalkulacja!AM:AM,0)),\"\"),\"\"))","v":""},null,null,null,null,"",0,139,{"$f":"IFERROR(INDEX(Kalkulacja!I:I,MATCH(U161,Kalkulacja!AM:AM,0)),\"\")","v":""},0,{"$error":"#N/A"},"",{"$f":"IF($AC$4=\"x\",IFERROR((INDEX(Kalkulacja!AE:AE,MATCH($U161,Kalkulacja!AM:AM,0)))*$D$21,\"\"),\"\")","v":""},{"$error":"#VALUE!"},{"$error":"#VALUE!"},null,"","","","","","","","","","","",null,{"$f":"IF(AD161=\"\",\"\",MAX($AP$10:AP160)+1)","v":""},null,null,"","",null,null,null,null,null,null,null,"","","Opis"]
[null,null,null,null,null,null,"",{"$f":"IF($AC$4=\"x\",IFERROR(INDEX(Kalkulacja!I:I,MATCH(U162,Kalkulacja!AM:AM,0))&\" - kodowanie www\",\"\"),\"\")","v":""},"",null,"",null,"",{"$f":"IF(IF($AC$4=\"x\",IFERROR(INDEX(Kalkulacja!AF:AF,MATCH(U162,Kalkulacja!AM:AM,0)),\"\"),\"\")=\"\",\"\",IF($AC$4=\"x\",IFERROR(INDEX(Kalkulacja!AF:AF,MATCH(U162,Kalkulacja!AM:AM,0)),\"\"),\"\"))","v":""},null,null,null,null,"",0,140,{"$f":"IFERROR(INDEX(Kalkulacja!I:I,MATCH(U162,Kalkulacja!AM:AM,0)),\"\")","v":""},0,{"$error":"#N/A"},"",{"$f":"IF($AC$4=\"x\",IFERROR((INDEX(Kalkulacja!AE:AE,MATCH($U162,Kalkulacja!AM:AM,0)))*$D$21,\"\"),\"\")","v":""},{"$error":"#VALUE!"},{"$error":"#VALUE!"},null,"","","","","","","","","","","",null,{"$f":"IF(AD162=\"\",\"\",MAX($AP$10:AP161)+1)","v":""},null,null,"","",null,null,null,null,null,null,null,"","","Opis"]
[null,null,null,null,null,null,"",{"$f":"IF($AC$4=\"x\",IFERROR(INDEX(Kalkulacja!I:I,MATCH(U163,Kalkulacja!AM:AM,0))&\" - kodowanie www\",\"\"),\"\")","v":""},"",null,"",null,"",{"$f":"IF(IF($AC$4=\"x\",IFERROR(INDEX(Kalkulacja!AF:AF,MATCH(U163,Kalkulacja!AM:AM,0)),\"\"),\"\")=\"\",\"\",IF($AC$4=\"x\",IFERROR(INDEX(Kalkulacja!AF:AF,MATCH(U163,Kalkulacja!AM:AM,0)),\"\"),\"\"))","v":""},null,null,null,null,"",0,141,{"$f":"IFERROR(INDEX(Kalkulacja!I:I,MATCH(U163,Kalkulacja!AM:AM,0)),\"\")","v":""},0,{"$error":"#N/A"},"",{"$f":"IF($AC$4=\"x\",IFERROR((INDEX(Kalkulacja!AE:AE,MATCH($U163,Kalkulacja!AM:AM,0)))*$D$21,\"\"),\"\")","v":""},{"$error":"#VALUE!"},{"$error":"#VALUE!"},null,"","","","","","","","","","","",null,{"$f":"IF(AD163=\"\",\"\",MAX($AP$10:AP162)+1)","v":""},null,null,"","",null,null,null,null,null,null,null,"","","Opis"]
[null,null,null,null,null,null,"",{"$f":"IF($AC$4=\"x\",IFERROR(INDEX(Kalkulacja!I:I,MATCH(U164,Kalkulacja!AM:AM,0))&\" - kodowanie www\",\"\"),\"\")","v":""},"",null,"",null,"",{"$f":"IF(IF($AC$4=\"x\",IFERROR(INDEX(Kalkulacja!AF:AF,MATCH(U164,Kalkulacja!AM:AM,0)),\"\"),\"\")=\"\",\"\",IF($AC$4=\"x\",IFERROR(INDEX(Kalkulacja!AF:AF,MATCH(U164,Kalkulacja!AM:AM,0)),\"\"),\"\"))","v":""},null,null,null,null,"",0,142,{"$f":"IFERROR(INDEX(Kalkulacja!I:I,MATCH(U164,Kalkulacja!AM:AM,0)),\"\")","v":""},0,{"$error":"#N/A"},"",{"$f":"IF($AC$4=\"x\",IFERROR((INDEX(Kalkulacja!AE:AE,MATCH($U164,Kalkulacja!AM:AM,0)))*$D$21,\"\"),\"\")","v":""},{"$error":"#VALUE!"},{"$error":"#VALUE!"},null,"","","","","","","","","","","",null,{"$f":"IF(AD164=\"\",\"\",MAX($AP$10:AP163)+1)","v":""},null,null,"","",null,null,null,null,null,null,null,"","","Opis"]
[null,null,null,null,null,null,"",{"$f":"IF($AC$4=\"x\",IFERROR(INDEX(Kalkulacja!I:I,MATCH(U165,Kalkulacja!AM:AM,0))&\" - kodowanie www\",\"\"),\"\")","v":""},"",null,"",null,"",{"$f":"IF(IF($AC$4=\"x\",IFERROR(INDEX(Kalkulacja!AF:AF,MATCH(U165,Kalkulacja!AM:AM,0)),\"\"),\"\")=\"\",\"\",IF($AC$4=\"x\",IFERROR(INDEX(Kalkulacja!AF:AF,MATCH(U165,Kalkulacja!AM:AM,0)),\"\"),\"\"))","v":""},null,null,null,null,"",0,143,{"$f":"IFERROR(INDEX(Kalkulacja!I:I,MATCH(U165,Kalkulacja!AM:AM,0)),\"\")","v":""},0,{"$error":"#N/A"},"",{"$f":"IF($AC$4=\"x\",IFERROR((INDEX(Kalkulacja!AE:AE,MATCH($U165,Kalkulacja!AM:AM,0)))*$D$21,\"\"),\"\")","v":""},{"$error":"#VALUE!"},{"$error":"#VALUE!"},null,"","","","","","","","","","","",null,{"$f":"IF(AD165=\"\",\"\",MAX($AP$10:AP164)+1)","v":""},null,null,"","",null,null,null,null,null,null,null,"","","Opis"]
[null,null,null,null,null,null,"",{"$f":"IF($AC$4=\"x\",IFERROR(INDEX(Kalkulacja!I:I,MATCH(U166,Kalkulacja!AM:AM,0))&\" - kodowanie www\",\"\"),\"\")","v":""},"",null,"",null,"",{"$f":"IF(IF($AC$4=\"x\",IFERROR(INDEX(Kalkulacja!AF:AF,MATCH(U166,Kalkulacja!AM:AM,0)),\"\"),\"\")=\"\",\"\",IF($AC$4=\"x\",IFERROR(INDEX(Kalkulacja!AF:AF,MATCH(U166,Kalkulacja!AM:AM,0)),\"\"),\"\"))","v":""},null,null,null,null,"",0,144,{"$f":"IFERROR(INDEX(Kalkulacja!I:I,MATCH(U166,Kalkulacja!AM:AM,0)),\"\")","v":""},0,{"$error":"#N/A"},"",{"$f":"IF($AC$4=\"x\",IFERROR((INDEX(Kalkulacja!AE:AE,MATCH($U166,Kalkulacja!AM:AM,0)))*$D$21,\"\"),\"\")","v":""},{"$error":"#VALUE!"},{"$error":"#VALUE!"},null,"","","","","","","","","","","",null,{"$f":"IF(AD166=\"\",\"\",MAX($AP$10:AP165)+1)","v":""},null,null,"","",null,null,null,null,null,null,null,"","","Opis"]
[null,null,null,null,null,null,"",{"$f":"IF($AC$4=\"x\",IFERROR(INDEX(Kalkulacja!I:I,MATCH(U167,Kalkulacja!AM:AM,0))&\" - kodowanie www\",\"\"),\"\")","v":""},"",null,"",null,"",{"$f":"IF(IF($AC$4=\"x\",IFERROR(INDEX(Kalkulacja!AF:AF,MATCH(U167,Kalkulacja!AM:AM,0)),\"\"),\"\")=\"\",\"\",IF($AC$4=\"x\",IFERROR(INDEX(Kalkulacja!AF:AF,MATCH(U167,Kalkulacja!AM:AM,0)),\"\"),\"\"))","v":""},null,null,null,null,"",0,145,{"$f":"IFERROR(INDEX(Kalkulacja!I:I,MATCH(U167,Kalkulacja!AM:AM,0)),\"\")","v":""},0,{"$error":"#N/A"},"",{"$f":"IF($AC$4=\"x\",IFERROR((INDEX(Kalkulacja!AE:AE,MATCH($U167,Kalkulacja!AM:AM,0)))*$D$21,\"\"),\"\")","v":""},{"$error":"#VALUE!"},{"$error":"#VALUE!"},null,"","","","","","","","","","","",null,{"$f":"IF(AD167=\"\",\"\",MAX($AP$10:AP166)+1)","v":""},null,null,"","",null,null,null,null,null,null,null,"","","Opis"]
[null,null,null,null,null,null,"",{"$f":"IF($AC$4=\"x\",IFERROR(INDEX(Kalkulacja!I:I,MATCH(U168,Kalkulacja!AM:AM,0))&\" - kodowanie www\",\"\"),\"\")","v":""},"",null,"",null,"",{"$f":"IF(IF($AC$4=\"x\",IFERROR(INDEX(Kalkulacja!AF:AF,MATCH(U168,Kalkulacja!AM:AM,0)),\"\"),\"\")=\"\",\"\",IF($AC$4=\"x\",IFERROR(INDEX(Kalkulacja!AF:AF,MATCH(U168,Kalkulacja!AM:AM,0)),\"\"),\"\"))","v":""},null,null,null,null,"",0,146,{"$f":"IFERROR(INDEX(Kalkulacja!I:I,MATCH(U168,Kalkulacja!AM:AM,0)),\"\")","v":""},0,{"$error":"#N/A"},"",{"$f":"IF($AC$4=\"x\",IFERROR((INDEX(Kalkulacja!AE:AE,MATCH($U168,Kalkulacja!AM:AM,0)))*$D$21,\"\"),\"\")","v":""},{"$error":"#VALUE!"},{"$error":"#VALUE!"},null,"","","","","","","","","","","",null,{"$f":"IF(AD168=\"\",\"\",MAX($AP$10:AP167)+1)","v":""},null,null,"","",null,null,null,null,null,null,null,"","","Opis"]
[null,null,null,null,null,null,"",{"$f":"IF($AC$4=\"x\",IFERROR(INDEX(Kalkulacja!I:I,MATCH(U169,Kalkulacja!AM:AM,0))&\" - kodowanie www\",\"\"),\"\")","v":""},"",null,"",null,"",{"$f":"IF(IF($AC$4=\"x\",IFERROR(INDEX(Kalkulacja!AF:AF,MATCH(U169,Kalkulacja!AM:AM,0)),\"\"),\"\")=\"\",\"\",IF($AC$4=\"x\",IFERROR(INDEX(Kalkulacja!AF:AF,MATCH(U169,Kalkulacja!AM:AM,0)),\"\"),\"\"))","v":""},null,null,null,null,"",0,147,{"$f":"IFERROR(INDEX(Kalkulacja!I:I,MATCH(U169,Kalkulacja!AM:AM,0)),\"\")","v":""},0,{"$error":"#N/A"},"",{"$f":"IF($AC$4=\"x\",IFERROR((INDEX(Kalkulacja!AE:AE,MATCH($U169,Kalkulacja!AM:AM,0)))*$D$21,\"\"),\"\")","v":""},{"$error":"#VALUE!"},{"$error":"#VALUE!"},null,"","","","","","","","","","","",null,{"$f":"IF(AD169=\"\",\"\",MAX($AP$10:AP168)+1)","v":""},null,null,"","",null,null,null,null,null,null,null,"","","Opis"]
[null,null,null,null,null,null,"",{"$f":"IF($AC$4=\"x\",IFERROR(INDEX(Kalkulacja!I:I,MATCH(U170,Kalkulacja!AM:AM,0))&\" - kodowanie www\",\"\"),\"\")","v":""},"",null,"",null,"",{"$f":"IF(IF($AC$4=\"x\",IFERROR(INDEX(Kalkulacja!AF:AF,MATCH(U170,Kalkulacja!AM:AM,0)),\"\"),\"\")=\"\",\"\",IF($AC$4=\"x\",IFERROR(INDEX(Kalkulacja!AF:AF,MATCH(U170,Kalkulacja!AM:AM,0)),\"\"),\"\"))","v":""},null,null,null,null,"",0,148,{"$f":"IFERROR(INDEX(Kalkulacja!I:I,MATCH(U170,Kalkulacja!AM:AM,0)),\"\")","v":""},0,{"$error":"#N/A"},"",{"$f":"IF($AC$4=\"x\",IFERROR((INDEX(Kalkulacja!AE:AE,MATCH($U170,Kalkulacja!AM:AM,0)))*$D$21,\"\"),\"\")","v":""},{"$error":"#VALUE!"},{"$error":"#VALUE!"},null,"","","","","","","","","","","",null,{"$f":"IF(AD170=\"\",\"\",MAX($AP$10:AP169)+1)","v":""},null,null,"","",null,null,null,null,null,null,null,"","","Opis"]
[null,null,null,null,null,null,"",{"$f":"IF($AC$4=\"x\",IFERROR(INDEX(Kalkulacja!I:I,MATCH(U171,Kalkulacja!AM:AM,0))&\" - kodowanie www\",\"\"),\"\")","v":""},"",null,"",null,"",{"$f":"IF(IF($AC$4=\"x\",IFERROR(INDEX(Kalkulacja!AF:AF,MATCH(U171,Kalkulacja!AM:AM,0)),\"\"),\"\")=\"\",\"\",IF($AC$4=\"x\",IFERROR(INDEX(Kalkulacja!AF:AF,MATCH(U171,Kalkulacja!AM:AM,0)),\"\"),\"\"))","v":""},null,null,null,null,"",0,149,{"$f":"IFERROR(INDEX(Kalkulacja!I:I,MATCH(U171,Kalkulacja!AM:AM,0)),\"\")","v":""},0,{"$error":"#N/A"},"",{"$f":"IF($AC$4=\"x\",IFERROR((INDEX(Kalkulacja!AE:AE,MATCH($U171,Kalkulacja!AM:AM,0)))*$D$21,\"\"),\"\")","v":""},{"$error":"#VALUE!"},{"$error":"#VALUE!"},null,"","","","","","","","","","","",null,{"$f":"IF(AD171=\"\",\"\",MAX($AP$10:AP170)+1)","v":""},null,null,"","",null,null,null,null,null,null,null,"","","Opis"]
[null,null,null,null,null,null,"",{"$f":"IF($AC$4=\"x\",IFERROR(INDEX(Kalkulacja!I:I,MATCH(U172,Kalkulacja!AM:AM,0))&\" - kodowanie www\",\"\"),\"\")","v":""},"",null,"",null,"",{"$f":"IF(IF($AC$4=\"x\",IFERROR(INDEX(Kalkulacja!AF:AF,MATCH(U172,Kalkulacja!AM:AM,0)),\"\"),\"\")=\"\",\"\",IF($AC$4=\"x\",IFERROR(INDEX(Kalkulacja!AF:AF,MATCH(U172,Kalkulacja!AM:AM,0)),\"\"),\"\"))","v":""},null,null,null,null,"",0,150,{"$f":"IFERROR(INDEX(Kalkulacja!I:I,MATCH(U172,Kalkulacja!AM:AM,0)),\"\")","v":""},0,{"$error":"#N/A"},"",{"$f":"IF($AC$4=\"x\",IFERROR((INDEX(Kalkulacja!AE:AE,MATCH($U172,Kalkulacja!AM:AM,0)))*$D$21,\"\"),\"\")","v":""},{"$error":"#VALUE!"},{"$error":"#VALUE!"},null,"","","","","","","","","","","",null,{"$f":"IF(AD172=\"\",\"\",MAX($AP$10:AP171)+1)","v":""},null,null,"","",null,null,null,null,null,null,null,"","","Opis"]
[null,null,null,null,null,null,"",{"$f":"IF($AC$4=\"x\",IFERROR(INDEX(Kalkulacja!I:I,MATCH(U173,Kalkulacja!AM:AM,0))&\" - kodowanie www\",\"\"),\"\")","v":""},"",null,"",null,"",{"$f":"IF(IF($AC$4=\"x\",IFERROR(INDEX(Kalkulacja!AF:AF,MATCH(U173,Kalkulacja!AM:AM,0)),\"\"),\"\")=\"\",\"\",IF($AC$4=\"x\",IFERROR(INDEX(Kalkulacja!AF:AF,MATCH(U173,Kalkulacja!AM:AM,0)),\"\"),\"\"))","v":""},null,null,null,null,"",0,151,{"$f":"IFERROR(INDEX(Kalkulacja!I:I,MATCH(U173,Kalkulacja!AM:AM,0)),\"\")","v":""},0,{"$error":"#N/A"},"",{"$f":"IF($AC$4=\"x\",IFERROR((INDEX(Kalkulacja!AE:AE,MATCH($U173,Kalkulacja!AM:AM,0)))*$D$21,\"\"),\"\")","v":""},{"$error":"#VALUE!"},{"$error":"#VALUE!"},null,"","","","","","","","","","","",null,{"$f":"IF(AD173=\"\",\"\",MAX($AP$10:AP172)+1)","v":""},null,null,"","",null,null,null,null,null,null,null,"","","Opis"]
[null,null,null,null,null,null,"",{"$f":"IF($AC$4=\"x\",IFERROR(INDEX(Kalkulacja!I:I,MATCH(U174,Kalkulacja!AM:AM,0))&\" - kodowanie www\",\"\"),\"\")","v":""},"",null,"",null,"",{"$f":"IF(IF($AC$4=\"x\",IFERROR(INDEX(Kalkulacja!AF:AF,MATCH(U174,Kalkulacja!AM:AM,0)),\"\"),\"\")=\"\",\"\",IF($AC$4=\"x\",IFERROR(INDEX(Kalkulacja!AF:AF,MATCH(U174,Kalkulacja!AM:AM,0)),\"\"),\"\"))","v":""},null,null,null,null,"",0,152,{"$f":"IFERROR(INDEX(Kalkulacja!I:I,MATCH(U174,Kalkulacja!AM:AM,0)),\"\")","v":""},0,{"$error":"#N/A"},"",{"$f":"IF($AC$4=\"x\",IFERROR((INDEX(Kalkulacja!AE:AE,MATCH($U174,Kalkulacja!AM:AM,0)))*$D$21,\"\"),\"\")","v":""},{"$error":"#VALUE!"},{"$error":"#VALUE!"},null,"","","","","","","","","","","",null,{"$f":"IF(AD174=\"\",\"\",MAX($AP$10:AP173)+1)","v":""},null,null,"","",null,null,null,null,null,null,null,"","","Opis"]
[null,null,null,null,null,null,"",{"$f":"IF($AC$4=\"x\",IFERROR(INDEX(Kalkulacja!I:I,MATCH(U175,Kalkulacja!AM:AM,0))&\" - kodowanie www\",\"\"),\"\")","v":""},"",null,"",null,"",{"$f":"IF(IF($AC$4=\"x\",IFERROR(INDEX(Kalkulacja!AF:AF,MATCH(U175,Kalkulacja!AM:AM,0)),\"\"),\"\")=\"\",\"\",IF($AC$4=\"x\",IFERROR(INDEX(Kalkulacja!AF:AF,MATCH(U175,Kalkulacja!AM:AM,0)),\"\"),\"\"))","v":""},null,null,null,null,"",0,153,{"$f":"IFERROR(INDEX(Kalkulacja!I:I,MATCH(U175,Kalkulacja!AM:AM,0)),\"\")","v":""},0,{"$error":"#N/A"},"",{"$f":"IF($AC$4=\"x\",IFERROR((INDEX(Kalkulacja!AE:AE,MATCH($U175,Kalkulacja!AM:AM,0)))*$D$21,\"\"),\"\")","v":""},{"$error":"#VALUE!"},{"$error":"#VALUE!"},null,"","","","","","","","","","","",null,{"$f":"IF(AD175=\"\",\"\",MAX($AP$10:AP174)+1)","v":""},null,null,"","",null,null,null,null,null,null,null,"","","Opis"]
[null,null,null,null,null,null,"",{"$f":"IF($AC$4=\"x\",IFERROR(INDEX(Kalkulacja!I:I,MATCH(U176,Kalkulacja!AM:AM,0))&\" - kodowanie www\",\"\"),\"\")","v":""},"",null,"",null,"",{"$f":"IF(IF($AC$4=\"x\",IFERROR(INDEX(Kalkulacja!AF:AF,MATCH(U176,Kalkulacja!AM:AM,0)),\"\"),\"\")=\"\",\"\",IF($AC$4=\"x\",IFERROR(INDEX(Kalkulacja!AF:AF,MATCH(U176,Kalkulacja!AM:AM,0)),\"\"),\"\"))","v":""},null,null,null,null,"",0,154,{"$f":"IFERROR(INDEX(Kalkulacja!I:I,MATCH(U176,Kalkulacja!AM:AM,0)),\"\")","v":""},0,{"$error":"#N/A"},"",{"$f":"IF($AC$4=\"x\",IFERROR((INDEX(Kalkulacja!AE:AE,MATCH($U176,Kalkulacja!AM:AM,0)))*$D$21,\"\"),\"\")","v":""},{"$error":"#VALUE!"},{"$error":"#VALUE!"},null,"","","","","","","","","","","",null,{"$f":"IF(AD176=\"\",\"\",MAX($AP$10:AP175)+1)","v":""},null,null,"","",null,null,null,null,null,null,null,"","","Opis"]
[null,null,null,null,null,null,"",{"$f":"IF($AC$4=\"x\",IFERROR(INDEX(Kalkulacja!I:I,MATCH(U177,Kalkulacja!AM:AM,0))&\" - kodowanie www\",\"\"),\"\")","v":""},"",null,"",null,"",{"$f":"IF(IF($AC$4=\"x\",IFERROR(INDEX(Kalkulacja!AF:AF,MATCH(U177,Kalkulacja!AM:AM,0)),\"\"),\"\")=\"\",\"\",IF($AC$4=\"x\",IFERROR(INDEX(Kalkulacja!AF:AF,MATCH(U177,Kalkulacja!AM:AM,0)),\"\"),\"\"))","v":""},null,null,null,null,"",0,155,{"$f":"IFERROR(INDEX(Kalkulacja!I:I,MATCH(U177,Kalkulacja!AM:AM,0)),\"\")","v":""},0,{"$error":"#N/A"},"",{"$f":"IF($AC$4=\"x\",IFERROR((INDEX(Kalkulacja!AE:AE,MATCH($U177,Kalkulacja!AM:AM,0)))*$D$21,\"\"),\"\")","v":""},{"$error":"#VALUE!"},{"$error":"#VALUE!"},null,"","","","","","","","","","","",null,{"$f":"IF(AD177=\"\",\"\",MAX($AP$10:AP176)+1)","v":""},null,null,"","",null,null,null,null,null,null,null,"","","Opis"]
[null,null,null,null,null,null,"",{"$f":"IF($AC$4=\"x\",IFERROR(INDEX(Kalkulacja!I:I,MATCH(U178,Kalkulacja!AM:AM,0))&\" - kodowanie www\",\"\"),\"\")","v":""},"",null,"",null,"",{"$f":"IF(IF($AC$4=\"x\",IFERROR(INDEX(Kalkulacja!AF:AF,MATCH(U178,Kalkulacja!AM:AM,0)),\"\"),\"\")=\"\",\"\",IF($AC$4=\"x\",IFERROR(INDEX(Kalkulacja!AF:AF,MATCH(U178,Kalkulacja!AM:AM,0)),\"\"),\"\"))","v":""},null,null,null,null,"",0,156,{"$f":"IFERROR(INDEX(Kalkulacja!I:I,MATCH(U178,Kalkulacja!AM:AM,0)),\"\")","v":""},0,{"$error":"#N/A"},"",{"$f":"IF($AC$4=\"x\",IFERROR((INDEX(Kalkulacja!AE:AE,MATCH($U178,Kalkulacja!AM:AM,0)))*$D$21,\"\"),\"\")","v":""},{"$error":"#VALUE!"},{"$error":"#VALUE!"},null,"","","","","","","","","","","",null,{"$f":"IF(AD178=\"\",\"\",MAX($AP$10:AP177)+1)","v":""},null,null,"","",null,null,null,null,null,null,null,"","","Opis"]
[null,null,null,null,null,null,"",{"$f":"IF($AC$4=\"x\",IFERROR(INDEX(Kalkulacja!I:I,MATCH(U179,Kalkulacja!AM:AM,0))&\" - kodowanie www\",\"\"),\"\")","v":""},"",null,"",null,"",{"$f":"IF(IF($AC$4=\"x\",IFERROR(INDEX(Kalkulacja!AF:AF,MATCH(U179,Kalkulacja!AM:AM,0)),\"\"),\"\")=\"\",\"\",IF($AC$4=\"x\",IFERROR(INDEX(Kalkulacja!AF:AF,MATCH(U179,Kalkulacja!AM:AM,0)),\"\"),\"\"))","v":""},null,null,null,null,"",0,157,{"$f":"IFERROR(INDEX(Kalkulacja!I:I,MATCH(U179,Kalkulacja!AM:AM,0)),\"\")","v":""},0,{"$error":"#N/A"},"",{"$f":"IF($AC$4=\"x\",IFERROR((INDEX(Kalkulacja!AE:AE,MATCH($U179,Kalkulacja!AM:AM,0)))*$D$21,\"\"),\"\")","v":""},{"$error":"#VALUE!"},{"$error":"#VALUE!"},null,"","","","","","","","","","","",null,{"$f":"IF(AD179=\"\",\"\",MAX($AP$10:AP178)+1)","v":""},null,null,"","",null,null,null,null,null,null,null,"","","Opis"]
[null,null,null,null,null,null,"",{"$f":"IF($AC$4=\"x\",IFERROR(INDEX(Kalkulacja!I:I,MATCH(U180,Kalkulacja!AM:AM,0))&\" - kodowanie www\",\"\"),\"\")","v":""},"",null,"",null,"",{"$f":"IF(IF($AC$4=\"x\",IFERROR(INDEX(Kalkulacja!AF:AF,MATCH(U180,Kalkulacja!AM:AM,0)),\"\"),\"\")=\"\",\"\",IF($AC$4=\"x\",IFERROR(INDEX(Kalkulacja!AF:AF,MATCH(U180,Kalkulacja!AM:AM,0)),\"\"),\"\"))","v":""},null,null,null,null,"",0,158,{"$f":"IFERROR(INDEX(Kalkulacja!I:I,MATCH(U180,Kalkulacja!AM:AM,0)),\"\")","v":""},0,{"$error":"#N/A"},"",{"$f":"IF($AC$4=\"x\",IFERROR((INDEX(Kalkulacja!AE:AE,MATCH($U180,Kalkulacja!AM:AM,0)))*$D$21,\"\"),\"\")","v":""},{"$error":"#VALUE!"},{"$error":"#VALUE!"},null,"","","","","","","","","","","",null,{"$f":"IF(AD180=\"\",\"\",MAX($AP$10:AP179)+1)","v":""},null,null,"","",null,null,null,null,null,null,null,"","","Opis"]
[null,null,null,null,null,null,"",{"$f":"IF($AC$4=\"x\",IFERROR(INDEX(Kalkulacja!I:I,MATCH(U181,Kalkulacja!AM:AM,0))&\" - kodowanie www\",\"\"),\"\")","v":""},"",null,"",null,"",{"$f":"IF(IF($AC$4=\"x\",IFERROR(INDEX(Kalkulacja!AF:AF,MATCH(U181,Kalkulacja!AM:AM,0)),\"\"),\"\")=\"\",\"\",IF($AC$4=\"x\",IFERROR(INDEX(Kalkulacja!AF:AF,MATCH(U181,Kalkulacja!AM:AM,0)),\"\"),\"\"))","v":""},null,null,null,null,"",0,159,{"$f":"IFERROR(INDEX(Kalkulacja!I:I,MATCH(U181,Kalkulacja!AM:AM,0)),\"\")","v":""},0,{"$error":"#N/A"},"",{"$f":"IF($AC$4=\"x\",IFERROR((INDEX(Kalkulacja!AE:AE,MATCH($U181,Kalkulacja!AM:AM,0)))*$D$21,\"\"),\"\")","v":""},{"$error":"#VALUE!"},{"$error":"#VALUE!"},null,"","","","","","","","","","","",null,{"$f":"IF(AD181=\"\",\"\",MAX($AP$10:AP180)+1)","v":""},null,null,"","",null,null,null,null,null,null,null,"","","Opis"]
[null,null,null,null,null,null,"",{"$f":"IF($AC$4=\"x\",IFERROR(INDEX(Kalkulacja!I:I,MATCH(U182,Kalkulacja!AM:AM,0))&\" - kodowanie www\",\"\"),\"\")","v":""},"",null,"",null,"",{"$f":"IF(IF($AC$4=\"x\",IFERROR(INDEX(Kalkulacja!AF:AF,MATCH(U182,Kalkulacja!AM:AM,0)),\"\"),\"\")=\"\",\"\",IF($AC$4=\"x\",IFERROR(INDEX(Kalkulacja!AF:AF,MATCH(U182,Kalkulacja!AM:AM,0)),\"\"),\"\"))","v":""},null,null,null,null,"",0,160,{"$f":"IFERROR(INDEX(Kalkulacja!I:I,MATCH(U182,Kalkulacja!AM:AM,0)),\"\")","v":""},0,{"$error":"#N/A"},"",{"$f":"IF($AC$4=\"x\",IFERROR((INDEX(Kalkulacja!AE:AE,MATCH($U182,Kalkulacja!AM:AM,0)))*$D$21,\"\"),\"\")","v":""},{"$error":"#VALUE!"},{"$error":"#VALUE!"},null,"","","","","","","","","","","",null,{"$f":"IF(AD182=\"\",\"\",MAX($AP$10:AP181)+1)","v":""},null,null,"","",null,null,null,null,null,null,null,"","","Opis"]
[null,null,null,null,null,null,"",{"$f":"IF($AC$4=\"x\",IFERROR(INDEX(Kalkulacja!I:I,MATCH(U183,Kalkulacja!AM:AM,0))&\" - kodowanie www\",\"\"),\"\")","v":""},"",null,"",null,"",{"$f":"IF(IF($AC$4=\"x\",IFERROR(INDEX(Kalkulacja!AF:AF,MATCH(U183,Kalkulacja!AM:AM,0)),\"\"),\"\")=\"\",\"\",IF($AC$4=\"x\",IFERROR(INDEX(Kalkulacja!AF:AF,MATCH(U183,Kalkulacja!AM:AM,0)),\"\"),\"\"))","v":""},null,null,null,null,"",0,161,{"$f":"IFERROR(INDEX(Kalkulacja!I:I,MATCH(U183,Kalkulacja!AM:AM,0)),\"\")","v":""},0,{"$error":"#N/A"},"",{"$f":"IF($AC$4=\"x\",IFERROR((INDEX(Kalkulacja!AE:AE,MATCH($U183,Kalkulacja!AM:AM,0)))*$D$21,\"\"),\"\")","v":""},{"$error":"#VALUE!"},{"$error":"#VALUE!"},null,"","","","","","","","","","","",null,{"$f":"IF(AD183=\"\",\"\",MAX($AP$10:AP182)+1)","v":""},null,null,"","",null,null,null,null,null,null,null,"","","Opis"]
[null,null,null,null,null,null,"",{"$f":"IF($AC$4=\"x\",IFERROR(INDEX(Kalkulacja!I:I,MATCH(U184,Kalkulacja!AM:AM,0))&\" - kodowanie www\",\"\"),\"\")","v":""},"",null,"",null,"",{"$f":"IF(IF($AC$4=\"x\",IFERROR(INDEX(Kalkulacja!AF:AF,MATCH(U184,Kalkulacja!AM:AM,0)),\"\"),\"\")=\"\",\"\",IF($AC$4=\"x\",IFERROR(INDEX(Kalkulacja!AF:AF,MATCH(U184,Kalkulacja!AM:AM,0)),\"\"),\"\"))","v":""},null,null,null,null,"",0,162,{"$f":"IFERROR(INDEX(Kalkulacja!I:I,MATCH(U184,Kalkulacja!AM:AM,0)),\"\")","v":""},0,{"$error":"#N/A"},"",{"$f":"IF($AC$4=\"x\",IFERROR((INDEX(Kalkulacja!AE:AE,MATCH($U184,Kalkulacja!AM:AM,0)))*$D$21,\"\"),\"\")","v":""},{"$error":"#VALUE!"},{"$error":"#VALUE!"},null,"","","","","","","","","","","",null,{"$f":"IF(AD184=\"\",\"\",MAX($AP$10:AP183)+1)","v":""},null,null,"","",null,null,null,null,null,null,null,"","","Opis"]
[null,null,null,null,null,null,"",{"$f":"IF($AC$4=\"x\",IFERROR(INDEX(Kalkulacja!I:I,MATCH(U185,Kalkulacja!AM:AM,0))&\" - kodowanie www\",\"\"),\"\")","v":""},"",null,"",null,"",{"$f":"IF(IF($AC$4=\"x\",IFERROR(INDEX(Kalkulacja!AF:AF,MATCH(U185,Kalkulacja!AM:AM,0)),\"\"),\"\")=\"\",\"\",IF($AC$4=\"x\",IFERROR(INDEX(Kalkulacja!AF:AF,MATCH(U185,Kalkulacja!AM:AM,0)),\"\"),\"\"))","v":""},null,null,null,null,"",0,163,{"$f":"IFERROR(INDEX(Kalkulacja!I:I,MATCH(U185,Kalkulacja!AM:AM,0)),\"\")","v":""},0,{"$error":"#N/A"},"",{"$f":"IF($AC$4=\"x\",IFERROR((INDEX(Kalkulacja!AE:AE,MATCH($U185,Kalkulacja!AM:AM,0)))*$D$21,\"\"),\"\")","v":""},{"$error":"#VALUE!"},{"$error":"#VALUE!"},null,"","","","","","","","","","","",null,{"$f":"IF(AD185=\"\",\"\",MAX($AP$10:AP184)+1)","v":""},null,null,"","",null,null,null,null,null,null,null,"","","Opis"]
[null,null,null,null,null,null,"",{"$f":"IF($AC$4=\"x\",IFERROR(INDEX(Kalkulacja!I:I,MATCH(U186,Kalkulacja!AM:AM,0))&\" - kodowanie www\",\"\"),\"\")","v":""},"",null,"",null,"",{"$f":"IF(IF($AC$4=\"x\",IFERROR(INDEX(Kalkulacja!AF:AF,MATCH(U186,Kalkulacja!AM:AM,0)),\"\"),\"\")=\"\",\"\",IF($AC$4=\"x\",IFERROR(INDEX(Kalkulacja!AF:AF,MATCH(U186,Kalkulacja!AM:AM,0)),\"\"),\"\"))","v":""},null,null,null,null,"",0,164,{"$f":"IFERROR(INDEX(Kalkulacja!I:I,MATCH(U186,Kalkulacja!AM:AM,0)),\"\")","v":""},0,{"$error":"#N/A"},"",{"$f":"IF($AC$4=\"x\",IFERROR((INDEX(Kalkulacja!AE:AE,MATCH($U186,Kalkulacja!AM:AM,0)))*$D$21,\"\"),\"\")","v":""},{"$error":"#VALUE!"},{"$error":"#VALUE!"},null,"","","","","","","","","","","",null,{"$f":"IF(AD186=\"\",\"\",MAX($AP$10:AP185)+1)","v":""},null,null,"","",null,null,null,null,null,null,null,"","","Opis"]
[null,null,null,null,null,null,"",{"$f":"IF($AC$4=\"x\",IFERROR(INDEX(Kalkulacja!I:I,MATCH(U187,Kalkulacja!AM:AM,0))&\" - kodowanie www\",\"\"),\"\")","v":""},"",null,"",null,"",{"$f":"IF(IF($AC$4=\"x\",IFERROR(INDEX(Kalkulacja!AF:AF,MATCH(U187,Kalkulacja!AM:AM,0)),\"\"),\"\")=\"\",\"\",IF($AC$4=\"x\",IFERROR(INDEX(Kalkulacja!AF:AF,MATCH(U187,Kalkulacja!AM:AM,0)),\"\"),\"\"))","v":""},null,null,null,null,"",0,165,{"$f":"IFERROR(INDEX(Kalkulacja!I:I,MATCH(U187,Kalkulacja!AM:AM,0)),\"\")","v":""},0,{"$error":"#N/A"},"",{"$f":"IF($AC$4=\"x\",IFERROR((INDEX(Kalkulacja!AE:AE,MATCH($U187,Kalkulacja!AM:AM,0)))*$D$21,\"\"),\"\")","v":""},{"$error":"#VALUE!"},{"$error":"#VALUE!"},null,"","","","","","","","","","","",null,{"$f":"IF(AD187=\"\",\"\",MAX($AP$10:AP186)+1)","v":""},null,null,"","",null,null,null,null,null,null,null,"","","Opis"]
[null,null,null,null,null,null,"",{"$f":"IF($AC$4=\"x\",IFERROR(INDEX(Kalkulacja!I:I,MATCH(U188,Kalkulacja!AM:AM,0))&\" - kodowanie www\",\"\"),\"\")","v":""},"",null,"",null,"",{"$f":"IF(IF($AC$4=\"x\",IFERROR(INDEX(Kalkulacja!AF:AF,MATCH(U188,Kalkulacja!AM:AM,0)),\"\"),\"\")=\"\",\"\",IF($AC$4=\"x\",IFERROR(INDEX(Kalkulacja!AF:AF,MATCH(U188,Kalkulacja!AM:AM,0)),\"\"),\"\"))","v":""},null,null,null,null,"",0,166,{"$f":"IFERROR(INDEX(Kalkulacja!I:I,MATCH(U188,Kalkulacja!AM:AM,0)),\"\")","v":""},0,{"$error":"#N/A"},"",{"$f":"IF($AC$4=\"x\",IFERROR((INDEX(Kalkulacja!AE:AE,MATCH($U188,Kalkulacja!AM:AM,0)))*$D$21,\"\"),\"\")","v":""},{"$error":"#VALUE!"},{"$error":"#VALUE!"},null,"","","","","","","","","","","",null,{"$f":"IF(AD188=\"\",\"\",MAX($AP$10:AP187)+1)","v":""},null,null,"","",null,null,null,null,null,null,null,"","","Opis"]
[null,null,null,null,null,null,"",{"$f":"IF($AC$4=\"x\",IFERROR(INDEX(Kalkulacja!I:I,MATCH(U189,Kalkulacja!AM:AM,0))&\" - kodowanie www\",\"\"),\"\")","v":""},"",null,"",null,"",{"$f":"IF(IF($AC$4=\"x\",IFERROR(INDEX(Kalkulacja!AF:AF,MATCH(U189,Kalkulacja!AM:AM,0)),\"\"),\"\")=\"\",\"\",IF($AC$4=\"x\",IFERROR(INDEX(Kalkulacja!AF:AF,MATCH(U189,Kalkulacja!AM:AM,0)),\"\"),\"\"))","v":""},null,null,null,null,"",0,167,{"$f":"IFERROR(INDEX(Kalkulacja!I:I,MATCH(U189,Kalkulacja!AM:AM,0)),\"\")","v":""},0,{"$error":"#N/A"},"",{"$f":"IF($AC$4=\"x\",IFERROR((INDEX(Kalkulacja!AE:AE,MATCH($U189,Kalkulacja!AM:AM,0)))*$D$21,\"\"),\"\")","v":""},{"$error":"#VALUE!"},{"$error":"#VALUE!"},null,"","","","","","","","","","","",null,{"$f":"IF(AD189=\"\",\"\",MAX($AP$10:AP188)+1)","v":""},null,null,"","",null,null,null,null,null,null,null,"","","Opis"]
[null,null,null,null,null,null,"",{"$f":"IF($AC$4=\"x\",IFERROR(INDEX(Kalkulacja!I:I,MATCH(U190,Kalkulacja!AM:AM,0))&\" - kodowanie www\",\"\"),\"\")","v":""},"",null,"",null,"",{"$f":"IF(IF($AC$4=\"x\",IFERROR(INDEX(Kalkulacja!AF:AF,MATCH(U190,Kalkulacja!AM:AM,0)),\"\"),\"\")=\"\",\"\",IF($AC$4=\"x\",IFERROR(INDEX(Kalkulacja!AF:AF,MATCH(U190,Kalkulacja!AM:AM,0)),\"\"),\"\"))","v":""},null,null,null,null,"",0,168,{"$f":"IFERROR(INDEX(Kalkulacja!I:I,MATCH(U190,Kalkulacja!AM:AM,0)),\"\")","v":""},0,{"$error":"#N/A"},"",{"$f":"IF($AC$4=\"x\",IFERROR((INDEX(Kalkulacja!AE:AE,MATCH($U190,Kalkulacja!AM:AM,0)))*$D$21,\"\"),\"\")","v":""},{"$error":"#VALUE!"},{"$error":"#VALUE!"},null,"","","","","","","","","","","",null,{"$f":"IF(AD190=\"\",\"\",MAX($AP$10:AP189)+1)","v":""},null,null,"","",null,null,null,null,null,null,null,"","","Opis"]
[null,null,null,null,null,null,"",{"$f":"IF($AC$4=\"x\",IFERROR(INDEX(Kalkulacja!I:I,MATCH(U191,Kalkulacja!AM:AM,0))&\" - kodowanie www\",\"\"),\"\")","v":""},"",null,"",null,"",{"$f":"IF(IF($AC$4=\"x\",IFERROR(INDEX(Kalkulacja!AF:AF,MATCH(U191,Kalkulacja!AM:AM,0)),\"\"),\"\")=\"\",\"\",IF($AC$4=\"x\",IFERROR(INDEX(Kalkulacja!AF:AF,MATCH(U191,Kalkulacja!AM:AM,0)),\"\"),\"\"))","v":""},null,null,null,null,"",0,169,{"$f":"IFERROR(INDEX(Kalkulacja!I:I,MATCH(U191,Kalkulacja!AM:AM,0)),\"\")","v":""},0,{"$error":"#N/A"},"",{"$f":"IF($AC$4=\"x\",IFERROR((INDEX(Kalkulacja!AE:AE,MATCH($U191,Kalkulacja!AM:AM,0)))*$D$21,\"\"),\"\")","v":""},{"$error":"#VALUE!"},{"$error":"#VALUE!"},null,"","","","","","","","","","","",null,{"$f":"IF(AD191=\"\",\"\",MAX($AP$10:AP190)+1)","v":""},null,null,"","",null,null,null,null,null,null,null,"","","Opis"]
[null,null,null,null,null,null,"",{"$f":"IF($AC$4=\"x\",IFERROR(INDEX(Kalkulacja!I:I,MATCH(U192,Kalkulacja!AM:AM,0))&\" - kodowanie www\",\"\"),\"\")","v":""},"",null,"",null,"",{"$f":"IF(IF($AC$4=\"x\",IFERROR(INDEX(Kalkulacja!AF:AF,MATCH(U192,Kalkulacja!AM:AM,0)),\"\"),\"\")=\"\",\"\",IF($AC$4=\"x\",IFERROR(INDEX(Kalkulacja!AF:AF,MATCH(U192,Kalkulacja!AM:AM,0)),\"\"),\"\"))","v":""},null,null,null,null,"",0,170,{"$f":"IFERROR(INDEX(Kalkulacja!I:I,MATCH(U192,Kalkulacja!AM:AM,0)),\"\")","v":""},0,{"$error":"#N/A"},"",{"$f":"IF($AC$4=\"x\",IFERROR((INDEX(Kalkulacja!AE:AE,MATCH($U192,Kalkulacja!AM:AM,0)))*$D$21,\"\"),\"\")","v":""},{"$error":"#VALUE!"},{"$error":"#VALUE!"},null,"","","","","","","","","","","",null,{"$f":"IF(AD192=\"\",\"\",MAX($AP$10:AP191)+1)","v":""},null,null,"","",null,null,null,null,null,null,null,"","","Opis"]
[null,null,null,null,null,null,"",{"$f":"IF($AC$4=\"x\",IFERROR(INDEX(Kalkulacja!I:I,MATCH(U193,Kalkulacja!AM:AM,0))&\" - kodowanie www\",\"\"),\"\")","v":""},"",null,"",null,"",{"$f":"IF(IF($AC$4=\"x\",IFERROR(INDEX(Kalkulacja!AF:AF,MATCH(U193,Kalkulacja!AM:AM,0)),\"\"),\"\")=\"\",\"\",IF($AC$4=\"x\",IFERROR(INDEX(Kalkulacja!AF:AF,MATCH(U193,Kalkulacja!AM:AM,0)),\"\"),\"\"))","v":""},null,null,null,null,"",0,171,{"$f":"IFERROR(INDEX(Kalkulacja!I:I,MATCH(U193,Kalkulacja!AM:AM,0)),\"\")","v":""},0,{"$error":"#N/A"},"",{"$f":"IF($AC$4=\"x\",IFERROR((INDEX(Kalkulacja!AE:AE,MATCH($U193,Kalkulacja!AM:AM,0)))*$D$21,\"\"),\"\")","v":""},{"$error":"#VALUE!"},{"$error":"#VALUE!"},null,"","","","","","","","","","","",null,{"$f":"IF(AD193=\"\",\"\",MAX($AP$10:AP192)+1)","v":""},null,null,"","",null,null,null,null,null,null,null,"","","Opis"]
[null,null,null,null,null,null,"",{"$f":"IF($AC$4=\"x\",IFERROR(INDEX(Kalkulacja!I:I,MATCH(U194,Kalkulacja!AM:AM,0))&\" - kodowanie www\",\"\"),\"\")","v":""},"",null,"",null,"",{"$f":"IF(IF($AC$4=\"x\",IFERROR(INDEX(Kalkulacja!AF:AF,MATCH(U194,Kalkulacja!AM:AM,0)),\"\"),\"\")=\"\",\"\",IF($AC$4=\"x\",IFERROR(INDEX(Kalkulacja!AF:AF,MATCH(U194,Kalkulacja!AM:AM,0)),\"\"),\"\"))","v":""},null,null,null,null,"",0,172,{"$f":"IFERROR(INDEX(Kalkulacja!I:I,MATCH(U194,Kalkulacja!AM:AM,0)),\"\")","v":""},0,{"$error":"#N/A"},"",{"$f":"IF($AC$4=\"x\",IFERROR((INDEX(Kalkulacja!AE:AE,MATCH($U194,Kalkulacja!AM:AM,0)))*$D$21,\"\"),\"\")","v":""},{"$error":"#VALUE!"},{"$error":"#VALUE!"},null,"","","","","","","","","","","",null,{"$f":"IF(AD194=\"\",\"\",MAX($AP$10:AP193)+1)","v":""},null,null,"","",null,null,null,null,null,null,null,"","","Opis"]
[null,null,null,null,null,null,"",{"$f":"IF($AC$4=\"x\",IFERROR(INDEX(Kalkulacja!I:I,MATCH(U195,Kalkulacja!AM:AM,0))&\" - kodowanie www\",\"\"),\"\")","v":""},"",null,"",null,"",{"$f":"IF(IF($AC$4=\"x\",IFERROR(INDEX(Kalkulacja!AF:AF,MATCH(U195,Kalkulacja!AM:AM,0)),\"\"),\"\")=\"\",\"\",IF($AC$4=\"x\",IFERROR(INDEX(Kalkulacja!AF:AF,MATCH(U195,Kalkulacja!AM:AM,0)),\"\"),\"\"))","v":""},null,null,null,null,"",0,173,{"$f":"IFERROR(INDEX(Kalkulacja!I:I,MATCH(U195,Kalkulacja!AM:AM,0)),\"\")","v":""},0,{"$error":"#N/A"},"",{"$f":"IF($AC$4=\"x\",IFERROR((INDEX(Kalkulacja!AE:AE,MATCH($U195,Kalkulacja!AM:AM,0)))*$D$21,\"\"),\"\")","v":""},{"$error":"#VALUE!"},{"$error":"#VALUE!"},null,"","","","","","","","","","","",null,{"$f":"IF(AD195=\"\",\"\",MAX($AP$10:AP194)+1)","v":""},null,null,"","",null,null,null,null,null,null,null,"","","Opis"]
[null,null,null,null,null,null,"",{"$f":"IF($AC$4=\"x\",IFERROR(INDEX(Kalkulacja!I:I,MATCH(U196,Kalkulacja!AM:AM,0))&\" - kodowanie www\",\"\"),\"\")","v":""},"",null,"",null,"",{"$f":"IF(IF($AC$4=\"x\",IFERROR(INDEX(Kalkulacja!AF:AF,MATCH(U196,Kalkulacja!AM:AM,0)),\"\"),\"\")=\"\",\"\",IF($AC$4=\"x\",IFERROR(INDEX(Kalkulacja!AF:AF,MATCH(U196,Kalkulacja!AM:AM,0)),\"\"),\"\"))","v":""},null,null,null,null,"",0,174,{"$f":"IFERROR(INDEX(Kalkulacja!I:I,MATCH(U196,Kalkulacja!AM:AM,0)),\"\")","v":""},0,{"$error":"#N/A"},"",{"$f":"IF($AC$4=\"x\",IFERROR((INDEX(Kalkulacja!AE:AE,MATCH($U196,Kalkulacja!AM:AM,0)))*$D$21,\"\"),\"\")","v":""},{"$error":"#VALUE!"},{"$error":"#VALUE!"},null,"","","","","","","","","","","",null,{"$f":"IF(AD196=\"\",\"\",MAX($AP$10:AP195)+1)","v":""},null,null,"","",null,null,null,null,null,null,null,"","","Opis"]
[null,null,null,null,null,null,"",{"$f":"IF($AC$4=\"x\",IFERROR(INDEX(Kalkulacja!I:I,MATCH(U197,Kalkulacja!AM:AM,0))&\" - kodowanie www\",\"\"),\"\")","v":""},"",null,"",null,"",{"$f":"IF(IF($AC$4=\"x\",IFERROR(INDEX(Kalkulacja!AF:AF,MATCH(U197,Kalkulacja!AM:AM,0)),\"\"),\"\")=\"\",\"\",IF($AC$4=\"x\",IFERROR(INDEX(Kalkulacja!AF:AF,MATCH(U197,Kalkulacja!AM:AM,0)),\"\"),\"\"))","v":""},null,null,null,null,"",0,175,{"$f":"IFERROR(INDEX(Kalkulacja!I:I,MATCH(U197,Kalkulacja!AM:AM,0)),\"\")","v":""},0,{"$error":"#N/A"},"",{"$f":"IF($AC$4=\"x\",IFERROR((INDEX(Kalkulacja!AE:AE,MATCH($U197,Kalkulacja!AM:AM,0)))*$D$21,\"\"),\"\")","v":""},{"$error":"#VALUE!"},{"$error":"#VALUE!"},null,"","","","","","","","","","","",null,{"$f":"IF(AD197=\"\",\"\",MAX($AP$10:AP196)+1)","v":""},null,null,"","",null,null,null,null,null,null,null,"","","Opis"]
[null,null,null,null,null,null,"",{"$f":"IF($AC$4=\"x\",IFERROR(INDEX(Kalkulacja!I:I,MATCH(U198,Kalkulacja!AM:AM,0))&\" - kodowanie www\",\"\"),\"\")","v":""},"",null,"",null,"",{"$f":"IF(IF($AC$4=\"x\",IFERROR(INDEX(Kalkulacja!AF:AF,MATCH(U198,Kalkulacja!AM:AM,0)),\"\"),\"\")=\"\",\"\",IF($AC$4=\"x\",IFERROR(INDEX(Kalkulacja!AF:AF,MATCH(U198,Kalkulacja!AM:AM,0)),\"\"),\"\"))","v":""},null,null,null,null,"",0,176,{"$f":"IFERROR(INDEX(Kalkulacja!I:I,MATCH(U198,Kalkulacja!AM:AM,0)),\"\")","v":""},0,{"$error":"#N/A"},"",{"$f":"IF($AC$4=\"x\",IFERROR((INDEX(Kalkulacja!AE:AE,MATCH($U198,Kalkulacja!AM:AM,0)))*$D$21,\"\"),\"\")","v":""},{"$error":"#VALUE!"},{"$error":"#VALUE!"},null,"","","","","","","","","","","",null,{"$f":"IF(AD198=\"\",\"\",MAX($AP$10:AP197)+1)","v":""},null,null,"","",null,null,null,null,null,null,null,"","","Opis"]
[null,null,null,null,null,null,"",{"$f":"IF($AC$4=\"x\",IFERROR(INDEX(Kalkulacja!I:I,MATCH(U199,Kalkulacja!AM:AM,0))&\" - kodowanie www\",\"\"),\"\")","v":""},"",null,"",null,"",{"$f":"IF(IF($AC$4=\"x\",IFERROR(INDEX(Kalkulacja!AF:AF,MATCH(U199,Kalkulacja!AM:AM,0)),\"\"),\"\")=\"\",\"\",IF($AC$4=\"x\",IFERROR(INDEX(Kalkulacja!AF:AF,MATCH(U199,Kalkulacja!AM:AM,0)),\"\"),\"\"))","v":""},null,null,null,null,"",0,177,{"$f":"IFERROR(INDEX(Kalkulacja!I:I,MATCH(U199,Kalkulacja!AM:AM,0)),\"\")","v":""},0,{"$error":"#N/A"},"",{"$f":"IF($AC$4=\"x\",IFERROR((INDEX(Kalkulacja!AE:AE,MATCH($U199,Kalkulacja!AM:AM,0)))*$D$21,\"\"),\"\")","v":""},{"$error":"#VALUE!"},{"$error":"#VALUE!"},null,"","","","","","","","","","","",null,{"$f":"IF(AD199=\"\",\"\",MAX($AP$10:AP198)+1)","v":""},null,null,"","",null,null,null,null,null,null,null,"","","Opis"]
[null,null,null,null,null,null,"",{"$f":"IF($AC$4=\"x\",IFERROR(INDEX(Kalkulacja!I:I,MATCH(U200,Kalkulacja!AM:AM,0))&\" - kodowanie www\",\"\"),\"\")","v":""},"",null,"",null,"",{"$f":"IF(IF($AC$4=\"x\",IFERROR(INDEX(Kalkulacja!AF:AF,MATCH(U200,Kalkulacja!AM:AM,0)),\"\"),\"\")=\"\",\"\",IF($AC$4=\"x\",IFERROR(INDEX(Kalkulacja!AF:AF,MATCH(U200,Kalkulacja!AM:AM,0)),\"\"),\"\"))","v":""},null,null,null,null,"",0,178,{"$f":"IFERROR(INDEX(Kalkulacja!I:I,MATCH(U200,Kalkulacja!AM:AM,0)),\"\")","v":""},0,{"$error":"#N/A"},"",{"$f":"IF($AC$4=\"x\",IFERROR((INDEX(Kalkulacja!AE:AE,MATCH($U200,Kalkulacja!AM:AM,0)))*$D$21,\"\"),\"\")","v":""},{"$error":"#VALUE!"},{"$error":"#VALUE!"},null,"","","","","","","","","","","",null,{"$f":"IF(AD200=\"\",\"\",MAX($AP$10:AP199)+1)","v":""},null,null,"","",null,null,null,null,null,null,null,"","","Opis"]
[null,null,null,null,null,null,"",{"$f":"IF($AC$4=\"x\",IFERROR(INDEX(Kalkulacja!I:I,MATCH(U201,Kalkulacja!AM:AM,0))&\" - kodowanie www\",\"\"),\"\")","v":""},"",null,"",null,"",{"$f":"IF(IF($AC$4=\"x\",IFERROR(INDEX(Kalkulacja!AF:AF,MATCH(U201,Kalkulacja!AM:AM,0)),\"\"),\"\")=\"\",\"\",IF($AC$4=\"x\",IFERROR(INDEX(Kalkulacja!AF:AF,MATCH(U201,Kalkulacja!AM:AM,0)),\"\"),\"\"))","v":""},null,null,null,null,"",0,179,{"$f":"IFERROR(INDEX(Kalkulacja!I:I,MATCH(U201,Kalkulacja!AM:AM,0)),\"\")","v":""},0,{"$error":"#N/A"},"",{"$f":"IF($AC$4=\"x\",IFERROR((INDEX(Kalkulacja!AE:AE,MATCH($U201,Kalkulacja!AM:AM,0)))*$D$21,\"\"),\"\")","v":""},{"$error":"#VALUE!"},{"$error":"#VALUE!"},null,"","","","","","","","","","","",null,{"$f":"IF(AD201=\"\",\"\",MAX($AP$10:AP200)+1)","v":""},null,null,"","",null,null,null,null,null,null,null,"","","Opis"]
[null,null,null,null,null,null,"",{"$f":"IF($AC$4=\"x\",IFERROR(INDEX(Kalkulacja!I:I,MATCH(U202,Kalkulacja!AM:AM,0))&\" - kodowanie www\",\"\"),\"\")","v":""},"",null,"",null,"",{"$f":"IF(IF($AC$4=\"x\",IFERROR(INDEX(Kalkulacja!AF:AF,MATCH(U202,Kalkulacja!AM:AM,0)),\"\"),\"\")=\"\",\"\",IF($AC$4=\"x\",IFERROR(INDEX(Kalkulacja!AF:AF,MATCH(U202,Kalkulacja!AM:AM,0)),\"\"),\"\"))","v":""},null,null,null,null,"",0,180,{"$f":"IFERROR(INDEX(Kalkulacja!I:I,MATCH(U202,Kalkulacja!AM:AM,0)),\"\")","v":""},0,{"$f":"VLOOKUP(K202,$C$31:$D$44,2,0)","v":{"$error":"#N/A"}},{"$f":"IFERROR(VLOOKUP(L202,$C$31:$D$44,2,0),\"\")","v":""},{"$f":"IF($AC$4=\"x\",IFERROR((INDEX(Kalkulacja!AE:AE,MATCH($U202,Kalkulacja!AM:AM,0)))*$D$21,\"\"),\"\")","v":""},{"$error":"#VALUE!"},{"$error":"#VALUE!"},null,"","","","","","","","","","","",null,{"$f":"IF(AD202=\"\",\"\",MAX($AP$10:AP201)+1)","v":""},null,null,"",{"$f":"IFERROR(INDEX(AN:AN,MATCH(AS202,AP:AP,0)),\"\")","v":""},null,null,null,null,null,null,null,"","","Opis"]
[null,null,null,null,null,null,"",{"$f":"IF($AC$4=\"x\",IFERROR(INDEX(Kalkulacja!I:I,MATCH(U203,Kalkulacja!AM:AM,0))&\" - kodowanie www\",\"\"),\"\")","v":""},"",null,"",null,"",{"$f":"IF(IF($AC$4=\"x\",IFERROR(INDEX(Kalkulacja!AF:AF,MATCH(U203,Kalkulacja!AM:AM,0)),\"\"),\"\")=\"\",\"\",IF($AC$4=\"x\",IFERROR(INDEX(Kalkulacja!AF:AF,MATCH(U203,Kalkulacja!AM:AM,0)),\"\"),\"\"))","v":""},null,null,null,null,{"$f":"LEFT(H203,1)","v":""},0,181,{"$f":"IFERROR(INDEX(Kalkulacja!I:I,MATCH(U203,Kalkulacja!AM:AM,0)),\"\")","v":""},{"$f":"IF(V203=\"\",0,\"x\")","v":0},{"$error":"#N/A"},"",{"$f":"IF($AC$4=\"x\",IFERROR((INDEX(Kalkulacja!AE:AE,MATCH($U203,Kalkulacja!AM:AM,0)))*$D$21,\"\"),\"\")","v":""},{"$error":"#VALUE!"},{"$error":"#VALUE!"},null,"","","","","","","","","","","",null,{"$f":"IF(AD203=\"\",\"\",MAX($AP$10:AP202)+1)","v":""},null,null,"","",null,null,null,null,null,null,null,"","","Opis"]
[null,null,null,null,null,null,"",{"$f":"IF($AC$4=\"x\",IFERROR(INDEX(Kalkulacja!I:I,MATCH(U204,Kalkulacja!AM:AM,0))&\" - kodowanie www\",\"\"),\"\")","v":""},"",null,"",null,"",{"$f":"IF(IF($AC$4=\"x\",IFERROR(INDEX(Kalkulacja!AF:AF,MATCH(U204,Kalkulacja!AM:AM,0)),\"\"),\"\")=\"\",\"\",IF($AC$4=\"x\",IFERROR(INDEX(Kalkulacja!AF:AF,MATCH(U204,Kalkulacja!AM:AM,0)),\"\"),\"\"))","v":""},null,null,null,null,"",{"$f":"IF(S205=\">\",1,0)","v":0},182,{"$f":"IFERROR(INDEX(Kalkulacja!I:I,MATCH(U204,Kalkulacja!AM:AM,0)),\"\")","v":""},0,{"$error":"#N/A"},"",{"$f":"IF($AC$4=\"x\",IFERROR((INDEX(Kalkulacja!AE:AE,MATCH($U204,Kalkulacja!AM:AM,0)))*$D$21,\"\"),\"\")","v":""},{"$error":"#VALUE!"},{"$error":"#VALUE!"},null,"",{"$f":"IF(AD204=\"\",\"\",100)","v":""},"",{"$f":"IF(AD204=\"\",\"\",IF(N204=\"\",BD204,N204))","v":""},"","",{"$f":"IF(AD204=\"\",\"\",IF(COUNT($X204:$Y204)=2,$X204&\"|\"&$Y204,$X204))","v":""},{"$f":"IF(AD204=\"\",\"\",$L$3)","v":""},"",{"$f":"IF(AD204=\"\",\"\",$L$5)","v":""},"",null,{"$f":"IF(AD204=\"\",\"\",MAX($AP$10:AP203)+1)","v":""},null,null,"","",null,null,null,null,null,null,null,{"$f":"IF(N204=\"\",\"\",N204)","v":""},{"$f":"IF(T204=1,SUBSTITUTE(RIGHT(H205,LEN(H205)-2),\",\",\".\"),\"\")","v":""},{"$f":"IF(AND(BB204=\"\",BC204=\"\"),\"Opis\",IF(BB204=\"\",BC204,IF(BC204=\"\",BB204,(BB204&\" | \"&BC204))))","v":"Opis"}]
[null,null,null,null,null,null,"",{"$f":"IF($AC$4=\"x\",IFERROR(INDEX(Kalkulacja!I:I,MATCH(U205,Kalkulacja!AM:AM,0))&\" - kodowanie www\",\"\"),\"\")","v":""},"",null,"",null,"",{"$f":"IF(IF($AC$4=\"x\",IFERROR(INDEX(Kalkulacja!AF:AF,MATCH(U205,Kalkulacja!AM:AM,0)),\"\"),\"\")=\"\",\"\",IF($AC$4=\"x\",IFERROR(INDEX(Kalkulacja!AF:AF,MATCH(U205,Kalkulacja!AM:AM,0)),\"\"),\"\"))","v":""},null,null,null,null,"",0,183,{"$f":"IFERROR(INDEX(Kalkulacja!I:I,MATCH(U205,Kalkulacja!AM:AM,0)),\"\")","v":""},0,{"$error":"#N/A"},"",{"$f":"IF($AC$4=\"x\",IFERROR((INDEX(Kalkulacja!AE:AE,MATCH($U205,Kalkulacja!AM:AM,0)))*$D$21,\"\"),\"\")","v":""},{"$f":"ROUND((Z205-TRUNC(Z205))*60,0)","v":{"$error":"#VALUE!"}},{"$f":"IF(AA205<10,\"0\"&AA205,AA205)","v":{"$error":"#VALUE!"}},null,"","",{"$f":"IF(AD205=\"\",\"\",IF(Z205=\"\",\"\",TRUNC(Z205)&\".\"&ROUND((Z205-TRUNC(Z205))*100,0)))","v":""},"","","","","","","",{"$f":"IF(AD205=\"\",\"\",AD205&\", \"&AE205&\", \"&AF205&\", \"&AG205&\", \"&AH205&\", \"&AI205&\", \"&AJ205&\", \"&AK205&\", \"&AL205&\", \"&AM205)","v":""},null,{"$f":"IF(AD205=\"\",\"\",MAX($AP$10:AP204)+1)","v":""},null,null,{"$f":"IF(AS204<$AF$4,AS204+1,\"\")","v":""},"",null,null,null,null,null,null,null,"","","Opis"]
[null,null,null,null,null,null,"",{"$f":"IF($AC$4=\"x\",IFERROR(INDEX(Kalkulacja!I:I,MATCH(U206,Kalkulacja!AM:AM,0))&\" - kodowanie www\",\"\"),\"\")","v":""},"",null,"",null,"",{"$f":"IF(IF($AC$4=\"x\",IFERROR(INDEX(Kalkulacja!AF:AF,MATCH(U206,Kalkulacja!AM:AM,0)),\"\"),\"\")=\"\",\"\",IF($AC$4=\"x\",IFERROR(INDEX(Kalkulacja!AF:AF,MATCH(U206,Kalkulacja!AM:AM,0)),\"\"),\"\"))","v":""},null,null,null,null,"",0,184,{"$f":"IFERROR(INDEX(Kalkulacja!I:I,MATCH(U206,Kalkulacja!AM:AM,0)),\"\")","v":""},0,{"$error":"#N/A"},"",{"$f":"IF($AC$4=\"x\",IFERROR((INDEX(Kalkulacja!AE:AE,MATCH($U206,Kalkulacja!AM:AM,0)))*$D$21,\"\"),\"\")","v":""},{"$error":"#VALUE!"},{"$error":"#VALUE!"},null,"","","","","","","","","","","",null,{"$f":"IF(AD206=\"\",\"\",MAX($AP$10:AP205)+1)","v":""},null,null,"","",null,null,null,null,null,null,null,"","","Opis"]
[null,null,null,null,null,null,"",{"$f":"IF($AC$4=\"x\",IFERROR(INDEX(Kalkulacja!I:I,MATCH(U207,Kalkulacja!AM:AM,0))&\" - kodowanie www\",\"\"),\"\")","v":""},"",null,"",null,"",{"$f":"IF(IF($AC$4=\"x\",IFERROR(INDEX(Kalkulacja!AF:AF,MATCH(U207,Kalkulacja!AM:AM,0)),\"\"),\"\")=\"\",\"\",IF($AC$4=\"x\",IFERROR(INDEX(Kalkulacja!AF:AF,MATCH(U207,Kalkulacja!AM:AM,0)),\"\"),\"\"))","v":""},null,null,null,null,"",0,185,{"$f":"IFERROR(INDEX(Kalkulacja!I:I,MATCH(U207,Kalkulacja!AM:AM,0)),\"\")","v":""},0,{"$error":"#N/A"},"",{"$f":"IF($AC$4=\"x\",IFERROR((INDEX(Kalkulacja!AE:AE,MATCH($U207,Kalkulacja!AM:AM,0)))*$D$21,\"\"),\"\")","v":""},{"$error":"#VALUE!"},{"$error":"#VALUE!"},null,"","","","","","","","","","","",null,{"$f":"IF(AD207=\"\",\"\",MAX($AP$10:AP206)+1)","v":""},null,null,"","",null,null,null,null,null,null,null,"","","Opis"]
[null,null,null,null,null,null,"",{"$f":"IF($AC$4=\"x\",IFERROR(INDEX(Kalkulacja!I:I,MATCH(U208,Kalkulacja!AM:AM,0))&\" - kodowanie www\",\"\"),\"\")","v":""},"",null,"",null,"",{"$f":"IF(IF($AC$4=\"x\",IFERROR(INDEX(Kalkulacja!AF:AF,MATCH(U208,Kalkulacja!AM:AM,0)),\"\"),\"\")=\"\",\"\",IF($AC$4=\"x\",IFERROR(INDEX(Kalkulacja!AF:AF,MATCH(U208,Kalkulacja!AM:AM,0)),\"\"),\"\"))","v":""},null,null,null,null,"",0,186,{"$f":"IFERROR(INDEX(Kalkulacja!I:I,MATCH(U208,Kalkulacja!AM:AM,0)),\"\")","v":""},0,{"$error":"#N/A"},"",{"$f":"IF($AC$4=\"x\",IFERROR((INDEX(Kalkulacja!AE:AE,MATCH($U208,Kalkulacja!AM:AM,0)))*$D$21,\"\"),\"\")","v":""},{"$error":"#VALUE!"},{"$error":"#VALUE!"},null,"","","","","","","","","","","",null,{"$f":"IF(AD208=\"\",\"\",MAX($AP$10:AP207)+1)","v":""},null,null,"","",null,null,null,null,null,null,null,"","","Opis"]
[null,null,null,null,null,null,"",{"$f":"IF($AC$4=\"x\",IFERROR(INDEX(Kalkulacja!I:I,MATCH(U209,Kalkulacja!AM:AM,0))&\" - kodowanie www\",\"\"),\"\")","v":""},"",null,"",null,"",{"$f":"IF(IF($AC$4=\"x\",IFERROR(INDEX(Kalkulacja!AF:AF,MATCH(U209,Kalkulacja!AM:AM,0)),\"\"),\"\")=\"\",\"\",IF($AC$4=\"x\",IFERROR(INDEX(Kalkulacja!AF:AF,MATCH(U209,Kalkulacja!AM:AM,0)),\"\"),\"\"))","v":""},null,null,null,null,"",0,187,{"$f":"IFERROR(INDEX(Kalkulacja!I:I,MATCH(U209,Kalkulacja!AM:AM,0)),\"\")","v":""},0,{"$error":"#N/A"},"",{"$f":"IF($AC$4=\"x\",IFERROR((INDEX(Kalkulacja!AE:AE,MATCH($U209,Kalkulacja!AM:AM,0)))*$D$21,\"\"),\"\")","v":""},{"$error":"#VALUE!"},{"$error":"#VALUE!"},null,"","","","","","","","","","","",null,{"$f":"IF(AD209=\"\",\"\",MAX($AP$10:AP208)+1)","v":""},null,null,"","",null,null,null,null,null,null,null,"","","Opis"]
[null,null,null,null,null,null,"",{"$f":"IF($AC$4=\"x\",IFERROR(INDEX(Kalkulacja!I:I,MATCH(U210,Kalkulacja!AM:AM,0))&\" - kodowanie www\",\"\"),\"\")","v":""},"",null,"",null,"",{"$f":"IF(IF($AC$4=\"x\",IFERROR(INDEX(Kalkulacja!AF:AF,MATCH(U210,Kalkulacja!AM:AM,0)),\"\"),\"\")=\"\",\"\",IF($AC$4=\"x\",IFERROR(INDEX(Kalkulacja!AF:AF,MATCH(U210,Kalkulacja!AM:AM,0)),\"\"),\"\"))","v":""},null,null,null,null,"",0,188,{"$f":"IFERROR(INDEX(Kalkulacja!I:I,MATCH(U210,Kalkulacja!AM:AM,0)),\"\")","v":""},0,{"$error":"#N/A"},"",{"$f":"IF($AC$4=\"x\",IFERROR((INDEX(Kalkulacja!AE:AE,MATCH($U210,Kalkulacja!AM:AM,0)))*$D$21,\"\"),\"\")","v":""},{"$error":"#VALUE!"},{"$error":"#VALUE!"},null,"","","","","","","","","","","",null,{"$f":"IF(AD210=\"\",\"\",MAX($AP$10:AP209)+1)","v":""},null,null,"","",null,null,null,null,null,null,null,"","","Opis"]
[null,null,null,null,null,null,"",{"$f":"IF($AC$4=\"x\",IFERROR(INDEX(Kalkulacja!I:I,MATCH(U211,Kalkulacja!AM:AM,0))&\" - kodowanie www\",\"\"),\"\")","v":""},"",null,"",null,"",{"$f":"IF(IF($AC$4=\"x\",IFERROR(INDEX(Kalkulacja!AF:AF,MATCH(U211,Kalkulacja!AM:AM,0)),\"\"),\"\")=\"\",\"\",IF($AC$4=\"x\",IFERROR(INDEX(Kalkulacja!AF:AF,MATCH(U211,Kalkulacja!AM:AM,0)),\"\"),\"\"))","v":""},null,null,null,null,"",0,189,{"$f":"IFERROR(INDEX(Kalkulacja!I:I,MATCH(U211,Kalkulacja!AM:AM,0)),\"\")","v":""},0,{"$error":"#N/A"},"",{"$f":"IF($AC$4=\"x\",IFERROR((INDEX(Kalkulacja!AE:AE,MATCH($U211,Kalkulacja!AM:AM,0)))*$D$21,\"\"),\"\")","v":""},{"$error":"#VALUE!"},{"$error":"#VALUE!"},null,"","","","","","","","","","","",null,{"$f":"IF(AD211=\"\",\"\",MAX($AP$10:AP210)+1)","v":""},null,null,"","",null,null,null,null,null,null,null,"","","Opis"]
[null,null,null,null,null,null,{"$f":"IF($AC$4=\"x\",\"Web Developer\",\"\")","v":""},{"$f":"IF($AC$4=\"x\",IFERROR(INDEX(Kalkulacja!I:I,MATCH(U212,Kalkulacja!AM:AM,0))&\" - kodowanie www\",\"\"),\"\")","v":""},"",null,"",null,"",{"$f":"IF(IF($AC$4=\"x\",IFERROR(INDEX(Kalkulacja!AF:AF,MATCH(U212,Kalkulacja!AM:AM,0)),\"\"),\"\")=\"\",\"\",IF($AC$4=\"x\",IFERROR(INDEX(Kalkulacja!AF:AF,MATCH(U212,Kalkulacja!AM:AM,0)),\"\"),\"\"))","v":""},null,null,null,null,"",0,190,{"$f":"IFERROR(INDEX(Kalkulacja!I:I,MATCH(U212,Kalkulacja!AM:AM,0)),\"\")","v":""},0,{"$error":"#N/A"},"",{"$f":"IF($AC$4=\"x\",IFERROR((INDEX(Kalkulacja!AE:AE,MATCH($U212,Kalkulacja!AM:AM,0)))*$D$21,\"\"),\"\")","v":""},{"$error":"#VALUE!"},{"$error":"#VALUE!"},null,"","","","","","","","","","","",null,{"$f":"IF(AD212=\"\",\"\",MAX($AP$10:AP211)+1)","v":""},null,null,"","",null,null,null,null,null,null,null,"","","Opis"]
[null,null,null,null,null,null,"",{"$f":"IF($AC$4=\"x\",IFERROR(INDEX(Kalkulacja!I:I,MATCH(U213,Kalkulacja!AM:AM,0))&\" - kodowanie www\",\"\"),\"\")","v":""},"",null,"",null,"",{"$f":"IF(IF($AC$4=\"x\",IFERROR(INDEX(Kalkulacja!AF:AF,MATCH(U213,Kalkulacja!AM:AM,0)),\"\"),\"\")=\"\",\"\",IF($AC$4=\"x\",IFERROR(INDEX(Kalkulacja!AF:AF,MATCH(U213,Kalkulacja!AM:AM,0)),\"\"),\"\"))","v":""},null,null,null,null,"",0,191,{"$f":"IFERROR(INDEX(Kalkulacja!I:I,MATCH(U213,Kalkulacja!AM:AM,0)),\"\")","v":""},0,{"$error":"#N/A"},"",{"$f":"IF($AC$4=\"x\",IFERROR((INDEX(Kalkulacja!AE:AE,MATCH($U213,Kalkulacja!AM:AM,0)))*$D$21,\"\"),\"\")","v":""},{"$error":"#VALUE!"},{"$error":"#VALUE!"},null,"","","","","","","","","","","",null,{"$f":"IF(AD213=\"\",\"\",MAX($AP$10:AP212)+1)","v":""},null,null,"","",null,null,null,null,null,null,null,"","","Opis"]
[null,null,null,null,null,null,"",{"$f":"IF($AC$4=\"x\",IFERROR(INDEX(Kalkulacja!I:I,MATCH(U214,Kalkulacja!AM:AM,0))&\" - kodowanie www\",\"\"),\"\")","v":""},"",null,"",null,"",{"$f":"IF(IF($AC$4=\"x\",IFERROR(INDEX(Kalkulacja!AF:AF,MATCH(U214,Kalkulacja!AM:AM,0)),\"\"),\"\")=\"\",\"\",IF($AC$4=\"x\",IFERROR(INDEX(Kalkulacja!AF:AF,MATCH(U214,Kalkulacja!AM:AM,0)),\"\"),\"\"))","v":""},null,null,null,null,"",0,192,{"$f":"IFERROR(INDEX(Kalkulacja!I:I,MATCH(U214,Kalkulacja!AM:AM,0)),\"\")","v":""},0,{"$error":"#N/A"},"",{"$f":"IF($AC$4=\"x\",IFERROR((INDEX(Kalkulacja!AE:AE,MATCH($U214,Kalkulacja!AM:AM,0)))*$D$21,\"\"),\"\")","v":""},{"$error":"#VALUE!"},{"$error":"#VALUE!"},null,"","","","","","","","","","","",null,{"$f":"IF(AD214=\"\",\"\",MAX($AP$10:AP213)+1)","v":""},null,null,"","",null,null,null,null,null,null,null,"","","Opis"]
[null,null,null,null,null,null,"",{"$f":"IF($AC$4=\"x\",IFERROR(INDEX(Kalkulacja!I:I,MATCH(U215,Kalkulacja!AM:AM,0))&\" - kodowanie www\",\"\"),\"\")","v":""},"",null,"",null,"",{"$f":"IF(IF($AC$4=\"x\",IFERROR(INDEX(Kalkulacja!AF:AF,MATCH(U215,Kalkulacja!AM:AM,0)),\"\"),\"\")=\"\",\"\",IF($AC$4=\"x\",IFERROR(INDEX(Kalkulacja!AF:AF,MATCH(U215,Kalkulacja!AM:AM,0)),\"\"),\"\"))","v":""},null,null,null,null,"",0,193,{"$f":"IFERROR(INDEX(Kalkulacja!I:I,MATCH(U215,Kalkulacja!AM:AM,0)),\"\")","v":""},0,{"$error":"#N/A"},"",{"$f":"IF($AC$4=\"x\",IFERROR((INDEX(Kalkulacja!AE:AE,MATCH($U215,Kalkulacja!AM:AM,0)))*$D$21,\"\"),\"\")","v":""},{"$error":"#VALUE!"},{"$error":"#VALUE!"},null,"","","","","","","","","","","",null,{"$f":"IF(AD215=\"\",\"\",MAX($AP$10:AP214)+1)","v":""},null,null,"","",null,null,null,null,null,null,null,"","","Opis"]
[null,null,null,null,null,null,"",{"$f":"IF($AC$4=\"x\",IFERROR(INDEX(Kalkulacja!I:I,MATCH(U216,Kalkulacja!AM:AM,0))&\" - kodowanie www\",\"\"),\"\")","v":""},{"$f":"IF($AC$4=\"x\",IF(S216=\">\",\"\",\"podrzędne\"),\"\")","v":""},null,{"$f":"IF($AC$4=\"x\",IF(S216=\">\",\"\",IFERROR(VLOOKUP(G216,$H$3:$I$6,2,0),\"\")),\"\")","v":""},null,{"$f":"IF($AC$4=\"x\",IF(S216=\">\",\"\",IF(Z216=\"\",\"\",TRUNC(Z216)&\":\"&AB216)),\"\")","v":""},{"$f":"IF(IF($AC$4=\"x\",IFERROR(INDEX(Kalkulacja!AF:AF,MATCH(U216,Kalkulacja!AM:AM,0)),\"\"),\"\")=\"\",\"\",IF($AC$4=\"x\",IFERROR(INDEX(Kalkulacja!AF:AF,MATCH(U216,Kalkulacja!AM:AM,0)),\"\"),\"\"))","v":""},null,null,null,null,"",0,194,{"$f":"IFERROR(INDEX(Kalkulacja!I:I,MATCH(U216,Kalkulacja!AM:AM,0)),\"\")","v":""},0,{"$error":"#N/A"},"",{"$f":"IF($AC$4=\"x\",IFERROR((INDEX(Kalkulacja!AE:AE,MATCH($U216,Kalkulacja!AM:AM,0)))*$D$21,\"\"),\"\")","v":""},{"$error":"#VALUE!"},{"$error":"#VALUE!"},null,{"$f":"IF(H216=\"\",\"\",IF(S216=\">\",\"\",H216&\" - \"&$L$3))","v":""},"","","","","","","",{"$f":"IF(AD216=\"\",\"\",$J$22)","v":""},"","",null,{"$f":"IF(AD216=\"\",\"\",MAX($AP$10:AP215)+1)","v":""},null,null,"","",null,null,null,null,null,null,null,"","","Opis"]
[null,null,null,null,null,null,"",{"$f":"IF($AC$4=\"x\",IFERROR(INDEX(Kalkulacja!I:I,MATCH(U217,Kalkulacja!AM:AM,0))&\" - kodowanie www\",\"\"),\"\")","v":""},"",null,"",null,"",{"$f":"IF(IF($AC$4=\"x\",IFERROR(INDEX(Kalkulacja!AF:AF,MATCH(U217,Kalkulacja!AM:AM,0)),\"\"),\"\")=\"\",\"\",IF($AC$4=\"x\",IFERROR(INDEX(Kalkulacja!AF:AF,MATCH(U217,Kalkulacja!AM:AM,0)),\"\"),\"\"))","v":""},null,null,null,null,"",0,195,{"$f":"IFERROR(INDEX(Kalkulacja!I:I,MATCH(U217,Kalkulacja!AM:AM,0)),\"\")","v":""},0,{"$error":"#N/A"},"",{"$f":"IF($AC$4=\"x\",IFERROR((INDEX(Kalkulacja!AE:AE,MATCH($U217,Kalkulacja!AM:AM,0)))*$D$21,\"\"),\"\")","v":""},{"$error":"#VALUE!"},{"$error":"#VALUE!"},null,"","","","","","","","","","","",null,{"$f":"IF(AD217=\"\",\"\",MAX($AP$10:AP216)+1)","v":""},null,null,"","",null,null,null,null,null,null,null,"","","Opis"]
[null,null,null,null,null,null,"",{"$f":"IF($AC$4=\"x\",IFERROR(INDEX(Kalkulacja!I:I,MATCH(U218,Kalkulacja!AM:AM,0))&\" - kodowanie www\",\"\"),\"\")","v":""},"",null,"",null,"",{"$f":"IF(IF($AC$4=\"x\",IFERROR(INDEX(Kalkulacja!AF:AF,MATCH(U218,Kalkulacja!AM:AM,0)),\"\"),\"\")=\"\",\"\",IF($AC$4=\"x\",IFERROR(INDEX(Kalkulacja!AF:AF,MATCH(U218,Kalkulacja!AM:AM,0)),\"\"),\"\"))","v":""},null,null,null,null,"",0,196,{"$f":"IFERROR(INDEX(Kalkulacja!I:I,MATCH(U218,Kalkulacja!AM:AM,0)),\"\")","v":""},0,{"$error":"#N/A"},"",{"$f":"IF($AC$4=\"x\",IFERROR((INDEX(Kalkulacja!AE:AE,MATCH($U218,Kalkulacja!AM:AM,0)))*$D$21,\"\"),\"\")","v":""},{"$error":"#VALUE!"},{"$error":"#VALUE!"},null,"","","","","","","","","","","",null,{"$f":"IF(AD218=\"\",\"\",MAX($AP$10:AP217)+1)","v":""},null,null,"","",null,null,null,null,null,null,null,"","","Opis"]
[null,null,null,null,null,null,"",{"$f":"IF($AC$4=\"x\",IFERROR(INDEX(Kalkulacja!I:I,MATCH(U219,Kalkulacja!AM:AM,0))&\" - kodowanie www\",\"\"),\"\")","v":""},"",null,"",null,"",{"$f":"IF(IF($AC$4=\"x\",IFERROR(INDEX(Kalkulacja!AF:AF,MATCH(U219,Kalkulacja!AM:AM,0)),\"\"),\"\")=\"\",\"\",IF($AC$4=\"x\",IFERROR(INDEX(Kalkulacja!AF:AF,MATCH(U219,Kalkulacja!AM:AM,0)),\"\"),\"\"))","v":""},null,null,null,null,"",0,197,{"$f":"IFERROR(INDEX(Kalkulacja!I:I,MATCH(U219,Kalkulacja!AM:AM,0)),\"\")","v":""},0,{"$error":"#N/A"},"",{"$f":"IF($AC$4=\"x\",IFERROR((INDEX(Kalkulacja!AE:AE,MATCH($U219,Kalkulacja!AM:AM,0)))*$D$21,\"\"),\"\")","v":""},{"$error":"#VALUE!"},{"$error":"#VALUE!"},null,"","","","","","","","","","","",null,{"$f":"IF(AD219=\"\",\"\",MAX($AP$10:AP218)+1)","v":""},null,null,"","",null,null,null,null,null,null,null,"","","Opis"]
[null,null,null,null,null,null,"",{"$f":"IF($AC$4=\"x\",IFERROR(INDEX(Kalkulacja!I:I,MATCH(U220,Kalkulacja!AM:AM,0))&\" - kodowanie www\",\"\"),\"\")","v":""},"",null,"",null,"",{"$f":"IF(IF($AC$4=\"x\",IFERROR(INDEX(Kalkulacja!AF:AF,MATCH(U220,Kalkulacja!AM:AM,0)),\"\"),\"\")=\"\",\"\",IF($AC$4=\"x\",IFERROR(INDEX(Kalkulacja!AF:AF,MATCH(U220,Kalkulacja!AM:AM,0)),\"\"),\"\"))","v":""},null,null,null,null,"",0,198,{"$f":"IFERROR(INDEX(Kalkulacja!I:I,MATCH(U220,Kalkulacja!AM:AM,0)),\"\")","v":""},0,{"$error":"#N/A"},"",{"$f":"IF($AC$4=\"x\",IFERROR((INDEX(Kalkulacja!AE:AE,MATCH($U220,Kalkulacja!AM:AM,0)))*$D$21,\"\"),\"\")","v":""},{"$error":"#VALUE!"},{"$error":"#VALUE!"},null,"","","","","","","","","","","",null,{"$f":"IF(AD220=\"\",\"\",MAX($AP$10:AP219)+1)","v":""},null,null,"","",null,null,null,null,null,null,null,"","","Opis"]
[null,null,null,null,null,null,"",{"$f":"IF($AC$4=\"x\",IFERROR(INDEX(Kalkulacja!I:I,MATCH(U221,Kalkulacja!AM:AM,0))&\" - kodowanie www\",\"\"),\"\")","v":""},"",null,"",null,"",{"$f":"IF(IF($AC$4=\"x\",IFERROR(INDEX(Kalkulacja!AF:AF,MATCH(U221,Kalkulacja!AM:AM,0)),\"\"),\"\")=\"\",\"\",IF($AC$4=\"x\",IFERROR(INDEX(Kalkulacja!AF:AF,MATCH(U221,Kalkulacja!AM:AM,0)),\"\"),\"\"))","v":""},null,null,null,null,"",0,199,{"$f":"IFERROR(INDEX(Kalkulacja!I:I,MATCH(U221,Kalkulacja!AM:AM,0)),\"\")","v":""},0,{"$error":"#N/A"},"",{"$f":"IF($AC$4=\"x\",IFERROR((INDEX(Kalkulacja!AE:AE,MATCH($U221,Kalkulacja!AM:AM,0)))*$D$21,\"\"),\"\")","v":""},{"$error":"#VALUE!"},{"$error":"#VALUE!"},null,"","","","","","","","","","","",null,{"$f":"IF(AD221=\"\",\"\",MAX($AP$10:AP220)+1)","v":""},null,null,"","",null,null,null,null,null,null,null,"","","Opis"]
[null,null,null,null,null,null,"",{"$f":"IF($AC$4=\"x\",IFERROR(INDEX(Kalkulacja!I:I,MATCH(U222,Kalkulacja!AM:AM,0))&\" - kodowanie www\",\"\"),\"\")","v":""},"",null,"",null,"",{"$f":"IF(IF($AC$4=\"x\",IFERROR(INDEX(Kalkulacja!AF:AF,MATCH(U222,Kalkulacja!AM:AM,0)),\"\"),\"\")=\"\",\"\",IF($AC$4=\"x\",IFERROR(INDEX(Kalkulacja!AF:AF,MATCH(U222,Kalkulacja!AM:AM,0)),\"\"),\"\"))","v":""},null,null,null,null,"",0,200,{"$f":"IFERROR(INDEX(Kalkulacja!I:I,MATCH(U222,Kalkulacja!AM:AM,0)),\"\")","v":""},0,{"$error":"#N/A"},"",{"$f":"IF($AC$4=\"x\",IFERROR((INDEX(Kalkulacja!AE:AE,MATCH($U222,Kalkulacja!AM:AM,0)))*$D$21,\"\"),\"\")","v":""},{"$error":"#VALUE!"},{"$error":"#VALUE!"},null,"","","","","","","","","","","",null,{"$f":"IF(AD222=\"\",\"\",MAX($AP$10:AP221)+1)","v":""},null,null,"","",null,null,null,null,null,null,null,"","","Opis"]
[null,null,null,null,null,null,"",{"$f":"IF($AC$4=\"x\",IFERROR(INDEX(Kalkulacja!I:I,MATCH(U223,Kalkulacja!AM:AM,0))&\" - kodowanie www\",\"\"),\"\")","v":""},"",null,"",null,"",{"$f":"IF(IF($AC$4=\"x\",IFERROR(INDEX(Kalkulacja!AF:AF,MATCH(U223,Kalkulacja!AM:AM,0)),\"\"),\"\")=\"\",\"\",IF($AC$4=\"x\",IFERROR(INDEX(Kalkulacja!AF:AF,MATCH(U223,Kalkulacja!AM:AM,0)),\"\"),\"\"))","v":""},null,null,null,null,"",0,201,{"$f":"IFERROR(INDEX(Kalkulacja!I:I,MATCH(U223,Kalkulacja!AM:AM,0)),\"\")","v":""},0,{"$error":"#N/A"},"",{"$f":"IF($AC$4=\"x\",IFERROR((INDEX(Kalkulacja!AE:AE,MATCH($U223,Kalkulacja!AM:AM,0)))*$D$21,\"\"),\"\")","v":""},{"$error":"#VALUE!"},{"$error":"#VALUE!"},null,"","","","","","","","","","","",null,{"$f":"IF(AD223=\"\",\"\",MAX($AP$10:AP222)+1)","v":""},null,null,"","",null,null,null,null,null,null,null,"","","Opis"]
[null,null,null,null,null,null,"",{"$f":"IF($AC$4=\"x\",IFERROR(INDEX(Kalkulacja!I:I,MATCH(U224,Kalkulacja!AM:AM,0))&\" - kodowanie www\",\"\"),\"\")","v":""},"",null,"",null,"",{"$f":"IF(IF($AC$4=\"x\",IFERROR(INDEX(Kalkulacja!AF:AF,MATCH(U224,Kalkulacja!AM:AM,0)),\"\"),\"\")=\"\",\"\",IF($AC$4=\"x\",IFERROR(INDEX(Kalkulacja!AF:AF,MATCH(U224,Kalkulacja!AM:AM,0)),\"\"),\"\"))","v":""},null,null,null,null,"",0,202,{"$f":"IFERROR(INDEX(Kalkulacja!I:I,MATCH(U224,Kalkulacja!AM:AM,0)),\"\")","v":""},0,{"$error":"#N/A"},"",{"$f":"IF($AC$4=\"x\",IFERROR((INDEX(Kalkulacja!AE:AE,MATCH($U224,Kalkulacja!AM:AM,0)))*$D$21,\"\"),\"\")","v":""},{"$error":"#VALUE!"},{"$error":"#VALUE!"},null,"","","","",{"$f":"IF(AD224=\"\",\"\",\"WAITING\")","v":""},{"$f":"IF(AD224=\"\",\"\",21)","v":""},"","","","","",null,{"$f":"IF(AD224=\"\",\"\",MAX($AP$10:AP223)+1)","v":""},null,null,"","",null,null,null,null,null,null,null,"","","Opis"]
[null,null,null,null,null,null,"",{"$f":"IF($AC$4=\"x\",IFERROR(INDEX(Kalkulacja!I:I,MATCH(U225,Kalkulacja!AM:AM,0))&\" - kodowanie www\",\"\"),\"\")","v":""},"",null,"",null,"",{"$f":"IF(IF($AC$4=\"x\",IFERROR(INDEX(Kalkulacja!AF:AF,MATCH(U225,Kalkulacja!AM:AM,0)),\"\"),\"\")=\"\",\"\",IF($AC$4=\"x\",IFERROR(INDEX(Kalkulacja!AF:AF,MATCH(U225,Kalkulacja!AM:AM,0)),\"\"),\"\"))","v":""},null,null,null,null,"",0,203,{"$f":"IFERROR(INDEX(Kalkulacja!I:I,MATCH(U225,Kalkulacja!AM:AM,0)),\"\")","v":""},0,{"$error":"#N/A"},"",{"$f":"IF($AC$4=\"x\",IFERROR((INDEX(Kalkulacja!AE:AE,MATCH($U225,Kalkulacja!AM:AM,0)))*$D$21,\"\"),\"\")","v":""},{"$error":"#VALUE!"},{"$error":"#VALUE!"},null,"","","","","","","","","","","",null,{"$f":"IF(AD225=\"\",\"\",MAX($AP$10:AP224)+1)","v":""},null,null,"","",null,null,null,null,null,null,null,"","","Opis"]
[null,null,null,null,null,null,"",{"$f":"IF($AC$4=\"x\",IFERROR(INDEX(Kalkulacja!I:I,MATCH(U226,Kalkulacja!AM:AM,0))&\" - kodowanie www\",\"\"),\"\")","v":""},"",null,"",null,"",{"$f":"IF(IF($AC$4=\"x\",IFERROR(INDEX(Kalkulacja!AF:AF,MATCH(U226,Kalkulacja!AM:AM,0)),\"\"),\"\")=\"\",\"\",IF($AC$4=\"x\",IFERROR(INDEX(Kalkulacja!AF:AF,MATCH(U226,Kalkulacja!AM:AM,0)),\"\"),\"\"))","v":""},null,null,null,null,"",0,204,{"$f":"IFERROR(INDEX(Kalkulacja!I:I,MATCH(U226,Kalkulacja!AM:AM,0)),\"\")","v":""},0,{"$error":"#N/A"},"",{"$f":"IF($AC$4=\"x\",IFERROR((INDEX(Kalkulacja!AE:AE,MATCH($U226,Kalkulacja!AM:AM,0)))*$D$21,\"\"),\"\")","v":""},{"$error":"#VALUE!"},{"$error":"#VALUE!"},null,"","","","","","","","","","","",null,{"$f":"IF(AD226=\"\",\"\",MAX($AP$10:AP225)+1)","v":""},null,null,"","",null,null,null,null,null,null,null,"","","Opis"]
[null,null,null,null,null,null,"",{"$f":"IF($AC$4=\"x\",IFERROR(INDEX(Kalkulacja!I:I,MATCH(U227,Kalkulacja!AM:AM,0))&\" - kodowanie www\",\"\"),\"\")","v":""},"",null,"",null,"",{"$f":"IF(IF($AC$4=\"x\",IFERROR(INDEX(Kalkulacja!AF:AF,MATCH(U227,Kalkulacja!AM:AM,0)),\"\"),\"\")=\"\",\"\",IF($AC$4=\"x\",IFERROR(INDEX(Kalkulacja!AF:AF,MATCH(U227,Kalkulacja!AM:AM,0)),\"\"),\"\"))","v":""},null,null,null,null,"",0,205,{"$f":"IFERROR(INDEX(Kalkulacja!I:I,MATCH(U227,Kalkulacja!AM:AM,0)),\"\")","v":""},0,{"$error":"#N/A"},"",{"$f":"IF($AC$4=\"x\",IFERROR((INDEX(Kalkulacja!AE:AE,MATCH($U227,Kalkulacja!AM:AM,0)))*$D$21,\"\"),\"\")","v":""},{"$error":"#VALUE!"},{"$error":"#VALUE!"},null,"","","","","","","","","","","",null,{"$f":"IF(AD227=\"\",\"\",MAX($AP$10:AP226)+1)","v":""},null,null,"","",null,null,null,null,null,null,null,"","","Opis"]
[null,null,null,null,null,null,"",{"$f":"IF($AC$4=\"x\",IFERROR(INDEX(Kalkulacja!I:I,MATCH(U228,Kalkulacja!AM:AM,0))&\" - kodowanie www\",\"\"),\"\")","v":""},"",null,"",null,"",{"$f":"IF(IF($AC$4=\"x\",IFERROR(INDEX(Kalkulacja!AF:AF,MATCH(U228,Kalkulacja!AM:AM,0)),\"\"),\"\")=\"\",\"\",IF($AC$4=\"x\",IFERROR(INDEX(Kalkulacja!AF:AF,MATCH(U228,Kalkulacja!AM:AM,0)),\"\"),\"\"))","v":""},null,null,null,null,"",0,206,{"$f":"IFERROR(INDEX(Kalkulacja!I:I,MATCH(U228,Kalkulacja!AM:AM,0)),\"\")","v":""},0,{"$error":"#N/A"},"",{"$f":"IF($AC$4=\"x\",IFERROR((INDEX(Kalkulacja!AE:AE,MATCH($U228,Kalkulacja!AM:AM,0)))*$D$21,\"\"),\"\")","v":""},{"$error":"#VALUE!"},{"$error":"#VALUE!"},null,"","","","","","","","","","","",null,{"$f":"IF(AD228=\"\",\"\",MAX($AP$10:AP227)+1)","v":""},null,null,"","",null,null,null,null,null,null,null,"","","Opis"]
[null,null,null,null,null,null,"",{"$f":"IF($AC$4=\"x\",IFERROR(INDEX(Kalkulacja!I:I,MATCH(U229,Kalkulacja!AM:AM,0))&\" - kodowanie www\",\"\"),\"\")","v":""},"",null,"",null,"",{"$f":"IF(IF($AC$4=\"x\",IFERROR(INDEX(Kalkulacja!AF:AF,MATCH(U229,Kalkulacja!AM:AM,0)),\"\"),\"\")=\"\",\"\",IF($AC$4=\"x\",IFERROR(INDEX(Kalkulacja!AF:AF,MATCH(U229,Kalkulacja!AM:AM,0)),\"\"),\"\"))","v":""},null,null,null,null,"",0,207,{"$f":"IFERROR(INDEX(Kalkulacja!I:I,MATCH(U229,Kalkulacja!AM:AM,0)),\"\")","v":""},0,{"$error":"#N/A"},"",{"$f":"IF($AC$4=\"x\",IFERROR((INDEX(Kalkulacja!AE:AE,MATCH($U229,Kalkulacja!AM:AM,0)))*$D$21,\"\"),\"\")","v":""},{"$error":"#VALUE!"},{"$error":"#VALUE!"},null,"","","","","","","","","","","",null,{"$f":"IF(AD229=\"\",\"\",MAX($AP$10:AP228)+1)","v":""},null,null,"","",null,null,null,null,null,null,null,"","","Opis"]
[null,null,null,null,null,null,"",{"$f":"IF($AC$4=\"x\",IFERROR(INDEX(Kalkulacja!I:I,MATCH(U230,Kalkulacja!AM:AM,0))&\" - kodowanie www\",\"\"),\"\")","v":""},"",null,"",null,"",{"$f":"IF(IF($AC$4=\"x\",IFERROR(INDEX(Kalkulacja!AF:AF,MATCH(U230,Kalkulacja!AM:AM,0)),\"\"),\"\")=\"\",\"\",IF($AC$4=\"x\",IFERROR(INDEX(Kalkulacja!AF:AF,MATCH(U230,Kalkulacja!AM:AM,0)),\"\"),\"\"))","v":""},null,null,null,null,"",0,208,{"$f":"IFERROR(INDEX(Kalkulacja!I:I,MATCH(U230,Kalkulacja!AM:AM,0)),\"\")","v":""},0,{"$error":"#N/A"},"",{"$f":"IF($AC$4=\"x\",IFERROR((INDEX(Kalkulacja!AE:AE,MATCH($U230,Kalkulacja!AM:AM,0)))*$D$21,\"\"),\"\")","v":""},{"$error":"#VALUE!"},{"$error":"#VALUE!"},null,"","","","","","","","","","","",null,{"$f":"IF(AD230=\"\",\"\",MAX($AP$10:AP229)+1)","v":""},null,null,"","",null,null,null,null,null,null,null,"","","Opis"]
[null,null,null,null,null,null,"",{"$f":"IF($AC$4=\"x\",IFERROR(INDEX(Kalkulacja!I:I,MATCH(U231,Kalkulacja!AM:AM,0))&\" - kodowanie www\",\"\"),\"\")","v":""},"",null,"",null,"",{"$f":"IF(IF($AC$4=\"x\",IFERROR(INDEX(Kalkulacja!AF:AF,MATCH(U231,Kalkulacja!AM:AM,0)),\"\"),\"\")=\"\",\"\",IF($AC$4=\"x\",IFERROR(INDEX(Kalkulacja!AF:AF,MATCH(U231,Kalkulacja!AM:AM,0)),\"\"),\"\"))","v":""},null,null,null,null,"",0,209,{"$f":"IFERROR(INDEX(Kalkulacja!I:I,MATCH(U231,Kalkulacja!AM:AM,0)),\"\")","v":""},0,{"$error":"#N/A"},"",{"$f":"IF($AC$4=\"x\",IFERROR((INDEX(Kalkulacja!AE:AE,MATCH($U231,Kalkulacja!AM:AM,0)))*$D$21,\"\"),\"\")","v":""},{"$error":"#VALUE!"},{"$error":"#VALUE!"},null,"","","","","","","","","","","",null,{"$f":"IF(AD231=\"\",\"\",MAX($AP$10:AP230)+1)","v":""},null,null,"","",null,null,null,null,null,null,null,"","","Opis"]
[null,null,null,null,null,null,"",{"$f":"IF($AC$4=\"x\",IFERROR(INDEX(Kalkulacja!I:I,MATCH(U232,Kalkulacja!AM:AM,0))&\" - kodowanie www\",\"\"),\"\")","v":""},{"$f":"IF($AC$4=\"x\",IF(S232=\">\",\"\",\"podrzędne\"),\"\")","v":""},null,"",null,"",{"$f":"IF(IF($AC$4=\"x\",IFERROR(INDEX(Kalkulacja!AF:AF,MATCH(U232,Kalkulacja!AM:AM,0)),\"\"),\"\")=\"\",\"\",IF($AC$4=\"x\",IFERROR(INDEX(Kalkulacja!AF:AF,MATCH(U232,Kalkulacja!AM:AM,0)),\"\"),\"\"))","v":""},null,null,null,null,"",0,210,{"$f":"IFERROR(INDEX(Kalkulacja!I:I,MATCH(U232,Kalkulacja!AM:AM,0)),\"\")","v":""},0,{"$error":"#N/A"},"",{"$f":"IF($AC$4=\"x\",IFERROR((INDEX(Kalkulacja!AE:AE,MATCH($U232,Kalkulacja!AM:AM,0)))*$D$21,\"\"),\"\")","v":""},{"$error":"#VALUE!"},{"$error":"#VALUE!"},null,"","","","","","","","","","","",null,{"$f":"IF(AD232=\"\",\"\",MAX($AP$10:AP231)+1)","v":""},null,null,"","",null,null,null,null,null,null,null,"",{"$f":"IF(T232=1,SUBSTITUTE(RIGHT(H233,LEN(H233)-2),\",\",\".\"),\"\")","v":""},"Opis"]
[null,null,null,null,null,null,{"$f":"IF($AC$4=\"x\",\"Content Manager\",\"\")","v":""},{"$f":"IF($AC$4=\"x\",\"Uzupełnianie i konfiguracje\",\"\")","v":""},{"$f":"IF($AC$4=\"x\",\"nadrzędne\",\"\")","v":""},{"$f":"IF($AC$4=\"x\",$J$22+1,\"\")","v":""},{"$f":"IF($AC$4=\"x\",IFERROR(VLOOKUP(G233,$H$3:$I$6,2,0),\"\"),\"\")","v":""},"Marcin",{"$f":"IF($AC$4=\"x\",IF(Z233=\"\",\"\",TRUNC(Z233)&\":\"&AB233),\"\")","v":""},null,null,null,null,null,"",0,null,"Uzupełnianie i konfiguracje ","x",{"$error":"#N/A"},24,null,0,"00",{"$f":"G233","v":""},{"$f":"IF(H233=\"\",\"\",H233&\" - \"&$L$3)","v":""},"","","","","","","",null,"","",null,4,null,null,"","",null,null,null,null,null,null,null,"","","Opis"]
[null,null,null,null,null,null,{"$f":"IF($AC$4=\"x\",\"Content Manager\",\"\")","v":""},{"$f":"IF($AC$4=\"x\",IFERROR(INDEX(Kalkulacja!I:I,MATCH($U234,Kalkulacja!AO:AO,0))&\" - uzupełnianie i konfiguracja\",\"\"),\"\")","v":""},{"$f":"IF($AC$4=\"x\",IF(S234=\">\",\"\",\"podrzędne\"),\"\")","v":""},null,"",null,"",{"$f":"IF(IF($AC$4=\"x\",IFERROR(INDEX(Kalkulacja!AF:AF,MATCH(U234,Kalkulacja!AO:AO,0)),\"\"),\"\")=\"\",\"\",IF($AC$4=\"x\",IFERROR(INDEX(Kalkulacja!AF:AF,MATCH(U234,Kalkulacja!AO:AO,0)),\"\"),\"\"))","v":""},null,null,null,null,"",0,1,{"$f":"IFERROR(INDEX(Kalkulacja!I:I,MATCH($U234,Kalkulacja!AO:AO,0)),\"\")","v":"Logotypy - rotator (do 10 szt)"},"x",{"$error":"#N/A"},"",{"$f":"IF($AC$4=\"x\",IFERROR(INDEX(Kalkulacja!AD:AD,MATCH($U234,Kalkulacja!AO:AO,0))*$D$23,\"\"),\"\")","v":""},{"$error":"#VALUE!"},{"$error":"#VALUE!"},null,"","","","","","","","",{"$f":"IF(AD234=\"\",\"\",$J$233)","v":""},"","",null,{"$f":"IF(AD234=\"\",\"\",MAX($AP$10:AP233)+1)","v":""},null,null,"","",null,null,null,null,null,null,null,"","","Opis"]
[null,null,null,null,null,null,"",{"$f":"IF($AC$4=\"x\",IFERROR(INDEX(Kalkulacja!I:I,MATCH($U235,Kalkulacja!AO:AO,0))&\" - uzupełnianie i konfiguracja\",\"\"),\"\")","v":""},{"$f":"IF($AC$4=\"x\",IF(S235=\">\",\"\",\"podrzędne\"),\"\")","v":""},null,"",null,"",{"$f":"IF(IF($AC$4=\"x\",IFERROR(INDEX(Kalkulacja!AF:AF,MATCH(U235,Kalkulacja!AO:AO,0)),\"\"),\"\")=\"\",\"\",IF($AC$4=\"x\",IFERROR(INDEX(Kalkulacja!AF:AF,MATCH(U235,Kalkulacja!AO:AO,0)),\"\"),\"\"))","v":""},null,null,null,null,"",0,2,{"$f":"IFERROR(INDEX(Kalkulacja!I:I,MATCH($U235,Kalkulacja!AO:AO,0)),\"\")","v":"Optymalizacja SEO - Tylko Strona główna "},"x",{"$error":"#N/A"},"",{"$f":"IF($AC$4=\"x\",IFERROR(INDEX(Kalkulacja!AD:AD,MATCH($U235,Kalkulacja!AO:AO,0))*$D$23,\"\"),\"\")","v":""},{"$error":"#VALUE!"},{"$error":"#VALUE!"},null,"","","","","","","","","","","",null,{"$f":"IF(AD235=\"\",\"\",MAX($AP$10:AP234)+1)","v":""},null,null,"","",null,null,null,null,null,null,null,"","","Opis"]
[null,null,null,null,null,null,"",{"$f":"IF($AC$4=\"x\",IFERROR(INDEX(Kalkulacja!I:I,MATCH($U236,Kalkulacja!AO:AO,0))&\" - uzupełnianie i konfiguracja\",\"\"),\"\")","v":""},"",null,"",null,"",{"$f":"IF(IF($AC$4=\"x\",IFERROR(INDEX(Kalkulacja!AF:AF,MATCH(U236,Kalkulacja!AO:AO,0)),\"\"),\"\")=\"\",\"\",IF($AC$4=\"x\",IFERROR(INDEX(Kalkulacja!AF:AF,MATCH(U236,Kalkulacja!AO:AO,0)),\"\"),\"\"))","v":""},null,null,null,null,"",0,3,{"$f":"IFERROR(INDEX(Kalkulacja!I:I,MATCH($U236,Kalkulacja!AO:AO,0)),\"\")","v":"Statystyki Google Analytics"},"x",{"$error":"#N/A"},"",{"$f":"IF($AC$4=\"x\",IFERROR(INDEX(Kalkulacja!AD:AD,MATCH($U236,Kalkulacja!AO:AO,0))*$D$23,\"\"),\"\")","v":""},{"$error":"#VALUE!"},{"$error":"#VALUE!"},null,"","","","","","","","","","","",null,{"$f":"IF(AD236=\"\",\"\",MAX($AP$10:AP235)+1)","v":""},null,null,"","",null,null,null,null,null,null,null,"","","Opis"]
[null,null,null,null,null,null,"",{"$f":"IF($AC$4=\"x\",IFERROR(INDEX(Kalkulacja!I:I,MATCH($U237,Kalkulacja!AO:AO,0))&\" - uzupełnianie i konfiguracja\",\"\"),\"\")","v":""},"",null,"",null,"",{"$f":"IF(IF($AC$4=\"x\",IFERROR(INDEX(Kalkulacja!AF:AF,MATCH(U237,Kalkulacja!AO:AO,0)),\"\"),\"\")=\"\",\"\",IF($AC$4=\"x\",IFERROR(INDEX(Kalkulacja!AF:AF,MATCH(U237,Kalkulacja!AO:AO,0)),\"\"),\"\"))","v":""},null,null,null,null,"",0,4,{"$f":"IFERROR(INDEX(Kalkulacja!I:I,MATCH($U237,Kalkulacja!AO:AO,0)),\"\")","v":"Strony: Regulamin Warunki zakupów"},"x",{"$error":"#N/A"},"",{"$f":"IF($AC$4=\"x\",IFERROR(INDEX(Kalkulacja!AD:AD,MATCH($U237,Kalkulacja!AO:AO,0))*$D$23,\"\"),\"\")","v":""},{"$error":"#VALUE!"},{"$error":"#VALUE!"},null,"","","","","","","","","","","",null,{"$f":"IF(AD237=\"\",\"\",MAX($AP$10:AP236)+1)","v":""},null,null,"","",null,null,null,null,null,null,null,"","","Opis"]
[null,null,null,null,null,null,"",{"$f":"IF($AC$4=\"x\",IFERROR(INDEX(Kalkulacja!I:I,MATCH($U238,Kalkulacja!AO:AO,0))&\" - uzupełnianie i konfiguracja\",\"\"),\"\")","v":""},"",null,"",null,"",{"$f":"IF(IF($AC$4=\"x\",IFERROR(INDEX(Kalkulacja!AF:AF,MATCH(U238,Kalkulacja!AO:AO,0)),\"\"),\"\")=\"\",\"\",IF($AC$4=\"x\",IFERROR(INDEX(Kalkulacja!AF:AF,MATCH(U238,Kalkulacja!AO:AO,0)),\"\"),\"\"))","v":""},null,null,null,null,"",0,5,{"$f":"IFERROR(INDEX(Kalkulacja!I:I,MATCH($U238,Kalkulacja!AO:AO,0)),\"\")","v":"Kupony rabatowe (konfiguracja 1 kuponu)"},"x",{"$error":"#N/A"},"",{"$f":"IF($AC$4=\"x\",IFERROR(INDEX(Kalkulacja!AD:AD,MATCH($U238,Kalkulacja!AO:AO,0))*$D$23,\"\"),\"\")","v":""},{"$error":"#VALUE!"},{"$error":"#VALUE!"},null,"","","","","","","","","","","",null,{"$f":"IF(AD238=\"\",\"\",MAX($AP$10:AP237)+1)","v":""},null,null,"","",null,null,null,null,null,null,null,"","","Opis"]
[null,null,null,null,null,null,"",{"$f":"IF($AC$4=\"x\",IFERROR(INDEX(Kalkulacja!I:I,MATCH($U239,Kalkulacja!AO:AO,0))&\" - uzupełnianie i konfiguracja\",\"\"),\"\")","v":""},"",null,"",null,"",{"$f":"IF(IF($AC$4=\"x\",IFERROR(INDEX(Kalkulacja!AF:AF,MATCH(U239,Kalkulacja!AO:AO,0)),\"\"),\"\")=\"\",\"\",IF($AC$4=\"x\",IFERROR(INDEX(Kalkulacja!AF:AF,MATCH(U239,Kalkulacja!AO:AO,0)),\"\"),\"\"))","v":""},null,null,null,null,"",0,6,{"$f":"IFERROR(INDEX(Kalkulacja!I:I,MATCH($U239,Kalkulacja!AO:AO,0)),\"\")","v":"Polecane produkty"},"x",{"$error":"#N/A"},"",{"$f":"IF($AC$4=\"x\",IFERROR(INDEX(Kalkulacja!AD:AD,MATCH($U239,Kalkulacja!AO:AO,0))*$D$23,\"\"),\"\")","v":""},{"$error":"#VALUE!"},{"$error":"#VALUE!"},null,"","","","","","","","","","","",null,{"$f":"IF(AD239=\"\",\"\",MAX($AP$10:AP238)+1)","v":""},null,null,"","",null,null,null,null,null,null,null,"","","Opis"]
[null,null,null,null,null,null,"",{"$f":"IF($AC$4=\"x\",IFERROR(INDEX(Kalkulacja!I:I,MATCH($U240,Kalkulacja!AO:AO,0))&\" - uzupełnianie i konfiguracja\",\"\"),\"\")","v":""},"",null,"",null,"",{"$f":"IF(IF($AC$4=\"x\",IFERROR(INDEX(Kalkulacja!AF:AF,MATCH(U240,Kalkulacja!AO:AO,0)),\"\"),\"\")=\"\",\"\",IF($AC$4=\"x\",IFERROR(INDEX(Kalkulacja!AF:AF,MATCH(U240,Kalkulacja!AO:AO,0)),\"\"),\"\"))","v":""},null,null,null,null,"",0,7,{"$f":"IFERROR(INDEX(Kalkulacja!I:I,MATCH($U240,Kalkulacja!AO:AO,0)),\"\")","v":"Producenci i serie"},"x",{"$error":"#N/A"},"",{"$f":"IF($AC$4=\"x\",IFERROR(INDEX(Kalkulacja!AD:AD,MATCH($U240,Kalkulacja!AO:AO,0))*$D$23,\"\"),\"\")","v":""},{"$error":"#VALUE!"},{"$error":"#VALUE!"},null,"","","","","","","","","","","",null,{"$f":"IF(AD240=\"\",\"\",MAX($AP$10:AP239)+1)","v":""},null,null,"","",null,null,null,null,null,null,null,"","","Opis"]
[null,null,null,null,null,null,"",{"$f":"IF($AC$4=\"x\",IFERROR(INDEX(Kalkulacja!I:I,MATCH($U241,Kalkulacja!AO:AO,0))&\" - uzupełnianie i konfiguracja\",\"\"),\"\")","v":""},"",null,"",null,"",{"$f":"IF(IF($AC$4=\"x\",IFERROR(INDEX(Kalkulacja!AF:AF,MATCH(U241,Kalkulacja!AO:AO,0)),\"\"),\"\")=\"\",\"\",IF($AC$4=\"x\",IFERROR(INDEX(Kalkulacja!AF:AF,MATCH(U241,Kalkulacja!AO:AO,0)),\"\"),\"\"))","v":""},null,null,null,null,"",0,8,{"$f":"IFERROR(INDEX(Kalkulacja!I:I,MATCH($U241,Kalkulacja!AO:AO,0)),\"\")","v":"Powiadomienia email o statusie realizacji"},"x",{"$error":"#N/A"},"",{"$f":"IF($AC$4=\"x\",IFERROR(INDEX(Kalkulacja!AD:AD,MATCH($U241,Kalkulacja!AO:AO,0))*$D$23,\"\"),\"\")","v":""},{"$error":"#VALUE!"},{"$error":"#VALUE!"},null,"","","","","","","","","","","",null,{"$f":"IF(AD241=\"\",\"\",MAX($AP$10:AP240)+1)","v":""},null,null,"","",null,null,null,null,null,null,null,"","","Opis"]
[null,null,null,null,null,null,"",{"$f":"IF($AC$4=\"x\",IFERROR(INDEX(Kalkulacja!I:I,MATCH($U242,Kalkulacja!AO:AO,0))&\" - uzupełnianie i konfiguracja\",\"\"),\"\")","v":""},"",null,"",null,"",{"$f":"IF(IF($AC$4=\"x\",IFERROR(INDEX(Kalkulacja!AF:AF,MATCH(U242,Kalkulacja!AO:AO,0)),\"\"),\"\")=\"\",\"\",IF($AC$4=\"x\",IFERROR(INDEX(Kalkulacja!AF:AF,MATCH(U242,Kalkulacja!AO:AO,0)),\"\"),\"\"))","v":""},null,null,null,null,"",0,9,{"$f":"IFERROR(INDEX(Kalkulacja!I:I,MATCH($U242,Kalkulacja!AO:AO,0)),\"\")","v":"Integracja z Przelewy24"},"x",{"$error":"#N/A"},"",{"$f":"IF($AC$4=\"x\",IFERROR(INDEX(Kalkulacja!AD:AD,MATCH($U242,Kalkulacja!AO:AO,0))*$D$23,\"\"),\"\")","v":""},{"$error":"#VALUE!"},{"$error":"#VALUE!"},null,"","","","","","","","","","","",null,{"$f":"IF(AD242=\"\",\"\",MAX($AP$10:AP241)+1)","v":""},null,null,"","",null,null,null,null,null,null,null,"","","Opis"]
[null,null,null,null,null,null,"",{"$f":"IF($AC$4=\"x\",IFERROR(INDEX(Kalkulacja!I:I,MATCH($U243,Kalkulacja!AO:AO,0))&\" - uzupełnianie i konfiguracja\",\"\"),\"\")","v":""},"",null,"",null,"",{"$f":"IF(IF($AC$4=\"x\",IFERROR(INDEX(Kalkulacja!AF:AF,MATCH(U243,Kalkulacja!AO:AO,0)),\"\"),\"\")=\"\",\"\",IF($AC$4=\"x\",IFERROR(INDEX(Kalkulacja!AF:AF,MATCH(U243,Kalkulacja!AO:AO,0)),\"\"),\"\"))","v":""},null,null,null,null,"",0,10,{"$f":"IFERROR(INDEX(Kalkulacja!I:I,MATCH($U243,Kalkulacja!AO:AO,0)),\"\")","v":"Stawki podatkowe"},"x",{"$error":"#N/A"},"",{"$f":"IF($AC$4=\"x\",IFERROR(INDEX(Kalkulacja!AD:AD,MATCH($U243,Kalkulacja!AO:AO,0))*$D$23,\"\"),\"\")","v":""},{"$error":"#VALUE!"},{"$error":"#VALUE!"},null,"","","","","","","","","","","",null,{"$f":"IF(AD243=\"\",\"\",MAX($AP$10:AP242)+1)","v":""},null,null,"","",null,null,null,null,null,null,null,"","","Opis"]
[null,null,null,null,null,null,"",{"$f":"IF($AC$4=\"x\",IFERROR(INDEX(Kalkulacja!I:I,MATCH($U244,Kalkulacja!AO:AO,0))&\" - uzupełnianie i konfiguracja\",\"\"),\"\")","v":""},"",null,"",null,"",{"$f":"IF(IF($AC$4=\"x\",IFERROR(INDEX(Kalkulacja!AF:AF,MATCH(U244,Kalkulacja!AO:AO,0)),\"\"),\"\")=\"\",\"\",IF($AC$4=\"x\",IFERROR(INDEX(Kalkulacja!AF:AF,MATCH(U244,Kalkulacja!AO:AO,0)),\"\"),\"\"))","v":""},null,null,null,null,"",0,11,{"$f":"IFERROR(INDEX(Kalkulacja!I:I,MATCH($U244,Kalkulacja!AO:AO,0)),\"\")","v":"Darmowa wysyłka w oparciu o wielkość zamówienia"},"x",{"$error":"#N/A"},"",{"$f":"IF($AC$4=\"x\",IFERROR(INDEX(Kalkulacja!AD:AD,MATCH($U244,Kalkulacja!AO:AO,0))*$D$23,\"\"),\"\")","v":""},{"$error":"#VALUE!"},{"$error":"#VALUE!"},null,"","","","","","","","","","","",null,{"$f":"IF(AD244=\"\",\"\",MAX($AP$10:AP243)+1)","v":""},null,null,"","",null,null,null,null,null,null,null,"","","Opis"]
[null,null,null,null,null,null,"",{"$f":"IF($AC$4=\"x\",IFERROR(INDEX(Kalkulacja!I:I,MATCH($U245,Kalkulacja!AO:AO,0))&\" - uzupełnianie i konfiguracja\",\"\"),\"\")","v":""},"",null,"",null,"",{"$f":"IF(IF($AC$4=\"x\",IFERROR(INDEX(Kalkulacja!AF:AF,MATCH(U245,Kalkulacja!AO:AO,0)),\"\"),\"\")=\"\",\"\",IF($AC$4=\"x\",IFERROR(INDEX(Kalkulacja!AF:AF,MATCH(U245,Kalkulacja!AO:AO,0)),\"\"),\"\"))","v":""},null,null,null,null,"",0,12,{"$f":"IFERROR(INDEX(Kalkulacja!I:I,MATCH($U245,Kalkulacja!AO:AO,0)),\"\")","v":"Integracja z DPD"},"x",{"$error":"#N/A"},"",{"$f":"IF($AC$4=\"x\",IFERROR(INDEX(Kalkulacja!AD:AD,MATCH($U245,Kalkulacja!AO:AO,0))*$D$23,\"\"),\"\")","v":""},{"$error":"#VALUE!"},{"$error":"#VALUE!"},null,"","","","","","","","","","","",null,{"$f":"IF(AD245=\"\",\"\",MAX($AP$10:AP244)+1)","v":""},null,null,"","",null,null,null,null,null,null,null,"","","Opis"]
[null,null,null,null,null,null,"",{"$f":"IF($AC$4=\"x\",IFERROR(INDEX(Kalkulacja!I:I,MATCH($U246,Kalkulacja!AO:AO,0))&\" - uzupełnianie i konfiguracja\",\"\"),\"\")","v":""},"",null,"",null,"",{"$f":"IF(IF($AC$4=\"x\",IFERROR(INDEX(Kalkulacja!AF:AF,MATCH(U246,Kalkulacja!AO:AO,0)),\"\"),\"\")=\"\",\"\",IF($AC$4=\"x\",IFERROR(INDEX(Kalkulacja!AF:AF,MATCH(U246,Kalkulacja!AO:AO,0)),\"\"),\"\"))","v":""},null,null,null,null,"",0,13,{"$f":"IFERROR(INDEX(Kalkulacja!I:I,MATCH($U246,Kalkulacja!AO:AO,0)),\"\")","v":"Integracja z Paczkomaty"},"x",{"$error":"#N/A"},"",{"$f":"IF($AC$4=\"x\",IFERROR(INDEX(Kalkulacja!AD:AD,MATCH($U246,Kalkulacja!AO:AO,0))*$D$23,\"\"),\"\")","v":""},{"$error":"#VALUE!"},{"$error":"#VALUE!"},null,"","","","","","","","","","","",null,{"$f":"IF(AD246=\"\",\"\",MAX($AP$10:AP245)+1)","v":""},null,null,"","",null,null,null,null,null,null,null,"","","Opis"]
[null,null,null,null,null,null,"",{"$f":"IF($AC$4=\"x\",IFERROR(INDEX(Kalkulacja!I:I,MATCH($U247,Kalkulacja!AO:AO,0))&\" - uzupełnianie i konfiguracja\",\"\"),\"\")","v":""},"",null,"",null,"",{"$f":"IF(IF($AC$4=\"x\",IFERROR(INDEX(Kalkulacja!AF:AF,MATCH(U247,Kalkulacja!AO:AO,0)),\"\"),\"\")=\"\",\"\",IF($AC$4=\"x\",IFERROR(INDEX(Kalkulacja!AF:AF,MATCH(U247,Kalkulacja!AO:AO,0)),\"\"),\"\"))","v":""},null,null,null,null,"",0,14,{"$f":"IFERROR(INDEX(Kalkulacja!I:I,MATCH($U247,Kalkulacja!AO:AO,0)),\"\")","v":"Konfiguracja klas wysyłkowych"},"x",{"$error":"#N/A"},"",{"$f":"IF($AC$4=\"x\",IFERROR(INDEX(Kalkulacja!AD:AD,MATCH($U247,Kalkulacja!AO:AO,0))*$D$23,\"\"),\"\")","v":""},{"$error":"#VALUE!"},{"$error":"#VALUE!"},null,"","","","","","","","","","","",null,{"$f":"IF(AD247=\"\",\"\",MAX($AP$10:AP246)+1)","v":""},null,null,"","",null,null,null,null,null,null,null,"","","Opis"]
[null,null,null,null,null,null,"",{"$f":"IF($AC$4=\"x\",IFERROR(INDEX(Kalkulacja!I:I,MATCH($U248,Kalkulacja!AO:AO,0))&\" - uzupełnianie i konfiguracja\",\"\"),\"\")","v":""},"",null,"",null,"",{"$f":"IF(IF($AC$4=\"x\",IFERROR(INDEX(Kalkulacja!AF:AF,MATCH(U248,Kalkulacja!AO:AO,0)),\"\"),\"\")=\"\",\"\",IF($AC$4=\"x\",IFERROR(INDEX(Kalkulacja!AF:AF,MATCH(U248,Kalkulacja!AO:AO,0)),\"\"),\"\"))","v":""},null,null,null,null,"",0,15,{"$f":"IFERROR(INDEX(Kalkulacja!I:I,MATCH($U248,Kalkulacja!AO:AO,0)),\"\")","v":"Klauzule i zgody prawne do zamówienia i rejestracji konta"},"x",{"$error":"#N/A"},"",{"$f":"IF($AC$4=\"x\",IFERROR(INDEX(Kalkulacja!AD:AD,MATCH($U248,Kalkulacja!AO:AO,0))*$D$23,\"\"),\"\")","v":""},{"$error":"#VALUE!"},{"$error":"#VALUE!"},null,"","","","","","","","","","","",null,{"$f":"IF(AD248=\"\",\"\",MAX($AP$10:AP247)+1)","v":""},null,null,"","",null,null,null,null,null,null,null,"","","Opis"]
[null,null,null,null,null,null,"",{"$f":"IF($AC$4=\"x\",IFERROR(INDEX(Kalkulacja!I:I,MATCH($U249,Kalkulacja!AO:AO,0))&\" - uzupełnianie i konfiguracja\",\"\"),\"\")","v":""},"",null,"",null,"",{"$f":"IF(IF($AC$4=\"x\",IFERROR(INDEX(Kalkulacja!AF:AF,MATCH(U249,Kalkulacja!AO:AO,0)),\"\"),\"\")=\"\",\"\",IF($AC$4=\"x\",IFERROR(INDEX(Kalkulacja!AF:AF,MATCH(U249,Kalkulacja!AO:AO,0)),\"\"),\"\"))","v":""},null,null,null,null,"",0,16,{"$f":"IFERROR(INDEX(Kalkulacja!I:I,MATCH($U249,Kalkulacja!AO:AO,0)),\"\")","v":""},0,{"$error":"#N/A"},"",{"$f":"IF($AC$4=\"x\",IFERROR(INDEX(Kalkulacja!AD:AD,MATCH($U249,Kalkulacja!AO:AO,0))*$D$23,\"\"),\"\")","v":""},{"$error":"#VALUE!"},{"$error":"#VALUE!"},null,"","","","","","","","","","","",null,{"$f":"IF(AD249=\"\",\"\",MAX($AP$10:AP248)+1)","v":""},null,null,"","",null,null,null,null,null,null,null,"","","Opis"]
[null,null,null,null,null,null,"",{"$f":"IF($AC$4=\"x\",IFERROR(INDEX(Kalkulacja!I:I,MATCH($U250,Kalkulacja!AO:AO,0))&\" - uzupełnianie i konfiguracja\",\"\"),\"\")","v":""},"",null,"",null,"",{"$f":"IF(IF($AC$4=\"x\",IFERROR(INDEX(Kalkulacja!AF:AF,MATCH(U250,Kalkulacja!AO:AO,0)),\"\"),\"\")=\"\",\"\",IF($AC$4=\"x\",IFERROR(INDEX(Kalkulacja!AF:AF,MATCH(U250,Kalkulacja!AO:AO,0)),\"\"),\"\"))","v":""},null,null,null,null,"",0,17,{"$f":"IFERROR(INDEX(Kalkulacja!I:I,MATCH($U250,Kalkulacja!AO:AO,0)),\"\")","v":""},0,{"$error":"#N/A"},"",{"$f":"IF($AC$4=\"x\",IFERROR(INDEX(Kalkulacja!AD:AD,MATCH($U250,Kalkulacja!AO:AO,0))*$D$23,\"\"),\"\")","v":""},{"$error":"#VALUE!"},{"$error":"#VALUE!"},null,"","","","","","","","","","","",null,{"$f":"IF(AD250=\"\",\"\",MAX($AP$10:AP249)+1)","v":""},null,null,"","",null,null,null,null,null,null,null,"","","Opis"]
[null,null,null,null,null,null,"",{"$f":"IF($AC$4=\"x\",IFERROR(INDEX(Kalkulacja!I:I,MATCH($U251,Kalkulacja!AO:AO,0))&\" - uzupełnianie i konfiguracja\",\"\"),\"\")","v":""},"",null,"",null,"",{"$f":"IF(IF($AC$4=\"x\",IFERROR(INDEX(Kalkulacja!AF:AF,MATCH(U251,Kalkulacja!AO:AO,0)),\"\"),\"\")=\"\",\"\",IF($AC$4=\"x\",IFERROR(INDEX(Kalkulacja!AF:AF,MATCH(U251,Kalkulacja!AO:AO,0)),\"\"),\"\"))","v":""},null,null,null,null,"",0,18,{"$f":"IFERROR(INDEX(Kalkulacja!I:I,MATCH($U251,Kalkulacja!AO:AO,0)),\"\")","v":""},0,{"$error":"#N/A"},"",{"$f":"IF($AC$4=\"x\",IFERROR(INDEX(Kalkulacja!AD:AD,MATCH($U251,Kalkulacja!AO:AO,0))*$D$23,\"\"),\"\")","v":""},{"$error":"#VALUE!"},{"$error":"#VALUE!"},null,"","","","","","","","","","","",null,{"$f":"IF(AD251=\"\",\"\",MAX($AP$10:AP250)+1)","v":""},null,null,"","",null,null,null,null,null,null,null,"","","Opis"]
[null,null,null,null,null,null,"",{"$f":"IF($AC$4=\"x\",IFERROR(INDEX(Kalkulacja!I:I,MATCH($U252,Kalkulacja!AO:AO,0))&\" - uzupełnianie i konfiguracja\",\"\"),\"\")","v":""},"",null,"",null,"",{"$f":"IF(IF($AC$4=\"x\",IFERROR(INDEX(Kalkulacja!AF:AF,MATCH(U252,Kalkulacja!AO:AO,0)),\"\"),\"\")=\"\",\"\",IF($AC$4=\"x\",IFERROR(INDEX(Kalkulacja!AF:AF,MATCH(U252,Kalkulacja!AO:AO,0)),\"\"),\"\"))","v":""},null,null,null,null,"",0,19,{"$f":"IFERROR(INDEX(Kalkulacja!I:I,MATCH($U252,Kalkulacja!AO:AO,0)),\"\")","v":""},0,{"$error":"#N/A"},"",{"$f":"IF($AC$4=\"x\",IFERROR(INDEX(Kalkulacja!AD:AD,MATCH($U252,Kalkulacja!AO:AO,0))*$D$23,\"\"),\"\")","v":""},{"$error":"#VALUE!"},{"$error":"#VALUE!"},null,"","","","","","","","","","","",null,{"$f":"IF(AD252=\"\",\"\",MAX($AP$10:AP251)+1)","v":""},null,null,"","",null,null,null,null,null,null,null,"","","Opis"]
[null,null,null,null,null,null,"",{"$f":"IF($AC$4=\"x\",IFERROR(INDEX(Kalkulacja!I:I,MATCH($U253,Kalkulacja!AO:AO,0))&\" - uzupełnianie i konfiguracja\",\"\"),\"\")","v":""},"",null,"",null,"",{"$f":"IF(IF($AC$4=\"x\",IFERROR(INDEX(Kalkulacja!AF:AF,MATCH(U253,Kalkulacja!AO:AO,0)),\"\"),\"\")=\"\",\"\",IF($AC$4=\"x\",IFERROR(INDEX(Kalkulacja!AF:AF,MATCH(U253,Kalkulacja!AO:AO,0)),\"\"),\"\"))","v":""},null,null,null,null,"",0,20,{"$f":"IFERROR(INDEX(Kalkulacja!I:I,MATCH($U253,Kalkulacja!AO:AO,0)),\"\")","v":""},0,{"$error":"#N/A"},"",{"$f":"IF($AC$4=\"x\",IFERROR(INDEX(Kalkulacja!AD:AD,MATCH($U253,Kalkulacja!AO:AO,0))*$D$23,\"\"),\"\")","v":""},{"$error":"#VALUE!"},{"$error":"#VALUE!"},null,"","","","","","","","","","","",null,{"$f":"IF(AD253=\"\",\"\",MAX($AP$10:AP252)+1)","v":""},null,null,"","",null,null,null,null,null,null,null,"","","Opis"]
[null,null,null,null,null,null,"",{"$f":"IF($AC$4=\"x\",IFERROR(INDEX(Kalkulacja!I:I,MATCH($U254,Kalkulacja!AO:AO,0))&\" - uzupełnianie i konfiguracja\",\"\"),\"\")","v":""},"",null,"",null,"",{"$f":"IF(IF($AC$4=\"x\",IFERROR(INDEX(Kalkulacja!AF:AF,MATCH(U254,Kalkulacja!AO:AO,0)),\"\"),\"\")=\"\",\"\",IF($AC$4=\"x\",IFERROR(INDEX(Kalkulacja!AF:AF,MATCH(U254,Kalkulacja!AO:AO,0)),\"\"),\"\"))","v":""},null,null,null,null,"",0,21,{"$f":"IFERROR(INDEX(Kalkulacja!I:I,MATCH($U254,Kalkulacja!AO:AO,0)),\"\")","v":""},0,{"$error":"#N/A"},"",{"$f":"IF($AC$4=\"x\",IFERROR(INDEX(Kalkulacja!AD:AD,MATCH($U254,Kalkulacja!AO:AO,0))*$D$23,\"\"),\"\")","v":""},{"$error":"#VALUE!"},{"$error":"#VALUE!"},null,"","","","","","","","","","","",null,{"$f":"IF(AD254=\"\",\"\",MAX($AP$10:AP253)+1)","v":""},null,null,"","",null,null,null,null,null,null,null,"","","Opis"]
[null,null,null,null,null,null,"",{"$f":"IF($AC$4=\"x\",IFERROR(INDEX(Kalkulacja!I:I,MATCH($U255,Kalkulacja!AO:AO,0))&\" - uzupełnianie i konfiguracja\",\"\"),\"\")","v":""},"",null,"",null,"",{"$f":"IF(IF($AC$4=\"x\",IFERROR(INDEX(Kalkulacja!AF:AF,MATCH(U255,Kalkulacja!AO:AO,0)),\"\"),\"\")=\"\",\"\",IF($AC$4=\"x\",IFERROR(INDEX(Kalkulacja!AF:AF,MATCH(U255,Kalkulacja!AO:AO,0)),\"\"),\"\"))","v":""},null,null,null,null,"",0,22,{"$f":"IFERROR(INDEX(Kalkulacja!I:I,MATCH($U255,Kalkulacja!AO:AO,0)),\"\")","v":""},0,{"$error":"#N/A"},"",{"$f":"IF($AC$4=\"x\",IFERROR(INDEX(Kalkulacja!AD:AD,MATCH($U255,Kalkulacja!AO:AO,0))*$D$23,\"\"),\"\")","v":""},{"$error":"#VALUE!"},{"$error":"#VALUE!"},null,"","","","","","","","","","","",null,{"$f":"IF(AD255=\"\",\"\",MAX($AP$10:AP254)+1)","v":""},null,null,"","",null,null,null,null,null,null,null,"","","Opis"]
[null,null,null,null,null,null,"",{"$f":"IF($AC$4=\"x\",IFERROR(INDEX(Kalkulacja!I:I,MATCH($U256,Kalkulacja!AO:AO,0))&\" - uzupełnianie i konfiguracja\",\"\"),\"\")","v":""},"",null,"",null,"",{"$f":"IF(IF($AC$4=\"x\",IFERROR(INDEX(Kalkulacja!AF:AF,MATCH(U256,Kalkulacja!AO:AO,0)),\"\"),\"\")=\"\",\"\",IF($AC$4=\"x\",IFERROR(INDEX(Kalkulacja!AF:AF,MATCH(U256,Kalkulacja!AO:AO,0)),\"\"),\"\"))","v":""},null,null,null,null,"",0,23,{"$f":"IFERROR(INDEX(Kalkulacja!I:I,MATCH($U256,Kalkulacja!AO:AO,0)),\"\")","v":""},0,{"$error":"#N/A"},"",{"$f":"IF($AC$4=\"x\",IFERROR(INDEX(Kalkulacja!AD:AD,MATCH($U256,Kalkulacja!AO:AO,0))*$D$23,\"\"),\"\")","v":""},{"$error":"#VALUE!"},{"$error":"#VALUE!"},null,"","","","","","","","","","","",null,{"$f":"IF(AD256=\"\",\"\",MAX($AP$10:AP255)+1)","v":""},null,null,"","",null,null,null,null,null,null,null,"","","Opis"]
[null,null,null,null,null,null,"",{"$f":"IF($AC$4=\"x\",IFERROR(INDEX(Kalkulacja!I:I,MATCH($U257,Kalkulacja!AO:AO,0))&\" - uzupełnianie i konfiguracja\",\"\"),\"\")","v":""},"",null,"",null,"",{"$f":"IF(IF($AC$4=\"x\",IFERROR(INDEX(Kalkulacja!AF:AF,MATCH(U257,Kalkulacja!AO:AO,0)),\"\"),\"\")=\"\",\"\",IF($AC$4=\"x\",IFERROR(INDEX(Kalkulacja!AF:AF,MATCH(U257,Kalkulacja!AO:AO,0)),\"\"),\"\"))","v":""},null,null,null,null,"",0,24,{"$f":"IFERROR(INDEX(Kalkulacja!I:I,MATCH($U257,Kalkulacja!AO:AO,0)),\"\")","v":""},0,{"$error":"#N/A"},"",{"$f":"IF($AC$4=\"x\",IFERROR(INDEX(Kalkulacja!AD:AD,MATCH($U257,Kalkulacja!AO:AO,0))*$D$23,\"\"),\"\")","v":""},{"$error":"#VALUE!"},{"$error":"#VALUE!"},null,"","","","","","","","","","","",null,{"$f":"IF(AD257=\"\",\"\",MAX($AP$10:AP256)+1)","v":""},null,null,"","",null,null,null,null,null,null,null,"","","Opis"]
[null,null,null,null,null,null,"",{"$f":"IF($AC$4=\"x\",IFERROR(INDEX(Kalkulacja!I:I,MATCH($U258,Kalkulacja!AO:AO,0))&\" - uzupełnianie i konfiguracja\",\"\"),\"\")","v":""},"",null,"",null,"",{"$f":"IF(IF($AC$4=\"x\",IFERROR(INDEX(Kalkulacja!AF:AF,MATCH(U258,Kalkulacja!AO:AO,0)),\"\"),\"\")=\"\",\"\",IF($AC$4=\"x\",IFERROR(INDEX(Kalkulacja!AF:AF,MATCH(U258,Kalkulacja!AO:AO,0)),\"\"),\"\"))","v":""},null,null,null,null,"",0,25,{"$f":"IFERROR(INDEX(Kalkulacja!I:I,MATCH($U258,Kalkulacja!AO:AO,0)),\"\")","v":""},0,{"$error":"#N/A"},"",{"$f":"IF($AC$4=\"x\",IFERROR(INDEX(Kalkulacja!AD:AD,MATCH($U258,Kalkulacja!AO:AO,0))*$D$23,\"\"),\"\")","v":""},{"$error":"#VALUE!"},{"$error":"#VALUE!"},null,"","","","","","","","","","","",null,{"$f":"IF(AD258=\"\",\"\",MAX($AP$10:AP257)+1)","v":""},null,null,"","",null,null,null,null,null,null,null,"","","Opis"]
[null,null,null,null,null,null,"",{"$f":"IF($AC$4=\"x\",IFERROR(INDEX(Kalkulacja!I:I,MATCH($U259,Kalkulacja!AO:AO,0))&\" - uzupełnianie i konfiguracja\",\"\"),\"\")","v":""},"",null,"",null,"",{"$f":"IF(IF($AC$4=\"x\",IFERROR(INDEX(Kalkulacja!AF:AF,MATCH(U259,Kalkulacja!AO:AO,0)),\"\"),\"\")=\"\",\"\",IF($AC$4=\"x\",IFERROR(INDEX(Kalkulacja!AF:AF,MATCH(U259,Kalkulacja!AO:AO,0)),\"\"),\"\"))","v":""},null,null,null,null,"",0,26,{"$f":"IFERROR(INDEX(Kalkulacja!I:I,MATCH($U259,Kalkulacja!AO:AO,0)),\"\")","v":""},0,{"$error":"#N/A"},"",{"$f":"IF($AC$4=\"x\",IFERROR(INDEX(Kalkulacja!AD:AD,MATCH($U259,Kalkulacja!AO:AO,0))*$D$23,\"\"),\"\")","v":""},{"$error":"#VALUE!"},{"$error":"#VALUE!"},null,"","","","","","","","","","","",null,{"$f":"IF(AD259=\"\",\"\",MAX($AP$10:AP258)+1)","v":""},null,null,"","",null,null,null,null,null,null,null,"","","Opis"]
[null,null,null,null,null,null,"",{"$f":"IF($AC$4=\"x\",IFERROR(INDEX(Kalkulacja!I:I,MATCH($U260,Kalkulacja!AO:AO,0))&\" - uzupełnianie i konfiguracja\",\"\"),\"\")","v":""},"",null,"",null,"",{"$f":"IF(IF($AC$4=\"x\",IFERROR(INDEX(Kalkulacja!AF:AF,MATCH(U260,Kalkulacja!AO:AO,0)),\"\"),\"\")=\"\",\"\",IF($AC$4=\"x\",IFERROR(INDEX(Kalkulacja!AF:AF,MATCH(U260,Kalkulacja!AO:AO,0)),\"\"),\"\"))","v":""},null,null,null,null,"",0,27,{"$f":"IFERROR(INDEX(Kalkulacja!I:I,MATCH($U260,Kalkulacja!AO:AO,0)),\"\")","v":""},0,{"$error":"#N/A"},"",{"$f":"IF($AC$4=\"x\",IFERROR(INDEX(Kalkulacja!AD:AD,MATCH($U260,Kalkulacja!AO:AO,0))*$D$23,\"\"),\"\")","v":""},{"$error":"#VALUE!"},{"$error":"#VALUE!"},null,"","","","","","","","","","","",null,{"$f":"IF(AD260=\"\",\"\",MAX($AP$10:AP259)+1)","v":""},null,null,"","",null,null,null,null,null,null,null,"","","Opis"]
[null,null,null,null,null,null,"",{"$f":"IF($AC$4=\"x\",IFERROR(INDEX(Kalkulacja!I:I,MATCH($U261,Kalkulacja!AO:AO,0))&\" - uzupełnianie i konfiguracja\",\"\"),\"\")","v":""},"",null,"",null,"",{"$f":"IF(IF($AC$4=\"x\",IFERROR(INDEX(Kalkulacja!AF:AF,MATCH(U261,Kalkulacja!AO:AO,0)),\"\"),\"\")=\"\",\"\",IF($AC$4=\"x\",IFERROR(INDEX(Kalkulacja!AF:AF,MATCH(U261,Kalkulacja!AO:AO,0)),\"\"),\"\"))","v":""},null,null,null,null,"",0,28,{"$f":"IFERROR(INDEX(Kalkulacja!I:I,MATCH($U261,Kalkulacja!AO:AO,0)),\"\")","v":""},0,{"$error":"#N/A"},"",{"$f":"IF($AC$4=\"x\",IFERROR(INDEX(Kalkulacja!AD:AD,MATCH($U261,Kalkulacja!AO:AO,0))*$D$23,\"\"),\"\")","v":""},{"$error":"#VALUE!"},{"$error":"#VALUE!"},null,"","","","","","","","","","","",null,{"$f":"IF(AD261=\"\",\"\",MAX($AP$10:AP260)+1)","v":""},null,null,"","",null,null,null,null,null,null,null,"","","Opis"]
[null,null,null,null,null,null,"",{"$f":"IF($AC$4=\"x\",IFERROR(INDEX(Kalkulacja!I:I,MATCH($U262,Kalkulacja!AO:AO,0))&\" - uzupełnianie i konfiguracja\",\"\"),\"\")","v":""},"",null,"",null,"",{"$f":"IF(IF($AC$4=\"x\",IFERROR(INDEX(Kalkulacja!AF:AF,MATCH(U262,Kalkulacja!AO:AO,0)),\"\"),\"\")=\"\",\"\",IF($AC$4=\"x\",IFERROR(INDEX(Kalkulacja!AF:AF,MATCH(U262,Kalkulacja!AO:AO,0)),\"\"),\"\"))","v":""},null,null,null,null,"",0,29,{"$f":"IFERROR(INDEX(Kalkulacja!I:I,MATCH($U262,Kalkulacja!AO:AO,0)),\"\")","v":""},0,{"$error":"#N/A"},"",{"$f":"IF($AC$4=\"x\",IFERROR(INDEX(Kalkulacja!AD:AD,MATCH($U262,Kalkulacja!AO:AO,0))*$D$23,\"\"),\"\")","v":""},{"$error":"#VALUE!"},{"$error":"#VALUE!"},null,"","","","","","","","","","",{"$f":"IF(AD262=\"\",\"\",AD262&\", \"&AE262&\", \"&AF262&\", \"&AG262&\", \"&AH262&\", \"&AI262&\", \"&AJ262&\", \"&AK262&\", \"&AL262&\", \"&AM262)","v":""},null,{"$f":"IF(AD262=\"\",\"\",MAX($AP$10:AP261)+1)","v":""},null,null,"","",null,null,null,null,null,null,null,"","","Opis"]
[null,null,null,null,null,null,"",{"$f":"IF($AC$4=\"x\",IFERROR(INDEX(Kalkulacja!I:I,MATCH($U263,Kalkulacja!AO:AO,0))&\" - uzupełnianie i konfiguracja\",\"\"),\"\")","v":""},"",null,"",null,"",{"$f":"IF(IF($AC$4=\"x\",IFERROR(INDEX(Kalkulacja!AF:AF,MATCH(U263,Kalkulacja!AO:AO,0)),\"\"),\"\")=\"\",\"\",IF($AC$4=\"x\",IFERROR(INDEX(Kalkulacja!AF:AF,MATCH(U263,Kalkulacja!AO:AO,0)),\"\"),\"\"))","v":""},null,null,null,null,"",0,30,{"$f":"IFERROR(INDEX(Kalkulacja!I:I,MATCH($U263,Kalkulacja!AO:AO,0)),\"\")","v":""},0,{"$error":"#N/A"},"",{"$f":"IF($AC$4=\"x\",IFERROR(INDEX(Kalkulacja!AD:AD,MATCH($U263,Kalkulacja!AO:AO,0))*$D$23,\"\"),\"\")","v":""},{"$error":"#VALUE!"},{"$error":"#VALUE!"},null,"","","","","","","","","","",{"$f":"IF(AD263=\"\",\"\",AD263&\", \"&AE263&\", \"&AF263&\", \"&AG263&\", \"&AH263&\", \"&AI263&\", \"&AJ263&\", \"&AK263&\", \"&AL263&\", \"&AM263)","v":""},null,{"$f":"IF(AD263=\"\",\"\",MAX($AP$10:AP262)+1)","v":""},null,null,"","",null,null,null,null,null,null,null,"","","Opis"]
[null,null,null,null,null,null,"",{"$f":"IF($AC$4=\"x\",IFERROR(INDEX(Kalkulacja!I:I,MATCH($U264,Kalkulacja!AO:AO,0))&\" - uzupełnianie i konfiguracja\",\"\"),\"\")","v":""},"",null,"",null,"",{"$f":"IF(IF($AC$4=\"x\",IFERROR(INDEX(Kalkulacja!AF:AF,MATCH(U264,Kalkulacja!AO:AO,0)),\"\"),\"\")=\"\",\"\",IF($AC$4=\"x\",IFERROR(INDEX(Kalkulacja!AF:AF,MATCH(U264,Kalkulacja!AO:AO,0)),\"\"),\"\"))","v":""},null,null,null,null,"",0,31,{"$f":"IFERROR(INDEX(Kalkulacja!I:I,MATCH($U264,Kalkulacja!AO:AO,0)),\"\")","v":""},0,{"$error":"#N/A"},"",{"$f":"IF($AC$4=\"x\",IFERROR(INDEX(Kalkulacja!AD:AD,MATCH($U264,Kalkulacja!AO:AO,0))*$D$23,\"\"),\"\")","v":""},{"$error":"#VALUE!"},{"$error":"#VALUE!"},null,"","","","","","","","","","","",null,{"$f":"IF(AD264=\"\",\"\",MAX($AP$10:AP263)+1)","v":""},null,null,"","",null,null,null,null,null,null,null,"","","Opis"]
[null,null,null,null,null,null,"",{"$f":"IF($AC$4=\"x\",IFERROR(INDEX(Kalkulacja!I:I,MATCH($U265,Kalkulacja!AO:AO,0))&\" - uzupełnianie i konfiguracja\",\"\"),\"\")","v":""},"",null,"",null,"",{"$f":"IF(IF($AC$4=\"x\",IFERROR(INDEX(Kalkulacja!AF:AF,MATCH(U265,Kalkulacja!AO:AO,0)),\"\"),\"\")=\"\",\"\",IF($AC$4=\"x\",IFERROR(INDEX(Kalkulacja!AF:AF,MATCH(U265,Kalkulacja!AO:AO,0)),\"\"),\"\"))","v":""},null,null,null,null,"",0,32,{"$f":"IFERROR(INDEX(Kalkulacja!I:I,MATCH($U265,Kalkulacja!AO:AO,0)),\"\")","v":""},0,{"$error":"#N/A"},"",{"$f":"IF($AC$4=\"x\",IFERROR(INDEX(Kalkulacja!AD:AD,MATCH($U265,Kalkulacja!AO:AO,0))*$D$23,\"\"),\"\")","v":""},{"$error":"#VALUE!"},{"$error":"#VALUE!"},null,"","","","","","","","","","","",null,{"$f":"IF(AD265=\"\",\"\",MAX($AP$10:AP264)+1)","v":""},null,null,"","",null,null,null,null,null,null,null,"","","Opis"]
[null,null,null,null,null,null,"",{"$f":"IF($AC$4=\"x\",IFERROR(INDEX(Kalkulacja!I:I,MATCH($U266,Kalkulacja!AO:AO,0))&\" - uzupełnianie i konfiguracja\",\"\"),\"\")","v":""},"",null,"",null,"",{"$f":"IF(IF($AC$4=\"x\",IFERROR(INDEX(Kalkulacja!AF:AF,MATCH(U266,Kalkulacja!AO:AO,0)),\"\"),\"\")=\"\",\"\",IF($AC$4=\"x\",IFERROR(INDEX(Kalkulacja!AF:AF,MATCH(U266,Kalkulacja!AO:AO,0)),\"\"),\"\"))","v":""},null,null,null,null,"",0,33,{"$f":"IFERROR(INDEX(Kalkulacja!I:I,MATCH($U266,Kalkulacja!AO:AO,0)),\"\")","v":""},0,{"$f":"VLOOKUP(K266,$C$31:$D$44,2,0)","v":{"$error":"#N/A"}},{"$f":"IFERROR(VLOOKUP(L266,$C$31:$D$44,2,0),\"\")","v":""},{"$f":"IF($AC$4=\"x\",IFERROR(INDEX(Kalkulacja!AD:AD,MATCH($U266,Kalkulacja!AO:AO,0))*$D$23,\"\"),\"\")","v":""},{"$error":"#VALUE!"},{"$error":"#VALUE!"},null,"","","","","","","","",{"$f":"IF(AD266=\"\",\"\",$J$233)","v":""},"","",null,{"$f":"IF(AD266=\"\",\"\",MAX($AP$10:AP265)+1)","v":""},null,null,"",{"$f":"IFERROR(INDEX(AN:AN,MATCH(AS266,AP:AP,0)),\"\")","v":""},null,null,null,null,null,null,null,"","","Opis"]
[null,null,null,null,null,null,"",{"$f":"IF($AC$4=\"x\",IFERROR(INDEX(Kalkulacja!I:I,MATCH($U267,Kalkulacja!AO:AO,0))&\" - uzupełnianie i konfiguracja\",\"\"),\"\")","v":""},"",null,"",null,"",{"$f":"IF(IF($AC$4=\"x\",IFERROR(INDEX(Kalkulacja!AF:AF,MATCH(U267,Kalkulacja!AO:AO,0)),\"\"),\"\")=\"\",\"\",IF($AC$4=\"x\",IFERROR(INDEX(Kalkulacja!AF:AF,MATCH(U267,Kalkulacja!AO:AO,0)),\"\"),\"\"))","v":""},null,null,null,null,{"$f":"LEFT(H267,1)","v":""},0,34,{"$f":"IFERROR(INDEX(Kalkulacja!I:I,MATCH($U267,Kalkulacja!AO:AO,0)),\"\")","v":""},{"$f":"IF(V267=\"\",0,\"x\")","v":0},{"$error":"#N/A"},"",{"$f":"IF($AC$4=\"x\",IFERROR(INDEX(Kalkulacja!AD:AD,MATCH($U267,Kalkulacja!AO:AO,0))*$D$23,\"\"),\"\")","v":""},{"$error":"#VALUE!"},{"$error":"#VALUE!"},null,"","","","","","","","","","","",null,{"$f":"IF(AD267=\"\",\"\",MAX($AP$10:AP266)+1)","v":""},null,null,"","",null,null,null,null,null,null,null,"","","Opis"]
[null,null,null,null,null,null,"",{"$f":"IF($AC$4=\"x\",IFERROR(INDEX(Kalkulacja!I:I,MATCH($U268,Kalkulacja!AO:AO,0))&\" - uzupełnianie i konfiguracja\",\"\"),\"\")","v":""},"",null,"",null,"",{"$f":"IF(IF($AC$4=\"x\",IFERROR(INDEX(Kalkulacja!AF:AF,MATCH(U268,Kalkulacja!AO:AO,0)),\"\"),\"\")=\"\",\"\",IF($AC$4=\"x\",IFERROR(INDEX(Kalkulacja!AF:AF,MATCH(U268,Kalkulacja!AO:AO,0)),\"\"),\"\"))","v":""},null,null,null,null,"",{"$f":"IF(S269=\">\",1,0)","v":0},35,{"$f":"IFERROR(INDEX(Kalkulacja!I:I,MATCH($U268,Kalkulacja!AO:AO,0)),\"\")","v":""},0,{"$error":"#N/A"},"",{"$f":"IF($AC$4=\"x\",IFERROR(INDEX(Kalkulacja!AD:AD,MATCH($U268,Kalkulacja!AO:AO,0))*$D$23,\"\"),\"\")","v":""},{"$error":"#VALUE!"},{"$error":"#VALUE!"},null,"",{"$f":"IF(AD268=\"\",\"\",100)","v":""},"",{"$f":"IF(AD268=\"\",\"\",IF(N268=\"\",BD268,N268))","v":""},"","",{"$f":"IF(AD268=\"\",\"\",IF(COUNT($X268:$Y268)=2,$X268&\"|\"&$Y268,$X268))","v":""},{"$f":"IF(AD268=\"\",\"\",$L$3)","v":""},"",{"$f":"IF(AD268=\"\",\"\",$L$5)","v":""},"",null,{"$f":"IF(AD268=\"\",\"\",MAX($AP$10:AP267)+1)","v":""},null,null,"","",null,null,null,null,null,null,null,{"$f":"IF(N268=\"\",\"\",N268)","v":""},{"$f":"IF(T268=1,SUBSTITUTE(RIGHT(H269,LEN(H269)-2),\",\",\".\"),\"\")","v":""},{"$f":"IF(AND(BB268=\"\",BC268=\"\"),\"Opis\",IF(BB268=\"\",BC268,IF(BC268=\"\",BB268,(BB268&\" | \"&BC268))))","v":"Opis"}]
[null,null,null,null,null,null,"",{"$f":"IF($AC$4=\"x\",IFERROR(INDEX(Kalkulacja!I:I,MATCH($U269,Kalkulacja!AO:AO,0))&\" - uzupełnianie i konfiguracja\",\"\"),\"\")","v":""},"",null,"",null,"",{"$f":"IF(IF($AC$4=\"x\",IFERROR(INDEX(Kalkulacja!AF:AF,MATCH(U269,Kalkulacja!AO:AO,0)),\"\"),\"\")=\"\",\"\",IF($AC$4=\"x\",IFERROR(INDEX(Kalkulacja!AF:AF,MATCH(U269,Kalkulacja!AO:AO,0)),\"\"),\"\"))","v":""},null,null,null,null,"",0,36,{"$f":"IFERROR(INDEX(Kalkulacja!I:I,MATCH($U269,Kalkulacja!AO:AO,0)),\"\")","v":""},0,{"$error":"#N/A"},"",{"$f":"IF($AC$4=\"x\",IFERROR(INDEX(Kalkulacja!AD:AD,MATCH($U269,Kalkulacja!AO:AO,0))*$D$23,\"\"),\"\")","v":""},{"$f":"ROUND((Z269-TRUNC(Z269))*60,0)","v":{"$error":"#VALUE!"}},{"$f":"IF(AA269<10,\"0\"&AA269,AA269)","v":{"$error":"#VALUE!"}},null,"","",{"$f":"IF(AD269=\"\",\"\",IF(Z269=\"\",\"\",TRUNC(Z269)&\".\"&ROUND((Z269-TRUNC(Z269))*100,0)))","v":""},"","","","","","","","",null,{"$f":"IF(AD269=\"\",\"\",MAX($AP$10:AP268)+1)","v":""},null,null,{"$f":"IF(AS268<$AF$4,AS268+1,\"\")","v":""},"",null,null,null,null,null,null,null,"","","Opis"]
[null,null,null,null,null,null,"",{"$f":"IF($AC$4=\"x\",IFERROR(INDEX(Kalkulacja!I:I,MATCH($U270,Kalkulacja!AO:AO,0))&\" - uzupełnianie i konfiguracja\",\"\"),\"\")","v":""},"",null,"",null,"",{"$f":"IF(IF($AC$4=\"x\",IFERROR(INDEX(Kalkulacja!AF:AF,MATCH(U270,Kalkulacja!AO:AO,0)),\"\"),\"\")=\"\",\"\",IF($AC$4=\"x\",IFERROR(INDEX(Kalkulacja!AF:AF,MATCH(U270,Kalkulacja!AO:AO,0)),\"\"),\"\"))","v":""},null,null,null,null,"",0,37,{"$f":"IFERROR(INDEX(Kalkulacja!I:I,MATCH($U270,Kalkulacja!AO:AO,0)),\"\")","v":""},0,{"$error":"#N/A"},"",{"$f":"IF($AC$4=\"x\",IFERROR(INDEX(Kalkulacja!AD:AD,MATCH($U270,Kalkulacja!AO:AO,0))*$D$23,\"\"),\"\")","v":""},{"$error":"#VALUE!"},{"$error":"#VALUE!"},null,"","","","","","","","","","","",null,{"$f":"IF(AD270=\"\",\"\",MAX($AP$10:AP269)+1)","v":""},null,null,"","",null,null,null,null,null,null,null,"","","Opis"]
[null,null,null,null,null,null,"",{"$f":"IF($AC$4=\"x\",IFERROR(INDEX(Kalkulacja!I:I,MATCH($U271,Kalkulacja!AO:AO,0))&\" - uzupełnianie i konfiguracja\",\"\"),\"\")","v":""},"",null,"",null,"",{"$f":"IF(IF($AC$4=\"x\",IFERROR(INDEX(Kalkulacja!AF:AF,MATCH(U271,Kalkulacja!AO:AO,0)),\"\"),\"\")=\"\",\"\",IF($AC$4=\"x\",IFERROR(INDEX(Kalkulacja!AF:AF,MATCH(U271,Kalkulacja!AO:AO,0)),\"\"),\"\"))","v":""},null,null,null,null,"",0,38,{"$f":"IFERROR(INDEX(Kalkulacja!I:I,MATCH($U271,Kalkulacja!AO:AO,0)),\"\")","v":""},0,{"$error":"#N/A"},"",{"$f":"IF($AC$4=\"x\",IFERROR(INDEX(Kalkulacja!AD:AD,MATCH($U271,Kalkulacja!AO:AO,0))*$D$23,\"\"),\"\")","v":""},{"$error":"#VALUE!"},{"$error":"#VALUE!"},null,"","","","","","","","","","","",null,{"$f":"IF(AD271=\"\",\"\",MAX($AP$10:AP270)+1)","v":""},null,null,"","",null,null,null,null,null,null,null,"","","Opis"]
[null,null,null,null,null,null,"",{"$f":"IF($AC$4=\"x\",IFERROR(INDEX(Kalkulacja!I:I,MATCH($U272,Kalkulacja!AO:AO,0))&\" - uzupełnianie i konfiguracja\",\"\"),\"\")","v":""},"",null,"",null,"",{"$f":"IF(IF($AC$4=\"x\",IFERROR(INDEX(Kalkulacja!AF:AF,MATCH(U272,Kalkulacja!AO:AO,0)),\"\"),\"\")=\"\",\"\",IF($AC$4=\"x\",IFERROR(INDEX(Kalkulacja!AF:AF,MATCH(U272,Kalkulacja!AO:AO,0)),\"\"),\"\"))","v":""},null,null,null,null,"",0,39,{"$f":"IFERROR(INDEX(Kalkulacja!I:I,MATCH($U272,Kalkulacja!AO:AO,0)),\"\")","v":""},0,{"$error":"#N/A"},"",{"$f":"IF($AC$4=\"x\",IFERROR(INDEX(Kalkulacja!AD:AD,MATCH($U272,Kalkulacja!AO:AO,0))*$D$23,\"\"),\"\")","v":""},{"$error":"#VALUE!"},{"$error":"#VALUE!"},null,"","","","","","","","","","","",null,{"$f":"IF(AD272=\"\",\"\",MAX($AP$10:AP271)+1)","v":""},null,null,"","",null,null,null,null,null,null,null,"","","Opis"]
[null,null,null,null,null,null,"",{"$f":"IF($AC$4=\"x\",IFERROR(INDEX(Kalkulacja!I:I,MATCH($U273,Kalkulacja!AO:AO,0))&\" - uzupełnianie i konfiguracja\",\"\"),\"\")","v":""},"",null,"",null,"",{"$f":"IF(IF($AC$4=\"x\",IFERROR(INDEX(Kalkulacja!AF:AF,MATCH(U273,Kalkulacja!AO:AO,0)),\"\"),\"\")=\"\",\"\",IF($AC$4=\"x\",IFERROR(INDEX(Kalkulacja!AF:AF,MATCH(U273,Kalkulacja!AO:AO,0)),\"\"),\"\"))","v":""},null,null,null,null,"",0,40,{"$f":"IFERROR(INDEX(Kalkulacja!I:I,MATCH($U273,Kalkulacja!AO:AO,0)),\"\")","v":""},0,{"$error":"#N/A"},"",{"$f":"IF($AC$4=\"x\",IFERROR(INDEX(Kalkulacja!AD:AD,MATCH($U273,Kalkulacja!AO:AO,0))*$D$23,\"\"),\"\")","v":""},{"$error":"#VALUE!"},{"$error":"#VALUE!"},null,"","","","","","","","","","","",null,{"$f":"IF(AD273=\"\",\"\",MAX($AP$10:AP272)+1)","v":""},null,null,"","",null,null,null,null,null,null,null,"","","Opis"]
[null,null,null,null,null,null,"",{"$f":"IF($AC$4=\"x\",IFERROR(INDEX(Kalkulacja!I:I,MATCH($U274,Kalkulacja!AO:AO,0))&\" - uzupełnianie i konfiguracja\",\"\"),\"\")","v":""},"",null,"",null,"",{"$f":"IF(IF($AC$4=\"x\",IFERROR(INDEX(Kalkulacja!AF:AF,MATCH(U274,Kalkulacja!AO:AO,0)),\"\"),\"\")=\"\",\"\",IF($AC$4=\"x\",IFERROR(INDEX(Kalkulacja!AF:AF,MATCH(U274,Kalkulacja!AO:AO,0)),\"\"),\"\"))","v":""},null,null,null,null,"",0,41,{"$f":"IFERROR(INDEX(Kalkulacja!I:I,MATCH($U274,Kalkulacja!AO:AO,0)),\"\")","v":""},0,{"$error":"#N/A"},"",{"$f":"IF($AC$4=\"x\",IFERROR(INDEX(Kalkulacja!AD:AD,MATCH($U274,Kalkulacja!AO:AO,0))*$D$23,\"\"),\"\")","v":""},{"$error":"#VALUE!"},{"$error":"#VALUE!"},null,"","","","","","","","","","","",null,{"$f":"IF(AD274=\"\",\"\",MAX($AP$10:AP273)+1)","v":""},null,null,"","",null,null,null,null,null,null,null,"","","Opis"]
[null,null,null,null,null,null,"",{"$f":"IF($AC$4=\"x\",IFERROR(INDEX(Kalkulacja!I:I,MATCH($U275,Kalkulacja!AO:AO,0))&\" - uzupełnianie i konfiguracja\",\"\"),\"\")","v":""},"",null,"",null,"",{"$f":"IF(IF($AC$4=\"x\",IFERROR(INDEX(Kalkulacja!AF:AF,MATCH(U275,Kalkulacja!AO:AO,0)),\"\"),\"\")=\"\",\"\",IF($AC$4=\"x\",IFERROR(INDEX(Kalkulacja!AF:AF,MATCH(U275,Kalkulacja!AO:AO,0)),\"\"),\"\"))","v":""},null,null,null,null,"",0,42,{"$f":"IFERROR(INDEX(Kalkulacja!I:I,MATCH($U275,Kalkulacja!AO:AO,0)),\"\")","v":""},0,{"$error":"#N/A"},"",{"$f":"IF($AC$4=\"x\",IFERROR(INDEX(Kalkulacja!AD:AD,MATCH($U275,Kalkulacja!AO:AO,0))*$D$23,\"\"),\"\")","v":""},{"$error":"#VALUE!"},{"$error":"#VALUE!"},null,"","","","","","","","","","","",null,{"$f":"IF(AD275=\"\",\"\",MAX($AP$10:AP274)+1)","v":""},null,null,"","",null,null,null,null,null,null,null,"","","Opis"]
[null,null,null,null,null,null,"",{"$f":"IF($AC$4=\"x\",IFERROR(INDEX(Kalkulacja!I:I,MATCH($U276,Kalkulacja!AO:AO,0))&\" - uzupełnianie i konfiguracja\",\"\"),\"\")","v":""},"",null,"",null,"",{"$f":"IF(IF($AC$4=\"x\",IFERROR(INDEX(Kalkulacja!AF:AF,MATCH(U276,Kalkulacja!AO:AO,0)),\"\"),\"\")=\"\",\"\",IF($AC$4=\"x\",IFERROR(INDEX(Kalkulacja!AF:AF,MATCH(U276,Kalkulacja!AO:AO,0)),\"\"),\"\"))","v":""},null,null,null,null,"",0,43,{"$f":"IFERROR(INDEX(Kalkulacja!I:I,MATCH($U276,Kalkulacja!AO:AO,0)),\"\")","v":""},0,{"$error":"#N/A"},"",{"$f":"IF($AC$4=\"x\",IFERROR(INDEX(Kalkulacja!AD:AD,MATCH($U276,Kalkulacja!AO:AO,0))*$D$23,\"\"),\"\")","v":""},{"$error":"#VALUE!"},{"$error":"#VALUE!"},null,"","","","","","","","","","","",null,{"$f":"IF(AD276=\"\",\"\",MAX($AP$10:AP275)+1)","v":""},null,null,"","",null,null,null,null,null,null,null,"","","Opis"]
[null,null,null,null,null,null,"",{"$f":"IF($AC$4=\"x\",IFERROR(INDEX(Kalkulacja!I:I,MATCH($U277,Kalkulacja!AO:AO,0))&\" - uzupełnianie i konfiguracja\",\"\"),\"\")","v":""},"",null,"",null,"",{"$f":"IF(IF($AC$4=\"x\",IFERROR(INDEX(Kalkulacja!AF:AF,MATCH(U277,Kalkulacja!AO:AO,0)),\"\"),\"\")=\"\",\"\",IF($AC$4=\"x\",IFERROR(INDEX(Kalkulacja!AF:AF,MATCH(U277,Kalkulacja!AO:AO,0)),\"\"),\"\"))","v":""},null,null,null,null,"",0,44,{"$f":"IFERROR(INDEX(Kalkulacja!I:I,MATCH($U277,Kalkulacja!AO:AO,0)),\"\")","v":""},0,{"$error":"#N/A"},"",{"$f":"IF($AC$4=\"x\",IFERROR(INDEX(Kalkulacja!AD:AD,MATCH($U277,Kalkulacja!AO:AO,0))*$D$23,\"\"),\"\")","v":""},{"$error":"#VALUE!"},{"$error":"#VALUE!"},null,"","","","","","","","","","","",null,{"$f":"IF(AD277=\"\",\"\",MAX($AP$10:AP276)+1)","v":""},null,null,"","",null,null,null,null,null,null,null,"","","Opis"]
[null,null,null,null,null,null,"",{"$f":"IF($AC$4=\"x\",IFERROR(INDEX(Kalkulacja!I:I,MATCH($U278,Kalkulacja!AO:AO,0))&\" - uzupełnianie i konfiguracja\",\"\"),\"\")","v":""},"",null,"",null,"",{"$f":"IF(IF($AC$4=\"x\",IFERROR(INDEX(Kalkulacja!AF:AF,MATCH(U278,Kalkulacja!AO:AO,0)),\"\"),\"\")=\"\",\"\",IF($AC$4=\"x\",IFERROR(INDEX(Kalkulacja!AF:AF,MATCH(U278,Kalkulacja!AO:AO,0)),\"\"),\"\"))","v":""},null,null,null,null,"",0,45,{"$f":"IFERROR(INDEX(Kalkulacja!I:I,MATCH($U278,Kalkulacja!AO:AO,0)),\"\")","v":""},0,{"$error":"#N/A"},"",{"$f":"IF($AC$4=\"x\",IFERROR(INDEX(Kalkulacja!AD:AD,MATCH($U278,Kalkulacja!AO:AO,0))*$D$23,\"\"),\"\")","v":""},{"$error":"#VALUE!"},{"$error":"#VALUE!"},null,"","","","","","","","","","","",null,{"$f":"IF(AD278=\"\",\"\",MAX($AP$10:AP277)+1)","v":""},null,null,"","",null,null,null,null,null,null,null,"","","Opis"]
[null,null,null,null,null,null,"",{"$f":"IF($AC$4=\"x\",IFERROR(INDEX(Kalkulacja!I:I,MATCH($U279,Kalkulacja!AO:AO,0))&\" - uzupełnianie i konfiguracja\",\"\"),\"\")","v":""},"",null,"",null,"",{"$f":"IF(IF($AC$4=\"x\",IFERROR(INDEX(Kalkulacja!AF:AF,MATCH(U279,Kalkulacja!AO:AO,0)),\"\"),\"\")=\"\",\"\",IF($AC$4=\"x\",IFERROR(INDEX(Kalkulacja!AF:AF,MATCH(U279,Kalkulacja!AO:AO,0)),\"\"),\"\"))","v":""},null,null,null,null,"",0,46,{"$f":"IFERROR(INDEX(Kalkulacja!I:I,MATCH($U279,Kalkulacja!AO:AO,0)),\"\")","v":""},0,{"$error":"#N/A"},"",{"$f":"IF($AC$4=\"x\",IFERROR(INDEX(Kalkulacja!AD:AD,MATCH($U279,Kalkulacja!AO:AO,0))*$D$23,\"\"),\"\")","v":""},{"$error":"#VALUE!"},{"$error":"#VALUE!"},null,"","","","","","","","","","","",null,{"$f":"IF(AD279=\"\",\"\",MAX($AP$10:AP278)+1)","v":""},null,null,"","",null,null,null,null,null,null,null,"","","Opis"]
[null,null,null,null,null,null,"",{"$f":"IF($AC$4=\"x\",IFERROR(INDEX(Kalkulacja!I:I,MATCH($U280,Kalkulacja!AO:AO,0))&\" - uzupełnianie i konfiguracja\",\"\"),\"\")","v":""},"",null,{"$f":"IF($AC$4=\"x\",IF(S280=\">\",\"\",IFERROR(VLOOKUP(G280,$H$3:$I$6,2,0),\"\")),\"\")","v":""},null,{"$f":"IF($AC$4=\"x\",IF(S280=\">\",\"\",IF(Z280=\"\",\"\",TRUNC(Z280)&\":\"&AB280)),\"\")","v":""},{"$f":"IF(IF($AC$4=\"x\",IFERROR(INDEX(Kalkulacja!AF:AF,MATCH(U280,Kalkulacja!AO:AO,0)),\"\"),\"\")=\"\",\"\",IF($AC$4=\"x\",IFERROR(INDEX(Kalkulacja!AF:AF,MATCH(U280,Kalkulacja!AO:AO,0)),\"\"),\"\"))","v":""},null,null,null,null,"",0,47,{"$f":"IFERROR(INDEX(Kalkulacja!I:I,MATCH($U280,Kalkulacja!AO:AO,0)),\"\")","v":""},0,{"$error":"#N/A"},"",{"$f":"IF($AC$4=\"x\",IFERROR(INDEX(Kalkulacja!AD:AD,MATCH($U280,Kalkulacja!AO:AO,0))*$D$23,\"\"),\"\")","v":""},{"$error":"#VALUE!"},{"$error":"#VALUE!"},null,{"$f":"IF(H280=\"\",\"\",IF(S280=\">\",\"\",H280&\" - \"&$L$3))","v":""},"","","","","","","","","","",null,{"$f":"IF(AD280=\"\",\"\",MAX($AP$10:AP279)+1)","v":""},null,null,"","",null,null,null,null,null,null,null,"","","Opis"]
[null,null,null,null,null,null,"",{"$f":"IF($AC$4=\"x\",IFERROR(INDEX(Kalkulacja!I:I,MATCH($U281,Kalkulacja!AO:AO,0))&\" - uzupełnianie i konfiguracja\",\"\"),\"\")","v":""},"",null,"",null,"",{"$f":"IF(IF($AC$4=\"x\",IFERROR(INDEX(Kalkulacja!AF:AF,MATCH(U281,Kalkulacja!AO:AO,0)),\"\"),\"\")=\"\",\"\",IF($AC$4=\"x\",IFERROR(INDEX(Kalkulacja!AF:AF,MATCH(U281,Kalkulacja!AO:AO,0)),\"\"),\"\"))","v":""},null,null,null,null,"",0,48,{"$f":"IFERROR(INDEX(Kalkulacja!I:I,MATCH($U281,Kalkulacja!AO:AO,0)),\"\")","v":""},0,{"$error":"#N/A"},"",{"$f":"IF($AC$4=\"x\",IFERROR(INDEX(Kalkulacja!AD:AD,MATCH($U281,Kalkulacja!AO:AO,0))*$D$23,\"\"),\"\")","v":""},{"$error":"#VALUE!"},{"$error":"#VALUE!"},null,"","","","","","","","","","","",null,{"$f":"IF(AD281=\"\",\"\",MAX($AP$10:AP280)+1)","v":""},null,null,"","",null,null,null,null,null,null,null,"","","Opis"]
[null,null,null,null,null,null,"",{"$f":"IF($AC$4=\"x\",IFERROR(INDEX(Kalkulacja!I:I,MATCH($U282,Kalkulacja!AO:AO,0))&\" - uzupełnianie i konfiguracja\",\"\"),\"\")","v":""},"",null,"",null,"",{"$f":"IF(IF($AC$4=\"x\",IFERROR(INDEX(Kalkulacja!AF:AF,MATCH(U282,Kalkulacja!AO:AO,0)),\"\"),\"\")=\"\",\"\",IF($AC$4=\"x\",IFERROR(INDEX(Kalkulacja!AF:AF,MATCH(U282,Kalkulacja!AO:AO,0)),\"\"),\"\"))","v":""},null,null,null,null,"",0,49,{"$f":"IFERROR(INDEX(Kalkulacja!I:I,MATCH($U282,Kalkulacja!AO:AO,0)),\"\")","v":""},0,{"$error":"#N/A"},"",{"$f":"IF($AC$4=\"x\",IFERROR(INDEX(Kalkulacja!AD:AD,MATCH($U282,Kalkulacja!AO:AO,0))*$D$23,\"\"),\"\")","v":""},{"$error":"#VALUE!"},{"$error":"#VALUE!"},null,"","","","","","","","","","","",null,{"$f":"IF(AD282=\"\",\"\",MAX($AP$10:AP281)+1)","v":""},null,null,"","",null,null,null,null,null,null,null,"","","Opis"]
[null,null,null,null,null,null,"",{"$f":"IF($AC$4=\"x\",IFERROR(INDEX(Kalkulacja!I:I,MATCH($U283,Kalkulacja!AO:AO,0))&\" - uzupełnianie i konfiguracja\",\"\"),\"\")","v":""},"",null,"",null,"",{"$f":"IF(IF($AC$4=\"x\",IFERROR(INDEX(Kalkulacja!AF:AF,MATCH(U283,Kalkulacja!AO:AO,0)),\"\"),\"\")=\"\",\"\",IF($AC$4=\"x\",IFERROR(INDEX(Kalkulacja!AF:AF,MATCH(U283,Kalkulacja!AO:AO,0)),\"\"),\"\"))","v":""},null,null,null,null,"",0,50,{"$f":"IFERROR(INDEX(Kalkulacja!I:I,MATCH($U283,Kalkulacja!AO:AO,0)),\"\")","v":""},0,{"$error":"#N/A"},"",{"$f":"IF($AC$4=\"x\",IFERROR(INDEX(Kalkulacja!AD:AD,MATCH($U283,Kalkulacja!AO:AO,0))*$D$23,\"\"),\"\")","v":""},{"$error":"#VALUE!"},{"$error":"#VALUE!"},null,"","","","","","","","","","","",null,{"$f":"IF(AD283=\"\",\"\",MAX($AP$10:AP282)+1)","v":""},null,null,"","",null,null,null,null,null,null,null,"","","Opis"]
[null,null,null,null,null,null,"",{"$f":"IF($AC$4=\"x\",IFERROR(INDEX(Kalkulacja!I:I,MATCH($U284,Kalkulacja!AO:AO,0))&\" - uzupełnianie i konfiguracja\",\"\"),\"\")","v":""},"",null,"",null,"",{"$f":"IF(IF($AC$4=\"x\",IFERROR(INDEX(Kalkulacja!AF:AF,MATCH(U284,Kalkulacja!AO:AO,0)),\"\"),\"\")=\"\",\"\",IF($AC$4=\"x\",IFERROR(INDEX(Kalkulacja!AF:AF,MATCH(U284,Kalkulacja!AO:AO,0)),\"\"),\"\"))","v":""},null,null,null,null,"",0,51,{"$f":"IFERROR(INDEX(Kalkulacja!I:I,MATCH($U284,Kalkulacja!AO:AO,0)),\"\")","v":""},0,{"$error":"#N/A"},"",{"$f":"IF($AC$4=\"x\",IFERROR(INDEX(Kalkulacja!AD:AD,MATCH($U284,Kalkulacja!AO:AO,0))*$D$23,\"\"),\"\")","v":""},{"$error":"#VALUE!"},{"$error":"#VALUE!"},null,"","","","","","","","","","","",null,{"$f":"IF(AD284=\"\",\"\",MAX($AP$10:AP283)+1)","v":""},null,null,"","",null,null,null,null,null,null,null,"","","Opis"]
[null,null,null,null,null,null,"",{"$f":"IF($AC$4=\"x\",IFERROR(INDEX(Kalkulacja!I:I,MATCH($U285,Kalkulacja!AO:AO,0))&\" - uzupełnianie i konfiguracja\",\"\"),\"\")","v":""},"",null,"",null,"",{"$f":"IF(IF($AC$4=\"x\",IFERROR(INDEX(Kalkulacja!AF:AF,MATCH(U285,Kalkulacja!AO:AO,0)),\"\"),\"\")=\"\",\"\",IF($AC$4=\"x\",IFERROR(INDEX(Kalkulacja!AF:AF,MATCH(U285,Kalkulacja!AO:AO,0)),\"\"),\"\"))","v":""},null,null,null,null,"",0,52,{"$f":"IFERROR(INDEX(Kalkulacja!I:I,MATCH($U285,Kalkulacja!AO:AO,0)),\"\")","v":""},0,{"$error":"#N/A"},"",{"$f":"IF($AC$4=\"x\",IFERROR(INDEX(Kalkulacja!AD:AD,MATCH($U285,Kalkulacja!AO:AO,0))*$D$23,\"\"),\"\")","v":""},{"$error":"#VALUE!"},{"$error":"#VALUE!"},null,"","","","","","","","","","","",null,{"$f":"IF(AD285=\"\",\"\",MAX($AP$10:AP284)+1)","v":""},null,null,"","",null,null,null,null,null,null,null,"","","Opis"]
[null,null,null,null,null,null,"",{"$f":"IF($AC$4=\"x\",IFERROR(INDEX(Kalkulacja!I:I,MATCH($U286,Kalkulacja!AO:AO,0))&\" - uzupełnianie i konfiguracja\",\"\"),\"\")","v":""},"",null,"",null,"",{"$f":"IF(IF($AC$4=\"x\",IFERROR(INDEX(Kalkulacja!AF:AF,MATCH(U286,Kalkulacja!AO:AO,0)),\"\"),\"\")=\"\",\"\",IF($AC$4=\"x\",IFERROR(INDEX(Kalkulacja!AF:AF,MATCH(U286,Kalkulacja!AO:AO,0)),\"\"),\"\"))","v":""},null,null,null,null,"",0,53,{"$f":"IFERROR(INDEX(Kalkulacja!I:I,MATCH($U286,Kalkulacja!AO:AO,0)),\"\")","v":""},0,{"$error":"#N/A"},"",{"$f":"IF($AC$4=\"x\",IFERROR(INDEX(Kalkulacja!AD:AD,MATCH($U286,Kalkulacja!AO:AO,0))*$D$23,\"\"),\"\")","v":""},{"$error":"#VALUE!"},{"$error":"#VALUE!"},null,"","","","","","","","","","","",null,{"$f":"IF(AD286=\"\",\"\",MAX($AP$10:AP285)+1)","v":""},null,null,"","",null,null,null,null,null,null,null,"","","Opis"]
[null,null,null,null,null,null,"",{"$f":"IF($AC$4=\"x\",IFERROR(INDEX(Kalkulacja!I:I,MATCH($U287,Kalkulacja!AO:AO,0))&\" - uzupełnianie i konfiguracja\",\"\"),\"\")","v":""},"",null,"",null,"",{"$f":"IF(IF($AC$4=\"x\",IFERROR(INDEX(Kalkulacja!AF:AF,MATCH(U287,Kalkulacja!AO:AO,0)),\"\"),\"\")=\"\",\"\",IF($AC$4=\"x\",IFERROR(INDEX(Kalkulacja!AF:AF,MATCH(U287,Kalkulacja!AO:AO,0)),\"\"),\"\"))","v":""},null,null,null,null,"",0,54,{"$f":"IFERROR(INDEX(Kalkulacja!I:I,MATCH($U287,Kalkulacja!AO:AO,0)),\"\")","v":""},0,{"$error":"#N/A"},"",{"$f":"IF($AC$4=\"x\",IFERROR(INDEX(Kalkulacja!AD:AD,MATCH($U287,Kalkulacja!AO:AO,0))*$D$23,\"\"),\"\")","v":""},{"$error":"#VALUE!"},{"$error":"#VALUE!"},null,"","","","","","","","","","","",null,{"$f":"IF(AD287=\"\",\"\",MAX($AP$10:AP286)+1)","v":""},null,null,"","",null,null,null,null,null,null,null,"","","Opis"]
[null,null,null,null,null,null,"",{"$f":"IF($AC$4=\"x\",IFERROR(INDEX(Kalkulacja!I:I,MATCH($U288,Kalkulacja!AO:AO,0))&\" - uzupełnianie i konfiguracja\",\"\"),\"\")","v":""},"",null,"",null,"",{"$f":"IF(IF($AC$4=\"x\",IFERROR(INDEX(Kalkulacja!AF:AF,MATCH(U288,Kalkulacja!AO:AO,0)),\"\"),\"\")=\"\",\"\",IF($AC$4=\"x\",IFERROR(INDEX(Kalkulacja!AF:AF,MATCH(U288,Kalkulacja!AO:AO,0)),\"\"),\"\"))","v":""},null,null,null,null,"",0,55,{"$f":"IFERROR(INDEX(Kalkulacja!I:I,MATCH($U288,Kalkulacja!AO:AO,0)),\"\")","v":""},0,{"$error":"#N/A"},"",{"$f":"IF($AC$4=\"x\",IFERROR(INDEX(Kalkulacja!AD:AD,MATCH($U288,Kalkulacja!AO:AO,0))*$D$23,\"\"),\"\")","v":""},{"$error":"#VALUE!"},{"$error":"#VALUE!"},null,"","","","",{"$f":"IF(AD288=\"\",\"\",\"WAITING\")","v":""},{"$f":"IF(AD288=\"\",\"\",21)","v":""},"","","","","",null,{"$f":"IF(AD288=\"\",\"\",MAX($AP$10:AP287)+1)","v":""},null,null,"","",null,null,null,null,null,null,null,"","","Opis"]
[null,null,null,null,null,null,"",{"$f":"IF($AC$4=\"x\",IFERROR(INDEX(Kalkulacja!I:I,MATCH($U289,Kalkulacja!AO:AO,0))&\" - uzupełnianie i konfiguracja\",\"\"),\"\")","v":""},"",null,"",null,"",{"$f":"IF(IF($AC$4=\"x\",IFERROR(INDEX(Kalkulacja!AF:AF,MATCH(U289,Kalkulacja!AO:AO,0)),\"\"),\"\")=\"\",\"\",IF($AC$4=\"x\",IFERROR(INDEX(Kalkulacja!AF:AF,MATCH(U289,Kalkulacja!AO:AO,0)),\"\"),\"\"))","v":""},null,null,null,null,"",0,56,{"$f":"IFERROR(INDEX(Kalkulacja!I:I,MATCH($U289,Kalkulacja!AO:AO,0)),\"\")","v":""},0,{"$error":"#N/A"},"",{"$f":"IF($AC$4=\"x\",IFERROR(INDEX(Kalkulacja!AD:AD,MATCH($U289,Kalkulacja!AO:AO,0))*$D$23,\"\"),\"\")","v":""},{"$error":"#VALUE!"},{"$error":"#VALUE!"},null,"","","","","","","","","","","",null,{"$f":"IF(AD289=\"\",\"\",MAX($AP$10:AP288)+1)","v":""},null,null,"","",null,null,null,null,null,null,null,"","","Opis"]
[null,null,null,null,null,null,"",{"$f":"IF($AC$4=\"x\",IFERROR(INDEX(Kalkulacja!I:I,MATCH($U290,Kalkulacja!AO:AO,0))&\" - uzupełnianie i konfiguracja\",\"\"),\"\")","v":""},"",null,"",null,"",{"$f":"IF(IF($AC$4=\"x\",IFERROR(INDEX(Kalkulacja!AF:AF,MATCH(U290,Kalkulacja!AO:AO,0)),\"\"),\"\")=\"\",\"\",IF($AC$4=\"x\",IFERROR(INDEX(Kalkulacja!AF:AF,MATCH(U290,Kalkulacja!AO:AO,0)),\"\"),\"\"))","v":""},null,null,null,null,"",0,57,{"$f":"IFERROR(INDEX(Kalkulacja!I:I,MATCH($U290,Kalkulacja!AO:AO,0)),\"\")","v":""},0,{"$error":"#N/A"},"",{"$f":"IF($AC$4=\"x\",IFERROR(INDEX(Kalkulacja!AD:AD,MATCH($U290,Kalkulacja!AO:AO,0))*$D$23,\"\"),\"\")","v":""},{"$error":"#VALUE!"},{"$error":"#VALUE!"},null,"","","","","","","","","","","",null,{"$f":"IF(AD290=\"\",\"\",MAX($AP$10:AP289)+1)","v":""},null,null,"","",null,null,null,null,null,null,null,"","","Opis"]
[null,null,null,null,null,null,"",{"$f":"IF($AC$4=\"x\",IFERROR(INDEX(Kalkulacja!I:I,MATCH($U291,Kalkulacja!AO:AO,0))&\" - uzupełnianie i konfiguracja\",\"\"),\"\")","v":""},"",null,"",null,"",{"$f":"IF(IF($AC$4=\"x\",IFERROR(INDEX(Kalkulacja!AF:AF,MATCH(U291,Kalkulacja!AO:AO,0)),\"\"),\"\")=\"\",\"\",IF($AC$4=\"x\",IFERROR(INDEX(Kalkulacja!AF:AF,MATCH(U291,Kalkulacja!AO:AO,0)),\"\"),\"\"))","v":""},null,null,null,null,"",0,58,{"$f":"IFERROR(INDEX(Kalkulacja!I:I,MATCH($U291,Kalkulacja!AO:AO,0)),\"\")","v":""},0,{"$error":"#N/A"},"",{"$f":"IF($AC$4=\"x\",IFERROR(INDEX(Kalkulacja!AD:AD,MATCH($U291,Kalkulacja!AO:AO,0))*$D$23,\"\"),\"\")","v":""},{"$error":"#VALUE!"},{"$error":"#VALUE!"},null,"","","","","","","","","","","",null,{"$f":"IF(AD291=\"\",\"\",MAX($AP$10:AP290)+1)","v":""},null,null,"","",null,null,null,null,null,null,null,"","","Opis"]
[null,null,null,null,null,null,"",{"$f":"IF($AC$4=\"x\",IFERROR(INDEX(Kalkulacja!I:I,MATCH($U292,Kalkulacja!AO:AO,0))&\" - uzupełnianie i konfiguracja\",\"\"),\"\")","v":""},"",null,"",null,"",{"$f":"IF(IF($AC$4=\"x\",IFERROR(INDEX(Kalkulacja!AF:AF,MATCH(U292,Kalkulacja!AO:AO,0)),\"\"),\"\")=\"\",\"\",IF($AC$4=\"x\",IFERROR(INDEX(Kalkulacja!AF:AF,MATCH(U292,Kalkulacja!AO:AO,0)),\"\"),\"\"))","v":""},null,null,null,null,"",0,59,{"$f":"IFERROR(INDEX(Kalkulacja!I:I,MATCH($U292,Kalkulacja!AO:AO,0)),\"\")","v":""},0,{"$error":"#N/A"},"",{"$f":"IF($AC$4=\"x\",IFERROR(INDEX(Kalkulacja!AD:AD,MATCH($U292,Kalkulacja!AO:AO,0))*$D$23,\"\"),\"\")","v":""},{"$error":"#VALUE!"},{"$error":"#VALUE!"},null,"","","","","","","","","","","",null,{"$f":"IF(AD292=\"\",\"\",MAX($AP$10:AP291)+1)","v":""},null,null,"","",null,null,null,null,null,null,null,"","","Opis"]
[null,null,null,null,null,null,"",{"$f":"IF($AC$4=\"x\",IFERROR(INDEX(Kalkulacja!I:I,MATCH($U293,Kalkulacja!AO:AO,0))&\" - uzupełnianie i konfiguracja\",\"\"),\"\")","v":""},"",null,"",null,"",{"$f":"IF(IF($AC$4=\"x\",IFERROR(INDEX(Kalkulacja!AF:AF,MATCH(U293,Kalkulacja!AO:AO,0)),\"\"),\"\")=\"\",\"\",IF($AC$4=\"x\",IFERROR(INDEX(Kalkulacja!AF:AF,MATCH(U293,Kalkulacja!AO:AO,0)),\"\"),\"\"))","v":""},null,null,null,null,"",0,60,{"$f":"IFERROR(INDEX(Kalkulacja!I:I,MATCH($U293,Kalkulacja!AO:AO,0)),\"\")","v":""},0,{"$error":"#N/A"},"",{"$f":"IF($AC$4=\"x\",IFERROR(INDEX(Kalkulacja!AD:AD,MATCH($U293,Kalkulacja!AO:AO,0))*$D$23,\"\"),\"\")","v":""},{"$error":"#VALUE!"},{"$error":"#VALUE!"},null,"","","","","","","","","","","",null,{"$f":"IF(AD293=\"\",\"\",MAX($AP$10:AP292)+1)","v":""},null,null,"","",null,null,null,null,null,null,null,"","","Opis"]
[null,null,null,null,null,null,"",{"$f":"IF($AC$4=\"x\",IFERROR(INDEX(Kalkulacja!I:I,MATCH($U294,Kalkulacja!AO:AO,0))&\" - uzupełnianie i konfiguracja\",\"\"),\"\")","v":""},"",null,"",null,"",{"$f":"IF(IF($AC$4=\"x\",IFERROR(INDEX(Kalkulacja!AF:AF,MATCH(U294,Kalkulacja!AO:AO,0)),\"\"),\"\")=\"\",\"\",IF($AC$4=\"x\",IFERROR(INDEX(Kalkulacja!AF:AF,MATCH(U294,Kalkulacja!AO:AO,0)),\"\"),\"\"))","v":""},null,null,null,null,"",0,61,{"$f":"IFERROR(INDEX(Kalkulacja!I:I,MATCH($U294,Kalkulacja!AO:AO,0)),\"\")","v":""},0,{"$error":"#N/A"},"",{"$f":"IF($AC$4=\"x\",IFERROR(INDEX(Kalkulacja!AD:AD,MATCH($U294,Kalkulacja!AO:AO,0))*$D$23,\"\"),\"\")","v":""},{"$error":"#VALUE!"},{"$error":"#VALUE!"},null,"","","","","","","","","","","",null,{"$f":"IF(AD294=\"\",\"\",MAX($AP$10:AP293)+1)","v":""},null,null,"","",null,null,null,null,null,null,null,"","","Opis"]
[null,null,null,null,null,null,"",{"$f":"IF($AC$4=\"x\",IFERROR(INDEX(Kalkulacja!I:I,MATCH($U295,Kalkulacja!AO:AO,0))&\" - uzupełnianie i konfiguracja\",\"\"),\"\")","v":""},"",null,"",null,"",{"$f":"IF(IF($AC$4=\"x\",IFERROR(INDEX(Kalkulacja!AF:AF,MATCH(U295,Kalkulacja!AO:AO,0)),\"\"),\"\")=\"\",\"\",IF($AC$4=\"x\",IFERROR(INDEX(Kalkulacja!AF:AF,MATCH(U295,Kalkulacja!AO:AO,0)),\"\"),\"\"))","v":""},null,null,null,null,"",0,62,{"$f":"IFERROR(INDEX(Kalkulacja!I:I,MATCH($U295,Kalkulacja!AO:AO,0)),\"\")","v":""},0,{"$error":"#N/A"},"",{"$f":"IF($AC$4=\"x\",IFERROR(INDEX(Kalkulacja!AD:AD,MATCH($U295,Kalkulacja!AO:AO,0))*$D$23,\"\"),\"\")","v":""},{"$error":"#VALUE!"},{"$error":"#VALUE!"},null,"","","","","","","","","","","",null,{"$f":"IF(AD295=\"\",\"\",MAX($AP$10:AP294)+1)","v":""},null,null,"","",null,null,null,null,null,null,null,"","","Opis"]
[null,null,null,null,null,null,"",{"$f":"IF($AC$4=\"x\",IFERROR(INDEX(Kalkulacja!I:I,MATCH($U296,Kalkulacja!AO:AO,0))&\" - uzupełnianie i konfiguracja\",\"\"),\"\")","v":""},"",null,"",null,"",{"$f":"IF(IF($AC$4=\"x\",IFERROR(INDEX(Kalkulacja!AF:AF,MATCH(U296,Kalkulacja!AO:AO,0)),\"\"),\"\")=\"\",\"\",IF($AC$4=\"x\",IFERROR(INDEX(Kalkulacja!AF:AF,MATCH(U296,Kalkulacja!AO:AO,0)),\"\"),\"\"))","v":""},null,null,null,null,"",0,63,{"$f":"IFERROR(INDEX(Kalkulacja!I:I,MATCH($U296,Kalkulacja!AO:AO,0)),\"\")","v":""},0,{"$error":"#N/A"},"",{"$f":"IF($AC$4=\"x\",IFERROR(INDEX(Kalkulacja!AD:AD,MATCH($U296,Kalkulacja!AO:AO,0))*$D$23,\"\"),\"\")","v":""},{"$error":"#VALUE!"},{"$error":"#VALUE!"},null,"","","","","","","","","","","",null,{"$f":"IF(AD296=\"\",\"\",MAX($AP$10:AP295)+1)","v":""},null,null,"","",null,null,null,null,null,null,null,"","","Opis"]
[null,null,null,null,null,null,"",{"$f":"IF($AC$4=\"x\",IFERROR(INDEX(Kalkulacja!I:I,MATCH($U297,Kalkulacja!AO:AO,0))&\" - uzupełnianie i konfiguracja\",\"\"),\"\")","v":""},"",null,"",null,"",{"$f":"IF(IF($AC$4=\"x\",IFERROR(INDEX(Kalkulacja!AF:AF,MATCH(U297,Kalkulacja!AO:AO,0)),\"\"),\"\")=\"\",\"\",IF($AC$4=\"x\",IFERROR(INDEX(Kalkulacja!AF:AF,MATCH(U297,Kalkulacja!AO:AO,0)),\"\"),\"\"))","v":""},null,null,null,null,"",0,64,{"$f":"IFERROR(INDEX(Kalkulacja!I:I,MATCH($U297,Kalkulacja!AO:AO,0)),\"\")","v":""},0,{"$error":"#N/A"},"",{"$f":"IF($AC$4=\"x\",IFERROR(INDEX(Kalkulacja!AD:AD,MATCH($U297,Kalkulacja!AO:AO,0))*$D$23,\"\"),\"\")","v":""},{"$error":"#VALUE!"},{"$error":"#VALUE!"},null,"","","","","","","","","","","",null,{"$f":"IF(AD297=\"\",\"\",MAX($AP$10:AP296)+1)","v":""},null,null,"","",null,null,null,null,null,null,null,"","","Opis"]
[null,null,null,null,null,null,{"$f":"IF($AC$4=\"x\",\"Content Manager\",\"\")","v":""},{"$f":"IF($AC$4=\"x\",IFERROR(INDEX(Kalkulacja!I:I,MATCH($U298,Kalkulacja!AO:AO,0))&\" - uzupełnianie i konfiguracja\",\"\"),\"\")","v":""},"",null,"",null,"",{"$f":"IF(IF($AC$4=\"x\",IFERROR(INDEX(Kalkulacja!AF:AF,MATCH(U298,Kalkulacja!AO:AO,0)),\"\"),\"\")=\"\",\"\",IF($AC$4=\"x\",IFERROR(INDEX(Kalkulacja!AF:AF,MATCH(U298,Kalkulacja!AO:AO,0)),\"\"),\"\"))","v":""},null,null,null,null,"",0,65,{"$f":"IFERROR(INDEX(Kalkulacja!I:I,MATCH($U298,Kalkulacja!AO:AO,0)),\"\")","v":""},0,{"$error":"#N/A"},"",{"$f":"IF($AC$4=\"x\",IFERROR(INDEX(Kalkulacja!AD:AD,MATCH($U298,Kalkulacja!AO:AO,0))*$D$23,\"\"),\"\")","v":""},{"$error":"#VALUE!"},{"$error":"#VALUE!"},null,"","","","","","","","",{"$f":"IF(AD298=\"\",\"\",$J$233)","v":""},"","",null,{"$f":"IF(AD298=\"\",\"\",MAX($AP$10:AP297)+1)","v":""},null,null,"","",null,null,null,null,null,null,null,"","","Opis"]
[null,null,null,null,null,null,"",{"$f":"IF($AC$4=\"x\",IFERROR(INDEX(Kalkulacja!I:I,MATCH($U299,Kalkulacja!AO:AO,0))&\" - uzupełnianie i konfiguracja\",\"\"),\"\")","v":""},{"$f":"IF($AC$4=\"x\",IF(S299=\">\",\"\",\"podrzędne\"),\"\")","v":""},null,"",null,"",{"$f":"IF(IF($AC$4=\"x\",IFERROR(INDEX(Kalkulacja!AF:AF,MATCH(U299,Kalkulacja!AO:AO,0)),\"\"),\"\")=\"\",\"\",IF($AC$4=\"x\",IFERROR(INDEX(Kalkulacja!AF:AF,MATCH(U299,Kalkulacja!AO:AO,0)),\"\"),\"\"))","v":""},null,null,null,null,"",0,66,{"$f":"IFERROR(INDEX(Kalkulacja!I:I,MATCH($U299,Kalkulacja!AO:AO,0)),\"\")","v":""},0,{"$error":"#N/A"},"",{"$f":"IF($AC$4=\"x\",IFERROR(INDEX(Kalkulacja!AD:AD,MATCH($U299,Kalkulacja!AO:AO,0))*$D$23,\"\"),\"\")","v":""},{"$error":"#VALUE!"},{"$error":"#VALUE!"},null,"","","","","","","","","","","",null,{"$f":"IF(AD299=\"\",\"\",MAX($AP$10:AP298)+1)","v":""},null,null,"","",null,null,null,null,null,null,null,"","","Opis"]
[null,null,null,null,null,null,"",{"$f":"IF($AC$4=\"x\",IFERROR(INDEX(Kalkulacja!I:I,MATCH($U300,Kalkulacja!AO:AO,0))&\" - uzupełnianie i konfiguracja\",\"\"),\"\")","v":""},"",null,"",null,"",{"$f":"IF(IF($AC$4=\"x\",IFERROR(INDEX(Kalkulacja!AF:AF,MATCH(U300,Kalkulacja!AO:AO,0)),\"\"),\"\")=\"\",\"\",IF($AC$4=\"x\",IFERROR(INDEX(Kalkulacja!AF:AF,MATCH(U300,Kalkulacja!AO:AO,0)),\"\"),\"\"))","v":""},null,null,null,null,"",0,67,{"$f":"IFERROR(INDEX(Kalkulacja!I:I,MATCH($U300,Kalkulacja!AO:AO,0)),\"\")","v":""},0,{"$error":"#N/A"},"",{"$f":"IF($AC$4=\"x\",IFERROR(INDEX(Kalkulacja!AD:AD,MATCH($U300,Kalkulacja!AO:AO,0))*$D$23,\"\"),\"\")","v":""},{"$error":"#VALUE!"},{"$error":"#VALUE!"},null,"","","","","","","","","","","",null,{"$f":"IF(AD300=\"\",\"\",MAX($AP$10:AP299)+1)","v":""},null,null,"","",null,null,null,null,null,null,null,"","","Opis"]
[null,null,null,null,null,null,"",{"$f":"IF($AC$4=\"x\",IFERROR(INDEX(Kalkulacja!I:I,MATCH($U301,Kalkulacja!AO:AO,0))&\" - uzupełnianie i konfiguracja\",\"\"),\"\")","v":""},"",null,"",null,"",{"$f":"IF(IF($AC$4=\"x\",IFERROR(INDEX(Kalkulacja!AF:AF,MATCH(U301,Kalkulacja!AO:AO,0)),\"\"),\"\")=\"\",\"\",IF($AC$4=\"x\",IFERROR(INDEX(Kalkulacja!AF:AF,MATCH(U301,Kalkulacja!AO:AO,0)),\"\"),\"\"))","v":""},null,null,null,null,"",0,68,{"$f":"IFERROR(INDEX(Kalkulacja!I:I,MATCH($U301,Kalkulacja!AO:AO,0)),\"\")","v":""},0,{"$error":"#N/A"},"",{"$f":"IF($AC$4=\"x\",IFERROR(INDEX(Kalkulacja!AD:AD,MATCH($U301,Kalkulacja!AO:AO,0))*$D$23,\"\"),\"\")","v":""},{"$error":"#VALUE!"},{"$error":"#VALUE!"},null,"","","","","","","","","","","",null,{"$f":"IF(AD301=\"\",\"\",MAX($AP$10:AP300)+1)","v":""},null,null,"","",null,null,null,null,null,null,null,"","","Opis"]
[null,null,null,null,null,null,"",{"$f":"IF($AC$4=\"x\",IFERROR(INDEX(Kalkulacja!I:I,MATCH($U302,Kalkulacja!AO:AO,0))&\" - uzupełnianie i konfiguracja\",\"\"),\"\")","v":""},"",null,"",null,"",{"$f":"IF(IF($AC$4=\"x\",IFERROR(INDEX(Kalkulacja!AF:AF,MATCH(U302,Kalkulacja!AO:AO,0)),\"\"),\"\")=\"\",\"\",IF($AC$4=\"x\",IFERROR(INDEX(Kalkulacja!AF:AF,MATCH(U302,Kalkulacja!AO:AO,0)),\"\"),\"\"))","v":""},null,null,null,null,"",0,69,{"$f":"IFERROR(INDEX(Kalkulacja!I:I,MATCH($U302,Kalkulacja!AO:AO,0)),\"\")","v":""},0,{"$error":"#N/A"},"",{"$f":"IF($AC$4=\"x\",IFERROR(INDEX(Kalkulacja!AD:AD,MATCH($U302,Kalkulacja!AO:AO,0))*$D$23,\"\"),\"\")","v":""},{"$error":"#VALUE!"},{"$error":"#VALUE!"},null,"","","","","","","","","","","",null,{"$f":"IF(AD302=\"\",\"\",MAX($AP$10:AP301)+1)","v":""},null,null,"","",null,null,null,null,null,null,null,"","","Opis"]
[null,null,null,null,null,null,"",{"$f":"IF($AC$4=\"x\",IFERROR(INDEX(Kalkulacja!I:I,MATCH($U303,Kalkulacja!AO:AO,0))&\" - uzupełnianie i konfiguracja\",\"\"),\"\")","v":""},"",null,"",null,"",{"$f":"IF(IF($AC$4=\"x\",IFERROR(INDEX(Kalkulacja!AF:AF,MATCH(U303,Kalkulacja!AO:AO,0)),\"\"),\"\")=\"\",\"\",IF($AC$4=\"x\",IFERROR(INDEX(Kalkulacja!AF:AF,MATCH(U303,Kalkulacja!AO:AO,0)),\"\"),\"\"))","v":""},null,null,null,null,"",0,70,{"$f":"IFERROR(INDEX(Kalkulacja!I:I,MATCH($U303,Kalkulacja!AO:AO,0)),\"\")","v":""},0,{"$error":"#N/A"},"",{"$f":"IF($AC$4=\"x\",IFERROR(INDEX(Kalkulacja!AD:AD,MATCH($U303,Kalkulacja!AO:AO,0))*$D$23,\"\"),\"\")","v":""},{"$error":"#VALUE!"},{"$error":"#VALUE!"},null,"","","","","","","","","","","",null,{"$f":"IF(AD303=\"\",\"\",MAX($AP$10:AP302)+1)","v":""},null,null,"","",null,null,null,null,null,null,null,"","","Opis"]
[null,null,null,null,null,null,"",{"$f":"IF($AC$4=\"x\",IFERROR(INDEX(Kalkulacja!I:I,MATCH($U304,Kalkulacja!AO:AO,0))&\" - uzupełnianie i konfiguracja\",\"\"),\"\")","v":""},"",null,"",null,"",{"$f":"IF(IF($AC$4=\"x\",IFERROR(INDEX(Kalkulacja!AF:AF,MATCH(U304,Kalkulacja!AO:AO,0)),\"\"),\"\")=\"\",\"\",IF($AC$4=\"x\",IFERROR(INDEX(Kalkulacja!AF:AF,MATCH(U304,Kalkulacja!AO:AO,0)),\"\"),\"\"))","v":""},null,null,null,null,"",0,71,{"$f":"IFERROR(INDEX(Kalkulacja!I:I,MATCH($U304,Kalkulacja!AO:AO,0)),\"\")","v":""},0,{"$error":"#N/A"},"",{"$f":"IF($AC$4=\"x\",IFERROR(INDEX(Kalkulacja!AD:AD,MATCH($U304,Kalkulacja!AO:AO,0))*$D$23,\"\"),\"\")","v":""},{"$error":"#VALUE!"},{"$error":"#VALUE!"},null,"","","","","","","","","","","",null,{"$f":"IF(AD304=\"\",\"\",MAX($AP$10:AP303)+1)","v":""},null,null,"","",null,null,null,null,null,null,null,"","","Opis"]
[null,null,null,null,null,null,"",{"$f":"IF($AC$4=\"x\",IFERROR(INDEX(Kalkulacja!I:I,MATCH($U305,Kalkulacja!AO:AO,0))&\" - uzupełnianie i konfiguracja\",\"\"),\"\")","v":""},"",null,"",null,"",{"$f":"IF(IF($AC$4=\"x\",IFERROR(INDEX(Kalkulacja!AF:AF,MATCH(U305,Kalkulacja!AO:AO,0)),\"\"),\"\")=\"\",\"\",IF($AC$4=\"x\",IFERROR(INDEX(Kalkulacja!AF:AF,MATCH(U305,Kalkulacja!AO:AO,0)),\"\"),\"\"))","v":""},null,null,null,null,"",0,72,{"$f":"IFERROR(INDEX(Kalkulacja!I:I,MATCH($U305,Kalkulacja!AO:AO,0)),\"\")","v":""},0,{"$error":"#N/A"},"",{"$f":"IF($AC$4=\"x\",IFERROR(INDEX(Kalkulacja!AD:AD,MATCH($U305,Kalkulacja!AO:AO,0))*$D$23,\"\"),\"\")","v":""},{"$error":"#VALUE!"},{"$error":"#VALUE!"},null,"","","","","","","","","","","",null,{"$f":"IF(AD305=\"\",\"\",MAX($AP$10:AP304)+1)","v":""},null,null,"","",null,null,null,null,null,null,null,"","","Opis"]
[null,null,null,null,null,null,"",{"$f":"IF($AC$4=\"x\",IFERROR(INDEX(Kalkulacja!I:I,MATCH($U306,Kalkulacja!AO:AO,0))&\" - uzupełnianie i konfiguracja\",\"\"),\"\")","v":""},"",null,"",null,"",{"$f":"IF(IF($AC$4=\"x\",IFERROR(INDEX(Kalkulacja!AF:AF,MATCH(U306,Kalkulacja!AO:AO,0)),\"\"),\"\")=\"\",\"\",IF($AC$4=\"x\",IFERROR(INDEX(Kalkulacja!AF:AF,MATCH(U306,Kalkulacja!AO:AO,0)),\"\"),\"\"))","v":""},null,null,null,null,"",0,73,{"$f":"IFERROR(INDEX(Kalkulacja!I:I,MATCH($U306,Kalkulacja!AO:AO,0)),\"\")","v":""},0,{"$error":"#N/A"},"",{"$f":"IF($AC$4=\"x\",IFERROR(INDEX(Kalkulacja!AD:AD,MATCH($U306,Kalkulacja!AO:AO,0))*$D$23,\"\"),\"\")","v":""},{"$error":"#VALUE!"},{"$error":"#VALUE!"},null,"","","","","","","","","","","",null,{"$f":"IF(AD306=\"\",\"\",MAX($AP$10:AP305)+1)","v":""},null,null,"","",null,null,null,null,null,null,null,"","","Opis"]
[null,null,null,null,null,null,"",{"$f":"IF($AC$4=\"x\",IFERROR(INDEX(Kalkulacja!I:I,MATCH($U307,Kalkulacja!AO:AO,0))&\" - uzupełnianie i konfiguracja\",\"\"),\"\")","v":""},"",null,"",null,"",{"$f":"IF(IF($AC$4=\"x\",IFERROR(INDEX(Kalkulacja!AF:AF,MATCH(U307,Kalkulacja!AO:AO,0)),\"\"),\"\")=\"\",\"\",IF($AC$4=\"x\",IFERROR(INDEX(Kalkulacja!AF:AF,MATCH(U307,Kalkulacja!AO:AO,0)),\"\"),\"\"))","v":""},null,null,null,null,"",0,74,{"$f":"IFERROR(INDEX(Kalkulacja!I:I,MATCH($U307,Kalkulacja!AO:AO,0)),\"\")","v":""},0,{"$error":"#N/A"},"",{"$f":"IF($AC$4=\"x\",IFERROR(INDEX(Kalkulacja!AD:AD,MATCH($U307,Kalkulacja!AO:AO,0))*$D$23,\"\"),\"\")","v":""},{"$error":"#VALUE!"},{"$error":"#VALUE!"},null,"","","","","","","","","","","",null,{"$f":"IF(AD307=\"\",\"\",MAX($AP$10:AP306)+1)","v":""},null,null,"","",null,null,null,null,null,null,null,"","","Opis"]
[null,null,null,null,null,null,"",{"$f":"IF($AC$4=\"x\",IFERROR(INDEX(Kalkulacja!I:I,MATCH($U308,Kalkulacja!AO:AO,0))&\" - uzupełnianie i konfiguracja\",\"\"),\"\")","v":""},"",null,"",null,"",{"$f":"IF(IF($AC$4=\"x\",IFERROR(INDEX(Kalkulacja!AF:AF,MATCH(U308,Kalkulacja!AO:AO,0)),\"\"),\"\")=\"\",\"\",IF($AC$4=\"x\",IFERROR(INDEX(Kalkulacja!AF:AF,MATCH(U308,Kalkulacja!AO:AO,0)),\"\"),\"\"))","v":""},null,null,null,null,"",0,75,{"$f":"IFERROR(INDEX(Kalkulacja!I:I,MATCH($U308,Kalkulacja!AO:AO,0)),\"\")","v":""},0,{"$error":"#N/A"},"",{"$f":"IF($AC$4=\"x\",IFERROR(INDEX(Kalkulacja!AD:AD,MATCH($U308,Kalkulacja!AO:AO,0))*$D$23,\"\"),\"\")","v":""},{"$error":"#VALUE!"},{"$error":"#VALUE!"},null,"","","","","","","","","","","",null,{"$f":"IF(AD308=\"\",\"\",MAX($AP$10:AP307)+1)","v":""},null,null,"","",null,null,null,null,null,null,null,"","","Opis"]
[null,null,null,null,null,null,"",{"$f":"IF($AC$4=\"x\",IFERROR(INDEX(Kalkulacja!I:I,MATCH($U309,Kalkulacja!AO:AO,0))&\" - uzupełnianie i konfiguracja\",\"\"),\"\")","v":""},"",null,"",null,"",{"$f":"IF(IF($AC$4=\"x\",IFERROR(INDEX(Kalkulacja!AF:AF,MATCH(U309,Kalkulacja!AO:AO,0)),\"\"),\"\")=\"\",\"\",IF($AC$4=\"x\",IFERROR(INDEX(Kalkulacja!AF:AF,MATCH(U309,Kalkulacja!AO:AO,0)),\"\"),\"\"))","v":""},null,null,null,null,"",0,76,{"$f":"IFERROR(INDEX(Kalkulacja!I:I,MATCH($U309,Kalkulacja!AO:AO,0)),\"\")","v":""},0,{"$error":"#N/A"},"",{"$f":"IF($AC$4=\"x\",IFERROR(INDEX(Kalkulacja!AD:AD,MATCH($U309,Kalkulacja!AO:AO,0))*$D$23,\"\"),\"\")","v":""},{"$error":"#VALUE!"},{"$error":"#VALUE!"},null,"","","","","","","","","","","",null,{"$f":"IF(AD309=\"\",\"\",MAX($AP$10:AP308)+1)","v":""},null,null,"","",null,null,null,null,null,null,null,"","","Opis"]
[null,null,null,null,null,null,"",{"$f":"IF($AC$4=\"x\",IFERROR(INDEX(Kalkulacja!I:I,MATCH($U310,Kalkulacja!AO:AO,0))&\" - uzupełnianie i konfiguracja\",\"\"),\"\")","v":""},"",null,"",null,"",{"$f":"IF(IF($AC$4=\"x\",IFERROR(INDEX(Kalkulacja!AF:AF,MATCH(U310,Kalkulacja!AO:AO,0)),\"\"),\"\")=\"\",\"\",IF($AC$4=\"x\",IFERROR(INDEX(Kalkulacja!AF:AF,MATCH(U310,Kalkulacja!AO:AO,0)),\"\"),\"\"))","v":""},null,null,null,null,"",0,77,{"$f":"IFERROR(INDEX(Kalkulacja!I:I,MATCH($U310,Kalkulacja!AO:AO,0)),\"\")","v":""},0,{"$error":"#N/A"},"",{"$f":"IF($AC$4=\"x\",IFERROR(INDEX(Kalkulacja!AD:AD,MATCH($U310,Kalkulacja!AO:AO,0))*$D$23,\"\"),\"\")","v":""},{"$error":"#VALUE!"},{"$error":"#VALUE!"},null,"","","","","","","","","","","",null,{"$f":"IF(AD310=\"\",\"\",MAX($AP$10:AP309)+1)","v":""},null,null,"","",null,null,null,null,null,null,null,"","","Opis"]
[null,null,null,null,null,null,"",{"$f":"IF($AC$4=\"x\",IFERROR(INDEX(Kalkulacja!I:I,MATCH($U311,Kalkulacja!AO:AO,0))&\" - uzupełnianie i konfiguracja\",\"\"),\"\")","v":""},"",null,"",null,"",{"$f":"IF(IF($AC$4=\"x\",IFERROR(INDEX(Kalkulacja!AF:AF,MATCH(U311,Kalkulacja!AO:AO,0)),\"\"),\"\")=\"\",\"\",IF($AC$4=\"x\",IFERROR(INDEX(Kalkulacja!AF:AF,MATCH(U311,Kalkulacja!AO:AO,0)),\"\"),\"\"))","v":""},null,null,null,null,"",0,78,{"$f":"IFERROR(INDEX(Kalkulacja!I:I,MATCH($U311,Kalkulacja!AO:AO,0)),\"\")","v":""},0,{"$error":"#N/A"},"",{"$f":"IF($AC$4=\"x\",IFERROR(INDEX(Kalkulacja!AD:AD,MATCH($U311,Kalkulacja!AO:AO,0))*$D$23,\"\"),\"\")","v":""},{"$error":"#VALUE!"},{"$error":"#VALUE!"},null,"","","","","","","","","","","",null,{"$f":"IF(AD311=\"\",\"\",MAX($AP$10:AP310)+1)","v":""},null,null,"","",null,null,null,null,null,null,null,"","","Opis"]
[null,null,null,null,null,null,"",{"$f":"IF($AC$4=\"x\",IFERROR(INDEX(Kalkulacja!I:I,MATCH($U312,Kalkulacja!AO:AO,0))&\" - uzupełnianie i konfiguracja\",\"\"),\"\")","v":""},"",null,"",null,"",{"$f":"IF(IF($AC$4=\"x\",IFERROR(INDEX(Kalkulacja!AF:AF,MATCH(U312,Kalkulacja!AO:AO,0)),\"\"),\"\")=\"\",\"\",IF($AC$4=\"x\",IFERROR(INDEX(Kalkulacja!AF:AF,MATCH(U312,Kalkulacja!AO:AO,0)),\"\"),\"\"))","v":""},null,null,null,null,"",0,79,{"$f":"IFERROR(INDEX(Kalkulacja!I:I,MATCH($U312,Kalkulacja!AO:AO,0)),\"\")","v":""},0,{"$error":"#N/A"},"",{"$f":"IF($AC$4=\"x\",IFERROR(INDEX(Kalkulacja!AD:AD,MATCH($U312,Kalkulacja!AO:AO,0))*$D$23,\"\"),\"\")","v":""},{"$error":"#VALUE!"},{"$error":"#VALUE!"},null,"","","","","","","","","","","",null,{"$f":"IF(AD312=\"\",\"\",MAX($AP$10:AP311)+1)","v":""},null,null,"","",null,null,null,null,null,null,null,"","","Opis"]
[null,null,null,null,null,null,"",{"$f":"IF($AC$4=\"x\",IFERROR(INDEX(Kalkulacja!I:I,MATCH($U313,Kalkulacja!AO:AO,0))&\" - uzupełnianie i konfiguracja\",\"\"),\"\")","v":""},"",null,"",null,"",{"$f":"IF(IF($AC$4=\"x\",IFERROR(INDEX(Kalkulacja!AF:AF,MATCH(U313,Kalkulacja!AO:AO,0)),\"\"),\"\")=\"\",\"\",IF($AC$4=\"x\",IFERROR(INDEX(Kalkulacja!AF:AF,MATCH(U313,Kalkulacja!AO:AO,0)),\"\"),\"\"))","v":""},null,null,null,null,"",0,80,{"$f":"IFERROR(INDEX(Kalkulacja!I:I,MATCH($U313,Kalkulacja!AO:AO,0)),\"\")","v":""},0,{"$error":"#N/A"},"",{"$f":"IF($AC$4=\"x\",IFERROR(INDEX(Kalkulacja!AD:AD,MATCH($U313,Kalkulacja!AO:AO,0))*$D$23,\"\"),\"\")","v":""},{"$error":"#VALUE!"},{"$error":"#VALUE!"},null,"","","","","","","","","","","",null,{"$f":"IF(AD313=\"\",\"\",MAX($AP$10:AP312)+1)","v":""},null,null,"","",null,null,null,null,null,null,null,"","","Opis"]
[null,null,null,null,null,null,"",{"$f":"IF($AC$4=\"x\",IFERROR(INDEX(Kalkulacja!I:I,MATCH($U314,Kalkulacja!AO:AO,0))&\" - uzupełnianie i konfiguracja\",\"\"),\"\")","v":""},"",null,"",null,"",{"$f":"IF(IF($AC$4=\"x\",IFERROR(INDEX(Kalkulacja!AF:AF,MATCH(U314,Kalkulacja!AO:AO,0)),\"\"),\"\")=\"\",\"\",IF($AC$4=\"x\",IFERROR(INDEX(Kalkulacja!AF:AF,MATCH(U314,Kalkulacja!AO:AO,0)),\"\"),\"\"))","v":""},null,null,null,null,"",0,81,{"$f":"IFERROR(INDEX(Kalkulacja!I:I,MATCH($U314,Kalkulacja!AO:AO,0)),\"\")","v":""},0,{"$error":"#N/A"},"",{"$f":"IF($AC$4=\"x\",IFERROR(INDEX(Kalkulacja!AD:AD,MATCH($U314,Kalkulacja!AO:AO,0))*$D$23,\"\"),\"\")","v":""},{"$error":"#VALUE!"},{"$error":"#VALUE!"},null,"","","","","","","","","","","",null,{"$f":"IF(AD314=\"\",\"\",MAX($AP$10:AP313)+1)","v":""},null,null,"","",null,null,null,null,null,null,null,"","","Opis"]
[null,null,null,null,null,null,"",{"$f":"IF($AC$4=\"x\",IFERROR(INDEX(Kalkulacja!I:I,MATCH($U315,Kalkulacja!AO:AO,0))&\" - uzupełnianie i konfiguracja\",\"\"),\"\")","v":""},"",null,"",null,"",{"$f":"IF(IF($AC$4=\"x\",IFERROR(INDEX(Kalkulacja!AF:AF,MATCH(U315,Kalkulacja!AO:AO,0)),\"\"),\"\")=\"\",\"\",IF($AC$4=\"x\",IFERROR(INDEX(Kalkulacja!AF:AF,MATCH(U315,Kalkulacja!AO:AO,0)),\"\"),\"\"))","v":""},null,null,null,null,"",0,82,{"$f":"IFERROR(INDEX(Kalkulacja!I:I,MATCH($U315,Kalkulacja!AO:AO,0)),\"\")","v":""},0,{"$error":"#N/A"},"",{"$f":"IF($AC$4=\"x\",IFERROR(INDEX(Kalkulacja!AD:AD,MATCH($U315,Kalkulacja!AO:AO,0))*$D$23,\"\"),\"\")","v":""},{"$error":"#VALUE!"},{"$error":"#VALUE!"},null,"","","","","","","","","","","",null,{"$f":"IF(AD315=\"\",\"\",MAX($AP$10:AP314)+1)","v":""},null,null,"","",null,null,null,null,null,null,null,"","","Opis"]
[null,null,null,null,null,null,"",{"$f":"IF($AC$4=\"x\",IFERROR(INDEX(Kalkulacja!I:I,MATCH($U316,Kalkulacja!AO:AO,0))&\" - uzupełnianie i konfiguracja\",\"\"),\"\")","v":""},"",null,"",null,"",{"$f":"IF(IF($AC$4=\"x\",IFERROR(INDEX(Kalkulacja!AF:AF,MATCH(U316,Kalkulacja!AO:AO,0)),\"\"),\"\")=\"\",\"\",IF($AC$4=\"x\",IFERROR(INDEX(Kalkulacja!AF:AF,MATCH(U316,Kalkulacja!AO:AO,0)),\"\"),\"\"))","v":""},null,null,null,null,"",0,83,{"$f":"IFERROR(INDEX(Kalkulacja!I:I,MATCH($U316,Kalkulacja!AO:AO,0)),\"\")","v":""},0,{"$error":"#N/A"},"",{"$f":"IF($AC$4=\"x\",IFERROR(INDEX(Kalkulacja!AD:AD,MATCH($U316,Kalkulacja!AO:AO,0))*$D$23,\"\"),\"\")","v":""},{"$error":"#VALUE!"},{"$error":"#VALUE!"},null,"","","","","","","","","","","",null,{"$f":"IF(AD316=\"\",\"\",MAX($AP$10:AP315)+1)","v":""},null,null,"","",null,null,null,null,null,null,null,"","","Opis"]
[null,null,null,null,null,null,"",{"$f":"IF($AC$4=\"x\",IFERROR(INDEX(Kalkulacja!I:I,MATCH($U317,Kalkulacja!AO:AO,0))&\" - uzupełnianie i konfiguracja\",\"\"),\"\")","v":""},"",null,"",null,"",{"$f":"IF(IF($AC$4=\"x\",IFERROR(INDEX(Kalkulacja!AF:AF,MATCH(U317,Kalkulacja!AO:AO,0)),\"\"),\"\")=\"\",\"\",IF($AC$4=\"x\",IFERROR(INDEX(Kalkulacja!AF:AF,MATCH(U317,Kalkulacja!AO:AO,0)),\"\"),\"\"))","v":""},null,null,null,null,"",0,84,{"$f":"IFERROR(INDEX(Kalkulacja!I:I,MATCH($U317,Kalkulacja!AO:AO,0)),\"\")","v":""},0,{"$error":"#N/A"},"",{"$f":"IF($AC$4=\"x\",IFERROR(INDEX(Kalkulacja!AD:AD,MATCH($U317,Kalkulacja!AO:AO,0))*$D$23,\"\"),\"\")","v":""},{"$error":"#VALUE!"},{"$error":"#VALUE!"},null,"","","","","","","","","","","",null,{"$f":"IF(AD317=\"\",\"\",MAX($AP$10:AP316)+1)","v":""},null,null,"","",null,null,null,null,null,null,null,"","","Opis"]
[null,null,null,null,null,null,"",{"$f":"IF($AC$4=\"x\",IFERROR(INDEX(Kalkulacja!I:I,MATCH($U318,Kalkulacja!AO:AO,0))&\" - uzupełnianie i konfiguracja\",\"\"),\"\")","v":""},"",null,"",null,"",{"$f":"IF(IF($AC$4=\"x\",IFERROR(INDEX(Kalkulacja!AF:AF,MATCH(U318,Kalkulacja!AO:AO,0)),\"\"),\"\")=\"\",\"\",IF($AC$4=\"x\",IFERROR(INDEX(Kalkulacja!AF:AF,MATCH(U318,Kalkulacja!AO:AO,0)),\"\"),\"\"))","v":""},null,null,null,null,"",0,85,{"$f":"IFERROR(INDEX(Kalkulacja!I:I,MATCH($U318,Kalkulacja!AO:AO,0)),\"\")","v":""},0,{"$error":"#N/A"},"",{"$f":"IF($AC$4=\"x\",IFERROR(INDEX(Kalkulacja!AD:AD,MATCH($U318,Kalkulacja!AO:AO,0))*$D$23,\"\"),\"\")","v":""},{"$error":"#VALUE!"},{"$error":"#VALUE!"},null,"","","","","","","","","","","",null,{"$f":"IF(AD318=\"\",\"\",MAX($AP$10:AP317)+1)","v":""},null,null,"","",null,null,null,null,null,null,null,"","","Opis"]
[null,null,null,null,null,null,"",{"$f":"IF($AC$4=\"x\",IFERROR(INDEX(Kalkulacja!I:I,MATCH($U319,Kalkulacja!AO:AO,0))&\" - uzupełnianie i konfiguracja\",\"\"),\"\")","v":""},"",null,"",null,"",{"$f":"IF(IF($AC$4=\"x\",IFERROR(INDEX(Kalkulacja!AF:AF,MATCH(U319,Kalkulacja!AO:AO,0)),\"\"),\"\")=\"\",\"\",IF($AC$4=\"x\",IFERROR(INDEX(Kalkulacja!AF:AF,MATCH(U319,Kalkulacja!AO:AO,0)),\"\"),\"\"))","v":""},null,null,null,null,"",0,86,{"$f":"IFERROR(INDEX(Kalkulacja!I:I,MATCH($U319,Kalkulacja!AO:AO,0)),\"\")","v":""},0,{"$error":"#N/A"},"",{"$f":"IF($AC$4=\"x\",IFERROR(INDEX(Kalkulacja!AD:AD,MATCH($U319,Kalkulacja!AO:AO,0))*$D$23,\"\"),\"\")","v":""},{"$error":"#VALUE!"},{"$error":"#VALUE!"},null,"","","","","","","","","","","",null,{"$f":"IF(AD319=\"\",\"\",MAX($AP$10:AP318)+1)","v":""},null,null,"","",null,null,null,null,null,null,null,"","","Opis"]
[null,null,null,null,null,null,"",{"$f":"IF($AC$4=\"x\",IFERROR(INDEX(Kalkulacja!I:I,MATCH($U320,Kalkulacja!AO:AO,0))&\" - uzupełnianie i konfiguracja\",\"\"),\"\")","v":""},"",null,"",null,"",{"$f":"IF(IF($AC$4=\"x\",IFERROR(INDEX(Kalkulacja!AF:AF,MATCH(U320,Kalkulacja!AO:AO,0)),\"\"),\"\")=\"\",\"\",IF($AC$4=\"x\",IFERROR(INDEX(Kalkulacja!AF:AF,MATCH(U320,Kalkulacja!AO:AO,0)),\"\"),\"\"))","v":""},null,null,null,null,"",0,87,{"$f":"IFERROR(INDEX(Kalkulacja!I:I,MATCH($U320,Kalkulacja!AO:AO,0)),\"\")","v":""},0,{"$error":"#N/A"},"",{"$f":"IF($AC$4=\"x\",IFERROR(INDEX(Kalkulacja!AD:AD,MATCH($U320,Kalkulacja!AO:AO,0))*$D$23,\"\"),\"\")","v":""},{"$error":"#VALUE!"},{"$error":"#VALUE!"},null,"","","","","","","","","","","",null,{"$f":"IF(AD320=\"\",\"\",MAX($AP$10:AP319)+1)","v":""},null,null,"","",null,null,null,null,null,null,null,"","","Opis"]
[null,null,null,null,null,null,"",{"$f":"IF($AC$4=\"x\",IFERROR(INDEX(Kalkulacja!I:I,MATCH($U321,Kalkulacja!AO:AO,0))&\" - uzupełnianie i konfiguracja\",\"\"),\"\")","v":""},"",null,"",null,"",{"$f":"IF(IF($AC$4=\"x\",IFERROR(INDEX(Kalkulacja!AF:AF,MATCH(U321,Kalkulacja!AO:AO,0)),\"\"),\"\")=\"\",\"\",IF($AC$4=\"x\",IFERROR(INDEX(Kalkulacja!AF:AF,MATCH(U321,Kalkulacja!AO:AO,0)),\"\"),\"\"))","v":""},null,null,null,null,"",0,88,{"$f":"IFERROR(INDEX(Kalkulacja!I:I,MATCH($U321,Kalkulacja!AO:AO,0)),\"\")","v":""},0,{"$error":"#N/A"},"",{"$f":"IF($AC$4=\"x\",IFERROR(INDEX(Kalkulacja!AD:AD,MATCH($U321,Kalkulacja!AO:AO,0))*$D$23,\"\"),\"\")","v":""},{"$error":"#VALUE!"},{"$error":"#VALUE!"},null,"","","","","","","","","","","",null,{"$f":"IF(AD321=\"\",\"\",MAX($AP$10:AP320)+1)","v":""},null,null,"","",null,null,null,null,null,null,null,"","","Opis"]
[null,null,null,null,null,null,"",{"$f":"IF($AC$4=\"x\",IFERROR(INDEX(Kalkulacja!I:I,MATCH($U322,Kalkulacja!AO:AO,0))&\" - uzupełnianie i konfiguracja\",\"\"),\"\")","v":""},"",null,"",null,"",{"$f":"IF(IF($AC$4=\"x\",IFERROR(INDEX(Kalkulacja!AF:AF,MATCH(U322,Kalkulacja!AO:AO,0)),\"\"),\"\")=\"\",\"\",IF($AC$4=\"x\",IFERROR(INDEX(Kalkulacja!AF:AF,MATCH(U322,Kalkulacja!AO:AO,0)),\"\"),\"\"))","v":""},null,null,null,null,"",0,89,{"$f":"IFERROR(INDEX(Kalkulacja!I:I,MATCH($U322,Kalkulacja!AO:AO,0)),\"\")","v":""},0,{"$error":"#N/A"},"",{"$f":"IF($AC$4=\"x\",IFERROR(INDEX(Kalkulacja!AD:AD,MATCH($U322,Kalkulacja!AO:AO,0))*$D$23,\"\"),\"\")","v":""},{"$error":"#VALUE!"},{"$error":"#VALUE!"},null,"","","","","","","","","","","",null,{"$f":"IF(AD322=\"\",\"\",MAX($AP$10:AP321)+1)","v":""},null,null,"","",null,null,null,null,null,null,null,"","","Opis"]
[null,null,null,null,null,null,"",{"$f":"IF($AC$4=\"x\",IFERROR(INDEX(Kalkulacja!I:I,MATCH($U323,Kalkulacja!AO:AO,0))&\" - uzupełnianie i konfiguracja\",\"\"),\"\")","v":""},"",null,"",null,"",{"$f":"IF(IF($AC$4=\"x\",IFERROR(INDEX(Kalkulacja!AF:AF,MATCH(U323,Kalkulacja!AO:AO,0)),\"\"),\"\")=\"\",\"\",IF($AC$4=\"x\",IFERROR(INDEX(Kalkulacja!AF:AF,MATCH(U323,Kalkulacja!AO:AO,0)),\"\"),\"\"))","v":""},null,null,null,null,"",0,90,{"$f":"IFERROR(INDEX(Kalkulacja!I:I,MATCH($U323,Kalkulacja!AO:AO,0)),\"\")","v":""},0,{"$error":"#N/A"},"",{"$f":"IF($AC$4=\"x\",IFERROR(INDEX(Kalkulacja!AD:AD,MATCH($U323,Kalkulacja!AO:AO,0))*$D$23,\"\"),\"\")","v":""},{"$error":"#VALUE!"},{"$error":"#VALUE!"},null,"","","","","","","","","","","",null,{"$f":"IF(AD323=\"\",\"\",MAX($AP$10:AP322)+1)","v":""},null,null,"","",null,null,null,null,null,null,null,"","","Opis"]
[null,null,null,null,null,null,"",{"$f":"IF($AC$4=\"x\",IFERROR(INDEX(Kalkulacja!I:I,MATCH($U324,Kalkulacja!AO:AO,0))&\" - uzupełnianie i konfiguracja\",\"\"),\"\")","v":""},"",null,"",null,"",{"$f":"IF(IF($AC$4=\"x\",IFERROR(INDEX(Kalkulacja!AF:AF,MATCH(U324,Kalkulacja!AO:AO,0)),\"\"),\"\")=\"\",\"\",IF($AC$4=\"x\",IFERROR(INDEX(Kalkulacja!AF:AF,MATCH(U324,Kalkulacja!AO:AO,0)),\"\"),\"\"))","v":""},null,null,null,null,"",0,91,{"$f":"IFERROR(INDEX(Kalkulacja!I:I,MATCH($U324,Kalkulacja!AO:AO,0)),\"\")","v":""},0,{"$error":"#N/A"},"",{"$f":"IF($AC$4=\"x\",IFERROR(INDEX(Kalkulacja!AD:AD,MATCH($U324,Kalkulacja!AO:AO,0))*$D$23,\"\"),\"\")","v":""},{"$error":"#VALUE!"},{"$error":"#VALUE!"},null,"","","","","","","","","","","",null,{"$f":"IF(AD324=\"\",\"\",MAX($AP$10:AP323)+1)","v":""},null,null,"","",null,null,null,null,null,null,null,"","","Opis"]
[null,null,null,null,null,null,"",{"$f":"IF($AC$4=\"x\",IFERROR(INDEX(Kalkulacja!I:I,MATCH($U325,Kalkulacja!AO:AO,0))&\" - uzupełnianie i konfiguracja\",\"\"),\"\")","v":""},"",null,"",null,"",{"$f":"IF(IF($AC$4=\"x\",IFERROR(INDEX(Kalkulacja!AF:AF,MATCH(U325,Kalkulacja!AO:AO,0)),\"\"),\"\")=\"\",\"\",IF($AC$4=\"x\",IFERROR(INDEX(Kalkulacja!AF:AF,MATCH(U325,Kalkulacja!AO:AO,0)),\"\"),\"\"))","v":""},null,null,null,null,"",0,92,{"$f":"IFERROR(INDEX(Kalkulacja!I:I,MATCH($U325,Kalkulacja!AO:AO,0)),\"\")","v":""},0,{"$error":"#N/A"},"",{"$f":"IF($AC$4=\"x\",IFERROR(INDEX(Kalkulacja!AD:AD,MATCH($U325,Kalkulacja!AO:AO,0))*$D$23,\"\"),\"\")","v":""},{"$error":"#VALUE!"},{"$error":"#VALUE!"},null,"","","","","","","","","","","",null,{"$f":"IF(AD325=\"\",\"\",MAX($AP$10:AP324)+1)","v":""},null,null,"","",null,null,null,null,null,null,null,"","","Opis"]
[null,null,null,null,null,null,"",{"$f":"IF($AC$4=\"x\",IFERROR(INDEX(Kalkulacja!I:I,MATCH($U326,Kalkulacja!AO:AO,0))&\" - uzupełnianie i konfiguracja\",\"\"),\"\")","v":""},"",null,"",null,"",{"$f":"IF(IF($AC$4=\"x\",IFERROR(INDEX(Kalkulacja!AF:AF,MATCH(U326,Kalkulacja!AO:AO,0)),\"\"),\"\")=\"\",\"\",IF($AC$4=\"x\",IFERROR(INDEX(Kalkulacja!AF:AF,MATCH(U326,Kalkulacja!AO:AO,0)),\"\"),\"\"))","v":""},null,null,null,null,"",0,93,{"$f":"IFERROR(INDEX(Kalkulacja!I:I,MATCH($U326,Kalkulacja!AO:AO,0)),\"\")","v":""},0,{"$error":"#N/A"},"",{"$f":"IF($AC$4=\"x\",IFERROR(INDEX(Kalkulacja!AD:AD,MATCH($U326,Kalkulacja!AO:AO,0))*$D$23,\"\"),\"\")","v":""},{"$error":"#VALUE!"},{"$error":"#VALUE!"},null,"","","","","","","","","","","",null,{"$f":"IF(AD326=\"\",\"\",MAX($AP$10:AP325)+1)","v":""},null,null,"","",null,null,null,null,null,null,null,"","","Opis"]
[null,null,null,null,null,null,"",{"$f":"IF($AC$4=\"x\",IFERROR(INDEX(Kalkulacja!I:I,MATCH($U327,Kalkulacja!AO:AO,0))&\" - uzupełnianie i konfiguracja\",\"\"),\"\")","v":""},"",null,"",null,"",{"$f":"IF(IF($AC$4=\"x\",IFERROR(INDEX(Kalkulacja!AF:AF,MATCH(U327,Kalkulacja!AO:AO,0)),\"\"),\"\")=\"\",\"\",IF($AC$4=\"x\",IFERROR(INDEX(Kalkulacja!AF:AF,MATCH(U327,Kalkulacja!AO:AO,0)),\"\"),\"\"))","v":""},null,null,null,null,"",0,94,{"$f":"IFERROR(INDEX(Kalkulacja!I:I,MATCH($U327,Kalkulacja!AO:AO,0)),\"\")","v":""},0,{"$error":"#N/A"},"",{"$f":"IF($AC$4=\"x\",IFERROR(INDEX(Kalkulacja!AD:AD,MATCH($U327,Kalkulacja!AO:AO,0))*$D$23,\"\"),\"\")","v":""},{"$error":"#VALUE!"},{"$error":"#VALUE!"},null,"","","","","","","","","","",{"$f":"IF(AD327=\"\",\"\",AD327&\", \"&AE327&\", \"&AF327&\", \"&AG327&\", \"&AH327&\", \"&AI327&\", \"&AJ327&\", \"&AK327&\", \"&AL327&\", \"&AM327)","v":""},null,{"$f":"IF(AD327=\"\",\"\",MAX($AP$10:AP326)+1)","v":""},null,null,"","",null,null,null,null,null,null,null,"","","Opis"]
[null,null,null,null,null,null,"",{"$f":"IF($AC$4=\"x\",IFERROR(INDEX(Kalkulacja!I:I,MATCH($U328,Kalkulacja!AO:AO,0))&\" - uzupełnianie i konfiguracja\",\"\"),\"\")","v":""},"",null,"",null,"",{"$f":"IF(IF($AC$4=\"x\",IFERROR(INDEX(Kalkulacja!AF:AF,MATCH(U328,Kalkulacja!AO:AO,0)),\"\"),\"\")=\"\",\"\",IF($AC$4=\"x\",IFERROR(INDEX(Kalkulacja!AF:AF,MATCH(U328,Kalkulacja!AO:AO,0)),\"\"),\"\"))","v":""},null,null,null,null,"",0,95,{"$f":"IFERROR(INDEX(Kalkulacja!I:I,MATCH($U328,Kalkulacja!AO:AO,0)),\"\")","v":""},0,{"$error":"#N/A"},"",{"$f":"IF($AC$4=\"x\",IFERROR(INDEX(Kalkulacja!AD:AD,MATCH($U328,Kalkulacja!AO:AO,0))*$D$23,\"\"),\"\")","v":""},{"$error":"#VALUE!"},{"$error":"#VALUE!"},null,"","","","","","","","","","","",null,{"$f":"IF(AD328=\"\",\"\",MAX($AP$10:AP327)+1)","v":""},null,null,"","",null,null,null,null,null,null,null,"","","Opis"]
[null,null,null,null,null,null,"",{"$f":"IF($AC$4=\"x\",IFERROR(INDEX(Kalkulacja!I:I,MATCH($U329,Kalkulacja!AO:AO,0))&\" - uzupełnianie i konfiguracja\",\"\"),\"\")","v":""},"",null,"",null,"",{"$f":"IF(IF($AC$4=\"x\",IFERROR(INDEX(Kalkulacja!AF:AF,MATCH(U329,Kalkulacja!AO:AO,0)),\"\"),\"\")=\"\",\"\",IF($AC$4=\"x\",IFERROR(INDEX(Kalkulacja!AF:AF,MATCH(U329,Kalkulacja!AO:AO,0)),\"\"),\"\"))","v":""},null,null,null,null,"",0,96,{"$f":"IFERROR(INDEX(Kalkulacja!I:I,MATCH($U329,Kalkulacja!AO:AO,0)),\"\")","v":""},0,{"$error":"#N/A"},"",{"$f":"IF($AC$4=\"x\",IFERROR(INDEX(Kalkulacja!AD:AD,MATCH($U329,Kalkulacja!AO:AO,0))*$D$23,\"\"),\"\")","v":""},{"$error":"#VALUE!"},{"$error":"#VALUE!"},null,"","","","","","","","","","","",null,{"$f":"IF(AD329=\"\",\"\",MAX($AP$10:AP328)+1)","v":""},null,null,"","",null,null,null,null,null,null,null,"","","Opis"]
[null,null,null,null,null,null,"",{"$f":"IF($AC$4=\"x\",IFERROR(INDEX(Kalkulacja!I:I,MATCH($U330,Kalkulacja!AO:AO,0))&\" - uzupełnianie i konfiguracja\",\"\"),\"\")","v":""},"",null,"",null,"",{"$f":"IF(IF($AC$4=\"x\",IFERROR(INDEX(Kalkulacja!AF:AF,MATCH(U330,Kalkulacja!AO:AO,0)),\"\"),\"\")=\"\",\"\",IF($AC$4=\"x\",IFERROR(INDEX(Kalkulacja!AF:AF,MATCH(U330,Kalkulacja!AO:AO,0)),\"\"),\"\"))","v":""},null,null,null,null,"",0,97,{"$f":"IFERROR(INDEX(Kalkulacja!I:I,MATCH($U330,Kalkulacja!AO:AO,0)),\"\")","v":""},0,{"$f":"VLOOKUP(K330,$C$31:$D$44,2,0)","v":{"$error":"#N/A"}},{"$f":"IFERROR(VLOOKUP(L330,$C$31:$D$44,2,0),\"\")","v":""},{"$f":"IF($AC$4=\"x\",IFERROR(INDEX(Kalkulacja!AD:AD,MATCH($U330,Kalkulacja!AO:AO,0))*$D$23,\"\"),\"\")","v":""},{"$error":"#VALUE!"},{"$error":"#VALUE!"},null,"","","","","","","","",{"$f":"IF(AD330=\"\",\"\",$J$233)","v":""},"","",null,{"$f":"IF(AD330=\"\",\"\",MAX($AP$10:AP329)+1)","v":""},null,null,"",{"$f":"IFERROR(INDEX(AN:AN,MATCH(AS330,AP:AP,0)),\"\")","v":""},null,null,null,null,null,null,null,"","","Opis"]
[null,null,null,null,null,null,"",{"$f":"IF($AC$4=\"x\",IFERROR(INDEX(Kalkulacja!I:I,MATCH($U331,Kalkulacja!AO:AO,0))&\" - uzupełnianie i konfiguracja\",\"\"),\"\")","v":""},"",null,"",null,"",{"$f":"IF(IF($AC$4=\"x\",IFERROR(INDEX(Kalkulacja!AF:AF,MATCH(U331,Kalkulacja!AO:AO,0)),\"\"),\"\")=\"\",\"\",IF($AC$4=\"x\",IFERROR(INDEX(Kalkulacja!AF:AF,MATCH(U331,Kalkulacja!AO:AO,0)),\"\"),\"\"))","v":""},null,null,null,null,{"$f":"LEFT(H331,1)","v":""},0,98,{"$f":"IFERROR(INDEX(Kalkulacja!I:I,MATCH($U331,Kalkulacja!AO:AO,0)),\"\")","v":""},{"$f":"IF(V331=\"\",0,\"x\")","v":0},{"$error":"#N/A"},"",{"$f":"IF($AC$4=\"x\",IFERROR(INDEX(Kalkulacja!AD:AD,MATCH($U331,Kalkulacja!AO:AO,0))*$D$23,\"\"),\"\")","v":""},{"$error":"#VALUE!"},{"$error":"#VALUE!"},null,"","","","","","","","","","","",null,{"$f":"IF(AD331=\"\",\"\",MAX($AP$10:AP330)+1)","v":""},null,null,"","",null,null,null,null,null,null,null,"","","Opis"]
[null,null,null,null,null,null,"",{"$f":"IF($AC$4=\"x\",IFERROR(INDEX(Kalkulacja!I:I,MATCH($U332,Kalkulacja!AO:AO,0))&\" - uzupełnianie i konfiguracja\",\"\"),\"\")","v":""},"",null,"",null,"",{"$f":"IF(IF($AC$4=\"x\",IFERROR(INDEX(Kalkulacja!AF:AF,MATCH(U332,Kalkulacja!AO:AO,0)),\"\"),\"\")=\"\",\"\",IF($AC$4=\"x\",IFERROR(INDEX(Kalkulacja!AF:AF,MATCH(U332,Kalkulacja!AO:AO,0)),\"\"),\"\"))","v":""},null,null,null,null,"",{"$f":"IF(S333=\">\",1,0)","v":0},99,{"$f":"IFERROR(INDEX(Kalkulacja!I:I,MATCH($U332,Kalkulacja!AO:AO,0)),\"\")","v":""},0,{"$error":"#N/A"},"",{"$f":"IF($AC$4=\"x\",IFERROR(INDEX(Kalkulacja!AD:AD,MATCH($U332,Kalkulacja!AO:AO,0))*$D$23,\"\"),\"\")","v":""},{"$error":"#VALUE!"},{"$error":"#VALUE!"},null,"",{"$f":"IF(AD332=\"\",\"\",100)","v":""},"",{"$f":"IF(AD332=\"\",\"\",IF(N332=\"\",BD332,N332))","v":""},"","",{"$f":"IF(AD332=\"\",\"\",IF(COUNT($X332:$Y332)=2,$X332&\"|\"&$Y332,$X332))","v":""},{"$f":"IF(AD332=\"\",\"\",$L$3)","v":""},"",{"$f":"IF(AD332=\"\",\"\",$L$5)","v":""},"",null,{"$f":"IF(AD332=\"\",\"\",MAX($AP$10:AP331)+1)","v":""},null,null,"","",null,null,null,null,null,null,null,{"$f":"IF(N332=\"\",\"\",N332)","v":""},{"$f":"IF(T332=1,SUBSTITUTE(RIGHT(H333,LEN(H333)-2),\",\",\".\"),\"\")","v":""},{"$f":"IF(AND(BB332=\"\",BC332=\"\"),\"Opis\",IF(BB332=\"\",BC332,IF(BC332=\"\",BB332,(BB332&\" | \"&BC332))))","v":"Opis"}]
[null,null,null,null,null,null,"",{"$f":"IF($AC$4=\"x\",IFERROR(INDEX(Kalkulacja!I:I,MATCH($U333,Kalkulacja!AO:AO,0))&\" - uzupełnianie i konfiguracja\",\"\"),\"\")","v":""},"",null,"",null,"",{"$f":"IF(IF($AC$4=\"x\",IFERROR(INDEX(Kalkulacja!AF:AF,MATCH(U333,Kalkulacja!AO:AO,0)),\"\"),\"\")=\"\",\"\",IF($AC$4=\"x\",IFERROR(INDEX(Kalkulacja!AF:AF,MATCH(U333,Kalkulacja!AO:AO,0)),\"\"),\"\"))","v":""},null,null,null,null,"",0,100,{"$f":"IFERROR(INDEX(Kalkulacja!I:I,MATCH($U333,Kalkulacja!AO:AO,0)),\"\")","v":""},0,{"$error":"#N/A"},"",{"$f":"IF($AC$4=\"x\",IFERROR(INDEX(Kalkulacja!AD:AD,MATCH($U333,Kalkulacja!AO:AO,0))*$D$23,\"\"),\"\")","v":""},{"$f":"ROUND((Z333-TRUNC(Z333))*60,0)","v":{"$error":"#VALUE!"}},{"$f":"IF(AA333<10,\"0\"&AA333,AA333)","v":{"$error":"#VALUE!"}},null,"","",{"$f":"IF(AD333=\"\",\"\",IF(Z333=\"\",\"\",TRUNC(Z333)&\".\"&ROUND((Z333-TRUNC(Z333))*100,0)))","v":""},"","","","","","","","",null,{"$f":"IF(AD333=\"\",\"\",MAX($AP$10:AP332)+1)","v":""},null,null,{"$f":"IF(AS332<$AF$4,AS332+1,\"\")","v":""},"",null,null,null,null,null,null,null,"","","Opis"]
[null,null,null,null,null,null,"",{"$f":"IF($AC$4=\"x\",IFERROR(INDEX(Kalkulacja!I:I,MATCH($U334,Kalkulacja!AO:AO,0))&\" - uzupełnianie i konfiguracja\",\"\"),\"\")","v":""},"",null,"",null,"",{"$f":"IF(IF($AC$4=\"x\",IFERROR(INDEX(Kalkulacja!AF:AF,MATCH(U334,Kalkulacja!AO:AO,0)),\"\"),\"\")=\"\",\"\",IF($AC$4=\"x\",IFERROR(INDEX(Kalkulacja!AF:AF,MATCH(U334,Kalkulacja!AO:AO,0)),\"\"),\"\"))","v":""},null,null,null,null,"",0,101,{"$f":"IFERROR(INDEX(Kalkulacja!I:I,MATCH($U334,Kalkulacja!AO:AO,0)),\"\")","v":""},0,{"$error":"#N/A"},"",{"$f":"IF($AC$4=\"x\",IFERROR(INDEX(Kalkulacja!AD:AD,MATCH($U334,Kalkulacja!AO:AO,0))*$D$23,\"\"),\"\")","v":""},{"$error":"#VALUE!"},{"$error":"#VALUE!"},null,"","","","","","","","","","","",null,{"$f":"IF(AD334=\"\",\"\",MAX($AP$10:AP333)+1)","v":""},null,null,"","",null,null,null,null,null,null,null,"","","Opis"]
[null,null,null,null,null,null,"",{"$f":"IF($AC$4=\"x\",IFERROR(INDEX(Kalkulacja!I:I,MATCH($U335,Kalkulacja!AO:AO,0))&\" - uzupełnianie i konfiguracja\",\"\"),\"\")","v":""},"",null,"",null,"",{"$f":"IF(IF($AC$4=\"x\",IFERROR(INDEX(Kalkulacja!AF:AF,MATCH(U335,Kalkulacja!AO:AO,0)),\"\"),\"\")=\"\",\"\",IF($AC$4=\"x\",IFERROR(INDEX(Kalkulacja!AF:AF,MATCH(U335,Kalkulacja!AO:AO,0)),\"\"),\"\"))","v":""},null,null,null,null,"",0,102,{"$f":"IFERROR(INDEX(Kalkulacja!I:I,MATCH($U335,Kalkulacja!AO:AO,0)),\"\")","v":""},0,{"$error":"#N/A"},"",{"$f":"IF($AC$4=\"x\",IFERROR(INDEX(Kalkulacja!AD:AD,MATCH($U335,Kalkulacja!AO:AO,0))*$D$23,\"\"),\"\")","v":""},{"$error":"#VALUE!"},{"$error":"#VALUE!"},null,"","","","","","","","","","","",null,{"$f":"IF(AD335=\"\",\"\",MAX($AP$10:AP334)+1)","v":""},null,null,"","",null,null,null,null,null,null,null,"","","Opis"]
[null,null,null,null,null,null,"",{"$f":"IF($AC$4=\"x\",IFERROR(INDEX(Kalkulacja!I:I,MATCH($U336,Kalkulacja!AO:AO,0))&\" - uzupełnianie i konfiguracja\",\"\"),\"\")","v":""},"",null,"",null,"",{"$f":"IF(IF($AC$4=\"x\",IFERROR(INDEX(Kalkulacja!AF:AF,MATCH(U336,Kalkulacja!AO:AO,0)),\"\"),\"\")=\"\",\"\",IF($AC$4=\"x\",IFERROR(INDEX(Kalkulacja!AF:AF,MATCH(U336,Kalkulacja!AO:AO,0)),\"\"),\"\"))","v":""},null,null,null,null,"",0,103,{"$f":"IFERROR(INDEX(Kalkulacja!I:I,MATCH($U336,Kalkulacja!AO:AO,0)),\"\")","v":""},0,{"$error":"#N/A"},"",{"$f":"IF($AC$4=\"x\",IFERROR(INDEX(Kalkulacja!AD:AD,MATCH($U336,Kalkulacja!AO:AO,0))*$D$23,\"\"),\"\")","v":""},{"$error":"#VALUE!"},{"$error":"#VALUE!"},null,"","","","","","","","","","","",null,{"$f":"IF(AD336=\"\",\"\",MAX($AP$10:AP335)+1)","v":""},null,null,"","",null,null,null,null,null,null,null,"","","Opis"]
[null,null,null,null,null,null,"",{"$f":"IF($AC$4=\"x\",IFERROR(INDEX(Kalkulacja!I:I,MATCH($U337,Kalkulacja!AO:AO,0))&\" - uzupełnianie i konfiguracja\",\"\"),\"\")","v":""},"",null,"",null,"",{"$f":"IF(IF($AC$4=\"x\",IFERROR(INDEX(Kalkulacja!AF:AF,MATCH(U337,Kalkulacja!AO:AO,0)),\"\"),\"\")=\"\",\"\",IF($AC$4=\"x\",IFERROR(INDEX(Kalkulacja!AF:AF,MATCH(U337,Kalkulacja!AO:AO,0)),\"\"),\"\"))","v":""},null,null,null,null,"",0,104,{"$f":"IFERROR(INDEX(Kalkulacja!I:I,MATCH($U337,Kalkulacja!AO:AO,0)),\"\")","v":""},0,{"$error":"#N/A"},"",{"$f":"IF($AC$4=\"x\",IFERROR(INDEX(Kalkulacja!AD:AD,MATCH($U337,Kalkulacja!AO:AO,0))*$D$23,\"\"),\"\")","v":""},{"$error":"#VALUE!"},{"$error":"#VALUE!"},null,"","","","","","","","","","","",null,{"$f":"IF(AD337=\"\",\"\",MAX($AP$10:AP336)+1)","v":""},null,null,"","",null,null,null,null,null,null,null,"","","Opis"]
[null,null,null,null,null,null,"",{"$f":"IF($AC$4=\"x\",IFERROR(INDEX(Kalkulacja!I:I,MATCH($U338,Kalkulacja!AO:AO,0))&\" - uzupełnianie i konfiguracja\",\"\"),\"\")","v":""},"",null,"",null,"",{"$f":"IF(IF($AC$4=\"x\",IFERROR(INDEX(Kalkulacja!AF:AF,MATCH(U338,Kalkulacja!AO:AO,0)),\"\"),\"\")=\"\",\"\",IF($AC$4=\"x\",IFERROR(INDEX(Kalkulacja!AF:AF,MATCH(U338,Kalkulacja!AO:AO,0)),\"\"),\"\"))","v":""},null,null,null,null,"",0,105,{"$f":"IFERROR(INDEX(Kalkulacja!I:I,MATCH($U338,Kalkulacja!AO:AO,0)),\"\")","v":""},0,{"$error":"#N/A"},"",{"$f":"IF($AC$4=\"x\",IFERROR(INDEX(Kalkulacja!AD:AD,MATCH($U338,Kalkulacja!AO:AO,0))*$D$23,\"\"),\"\")","v":""},{"$error":"#VALUE!"},{"$error":"#VALUE!"},null,"","","","","","","","","","","",null,{"$f":"IF(AD338=\"\",\"\",MAX($AP$10:AP337)+1)","v":""},null,null,"","",null,null,null,null,null,null,null,"","","Opis"]
[null,null,null,null,null,null,"",{"$f":"IF($AC$4=\"x\",IFERROR(INDEX(Kalkulacja!I:I,MATCH($U339,Kalkulacja!AO:AO,0))&\" - uzupełnianie i konfiguracja\",\"\"),\"\")","v":""},"",null,"",null,"",{"$f":"IF(IF($AC$4=\"x\",IFERROR(INDEX(Kalkulacja!AF:AF,MATCH(U339,Kalkulacja!AO:AO,0)),\"\"),\"\")=\"\",\"\",IF($AC$4=\"x\",IFERROR(INDEX(Kalkulacja!AF:AF,MATCH(U339,Kalkulacja!AO:AO,0)),\"\"),\"\"))","v":""},null,null,null,null,"",0,106,{"$f":"IFERROR(INDEX(Kalkulacja!I:I,MATCH($U339,Kalkulacja!AO:AO,0)),\"\")","v":""},0,{"$error":"#N/A"},"",{"$f":"IF($AC$4=\"x\",IFERROR(INDEX(Kalkulacja!AD:AD,MATCH($U339,Kalkulacja!AO:AO,0))*$D$23,\"\"),\"\")","v":""},{"$error":"#VALUE!"},{"$error":"#VALUE!"},null,"","","","","","","","","","","",null,{"$f":"IF(AD339=\"\",\"\",MAX($AP$10:AP338)+1)","v":""},null,null,"","",null,null,null,null,null,null,null,"","","Opis"]
[null,null,null,null,null,null,"",{"$f":"IF($AC$4=\"x\",IFERROR(INDEX(Kalkulacja!I:I,MATCH($U340,Kalkulacja!AO:AO,0))&\" - uzupełnianie i konfiguracja\",\"\"),\"\")","v":""},"",null,"",null,"",{"$f":"IF(IF($AC$4=\"x\",IFERROR(INDEX(Kalkulacja!AF:AF,MATCH(U340,Kalkulacja!AO:AO,0)),\"\"),\"\")=\"\",\"\",IF($AC$4=\"x\",IFERROR(INDEX(Kalkulacja!AF:AF,MATCH(U340,Kalkulacja!AO:AO,0)),\"\"),\"\"))","v":""},null,null,null,null,"",0,107,{"$f":"IFERROR(INDEX(Kalkulacja!I:I,MATCH($U340,Kalkulacja!AO:AO,0)),\"\")","v":""},0,{"$error":"#N/A"},"",{"$f":"IF($AC$4=\"x\",IFERROR(INDEX(Kalkulacja!AD:AD,MATCH($U340,Kalkulacja!AO:AO,0))*$D$23,\"\"),\"\")","v":""},{"$error":"#VALUE!"},{"$error":"#VALUE!"},null,"","","","","","","","","","","",null,{"$f":"IF(AD340=\"\",\"\",MAX($AP$10:AP339)+1)","v":""},null,null,"","",null,null,null,null,null,null,null,"","","Opis"]
[null,null,null,null,null,null,"",{"$f":"IF($AC$4=\"x\",IFERROR(INDEX(Kalkulacja!I:I,MATCH($U341,Kalkulacja!AO:AO,0))&\" - uzupełnianie i konfiguracja\",\"\"),\"\")","v":""},"",null,"",null,"",{"$f":"IF(IF($AC$4=\"x\",IFERROR(INDEX(Kalkulacja!AF:AF,MATCH(U341,Kalkulacja!AO:AO,0)),\"\"),\"\")=\"\",\"\",IF($AC$4=\"x\",IFERROR(INDEX(Kalkulacja!AF:AF,MATCH(U341,Kalkulacja!AO:AO,0)),\"\"),\"\"))","v":""},null,null,null,null,"",0,108,{"$f":"IFERROR(INDEX(Kalkulacja!I:I,MATCH($U341,Kalkulacja!AO:AO,0)),\"\")","v":""},0,{"$error":"#N/A"},"",{"$f":"IF($AC$4=\"x\",IFERROR(INDEX(Kalkulacja!AD:AD,MATCH($U341,Kalkulacja!AO:AO,0))*$D$23,\"\"),\"\")","v":""},{"$error":"#VALUE!"},{"$error":"#VALUE!"},null,"","","","","","","","","","","",null,{"$f":"IF(AD341=\"\",\"\",MAX($AP$10:AP340)+1)","v":""},null,null,"","",null,null,null,null,null,null,null,"","","Opis"]
[null,null,null,null,null,null,"",{"$f":"IF($AC$4=\"x\",IFERROR(INDEX(Kalkulacja!I:I,MATCH($U342,Kalkulacja!AO:AO,0))&\" - uzupełnianie i konfiguracja\",\"\"),\"\")","v":""},"",null,"",null,"",{"$f":"IF(IF($AC$4=\"x\",IFERROR(INDEX(Kalkulacja!AF:AF,MATCH(U342,Kalkulacja!AO:AO,0)),\"\"),\"\")=\"\",\"\",IF($AC$4=\"x\",IFERROR(INDEX(Kalkulacja!AF:AF,MATCH(U342,Kalkulacja!AO:AO,0)),\"\"),\"\"))","v":""},null,null,null,null,"",0,109,{"$f":"IFERROR(INDEX(Kalkulacja!I:I,MATCH($U342,Kalkulacja!AO:AO,0)),\"\")","v":""},0,{"$error":"#N/A"},"",{"$f":"IF($AC$4=\"x\",IFERROR(INDEX(Kalkulacja!AD:AD,MATCH($U342,Kalkulacja!AO:AO,0))*$D$23,\"\"),\"\")","v":""},{"$error":"#VALUE!"},{"$error":"#VALUE!"},null,"","","","","","","","","","","",null,{"$f":"IF(AD342=\"\",\"\",MAX($AP$10:AP341)+1)","v":""},null,null,"","",null,null,null,null,null,null,null,"","","Opis"]
[null,null,null,null,null,null,"",{"$f":"IF($AC$4=\"x\",IFERROR(INDEX(Kalkulacja!I:I,MATCH($U343,Kalkulacja!AO:AO,0))&\" - uzupełnianie i konfiguracja\",\"\"),\"\")","v":""},"",null,"",null,"",{"$f":"IF(IF($AC$4=\"x\",IFERROR(INDEX(Kalkulacja!AF:AF,MATCH(U343,Kalkulacja!AO:AO,0)),\"\"),\"\")=\"\",\"\",IF($AC$4=\"x\",IFERROR(INDEX(Kalkulacja!AF:AF,MATCH(U343,Kalkulacja!AO:AO,0)),\"\"),\"\"))","v":""},null,null,null,null,"",0,110,{"$f":"IFERROR(INDEX(Kalkulacja!I:I,MATCH($U343,Kalkulacja!AO:AO,0)),\"\")","v":""},0,{"$error":"#N/A"},"",{"$f":"IF($AC$4=\"x\",IFERROR(INDEX(Kalkulacja!AD:AD,MATCH($U343,Kalkulacja!AO:AO,0))*$D$23,\"\"),\"\")","v":""},{"$error":"#VALUE!"},{"$error":"#VALUE!"},null,"","","","","","","","","","","",null,{"$f":"IF(AD343=\"\",\"\",MAX($AP$10:AP342)+1)","v":""},null,null,"","",null,null,null,null,null,null,null,"","","Opis"]
[null,null,null,null,null,null,"",{"$f":"IF($AC$4=\"x\",IFERROR(INDEX(Kalkulacja!I:I,MATCH($U344,Kalkulacja!AO:AO,0))&\" - uzupełnianie i konfiguracja\",\"\"),\"\")","v":""},"",null,{"$f":"IF($AC$4=\"x\",IF(S344=\">\",\"\",IFERROR(VLOOKUP(G344,$H$3:$I$6,2,0),\"\")),\"\")","v":""},null,{"$f":"IF($AC$4=\"x\",IF(S344=\">\",\"\",IF(Z344=\"\",\"\",TRUNC(Z344)&\":\"&AB344)),\"\")","v":""},{"$f":"IF(IF($AC$4=\"x\",IFERROR(INDEX(Kalkulacja!AF:AF,MATCH(U344,Kalkulacja!AO:AO,0)),\"\"),\"\")=\"\",\"\",IF($AC$4=\"x\",IFERROR(INDEX(Kalkulacja!AF:AF,MATCH(U344,Kalkulacja!AO:AO,0)),\"\"),\"\"))","v":""},null,null,null,null,"",0,111,{"$f":"IFERROR(INDEX(Kalkulacja!I:I,MATCH($U344,Kalkulacja!AO:AO,0)),\"\")","v":""},0,{"$error":"#N/A"},"",{"$f":"IF($AC$4=\"x\",IFERROR(INDEX(Kalkulacja!AD:AD,MATCH($U344,Kalkulacja!AO:AO,0))*$D$23,\"\"),\"\")","v":""},{"$error":"#VALUE!"},{"$error":"#VALUE!"},null,{"$f":"IF(H344=\"\",\"\",IF(S344=\">\",\"\",H344&\" - \"&$L$3))","v":""},"","","","","","","","","","",null,{"$f":"IF(AD344=\"\",\"\",MAX($AP$10:AP343)+1)","v":""},null,null,"","",null,null,null,null,null,null,null,"","","Opis"]
[null,null,null,null,null,null,"",{"$f":"IF($AC$4=\"x\",IFERROR(INDEX(Kalkulacja!I:I,MATCH($U345,Kalkulacja!AO:AO,0))&\" - uzupełnianie i konfiguracja\",\"\"),\"\")","v":""},"",null,"",null,"",{"$f":"IF(IF($AC$4=\"x\",IFERROR(INDEX(Kalkulacja!AF:AF,MATCH(U345,Kalkulacja!AO:AO,0)),\"\"),\"\")=\"\",\"\",IF($AC$4=\"x\",IFERROR(INDEX(Kalkulacja!AF:AF,MATCH(U345,Kalkulacja!AO:AO,0)),\"\"),\"\"))","v":""},null,null,null,null,"",0,112,{"$f":"IFERROR(INDEX(Kalkulacja!I:I,MATCH($U345,Kalkulacja!AO:AO,0)),\"\")","v":""},0,{"$error":"#N/A"},"",{"$f":"IF($AC$4=\"x\",IFERROR(INDEX(Kalkulacja!AD:AD,MATCH($U345,Kalkulacja!AO:AO,0))*$D$23,\"\"),\"\")","v":""},{"$error":"#VALUE!"},{"$error":"#VALUE!"},null,"","","","","","","","","","","",null,{"$f":"IF(AD345=\"\",\"\",MAX($AP$10:AP344)+1)","v":""},null,null,"","",null,null,null,null,null,null,null,"","","Opis"]
[null,null,null,null,null,null,"",{"$f":"IF($AC$4=\"x\",IFERROR(INDEX(Kalkulacja!I:I,MATCH($U346,Kalkulacja!AO:AO,0))&\" - uzupełnianie i konfiguracja\",\"\"),\"\")","v":""},"",null,"",null,"",{"$f":"IF(IF($AC$4=\"x\",IFERROR(INDEX(Kalkulacja!AF:AF,MATCH(U346,Kalkulacja!AO:AO,0)),\"\"),\"\")=\"\",\"\",IF($AC$4=\"x\",IFERROR(INDEX(Kalkulacja!AF:AF,MATCH(U346,Kalkulacja!AO:AO,0)),\"\"),\"\"))","v":""},null,null,null,null,"",0,113,{"$f":"IFERROR(INDEX(Kalkulacja!I:I,MATCH($U346,Kalkulacja!AO:AO,0)),\"\")","v":""},0,{"$error":"#N/A"},"",{"$f":"IF($AC$4=\"x\",IFERROR(INDEX(Kalkulacja!AD:AD,MATCH($U346,Kalkulacja!AO:AO,0))*$D$23,\"\"),\"\")","v":""},{"$error":"#VALUE!"},{"$error":"#VALUE!"},null,"","","","","","","","","","","",null,{"$f":"IF(AD346=\"\",\"\",MAX($AP$10:AP345)+1)","v":""},null,null,"","",null,null,null,null,null,null,null,"","","Opis"]
[null,null,null,null,null,null,"",{"$f":"IF($AC$4=\"x\",IFERROR(INDEX(Kalkulacja!I:I,MATCH($U347,Kalkulacja!AO:AO,0))&\" - uzupełnianie i konfiguracja\",\"\"),\"\")","v":""},"",null,"",null,"",{"$f":"IF(IF($AC$4=\"x\",IFERROR(INDEX(Kalkulacja!AF:AF,MATCH(U347,Kalkulacja!AO:AO,0)),\"\"),\"\")=\"\",\"\",IF($AC$4=\"x\",IFERROR(INDEX(Kalkulacja!AF:AF,MATCH(U347,Kalkulacja!AO:AO,0)),\"\"),\"\"))","v":""},null,null,null,null,"",0,114,{"$f":"IFERROR(INDEX(Kalkulacja!I:I,MATCH($U347,Kalkulacja!AO:AO,0)),\"\")","v":""},0,{"$error":"#N/A"},"",{"$f":"IF($AC$4=\"x\",IFERROR(INDEX(Kalkulacja!AD:AD,MATCH($U347,Kalkulacja!AO:AO,0))*$D$23,\"\"),\"\")","v":""},{"$error":"#VALUE!"},{"$error":"#VALUE!"},null,"","","","","","","","","","","",null,{"$f":"IF(AD347=\"\",\"\",MAX($AP$10:AP346)+1)","v":""},null,null,"","",null,null,null,null,null,null,null,"","","Opis"]
[null,null,null,null,null,null,"",{"$f":"IF($AC$4=\"x\",IFERROR(INDEX(Kalkulacja!I:I,MATCH($U348,Kalkulacja!AO:AO,0))&\" - uzupełnianie i konfiguracja\",\"\"),\"\")","v":""},"",null,"",null,"",{"$f":"IF(IF($AC$4=\"x\",IFERROR(INDEX(Kalkulacja!AF:AF,MATCH(U348,Kalkulacja!AO:AO,0)),\"\"),\"\")=\"\",\"\",IF($AC$4=\"x\",IFERROR(INDEX(Kalkulacja!AF:AF,MATCH(U348,Kalkulacja!AO:AO,0)),\"\"),\"\"))","v":""},null,null,null,null,"",0,115,{"$f":"IFERROR(INDEX(Kalkulacja!I:I,MATCH($U348,Kalkulacja!AO:AO,0)),\"\")","v":""},0,{"$error":"#N/A"},"",{"$f":"IF($AC$4=\"x\",IFERROR(INDEX(Kalkulacja!AD:AD,MATCH($U348,Kalkulacja!AO:AO,0))*$D$23,\"\"),\"\")","v":""},{"$error":"#VALUE!"},{"$error":"#VALUE!"},null,"","","","","","","","","","","",null,{"$f":"IF(AD348=\"\",\"\",MAX($AP$10:AP347)+1)","v":""},null,null,"","",null,null,null,null,null,null,null,"","","Opis"]
[null,null,null,null,null,null,"",{"$f":"IF($AC$4=\"x\",IFERROR(INDEX(Kalkulacja!I:I,MATCH($U349,Kalkulacja!AO:AO,0))&\" - uzupełnianie i konfiguracja\",\"\"),\"\")","v":""},"",null,"",null,"",{"$f":"IF(IF($AC$4=\"x\",IFERROR(INDEX(Kalkulacja!AF:AF,MATCH(U349,Kalkulacja!AO:AO,0)),\"\"),\"\")=\"\",\"\",IF($AC$4=\"x\",IFERROR(INDEX(Kalkulacja!AF:AF,MATCH(U349,Kalkulacja!AO:AO,0)),\"\"),\"\"))","v":""},null,null,null,null,"",0,116,{"$f":"IFERROR(INDEX(Kalkulacja!I:I,MATCH($U349,Kalkulacja!AO:AO,0)),\"\")","v":""},0,{"$error":"#N/A"},"",{"$f":"IF($AC$4=\"x\",IFERROR(INDEX(Kalkulacja!AD:AD,MATCH($U349,Kalkulacja!AO:AO,0))*$D$23,\"\"),\"\")","v":""},{"$error":"#VALUE!"},{"$error":"#VALUE!"},null,"","","","","","","","","","","",null,{"$f":"IF(AD349=\"\",\"\",MAX($AP$10:AP348)+1)","v":""},null,null,"","",null,null,null,null,null,null,null,"","","Opis"]
[null,null,null,null,null,null,"",{"$f":"IF($AC$4=\"x\",IFERROR(INDEX(Kalkulacja!I:I,MATCH($U350,Kalkulacja!AO:AO,0))&\" - uzupełnianie i konfiguracja\",\"\"),\"\")","v":""},"",null,"",null,"",{"$f":"IF(IF($AC$4=\"x\",IFERROR(INDEX(Kalkulacja!AF:AF,MATCH(U350,Kalkulacja!AO:AO,0)),\"\"),\"\")=\"\",\"\",IF($AC$4=\"x\",IFERROR(INDEX(Kalkulacja!AF:AF,MATCH(U350,Kalkulacja!AO:AO,0)),\"\"),\"\"))","v":""},null,null,null,null,"",0,117,{"$f":"IFERROR(INDEX(Kalkulacja!I:I,MATCH($U350,Kalkulacja!AO:AO,0)),\"\")","v":""},0,{"$error":"#N/A"},"",{"$f":"IF($AC$4=\"x\",IFERROR(INDEX(Kalkulacja!AD:AD,MATCH($U350,Kalkulacja!AO:AO,0))*$D$23,\"\"),\"\")","v":""},{"$error":"#VALUE!"},{"$error":"#VALUE!"},null,"","","","","","","","","","","",null,{"$f":"IF(AD350=\"\",\"\",MAX($AP$10:AP349)+1)","v":""},null,null,"","",null,null,null,null,null,null,null,"","","Opis"]
[null,null,null,null,null,null,"",{"$f":"IF($AC$4=\"x\",IFERROR(INDEX(Kalkulacja!I:I,MATCH($U351,Kalkulacja!AO:AO,0))&\" - uzupełnianie i konfiguracja\",\"\"),\"\")","v":""},"",null,"",null,"",{"$f":"IF(IF($AC$4=\"x\",IFERROR(INDEX(Kalkulacja!AF:AF,MATCH(U351,Kalkulacja!AO:AO,0)),\"\"),\"\")=\"\",\"\",IF($AC$4=\"x\",IFERROR(INDEX(Kalkulacja!AF:AF,MATCH(U351,Kalkulacja!AO:AO,0)),\"\"),\"\"))","v":""},null,null,null,null,"",0,118,{"$f":"IFERROR(INDEX(Kalkulacja!I:I,MATCH($U351,Kalkulacja!AO:AO,0)),\"\")","v":""},0,{"$error":"#N/A"},"",{"$f":"IF($AC$4=\"x\",IFERROR(INDEX(Kalkulacja!AD:AD,MATCH($U351,Kalkulacja!AO:AO,0))*$D$23,\"\"),\"\")","v":""},{"$error":"#VALUE!"},{"$error":"#VALUE!"},null,"","","","","","","","","","","",null,{"$f":"IF(AD351=\"\",\"\",MAX($AP$10:AP350)+1)","v":""},null,null,"","",null,null,null,null,null,null,null,"","","Opis"]
[null,null,null,null,null,null,"",{"$f":"IF($AC$4=\"x\",IFERROR(INDEX(Kalkulacja!I:I,MATCH($U352,Kalkulacja!AO:AO,0))&\" - uzupełnianie i konfiguracja\",\"\"),\"\")","v":""},"",null,"",null,"",{"$f":"IF(IF($AC$4=\"x\",IFERROR(INDEX(Kalkulacja!AF:AF,MATCH(U352,Kalkulacja!AO:AO,0)),\"\"),\"\")=\"\",\"\",IF($AC$4=\"x\",IFERROR(INDEX(Kalkulacja!AF:AF,MATCH(U352,Kalkulacja!AO:AO,0)),\"\"),\"\"))","v":""},null,null,null,null,"",0,119,{"$f":"IFERROR(INDEX(Kalkulacja!I:I,MATCH($U352,Kalkulacja!AO:AO,0)),\"\")","v":""},0,{"$error":"#N/A"},"",{"$f":"IF($AC$4=\"x\",IFERROR(INDEX(Kalkulacja!AD:AD,MATCH($U352,Kalkulacja!AO:AO,0))*$D$23,\"\"),\"\")","v":""},{"$error":"#VALUE!"},{"$error":"#VALUE!"},null,"","","","",{"$f":"IF(AD352=\"\",\"\",\"WAITING\")","v":""},{"$f":"IF(AD352=\"\",\"\",21)","v":""},"","","","","",null,{"$f":"IF(AD352=\"\",\"\",MAX($AP$10:AP351)+1)","v":""},null,null,"","",null,null,null,null,null,null,null,"","","Opis"]
[null,null,null,null,null,null,"",{"$f":"IF($AC$4=\"x\",IFERROR(INDEX(Kalkulacja!I:I,MATCH($U353,Kalkulacja!AO:AO,0))&\" - uzupełnianie i konfiguracja\",\"\"),\"\")","v":""},"",null,"",null,"",{"$f":"IF(IF($AC$4=\"x\",IFERROR(INDEX(Kalkulacja!AF:AF,MATCH(U353,Kalkulacja!AO:AO,0)),\"\"),\"\")=\"\",\"\",IF($AC$4=\"x\",IFERROR(INDEX(Kalkulacja!AF:AF,MATCH(U353,Kalkulacja!AO:AO,0)),\"\"),\"\"))","v":""},null,null,null,null,"",0,120,{"$f":"IFERROR(INDEX(Kalkulacja!I:I,MATCH($U353,Kalkulacja!AO:AO,0)),\"\")","v":""},0,{"$error":"#N/A"},"",{"$f":"IF($AC$4=\"x\",IFERROR(INDEX(Kalkulacja!AD:AD,MATCH($U353,Kalkulacja!AO:AO,0))*$D$23,\"\"),\"\")","v":""},{"$error":"#VALUE!"},{"$error":"#VALUE!"},null,"","","","","","","","","","","",null,{"$f":"IF(AD353=\"\",\"\",MAX($AP$10:AP352)+1)","v":""},null,null,"","",null,null,null,null,null,null,null,"","","Opis"]
[null,null,null,null,null,null,"",{"$f":"IF($AC$4=\"x\",IFERROR(INDEX(Kalkulacja!I:I,MATCH($U354,Kalkulacja!AO:AO,0))&\" - uzupełnianie i konfiguracja\",\"\"),\"\")","v":""},"",null,"",null,"",{"$f":"IF(IF($AC$4=\"x\",IFERROR(INDEX(Kalkulacja!AF:AF,MATCH(U354,Kalkulacja!AO:AO,0)),\"\"),\"\")=\"\",\"\",IF($AC$4=\"x\",IFERROR(INDEX(Kalkulacja!AF:AF,MATCH(U354,Kalkulacja!AO:AO,0)),\"\"),\"\"))","v":""},null,null,null,null,"",0,121,{"$f":"IFERROR(INDEX(Kalkulacja!I:I,MATCH($U354,Kalkulacja!AO:AO,0)),\"\")","v":""},0,{"$error":"#N/A"},"",{"$f":"IF($AC$4=\"x\",IFERROR(INDEX(Kalkulacja!AD:AD,MATCH($U354,Kalkulacja!AO:AO,0))*$D$23,\"\"),\"\")","v":""},{"$error":"#VALUE!"},{"$error":"#VALUE!"},null,"","","","","","","","","","","",null,{"$f":"IF(AD354=\"\",\"\",MAX($AP$10:AP353)+1)","v":""},null,null,"","",null,null,null,null,null,null,null,"","","Opis"]
[null,null,null,null,null,null,"",{"$f":"IF($AC$4=\"x\",IFERROR(INDEX(Kalkulacja!I:I,MATCH($U355,Kalkulacja!AO:AO,0))&\" - uzupełnianie i konfiguracja\",\"\"),\"\")","v":""},"",null,"",null,"",{"$f":"IF(IF($AC$4=\"x\",IFERROR(INDEX(Kalkulacja!AF:AF,MATCH(U355,Kalkulacja!AO:AO,0)),\"\"),\"\")=\"\",\"\",IF($AC$4=\"x\",IFERROR(INDEX(Kalkulacja!AF:AF,MATCH(U355,Kalkulacja!AO:AO,0)),\"\"),\"\"))","v":""},null,null,null,null,"",0,122,{"$f":"IFERROR(INDEX(Kalkulacja!I:I,MATCH($U355,Kalkulacja!AO:AO,0)),\"\")","v":""},0,{"$error":"#N/A"},"",{"$f":"IF($AC$4=\"x\",IFERROR(INDEX(Kalkulacja!AD:AD,MATCH($U355,Kalkulacja!AO:AO,0))*$D$23,\"\"),\"\")","v":""},{"$error":"#VALUE!"},{"$error":"#VALUE!"},null,"","","","","","","","","","","",null,{"$f":"IF(AD355=\"\",\"\",MAX($AP$10:AP354)+1)","v":""},null,null,"","",null,null,null,null,null,null,null,"","","Opis"]
[null,null,null,null,null,null,"",{"$f":"IF($AC$4=\"x\",IFERROR(INDEX(Kalkulacja!I:I,MATCH($U356,Kalkulacja!AO:AO,0))&\" - uzupełnianie i konfiguracja\",\"\"),\"\")","v":""},"",null,"",null,"",{"$f":"IF(IF($AC$4=\"x\",IFERROR(INDEX(Kalkulacja!AF:AF,MATCH(U356,Kalkulacja!AO:AO,0)),\"\"),\"\")=\"\",\"\",IF($AC$4=\"x\",IFERROR(INDEX(Kalkulacja!AF:AF,MATCH(U356,Kalkulacja!AO:AO,0)),\"\"),\"\"))","v":""},null,null,null,null,"",0,123,{"$f":"IFERROR(INDEX(Kalkulacja!I:I,MATCH($U356,Kalkulacja!AO:AO,0)),\"\")","v":""},0,{"$error":"#N/A"},"",{"$f":"IF($AC$4=\"x\",IFERROR(INDEX(Kalkulacja!AD:AD,MATCH($U356,Kalkulacja!AO:AO,0))*$D$23,\"\"),\"\")","v":""},{"$error":"#VALUE!"},{"$error":"#VALUE!"},null,"","","","","","","","","","","",null,{"$f":"IF(AD356=\"\",\"\",MAX($AP$10:AP355)+1)","v":""},null,null,"","",null,null,null,null,null,null,null,"","","Opis"]
[null,null,null,null,null,null,"",{"$f":"IF($AC$4=\"x\",IFERROR(INDEX(Kalkulacja!I:I,MATCH($U357,Kalkulacja!AO:AO,0))&\" - uzupełnianie i konfiguracja\",\"\"),\"\")","v":""},"",null,"",null,"",{"$f":"IF(IF($AC$4=\"x\",IFERROR(INDEX(Kalkulacja!AF:AF,MATCH(U357,Kalkulacja!AO:AO,0)),\"\"),\"\")=\"\",\"\",IF($AC$4=\"x\",IFERROR(INDEX(Kalkulacja!AF:AF,MATCH(U357,Kalkulacja!AO:AO,0)),\"\"),\"\"))","v":""},null,null,null,null,"",0,124,{"$f":"IFERROR(INDEX(Kalkulacja!I:I,MATCH($U357,Kalkulacja!AO:AO,0)),\"\")","v":""},0,{"$error":"#N/A"},"",{"$f":"IF($AC$4=\"x\",IFERROR(INDEX(Kalkulacja!AD:AD,MATCH($U357,Kalkulacja!AO:AO,0))*$D$23,\"\"),\"\")","v":""},{"$error":"#VALUE!"},{"$error":"#VALUE!"},null,"","","","","","","","","","","",null,{"$f":"IF(AD357=\"\",\"\",MAX($AP$10:AP356)+1)","v":""},null,null,"","",null,null,null,null,null,null,null,"","","Opis"]
[null,null,null,null,null,null,"",{"$f":"IF($AC$4=\"x\",IFERROR(INDEX(Kalkulacja!I:I,MATCH($U358,Kalkulacja!AO:AO,0))&\" - uzupełnianie i konfiguracja\",\"\"),\"\")","v":""},"",null,"",null,"",{"$f":"IF(IF($AC$4=\"x\",IFERROR(INDEX(Kalkulacja!AF:AF,MATCH(U358,Kalkulacja!AO:AO,0)),\"\"),\"\")=\"\",\"\",IF($AC$4=\"x\",IFERROR(INDEX(Kalkulacja!AF:AF,MATCH(U358,Kalkulacja!AO:AO,0)),\"\"),\"\"))","v":""},null,null,null,null,"",0,125,{"$f":"IFERROR(INDEX(Kalkulacja!I:I,MATCH($U358,Kalkulacja!AO:AO,0)),\"\")","v":""},0,{"$error":"#N/A"},"",{"$f":"IF($AC$4=\"x\",IFERROR(INDEX(Kalkulacja!AD:AD,MATCH($U358,Kalkulacja!AO:AO,0))*$D$23,\"\"),\"\")","v":""},{"$error":"#VALUE!"},{"$error":"#VALUE!"},null,"","","","","","","","","","","",null,{"$f":"IF(AD358=\"\",\"\",MAX($AP$10:AP357)+1)","v":""},null,null,"","",null,null,null,null,null,null,null,"","","Opis"]
[null,null,null,null,null,null,"",{"$f":"IF($AC$4=\"x\",IFERROR(INDEX(Kalkulacja!I:I,MATCH($U359,Kalkulacja!AO:AO,0))&\" - uzupełnianie i konfiguracja\",\"\"),\"\")","v":""},"",null,"",null,"",{"$f":"IF(IF($AC$4=\"x\",IFERROR(INDEX(Kalkulacja!AF:AF,MATCH(U359,Kalkulacja!AO:AO,0)),\"\"),\"\")=\"\",\"\",IF($AC$4=\"x\",IFERROR(INDEX(Kalkulacja!AF:AF,MATCH(U359,Kalkulacja!AO:AO,0)),\"\"),\"\"))","v":""},null,null,null,null,"",0,126,{"$f":"IFERROR(INDEX(Kalkulacja!I:I,MATCH($U359,Kalkulacja!AO:AO,0)),\"\")","v":""},0,{"$error":"#N/A"},"",{"$f":"IF($AC$4=\"x\",IFERROR(INDEX(Kalkulacja!AD:AD,MATCH($U359,Kalkulacja!AO:AO,0))*$D$23,\"\"),\"\")","v":""},{"$error":"#VALUE!"},{"$error":"#VALUE!"},null,"","","","","","","","","","","",null,{"$f":"IF(AD359=\"\",\"\",MAX($AP$10:AP358)+1)","v":""},null,null,"","",null,null,null,null,null,null,null,"","","Opis"]
[null,null,null,null,null,null,"",{"$f":"IF($AC$4=\"x\",IFERROR(INDEX(Kalkulacja!I:I,MATCH($U360,Kalkulacja!AO:AO,0))&\" - uzupełnianie i konfiguracja\",\"\"),\"\")","v":""},"",null,"",null,"",{"$f":"IF(IF($AC$4=\"x\",IFERROR(INDEX(Kalkulacja!AF:AF,MATCH(U360,Kalkulacja!AO:AO,0)),\"\"),\"\")=\"\",\"\",IF($AC$4=\"x\",IFERROR(INDEX(Kalkulacja!AF:AF,MATCH(U360,Kalkulacja!AO:AO,0)),\"\"),\"\"))","v":""},null,null,null,null,"",0,127,{"$f":"IFERROR(INDEX(Kalkulacja!I:I,MATCH($U360,Kalkulacja!AO:AO,0)),\"\")","v":""},0,{"$error":"#N/A"},"",{"$f":"IF($AC$4=\"x\",IFERROR(INDEX(Kalkulacja!AD:AD,MATCH($U360,Kalkulacja!AO:AO,0))*$D$23,\"\"),\"\")","v":""},{"$error":"#VALUE!"},{"$error":"#VALUE!"},null,"","","","","","","","","","","",null,{"$f":"IF(AD360=\"\",\"\",MAX($AP$10:AP359)+1)","v":""},null,null,"","",null,null,null,null,null,null,null,"","","Opis"]
[null,null,null,null,null,null,"",{"$f":"IF($AC$4=\"x\",IFERROR(INDEX(Kalkulacja!I:I,MATCH($U361,Kalkulacja!AO:AO,0))&\" - uzupełnianie i konfiguracja\",\"\"),\"\")","v":""},"",null,"",null,"",{"$f":"IF(IF($AC$4=\"x\",IFERROR(INDEX(Kalkulacja!AF:AF,MATCH(U361,Kalkulacja!AO:AO,0)),\"\"),\"\")=\"\",\"\",IF($AC$4=\"x\",IFERROR(INDEX(Kalkulacja!AF:AF,MATCH(U361,Kalkulacja!AO:AO,0)),\"\"),\"\"))","v":""},null,null,null,null,"",0,128,{"$f":"IFERROR(INDEX(Kalkulacja!I:I,MATCH($U361,Kalkulacja!AO:AO,0)),\"\")","v":""},0,{"$error":"#N/A"},"",{"$f":"IF($AC$4=\"x\",IFERROR(INDEX(Kalkulacja!AD:AD,MATCH($U361,Kalkulacja!AO:AO,0))*$D$23,\"\"),\"\")","v":""},{"$error":"#VALUE!"},{"$error":"#VALUE!"},null,"","","","","","","","","","","",null,{"$f":"IF(AD361=\"\",\"\",MAX($AP$10:AP360)+1)","v":""},null,null,"","",null,null,null,null,null,null,null,"","","Opis"]
[null,null,null,null,null,null,{"$f":"IF($AC$4=\"x\",\"Content Manager\",\"\")","v":""},{"$f":"IF($AC$4=\"x\",IFERROR(INDEX(Kalkulacja!I:I,MATCH($U362,Kalkulacja!AO:AO,0))&\" - uzupełnianie i konfiguracja\",\"\"),\"\")","v":""},"",null,"",null,"",{"$f":"IF(IF($AC$4=\"x\",IFERROR(INDEX(Kalkulacja!AF:AF,MATCH(U362,Kalkulacja!AO:AO,0)),\"\"),\"\")=\"\",\"\",IF($AC$4=\"x\",IFERROR(INDEX(Kalkulacja!AF:AF,MATCH(U362,Kalkulacja!AO:AO,0)),\"\"),\"\"))","v":""},null,null,null,null,"",0,129,{"$f":"IFERROR(INDEX(Kalkulacja!I:I,MATCH($U362,Kalkulacja!AO:AO,0)),\"\")","v":""},0,{"$error":"#N/A"},"",{"$f":"IF($AC$4=\"x\",IFERROR(INDEX(Kalkulacja!AD:AD,MATCH($U362,Kalkulacja!AO:AO,0))*$D$23,\"\"),\"\")","v":""},{"$error":"#VALUE!"},{"$error":"#VALUE!"},null,"","","","","","","","","","","",null,{"$f":"IF(AD362=\"\",\"\",MAX($AP$10:AP361)+1)","v":""},null,null,"","",null,null,null,null,null,null,null,"","","Opis"]
[null,null,null,null,null,null,"",{"$f":"IF($AC$4=\"x\",IFERROR(INDEX(Kalkulacja!I:I,MATCH($U363,Kalkulacja!AO:AO,0))&\" - uzupełnianie i konfiguracja\",\"\"),\"\")","v":""},{"$f":"IF($AC$4=\"x\",IF(S363=\">\",\"\",\"podrzędne\"),\"\")","v":""},null,"",null,"",{"$f":"IF(IF($AC$4=\"x\",IFERROR(INDEX(Kalkulacja!AF:AF,MATCH(U363,Kalkulacja!AO:AO,0)),\"\"),\"\")=\"\",\"\",IF($AC$4=\"x\",IFERROR(INDEX(Kalkulacja!AF:AF,MATCH(U363,Kalkulacja!AO:AO,0)),\"\"),\"\"))","v":""},null,null,null,null,"",0,130,{"$f":"IFERROR(INDEX(Kalkulacja!I:I,MATCH($U363,Kalkulacja!AO:AO,0)),\"\")","v":""},0,{"$error":"#N/A"},"",{"$f":"IF($AC$4=\"x\",IFERROR(INDEX(Kalkulacja!AD:AD,MATCH($U363,Kalkulacja!AO:AO,0))*$D$23,\"\"),\"\")","v":""},{"$error":"#VALUE!"},{"$error":"#VALUE!"},null,"","","","","","","","",{"$f":"IF(AD363=\"\",\"\",$J$233)","v":""},"","",null,{"$f":"IF(AD363=\"\",\"\",MAX($AP$10:AP362)+1)","v":""},null,null,"","",null,null,null,null,null,null,null,"","","Opis"]
[null,null,null,null,null,null,"",{"$f":"IF($AC$4=\"x\",IFERROR(INDEX(Kalkulacja!I:I,MATCH($U364,Kalkulacja!AO:AO,0))&\" - uzupełnianie i konfiguracja\",\"\"),\"\")","v":""},"",null,"",null,"",{"$f":"IF(IF($AC$4=\"x\",IFERROR(INDEX(Kalkulacja!AF:AF,MATCH(U364,Kalkulacja!AO:AO,0)),\"\"),\"\")=\"\",\"\",IF($AC$4=\"x\",IFERROR(INDEX(Kalkulacja!AF:AF,MATCH(U364,Kalkulacja!AO:AO,0)),\"\"),\"\"))","v":""},null,null,null,null,"",0,131,{"$f":"IFERROR(INDEX(Kalkulacja!I:I,MATCH($U364,Kalkulacja!AO:AO,0)),\"\")","v":""},0,{"$error":"#N/A"},"",{"$f":"IF($AC$4=\"x\",IFERROR(INDEX(Kalkulacja!AD:AD,MATCH($U364,Kalkulacja!AO:AO,0))*$D$23,\"\"),\"\")","v":""},{"$error":"#VALUE!"},{"$error":"#VALUE!"},null,"","","","","","","","","","","",null,{"$f":"IF(AD364=\"\",\"\",MAX($AP$10:AP363)+1)","v":""},null,null,"",{"$f":"IFERROR(INDEX(AN:AN,MATCH(AS364,AP:AP,0)),\"\")","v":""},null,null,null,null,null,null,null,"","","Opis"]
[null,null,null,null,null,null,"",{"$f":"IF($AC$4=\"x\",IFERROR(INDEX(Kalkulacja!I:I,MATCH($U365,Kalkulacja!AO:AO,0))&\" - uzupełnianie i konfiguracja\",\"\"),\"\")","v":""},"",null,"",null,"",{"$f":"IF(IF($AC$4=\"x\",IFERROR(INDEX(Kalkulacja!AF:AF,MATCH(U365,Kalkulacja!AO:AO,0)),\"\"),\"\")=\"\",\"\",IF($AC$4=\"x\",IFERROR(INDEX(Kalkulacja!AF:AF,MATCH(U365,Kalkulacja!AO:AO,0)),\"\"),\"\"))","v":""},null,null,null,null,"",0,132,{"$f":"IFERROR(INDEX(Kalkulacja!I:I,MATCH($U365,Kalkulacja!AO:AO,0)),\"\")","v":""},0,{"$error":"#N/A"},"",{"$f":"IF($AC$4=\"x\",IFERROR(INDEX(Kalkulacja!AD:AD,MATCH($U365,Kalkulacja!AO:AO,0))*$D$23,\"\"),\"\")","v":""},{"$error":"#VALUE!"},{"$error":"#VALUE!"},null,"","","","","","","","","","","",null,{"$f":"IF(AD365=\"\",\"\",MAX($AP$10:AP364)+1)","v":""},null,null,"","",null,null,null,null,null,null,null,"","","Opis"]
[null,null,null,null,null,null,"",{"$f":"IF($AC$4=\"x\",IFERROR(INDEX(Kalkulacja!I:I,MATCH($U366,Kalkulacja!AO:AO,0))&\" - uzupełnianie i konfiguracja\",\"\"),\"\")","v":""},"",null,"",null,"",{"$f":"IF(IF($AC$4=\"x\",IFERROR(INDEX(Kalkulacja!AF:AF,MATCH(U366,Kalkulacja!AO:AO,0)),\"\"),\"\")=\"\",\"\",IF($AC$4=\"x\",IFERROR(INDEX(Kalkulacja!AF:AF,MATCH(U366,Kalkulacja!AO:AO,0)),\"\"),\"\"))","v":""},null,null,null,null,"",0,133,{"$f":"IFERROR(INDEX(Kalkulacja!I:I,MATCH($U366,Kalkulacja!AO:AO,0)),\"\")","v":""},0,{"$error":"#N/A"},"",{"$f":"IF($AC$4=\"x\",IFERROR(INDEX(Kalkulacja!AD:AD,MATCH($U366,Kalkulacja!AO:AO,0))*$D$23,\"\"),\"\")","v":""},{"$error":"#VALUE!"},{"$error":"#VALUE!"},null,"","","","","","","","","","","",null,{"$f":"IF(AD366=\"\",\"\",MAX($AP$10:AP365)+1)","v":""},null,null,"","",null,null,null,null,null,null,null,"","","Opis"]
[null,null,null,null,null,null,"",{"$f":"IF($AC$4=\"x\",IFERROR(INDEX(Kalkulacja!I:I,MATCH($U367,Kalkulacja!AO:AO,0))&\" - uzupełnianie i konfiguracja\",\"\"),\"\")","v":""},"",null,"",null,"",{"$f":"IF(IF($AC$4=\"x\",IFERROR(INDEX(Kalkulacja!AF:AF,MATCH(U367,Kalkulacja!AO:AO,0)),\"\"),\"\")=\"\",\"\",IF($AC$4=\"x\",IFERROR(INDEX(Kalkulacja!AF:AF,MATCH(U367,Kalkulacja!AO:AO,0)),\"\"),\"\"))","v":""},null,null,null,null,"",0,134,{"$f":"IFERROR(INDEX(Kalkulacja!I:I,MATCH($U367,Kalkulacja!AO:AO,0)),\"\")","v":""},0,{"$error":"#N/A"},"",{"$f":"IF($AC$4=\"x\",IFERROR(INDEX(Kalkulacja!AD:AD,MATCH($U367,Kalkulacja!AO:AO,0))*$D$23,\"\"),\"\")","v":""},{"$error":"#VALUE!"},{"$error":"#VALUE!"},null,"","","","","","","","","","","",null,{"$f":"IF(AD367=\"\",\"\",MAX($AP$10:AP366)+1)","v":""},null,null,"","",null,null,null,null,null,null,null,"","","Opis"]
[null,null,null,null,null,null,"",{"$f":"IF($AC$4=\"x\",IFERROR(INDEX(Kalkulacja!I:I,MATCH($U368,Kalkulacja!AO:AO,0))&\" - uzupełnianie i konfiguracja\",\"\"),\"\")","v":""},"",null,"",null,"",{"$f":"IF(IF($AC$4=\"x\",IFERROR(INDEX(Kalkulacja!AF:AF,MATCH(U368,Kalkulacja!AO:AO,0)),\"\"),\"\")=\"\",\"\",IF($AC$4=\"x\",IFERROR(INDEX(Kalkulacja!AF:AF,MATCH(U368,Kalkulacja!AO:AO,0)),\"\"),\"\"))","v":""},null,null,null,null,"",0,135,{"$f":"IFERROR(INDEX(Kalkulacja!I:I,MATCH($U368,Kalkulacja!AO:AO,0)),\"\")","v":""},0,{"$error":"#N/A"},"",{"$f":"IF($AC$4=\"x\",IFERROR(INDEX(Kalkulacja!AD:AD,MATCH($U368,Kalkulacja!AO:AO,0))*$D$23,\"\"),\"\")","v":""},{"$error":"#VALUE!"},{"$error":"#VALUE!"},null,"","","","","","","","","","","",null,{"$f":"IF(AD368=\"\",\"\",MAX($AP$10:AP367)+1)","v":""},null,null,"","",null,null,null,null,null,null,null,"","","Opis"]
[null,null,null,null,null,null,"",{"$f":"IF($AC$4=\"x\",IFERROR(INDEX(Kalkulacja!I:I,MATCH($U369,Kalkulacja!AO:AO,0))&\" - uzupełnianie i konfiguracja\",\"\"),\"\")","v":""},"",null,"",null,"",{"$f":"IF(IF($AC$4=\"x\",IFERROR(INDEX(Kalkulacja!AF:AF,MATCH(U369,Kalkulacja!AO:AO,0)),\"\"),\"\")=\"\",\"\",IF($AC$4=\"x\",IFERROR(INDEX(Kalkulacja!AF:AF,MATCH(U369,Kalkulacja!AO:AO,0)),\"\"),\"\"))","v":""},null,null,null,null,"",0,136,{"$f":"IFERROR(INDEX(Kalkulacja!I:I,MATCH($U369,Kalkulacja!AO:AO,0)),\"\")","v":""},0,{"$error":"#N/A"},"",{"$f":"IF($AC$4=\"x\",IFERROR(INDEX(Kalkulacja!AD:AD,MATCH($U369,Kalkulacja!AO:AO,0))*$D$23,\"\"),\"\")","v":""},{"$error":"#VALUE!"},{"$error":"#VALUE!"},null,"","","","","","","","","","","",null,{"$f":"IF(AD369=\"\",\"\",MAX($AP$10:AP368)+1)","v":""},null,null,"","",null,null,null,null,null,null,null,"","","Opis"]
[null,null,null,null,null,null,"",{"$f":"IF($AC$4=\"x\",IFERROR(INDEX(Kalkulacja!I:I,MATCH($U370,Kalkulacja!AO:AO,0))&\" - uzupełnianie i konfiguracja\",\"\"),\"\")","v":""},"",null,"",null,"",{"$f":"IF(IF($AC$4=\"x\",IFERROR(INDEX(Kalkulacja!AF:AF,MATCH(U370,Kalkulacja!AO:AO,0)),\"\"),\"\")=\"\",\"\",IF($AC$4=\"x\",IFERROR(INDEX(Kalkulacja!AF:AF,MATCH(U370,Kalkulacja!AO:AO,0)),\"\"),\"\"))","v":""},null,null,null,null,"",0,137,{"$f":"IFERROR(INDEX(Kalkulacja!I:I,MATCH($U370,Kalkulacja!AO:AO,0)),\"\")","v":""},0,{"$error":"#N/A"},"",{"$f":"IF($AC$4=\"x\",IFERROR(INDEX(Kalkulacja!AD:AD,MATCH($U370,Kalkulacja!AO:AO,0))*$D$23,\"\"),\"\")","v":""},{"$error":"#VALUE!"},{"$error":"#VALUE!"},null,"","","","","","","","","","","",null,{"$f":"IF(AD370=\"\",\"\",MAX($AP$10:AP369)+1)","v":""},null,null,"","",null,null,null,null,null,null,null,"","","Opis"]
[null,null,null,null,null,null,"",{"$f":"IF($AC$4=\"x\",IFERROR(INDEX(Kalkulacja!I:I,MATCH($U371,Kalkulacja!AO:AO,0))&\" - uzupełnianie i konfiguracja\",\"\"),\"\")","v":""},"",null,"",null,"",{"$f":"IF(IF($AC$4=\"x\",IFERROR(INDEX(Kalkulacja!AF:AF,MATCH(U371,Kalkulacja!AO:AO,0)),\"\"),\"\")=\"\",\"\",IF($AC$4=\"x\",IFERROR(INDEX(Kalkulacja!AF:AF,MATCH(U371,Kalkulacja!AO:AO,0)),\"\"),\"\"))","v":""},null,null,null,null,"",0,138,{"$f":"IFERROR(INDEX(Kalkulacja!I:I,MATCH($U371,Kalkulacja!AO:AO,0)),\"\")","v":""},0,{"$error":"#N/A"},"",{"$f":"IF($AC$4=\"x\",IFERROR(INDEX(Kalkulacja!AD:AD,MATCH($U371,Kalkulacja!AO:AO,0))*$D$23,\"\"),\"\")","v":""},{"$error":"#VALUE!"},{"$error":"#VALUE!"},null,"","","","","","","","","","","",null,{"$f":"IF(AD371=\"\",\"\",MAX($AP$10:AP370)+1)","v":""},null,null,"","",null,null,null,null,null,null,null,"","","Opis"]
[null,null,null,null,null,null,"",{"$f":"IF($AC$4=\"x\",IFERROR(INDEX(Kalkulacja!I:I,MATCH($U372,Kalkulacja!AO:AO,0))&\" - uzupełnianie i konfiguracja\",\"\"),\"\")","v":""},"",null,"",null,"",{"$f":"IF(IF($AC$4=\"x\",IFERROR(INDEX(Kalkulacja!AF:AF,MATCH(U372,Kalkulacja!AO:AO,0)),\"\"),\"\")=\"\",\"\",IF($AC$4=\"x\",IFERROR(INDEX(Kalkulacja!AF:AF,MATCH(U372,Kalkulacja!AO:AO,0)),\"\"),\"\"))","v":""},null,null,null,null,"",0,139,{"$f":"IFERROR(INDEX(Kalkulacja!I:I,MATCH($U372,Kalkulacja!AO:AO,0)),\"\")","v":""},0,{"$error":"#N/A"},"",{"$f":"IF($AC$4=\"x\",IFERROR(INDEX(Kalkulacja!AD:AD,MATCH($U372,Kalkulacja!AO:AO,0))*$D$23,\"\"),\"\")","v":""},{"$error":"#VALUE!"},{"$error":"#VALUE!"},null,"","","","","","","","","","","",null,{"$f":"IF(AD372=\"\",\"\",MAX($AP$10:AP371)+1)","v":""},null,null,"","",null,null,null,null,null,null,null,"","","Opis"]
[null,null,null,null,null,null,"",{"$f":"IF($AC$4=\"x\",IFERROR(INDEX(Kalkulacja!I:I,MATCH($U373,Kalkulacja!AO:AO,0))&\" - uzupełnianie i konfiguracja\",\"\"),\"\")","v":""},"",null,"",null,"",{"$f":"IF(IF($AC$4=\"x\",IFERROR(INDEX(Kalkulacja!AF:AF,MATCH(U373,Kalkulacja!AO:AO,0)),\"\"),\"\")=\"\",\"\",IF($AC$4=\"x\",IFERROR(INDEX(Kalkulacja!AF:AF,MATCH(U373,Kalkulacja!AO:AO,0)),\"\"),\"\"))","v":""},null,null,null,null,"",0,140,{"$f":"IFERROR(INDEX(Kalkulacja!I:I,MATCH($U373,Kalkulacja!AO:AO,0)),\"\")","v":""},0,{"$error":"#N/A"},"",{"$f":"IF($AC$4=\"x\",IFERROR(INDEX(Kalkulacja!AD:AD,MATCH($U373,Kalkulacja!AO:AO,0))*$D$23,\"\"),\"\")","v":""},{"$error":"#VALUE!"},{"$error":"#VALUE!"},null,"","","","","","","","","","","",null,{"$f":"IF(AD373=\"\",\"\",MAX($AP$10:AP372)+1)","v":""},null,null,"","",null,null,null,null,null,null,null,"","","Opis"]
[null,null,null,null,null,null,"",{"$f":"IF($AC$4=\"x\",IFERROR(INDEX(Kalkulacja!I:I,MATCH($U374,Kalkulacja!AO:AO,0))&\" - uzupełnianie i konfiguracja\",\"\"),\"\")","v":""},"",null,"",null,"",{"$f":"IF(IF($AC$4=\"x\",IFERROR(INDEX(Kalkulacja!AF:AF,MATCH(U374,Kalkulacja!AO:AO,0)),\"\"),\"\")=\"\",\"\",IF($AC$4=\"x\",IFERROR(INDEX(Kalkulacja!AF:AF,MATCH(U374,Kalkulacja!AO:AO,0)),\"\"),\"\"))","v":""},null,null,null,null,"",0,141,{"$f":"IFERROR(INDEX(Kalkulacja!I:I,MATCH($U374,Kalkulacja!AO:AO,0)),\"\")","v":""},0,{"$error":"#N/A"},"",{"$f":"IF($AC$4=\"x\",IFERROR(INDEX(Kalkulacja!AD:AD,MATCH($U374,Kalkulacja!AO:AO,0))*$D$23,\"\"),\"\")","v":""},{"$error":"#VALUE!"},{"$error":"#VALUE!"},null,"","","","","","","","","","","",null,{"$f":"IF(AD374=\"\",\"\",MAX($AP$10:AP373)+1)","v":""},null,null,"","",null,null,null,null,null,null,null,"","","Opis"]
[null,null,null,null,null,null,"",{"$f":"IF($AC$4=\"x\",IFERROR(INDEX(Kalkulacja!I:I,MATCH($U375,Kalkulacja!AO:AO,0))&\" - uzupełnianie i konfiguracja\",\"\"),\"\")","v":""},"",null,"",null,"",{"$f":"IF(IF($AC$4=\"x\",IFERROR(INDEX(Kalkulacja!AF:AF,MATCH(U375,Kalkulacja!AO:AO,0)),\"\"),\"\")=\"\",\"\",IF($AC$4=\"x\",IFERROR(INDEX(Kalkulacja!AF:AF,MATCH(U375,Kalkulacja!AO:AO,0)),\"\"),\"\"))","v":""},null,null,null,null,"",0,142,{"$f":"IFERROR(INDEX(Kalkulacja!I:I,MATCH($U375,Kalkulacja!AO:AO,0)),\"\")","v":""},0,{"$error":"#N/A"},"",{"$f":"IF($AC$4=\"x\",IFERROR(INDEX(Kalkulacja!AD:AD,MATCH($U375,Kalkulacja!AO:AO,0))*$D$23,\"\"),\"\")","v":""},{"$error":"#VALUE!"},{"$error":"#VALUE!"},null,"","","","","","","","","","","",null,{"$f":"IF(AD375=\"\",\"\",MAX($AP$10:AP374)+1)","v":""},null,null,"","",null,null,null,null,null,null,null,"","","Opis"]
[null,null,null,null,null,null,"",{"$f":"IF($AC$4=\"x\",IFERROR(INDEX(Kalkulacja!I:I,MATCH($U376,Kalkulacja!AO:AO,0))&\" - uzupełnianie i konfiguracja\",\"\"),\"\")","v":""},"",null,"",null,"",{"$f":"IF(IF($AC$4=\"x\",IFERROR(INDEX(Kalkulacja!AF:AF,MATCH(U376,Kalkulacja!AO:AO,0)),\"\"),\"\")=\"\",\"\",IF($AC$4=\"x\",IFERROR(INDEX(Kalkulacja!AF:AF,MATCH(U376,Kalkulacja!AO:AO,0)),\"\"),\"\"))","v":""},null,null,null,null,"",0,143,{"$f":"IFERROR(INDEX(Kalkulacja!I:I,MATCH($U376,Kalkulacja!AO:AO,0)),\"\")","v":""},0,{"$error":"#N/A"},"",{"$f":"IF($AC$4=\"x\",IFERROR(INDEX(Kalkulacja!AD:AD,MATCH($U376,Kalkulacja!AO:AO,0))*$D$23,\"\"),\"\")","v":""},{"$error":"#VALUE!"},{"$error":"#VALUE!"},null,"","","","","","","","","","","",null,{"$f":"IF(AD376=\"\",\"\",MAX($AP$10:AP375)+1)","v":""},null,null,"","",null,null,null,null,null,null,null,"","","Opis"]
[null,null,null,null,null,null,"",{"$f":"IF($AC$4=\"x\",IFERROR(INDEX(Kalkulacja!I:I,MATCH($U377,Kalkulacja!AO:AO,0))&\" - uzupełnianie i konfiguracja\",\"\"),\"\")","v":""},"",null,"",null,"",{"$f":"IF(IF($AC$4=\"x\",IFERROR(INDEX(Kalkulacja!AF:AF,MATCH(U377,Kalkulacja!AO:AO,0)),\"\"),\"\")=\"\",\"\",IF($AC$4=\"x\",IFERROR(INDEX(Kalkulacja!AF:AF,MATCH(U377,Kalkulacja!AO:AO,0)),\"\"),\"\"))","v":""},null,null,null,null,"",0,144,{"$f":"IFERROR(INDEX(Kalkulacja!I:I,MATCH($U377,Kalkulacja!AO:AO,0)),\"\")","v":""},0,{"$error":"#N/A"},"",{"$f":"IF($AC$4=\"x\",IFERROR(INDEX(Kalkulacja!AD:AD,MATCH($U377,Kalkulacja!AO:AO,0))*$D$23,\"\"),\"\")","v":""},{"$error":"#VALUE!"},{"$error":"#VALUE!"},null,"","","","","","","","","","","",null,{"$f":"IF(AD377=\"\",\"\",MAX($AP$10:AP376)+1)","v":""},null,null,"","",null,null,null,null,null,null,null,"","","Opis"]
[null,null,null,null,null,null,"",{"$f":"IF($AC$4=\"x\",IFERROR(INDEX(Kalkulacja!I:I,MATCH($U378,Kalkulacja!AO:AO,0))&\" - uzupełnianie i konfiguracja\",\"\"),\"\")","v":""},"",null,"",null,"",{"$f":"IF(IF($AC$4=\"x\",IFERROR(INDEX(Kalkulacja!AF:AF,MATCH(U378,Kalkulacja!AO:AO,0)),\"\"),\"\")=\"\",\"\",IF($AC$4=\"x\",IFERROR(INDEX(Kalkulacja!AF:AF,MATCH(U378,Kalkulacja!AO:AO,0)),\"\"),\"\"))","v":""},null,null,null,null,"",0,145,{"$f":"IFERROR(INDEX(Kalkulacja!I:I,MATCH($U378,Kalkulacja!AO:AO,0)),\"\")","v":""},0,{"$error":"#N/A"},"",{"$f":"IF($AC$4=\"x\",IFERROR(INDEX(Kalkulacja!AD:AD,MATCH($U378,Kalkulacja!AO:AO,0))*$D$23,\"\"),\"\")","v":""},{"$error":"#VALUE!"},{"$error":"#VALUE!"},null,"","","","","","","","","","","",null,{"$f":"IF(AD378=\"\",\"\",MAX($AP$10:AP377)+1)","v":""},null,null,"","",null,null,null,null,null,null,null,"","","Opis"]
[null,null,null,null,null,null,"",{"$f":"IF($AC$4=\"x\",IFERROR(INDEX(Kalkulacja!I:I,MATCH($U379,Kalkulacja!AO:AO,0))&\" - uzupełnianie i konfiguracja\",\"\"),\"\")","v":""},"",null,"",null,"",{"$f":"IF(IF($AC$4=\"x\",IFERROR(INDEX(Kalkulacja!AF:AF,MATCH(U379,Kalkulacja!AO:AO,0)),\"\"),\"\")=\"\",\"\",IF($AC$4=\"x\",IFERROR(INDEX(Kalkulacja!AF:AF,MATCH(U379,Kalkulacja!AO:AO,0)),\"\"),\"\"))","v":""},null,null,null,null,"",0,146,{"$f":"IFERROR(INDEX(Kalkulacja!I:I,MATCH($U379,Kalkulacja!AO:AO,0)),\"\")","v":""},0,{"$error":"#N/A"},"",{"$f":"IF($AC$4=\"x\",IFERROR(INDEX(Kalkulacja!AD:AD,MATCH($U379,Kalkulacja!AO:AO,0))*$D$23,\"\"),\"\")","v":""},{"$error":"#VALUE!"},{"$error":"#VALUE!"},null,"","","","","","","","","","","",null,{"$f":"IF(AD379=\"\",\"\",MAX($AP$10:AP378)+1)","v":""},null,null,"","",null,null,null,null,null,null,null,"","","Opis"]
[null,null,null,null,null,null,"",{"$f":"IF($AC$4=\"x\",IFERROR(INDEX(Kalkulacja!I:I,MATCH($U380,Kalkulacja!AO:AO,0))&\" - uzupełnianie i konfiguracja\",\"\"),\"\")","v":""},"",null,"",null,"",{"$f":"IF(IF($AC$4=\"x\",IFERROR(INDEX(Kalkulacja!AF:AF,MATCH(U380,Kalkulacja!AO:AO,0)),\"\"),\"\")=\"\",\"\",IF($AC$4=\"x\",IFERROR(INDEX(Kalkulacja!AF:AF,MATCH(U380,Kalkulacja!AO:AO,0)),\"\"),\"\"))","v":""},null,null,null,null,"",0,147,{"$f":"IFERROR(INDEX(Kalkulacja!I:I,MATCH($U380,Kalkulacja!AO:AO,0)),\"\")","v":""},0,{"$error":"#N/A"},"",{"$f":"IF($AC$4=\"x\",IFERROR(INDEX(Kalkulacja!AD:AD,MATCH($U380,Kalkulacja!AO:AO,0))*$D$23,\"\"),\"\")","v":""},{"$error":"#VALUE!"},{"$error":"#VALUE!"},null,"","","","","","","","","","","",null,{"$f":"IF(AD380=\"\",\"\",MAX($AP$10:AP379)+1)","v":""},null,null,"","",null,null,null,null,null,null,null,"","","Opis"]
[null,null,null,null,null,null,"",{"$f":"IF($AC$4=\"x\",IFERROR(INDEX(Kalkulacja!I:I,MATCH($U381,Kalkulacja!AO:AO,0))&\" - uzupełnianie i konfiguracja\",\"\"),\"\")","v":""},"",null,"",null,"",{"$f":"IF(IF($AC$4=\"x\",IFERROR(INDEX(Kalkulacja!AF:AF,MATCH(U381,Kalkulacja!AO:AO,0)),\"\"),\"\")=\"\",\"\",IF($AC$4=\"x\",IFERROR(INDEX(Kalkulacja!AF:AF,MATCH(U381,Kalkulacja!AO:AO,0)),\"\"),\"\"))","v":""},null,null,null,null,"",0,148,{"$f":"IFERROR(INDEX(Kalkulacja!I:I,MATCH($U381,Kalkulacja!AO:AO,0)),\"\")","v":""},0,{"$error":"#N/A"},"",{"$f":"IF($AC$4=\"x\",IFERROR(INDEX(Kalkulacja!AD:AD,MATCH($U381,Kalkulacja!AO:AO,0))*$D$23,\"\"),\"\")","v":""},{"$error":"#VALUE!"},{"$error":"#VALUE!"},null,"","","","","","","","","","","",null,{"$f":"IF(AD381=\"\",\"\",MAX($AP$10:AP380)+1)","v":""},null,null,"","",null,null,null,null,null,null,null,"","","Opis"]
[null,null,null,null,null,null,"",{"$f":"IF($AC$4=\"x\",IFERROR(INDEX(Kalkulacja!I:I,MATCH($U382,Kalkulacja!AO:AO,0))&\" - uzupełnianie i konfiguracja\",\"\"),\"\")","v":""},"",null,"",null,"",{"$f":"IF(IF($AC$4=\"x\",IFERROR(INDEX(Kalkulacja!AF:AF,MATCH(U382,Kalkulacja!AO:AO,0)),\"\"),\"\")=\"\",\"\",IF($AC$4=\"x\",IFERROR(INDEX(Kalkulacja!AF:AF,MATCH(U382,Kalkulacja!AO:AO,0)),\"\"),\"\"))","v":""},null,null,null,null,"",0,149,{"$f":"IFERROR(INDEX(Kalkulacja!I:I,MATCH($U382,Kalkulacja!AO:AO,0)),\"\")","v":""},0,{"$error":"#N/A"},"",{"$f":"IF($AC$4=\"x\",IFERROR(INDEX(Kalkulacja!AD:AD,MATCH($U382,Kalkulacja!AO:AO,0))*$D$23,\"\"),\"\")","v":""},{"$error":"#VALUE!"},{"$error":"#VALUE!"},null,"","","","","","","","","","","",null,{"$f":"IF(AD382=\"\",\"\",MAX($AP$10:AP381)+1)","v":""},null,null,"","",null,null,null,null,null,null,null,"","","Opis"]
[null,null,null,null,null,null,"",{"$f":"IF($AC$4=\"x\",IFERROR(INDEX(Kalkulacja!I:I,MATCH($U383,Kalkulacja!AO:AO,0))&\" - uzupełnianie i konfiguracja\",\"\"),\"\")","v":""},"",null,"",null,"",{"$f":"IF(IF($AC$4=\"x\",IFERROR(INDEX(Kalkulacja!AF:AF,MATCH(U383,Kalkulacja!AO:AO,0)),\"\"),\"\")=\"\",\"\",IF($AC$4=\"x\",IFERROR(INDEX(Kalkulacja!AF:AF,MATCH(U383,Kalkulacja!AO:AO,0)),\"\"),\"\"))","v":""},null,null,null,null,"",0,150,{"$f":"IFERROR(INDEX(Kalkulacja!I:I,MATCH($U383,Kalkulacja!AO:AO,0)),\"\")","v":""},0,{"$error":"#N/A"},"",{"$f":"IF($AC$4=\"x\",IFERROR(INDEX(Kalkulacja!AD:AD,MATCH($U383,Kalkulacja!AO:AO,0))*$D$23,\"\"),\"\")","v":""},{"$error":"#VALUE!"},{"$error":"#VALUE!"},null,"","","","","","","","","","","",null,{"$f":"IF(AD383=\"\",\"\",MAX($AP$10:AP382)+1)","v":""},null,null,"","",null,null,null,null,null,null,null,"","","Opis"]
[null,null,null,null,null,null,"",{"$f":"IF($AC$4=\"x\",\"Korekty - Uzupełnianie i konfiguracje\",\"\")","v":""},{"$f":"IF($AC$4=\"x\",\"podrzędne\",\"\")","v":""},null,{"$f":"IF($AC$4=\"x\",IFERROR(VLOOKUP(G384,$H$3:$I$6,2,0),\"\"),\"\")","v":""},null,{"$f":"IF($AC$4=\"x\",IF(Z384=\"\",\"\",TRUNC(Z384)&\":\"&AB384),\"\")","v":""},null,null,null,null,null,"",0,null,"Korekty - Uzupełnianie i konfiguracje","x",{"$error":"#N/A"},"",{"$f":"IF($AC$4=\"x\",Kalkulacja!$AD$421*$D$24,\"\")","v":""},{"$error":"#VALUE!"},{"$error":"#VALUE!"},{"$f":"G384","v":""},{"$f":"IF(H384=\"\",\"\",H384&\" - \"&$L$3)","v":""},"","","","","","","","","","",null,{"$f":"IF(AD384=\"\",\"\",MAX($AP$10:AP383)+1)","v":""},null,null,"","",null,null,null,null,null,null,null,"","","Opis"]
[null,null,null,null,null,null,{"$f":"IF($AC$4=\"x\",\"Tłumaczenie\",\"\")","v":""},{"$f":"IF($AC$4=\"x\",\"Tłumaczenie www\",\"\")","v":""},{"$f":"IF($AC$4=\"x\",\"nadrzędne\",\"\")","v":""},{"$f":"IF($AC$4=\"x\",IF(Kalkulacja!$U$416=0,\"\",$J$233+1),\"\")","v":""},{"$f":"K386","v":""},{"$f":"K387","v":""},{"$f":"IF($AC$4=\"x\",IF(Z385=\"\",\"\",TRUNC(Z385)&\":\"&AB385),\"\")","v":""},null,null,null,null,null,"",0,null,"Tłumaczenie www","x",{"$error":"#N/A"},"",null,0,"00",null,{"$f":"IF(H385=\"\",\"\",H385&\" - \"&$L$3)","v":""},"","","","","","","",null,"","",null,{"$f":"IF(W385=\"x\",5,\"\")","v":5},null,null,"","",null,null,null,null,null,null,null,"","","Opis"]
[null,null,null,null,null,null,{"$f":"IF($AC$4=\"x\",\"Content Manager\",\"\")","v":""},{"$f":"IF($AC$4=\"x\",\"Tłumaczenie www - Uzupełnianie\",\"\")","v":""},{"$f":"IF($AC$4=\"x\",\"podrzędne\",\"\")","v":""},null,{"$f":"IF($AC$4=\"x\",IFERROR(VLOOKUP(G386,$H$3:$I$6,2,0),\"\"),\"\")","v":""},null,{"$f":"IF($AC$4=\"x\",IF(Z386=\"\",\"\",TRUNC(Z386)&\":\"&AB386),\"\")","v":""},null,null,null,null,null,"",0,null,"Tłumaczenie www - Uzupełnianie","x",{"$error":"#N/A"},"",{"$f":"IF($AC$4=\"x\",IF(Kalkulacja!$U$416>1,Kalkulacja!$AE$416*$D$26,\"\"),\"\")","v":""},{"$error":"#VALUE!"},{"$error":"#VALUE!"},null,{"$f":"IF(H386=\"\",\"\",H386&\" - \"&$L$3)","v":""},"","","","","","","",{"$f":"IF(AD386=\"\",\"\",$J$385)","v":""},"","",null,{"$f":"IFERROR(IF(AP385>0,AP384+1,\"\"),\"\")","v":""},null,null,"","",null,null,null,null,null,null,null,"","","Opis"]
[null,null,null,null,null,null,{"$f":"IF($AC$4=\"x\",\"Web Developer\",\"\")","v":""},{"$f":"IF($AC$4=\"x\",\"Tłumaczenie www - konfiguracja i programowanie\",\"\")","v":""},{"$f":"IF($AC$4=\"x\",\"podrzędne\",\"\")","v":""},null,{"$f":"IF($AC$4=\"x\",IFERROR(VLOOKUP(G387,$H$3:$I$6,2,0),\"\"),\"\")","v":""},null,{"$f":"IF($AC$4=\"x\",IF(Z387=\"\",\"\",TRUNC(Z387)&\":\"&AB387),\"\")","v":""},null,null,null,null,null,"",0,null,"Tłumaczenie www - konfiguracja i programowanie","x",{"$error":"#N/A"},"",{"$f":"IF($AC$4=\"x\",IF(Kalkulacja!$U$416>0,Kalkulacja!$AE$416*$D$27,\"\"),\"\")","v":""},{"$error":"#VALUE!"},{"$error":"#VALUE!"},null,{"$f":"IF(H387=\"\",\"\",H387&\" - \"&$L$3)","v":""},"","","","","","","",{"$f":"IF(AD387=\"\",\"\",$J$385)","v":""},"","",null,{"$f":"IFERROR(AP386+1,\"\")","v":""},null,null,"","",null,null,null,null,null,null,null,"","","Opis"]
[null,null,null,null,null,null,null,null,null,null,null,null,null,null,null,null,null,null,null,null,null,null,null,null,null,null,null,null,null,null,null,null,null,null,null,null,null,null,null,null,null,null,null,null,null,null,null,null,null,null,null,null,null,"","","Opis"]

{"sheet":"Sheet5","index":3,"n_rows":23,"n_cols":1,"rows_kept":23,"cut":false,"hidden":true,"merged":[]}
["name, priority, estimatedHours, description, status, tags, responsibleUsers, customer.FINDBY.label, parent, project"]
["Projekt www - Testowa Firma, 100, , Opis, WAITING, 21, 15, Testowa Firma,  , 126"]
["Wdrożenie www - Testowa Firma, 100, , Opis, WAITING, 21, 24|18, Testowa Firma, , 126"]
["Kodowanie www - Testowa Firma, 100, , Opis, WAITING, 21, 24, Testowa Firma, 14033, 126"]
["Uzupełnianie i konfiguracje - Testowa Firma, 100, , Opis, WAITING, 21, 6|24, Testowa Firma, , 126"]
["Tłumaczenie www - Testowa Firma, 100, , Opis, WAITING, 21, 6|24, Testowa Firma, , 126"]
["Projekt www - Projekt 0 - Testowa Firma, 100, 2.40, Opis, WAITING, 21, 15, Testowa Firma, 14032, 126"]
["Projekt www - Korekty 1 - Testowa Firma, 100, 0.48, Opis, WAITING, 21, 15, Testowa Firma, 14032, 126"]
["Projekt www - Korekty 2 - Testowa Firma, 100, 0.44, Opis, WAITING, 21, 15, Testowa Firma, 14032, 126"]
["Projekt www - Korekty 3 - Testowa Firma, 100, 0.36, Opis, WAITING, 21, 15, Testowa Firma, 14032, 126"]
["Projekt www - Weryfikacje i konsultacje - Testowa Firma, 100, 0.8, Opis, WAITING, 21, 15, Testowa Firma, 14032, 126"]
["Projekt www - Grafiki na etapie kodowania - Testowa Firma, 100, 0.8, Opis, WAITING, 21, 15, Testowa Firma, 14032, 126"]
["Projekt www - Eksport assetów - Testowa Firma, 100, 0.16, Opis, WAITING, 21, 15, Testowa Firma, 14032, 126"]
["Analiza i kosultacja programisty - Testowa Firma, 100, 0.80, Opis, WAITING, 21, 24, Testowa Firma, 14033, 126"]
["Korekty - Kodowanie www - Testowa Firma, 100, 3.20, Opis, WAITING, 21, 24, Testowa Firma, 14033, 126"]
["Strona 5 sekcji  (projekt + kodowanie)- kodowanie www - Testowa Firma, 100, 4.20, wpisz nazwy stron- kodowanie www, WAITING, 21, 24, Testowa Firma, 14034, 126"]
["Integracja z iFirma- kodowanie www - Testowa Firma, 100, 3.50, Opis, WAITING, 21, 24, Testowa Firma, 14034, 126"]
["Integracja z inFakt- kodowanie www - Testowa Firma, 100, 3.50, Opis, WAITING, 21, 24, Testowa Firma, 14034, 126"]
["Dodatkowe wersje językowe- kodowanie www - Testowa Firma, 100, 1.12, Opis, WAITING, 21, 24, Testowa Firma, 14034, 126"]
["Uruchomienie + checklista - Testowa Firma, 100, 0.80, opis bla bla bla, WAITING, 21, 24|25, Testowa Firma, 14034, 126"]
["Korekty - Uzupełnianie i konfiguracje - Testowa Firma, 100, 0.0, Opis, WAITING, 21, 6, Testowa Firma, 14035, 126"]
["Tłumaczenie www - Uzupełnianie - Testowa Firma, 100, 0.0, Opis, WAITING, 21, 6, Testowa Firma, 14036, 126"]
["Tłumaczenie www - konfiguracja i programowanie - Testowa Firma, 100, 0.64, Opis, WAITING, 21, 24, Testowa Firma, 14036, 126"]

{"sheet":"Sheet4","index":4,"n_rows":23,"n_cols":1,"rows_kept":23,"cut":false,"hidden":true,"merged":[]}
["name, priority, estimatedHours, description, status, tags, responsibleUsers, customer.FINDBY.label, parent, project"]
["Projekt www - Testowa Firma, 100, , Opis, WAITING, 21, 15, Testowa Firma,  , 126"]
["Wdrożenie www - Testowa Firma, 100, , Opis, WAITING, 21, 24|18, Testowa Firma, , 126"]
["Kodowanie www - Testowa Firma, 100, , Opis, WAITING, 21, 24, Testowa Firma, 14033, 126"]
["Uzupełnianie i konfiguracje - Testowa Firma, 100, , Opis, WAITING, 21, 6|24, Testowa Firma, , 126"]
["Tłumaczenie www - Testowa Firma, 100, , Opis, WAITING, 21, 6|24, Testowa Firma, , 126"]
["Projekt www - Projekt 0 - Testowa Firma, 100, 2.40, Opis, WAITING, 21, 15, Testowa Firma, 14032, 126"]
["Projekt www - Korekty 1 - Testowa Firma, 100, 0.48, Opis, WAITING, 21, 15, Testowa Firma, 14032, 126"]
["Projekt www - Korekty 2 - Testowa Firma, 100, 0.44, Opis, WAITING, 21, 15, Testowa Firma, 14032, 126"]
["Projekt www - Korekty 3 - Testowa Firma, 100, 0.36, Opis, WAITING, 21, 15, Testowa Firma, 14032, 126"]
["Projekt www - Weryfikacje i konsultacje - Testowa Firma, 100, 0.8, Opis, WAITING, 21, 15, Testowa Firma, 14032, 126"]
["Projekt www - Grafiki na etapie kodowania - Testowa Firma, 100, 0.8, Opis, WAITING, 21, 15, Testowa Firma, 14032, 126"]
["Projekt www - Eksport assetów - Testowa Firma, 100, 0.16, Opis, WAITING, 21, 15, Testowa Firma, 14032, 126"]
["Analiza i kosultacja programisty - Testowa Firma, 100, 0.80, Opis, WAITING, 21, 24, Testowa Firma, 14033, 126"]
["Korekty - Kodowanie www - Testowa Firma, 100, 3.20, Opis, WAITING, 21, 24, Testowa Firma, 14033, 126"]
["Strona 5 sekcji  (projekt + kodowanie)- kodowanie www - Testowa Firma, 100, 4.20, wpisz nazwy stron- kodowanie www, WAITING, 21, 24, Testowa Firma, 14034, 126"]
["Integracja z iFirma- kodowanie www - Testowa Firma, 100, 3.50, Opis, WAITING, 21, 24, Testowa Firma, 14034, 126"]
["Integracja z inFakt- kodowanie www - Testowa Firma, 100, 3.50, Opis, WAITING, 21, 24, Testowa Firma, 14034, 126"]
["Dodatkowe wersje językowe- kodowanie www - Testowa Firma, 100, 1.12, Opis, WAITING, 21, 24, Testowa Firma, 14034, 126"]
["Uruchomienie + checklista - Testowa Firma, 100, 0.80, opis bla bla bla, WAITING, 21, 24|25, Testowa Firma, 14034, 126"]
["Korekty - Uzupełnianie i konfiguracje - Testowa Firma, 100, 0.0, Opis, WAITING, 21, 6, Testowa Firma, 14035, 126"]
["Tłumaczenie www - Uzupełnianie - Testowa Firma, 100, 0.0, Opis, WAITING, 21, 6, Testowa Firma, 14036, 126"]
["Tłumaczenie www - konfiguracja i programowanie - Testowa Firma, 100, 0.64, Opis, WAITING, 21, 24, Testowa Firma, 14036, 126"]

{"sheet":"Sheet3","index":5,"n_rows":23,"n_cols":1,"rows_kept":23,"cut":false,"hidden":true,"merged":[]}
["name, priority, estimatedHours, description, status, tags, responsibleUsers, customer.FINDBY.label, parent, project"]
["Projekt www - Testowa Firma, 100, , Opis, WAITING, 21, 15, Testowa Firma,  , 126"]
["Wdrożenie www - Testowa Firma, 100, , Opis, WAITING, 21, 24|18, Testowa Firma, , 126"]
["Kodowanie www - Testowa Firma, 100, , Opis, WAITING, 21, 24, Testowa Firma, 14033, 126"]
["Uzupełnianie i konfiguracje - Testowa Firma, 100, , Opis, WAITING, 21, 6|24, Testowa Firma, , 126"]
["Tłumaczenie www - Testowa Firma, 100, , Opis, WAITING, 21, 6|24, Testowa Firma, , 126"]
["Projekt www - Projekt 0 - Testowa Firma, 100, 2.40, Opis, WAITING, 21, 15, Testowa Firma, 14032, 126"]
["Projekt www - Korekty 1 - Testowa Firma, 100, 0.48, Opis, WAITING, 21, 15, Testowa Firma, 14032, 126"]
["Projekt www - Korekty 2 - Testowa Firma, 100, 0.44, Opis, WAITING, 21, 15, Testowa Firma, 14032, 126"]
["Projekt www - Korekty 3 - Testowa Firma, 100, 0.36, Opis, WAITING, 21, 15, Testowa Firma, 14032, 126"]
["Projekt www - Weryfikacje i konsultacje - Testowa Firma, 100, 0.8, Opis, WAITING, 21, 15, Testowa Firma, 14032, 126"]
["Projekt www - Grafiki na etapie kodowania - Testowa Firma, 100, 0.8, Opis, WAITING, 21, 15, Testowa Firma, 14032, 126"]
["Projekt www - Eksport assetów - Testowa Firma, 100, 0.16, Opis, WAITING, 21, 15, Testowa Firma, 14032, 126"]
["Analiza i kosultacja programisty - Testowa Firma, 100, 0.80, Opis, WAITING, 21, 24, Testowa Firma, 14033, 126"]
["Korekty - Kodowanie www - Testowa Firma, 100, 3.20, Opis, WAITING, 21, 24, Testowa Firma, 14033, 126"]
["Strona 5 sekcji  (projekt + kodowanie)- kodowanie www - Testowa Firma, 100, 4.20, wpisz nazwy stron- kodowanie www, WAITING, 21, 24, Testowa Firma, 14034, 126"]
["Integracja z iFirma- kodowanie www - Testowa Firma, 100, 3.50, Opis, WAITING, 21, 24, Testowa Firma, 14034, 126"]
["Integracja z inFakt- kodowanie www - Testowa Firma, 100, 3.50, Opis, WAITING, 21, 24, Testowa Firma, 14034, 126"]
["Dodatkowe wersje językowe- kodowanie www - Testowa Firma, 100, 1.12, Opis, WAITING, 21, 24, Testowa Firma, 14034, 126"]
["Uruchomienie + checklista - Testowa Firma, 100, 0.80, Opis, WAITING, 21, 24, Testowa Firma, 14034, 126"]
["Korekty - Uzupełnianie i konfiguracje - Testowa Firma, 100, 0.0, Opis, WAITING, 21, 6, Testowa Firma, 14035, 126"]
["Tłumaczenie www - Uzupełnianie - Testowa Firma, 100, 0.0, Opis, WAITING, 21, 6, Testowa Firma, 14036, 126"]
["Tłumaczenie www - konfiguracja i programowanie - Testowa Firma, 100, 0.64, Opis, WAITING, 21, 24, Testowa Firma, 14036, 126"]

{"sheet":"Prowizja","index":6,"n_rows":32,"n_cols":4,"rows_kept":32,"cut":false,"hidden":true,"merged":[[1,1,1,2]]}
[]
[null,"Cena całkowita"]
[null,"Min","Max","Dodatkowa prowizja"]
[null,0,5000,0]
[null,{"$f":"C4","v":5000},6000,0]
[null,{"$f":"C5","v":6000},7000,0]
[null,7000,8000,0]
[null,8000,9000,0.01]
[null,9000,10000,0.02]
[null,10000,11000,0.03]
[null,11000,12000,0.04]
[null,12000,13000,0.05]
[null,13000,14000,0.06]
[null,14000,15000,7.0000000000000007E-2]
[null,15000,16000,0.08]
[null,16000,17000,0.09]
[null,17000,18000,0.1]
[null,18000,19000,0.11]
[null,19000,20000,0.12]
[null,20000,30000,0.13]
[null,{"$f":"IF(C20=\"\",\"\",C20)","v":30000},50000,0.14000000000000001]
[null,{"$f":"IF(C21=\"\",\"\",C21)","v":50000},null,0.15]
[null,""]
[null,""]
[null,""]
[null,""]
[null,""]
[null,""]
[null,""]
[null,""]
[null,""]
[null,""]

{"sheet":"Checklista_designer","index":7,"n_rows":417,"n_cols":27,"rows_kept":417,"cut":false,"hidden":true,"merged":[]}
[null,"                               UX / UI designer - checklista",null,null,null,null,null,null,null,null,null,null,{"$f":"SUM(M4:M417)","v":{"$error":"#VALUE!"}}]
[null,null,null,null,null,null,null,null,null,null,null,null,null,null,{"$f":"COLUMN(O3)","v":15}]
[null,{"$f":"IF(O1=\"x\",\"Moduł\",\"\")","v":""},{"$f":"IF(O1=\"x\",\"Czas\",\"\")","v":""},{"$f":"IF(O1=\"x\",\"Ilość\",\"\")","v":""},{"$f":"IF(O1=\"x\",\"Łączny czas\",\"\")","v":""},null,null,null,null,null,null,"Czas","Suma czasu","Ilość","Ukrywanie",null,null,null,"Pozycja",null,"Czas",null,null,null,"Czas łączny"]
[null,{"$f":"IF($O$1=\"x\",Kalkulacja!I3,\"\")","v":""},null,null,null,null,null,null,null,null,null,{"$f":"Kalkulacja!K3","v":0},{"$f":"IF(Kalkulacja!$U$414>0,D4*L4*1.5,D4*L4)","v":0},{"$f":"INDEX(Kalkulacja!U:U,S4)","v":{"$error":"#N/A"}},{"$f":"IF(SUM(O5:O17)>0,1,0)","v":{"$error":"#N/A"}},{"$f":"IF(O4=1,0,1)","v":{"$error":"#N/A"}},null,{"$f":"IF($O$1=\"x\",\"x\",\"\")","v":""},{"$f":"MATCH(B4,Kalkulacja!I:I,0)","v":{"$error":"#N/A"}},null,{"$f":"TRUNC(L4)","v":0},{"$f":"ROUND((L4-U4)*60,0)","v":0},{"$f":"IF(V4<10,\"0\"&V4,V4)","v":"00"},null,{"$f":"TRUNC(M4)","v":0},{"$f":"ROUND((M4-Y4)*60,0)","v":0},{"$f":"IF(Z4<10,\"0\"&Z4,Z4)","v":"00"}]
[null,{"$f":"IF($O$1=\"x\",Kalkulacja!I4,\"\")","v":""},{"$f":"IF($O$1=\"x\",U5&\":\"&W5,\"\")","v":""},{"$f":"IF($O$1=\"x\",Kalkulacja!U4,\"\")","v":""},{"$f":"IF($O$1=\"x\",Y5&\":\"&AA5,\"\")","v":""},null,null,null,null,null,null,{"$f":"Kalkulacja!K4","v":0.7},{"$f":"IF(Kalkulacja!$U$414>0,D5*L5*1.5,D5*L5)","v":{"$error":"#VALUE!"}},{"$f":"INDEX(Kalkulacja!U:U,S5)","v":{"$error":"#N/A"}},{"$f":"IF(L5>0,IF(N5>0,1,0),0)","v":{"$error":"#N/A"}},{"$f":"IF(O5=1,0,1)","v":{"$error":"#N/A"}},null,null,{"$f":"MATCH(B5,Kalkulacja!I:I,0)","v":{"$error":"#N/A"}},null,{"$f":"TRUNC(L5)","v":0},{"$f":"ROUND((L5-U5)*60,0)","v":42},{"$f":"IF(V5<10,\"0\"&V5,V5)","v":42},null,{"$f":"TRUNC(M5)","v":{"$error":"#VALUE!"}},{"$f":"ROUND((M5-Y5)*60,0)","v":{"$error":"#VALUE!"}},{"$f":"IF(Z5<10,\"0\"&Z5,Z5)","v":{"$error":"#VALUE!"}}]
[null,{"$f":"IF($O$1=\"x\",Kalkulacja!I5,\"\")","v":""},{"$f":"IF($O$1=\"x\",U6&\":\"&W6,\"\")","v":""},{"$f":"IF($O$1=\"x\",Kalkulacja!U5,\"\")","v":""},{"$f":"IF($O$1=\"x\",Y6&\":\"&AA6,\"\")","v":""},null,null,null,null,null,null,{"$f":"Kalkulacja!K5","v":0.3},{"$f":"IF(Kalkulacja!$U$414>0,D6*L6*1.5,D6*L6)","v":{"$error":"#VALUE!"}},{"$f":"INDEX(Kalkulacja!U:U,S6)","v":{"$error":"#N/A"}},{"$f":"IF(L6>0,IF(N6>0,1,0),0)","v":{"$error":"#N/A"}},{"$error":"#N/A"},null,null,{"$f":"MATCH(B6,Kalkulacja!I:I,0)","v":{"$error":"#N/A"}},null,0,18,18,null,{"$error":"#VALUE!"},{"$error":"#VALUE!"},{"$error":"#VALUE!"}]
[null,{"$f":"IF($O$1=\"x\",Kalkulacja!I6,\"\")","v":""},"",{"$f":"IF($O$1=\"x\",Kalkulacja!U6,\"\")","v":""},"",null,null,null,null,null,null,{"$f":"Kalkulacja!K6","v":0.3},{"$f":"IF(Kalkulacja!$U$414>0,D7*L7*1.5,D7*L7)","v":{"$error":"#VALUE!"}},{"$f":"INDEX(Kalkulacja!U:U,S7)","v":{"$error":"#N/A"}},{"$error":"#N/A"},{"$error":"#N/A"},null,null,{"$f":"MATCH(B7,Kalkulacja!I:I,0)","v":{"$error":"#N/A"}},null,0,18,18,null,{"$error":"#VALUE!"},{"$error":"#VALUE!"},{"$error":"#VALUE!"}]
[null,{"$f":"IF($O$1=\"x\",Kalkulacja!I7,\"\")","v":""},"",{"$f":"IF($O$1=\"x\",Kalkulacja!U7,\"\")","v":""},"",null,null,null,null,null,null,{"$f":"Kalkulacja!K7","v":0.3},{"$f":"IF(Kalkulacja!$U$414>0,D8*L8*1.5,D8*L8)","v":{"$error":"#VALUE!"}},{"$f":"INDEX(Kalkulacja!U:U,S8)","v":{"$error":"#N/A"}},{"$error":"#N/A"},{"$error":"#N/A"},null,null,{"$f":"MATCH(B8,Kalkulacja!I:I,0)","v":{"$error":"#N/A"}},null,0,18,18,null,{"$error":"#VALUE!"},{"$error":"#VALUE!"},{"$error":"#VALUE!"}]
[null,{"$f":"IF($O$1=\"x\",Kalkulacja!I8,\"\")","v":""},"",{"$f":"IF($O$1=\"x\",Kalkulacja!U8,\"\")","v":""},"",null,null,null,null,null,null,{"$f":"Kalkulacja!K8","v":0.3},{"$f":"IF(Kalkulacja!$U$414>0,D9*L9*1.5,D9*L9)","v":{"$error":"#VALUE!"}},{"$f":"INDEX(Kalkulacja!U:U,S9)","v":{"$error":"#N/A"}},{"$error":"#N/A"},{"$error":"#N/A"},null,null,{"$f":"MATCH(B9,Kalkulacja!I:I,0)","v":{"$error":"#N/A"}},null,0,18,18,null,{"$error":"#VALUE!"},{"$error":"#VALUE!"},{"$error":"#VALUE!"}]
[null,{"$f":"IF($O$1=\"x\",Kalkulacja!I9,\"\")","v":""},"",{"$f":"IF($O$1=\"x\",Kalkulacja!U9,\"\")","v":""},"",null,null,null,null,null,null,{"$f":"Kalkulacja!K9","v":1},{"$f":"IF(Kalkulacja!$U$414>0,D10*L10*1.5,D10*L10)","v":{"$error":"#VALUE!"}},{"$f":"INDEX(Kalkulacja!U:U,S10)","v":{"$error":"#N/A"}},{"$error":"#N/A"},{"$error":"#N/A"},null,null,{"$f":"MATCH(B10,Kalkulacja!I:I,0)","v":{"$error":"#N/A"}},null,1,0,"00",null,{"$error":"#VALUE!"},{"$error":"#VALUE!"},{"$error":"#VALUE!"}]
[null,{"$f":"IF($O$1=\"x\",Kalkulacja!I10,\"\")","v":""},"",{"$f":"IF($O$1=\"x\",Kalkulacja!U10,\"\")","v":""},"",null,null,null,null,null,null,{"$f":"Kalkulacja!K10","v":5},{"$f":"IF(Kalkulacja!$U$414>0,D11*L11*1.5,D11*L11)","v":{"$error":"#VALUE!"}},{"$f":"INDEX(Kalkulacja!U:U,S11)","v":{"$error":"#N/A"}},{"$error":"#N/A"},{"$error":"#N/A"},null,null,{"$f":"MATCH(B11,Kalkulacja!I:I,0)","v":{"$error":"#N/A"}},null,5,0,"00",null,{"$error":"#VALUE!"},{"$error":"#VALUE!"},{"$error":"#VALUE!"}]
[null,{"$f":"IF($O$1=\"x\",Kalkulacja!I11,\"\")","v":""},"",{"$f":"IF($O$1=\"x\",Kalkulacja!U11,\"\")","v":""},"",null,null,null,null,null,null,{"$f":"Kalkulacja!K11","v":16},{"$f":"IF(Kalkulacja!$U$414>0,D12*L12*1.5,D12*L12)","v":{"$error":"#VALUE!"}},{"$f":"INDEX(Kalkulacja!U:U,S12)","v":{"$error":"#N/A"}},{"$error":"#N/A"},{"$error":"#N/A"},null,null,{"$f":"MATCH(B12,Kalkulacja!I:I,0)","v":{"$error":"#N/A"}},null,16,0,"00",null,{"$error":"#VALUE!"},{"$error":"#VALUE!"},{"$error":"#VALUE!"}]
[null,{"$f":"IF($O$1=\"x\",Kalkulacja!I12,\"\")","v":""},"",{"$f":"IF($O$1=\"x\",Kalkulacja!U12,\"\")","v":""},"",null,null,null,null,null,null,{"$f":"Kalkulacja!K12","v":0},{"$f":"IF(Kalkulacja!$U$414>0,D13*L13*1.5,D13*L13)","v":{"$error":"#VALUE!"}},{"$f":"INDEX(Kalkulacja!U:U,S13)","v":{"$error":"#N/A"}},0,1,null,null,{"$f":"MATCH(B13,Kalkulacja!I:I,0)","v":{"$error":"#N/A"}},null,0,0,"00",null,{"$error":"#VALUE!"},{"$error":"#VALUE!"},{"$error":"#VALUE!"}]
[null,{"$f":"IF($O$1=\"x\",Kalkulacja!I13,\"\")","v":""},"",{"$f":"IF($O$1=\"x\",Kalkulacja!U13,\"\")","v":""},"",null,null,null,null,null,null,{"$f":"Kalkulacja!K13","v":0},{"$f":"IF(Kalkulacja!$U$414>0,D14*L14*1.5,D14*L14)","v":{"$error":"#VALUE!"}},{"$f":"INDEX(Kalkulacja!U:U,S14)","v":{"$error":"#N/A"}},0,1,null,null,{"$f":"MATCH(B14,Kalkulacja!I:I,0)","v":{"$error":"#N/A"}},null,0,0,"00",null,{"$error":"#VALUE!"},{"$error":"#VALUE!"},{"$error":"#VALUE!"}]
[null,{"$f":"IF($O$1=\"x\",Kalkulacja!I14,\"\")","v":""},"",{"$f":"IF($O$1=\"x\",Kalkulacja!U14,\"\")","v":""},"",null,null,null,null,null,null,{"$f":"Kalkulacja!K14","v":0},{"$f":"IF(Kalkulacja!$U$414>0,D15*L15*1.5,D15*L15)","v":{"$error":"#VALUE!"}},{"$f":"INDEX(Kalkulacja!U:U,S15)","v":{"$error":"#N/A"}},0,1,null,null,{"$f":"MATCH(B15,Kalkulacja!I:I,0)","v":{"$error":"#N/A"}},null,0,0,"00",null,{"$error":"#VALUE!"},{"$error":"#VALUE!"},{"$error":"#VALUE!"}]
[null,{"$f":"IF($O$1=\"x\",Kalkulacja!I15,\"\")","v":""},"",{"$f":"IF($O$1=\"x\",Kalkulacja!U15,\"\")","v":""},"",null,null,null,null,null,null,{"$f":"Kalkulacja!K15","v":0},{"$f":"IF(Kalkulacja!$U$414>0,D16*L16*1.5,D16*L16)","v":{"$error":"#VALUE!"}},{"$f":"INDEX(Kalkulacja!U:U,S16)","v":{"$error":"#N/A"}},0,1,null,null,{"$f":"MATCH(B16,Kalkulacja!I:I,0)","v":{"$error":"#N/A"}},null,0,0,"00",null,{"$error":"#VALUE!"},{"$error":"#VALUE!"},{"$error":"#VALUE!"}]
[null,{"$f":"IF($O$1=\"x\",Kalkulacja!I16,\"\")","v":""},"",{"$f":"IF($O$1=\"x\",Kalkulacja!U16,\"\")","v":""},"",null,null,null,null,null,null,{"$f":"Kalkulacja!K16","v":0},{"$f":"IF(Kalkulacja!$U$414>0,D17*L17*1.5,D17*L17)","v":{"$error":"#VALUE!"}},{"$f":"INDEX(Kalkulacja!U:U,S17)","v":{"$error":"#N/A"}},0,1,null,null,{"$f":"MATCH(B17,Kalkulacja!I:I,0)","v":{"$error":"#N/A"}},null,0,0,"00",null,{"$error":"#VALUE!"},{"$error":"#VALUE!"},{"$error":"#VALUE!"}]
[null,{"$f":"IF($O$1=\"x\",Kalkulacja!I17,\"\")","v":""},null,null,null,null,null,null,null,null,null,{"$f":"Kalkulacja!K17","v":0},{"$f":"IF(Kalkulacja!$U$414>0,D18*L18*1.5,D18*L18)","v":0},{"$f":"INDEX(Kalkulacja!U:U,S18)","v":{"$error":"#N/A"}},{"$f":"IF(SUM(O19,O99,O105,O117,O134)>0,1,0)","v":{"$error":"#N/A"}},{"$error":"#N/A"},null,{"$f":"IF($O$1=\"x\",\"x\",\"\")","v":""},{"$f":"MATCH(B18,Kalkulacja!I:I,0)","v":{"$error":"#N/A"}},null,{"$f":"TRUNC(L18)","v":0},{"$f":"ROUND((L18-U18)*60,0)","v":0},"00",null,{"$f":"TRUNC(M18)","v":0},{"$f":"ROUND((M18-Y18)*60,0)","v":0},"00"]
[null,{"$f":"IF($O$1=\"x\",Kalkulacja!I18,\"\")","v":""},null,null,null,null,null,null,null,null,null,{"$f":"Kalkulacja!K18","v":0},{"$f":"IF(Kalkulacja!$U$414>0,D19*L19*1.5,D19*L19)","v":0},{"$f":"INDEX(Kalkulacja!U:U,S19)","v":{"$error":"#N/A"}},{"$f":"IF(SUM(O20:O98)>0,1,0)","v":{"$error":"#N/A"}},{"$error":"#N/A"},null,{"$f":"IF($O$1=\"x\",\"y\",\"\")","v":""},{"$f":"MATCH(B19,Kalkulacja!I:I,0)","v":{"$error":"#N/A"}},null,0,0,"00",null,0,0,"00"]
[null,{"$f":"IF($O$1=\"x\",Kalkulacja!I19,\"\")","v":""},{"$f":"IF($O$1=\"x\",U20&\":\"&W20,\"\")","v":""},{"$f":"IF($O$1=\"x\",Kalkulacja!U19,\"\")","v":""},{"$f":"IF($O$1=\"x\",Y20&\":\"&AA20,\"\")","v":""},null,null,null,null,null,null,{"$f":"Kalkulacja!K19","v":0},{"$f":"IF(Kalkulacja!$U$414>0,D20*L20*1.5,D20*L20)","v":{"$error":"#VALUE!"}},{"$f":"INDEX(Kalkulacja!U:U,S20)","v":{"$error":"#N/A"}},{"$f":"IF(L20>0,IF(N20>0,1,0),0)","v":0},1,null,null,{"$f":"MATCH(B20,Kalkulacja!I:I,0)","v":{"$error":"#N/A"}},null,0,0,"00",null,{"$error":"#VALUE!"},{"$error":"#VALUE!"},{"$error":"#VALUE!"}]
[null,{"$f":"IF($O$1=\"x\",Kalkulacja!I20,\"\")","v":""},{"$f":"IF($O$1=\"x\",U21&\":\"&W21,\"\")","v":""},{"$f":"IF($O$1=\"x\",Kalkulacja!U20,\"\")","v":""},"",null,null,null,null,null,null,{"$f":"Kalkulacja!K20","v":7},{"$f":"IF(Kalkulacja!$U$414>0,D21*L21*1.5,D21*L21)","v":{"$error":"#VALUE!"}},{"$f":"INDEX(Kalkulacja!U:U,S21)","v":{"$error":"#N/A"}},{"$error":"#N/A"},{"$error":"#N/A"},null,null,{"$f":"MATCH(B21,Kalkulacja!I:I,0)","v":{"$error":"#N/A"}},null,7,0,"00",null,{"$error":"#VALUE!"},{"$error":"#VALUE!"},{"$error":"#VALUE!"}]
[null,{"$f":"IF($O$1=\"x\",Kalkulacja!I21,\"\")","v":""},"",{"$f":"IF($O$1=\"x\",Kalkulacja!U21,\"\")","v":""},"",null,null,null,null,null,null,{"$f":"Kalkulacja!K21","v":9},{"$f":"IF(Kalkulacja!$U$414>0,D22*L22*1.5,D22*L22)","v":{"$error":"#VALUE!"}},{"$f":"INDEX(Kalkulacja!U:U,S22)","v":{"$error":"#N/A"}},{"$error":"#N/A"},{"$error":"#N/A"},null,null,{"$f":"MATCH(B22,Kalkulacja!I:I,0)","v":{"$error":"#N/A"}},null,9,0,"00",null,{"$error":"#VALUE!"},{"$error":"#VALUE!"},{"$error":"#VALUE!"}]
[null,{"$f":"IF($O$1=\"x\",Kalkulacja!I22,\"\")","v":""},"",{"$f":"IF($O$1=\"x\",Kalkulacja!U22,\"\")","v":""},"",null,null,null,null,null,null,{"$f":"Kalkulacja!K22","v":11},{"$f":"IF(Kalkulacja!$U$414>0,D23*L23*1.5,D23*L23)","v":{"$error":"#VALUE!"}},{"$f":"INDEX(Kalkulacja!U:U,S23)","v":{"$error":"#N/A"}},{"$error":"#N/A"},{"$error":"#N/A"},null,null,{"$f":"MATCH(B23,Kalkulacja!I:I,0)","v":{"$error":"#N/A"}},null,11,0,"00",null,{"$error":"#VALUE!"},{"$error":"#VALUE!"},{"$error":"#VALUE!"}]
[null,{"$f":"IF($O$1=\"x\",Kalkulacja!I23,\"\")","v":""},"",{"$f":"IF($O$1=\"x\",Kalkulacja!U23,\"\")","v":""},"",null,null,null,null,null,null,{"$f":"Kalkulacja!K23","v":13},{"$f":"IF(Kalkulacja!$U$414>0,D24*L24*1.5,D24*L24)","v":{"$error":"#VALUE!"}},{"$f":"INDEX(Kalkulacja!U:U,S24)","v":{"$error":"#N/A"}},{"$error":"#N/A"},{"$error":"#N/A"},null,null,{"$f":"MATCH(B24,Kalkulacja!I:I,0)","v":{"$error":"#N/A"}},null,13,0,"00",null,{"$error":"#VALUE!"},{"$error":"#VALUE!"},{"$error":"#VALUE!"}]
[null,{"$f":"IF($O$1=\"x\",Kalkulacja!I24,\"\")","v":""},"",{"$f":"IF($O$1=\"x\",Kalkulacja!U24,\"\")","v":""},"",null,null,null,null,null,null,{"$f":"Kalkulacja!K24","v":16},{"$f":"IF(Kalkulacja!$U$414>0,D25*L25*1.5,D25*L25)","v":{"$error":"#VALUE!"}},{"$f":"INDEX(Kalkulacja!U:U,S25)","v":{"$error":"#N/A"}},{"$error":"#N/A"},{"$error":"#N/A"},null,null,{"$f":"MATCH(B25,Kalkulacja!I:I,0)","v":{"$error":"#N/A"}},null,16,0,"00",null,{"$error":"#VALUE!"},{"$error":"#VALUE!"},{"$error":"#VALUE!"}]
[null,{"$f":"IF($O$1=\"x\",Kalkulacja!I25,\"\")","v":""},"",{"$f":"IF($O$1=\"x\",Kalkulacja!U25,\"\")","v":""},"",null,null,null,null,null,null,{"$f":"Kalkulacja!K25","v":1},{"$f":"IF(Kalkulacja!$U$414>0,D26*L26*1.5,D26*L26)","v":{"$error":"#VALUE!"}},{"$f":"INDEX(Kalkulacja!U:U,S26)","v":{"$error":"#N/A"}},{"$error":"#N/A"},{"$error":"#N/A"},null,null,{"$f":"MATCH(B26,Kalkulacja!I:I,0)","v":{"$error":"#N/A"}},null,1,0,"00",null,{"$error":"#VALUE!"},{"$error":"#VALUE!"},{"$error":"#VALUE!"}]
[null,{"$f":"IF($O$1=\"x\",Kalkulacja!I26,\"\")","v":""},null,null,null,null,null,null,null,null,null,null,{"$f":"IF(Kalkulacja!$U$414>0,D27*L27*1.5,D27*L27)","v":0},null,{"$f":"IF(O26=0,0,1)","v":{"$error":"#N/A"}},{"$error":"#N/A"}]
[null,{"$f":"IF($O$1=\"x\",Kalkulacja!I27,\"\")","v":""},{"$f":"IF($O$1=\"x\",U28&\":\"&W28,\"\")","v":""},{"$f":"IF($O$1=\"x\",Kalkulacja!U27,\"\")","v":""},"",null,null,null,null,null,null,{"$f":"Kalkulacja!K27","v":1.5},{"$f":"IF(Kalkulacja!$U$414>0,D28*L28*1.5,D28*L28)","v":{"$error":"#VALUE!"}},{"$f":"INDEX(Kalkulacja!U:U,S28)","v":{"$error":"#N/A"}},{"$error":"#N/A"},{"$error":"#N/A"},null,null,{"$f":"MATCH(B28,Kalkulacja!I:I,0)","v":{"$error":"#N/A"}},null,1,30,30,null,{"$error":"#VALUE!"},{"$error":"#VALUE!"},{"$error":"#VALUE!"}]
[null,{"$f":"IF($O$1=\"x\",Kalkulacja!I28,\"\")","v":""},null,null,null,null,null,null,null,null,null,null,{"$f":"IF(Kalkulacja!$U$414>0,D29*L29*1.5,D29*L29)","v":0},null,{"$f":"IF(O28=0,0,1)","v":{"$error":"#N/A"}},{"$f":"IF(O29=1,0,1)","v":{"$error":"#N/A"}}]
[null,{"$f":"IF($O$1=\"x\",Kalkulacja!I29,\"\")","v":""},{"$f":"IF($O$1=\"x\",U30&\":\"&W30,\"\")","v":""},{"$f":"IF($O$1=\"x\",Kalkulacja!U29,\"\")","v":""},"",null,null,null,null,null,null,{"$f":"Kalkulacja!K29","v":2},{"$f":"IF(Kalkulacja!$U$414>0,D30*L30*1.5,D30*L30)","v":{"$error":"#VALUE!"}},{"$f":"INDEX(Kalkulacja!U:U,S30)","v":{"$error":"#N/A"}},{"$error":"#N/A"},{"$f":"IF(O30=1,0,1)","v":{"$error":"#N/A"}},null,null,{"$f":"MATCH(B30,Kalkulacja!I:I,0)","v":{"$error":"#N/A"}},null,2,0,{"$f":"IF(V30<10,\"0\"&V30,V30)","v":"00"},null,{"$error":"#VALUE!"},{"$error":"#VALUE!"},{"$f":"IF(Z30<10,\"0\"&Z30,Z30)","v":{"$error":"#VALUE!"}}]
[null,{"$f":"IF($O$1=\"x\",Kalkulacja!I30,\"\")","v":""},null,null,null,null,null,null,null,null,null,null,{"$f":"IF(Kalkulacja!$U$414>0,D31*L31*1.5,D31*L31)","v":0},null,{"$f":"IF(O30=0,0,1)","v":{"$error":"#N/A"}},{"$f":"IF(O31=1,0,1)","v":{"$error":"#N/A"}}]
[null,{"$f":"IF($O$1=\"x\",Kalkulacja!I31,\"\")","v":""},{"$f":"IF($O$1=\"x\",U32&\":\"&W32,\"\")","v":""},{"$f":"IF($O$1=\"x\",Kalkulacja!U31,\"\")","v":""},"",null,null,null,null,null,null,{"$f":"Kalkulacja!K31","v":3},{"$f":"IF(Kalkulacja!$U$414>0,D32*L32*1.5,D32*L32)","v":{"$error":"#VALUE!"}},{"$f":"INDEX(Kalkulacja!U:U,S32)","v":{"$error":"#N/A"}},{"$error":"#N/A"},{"$error":"#N/A"},null,null,{"$f":"MATCH(B32,Kalkulacja!I:I,0)","v":{"$error":"#N/A"}},null,3,0,"00",null,{"$error":"#VALUE!"},{"$error":"#VALUE!"},{"$error":"#VALUE!"}]
[null,{"$f":"IF($O$1=\"x\",Kalkulacja!I32,\"\")","v":""},null,null,null,null,null,null,null,null,null,null,{"$f":"IF(Kalkulacja!$U$414>0,D33*L33*1.5,D33*L33)","v":0},null,{"$f":"IF(O32=0,0,1)","v":{"$error":"#N/A"}},{"$error":"#N/A"}]
[null,{"$f":"IF($O$1=\"x\",Kalkulacja!I33,\"\")","v":""},{"$f":"IF($O$1=\"x\",U34&\":\"&W34,\"\")","v":""},{"$f":"IF($O$1=\"x\",Kalkulacja!U33,\"\")","v":""},"",null,null,null,null,null,null,{"$f":"Kalkulacja!K33","v":4},{"$f":"IF(Kalkulacja!$U$414>0,D34*L34*1.5,D34*L34)","v":{"$error":"#VALUE!"}},{"$f":"INDEX(Kalkulacja!U:U,S34)","v":{"$error":"#N/A"}},{"$error":"#N/A"},{"$error":"#N/A"},null,null,{"$f":"MATCH(B34,Kalkulacja!I:I,0)","v":{"$error":"#N/A"}},null,4,0,"00",null,{"$error":"#VALUE!"},{"$error":"#VALUE!"},{"$error":"#VALUE!"}]
[null,{"$f":"IF($O$1=\"x\",Kalkulacja!I34,\"\")","v":""},null,null,null,null,null,null,null,null,null,null,{"$f":"IF(Kalkulacja!$U$414>0,D35*L35*1.5,D35*L35)","v":0},null,{"$f":"IF(O34=0,0,1)","v":{"$error":"#N/A"}},{"$error":"#N/A"}]
[null,{"$f":"IF($O$1=\"x\",Kalkulacja!I35,\"\")","v":""},{"$f":"IF($O$1=\"x\",U36&\":\"&W36,\"\")","v":""},{"$f":"IF($O$1=\"x\",Kalkulacja!U35,\"\")","v":""},"",null,null,null,null,null,null,{"$f":"Kalkulacja!K35","v":5},{"$f":"IF(Kalkulacja!$U$414>0,D36*L36*1.5,D36*L36)","v":{"$error":"#VALUE!"}},{"$f":"INDEX(Kalkulacja!U:U,S36)","v":{"$error":"#N/A"}},{"$error":"#N/A"},{"$error":"#N/A"},null,null,{"$f":"MATCH(B36,Kalkulacja!I:I,0)","v":{"$error":"#N/A"}},null,5,0,"00",null,{"$error":"#VALUE!"},{"$error":"#VALUE!"},{"$error":"#VALUE!"}]
[null,{"$f":"IF($O$1=\"x\",Kalkulacja!I36,\"\")","v":""},null,null,null,null,null,null,null,null,null,null,{"$f":"IF(Kalkulacja!$U$414>0,D37*L37*1.5,D37*L37)","v":0},null,{"$f":"IF(O36=0,0,1)","v":{"$error":"#N/A"}},{"$error":"#N/A"}]
[null,{"$f":"IF($O$1=\"x\",Kalkulacja!I37,\"\")","v":""},{"$f":"IF($O$1=\"x\",U38&\":\"&W38,\"\")","v":""},{"$f":"IF($O$1=\"x\",Kalkulacja!U37,\"\")","v":""},"",null,null,null,null,null,null,{"$f":"Kalkulacja!K37","v":6},{"$f":"IF(Kalkulacja!$U$414>0,D38*L38*1.5,D38*L38)","v":{"$error":"#VALUE!"}},{"$f":"INDEX(Kalkulacja!U:U,S38)","v":{"$error":"#N/A"}},{"$error":"#N/A"},{"$error":"#N/A"},null,null,{"$f":"MATCH(B38,Kalkulacja!I:I,0)","v":{"$error":"#N/A"}},null,6,0,"00",null,{"$error":"#VALUE!"},{"$error":"#VALUE!"},{"$error":"#VALUE!"}]
[null,{"$f":"IF($O$1=\"x\",Kalkulacja!I38,\"\")","v":""},null,null,null,null,null,null,null,null,null,null,{"$f":"IF(Kalkulacja!$U$414>0,D39*L39*1.5,D39*L39)","v":0},null,{"$f":"IF(O38=0,0,1)","v":{"$error":"#N/A"}},{"$error":"#N/A"}]
[null,{"$f":"IF($O$1=\"x\",Kalkulacja!I39,\"\")","v":""},{"$f":"IF($O$1=\"x\",U40&\":\"&W40,\"\")","v":""},{"$f":"IF($O$1=\"x\",Kalkulacja!U39,\"\")","v":""},"",null,null,null,null,null,null,{"$f":"Kalkulacja!K39","v":7},{"$f":"IF(Kalkulacja!$U$414>0,D40*L40*1.5,D40*L40)","v":{"$error":"#VALUE!"}},{"$f":"INDEX(Kalkulacja!U:U,S40)","v":{"$error":"#N/A"}},{"$error":"#N/A"},{"$error":"#N/A"},null,null,{"$f":"MATCH(B40,Kalkulacja!I:I,0)","v":{"$error":"#N/A"}},null,7,0,"00",null,{"$error":"#VALUE!"},{"$error":"#VALUE!"},{"$error":"#VALUE!"}]
[null,{"$f":"IF($O$1=\"x\",Kalkulacja!I40,\"\")","v":""},null,null,null,null,null,null,null,null,null,null,{"$f":"IF(Kalkulacja!$U$414>0,D41*L41*1.5,D41*L41)","v":0},null,{"$f":"IF(O40=0,0,1)","v":{"$error":"#N/A"}},{"$error":"#N/A"}]
[null,{"$f":"IF($O$1=\"x\",Kalkulacja!I41,\"\")","v":""},{"$f":"IF($O$1=\"x\",U42&\":\"&W42,\"\")","v":""},{"$f":"IF($O$1=\"x\",Kalkulacja!U41,\"\")","v":""},"",null,null,null,null,null,null,{"$f":"Kalkulacja!K41","v":8},{"$f":"IF(Kalkulacja!$U$414>0,D42*L42*1.5,D42*L42)","v":{"$error":"#VALUE!"}},{"$f":"INDEX(Kalkulacja!U:U,S42)","v":{"$error":"#N/A"}},{"$error":"#N/A"},{"$error":"#N/A"},null,null,{"$f":"MATCH(B42,Kalkulacja!I:I,0)","v":{"$error":"#N/A"}},null,8,0,"00",null,{"$error":"#VALUE!"},{"$error":"#VALUE!"},{"$error":"#VALUE!"}]
[null,{"$f":"IF($O$1=\"x\",Kalkulacja!I42,\"\")","v":""},null,null,null,null,null,null,null,null,null,null,{"$f":"IF(Kalkulacja!$U$414>0,D43*L43*1.5,D43*L43)","v":0},null,{"$f":"IF(O42=0,0,1)","v":{"$error":"#N/A"}},{"$error":"#N/A"}]
[null,{"$f":"IF($O$1=\"x\",Kalkulacja!I43,\"\")","v":""},{"$f":"IF($O$1=\"x\",U44&\":\"&W44,\"\")","v":""},{"$f":"IF($O$1=\"x\",Kalkulacja!U43,\"\")","v":""},"",null,null,null,null,null,null,{"$f":"Kalkulacja!K43","v":9},{"$f":"IF(Kalkulacja!$U$414>0,D44*L44*1.5,D44*L44)","v":{"$error":"#VALUE!"}},{"$f":"INDEX(Kalkulacja!U:U,S44)","v":{"$error":"#N/A"}},{"$error":"#N/A"},{"$error":"#N/A"},null,null,{"$f":"MATCH(B44,Kalkulacja!I:I,0)","v":{"$error":"#N/A"}},null,9,0,"00",null,{"$error":"#VALUE!"},{"$error":"#VALUE!"},{"$error":"#VALUE!"}]
[null,{"$f":"IF($O$1=\"x\",Kalkulacja!I44,\"\")","v":""},null,null,null,null,null,null,null,null,null,null,{"$f":"IF(Kalkulacja!$U$414>0,D45*L45*1.5,D45*L45)","v":0},null,{"$f":"IF(O44=0,0,1)","v":{"$error":"#N/A"}},{"$error":"#N/A"}]
[null,{"$f":"IF($O$1=\"x\",Kalkulacja!I45,\"\")","v":""},{"$f":"IF($O$1=\"x\",U46&\":\"&W46,\"\")","v":""},{"$f":"IF($O$1=\"x\",Kalkulacja!U45,\"\")","v":""},"",null,null,null,null,null,null,{"$f":"Kalkulacja!K45","v":0},{"$f":"IF(Kalkulacja!$U$414>0,D46*L46*1.5,D46*L46)","v":{"$error":"#VALUE!"}},{"$f":"INDEX(Kalkulacja!U:U,S46)","v":{"$error":"#N/A"}},0,1,null,null,{"$f":"MATCH(B46,Kalkulacja!I:I,0)","v":{"$error":"#N/A"}},null,0,0,"00",null,{"$error":"#VALUE!"},{"$error":"#VALUE!"},{"$error":"#VALUE!"}]
[null,{"$f":"IF($O$1=\"x\",Kalkulacja!I46,\"\")","v":""},null,null,null,null,null,null,null,null,null,null,{"$f":"IF(Kalkulacja!$U$414>0,D47*L47*1.5,D47*L47)","v":0},null,{"$f":"IF(O46=0,0,1)","v":0},1]
[null,{"$f":"IF($O$1=\"x\",Kalkulacja!I47,\"\")","v":""},{"$f":"IF($O$1=\"x\",U48&\":\"&W48,\"\")","v":""},{"$f":"IF($O$1=\"x\",Kalkulacja!U47,\"\")","v":""},"",null,null,null,null,null,null,{"$f":"Kalkulacja!K47","v":0},{"$f":"IF(Kalkulacja!$U$414>0,D48*L48*1.5,D48*L48)","v":{"$error":"#VALUE!"}},{"$f":"INDEX(Kalkulacja!U:U,S48)","v":{"$error":"#N/A"}},0,1,null,null,{"$f":"MATCH(B48,Kalkulacja!I:I,0)","v":{"$error":"#N/A"}},null,0,0,"00",null,{"$error":"#VALUE!"},{"$error":"#VALUE!"},{"$error":"#VALUE!"}]
[null,{"$f":"IF($O$1=\"x\",Kalkulacja!I48,\"\")","v":""},null,null,null,null,null,null,null,null,null,null,{"$f":"IF(Kalkulacja!$U$414>0,D49*L49*1.5,D49*L49)","v":0},null,{"$f":"IF(O48=0,0,1)","v":0},1]
[null,{"$f":"IF($O$1=\"x\",Kalkulacja!I49,\"\")","v":""},{"$f":"IF($O$1=\"x\",U50&\":\"&W50,\"\")","v":""},{"$f":"IF($O$1=\"x\",Kalkulacja!U49,\"\")","v":""},"",null,null,null,null,null,null,{"$f":"Kalkulacja!K49","v":0},{"$f":"IF(Kalkulacja!$U$414>0,D50*L50*1.5,D50*L50)","v":{"$error":"#VALUE!"}},{"$f":"INDEX(Kalkulacja!U:U,S50)","v":{"$error":"#N/A"}},0,1,null,null,{"$f":"MATCH(B50,Kalkulacja!I:I,0)","v":{"$error":"#N/A"}},null,0,0,"00",null,{"$error":"#VALUE!"},{"$error":"#VALUE!"},{"$error":"#VALUE!"}]
[null,{"$f":"IF($O$1=\"x\",Kalkulacja!I50,\"\")","v":""},null,null,null,null,null,null,null,null,null,null,{"$f":"IF(Kalkulacja!$U$414>0,D51*L51*1.5,D51*L51)","v":0},null,{"$f":"IF(O50=0,0,1)","v":0},1]
[null,{"$f":"IF($O$1=\"x\",Kalkulacja!I51,\"\")","v":""},{"$f":"IF($O$1=\"x\",U52&\":\"&W52,\"\")","v":""},{"$f":"IF($O$1=\"x\",Kalkulacja!U51,\"\")","v":""},"",null,null,null,null,null,null,{"$f":"Kalkulacja!K51","v":0},{"$f":"IF(Kalkulacja!$U$414>0,D52*L52*1.5,D52*L52)","v":{"$error":"#VALUE!"}},{"$f":"INDEX(Kalkulacja!U:U,S52)","v":{"$error":"#N/A"}},0,1,null,null,{"$f":"MATCH(B52,Kalkulacja!I:I,0)","v":{"$error":"#N/A"}},null,0,0,"00",null,{"$error":"#VALUE!"},{"$error":"#VALUE!"},{"$error":"#VALUE!"}]
[null,{"$f":"IF($O$1=\"x\",Kalkulacja!I52,\"\")","v":""},null,null,null,null,null,null,null,null,null,null,{"$f":"IF(Kalkulacja!$U$414>0,D53*L53*1.5,D53*L53)","v":0},null,{"$f":"IF(O52=0,0,1)","v":0},1]
[null,{"$f":"IF($O$1=\"x\",Kalkulacja!I53,\"\")","v":""},{"$f":"IF($O$1=\"x\",U54&\":\"&W54,\"\")","v":""},{"$f":"IF($O$1=\"x\",Kalkulacja!U53,\"\")","v":""},"",null,null,null,null,null,null,{"$f":"Kalkulacja!K53","v":0},{"$f":"IF(Kalkulacja!$U$414>0,D54*L54*1.5,D54*L54)","v":{"$error":"#VALUE!"}},{"$f":"INDEX(Kalkulacja!U:U,S54)","v":{"$error":"#N/A"}},0,1,null,null,{"$f":"MATCH(B54,Kalkulacja!I:I,0)","v":{"$error":"#N/A"}},null,0,0,"00",null,{"$error":"#VALUE!"},{"$error":"#VALUE!"},{"$error":"#VALUE!"}]
[null,{"$f":"IF($O$1=\"x\",Kalkulacja!I54,\"\")","v":""},null,null,null,null,null,null,null,null,null,null,{"$f":"IF(Kalkulacja!$U$414>0,D55*L55*1.5,D55*L55)","v":0},null,{"$f":"IF(O54=0,0,1)","v":0},1]
[null,{"$f":"IF($O$1=\"x\",Kalkulacja!I55,\"\")","v":""},{"$f":"IF($O$1=\"x\",U56&\":\"&W56,\"\")","v":""},{"$f":"IF($O$1=\"x\",Kalkulacja!U55,\"\")","v":""},"",null,null,null,null,null,null,{"$f":"Kalkulacja!K55","v":0},{"$f":"IF(Kalkulacja!$U$414>0,D56*L56*1.5,D56*L56)","v":{"$error":"#VALUE!"}},{"$f":"INDEX(Kalkulacja!U:U,S56)","v":{"$error":"#N/A"}},0,1,null,null,{"$f":"MATCH(B56,Kalkulacja!I:I,0)","v":{"$error":"#N/A"}},null,0,0,"00",null,{"$error":"#VALUE!"},{"$error":"#VALUE!"},{"$error":"#VALUE!"}]
[null,{"$f":"IF($O$1=\"x\",Kalkulacja!I56,\"\")","v":""},null,null,null,null,null,null,null,null,null,null,{"$f":"IF(Kalkulacja!$U$414>0,D57*L57*1.5,D57*L57)","v":0},null,{"$f":"IF(O56=0,0,1)","v":0},1]
[null,{"$f":"IF($O$1=\"x\",Kalkulacja!I57,\"\")","v":""},{"$f":"IF($O$1=\"x\",U58&\":\"&W58,\"\")","v":""},{"$f":"IF($O$1=\"x\",Kalkulacja!U57,\"\")","v":""},"",null,null,null,null,null,null,{"$f":"Kalkulacja!K57","v":0},{"$f":"IF(Kalkulacja!$U$414>0,D58*L58*1.5,D58*L58)","v":{"$error":"#VALUE!"}},{"$f":"INDEX(Kalkulacja!U:U,S58)","v":{"$error":"#N/A"}},0,1,null,null,{"$f":"MATCH(B58,Kalkulacja!I:I,0)","v":{"$error":"#N/A"}},null,0,0,"00",null,{"$error":"#VALUE!"},{"$error":"#VALUE!"},{"$error":"#VALUE!"}]
[null,{"$f":"IF($O$1=\"x\",Kalkulacja!I58,\"\")","v":""},null,null,null,null,null,null,null,null,null,null,{"$f":"IF(Kalkulacja!$U$414>0,D59*L59*1.5,D59*L59)","v":0},null,{"$f":"IF(O58=0,0,1)","v":0},1]
[null,{"$f":"IF($O$1=\"x\",Kalkulacja!I59,\"\")","v":""},{"$f":"IF($O$1=\"x\",U60&\":\"&W60,\"\")","v":""},{"$f":"IF($O$1=\"x\",Kalkulacja!U59,\"\")","v":""},"",null,null,null,null,null,null,{"$f":"Kalkulacja!K59","v":0},{"$f":"IF(Kalkulacja!$U$414>0,D60*L60*1.5,D60*L60)","v":{"$error":"#VALUE!"}},{"$f":"INDEX(Kalkulacja!U:U,S60)","v":{"$error":"#N/A"}},0,1,null,null,{"$f":"MATCH(B60,Kalkulacja!I:I,0)","v":{"$error":"#N/A"}},null,0,0,"00",null,{"$error":"#VALUE!"},{"$error":"#VALUE!"},{"$error":"#VALUE!"}]
[null,{"$f":"IF($O$1=\"x\",Kalkulacja!I60,\"\")","v":""},null,null,null,null,null,null,null,null,null,null,{"$f":"IF(Kalkulacja!$U$414>0,D61*L61*1.5,D61*L61)","v":0},null,{"$f":"IF(O60=0,0,1)","v":0},1]
[null,{"$f":"IF($O$1=\"x\",Kalkulacja!I61,\"\")","v":""},{"$f":"IF($O$1=\"x\",U62&\":\"&W62,\"\")","v":""},{"$f":"IF($O$1=\"x\",Kalkulacja!U61,\"\")","v":""},"",null,null,null,null,null,null,{"$f":"Kalkulacja!K61","v":0},{"$f":"IF(Kalkulacja!$U$414>0,D62*L62*1.5,D62*L62)","v":{"$error":"#VALUE!"}},{"$f":"INDEX(Kalkulacja!U:U,S62)","v":{"$error":"#N/A"}},0,1,null,null,{"$f":"MATCH(B62,Kalkulacja!I:I,0)","v":{"$error":"#N/A"}},null,0,0,"00",null,{"$error":"#VALUE!"},{"$error":"#VALUE!"},{"$error":"#VALUE!"}]
[null,{"$f":"IF($O$1=\"x\",Kalkulacja!I62,\"\")","v":""},null,null,null,null,null,null,null,null,null,null,{"$f":"IF(Kalkulacja!$U$414>0,D63*L63*1.5,D63*L63)","v":0},null,{"$f":"IF(O62=0,0,1)","v":0},1]
[null,{"$f":"IF($O$1=\"x\",Kalkulacja!I63,\"\")","v":""},{"$f":"IF($O$1=\"x\",U64&\":\"&W64,\"\")","v":""},{"$f":"IF($O$1=\"x\",Kalkulacja!U63,\"\")","v":""},"",null,null,null,null,null,null,{"$f":"Kalkulacja!K63","v":0},{"$f":"IF(Kalkulacja!$U$414>0,D64*L64*1.5,D64*L64)","v":{"$error":"#VALUE!"}},{"$f":"INDEX(Kalkulacja!U:U,S64)","v":{"$error":"#N/A"}},0,1,null,null,{"$f":"MATCH(B64,Kalkulacja!I:I,0)","v":{"$error":"#N/A"}},null,{"$f":"TRUNC(L64)","v":0},{"$f":"ROUND((L64-U64)*60,0)","v":0},"00",null,{"$f":"TRUNC(M64)","v":{"$error":"#VALUE!"}},{"$f":"ROUND((M64-Y64)*60,0)","v":{"$error":"#VALUE!"}},{"$error":"#VALUE!"}]
[null,{"$f":"IF($O$1=\"x\",Kalkulacja!I64,\"\")","v":""},null,null,null,null,null,null,null,null,null,null,{"$f":"IF(Kalkulacja!$U$414>0,D65*L65*1.5,D65*L65)","v":0},null,{"$f":"IF(O64=0,0,1)","v":0},1]
[null,{"$f":"IF($O$1=\"x\",Kalkulacja!I65,\"\")","v":""},{"$f":"IF($O$1=\"x\",U66&\":\"&W66,\"\")","v":""},{"$f":"IF($O$1=\"x\",Kalkulacja!U65,\"\")","v":""},"",null,null,null,null,null,null,{"$f":"Kalkulacja!K65","v":0.2},{"$f":"IF(Kalkulacja!$U$414>0,D66*L66*1.5,D66*L66)","v":{"$error":"#VALUE!"}},{"$f":"INDEX(Kalkulacja!U:U,S66)","v":{"$error":"#N/A"}},{"$error":"#N/A"},{"$error":"#N/A"},null,null,{"$f":"MATCH(B66,Kalkulacja!I:I,0)","v":{"$error":"#N/A"}},null,0,12,12,null,{"$error":"#VALUE!"},{"$error":"#VALUE!"},{"$error":"#VALUE!"}]
[null,{"$f":"IF($O$1=\"x\",Kalkulacja!I66,\"\")","v":""},"",{"$f":"IF($O$1=\"x\",Kalkulacja!U66,\"\")","v":""},"",null,null,null,null,null,null,{"$f":"Kalkulacja!K66","v":0.5},{"$f":"IF(Kalkulacja!$U$414>0,D67*L67*1.5,D67*L67)","v":{"$error":"#VALUE!"}},{"$f":"INDEX(Kalkulacja!U:U,S67)","v":{"$error":"#N/A"}},{"$error":"#N/A"},{"$error":"#N/A"},null,null,{"$f":"MATCH(B67,Kalkulacja!I:I,0)","v":{"$error":"#N/A"}},null,0,30,30,null,{"$error":"#VALUE!"},{"$error":"#VALUE!"},{"$error":"#VALUE!"}]
[null,{"$f":"IF($O$1=\"x\",Kalkulacja!I67,\"\")","v":""},{"$f":"IF($O$1=\"x\",U68&\":\"&W68,\"\")","v":""},{"$f":"IF($O$1=\"x\",Kalkulacja!U67,\"\")","v":""},"",null,null,null,null,null,null,{"$f":"Kalkulacja!K67","v":1},{"$f":"IF(Kalkulacja!$U$414>0,D68*L68*1.5,D68*L68)","v":{"$error":"#VALUE!"}},{"$f":"INDEX(Kalkulacja!U:U,S68)","v":{"$error":"#N/A"}},{"$error":"#N/A"},{"$error":"#N/A"},null,null,{"$f":"MATCH(B68,Kalkulacja!I:I,0)","v":{"$error":"#N/A"}},null,1,0,"00",null,{"$error":"#VALUE!"},{"$error":"#VALUE!"},{"$error":"#VALUE!"}]
[null,{"$f":"IF($O$1=\"x\",Kalkulacja!I68,\"\")","v":""},{"$f":"IF($O$1=\"x\",U69&\":\"&W69,\"\")","v":""},{"$f":"IF($O$1=\"x\",Kalkulacja!U68,\"\")","v":""},"",null,null,null,null,null,null,{"$f":"Kalkulacja!K68","v":0},{"$f":"IF(Kalkulacja!$U$414>0,D69*L69*1.5,D69*L69)","v":{"$error":"#VALUE!"}},{"$f":"INDEX(Kalkulacja!U:U,S69)","v":{"$error":"#N/A"}},0,1,null,null,{"$f":"MATCH(B69,Kalkulacja!I:I,0)","v":{"$error":"#N/A"}},null,0,0,"00",null,{"$error":"#VALUE!"},{"$f":"ROUND((M69-Y69)*60,0)","v":{"$error":"#VALUE!"}},{"$f":"IF(Z69<10,\"0\"&Z69,Z69)","v":{"$error":"#VALUE!"}}]
[null,{"$f":"IF($O$1=\"x\",Kalkulacja!I69,\"\")","v":""},"",{"$f":"IF($O$1=\"x\",Kalkulacja!U69,\"\")","v":""},"",null,null,null,null,null,null,{"$f":"Kalkulacja!K69","v":0},{"$f":"IF(Kalkulacja!$U$414>0,D70*L70*1.5,D70*L70)","v":{"$error":"#VALUE!"}},{"$f":"INDEX(Kalkulacja!U:U,S70)","v":{"$error":"#N/A"}},0,1,null,null,{"$f":"MATCH(B70,Kalkulacja!I:I,0)","v":{"$error":"#N/A"}},null,0,0,"00",null,{"$error":"#VALUE!"},{"$error":"#VALUE!"},{"$error":"#VALUE!"}]
[null,{"$f":"IF($O$1=\"x\",Kalkulacja!I70,\"\")","v":""},"",{"$f":"IF($O$1=\"x\",Kalkulacja!U70,\"\")","v":""},"",null,null,null,null,null,null,{"$f":"Kalkulacja!K70","v":2},{"$f":"IF(Kalkulacja!$U$414>0,D71*L71*1.5,D71*L71)","v":{"$error":"#VALUE!"}},{"$f":"INDEX(Kalkulacja!U:U,S71)","v":{"$error":"#N/A"}},{"$error":"#N/A"},{"$error":"#N/A"},null,null,{"$f":"MATCH(B71,Kalkulacja!I:I,0)","v":{"$error":"#N/A"}},null,2,0,"00",null,{"$error":"#VALUE!"},{"$error":"#VALUE!"},{"$error":"#VALUE!"}]
[null,{"$f":"IF($O$1=\"x\",Kalkulacja!I71,\"\")","v":""},"",{"$f":"IF($O$1=\"x\",Kalkulacja!U71,\"\")","v":""},"",null,null,null,null,null,null,{"$f":"Kalkulacja!K71","v":2},{"$f":"IF(Kalkulacja!$U$414>0,D72*L72*1.5,D72*L72)","v":{"$error":"#VALUE!"}},{"$f":"INDEX(Kalkulacja!U:U,S72)","v":{"$error":"#N/A"}},{"$error":"#N/A"},{"$error":"#N/A"},null,null,{"$f":"MATCH(B72,Kalkulacja!I:I,0)","v":{"$error":"#N/A"}},null,2,0,"00",null,{"$error":"#VALUE!"},{"$error":"#VALUE!"},{"$error":"#VALUE!"}]
[null,{"$f":"IF($O$1=\"x\",Kalkulacja!I72,\"\")","v":""},"",{"$f":"IF($O$1=\"x\",Kalkulacja!U72,\"\")","v":""},"",null,null,null,null,null,null,{"$f":"Kalkulacja!K72","v":2},{"$f":"IF(Kalkulacja!$U$414>0,D73*L73*1.5,D73*L73)","v":{"$error":"#VALUE!"}},{"$f":"INDEX(Kalkulacja!U:U,S73)","v":{"$error":"#N/A"}},{"$error":"#N/A"},{"$error":"#N/A"},null,null,{"$f":"MATCH(B73,Kalkulacja!I:I,0)","v":{"$error":"#N/A"}},null,2,0,"00",null,{"$error":"#VALUE!"},{"$error":"#VALUE!"},{"$error":"#VALUE!"}]
[null,{"$f":"IF($O$1=\"x\",Kalkulacja!I73,\"\")","v":""},"",{"$f":"IF($O$1=\"x\",Kalkulacja!U73,\"\")","v":""},"",null,null,null,null,null,null,{"$f":"Kalkulacja!K73","v":2},{"$f":"IF(Kalkulacja!$U$414>0,D74*L74*1.5,D74*L74)","v":{"$error":"#VALUE!"}},{"$f":"INDEX(Kalkulacja!U:U,S74)","v":{"$error":"#N/A"}},{"$f":"IF(L74>0,IF(N74>0,1,0),0)","v":{"$error":"#N/A"}},{"$error":"#N/A"},null,null,{"$f":"MATCH(B74,Kalkulacja!I:I,0)","v":{"$error":"#N/A"}},null,2,0,"00",null,{"$error":"#VALUE!"},{"$error":"#VALUE!"},{"$error":"#VALUE!"}]
[null,{"$f":"IF($O$1=\"x\",Kalkulacja!I74,\"\")","v":""},"",{"$f":"IF($O$1=\"x\",Kalkulacja!U74,\"\")","v":""},"",null,null,null,null,null,null,{"$f":"Kalkulacja!K74","v":3},{"$f":"IF(Kalkulacja!$U$414>0,D75*L75*1.5,D75*L75)","v":{"$error":"#VALUE!"}},{"$f":"INDEX(Kalkulacja!U:U,S75)","v":{"$error":"#N/A"}},{"$error":"#N/A"},{"$error":"#N/A"},null,null,{"$f":"MATCH(B75,Kalkulacja!I:I,0)","v":{"$error":"#N/A"}},null,3,0,"00",null,{"$error":"#VALUE!"},{"$error":"#VALUE!"},{"$error":"#VALUE!"}]
[null,{"$f":"IF($O$1=\"x\",Kalkulacja!I75,\"\")","v":""},"",{"$f":"IF($O$1=\"x\",Kalkulacja!U75,\"\")","v":""},"",null,null,null,null,null,null,{"$f":"Kalkulacja!K75","v":1},{"$f":"IF(Kalkulacja!$U$414>0,D76*L76*1.5,D76*L76)","v":{"$error":"#VALUE!"}},{"$f":"INDEX(Kalkulacja!U:U,S76)","v":{"$error":"#N/A"}},{"$error":"#N/A"},{"$error":"#N/A"},null,null,{"$f":"MATCH(B76,Kalkulacja!I:I,0)","v":{"$error":"#N/A"}},null,1,0,"00",null,{"$error":"#VALUE!"},{"$error":"#VALUE!"},{"$error":"#VALUE!"}]
[null,{"$f":"IF($O$1=\"x\",Kalkulacja!I76,\"\")","v":""},"",{"$f":"IF($O$1=\"x\",Kalkulacja!U76,\"\")","v":""},"",null,null,null,null,null,null,{"$f":"Kalkulacja!K76","v":0},{"$f":"IF(Kalkulacja!$U$414>0,D77*L77*1.5,D77*L77)","v":{"$error":"#VALUE!"}},{"$f":"INDEX(Kalkulacja!U:U,S77)","v":{"$error":"#N/A"}},0,1,null,null,{"$f":"MATCH(B77,Kalkulacja!I:I,0)","v":{"$error":"#N/A"}},null,0,0,"00",null,{"$error":"#VALUE!"},{"$error":"#VALUE!"},{"$error":"#VALUE!"}]
[null,{"$f":"IF($O$1=\"x\",Kalkulacja!I77,\"\")","v":""},"",{"$f":"IF($O$1=\"x\",Kalkulacja!U77,\"\")","v":""},"",null,null,null,null,null,null,{"$f":"Kalkulacja!K77","v":0.5},{"$f":"IF(Kalkulacja!$U$414>0,D78*L78*1.5,D78*L78)","v":{"$error":"#VALUE!"}},{"$f":"INDEX(Kalkulacja!U:U,S78)","v":{"$error":"#N/A"}},{"$error":"#N/A"},{"$error":"#N/A"},null,null,{"$f":"MATCH(B78,Kalkulacja!I:I,0)","v":{"$error":"#N/A"}},null,0,30,30,null,{"$error":"#VALUE!"},{"$error":"#VALUE!"},{"$error":"#VALUE!"}]
[null,{"$f":"IF($O$1=\"x\",Kalkulacja!I78,\"\")","v":""},"",{"$f":"IF($O$1=\"x\",Kalkulacja!U78,\"\")","v":""},"",null,null,null,null,null,null,{"$f":"Kalkulacja!K78","v":2},{"$f":"IF(Kalkulacja!$U$414>0,D79*L79*1.5,D79*L79)","v":{"$error":"#VALUE!"}},{"$f":"INDEX(Kalkulacja!U:U,S79)","v":{"$error":"#N/A"}},{"$error":"#N/A"},{"$error":"#N/A"},null,null,{"$f":"MATCH(B79,Kalkulacja!I:I,0)","v":{"$error":"#N/A"}},null,2,0,"00",null,{"$error":"#VALUE!"},{"$error":"#VALUE!"},{"$error":"#VALUE!"}]
[null,{"$f":"IF($O$1=\"x\",Kalkulacja!I79,\"\")","v":""},"",{"$f":"IF($O$1=\"x\",Kalkulacja!U79,\"\")","v":""},"",null,null,null,null,null,null,{"$f":"Kalkulacja!K79","v":0},{"$f":"IF(Kalkulacja!$U$414>0,D80*L80*1.5,D80*L80)","v":{"$error":"#VALUE!"}},{"$f":"INDEX(Kalkulacja!U:U,S80)","v":{"$error":"#N/A"}},0,1,null,null,{"$f":"MATCH(B80,Kalkulacja!I:I,0)","v":{"$error":"#N/A"}},null,0,0,"00",null,{"$error":"#VALUE!"},{"$error":"#VALUE!"},{"$error":"#VALUE!"}]
[null,{"$f":"IF($O$1=\"x\",Kalkulacja!I80,\"\")","v":""},"",{"$f":"IF($O$1=\"x\",Kalkulacja!U80,\"\")","v":""},"",null,null,null,null,null,null,{"$f":"Kalkulacja!K80","v":0},{"$f":"IF(Kalkulacja!$U$414>0,D81*L81*1.5,D81*L81)","v":{"$error":"#VALUE!"}},{"$f":"INDEX(Kalkulacja!U:U,S81)","v":{"$error":"#N/A"}},0,1,null,null,{"$f":"MATCH(B81,Kalkulacja!I:I,0)","v":{"$error":"#N/A"}},null,0,0,"00",null,{"$error":"#VALUE!"},{"$error":"#VALUE!"},{"$error":"#VALUE!"}]
[null,{"$f":"IF($O$1=\"x\",Kalkulacja!I81,\"\")","v":""},"",{"$f":"IF($O$1=\"x\",Kalkulacja!U81,\"\")","v":""},"",null,null,null,null,null,null,{"$f":"Kalkulacja!K81","v":0.4},{"$f":"IF(Kalkulacja!$U$414>0,D82*L82*1.5,D82*L82)","v":{"$error":"#VALUE!"}},{"$f":"INDEX(Kalkulacja!U:U,S82)","v":{"$error":"#N/A"}},{"$error":"#N/A"},{"$error":"#N/A"},null,null,{"$f":"MATCH(B82,Kalkulacja!I:I,0)","v":{"$error":"#N/A"}},null,0,24,24,null,{"$error":"#VALUE!"},{"$error":"#VALUE!"},{"$error":"#VALUE!"}]
[null,{"$f":"IF($O$1=\"x\",Kalkulacja!I82,\"\")","v":""},"",{"$f":"IF($O$1=\"x\",Kalkulacja!U82,\"\")","v":""},"",null,null,null,null,null,null,{"$f":"Kalkulacja!K82","v":0.2},{"$f":"IF(Kalkulacja!$U$414>0,D83*L83*1.5,D83*L83)","v":{"$error":"#VALUE!"}},{"$f":"INDEX(Kalkulacja!U:U,S83)","v":{"$error":"#N/A"}},{"$error":"#N/A"},{"$error":"#N/A"},null,null,{"$f":"MATCH(B83,Kalkulacja!I:I,0)","v":{"$error":"#N/A"}},null,0,12,12,null,{"$error":"#VALUE!"},{"$error":"#VALUE!"},{"$error":"#VALUE!"}]
[null,{"$f":"IF($O$1=\"x\",Kalkulacja!I83,\"\")","v":""},"",{"$f":"IF($O$1=\"x\",Kalkulacja!U83,\"\")","v":""},"",null,null,null,null,null,null,{"$f":"Kalkulacja!K83","v":0.4},{"$f":"IF(Kalkulacja!$U$414>0,D84*L84*1.5,D84*L84)","v":{"$error":"#VALUE!"}},{"$f":"INDEX(Kalkulacja!U:U,S84)","v":{"$error":"#N/A"}},{"$error":"#N/A"},{"$error":"#N/A"},null,null,{"$f":"MATCH(B84,Kalkulacja!I:I,0)","v":{"$error":"#N/A"}},null,0,24,24,null,{"$error":"#VALUE!"},{"$error":"#VALUE!"},{"$error":"#VALUE!"}]
[null,{"$f":"IF($O$1=\"x\",Kalkulacja!I84,\"\")","v":""},"",{"$f":"IF($O$1=\"x\",Kalkulacja!U84,\"\")","v":""},"",null,null,null,null,null,null,{"$f":"Kalkulacja!K84","v":2},{"$f":"IF(Kalkulacja!$U$414>0,D85*L85*1.5,D85*L85)","v":{"$error":"#VALUE!"}},{"$f":"INDEX(Kalkulacja!U:U,S85)","v":{"$error":"#N/A"}},{"$error":"#N/A"},{"$error":"#N/A"},null,null,{"$f":"MATCH(B85,Kalkulacja!I:I,0)","v":{"$error":"#N/A"}},null,2,0,"00",null,{"$error":"#VALUE!"},{"$error":"#VALUE!"},{"$error":"#VALUE!"}]
[null,{"$f":"IF($O$1=\"x\",Kalkulacja!I85,\"\")","v":""},"",{"$f":"IF($O$1=\"x\",Kalkulacja!U85,\"\")","v":""},{"$f":"IF($O$1=\"x\",Y86&\":\"&AA86,\"\")","v":""},null,null,null,null,null,null,{"$f":"Kalkulacja!K85","v":0},{"$f":"IF(Kalkulacja!$U$414>0,D86*L86*1.5,D86*L86)","v":{"$error":"#VALUE!"}},{"$f":"INDEX(Kalkulacja!U:U,S86)","v":{"$error":"#N/A"}},0,1,null,null,{"$f":"MATCH(B86,Kalkulacja!I:I,0)","v":{"$error":"#N/A"}},null,0,0,"00",null,{"$error":"#VALUE!"},{"$error":"#VALUE!"},{"$error":"#VALUE!"}]
[null,{"$f":"IF($O$1=\"x\",Kalkulacja!I86,\"\")","v":""},"",{"$f":"IF($O$1=\"x\",Kalkulacja!U86,\"\")","v":""},"",null,null,null,null,null,null,{"$f":"Kalkulacja!K86","v":1},{"$f":"IF(Kalkulacja!$U$414>0,D87*L87*1.5,D87*L87)","v":{"$error":"#VALUE!"}},{"$f":"INDEX(Kalkulacja!U:U,S87)","v":{"$error":"#N/A"}},{"$error":"#N/A"},{"$error":"#N/A"},null,null,{"$f":"MATCH(B87,Kalkulacja!I:I,0)","v":{"$error":"#N/A"}},null,1,0,"00",null,{"$error":"#VALUE!"},{"$error":"#VALUE!"},{"$error":"#VALUE!"}]
[null,{"$f":"IF($O$1=\"x\",Kalkulacja!I87,\"\")","v":""},"",{"$f":"IF($O$1=\"x\",Kalkulacja!U87,\"\")","v":""},"",null,null,null,null,null,null,{"$f":"Kalkulacja!K87","v":1},{"$f":"IF(Kalkulacja!$U$414>0,D88*L88*1.5,D88*L88)","v":{"$error":"#VALUE!"}},{"$f":"INDEX(Kalkulacja!U:U,S88)","v":{"$error":"#N/A"}},{"$error":"#N/A"},{"$error":"#N/A"},null,null,{"$f":"MATCH(B88,Kalkulacja!I:I,0)","v":{"$error":"#N/A"}},null,1,0,"00",null,{"$error":"#VALUE!"},{"$error":"#VALUE!"},{"$error":"#VALUE!"}]
[null,{"$f":"IF($O$1=\"x\",Kalkulacja!I88,\"\")","v":""},"",{"$f":"IF($O$1=\"x\",Kalkulacja!U88,\"\")","v":""},"",null,null,null,null,null,null,{"$f":"Kalkulacja!K88","v":1},{"$f":"IF(Kalkulacja!$U$414>0,D89*L89*1.5,D89*L89)","v":{"$error":"#VALUE!"}},{"$f":"INDEX(Kalkulacja!U:U,S89)","v":{"$error":"#N/A"}},{"$error":"#N/A"},{"$error":"#N/A"},null,null,{"$f":"MATCH(B89,Kalkulacja!I:I,0)","v":{"$error":"#N/A"}},null,1,0,"00",null,{"$error":"#VALUE!"},{"$error":"#VALUE!"},{"$error":"#VALUE!"}]
[null,{"$f":"IF($O$1=\"x\",Kalkulacja!I89,\"\")","v":""},"",{"$f":"IF($O$1=\"x\",Kalkulacja!U89,\"\")","v":""},"",null,null,null,null,null,null,{"$f":"Kalkulacja!K89","v":0.5},{"$f":"IF(Kalkulacja!$U$414>0,D90*L90*1.5,D90*L90)","v":{"$error":"#VALUE!"}},{"$f":"INDEX(Kalkulacja!U:U,S90)","v":{"$error":"#N/A"}},{"$error":"#N/A"},{"$error":"#N/A"},null,null,{"$f":"MATCH(B90,Kalkulacja!I:I,0)","v":{"$error":"#N/A"}},null,0,30,30,null,{"$error":"#VALUE!"},{"$error":"#VALUE!"},{"$error":"#VALUE!"}]
[null,{"$f":"IF($O$1=\"x\",Kalkulacja!I90,\"\")","v":""},"",{"$f":"IF($O$1=\"x\",Kalkulacja!U90,\"\")","v":""},"",null,null,null,null,null,null,{"$f":"Kalkulacja!K90","v":1},{"$f":"IF(Kalkulacja!$U$414>0,D91*L91*1.5,D91*L91)","v":{"$error":"#VALUE!"}},{"$f":"INDEX(Kalkulacja!U:U,S91)","v":{"$error":"#N/A"}},{"$error":"#N/A"},{"$error":"#N/A"},null,null,{"$f":"MATCH(B91,Kalkulacja!I:I,0)","v":{"$error":"#N/A"}},null,1,0,"00",null,{"$error":"#VALUE!"},{"$error":"#VALUE!"},{"$error":"#VALUE!"}]
[null,{"$f":"IF($O$1=\"x\",Kalkulacja!I91,\"\")","v":""},"",{"$f":"IF($O$1=\"x\",Kalkulacja!U91,\"\")","v":""},"",null,null,null,null,null,null,{"$f":"Kalkulacja!K91","v":2},{"$f":"IF(Kalkulacja!$U$414>0,D92*L92*1.5,D92*L92)","v":{"$error":"#VALUE!"}},{"$f":"INDEX(Kalkulacja!U:U,S92)","v":{"$error":"#N/A"}},{"$error":"#N/A"},{"$error":"#N/A"},null,null,{"$f":"MATCH(B92,Kalkulacja!I:I,0)","v":{"$error":"#N/A"}},null,2,0,"00",null,{"$error":"#VALUE!"},{"$error":"#VALUE!"},{"$error":"#VALUE!"}]
[null,{"$f":"IF($O$1=\"x\",Kalkulacja!I92,\"\")","v":""},"",{"$f":"IF($O$1=\"x\",Kalkulacja!U92,\"\")","v":""},"",null,null,null,null,null,null,{"$f":"Kalkulacja!K92","v":2},{"$f":"IF(Kalkulacja!$U$414>0,D93*L93*1.5,D93*L93)","v":{"$error":"#VALUE!"}},{"$f":"INDEX(Kalkulacja!U:U,S93)","v":{"$error":"#N/A"}},{"$error":"#N/A"},{"$error":"#N/A"},null,null,{"$f":"MATCH(B93,Kalkulacja!I:I,0)","v":{"$error":"#N/A"}},null,2,0,"00",null,{"$error":"#VALUE!"},{"$error":"#VALUE!"},{"$error":"#VALUE!"}]
[null,{"$f":"IF($O$1=\"x\",Kalkulacja!I93,\"\")","v":""},"",{"$f":"IF($O$1=\"x\",Kalkulacja!U93,\"\")","v":""},"",null,null,null,null,null,null,{"$f":"Kalkulacja!K93","v":2},{"$f":"IF(Kalkulacja!$U$414>0,D94*L94*1.5,D94*L94)","v":{"$error":"#VALUE!"}},{"$f":"INDEX(Kalkulacja!U:U,S94)","v":{"$error":"#N/A"}},{"$error":"#N/A"},{"$error":"#N/A"},null,null,{"$f":"MATCH(B94,Kalkulacja!I:I,0)","v":{"$error":"#N/A"}},null,2,0,"00",null,{"$error":"#VALUE!"},{"$error":"#VALUE!"},{"$error":"#VALUE!"}]
[null,{"$f":"IF($O$1=\"x\",Kalkulacja!I94,\"\")","v":""},"",{"$f":"IF($O$1=\"x\",Kalkulacja!U94,\"\")","v":""},"",null,null,null,null,null,null,{"$f":"Kalkulacja!K94","v":0},{"$f":"IF(Kalkulacja!$U$414>0,D95*L95*1.5,D95*L95)","v":{"$error":"#VALUE!"}},{"$f":"INDEX(Kalkulacja!U:U,S95)","v":{"$error":"#N/A"}},0,{"$f":"IF(O95=1,0,1)","v":1},null,null,{"$f":"MATCH(B95,Kalkulacja!I:I,0)","v":{"$error":"#N/A"}},null,0,0,"00",null,{"$error":"#VALUE!"},{"$error":"#VALUE!"},{"$error":"#VALUE!"}]
[null,{"$f":"IF($O$1=\"x\",Kalkulacja!I95,\"\")","v":""},"",{"$f":"IF($O$1=\"x\",Kalkulacja!U95,\"\")","v":""},"",null,null,null,null,null,null,{"$f":"Kalkulacja!K95","v":0},{"$f":"IF(Kalkulacja!$U$414>0,D96*L96*1.5,D96*L96)","v":{"$error":"#VALUE!"}},{"$f":"INDEX(Kalkulacja!U:U,S96)","v":{"$error":"#N/A"}},0,1,null,null,{"$f":"MATCH(B96,Kalkulacja!I:I,0)","v":{"$error":"#N/A"}},null,0,0,"00",null,{"$error":"#VALUE!"},{"$error":"#VALUE!"},{"$error":"#VALUE!"}]
[null,{"$f":"IF($O$1=\"x\",Kalkulacja!I96,\"\")","v":""},"",{"$f":"IF($O$1=\"x\",Kalkulacja!U96,\"\")","v":""},"",null,null,null,null,null,null,{"$f":"Kalkulacja!K96","v":0},{"$f":"IF(Kalkulacja!$U$414>0,D97*L97*1.5,D97*L97)","v":{"$error":"#VALUE!"}},{"$f":"INDEX(Kalkulacja!U:U,S97)","v":{"$error":"#N/A"}},0,1,null,null,{"$f":"MATCH(B97,Kalkulacja!I:I,0)","v":{"$error":"#N/A"}},null,0,0,"00",null,{"$error":"#VALUE!"},{"$error":"#VALUE!"},{"$error":"#VALUE!"}]
[null,{"$f":"IF($O$1=\"x\",Kalkulacja!I97,\"\")","v":""},"",{"$f":"IF($O$1=\"x\",Kalkulacja!U97,\"\")","v":""},"",null,null,null,null,null,null,{"$f":"Kalkulacja!K97","v":0},{"$f":"IF(Kalkulacja!$U$414>0,D98*L98*1.5,D98*L98)","v":{"$error":"#VALUE!"}},{"$f":"INDEX(Kalkulacja!U:U,S98)","v":{"$error":"#N/A"}},0,1,null,null,{"$f":"MATCH(B98,Kalkulacja!I:I,0)","v":{"$error":"#N/A"}},null,0,0,"00",null,{"$error":"#VALUE!"},{"$error":"#VALUE!"},{"$error":"#VALUE!"}]
[null,{"$f":"IF($O$1=\"x\",Kalkulacja!I98,\"\")","v":""},null,null,null,null,null,null,null,null,null,{"$f":"Kalkulacja!K98","v":0},{"$f":"IF(Kalkulacja!$U$414>0,D99*L99*1.5,D99*L99)","v":0},{"$f":"INDEX(Kalkulacja!U:U,S99)","v":{"$error":"#N/A"}},{"$f":"IF(SUM(O100:O104)>0,1,0)","v":{"$error":"#N/A"}},{"$error":"#N/A"},null,{"$f":"IF($O$1=\"x\",\"y\",\"\")","v":""},{"$f":"MATCH(B99,Kalkulacja!I:I,0)","v":{"$error":"#N/A"}},null,0,0,"00",null,0,0,"00"]
[null,{"$f":"IF($O$1=\"x\",Kalkulacja!I99,\"\")","v":""},"",{"$f":"IF($O$1=\"x\",Kalkulacja!U99,\"\")","v":""},"",null,null,null,null,null,null,{"$f":"Kalkulacja!K99","v":0.2},{"$f":"IF(Kalkulacja!$U$414>0,D100*L100*1.5,D100*L100)","v":{"$error":"#VALUE!"}},{"$f":"INDEX(Kalkulacja!U:U,S100)","v":{"$error":"#N/A"}},{"$f":"IF(L100>0,IF(N100>0,1,0),0)","v":{"$error":"#N/A"}},{"$error":"#N/A"},null,null,{"$f":"MATCH(B100,Kalkulacja!I:I,0)","v":{"$error":"#N/A"}},null,0,12,12,null,{"$error":"#VALUE!"},{"$error":"#VALUE!"},{"$error":"#VALUE!"}]
[null,{"$f":"IF($O$1=\"x\",Kalkulacja!I100,\"\")","v":""},"",{"$f":"IF($O$1=\"x\",Kalkulacja!U100,\"\")","v":""},"",null,null,null,null,null,null,{"$f":"Kalkulacja!K100","v":0.1},{"$f":"IF(Kalkulacja!$U$414>0,D101*L101*1.5,D101*L101)","v":{"$error":"#VALUE!"}},{"$f":"INDEX(Kalkulacja!U:U,S101)","v":{"$error":"#N/A"}},{"$f":"IF(L101>0,IF(N101>0,1,0),0)","v":{"$error":"#N/A"}},{"$error":"#N/A"},null,null,{"$f":"MATCH(B101,Kalkulacja!I:I,0)","v":{"$error":"#N/A"}},null,0,6,"06",null,{"$error":"#VALUE!"},{"$error":"#VALUE!"},{"$error":"#VALUE!"}]
[null,{"$f":"IF($O$1=\"x\",Kalkulacja!I101,\"\")","v":""},"",{"$f":"IF($O$1=\"x\",Kalkulacja!U101,\"\")","v":""},"",null,null,null,null,null,null,{"$f":"Kalkulacja!K101","v":1},{"$f":"IF(Kalkulacja!$U$414>0,D102*L102*1.5,D102*L102)","v":{"$error":"#VALUE!"}},{"$f":"INDEX(Kalkulacja!U:U,S102)","v":{"$error":"#N/A"}},{"$f":"IF(L102>0,IF(N102>0,1,0),0)","v":{"$error":"#N/A"}},{"$error":"#N/A"},null,null,{"$f":"MATCH(B102,Kalkulacja!I:I,0)","v":{"$error":"#N/A"}},null,1,0,"00",null,{"$error":"#VALUE!"},{"$error":"#VALUE!"},{"$error":"#VALUE!"}]
[null,{"$f":"IF($O$1=\"x\",Kalkulacja!I102,\"\")","v":""},"",{"$f":"IF($O$1=\"x\",Kalkulacja!U102,\"\")","v":""},"",null,null,null,null,null,null,{"$f":"Kalkulacja!K102","v":0},{"$f":"IF(Kalkulacja!$U$414>0,D103*L103*1.5,D103*L103)","v":{"$error":"#VALUE!"}},{"$f":"INDEX(Kalkulacja!U:U,S103)","v":{"$error":"#N/A"}},{"$f":"IF(L103>0,IF(N103>0,1,0),0)","v":0},1,null,null,{"$f":"MATCH(B103,Kalkulacja!I:I,0)","v":{"$error":"#N/A"}},null,0,0,"00",null,{"$error":"#VALUE!"},{"$error":"#VALUE!"},{"$error":"#VALUE!"}]
[null,{"$f":"IF($O$1=\"x\",Kalkulacja!I103,\"\")","v":""},"",{"$f":"IF($O$1=\"x\",Kalkulacja!U103,\"\")","v":""},"",null,null,null,null,null,null,{"$f":"Kalkulacja!K103","v":0},{"$f":"IF(Kalkulacja!$U$414>0,D104*L104*1.5,D104*L104)","v":{"$error":"#VALUE!"}},{"$f":"INDEX(Kalkulacja!U:U,S104)","v":{"$error":"#N/A"}},{"$f":"IF(L104>0,IF(N104>0,1,0),0)","v":0},1,null,null,{"$f":"MATCH(B104,Kalkulacja!I:I,0)","v":{"$error":"#N/A"}},null,0,0,"00",null,{"$error":"#VALUE!"},{"$error":"#VALUE!"},{"$error":"#VALUE!"}]
[null,{"$f":"IF($O$1=\"x\",Kalkulacja!I104,\"\")","v":""},null,null,null,null,null,null,null,null,null,{"$f":"Kalkulacja!K104","v":0},{"$f":"IF(Kalkulacja!$U$414>0,D105*L105*1.5,D105*L105)","v":0},{"$f":"INDEX(Kalkulacja!U:U,S105)","v":{"$error":"#N/A"}},{"$f":"IF(SUM(O106:O116)>0,1,0)","v":{"$error":"#N/A"}},{"$error":"#N/A"},null,{"$f":"IF($O$1=\"x\",\"y\",\"\")","v":""},{"$f":"MATCH(B105,Kalkulacja!I:I,0)","v":{"$error":"#N/A"}},null,0,0,"00",null,0,0,"00"]
[null,{"$f":"IF($O$1=\"x\",Kalkulacja!I105,\"\")","v":""},"",{"$f":"IF($O$1=\"x\",Kalkulacja!U105,\"\")","v":""},"",null,null,null,null,null,null,{"$f":"Kalkulacja!K105","v":0.3},{"$f":"IF(Kalkulacja!$U$414>0,D106*L106*1.5,D106*L106)","v":{"$error":"#VALUE!"}},{"$f":"INDEX(Kalkulacja!U:U,S106)","v":{"$error":"#N/A"}},{"$f":"IF(L106>0,IF(N106>0,1,0),0)","v":{"$error":"#N/A"}},{"$error":"#N/A"},null,null,{"$f":"MATCH(B106,Kalkulacja!I:I,0)","v":{"$error":"#N/A"}},null,0,18,18,null,{"$error":"#VALUE!"},{"$error":"#VALUE!"},{"$error":"#VALUE!"}]
[null,{"$f":"IF($O$1=\"x\",Kalkulacja!I106,\"\")","v":""},"",{"$f":"IF($O$1=\"x\",Kalkulacja!U106,\"\")","v":""},"",null,null,null,null,null,null,{"$f":"Kalkulacja!K106","v":0.3},{"$f":"IF(Kalkulacja!$U$414>0,D107*L107*1.5,D107*L107)","v":{"$error":"#VALUE!"}},{"$f":"INDEX(Kalkulacja!U:U,S107)","v":{"$error":"#N/A"}},{"$error":"#N/A"},{"$error":"#N/A"},null,null,{"$f":"MATCH(B107,Kalkulacja!I:I,0)","v":{"$error":"#N/A"}},null,0,18,18,null,{"$error":"#VALUE!"},{"$error":"#VALUE!"},{"$error":"#VALUE!"}]
[null,{"$f":"IF($O$1=\"x\",Kalkulacja!I107,\"\")","v":""},"",{"$f":"IF($O$1=\"x\",Kalkulacja!U107,\"\")","v":""},"",null,null,null,null,null,null,{"$f":"Kalkulacja!K107","v":0.4},{"$f":"IF(Kalkulacja!$U$414>0,D108*L108*1.5,D108*L108)","v":{"$error":"#VALUE!"}},{"$f":"INDEX(Kalkulacja!U:U,S108)","v":{"$error":"#N/A"}},{"$error":"#N/A"},{"$error":"#N/A"},null,null,{"$f":"MATCH(B108,Kalkulacja!I:I,0)","v":{"$error":"#N/A"}},null,0,24,24,null,{"$error":"#VALUE!"},{"$error":"#VALUE!"},{"$error":"#VALUE!"}]
[null,{"$f":"IF($O$1=\"x\",Kalkulacja!I108,\"\")","v":""},"",{"$f":"IF($O$1=\"x\",Kalkulacja!U108,\"\")","v":""},"",null,null,null,null,null,null,{"$f":"Kalkulacja!K108","v":0.2},{"$f":"IF(Kalkulacja!$U$414>0,D109*L109*1.5,D109*L109)","v":{"$error":"#VALUE!"}},{"$f":"INDEX(Kalkulacja!U:U,S109)","v":{"$error":"#N/A"}},{"$error":"#N/A"},{"$error":"#N/A"},null,null,{"$f":"MATCH(B109,Kalkulacja!I:I,0)","v":{"$error":"#N/A"}},null,0,12,12,null,{"$error":"#VALUE!"},{"$error":"#VALUE!"},{"$error":"#VALUE!"}]
[null,{"$f":"IF($O$1=\"x\",Kalkulacja!I109,\"\")","v":""},"",{"$f":"IF($O$1=\"x\",Kalkulacja!U109,\"\")","v":""},"",null,null,null,null,null,null,{"$f":"Kalkulacja!K109","v":1},{"$f":"IF(Kalkulacja!$U$414>0,D110*L110*1.5,D110*L110)","v":{"$error":"#VALUE!"}},{"$f":"INDEX(Kalkulacja!U:U,S110)","v":{"$error":"#N/A"}},{"$error":"#N/A"},{"$error":"#N/A"},null,null,{"$f":"MATCH(B110,Kalkulacja!I:I,0)","v":{"$error":"#N/A"}},null,1,0,"00",null,{"$error":"#VALUE!"},{"$error":"#VALUE!"},{"$error":"#VALUE!"}]
[null,{"$f":"IF($O$1=\"x\",Kalkulacja!I110,\"\")","v":""},"",{"$f":"IF($O$1=\"x\",Kalkulacja!U110,\"\")","v":""},"",null,null,null,null,null,null,{"$f":"Kalkulacja!K110","v":1},{"$f":"IF(Kalkulacja!$U$414>0,D111*L111*1.5,D111*L111)","v":{"$error":"#VALUE!"}},{"$f":"INDEX(Kalkulacja!U:U,S111)","v":{"$error":"#N/A"}},{"$error":"#N/A"},{"$error":"#N/A"},null,null,{"$f":"MATCH(B111,Kalkulacja!I:I,0)","v":{"$error":"#N/A"}},null,1,0,"00",null,{"$error":"#VALUE!"},{"$error":"#VALUE!"},{"$error":"#VALUE!"}]
[null,{"$f":"IF($O$1=\"x\",Kalkulacja!I111,\"\")","v":""},"",{"$f":"IF($O$1=\"x\",Kalkulacja!U111,\"\")","v":""},"",null,null,null,null,null,null,{"$f":"Kalkulacja!K111","v":1},{"$f":"IF(Kalkulacja!$U$414>0,D112*L112*1.5,D112*L112)","v":{"$error":"#VALUE!"}},{"$f":"INDEX(Kalkulacja!U:U,S112)","v":{"$error":"#N/A"}},{"$error":"#N/A"},{"$error":"#N/A"},null,null,{"$f":"MATCH(B112,Kalkulacja!I:I,0)","v":{"$error":"#N/A"}},null,1,0,"00",null,{"$error":"#VALUE!"},{"$error":"#VALUE!"},{"$error":"#VALUE!"}]
[null,{"$f":"IF($O$1=\"x\",Kalkulacja!I112,\"\")","v":""},"",{"$f":"IF($O$1=\"x\",Kalkulacja!U112,\"\")","v":""},"",null,null,null,null,null,null,{"$f":"Kalkulacja!K112","v":1},{"$f":"IF(Kalkulacja!$U$414>0,D113*L113*1.5,D113*L113)","v":{"$error":"#VALUE!"}},{"$f":"INDEX(Kalkulacja!U:U,S113)","v":{"$error":"#N/A"}},{"$error":"#N/A"},{"$error":"#N/A"},null,null,{"$f":"MATCH(B113,Kalkulacja!I:I,0)","v":{"$error":"#N/A"}},null,1,0,"00",null,{"$error":"#VALUE!"},{"$error":"#VALUE!"},{"$error":"#VALUE!"}]
[null,{"$f":"IF($O$1=\"x\",Kalkulacja!I113,\"\")","v":""},"",{"$f":"IF($O$1=\"x\",Kalkulacja!U113,\"\")","v":""},"",null,null,null,null,null,null,{"$f":"Kalkulacja!K113","v":0},{"$f":"IF(Kalkulacja!$U$414>0,D114*L114*1.5,D114*L114)","v":{"$error":"#VALUE!"}},{"$f":"INDEX(Kalkulacja!U:U,S114)","v":{"$error":"#N/A"}},0,1,null,null,{"$f":"MATCH(B114,Kalkulacja!I:I,0)","v":{"$error":"#N/A"}},null,0,0,{"$f":"IF(V114<10,\"0\"&V114,V114)","v":"00"},null,{"$error":"#VALUE!"},{"$error":"#VALUE!"},{"$f":"IF(Z114<10,\"0\"&Z114,Z114)","v":{"$error":"#VALUE!"}}]
[null,{"$f":"IF($O$1=\"x\",Kalkulacja!I114,\"\")","v":""},"",{"$f":"IF($O$1=\"x\",Kalkulacja!U114,\"\")","v":""},"",null,null,null,null,null,null,{"$f":"Kalkulacja!K114","v":0},{"$f":"IF(Kalkulacja!$U$414>0,D115*L115*1.5,D115*L115)","v":{"$error":"#VALUE!"}},{"$f":"INDEX(Kalkulacja!U:U,S115)","v":{"$error":"#N/A"}},0,1,null,null,{"$f":"MATCH(B115,Kalkulacja!I:I,0)","v":{"$error":"#N/A"}},null,0,0,"00",null,{"$error":"#VALUE!"},{"$error":"#VALUE!"},{"$error":"#VALUE!"}]
[null,{"$f":"IF($O$1=\"x\",Kalkulacja!I115,\"\")","v":""},"",{"$f":"IF($O$1=\"x\",Kalkulacja!U115,\"\")","v":""},"",null,null,null,null,null,null,{"$f":"Kalkulacja!K115","v":0},{"$f":"IF(Kalkulacja!$U$414>0,D116*L116*1.5,D116*L116)","v":{"$error":"#VALUE!"}},{"$f":"INDEX(Kalkulacja!U:U,S116)","v":{"$error":"#N/A"}},0,1,null,null,{"$f":"MATCH(B116,Kalkulacja!I:I,0)","v":{"$error":"#N/A"}},null,0,0,"00",null,{"$error":"#VALUE!"},{"$error":"#VALUE!"},{"$error":"#VALUE!"}]
[null,{"$f":"IF($O$1=\"x\",Kalkulacja!I116,\"\")","v":""},null,null,null,null,null,null,null,null,null,{"$f":"Kalkulacja!K116","v":0},{"$f":"IF(Kalkulacja!$U$414>0,D117*L117*1.5,D117*L117)","v":0},{"$f":"INDEX(Kalkulacja!U:U,S117)","v":{"$error":"#N/A"}},{"$f":"IF(SUM(O118:O133)>0,1,0)","v":0},{"$f":"IF(O117=1,0,1)","v":1},null,{"$f":"IF($O$1=\"x\",\"y\",\"\")","v":""},{"$f":"MATCH(B117,Kalkulacja!I:I,0)","v":{"$error":"#N/A"}},null,0,0,"00",null,0,0,"00"]
[null,{"$f":"IF($O$1=\"x\",Kalkulacja!I117,\"\")","v":""},"",{"$f":"IF($O$1=\"x\",Kalkulacja!U117,\"\")","v":""},"",null,null,null,null,null,null,{"$f":"Kalkulacja!K117","v":0},{"$f":"IF(Kalkulacja!$U$414>0,D118*L118*1.5,D118*L118)","v":{"$error":"#VALUE!"}},{"$f":"INDEX(Kalkulacja!U:U,S118)","v":{"$error":"#N/A"}},{"$f":"IF(L118>0,IF(N118>0,1,0),0)","v":0},1,null,null,{"$f":"MATCH(B118,Kalkulacja!I:I,0)","v":{"$error":"#N/A"}},null,0,0,"00",null,{"$error":"#VALUE!"},{"$error":"#VALUE!"},{"$error":"#VALUE!"}]
[null,{"$f":"IF($O$1=\"x\",Kalkulacja!I118,\"\")","v":""},"",{"$f":"IF($O$1=\"x\",Kalkulacja!U118,\"\")","v":""},"",null,null,null,null,null,null,{"$f":"Kalkulacja!K118","v":0},{"$f":"IF(Kalkulacja!$U$414>0,D119*L119*1.5,D119*L119)","v":{"$error":"#VALUE!"}},{"$f":"INDEX(Kalkulacja!U:U,S119)","v":{"$error":"#N/A"}},0,1,null,null,{"$f":"MATCH(B119,Kalkulacja!I:I,0)","v":{"$error":"#N/A"}},null,0,0,"00",null,{"$error":"#VALUE!"},{"$error":"#VALUE!"},{"$error":"#VALUE!"}]
[null,{"$f":"IF($O$1=\"x\",Kalkulacja!I119,\"\")","v":""},"",{"$f":"IF($O$1=\"x\",Kalkulacja!U119,\"\")","v":""},"",null,null,null,null,null,null,{"$f":"Kalkulacja!K119","v":0},{"$f":"IF(Kalkulacja!$U$414>0,D120*L120*1.5,D120*L120)","v":{"$error":"#VALUE!"}},{"$f":"INDEX(Kalkulacja!U:U,S120)","v":{"$error":"#N/A"}},0,1,null,null,{"$f":"MATCH(B120,Kalkulacja!I:I,0)","v":{"$error":"#N/A"}},null,0,0,"00",null,{"$error":"#VALUE!"},{"$error":"#VALUE!"},{"$error":"#VALUE!"}]
[null,{"$f":"IF($O$1=\"x\",Kalkulacja!I120,\"\")","v":""},"",{"$f":"IF($O$1=\"x\",Kalkulacja!U120,\"\")","v":""},"",null,null,null,null,null,null,{"$f":"Kalkulacja!K120","v":0},{"$f":"IF(Kalkulacja!$U$414>0,D121*L121*1.5,D121*L121)","v":{"$error":"#VALUE!"}},{"$f":"INDEX(Kalkulacja!U:U,S121)","v":{"$error":"#N/A"}},0,1,null,null,{"$f":"MATCH(B121,Kalkulacja!I:I,0)","v":{"$error":"#N/A"}},null,0,0,"00",null,{"$error":"#VALUE!"},{"$error":"#VALUE!"},{"$error":"#VALUE!"}]
[null,{"$f":"IF($O$1=\"x\",Kalkulacja!I121,\"\")","v":""},"",{"$f":"IF($O$1=\"x\",Kalkulacja!U121,\"\")","v":""},"",null,null,null,null,null,null,{"$f":"Kalkulacja!K121","v":0},{"$f":"IF(Kalkulacja!$U$414>0,D122*L122*1.5,D122*L122)","v":{"$error":"#VALUE!"}},{"$f":"INDEX(Kalkulacja!U:U,S122)","v":{"$error":"#N/A"}},0,1,null,null,{"$f":"MATCH(B122,Kalkulacja!I:I,0)","v":{"$error":"#N/A"}},null,0,0,"00",null,{"$error":"#VALUE!"},{"$error":"#VALUE!"},{"$error":"#VALUE!"}]
[null,{"$f":"IF($O$1=\"x\",Kalkulacja!I122,\"\")","v":""},"",{"$f":"IF($O$1=\"x\",Kalkulacja!U122,\"\")","v":""},"",null,null,null,null,null,null,{"$f":"Kalkulacja!K122","v":0},{"$f":"IF(Kalkulacja!$U$414>0,D123*L123*1.5,D123*L123)","v":{"$error":"#VALUE!"}},{"$f":"INDEX(Kalkulacja!U:U,S123)","v":{"$error":"#N/A"}},0,1,null,null,{"$f":"MATCH(B123,Kalkulacja!I:I,0)","v":{"$error":"#N/A"}},null,0,0,"00",null,{"$error":"#VALUE!"},{"$error":"#VALUE!"},{"$error":"#VALUE!"}]
[null,{"$f":"IF($O$1=\"x\",Kalkulacja!I123,\"\")","v":""},"",{"$f":"IF($O$1=\"x\",Kalkulacja!U123,\"\")","v":""},"",null,null,null,null,null,null,{"$f":"Kalkulacja!K123","v":0},{"$f":"IF(Kalkulacja!$U$414>0,D124*L124*1.5,D124*L124)","v":{"$error":"#VALUE!"}},{"$f":"INDEX(Kalkulacja!U:U,S124)","v":{"$error":"#N/A"}},0,1,null,null,{"$f":"MATCH(B124,Kalkulacja!I:I,0)","v":{"$error":"#N/A"}},null,0,0,"00",null,{"$error":"#VALUE!"},{"$error":"#VALUE!"},{"$error":"#VALUE!"}]
[null,{"$f":"IF($O$1=\"x\",Kalkulacja!I124,\"\")","v":""},"",{"$f":"IF($O$1=\"x\",Kalkulacja!U124,\"\")","v":""},"",null,null,null,null,null,null,{"$f":"Kalkulacja!K124","v":0},{"$f":"IF(Kalkulacja!$U$414>0,D125*L125*1.5,D125*L125)","v":{"$error":"#VALUE!"}},{"$f":"INDEX(Kalkulacja!U:U,S125)","v":{"$error":"#N/A"}},0,1,null,null,{"$f":"MATCH(B125,Kalkulacja!I:I,0)","v":{"$error":"#N/A"}},null,0,0,"00",null,{"$error":"#VALUE!"},{"$error":"#VALUE!"},{"$error":"#VALUE!"}]
[null,{"$f":"IF($O$1=\"x\",Kalkulacja!I125,\"\")","v":""},"",{"$f":"IF($O$1=\"x\",Kalkulacja!U125,\"\")","v":""},"",null,null,null,null,null,null,{"$f":"Kalkulacja!K125","v":0},{"$f":"IF(Kalkulacja!$U$414>0,D126*L126*1.5,D126*L126)","v":{"$error":"#VALUE!"}},{"$f":"INDEX(Kalkulacja!U:U,S126)","v":{"$error":"#N/A"}},0,1,null,null,{"$f":"MATCH(B126,Kalkulacja!I:I,0)","v":{"$error":"#N/A"}},null,0,0,"00",null,{"$error":"#VALUE!"},{"$error":"#VALUE!"},{"$error":"#VALUE!"}]
[null,{"$f":"IF($O$1=\"x\",Kalkulacja!I126,\"\")","v":""},"",{"$f":"IF($O$1=\"x\",Kalkulacja!U126,\"\")","v":""},"",null,null,null,null,null,null,{"$f":"Kalkulacja!K126","v":0},{"$f":"IF(Kalkulacja!$U$414>0,D127*L127*1.5,D127*L127)","v":{"$error":"#VALUE!"}},{"$f":"INDEX(Kalkulacja!U:U,S127)","v":{"$error":"#N/A"}},0,1,null,null,{"$f":"MATCH(B127,Kalkulacja!I:I,0)","v":{"$error":"#N/A"}},null,0,0,"00",null,{"$error":"#VALUE!"},{"$error":"#VALUE!"},{"$error":"#VALUE!"}]
[null,{"$f":"IF($O$1=\"x\",Kalkulacja!I127,\"\")","v":""},"",{"$f":"IF($O$1=\"x\",Kalkulacja!U127,\"\")","v":""},"",null,null,null,null,null,null,{"$f":"Kalkulacja!K127","v":0},{"$f":"IF(Kalkulacja!$U$414>0,D128*L128*1.5,D128*L128)","v":{"$error":"#VALUE!"}},{"$f":"INDEX(Kalkulacja!U:U,S128)","v":{"$error":"#N/A"}},0,1,null,null,{"$f":"MATCH(B128,Kalkulacja!I:I,0)","v":{"$error":"#N/A"}},null,0,0,"00",null,{"$error":"#VALUE!"},{"$error":"#VALUE!"},{"$error":"#VALUE!"}]
[null,{"$f":"IF($O$1=\"x\",Kalkulacja!I128,\"\")","v":""},"",{"$f":"IF($O$1=\"x\",Kalkulacja!U128,\"\")","v":""},"",null,null,null,null,null,null,{"$f":"Kalkulacja!K128","v":0},{"$f":"IF(Kalkulacja!$U$414>0,D129*L129*1.5,D129*L129)","v":{"$error":"#VALUE!"}},{"$f":"INDEX(Kalkulacja!U:U,S129)","v":{"$error":"#N/A"}},0,1,null,null,{"$f":"MATCH(B129,Kalkulacja!I:I,0)","v":{"$error":"#N/A"}},null,0,0,"00",null,{"$error":"#VALUE!"},{"$error":"#VALUE!"},{"$error":"#VALUE!"}]
[null,{"$f":"IF($O$1=\"x\",Kalkulacja!I129,\"\")","v":""},"",{"$f":"IF($O$1=\"x\",Kalkulacja!U129,\"\")","v":""},"",null,null,null,null,null,null,{"$f":"Kalkulacja!K129","v":0},{"$f":"IF(Kalkulacja!$U$414>0,D130*L130*1.5,D130*L130)","v":{"$error":"#VALUE!"}},{"$f":"INDEX(Kalkulacja!U:U,S130)","v":{"$error":"#N/A"}},0,1,null,null,{"$f":"MATCH(B130,Kalkulacja!I:I,0)","v":{"$error":"#N/A"}},null,0,0,"00",null,{"$error":"#VALUE!"},{"$error":"#VALUE!"},{"$error":"#VALUE!"}]
[null,{"$f":"IF($O$1=\"x\",Kalkulacja!I130,\"\")","v":""},"",{"$f":"IF($O$1=\"x\",Kalkulacja!U130,\"\")","v":""},"",null,null,null,null,null,null,{"$f":"Kalkulacja!K130","v":0},{"$f":"IF(Kalkulacja!$U$414>0,D131*L131*1.5,D131*L131)","v":{"$error":"#VALUE!"}},{"$f":"INDEX(Kalkulacja!U:U,S131)","v":{"$error":"#N/A"}},0,1,null,null,{"$f":"MATCH(B131,Kalkulacja!I:I,0)","v":{"$error":"#N/A"}},null,{"$f":"TRUNC(L131)","v":0},{"$f":"ROUND((L131-U131)*60,0)","v":0},"00",null,{"$f":"TRUNC(M131)","v":{"$error":"#VALUE!"}},{"$f":"ROUND((M131-Y131)*60,0)","v":{"$error":"#VALUE!"}},{"$error":"#VALUE!"}]
[null,{"$f":"IF($O$1=\"x\",Kalkulacja!I131,\"\")","v":""},{"$f":"IF($O$1=\"x\",U132&\":\"&W132,\"\")","v":""},{"$f":"IF($O$1=\"x\",Kalkulacja!U131,\"\")","v":""},"",null,null,null,null,null,null,{"$f":"Kalkulacja!K131","v":0},{"$f":"IF(Kalkulacja!$U$414>0,D132*L132*1.5,D132*L132)","v":{"$error":"#VALUE!"}},{"$f":"INDEX(Kalkulacja!U:U,S132)","v":{"$error":"#N/A"}},0,1,null,null,{"$f":"MATCH(B132,Kalkulacja!I:I,0)","v":{"$error":"#N/A"}},null,0,0,"00",null,{"$error":"#VALUE!"},{"$error":"#VALUE!"},{"$error":"#VALUE!"}]
[null,{"$f":"IF($O$1=\"x\",Kalkulacja!I132,\"\")","v":""},{"$f":"IF($O$1=\"x\",U133&\":\"&W133,\"\")","v":""},{"$f":"IF($O$1=\"x\",Kalkulacja!U132,\"\")","v":""},"",null,null,null,null,null,null,{"$f":"Kalkulacja!K132","v":0},{"$f":"IF(Kalkulacja!$U$414>0,D133*L133*1.5,D133*L133)","v":{"$error":"#VALUE!"}},{"$f":"INDEX(Kalkulacja!U:U,S133)","v":{"$error":"#N/A"}},0,1,null,null,{"$f":"MATCH(B133,Kalkulacja!I:I,0)","v":{"$error":"#N/A"}},null,0,0,"00",null,{"$error":"#VALUE!"},{"$error":"#VALUE!"},{"$error":"#VALUE!"}]
[null,{"$f":"IF($O$1=\"x\",Kalkulacja!I133,\"\")","v":""},null,null,null,null,null,null,null,null,null,{"$f":"Kalkulacja!K133","v":0},{"$f":"IF(Kalkulacja!$U$414>0,D134*L134*1.5,D134*L134)","v":0},{"$f":"INDEX(Kalkulacja!U:U,S134)","v":{"$error":"#N/A"}},{"$f":"IF(SUM(O135:O142)>0,1,0)","v":{"$error":"#N/A"}},{"$error":"#N/A"},null,{"$f":"IF($O$1=\"x\",\"y\",\"\")","v":""},{"$f":"MATCH(B134,Kalkulacja!I:I,0)","v":{"$error":"#N/A"}},null,0,0,"00",null,0,0,"00"]
[null,{"$f":"IF($O$1=\"x\",Kalkulacja!I134,\"\")","v":""},{"$f":"IF($O$1=\"x\",U135&\":\"&W135,\"\")","v":""},{"$f":"IF($O$1=\"x\",Kalkulacja!U134,\"\")","v":""},"",null,null,null,null,null,null,{"$f":"Kalkulacja!K134","v":0},{"$f":"IF(Kalkulacja!$U$414>0,D135*L135*1.5,D135*L135)","v":{"$error":"#VALUE!"}},{"$f":"INDEX(Kalkulacja!U:U,S135)","v":{"$error":"#N/A"}},{"$f":"IF(L135>0,IF(N135>0,1,0),0)","v":0},1,null,null,{"$f":"MATCH(B135,Kalkulacja!I:I,0)","v":{"$error":"#N/A"}},null,0,0,"00",null,{"$error":"#VALUE!"},{"$error":"#VALUE!"},{"$error":"#VALUE!"}]
[null,{"$f":"IF($O$1=\"x\",Kalkulacja!I135,\"\")","v":""},"",{"$f":"IF($O$1=\"x\",Kalkulacja!U135,\"\")","v":""},"",null,null,null,null,null,null,{"$f":"Kalkulacja!K135","v":0.5},{"$f":"IF(Kalkulacja!$U$414>0,D136*L136*1.5,D136*L136)","v":{"$error":"#VALUE!"}},{"$f":"INDEX(Kalkulacja!U:U,S136)","v":{"$error":"#N/A"}},{"$error":"#N/A"},{"$error":"#N/A"},null,null,{"$f":"MATCH(B136,Kalkulacja!I:I,0)","v":{"$error":"#N/A"}},null,0,30,30,null,{"$error":"#VALUE!"},{"$error":"#VALUE!"},{"$error":"#VALUE!"}]
[null,{"$f":"IF($O$1=\"x\",Kalkulacja!I136,\"\")","v":""},"",{"$f":"IF($O$1=\"x\",Kalkulacja!U136,\"\")","v":""},"",null,null,null,null,null,null,{"$f":"Kalkulacja!K136","v":0.2},{"$f":"IF(Kalkulacja!$U$414>0,D137*L137*1.5,D137*L137)","v":{"$error":"#VALUE!"}},{"$f":"INDEX(Kalkulacja!U:U,S137)","v":{"$error":"#N/A"}},{"$error":"#N/A"},{"$error":"#N/A"},null,null,{"$f":"MATCH(B137,Kalkulacja!I:I,0)","v":{"$error":"#N/A"}},null,0,12,12,null,{"$error":"#VALUE!"},{"$error":"#VALUE!"},{"$error":"#VALUE!"}]
[null,{"$f":"IF($O$1=\"x\",Kalkulacja!I137,\"\")","v":""},"",{"$f":"IF($O$1=\"x\",Kalkulacja!U137,\"\")","v":""},"",null,null,null,null,null,null,{"$f":"Kalkulacja!K137","v":1},{"$f":"IF(Kalkulacja!$U$414>0,D138*L138*1.5,D138*L138)","v":{"$error":"#VALUE!"}},{"$f":"INDEX(Kalkulacja!U:U,S138)","v":{"$error":"#N/A"}},{"$error":"#N/A"},{"$error":"#N/A"},null,null,{"$f":"MATCH(B138,Kalkulacja!I:I,0)","v":{"$error":"#N/A"}},null,1,0,"00",null,{"$error":"#VALUE!"},{"$error":"#VALUE!"},{"$error":"#VALUE!"}]
[null,{"$f":"IF($O$1=\"x\",Kalkulacja!I138,\"\")","v":""},"",{"$f":"IF($O$1=\"x\",Kalkulacja!U138,\"\")","v":""},"",null,null,null,null,null,null,{"$f":"Kalkulacja!K138","v":0},{"$f":"IF(Kalkulacja!$U$414>0,D139*L139*1.5,D139*L139)","v":{"$error":"#VALUE!"}},{"$f":"INDEX(Kalkulacja!U:U,S139)","v":{"$error":"#N/A"}},0,1,null,null,{"$f":"MATCH(B139,Kalkulacja!I:I,0)","v":{"$error":"#N/A"}},null,0,0,"00",null,{"$error":"#VALUE!"},{"$error":"#VALUE!"},{"$error":"#VALUE!"}]
[null,{"$f":"IF($O$1=\"x\",Kalkulacja!I139,\"\")","v":""},"",{"$f":"IF($O$1=\"x\",Kalkulacja!U139,\"\")","v":""},"",null,null,null,null,null,null,{"$f":"Kalkulacja!K139","v":0},{"$f":"IF(Kalkulacja!$U$414>0,D140*L140*1.5,D140*L140)","v":{"$error":"#VALUE!"}},{"$f":"INDEX(Kalkulacja!U:U,S140)","v":{"$error":"#N/A"}},0,1,null,null,{"$f":"MATCH(B140,Kalkulacja!I:I,0)","v":{"$error":"#N/A"}},null,0,0,"00",null,{"$error":"#VALUE!"},{"$error":"#VALUE!"},{"$error":"#VALUE!"}]
[null,{"$f":"IF($O$1=\"x\",Kalkulacja!I140,\"\")","v":""},"",{"$f":"IF($O$1=\"x\",Kalkulacja!U140,\"\")","v":""},"",null,null,null,null,null,null,{"$f":"Kalkulacja!K140","v":0},{"$f":"IF(Kalkulacja!$U$414>0,D141*L141*1.5,D141*L141)","v":{"$error":"#VALUE!"}},{"$f":"INDEX(Kalkulacja!U:U,S141)","v":{"$error":"#N/A"}},0,1,null,null,{"$f":"MATCH(B141,Kalkulacja!I:I,0)","v":{"$error":"#N/A"}},null,0,0,"00",null,{"$error":"#VALUE!"},{"$error":"#VALUE!"},{"$error":"#VALUE!"}]
[null,{"$f":"IF($O$1=\"x\",Kalkulacja!I141,\"\")","v":""},"",{"$f":"IF($O$1=\"x\",Kalkulacja!U141,\"\")","v":""},"",null,null,null,null,null,null,{"$f":"Kalkulacja!K141","v":0},{"$f":"IF(Kalkulacja!$U$414>0,D142*L142*1.5,D142*L142)","v":{"$error":"#VALUE!"}},{"$f":"INDEX(Kalkulacja!U:U,S142)","v":{"$error":"#N/A"}},0,1,null,null,{"$f":"MATCH(B142,Kalkulacja!I:I,0)","v":{"$error":"#N/A"}},null,0,0,"00",null,{"$error":"#VALUE!"},{"$error":"#VALUE!"},{"$error":"#VALUE!"}]
[null,{"$f":"IF($O$1=\"x\",Kalkulacja!I142,\"\")","v":""},"",{"$f":"IF($O$1=\"x\",Kalkulacja!U142,\"\")","v":""},"",null,null,null,null,null,null,{"$f":"Kalkulacja!K142","v":0},{"$f":"IF(Kalkulacja!$U$414>0,D143*L143*1.5,D143*L143)","v":{"$error":"#VALUE!"}},{"$f":"INDEX(Kalkulacja!U:U,S143)","v":{"$error":"#N/A"}},0,1,null,null,{"$f":"MATCH(B143,Kalkulacja!I:I,0)","v":{"$error":"#N/A"}},null,0,0,"00",null,{"$error":"#VALUE!"},{"$error":"#VALUE!"},{"$error":"#VALUE!"}]
[null,{"$f":"IF($O$1=\"x\",Kalkulacja!I143,\"\")","v":""},null,null,null,null,null,null,null,null,null,{"$f":"Kalkulacja!K143","v":0},{"$f":"IF(Kalkulacja!$U$414>0,D144*L144*1.5,D144*L144)","v":0},{"$f":"INDEX(Kalkulacja!U:U,S144)","v":{"$error":"#N/A"}},{"$f":"IF(SUM(O145,O163,O171,O181,O188,O195,O200)>0,1,0)","v":{"$error":"#N/A"}},{"$error":"#N/A"},null,{"$f":"IF($O$1=\"x\",\"x\",\"\")","v":""},{"$f":"MATCH(B144,Kalkulacja!I:I,0)","v":{"$error":"#N/A"}},null,0,0,"00",null,0,0,"00"]
[null,{"$f":"IF($O$1=\"x\",Kalkulacja!I144,\"\")","v":""},null,null,null,null,null,null,null,null,null,{"$f":"Kalkulacja!K144","v":0},{"$f":"IF(Kalkulacja!$U$414>0,D145*L145*1.5,D145*L145)","v":0},{"$f":"INDEX(Kalkulacja!U:U,S145)","v":{"$error":"#N/A"}},{"$f":"IF(SUM(O146:O162)>0,1,0)","v":{"$error":"#N/A"}},{"$error":"#N/A"},null,{"$f":"IF($O$1=\"x\",\"y\",\"\")","v":""},{"$f":"MATCH(B145,Kalkulacja!I:I,0)","v":{"$error":"#N/A"}},null,0,0,"00",null,0,0,"00"]
[null,{"$f":"IF($O$1=\"x\",Kalkulacja!I145,\"\")","v":""},{"$f":"IF($O$1=\"x\",U146&\":\"&W146,\"\")","v":""},{"$f":"IF($O$1=\"x\",Kalkulacja!U145,\"\")","v":""},"",null,null,null,null,null,null,{"$f":"Kalkulacja!K145","v":8},{"$f":"IF(Kalkulacja!$U$414>0,D146*L146*1.5,D146*L146)","v":{"$error":"#VALUE!"}},{"$f":"INDEX(Kalkulacja!U:U,S146)","v":{"$error":"#N/A"}},{"$f":"IF(L146>0,IF(N146>0,1,0),0)","v":{"$error":"#N/A"}},{"$error":"#N/A"},null,null,{"$f":"MATCH(B146,Kalkulacja!I:I,0)","v":{"$error":"#N/A"}},null,8,0,"00",null,{"$error":"#VALUE!"},{"$error":"#VALUE!"},{"$error":"#VALUE!"}]
[null,{"$f":"IF($O$1=\"x\",Kalkulacja!I146,\"\")","v":""},null,null,null,null,null,null,null,null,null,{"$f":"Kalkulacja!K146","v":0},{"$f":"IF(Kalkulacja!$U$414>0,D147*L147*1.5,D147*L147)","v":0},{"$f":"INDEX(Kalkulacja!U:U,S147)","v":{"$error":"#N/A"}},0,1,null,null,{"$f":"MATCH(B147,Kalkulacja!I:I,0)","v":{"$error":"#N/A"}},null,{"$f":"TRUNC(L147)","v":0},{"$f":"ROUND((L147-U147)*60,0)","v":0},{"$f":"IF(V147<10,\"0\"&V147,V147)","v":"00"},null,{"$f":"TRUNC(M147)","v":0},{"$f":"ROUND((M147-Y147)*60,0)","v":0},{"$f":"IF(Z147<10,\"0\"&Z147,Z147)","v":"00"}]
[null,{"$f":"IF($O$1=\"x\",Kalkulacja!I147,\"\")","v":""},{"$f":"IF($O$1=\"x\",U148&\":\"&W148,\"\")","v":""},{"$f":"IF($O$1=\"x\",Kalkulacja!U147,\"\")","v":""},"",null,null,null,null,null,null,{"$f":"Kalkulacja!K147","v":0},{"$f":"IF(Kalkulacja!$U$414>0,D148*L148*1.5,D148*L148)","v":{"$error":"#VALUE!"}},{"$f":"INDEX(Kalkulacja!U:U,S148)","v":{"$error":"#N/A"}},0,1,null,null,{"$f":"MATCH(B148,Kalkulacja!I:I,0)","v":{"$error":"#N/A"}},null,0,0,"00",null,{"$error":"#VALUE!"},{"$error":"#VALUE!"},{"$error":"#VALUE!"}]
[null,{"$f":"IF($O$1=\"x\",Kalkulacja!I148,\"\")","v":""},{"$f":"IF($O$1=\"x\",U149&\":\"&W149,\"\")","v":""},{"$f":"IF($O$1=\"x\",Kalkulacja!U148,\"\")","v":""},"",null,null,null,null,null,null,{"$f":"Kalkulacja!K148","v":0},{"$f":"IF(Kalkulacja!$U$414>0,D149*L149*1.5,D149*L149)","v":{"$error":"#VALUE!"}},{"$f":"INDEX(Kalkulacja!U:U,S149)","v":{"$error":"#N/A"}},0,1,null,null,{"$f":"MATCH(B149,Kalkulacja!I:I,0)","v":{"$error":"#N/A"}},null,0,0,"00",null,{"$error":"#VALUE!"},{"$error":"#VALUE!"},{"$error":"#VALUE!"}]
[null,{"$f":"IF($O$1=\"x\",Kalkulacja!I149,\"\")","v":""},"",{"$f":"IF($O$1=\"x\",Kalkulacja!U149,\"\")","v":""},"",null,null,null,null,null,null,{"$f":"Kalkulacja!K149","v":2},{"$f":"IF(Kalkulacja!$U$414>0,D150*L150*1.5,D150*L150)","v":{"$error":"#VALUE!"}},{"$f":"INDEX(Kalkulacja!U:U,S150)","v":{"$error":"#N/A"}},{"$error":"#N/A"},{"$error":"#N/A"},null,null,{"$f":"MATCH(B150,Kalkulacja!I:I,0)","v":{"$error":"#N/A"}},null,2,0,"00",null,{"$error":"#VALUE!"},{"$error":"#VALUE!"},{"$error":"#VALUE!"}]
[null,{"$f":"IF($O$1=\"x\",Kalkulacja!I150,\"\")","v":""},"",{"$f":"IF($O$1=\"x\",Kalkulacja!U150,\"\")","v":""},"",null,null,null,null,null,null,{"$f":"Kalkulacja!K150","v":2},{"$f":"IF(Kalkulacja!$U$414>0,D151*L151*1.5,D151*L151)","v":{"$error":"#VALUE!"}},{"$f":"INDEX(Kalkulacja!U:U,S151)","v":{"$error":"#N/A"}},{"$error":"#N/A"},{"$error":"#N/A"},null,null,{"$f":"MATCH(B151,Kalkulacja!I:I,0)","v":{"$error":"#N/A"}},null,2,0,"00",null,{"$error":"#VALUE!"},{"$error":"#VALUE!"},{"$error":"#VALUE!"}]
[null,{"$f":"IF($O$1=\"x\",Kalkulacja!I151,\"\")","v":""},"",{"$f":"IF($O$1=\"x\",Kalkulacja!U151,\"\")","v":""},{"$f":"IF($O$1=\"x\",Y152&\":\"&AA152,\"\")","v":""},null,null,null,null,null,null,{"$f":"Kalkulacja!K151","v":4},{"$f":"IF(Kalkulacja!$U$414>0,D152*L152*1.5,D152*L152)","v":{"$error":"#VALUE!"}},{"$f":"INDEX(Kalkulacja!U:U,S152)","v":{"$error":"#N/A"}},{"$error":"#N/A"},{"$error":"#N/A"},null,null,{"$f":"MATCH(B152,Kalkulacja!I:I,0)","v":{"$error":"#N/A"}},null,4,0,"00",null,{"$error":"#VALUE!"},{"$error":"#VALUE!"},{"$error":"#VALUE!"}]
[null,{"$f":"IF($O$1=\"x\",Kalkulacja!I152,\"\")","v":""},"",{"$f":"IF($O$1=\"x\",Kalkulacja!U152,\"\")","v":""},"",null,null,null,null,null,null,{"$f":"Kalkulacja!K152","v":4},{"$f":"IF(Kalkulacja!$U$414>0,D153*L153*1.5,D153*L153)","v":{"$error":"#VALUE!"}},{"$f":"INDEX(Kalkulacja!U:U,S153)","v":{"$error":"#N/A"}},{"$error":"#N/A"},{"$error":"#N/A"},null,null,{"$f":"MATCH(B153,Kalkulacja!I:I,0)","v":{"$error":"#N/A"}},null,4,0,"00",null,{"$error":"#VALUE!"},{"$error":"#VALUE!"},{"$error":"#VALUE!"}]
[null,{"$f":"IF($O$1=\"x\",Kalkulacja!I153,\"\")","v":""},"",{"$f":"IF($O$1=\"x\",Kalkulacja!U153,\"\")","v":""},"",null,null,null,null,null,null,{"$f":"Kalkulacja!K153","v":4},{"$f":"IF(Kalkulacja!$U$414>0,D154*L154*1.5,D154*L154)","v":{"$error":"#VALUE!"}},{"$f":"INDEX(Kalkulacja!U:U,S154)","v":{"$error":"#N/A"}},{"$error":"#N/A"},{"$error":"#N/A"},null,null,{"$f":"MATCH(B154,Kalkulacja!I:I,0)","v":{"$error":"#N/A"}},null,4,0,"00",null,{"$error":"#VALUE!"},{"$error":"#VALUE!"},{"$error":"#VALUE!"}]
[null,{"$f":"IF($O$1=\"x\",Kalkulacja!I154,\"\")","v":""},"",{"$f":"IF($O$1=\"x\",Kalkulacja!U154,\"\")","v":""},"",null,null,null,null,null,null,{"$f":"Kalkulacja!K154","v":3},{"$f":"IF(Kalkulacja!$U$414>0,D155*L155*1.5,D155*L155)","v":{"$error":"#VALUE!"}},{"$f":"INDEX(Kalkulacja!U:U,S155)","v":{"$error":"#N/A"}},{"$error":"#N/A"},{"$error":"#N/A"},null,null,{"$f":"MATCH(B155,Kalkulacja!I:I,0)","v":{"$error":"#N/A"}},null,3,0,"00",null,{"$error":"#VALUE!"},{"$error":"#VALUE!"},{"$error":"#VALUE!"}]
[null,{"$f":"IF($O$1=\"x\",Kalkulacja!I155,\"\")","v":""},"",{"$f":"IF($O$1=\"x\",Kalkulacja!U155,\"\")","v":""},"",null,null,null,null,null,null,{"$f":"Kalkulacja!K155","v":3},{"$f":"IF(Kalkulacja!$U$414>0,D156*L156*1.5,D156*L156)","v":{"$error":"#VALUE!"}},{"$f":"INDEX(Kalkulacja!U:U,S156)","v":{"$error":"#N/A"}},{"$error":"#N/A"},{"$error":"#N/A"},null,null,{"$f":"MATCH(B156,Kalkulacja!I:I,0)","v":{"$error":"#N/A"}},null,3,0,"00",null,{"$error":"#VALUE!"},{"$error":"#VALUE!"},{"$error":"#VALUE!"}]
[null,{"$f":"IF($O$1=\"x\",Kalkulacja!I156,\"\")","v":""},"",{"$f":"IF($O$1=\"x\",Kalkulacja!U156,\"\")","v":""},"",null,null,null,null,null,null,{"$f":"Kalkulacja!K156","v":20},{"$f":"IF(Kalkulacja!$U$414>0,D157*L157*1.5,D157*L157)","v":{"$error":"#VALUE!"}},{"$f":"INDEX(Kalkulacja!U:U,S157)","v":{"$error":"#N/A"}},{"$error":"#N/A"},{"$error":"#N/A"},null,null,{"$f":"MATCH(B157,Kalkulacja!I:I,0)","v":{"$error":"#N/A"}},null,20,0,"00",null,{"$error":"#VALUE!"},{"$error":"#VALUE!"},{"$error":"#VALUE!"}]
[null,{"$f":"IF($O$1=\"x\",Kalkulacja!I157,\"\")","v":""},"",{"$f":"IF($O$1=\"x\",Kalkulacja!U157,\"\")","v":""},"",null,null,null,null,null,null,{"$f":"Kalkulacja!K157","v":0},{"$f":"IF(Kalkulacja!$U$414>0,D158*L158*1.5,D158*L158)","v":{"$error":"#VALUE!"}},{"$f":"INDEX(Kalkulacja!U:U,S158)","v":{"$error":"#N/A"}},0,1,null,null,{"$f":"MATCH(B158,Kalkulacja!I:I,0)","v":{"$error":"#N/A"}},null,0,0,"00",null,{"$error":"#VALUE!"},{"$error":"#VALUE!"},{"$error":"#VALUE!"}]
[null,{"$f":"IF($O$1=\"x\",Kalkulacja!I158,\"\")","v":""},"",{"$f":"IF($O$1=\"x\",Kalkulacja!U158,\"\")","v":""},"",null,null,null,null,null,null,{"$f":"Kalkulacja!K158","v":0},{"$f":"IF(Kalkulacja!$U$414>0,D159*L159*1.5,D159*L159)","v":{"$error":"#VALUE!"}},{"$f":"INDEX(Kalkulacja!U:U,S159)","v":{"$error":"#N/A"}},0,1,null,null,{"$f":"MATCH(B159,Kalkulacja!I:I,0)","v":{"$error":"#N/A"}},null,0,0,"00",null,{"$error":"#VALUE!"},{"$error":"#VALUE!"},{"$error":"#VALUE!"}]
[null,{"$f":"IF($O$1=\"x\",Kalkulacja!I159,\"\")","v":""},"",{"$f":"IF($O$1=\"x\",Kalkulacja!U159,\"\")","v":""},"",null,null,null,null,null,null,{"$f":"Kalkulacja!K159","v":0},{"$f":"IF(Kalkulacja!$U$414>0,D160*L160*1.5,D160*L160)","v":{"$error":"#VALUE!"}},{"$f":"INDEX(Kalkulacja!U:U,S160)","v":{"$error":"#N/A"}},0,1,null,null,{"$f":"MATCH(B160,Kalkulacja!I:I,0)","v":{"$error":"#N/A"}},null,0,0,"00",null,{"$error":"#VALUE!"},{"$error":"#VALUE!"},{"$error":"#VALUE!"}]
[null,{"$f":"IF($O$1=\"x\",Kalkulacja!I160,\"\")","v":""},"",{"$f":"IF($O$1=\"x\",Kalkulacja!U160,\"\")","v":""},"",null,null,null,null,null,null,{"$f":"Kalkulacja!K160","v":0},{"$f":"IF(Kalkulacja!$U$414>0,D161*L161*1.5,D161*L161)","v":{"$error":"#VALUE!"}},{"$f":"INDEX(Kalkulacja!U:U,S161)","v":{"$error":"#N/A"}},0,1,null,null,{"$f":"MATCH(B161,Kalkulacja!I:I,0)","v":{"$error":"#N/A"}},null,0,0,"00",null,{"$error":"#VALUE!"},{"$error":"#VALUE!"},{"$error":"#VALUE!"}]
[null,{"$f":"IF($O$1=\"x\",Kalkulacja!I161,\"\")","v":""},"",{"$f":"IF($O$1=\"x\",Kalkulacja!U161,\"\")","v":""},"",null,null,null,null,null,null,{"$f":"Kalkulacja!K161","v":0},{"$f":"IF(Kalkulacja!$U$414>0,D162*L162*1.5,D162*L162)","v":{"$error":"#VALUE!"}},{"$f":"INDEX(Kalkulacja!U:U,S162)","v":{"$error":"#N/A"}},0,1,null,null,{"$f":"MATCH(B162,Kalkulacja!I:I,0)","v":{"$error":"#N/A"}},null,0,0,"00",null,{"$error":"#VALUE!"},{"$error":"#VALUE!"},{"$error":"#VALUE!"}]
[null,{"$f":"IF($O$1=\"x\",Kalkulacja!I162,\"\")","v":""},null,null,null,null,null,null,null,null,null,{"$f":"Kalkulacja!K162","v":0},{"$f":"IF(Kalkulacja!$U$414>0,D163*L163*1.5,D163*L163)","v":0},{"$f":"INDEX(Kalkulacja!U:U,S163)","v":{"$error":"#N/A"}},{"$f":"IF(SUM(O164:O170)>0,1,0)","v":{"$error":"#N/A"}},{"$error":"#N/A"},null,{"$f":"IF($O$1=\"x\",\"y\",\"\")","v":""},{"$f":"MATCH(B163,Kalkulacja!I:I,0)","v":{"$error":"#N/A"}},null,0,0,"00",null,0,0,"00"]
[null,{"$f":"IF($O$1=\"x\",Kalkulacja!I163,\"\")","v":""},"",{"$f":"IF($O$1=\"x\",Kalkulacja!U163,\"\")","v":""},"",null,null,null,null,null,null,{"$f":"Kalkulacja!K163","v":5},{"$f":"IF(Kalkulacja!$U$414>0,D164*L164*1.5,D164*L164)","v":{"$error":"#VALUE!"}},{"$f":"INDEX(Kalkulacja!U:U,S164)","v":{"$error":"#N/A"}},{"$f":"IF(L164>0,IF(N164>0,1,0),0)","v":{"$error":"#N/A"}},{"$error":"#N/A"},null,null,{"$f":"MATCH(B164,Kalkulacja!I:I,0)","v":{"$error":"#N/A"}},null,5,0,"00",null,{"$error":"#VALUE!"},{"$error":"#VALUE!"},{"$error":"#VALUE!"}]
[null,{"$f":"IF($O$1=\"x\",Kalkulacja!I164,\"\")","v":""},"",{"$f":"IF($O$1=\"x\",Kalkulacja!U164,\"\")","v":""},"",null,null,null,null,null,null,{"$f":"Kalkulacja!K164","v":3},{"$f":"IF(Kalkulacja!$U$414>0,D165*L165*1.5,D165*L165)","v":{"$error":"#VALUE!"}},{"$f":"INDEX(Kalkulacja!U:U,S165)","v":{"$error":"#N/A"}},{"$error":"#N/A"},{"$error":"#N/A"},null,null,{"$f":"MATCH(B165,Kalkulacja!I:I,0)","v":{"$error":"#N/A"}},null,3,0,"00",null,{"$error":"#VALUE!"},{"$error":"#VALUE!"},{"$error":"#VALUE!"}]
[null,{"$f":"IF($O$1=\"x\",Kalkulacja!I165,\"\")","v":""},"",{"$f":"IF($O$1=\"x\",Kalkulacja!U165,\"\")","v":""},"",null,null,null,null,null,null,{"$f":"Kalkulacja!K165","v":1},{"$f":"IF(Kalkulacja!$U$414>0,D166*L166*1.5,D166*L166)","v":{"$error":"#VALUE!"}},{"$f":"INDEX(Kalkulacja!U:U,S166)","v":{"$error":"#N/A"}},{"$error":"#N/A"},{"$error":"#N/A"},null,null,{"$f":"MATCH(B166,Kalkulacja!I:I,0)","v":{"$error":"#N/A"}},null,1,0,"00",null,{"$error":"#VALUE!"},{"$error":"#VALUE!"},{"$error":"#VALUE!"}]
[null,{"$f":"IF($O$1=\"x\",Kalkulacja!I166,\"\")","v":""},"",{"$f":"IF($O$1=\"x\",Kalkulacja!U166,\"\")","v":""},"",null,null,null,null,null,null,{"$f":"Kalkulacja!K166","v":4},{"$f":"IF(Kalkulacja!$U$414>0,D167*L167*1.5,D167*L167)","v":{"$error":"#VALUE!"}},{"$f":"INDEX(Kalkulacja!U:U,S167)","v":{"$error":"#N/A"}},{"$error":"#N/A"},{"$error":"#N/A"},null,null,{"$f":"MATCH(B167,Kalkulacja!I:I,0)","v":{"$error":"#N/A"}},null,4,0,"00",null,{"$error":"#VALUE!"},{"$error":"#VALUE!"},{"$error":"#VALUE!"}]
[null,{"$f":"IF($O$1=\"x\",Kalkulacja!I167,\"\")","v":""},"",{"$f":"IF($O$1=\"x\",Kalkulacja!U167,\"\")","v":""},"",null,null,null,null,null,null,{"$f":"Kalkulacja!K167","v":0},{"$f":"IF(Kalkulacja!$U$414>0,D168*L168*1.5,D168*L168)","v":{"$error":"#VALUE!"}},{"$f":"INDEX(Kalkulacja!U:U,S168)","v":{"$error":"#N/A"}},0,1,null,null,{"$f":"MATCH(B168,Kalkulacja!I:I,0)","v":{"$error":"#N/A"}},null,0,0,"00",null,{"$error":"#VALUE!"},{"$error":"#VALUE!"},{"$error":"#VALUE!"}]
[null,{"$f":"IF($O$1=\"x\",Kalkulacja!I168,\"\")","v":""},"",{"$f":"IF($O$1=\"x\",Kalkulacja!U168,\"\")","v":""},"",null,null,null,null,null,null,{"$f":"Kalkulacja!K168","v":0},{"$f":"IF(Kalkulacja!$U$414>0,D169*L169*1.5,D169*L169)","v":{"$error":"#VALUE!"}},{"$f":"INDEX(Kalkulacja!U:U,S169)","v":{"$error":"#N/A"}},0,1,null,null,{"$f":"MATCH(B169,Kalkulacja!I:I,0)","v":{"$error":"#N/A"}},null,0,0,"00",null,{"$error":"#VALUE!"},{"$error":"#VALUE!"},{"$error":"#VALUE!"}]
[null,{"$f":"IF($O$1=\"x\",Kalkulacja!I169,\"\")","v":""},"",{"$f":"IF($O$1=\"x\",Kalkulacja!U169,\"\")","v":""},"",null,null,null,null,null,null,{"$f":"Kalkulacja!K169","v":0},{"$f":"IF(Kalkulacja!$U$414>0,D170*L170*1.5,D170*L170)","v":{"$error":"#VALUE!"}},{"$f":"INDEX(Kalkulacja!U:U,S170)","v":{"$error":"#N/A"}},0,1,null,null,{"$f":"MATCH(B170,Kalkulacja!I:I,0)","v":{"$error":"#N/A"}},null,0,0,"00",null,{"$error":"#VALUE!"},{"$error":"#VALUE!"},{"$error":"#VALUE!"}]
[null,{"$f":"IF($O$1=\"x\",Kalkulacja!I170,\"\")","v":""},null,null,null,null,null,null,null,null,null,{"$f":"Kalkulacja!K170","v":0},{"$f":"IF(Kalkulacja!$U$414>0,D171*L171*1.5,D171*L171)","v":0},{"$f":"INDEX(Kalkulacja!U:U,S171)","v":{"$error":"#N/A"}},{"$f":"IF(SUM(O172:O180)>0,1,0)","v":{"$error":"#N/A"}},{"$error":"#N/A"},null,{"$f":"IF($O$1=\"x\",\"y\",\"\")","v":""},{"$f":"MATCH(B171,Kalkulacja!I:I,0)","v":{"$error":"#N/A"}},null,0,0,"00",null,0,0,"00"]
[null,{"$f":"IF($O$1=\"x\",Kalkulacja!I171,\"\")","v":""},"",{"$f":"IF($O$1=\"x\",Kalkulacja!U171,\"\")","v":""},"",null,null,null,null,null,null,{"$f":"Kalkulacja!K171","v":3},{"$f":"IF(Kalkulacja!$U$414>0,D172*L172*1.5,D172*L172)","v":{"$error":"#VALUE!"}},{"$f":"INDEX(Kalkulacja!U:U,S172)","v":{"$error":"#N/A"}},{"$f":"IF(L172>0,IF(N172>0,1,0),0)","v":{"$error":"#N/A"}},{"$error":"#N/A"},null,null,{"$f":"MATCH(B172,Kalkulacja!I:I,0)","v":{"$error":"#N/A"}},null,3,0,"00",null,{"$error":"#VALUE!"},{"$error":"#VALUE!"},{"$error":"#VALUE!"}]
[null,{"$f":"IF($O$1=\"x\",Kalkulacja!I172,\"\")","v":""},"",{"$f":"IF($O$1=\"x\",Kalkulacja!U172,\"\")","v":""},"",null,null,null,null,null,null,{"$f":"Kalkulacja!K172","v":5},{"$f":"IF(Kalkulacja!$U$414>0,D173*L173*1.5,D173*L173)","v":{"$error":"#VALUE!"}},{"$f":"INDEX(Kalkulacja!U:U,S173)","v":{"$error":"#N/A"}},{"$error":"#N/A"},{"$error":"#N/A"},null,null,{"$f":"MATCH(B173,Kalkulacja!I:I,0)","v":{"$error":"#N/A"}},null,5,0,"00",null,{"$error":"#VALUE!"},{"$error":"#VALUE!"},{"$error":"#VALUE!"}]
[null,{"$f":"IF($O$1=\"x\",Kalkulacja!I173,\"\")","v":""},"",{"$f":"IF($O$1=\"x\",Kalkulacja!U173,\"\")","v":""},"",null,null,null,null,null,null,{"$f":"Kalkulacja!K173","v":3},{"$f":"IF(Kalkulacja!$U$414>0,D174*L174*1.5,D174*L174)","v":{"$error":"#VALUE!"}},{"$f":"INDEX(Kalkulacja!U:U,S174)","v":{"$error":"#N/A"}},{"$error":"#N/A"},{"$error":"#N/A"},null,null,{"$f":"MATCH(B174,Kalkulacja!I:I,0)","v":{"$error":"#N/A"}},null,3,0,"00",null,{"$error":"#VALUE!"},{"$error":"#VALUE!"},{"$error":"#VALUE!"}]
[null,{"$f":"IF($O$1=\"x\",Kalkulacja!I174,\"\")","v":""},"",{"$f":"IF($O$1=\"x\",Kalkulacja!U174,\"\")","v":""},"",null,null,null,null,null,null,{"$f":"Kalkulacja!K174","v":2},{"$f":"IF(Kalkulacja!$U$414>0,D175*L175*1.5,D175*L175)","v":{"$error":"#VALUE!"}},{"$f":"INDEX(Kalkulacja!U:U,S175)","v":{"$error":"#N/A"}},{"$error":"#N/A"},{"$error":"#N/A"},null,null,{"$f":"MATCH(B175,Kalkulacja!I:I,0)","v":{"$error":"#N/A"}},null,2,0,"00",null,{"$error":"#VALUE!"},{"$error":"#VALUE!"},{"$error":"#VALUE!"}]
[null,{"$f":"IF($O$1=\"x\",Kalkulacja!I175,\"\")","v":""},"",{"$f":"IF($O$1=\"x\",Kalkulacja!U175,\"\")","v":""},"",null,null,null,null,null,null,{"$f":"Kalkulacja!K175","v":4},{"$f":"IF(Kalkulacja!$U$414>0,D176*L176*1.5,D176*L176)","v":{"$error":"#VALUE!"}},{"$f":"INDEX(Kalkulacja!U:U,S176)","v":{"$error":"#N/A"}},{"$error":"#N/A"},{"$error":"#N/A"},null,null,{"$f":"MATCH(B176,Kalkulacja!I:I,0)","v":{"$error":"#N/A"}},null,4,0,"00",null,{"$error":"#VALUE!"},{"$error":"#VALUE!"},{"$error":"#VALUE!"}]
[null,{"$f":"IF($O$1=\"x\",Kalkulacja!I176,\"\")","v":""},"",{"$f":"IF($O$1=\"x\",Kalkulacja!U176,\"\")","v":""},"",null,null,null,null,null,null,{"$f":"Kalkulacja!K176","v":7},{"$f":"IF(Kalkulacja!$U$414>0,D177*L177*1.5,D177*L177)","v":{"$error":"#VALUE!"}},{"$f":"INDEX(Kalkulacja!U:U,S177)","v":{"$error":"#N/A"}},{"$error":"#N/A"},{"$error":"#N/A"},null,null,{"$f":"MATCH(B177,Kalkulacja!I:I,0)","v":{"$error":"#N/A"}},null,7,0,"00",null,{"$error":"#VALUE!"},{"$error":"#VALUE!"},{"$error":"#VALUE!"}]
[null,{"$f":"IF($O$1=\"x\",Kalkulacja!I177,\"\")","v":""},"",{"$f":"IF($O$1=\"x\",Kalkulacja!U177,\"\")","v":""},"",null,null,null,null,null,null,{"$f":"Kalkulacja!K177","v":0},{"$f":"IF(Kalkulacja!$U$414>0,D178*L178*1.5,D178*L178)","v":{"$error":"#VALUE!"}},{"$f":"INDEX(Kalkulacja!U:U,S178)","v":{"$error":"#N/A"}},0,1,null,null,{"$f":"MATCH(B178,Kalkulacja!I:I,0)","v":{"$error":"#N/A"}},null,0,0,"00",null,{"$error":"#VALUE!"},{"$error":"#VALUE!"},{"$error":"#VALUE!"}]
[null,{"$f":"IF($O$1=\"x\",Kalkulacja!I178,\"\")","v":""},"",{"$f":"IF($O$1=\"x\",Kalkulacja!U178,\"\")","v":""},"",null,null,null,null,null,null,{"$f":"Kalkulacja!K178","v":0},{"$f":"IF(Kalkulacja!$U$414>0,D179*L179*1.5,D179*L179)","v":{"$error":"#VALUE!"}},{"$f":"INDEX(Kalkulacja!U:U,S179)","v":{"$error":"#N/A"}},0,1,null,null,{"$f":"MATCH(B179,Kalkulacja!I:I,0)","v":{"$error":"#N/A"}},null,0,0,"00",null,{"$error":"#VALUE!"},{"$error":"#VALUE!"},{"$error":"#VALUE!"}]
[null,{"$f":"IF($O$1=\"x\",Kalkulacja!I179,\"\")","v":""},"",{"$f":"IF($O$1=\"x\",Kalkulacja!U179,\"\")","v":""},"",null,null,null,null,null,null,{"$f":"Kalkulacja!K179","v":0},{"$f":"IF(Kalkulacja!$U$414>0,D180*L180*1.5,D180*L180)","v":{"$error":"#VALUE!"}},{"$f":"INDEX(Kalkulacja!U:U,S180)","v":{"$error":"#N/A"}},0,{"$f":"IF(O180=1,0,1)","v":1},null,null,{"$f":"MATCH(B180,Kalkulacja!I:I,0)","v":{"$error":"#N/A"}},null,0,0,{"$f":"IF(V180<10,\"0\"&V180,V180)","v":"00"},null,{"$error":"#VALUE!"},{"$error":"#VALUE!"},{"$f":"IF(Z180<10,\"0\"&Z180,Z180)","v":{"$error":"#VALUE!"}}]
[null,{"$f":"IF($O$1=\"x\",Kalkulacja!I180,\"\")","v":""},null,null,null,null,null,null,null,null,null,{"$f":"Kalkulacja!K180","v":0},{"$f":"IF(Kalkulacja!$U$414>0,D181*L181*1.5,D181*L181)","v":0},{"$f":"INDEX(Kalkulacja!U:U,S181)","v":{"$error":"#N/A"}},{"$f":"IF(SUM(O182:O187)>0,1,0)","v":0},1,null,{"$f":"IF($O$1=\"x\",\"y\",\"\")","v":""},{"$f":"MATCH(B181,Kalkulacja!I:I,0)","v":{"$error":"#N/A"}},null,0,0,"00",null,0,0,"00"]
[null,{"$f":"IF($O$1=\"x\",Kalkulacja!I181,\"\")","v":""},"",{"$f":"IF($O$1=\"x\",Kalkulacja!U181,\"\")","v":""},"",null,null,null,null,null,null,{"$f":"Kalkulacja!K181","v":0},{"$f":"IF(Kalkulacja!$U$414>0,D182*L182*1.5,D182*L182)","v":{"$error":"#VALUE!"}},{"$f":"INDEX(Kalkulacja!U:U,S182)","v":{"$error":"#N/A"}},{"$f":"IF(L182>0,IF(N182>0,1,0),0)","v":0},1,null,null,{"$f":"MATCH(B182,Kalkulacja!I:I,0)","v":{"$error":"#N/A"}},null,0,0,"00",null,{"$error":"#VALUE!"},{"$error":"#VALUE!"},{"$error":"#VALUE!"}]
[null,{"$f":"IF($O$1=\"x\",Kalkulacja!I182,\"\")","v":""},"",{"$f":"IF($O$1=\"x\",Kalkulacja!U182,\"\")","v":""},"",null,null,null,null,null,null,{"$f":"Kalkulacja!K182","v":0},{"$f":"IF(Kalkulacja!$U$414>0,D183*L183*1.5,D183*L183)","v":{"$error":"#VALUE!"}},{"$f":"INDEX(Kalkulacja!U:U,S183)","v":{"$error":"#N/A"}},0,1,null,null,{"$f":"MATCH(B183,Kalkulacja!I:I,0)","v":{"$error":"#N/A"}},null,0,0,"00",null,{"$error":"#VALUE!"},{"$error":"#VALUE!"},{"$error":"#VALUE!"}]
[null,{"$f":"IF($O$1=\"x\",Kalkulacja!I183,\"\")","v":""},"",{"$f":"IF($O$1=\"x\",Kalkulacja!U183,\"\")","v":""},"",null,null,null,null,null,null,{"$f":"Kalkulacja!K183","v":0},{"$f":"IF(Kalkulacja!$U$414>0,D184*L184*1.5,D184*L184)","v":{"$error":"#VALUE!"}},{"$f":"INDEX(Kalkulacja!U:U,S184)","v":{"$error":"#N/A"}},0,1,null,null,{"$f":"MATCH(B184,Kalkulacja!I:I,0)","v":{"$error":"#N/A"}},null,0,0,"00",null,{"$error":"#VALUE!"},{"$error":"#VALUE!"},{"$error":"#VALUE!"}]
[null,{"$f":"IF($O$1=\"x\",Kalkulacja!I184,\"\")","v":""},"",{"$f":"IF($O$1=\"x\",Kalkulacja!U184,\"\")","v":""},"",null,null,null,null,null,null,{"$f":"Kalkulacja!K184","v":0},{"$f":"IF(Kalkulacja!$U$414>0,D185*L185*1.5,D185*L185)","v":{"$error":"#VALUE!"}},{"$f":"INDEX(Kalkulacja!U:U,S185)","v":{"$error":"#N/A"}},0,1,null,null,{"$f":"MATCH(B185,Kalkulacja!I:I,0)","v":{"$error":"#N/A"}},null,0,0,"00",null,{"$error":"#VALUE!"},{"$error":"#VALUE!"},{"$error":"#VALUE!"}]
[null,{"$f":"IF($O$1=\"x\",Kalkulacja!I185,\"\")","v":""},"",{"$f":"IF($O$1=\"x\",Kalkulacja!U185,\"\")","v":""},"",null,null,null,null,null,null,{"$f":"Kalkulacja!K185","v":0},{"$f":"IF(Kalkulacja!$U$414>0,D186*L186*1.5,D186*L186)","v":{"$error":"#VALUE!"}},{"$f":"INDEX(Kalkulacja!U:U,S186)","v":{"$error":"#N/A"}},0,1,null,null,{"$f":"MATCH(B186,Kalkulacja!I:I,0)","v":{"$error":"#N/A"}},null,0,0,"00",null,{"$error":"#VALUE!"},{"$error":"#VALUE!"},{"$error":"#VALUE!"}]
[null,{"$f":"IF($O$1=\"x\",Kalkulacja!I186,\"\")","v":""},"",{"$f":"IF($O$1=\"x\",Kalkulacja!U186,\"\")","v":""},"",null,null,null,null,null,null,{"$f":"Kalkulacja!K186","v":0},{"$f":"IF(Kalkulacja!$U$414>0,D187*L187*1.5,D187*L187)","v":{"$error":"#VALUE!"}},{"$f":"INDEX(Kalkulacja!U:U,S187)","v":{"$error":"#N/A"}},0,1,null,null,{"$f":"MATCH(B187,Kalkulacja!I:I,0)","v":{"$error":"#N/A"}},null,0,0,"00",null,{"$error":"#VALUE!"},{"$error":"#VALUE!"},{"$error":"#VALUE!"}]
[null,{"$f":"IF($O$1=\"x\",Kalkulacja!I187,\"\")","v":""},null,null,null,null,null,null,null,null,null,{"$f":"Kalkulacja!K187","v":0},{"$f":"IF(Kalkulacja!$U$414>0,D188*L188*1.5,D188*L188)","v":0},{"$f":"INDEX(Kalkulacja!U:U,S188)","v":{"$error":"#N/A"}},{"$f":"IF(SUM(O189:O194)>0,1,0)","v":{"$error":"#N/A"}},{"$error":"#N/A"},null,{"$f":"IF($O$1=\"x\",\"y\",\"\")","v":""},{"$f":"MATCH(B188,Kalkulacja!I:I,0)","v":{"$error":"#N/A"}},null,0,0,"00",null,0,0,"00"]
[null,{"$f":"IF($O$1=\"x\",Kalkulacja!I188,\"\")","v":""},"",{"$f":"IF($O$1=\"x\",Kalkulacja!U188,\"\")","v":""},"",null,null,null,null,null,null,{"$f":"Kalkulacja!K188","v":0},{"$f":"IF(Kalkulacja!$U$414>0,D189*L189*1.5,D189*L189)","v":{"$error":"#VALUE!"}},{"$f":"INDEX(Kalkulacja!U:U,S189)","v":{"$error":"#N/A"}},{"$f":"IF(L189>0,IF(N189>0,1,0),0)","v":0},1,null,null,{"$f":"MATCH(B189,Kalkulacja!I:I,0)","v":{"$error":"#N/A"}},null,0,0,"00",null,{"$error":"#VALUE!"},{"$error":"#VALUE!"},{"$error":"#VALUE!"}]
[null,{"$f":"IF($O$1=\"x\",Kalkulacja!I189,\"\")","v":""},"",{"$f":"IF($O$1=\"x\",Kalkulacja!U189,\"\")","v":""},"",null,null,null,null,null,null,{"$f":"Kalkulacja!K189","v":3},{"$f":"IF(Kalkulacja!$U$414>0,D190*L190*1.5,D190*L190)","v":{"$error":"#VALUE!"}},{"$f":"INDEX(Kalkulacja!U:U,S190)","v":{"$error":"#N/A"}},{"$error":"#N/A"},{"$error":"#N/A"},null,null,{"$f":"MATCH(B190,Kalkulacja!I:I,0)","v":{"$error":"#N/A"}},null,3,0,"00",null,{"$error":"#VALUE!"},{"$error":"#VALUE!"},{"$error":"#VALUE!"}]
[null,{"$f":"IF($O$1=\"x\",Kalkulacja!I190,\"\")","v":""},"",{"$f":"IF($O$1=\"x\",Kalkulacja!U190,\"\")","v":""},"",null,null,null,null,null,null,{"$f":"Kalkulacja!K190","v":0.3},{"$f":"IF(Kalkulacja!$U$414>0,D191*L191*1.5,D191*L191)","v":{"$error":"#VALUE!"}},{"$f":"INDEX(Kalkulacja!U:U,S191)","v":{"$error":"#N/A"}},{"$error":"#N/A"},{"$error":"#N/A"},null,null,{"$f":"MATCH(B191,Kalkulacja!I:I,0)","v":{"$error":"#N/A"}},null,0,18,18,null,{"$error":"#VALUE!"},{"$error":"#VALUE!"},{"$error":"#VALUE!"}]
[null,{"$f":"IF($O$1=\"x\",Kalkulacja!I191,\"\")","v":""},"",{"$f":"IF($O$1=\"x\",Kalkulacja!U191,\"\")","v":""},"",null,null,null,null,null,null,{"$f":"Kalkulacja!K191","v":0},{"$f":"IF(Kalkulacja!$U$414>0,D192*L192*1.5,D192*L192)","v":{"$error":"#VALUE!"}},{"$f":"INDEX(Kalkulacja!U:U,S192)","v":{"$error":"#N/A"}},0,1,null,null,{"$f":"MATCH(B192,Kalkulacja!I:I,0)","v":{"$error":"#N/A"}},null,0,0,"00",null,{"$error":"#VALUE!"},{"$error":"#VALUE!"},{"$error":"#VALUE!"}]
[null,{"$f":"IF($O$1=\"x\",Kalkulacja!I192,\"\")","v":""},"",{"$f":"IF($O$1=\"x\",Kalkulacja!U192,\"\")","v":""},"",null,null,null,null,null,null,{"$f":"Kalkulacja!K192","v":0},{"$f":"IF(Kalkulacja!$U$414>0,D193*L193*1.5,D193*L193)","v":{"$error":"#VALUE!"}},{"$f":"INDEX(Kalkulacja!U:U,S193)","v":{"$error":"#N/A"}},0,1,null,null,{"$f":"MATCH(B193,Kalkulacja!I:I,0)","v":{"$error":"#N/A"}},null,0,0,"00",null,{"$error":"#VALUE!"},{"$error":"#VALUE!"},{"$error":"#VALUE!"}]
[null,{"$f":"IF($O$1=\"x\",Kalkulacja!I193,\"\")","v":""},"",{"$f":"IF($O$1=\"x\",Kalkulacja!U193,\"\")","v":""},"",null,null,null,null,null,null,{"$f":"Kalkulacja!K193","v":0},{"$f":"IF(Kalkulacja!$U$414>0,D194*L194*1.5,D194*L194)","v":{"$error":"#VALUE!"}},{"$f":"INDEX(Kalkulacja!U:U,S194)","v":{"$error":"#N/A"}},0,1,null,null,{"$f":"MATCH(B194,Kalkulacja!I:I,0)","v":{"$error":"#N/A"}},null,0,0,"00",null,{"$error":"#VALUE!"},{"$error":"#VALUE!"},{"$error":"#VALUE!"}]
[null,{"$f":"IF($O$1=\"x\",Kalkulacja!I194,\"\")","v":""},null,null,null,null,null,null,null,null,null,{"$f":"Kalkulacja!K194","v":0},{"$f":"IF(Kalkulacja!$U$414>0,D195*L195*1.5,D195*L195)","v":0},{"$f":"INDEX(Kalkulacja!U:U,S195)","v":{"$error":"#N/A"}},{"$f":"IF(SUM(O196:O199)>0,1,0)","v":{"$error":"#N/A"}},{"$error":"#N/A"},null,{"$f":"IF($O$1=\"x\",\"y\",\"\")","v":""},{"$f":"MATCH(B195,Kalkulacja!I:I,0)","v":{"$error":"#N/A"}},null,0,0,"00",null,0,0,"00"]
[null,{"$f":"IF($O$1=\"x\",Kalkulacja!I195,\"\")","v":""},"",{"$f":"IF($O$1=\"x\",Kalkulacja!U195,\"\")","v":""},"",null,null,null,null,null,null,{"$f":"Kalkulacja!K195","v":2},{"$f":"IF(Kalkulacja!$U$414>0,D196*L196*1.5,D196*L196)","v":{"$error":"#VALUE!"}},{"$f":"INDEX(Kalkulacja!U:U,S196)","v":{"$error":"#N/A"}},{"$f":"IF(L196>0,IF(N196>0,1,0),0)","v":{"$error":"#N/A"}},{"$error":"#N/A"},null,null,{"$f":"MATCH(B196,Kalkulacja!I:I,0)","v":{"$error":"#N/A"}},null,2,0,"00",null,{"$error":"#VALUE!"},{"$error":"#VALUE!"},{"$error":"#VALUE!"}]
[null,{"$f":"IF($O$1=\"x\",Kalkulacja!I196,\"\")","v":""},"",{"$f":"IF($O$1=\"x\",Kalkulacja!U196,\"\")","v":""},"",null,null,null,null,null,null,{"$f":"Kalkulacja!K196","v":3},{"$f":"IF(Kalkulacja!$U$414>0,D197*L197*1.5,D197*L197)","v":{"$error":"#VALUE!"}},{"$f":"INDEX(Kalkulacja!U:U,S197)","v":{"$error":"#N/A"}},{"$f":"IF(L197>0,IF(N197>0,1,0),0)","v":{"$error":"#N/A"}},{"$error":"#N/A"},null,null,{"$f":"MATCH(B197,Kalkulacja!I:I,0)","v":{"$error":"#N/A"}},null,{"$f":"TRUNC(L197)","v":3},{"$f":"ROUND((L197-U197)*60,0)","v":0},"00",null,{"$f":"TRUNC(M197)","v":{"$error":"#VALUE!"}},{"$f":"ROUND((M197-Y197)*60,0)","v":{"$error":"#VALUE!"}},{"$error":"#VALUE!"}]
[null,{"$f":"IF($O$1=\"x\",Kalkulacja!I197,\"\")","v":""},"",{"$f":"IF($O$1=\"x\",Kalkulacja!U197,\"\")","v":""},"",null,null,null,null,null,null,{"$f":"Kalkulacja!K197","v":0},{"$f":"IF(Kalkulacja!$U$414>0,D198*L198*1.5,D198*L198)","v":{"$error":"#VALUE!"}},{"$f":"INDEX(Kalkulacja!U:U,S198)","v":{"$error":"#N/A"}},{"$f":"IF(L198>0,IF(N198>0,1,0),0)","v":0},1,null,null,{"$f":"MATCH(B198,Kalkulacja!I:I,0)","v":{"$error":"#N/A"}},null,0,0,"00",null,{"$error":"#VALUE!"},{"$error":"#VALUE!"},{"$error":"#VALUE!"}]
[null,{"$f":"IF($O$1=\"x\",Kalkulacja!I198,\"\")","v":""},"",{"$f":"IF($O$1=\"x\",Kalkulacja!U198,\"\")","v":""},"",null,null,null,null,null,null,{"$f":"Kalkulacja!K198","v":0},{"$f":"IF(Kalkulacja!$U$414>0,D199*L199*1.5,D199*L199)","v":{"$error":"#VALUE!"}},{"$f":"INDEX(Kalkulacja!U:U,S199)","v":{"$error":"#N/A"}},{"$f":"IF(L199>0,IF(N199>0,1,0),0)","v":0},1,null,null,{"$f":"MATCH(B199,Kalkulacja!I:I,0)","v":{"$error":"#N/A"}},null,0,0,"00",null,{"$error":"#VALUE!"},{"$error":"#VALUE!"},{"$error":"#VALUE!"}]
[null,{"$f":"IF($O$1=\"x\",Kalkulacja!I199,\"\")","v":""},null,null,null,null,null,null,null,null,null,{"$f":"Kalkulacja!K199","v":0},{"$f":"IF(Kalkulacja!$U$414>0,D200*L200*1.5,D200*L200)","v":0},{"$f":"INDEX(Kalkulacja!U:U,S200)","v":{"$error":"#N/A"}},{"$f":"IF(SUM(O201:O204)>0,1,0)","v":0},1,null,{"$f":"IF($O$1=\"x\",\"y\",\"\")","v":""},{"$f":"MATCH(B200,Kalkulacja!I:I,0)","v":{"$error":"#N/A"}},null,0,0,"00",null,0,0,"00"]
[null,{"$f":"IF($O$1=\"x\",Kalkulacja!I200,\"\")","v":""},"",{"$f":"IF($O$1=\"x\",Kalkulacja!U200,\"\")","v":""},"",null,null,null,null,null,null,{"$f":"Kalkulacja!K200","v":0},{"$f":"IF(Kalkulacja!$U$414>0,D201*L201*1.5,D201*L201)","v":{"$error":"#VALUE!"}},{"$f":"INDEX(Kalkulacja!U:U,S201)","v":{"$error":"#N/A"}},{"$f":"IF(L201>0,IF(N201>0,1,0),0)","v":0},1,null,null,{"$f":"MATCH(B201,Kalkulacja!I:I,0)","v":{"$error":"#N/A"}},null,0,0,"00",null,{"$error":"#VALUE!"},{"$error":"#VALUE!"},{"$error":"#VALUE!"}]
[null,{"$f":"IF($O$1=\"x\",Kalkulacja!I201,\"\")","v":""},"",{"$f":"IF($O$1=\"x\",Kalkulacja!U201,\"\")","v":""},"",null,null,null,null,null,null,{"$f":"Kalkulacja!K201","v":0},{"$f":"IF(Kalkulacja!$U$414>0,D202*L202*1.5,D202*L202)","v":{"$error":"#VALUE!"}},{"$f":"INDEX(Kalkulacja!U:U,S202)","v":{"$error":"#N/A"}},{"$f":"IF(L202>0,IF(N202>0,1,0),0)","v":0},1,null,null,{"$f":"MATCH(B202,Kalkulacja!I:I,0)","v":{"$error":"#N/A"}},null,0,0,"00",null,{"$error":"#VALUE!"},{"$error":"#VALUE!"},{"$error":"#VALUE!"}]
[null,{"$f":"IF($O$1=\"x\",Kalkulacja!I202,\"\")","v":""},"",{"$f":"IF($O$1=\"x\",Kalkulacja!U202,\"\")","v":""},"",null,null,null,null,null,null,{"$f":"Kalkulacja!K202","v":0},{"$f":"IF(Kalkulacja!$U$414>0,D203*L203*1.5,D203*L203)","v":{"$error":"#VALUE!"}},{"$f":"INDEX(Kalkulacja!U:U,S203)","v":{"$error":"#N/A"}},{"$f":"IF(L203>0,IF(N203>0,1,0),0)","v":0},1,null,null,{"$f":"MATCH(B203,Kalkulacja!I:I,0)","v":{"$error":"#N/A"}},null,0,0,"00",null,{"$error":"#VALUE!"},{"$error":"#VALUE!"},{"$error":"#VALUE!"}]
[null,{"$f":"IF($O$1=\"x\",Kalkulacja!I203,\"\")","v":""},"",{"$f":"IF($O$1=\"x\",Kalkulacja!U203,\"\")","v":""},"",null,null,null,null,null,null,{"$f":"Kalkulacja!K203","v":0},{"$f":"IF(Kalkulacja!$U$414>0,D204*L204*1.5,D204*L204)","v":{"$error":"#VALUE!"}},{"$f":"INDEX(Kalkulacja!U:U,S204)","v":{"$error":"#N/A"}},{"$f":"IF(L204>0,IF(N204>0,1,0),0)","v":0},1,null,null,{"$f":"MATCH(B204,Kalkulacja!I:I,0)","v":{"$error":"#N/A"}},null,0,0,"00",null,{"$error":"#VALUE!"},{"$error":"#VALUE!"},{"$error":"#VALUE!"}]
[null,{"$f":"IF($O$1=\"x\",Kalkulacja!I204,\"\")","v":""},null,null,null,null,null,null,null,null,null,{"$f":"Kalkulacja!K204","v":0},{"$f":"IF(Kalkulacja!$U$414>0,D205*L205*1.5,D205*L205)","v":0},{"$f":"INDEX(Kalkulacja!U:U,S205)","v":{"$error":"#N/A"}},{"$f":"IF(SUM(O206:O223)>0,1,0)","v":{"$error":"#N/A"}},{"$error":"#N/A"},null,{"$f":"IF($O$1=\"x\",\"x\",\"\")","v":""},{"$f":"MATCH(B205,Kalkulacja!I:I,0)","v":{"$error":"#N/A"}},null,0,0,"00",null,0,0,"00"]
[null,{"$f":"IF($O$1=\"x\",Kalkulacja!I205,\"\")","v":""},"",{"$f":"IF($O$1=\"x\",Kalkulacja!U205,\"\")","v":""},"",null,null,null,null,null,null,{"$f":"Kalkulacja!K205","v":1},{"$f":"IF(Kalkulacja!$U$414>0,D206*L206*1.5,D206*L206)","v":{"$error":"#VALUE!"}},{"$f":"INDEX(Kalkulacja!U:U,S206)","v":{"$error":"#N/A"}},{"$f":"IF(L206>0,IF(N206>0,1,0),0)","v":{"$error":"#N/A"}},{"$error":"#N/A"},null,null,{"$f":"MATCH(B206,Kalkulacja!I:I,0)","v":{"$error":"#N/A"}},null,1,0,"00",null,{"$error":"#VALUE!"},{"$error":"#VALUE!"},{"$error":"#VALUE!"}]
[null,{"$f":"IF($O$1=\"x\",Kalkulacja!I206,\"\")","v":""},"",{"$f":"IF($O$1=\"x\",Kalkulacja!U206,\"\")","v":""},"",null,null,null,null,null,null,{"$f":"Kalkulacja!K206","v":1},{"$f":"IF(Kalkulacja!$U$414>0,D207*L207*1.5,D207*L207)","v":{"$error":"#VALUE!"}},{"$f":"INDEX(Kalkulacja!U:U,S207)","v":{"$error":"#N/A"}},{"$error":"#N/A"},{"$error":"#N/A"},null,null,{"$f":"MATCH(B207,Kalkulacja!I:I,0)","v":{"$error":"#N/A"}},null,1,0,"00",null,{"$error":"#VALUE!"},{"$error":"#VALUE!"},{"$error":"#VALUE!"}]
[null,{"$f":"IF($O$1=\"x\",Kalkulacja!I207,\"\")","v":""},"",{"$f":"IF($O$1=\"x\",Kalkulacja!U207,\"\")","v":""},"",null,null,null,null,null,null,{"$f":"Kalkulacja!K207","v":0.5},{"$f":"IF(Kalkulacja!$U$414>0,D208*L208*1.5,D208*L208)","v":{"$error":"#VALUE!"}},{"$f":"INDEX(Kalkulacja!U:U,S208)","v":{"$error":"#N/A"}},{"$error":"#N/A"},{"$error":"#N/A"},null,null,{"$f":"MATCH(B208,Kalkulacja!I:I,0)","v":{"$error":"#N/A"}},null,0,30,30,null,{"$error":"#VALUE!"},{"$error":"#VALUE!"},{"$error":"#VALUE!"}]
[null,{"$f":"IF($O$1=\"x\",Kalkulacja!I208,\"\")","v":""},"",{"$f":"IF($O$1=\"x\",Kalkulacja!U208,\"\")","v":""},"",null,null,null,null,null,null,{"$f":"Kalkulacja!K208","v":0},{"$f":"IF(Kalkulacja!$U$414>0,D209*L209*1.5,D209*L209)","v":{"$error":"#VALUE!"}},{"$f":"INDEX(Kalkulacja!U:U,S209)","v":{"$error":"#N/A"}},0,1,null,null,{"$f":"MATCH(B209,Kalkulacja!I:I,0)","v":{"$error":"#N/A"}},null,0,0,"00",null,{"$error":"#VALUE!"},{"$error":"#VALUE!"},{"$error":"#VALUE!"}]
[null,{"$f":"IF($O$1=\"x\",Kalkulacja!I209,\"\")","v":""},"",{"$f":"IF($O$1=\"x\",Kalkulacja!U209,\"\")","v":""},"",null,null,null,null,null,null,{"$f":"Kalkulacja!K209","v":1},{"$f":"IF(Kalkulacja!$U$414>0,D210*L210*1.5,D210*L210)","v":{"$error":"#VALUE!"}},{"$f":"INDEX(Kalkulacja!U:U,S210)","v":{"$error":"#N/A"}},{"$error":"#N/A"},{"$error":"#N/A"},null,null,{"$f":"MATCH(B210,Kalkulacja!I:I,0)","v":{"$error":"#N/A"}},null,1,0,"00",null,{"$error":"#VALUE!"},{"$error":"#VALUE!"},{"$error":"#VALUE!"}]
[null,{"$f":"IF($O$1=\"x\",Kalkulacja!I210,\"\")","v":""},"",{"$f":"IF($O$1=\"x\",Kalkulacja!U210,\"\")","v":""},"",null,null,null,null,null,null,{"$f":"Kalkulacja!K210","v":0},{"$f":"IF(Kalkulacja!$U$414>0,D211*L211*1.5,D211*L211)","v":{"$error":"#VALUE!"}},{"$f":"INDEX(Kalkulacja!U:U,S211)","v":{"$error":"#N/A"}},0,1,null,null,{"$f":"MATCH(B211,Kalkulacja!I:I,0)","v":{"$error":"#N/A"}},null,0,0,"00",null,{"$error":"#VALUE!"},{"$error":"#VALUE!"},{"$error":"#VALUE!"}]
[null,{"$f":"IF($O$1=\"x\",Kalkulacja!I211,\"\")","v":""},{"$f":"IF($O$1=\"x\",U212&\":\"&W212,\"\")","v":""},{"$f":"IF($O$1=\"x\",Kalkulacja!U211,\"\")","v":""},"",null,null,null,null,null,null,{"$f":"Kalkulacja!K211","v":0},{"$f":"IF(Kalkulacja!$U$414>0,D212*L212*1.5,D212*L212)","v":{"$error":"#VALUE!"}},{"$f":"INDEX(Kalkulacja!U:U,S212)","v":{"$error":"#N/A"}},0,1,null,null,{"$f":"MATCH(B212,Kalkulacja!I:I,0)","v":{"$error":"#N/A"}},null,0,0,"00",null,{"$error":"#VALUE!"},{"$error":"#VALUE!"},{"$error":"#VALUE!"}]
[null,{"$f":"IF($O$1=\"x\",Kalkulacja!I212,\"\")","v":""},"",{"$f":"IF($O$1=\"x\",Kalkulacja!U212,\"\")","v":""},"",null,null,null,null,null,null,{"$f":"Kalkulacja!K212","v":0},{"$f":"IF(Kalkulacja!$U$414>0,D213*L213*1.5,D213*L213)","v":{"$error":"#VALUE!"}},{"$f":"INDEX(Kalkulacja!U:U,S213)","v":{"$error":"#N/A"}},0,1,null,null,{"$f":"MATCH(B213,Kalkulacja!I:I,0)","v":{"$error":"#N/A"}},null,0,0,"00",null,{"$error":"#VALUE!"},{"$error":"#VALUE!"},{"$error":"#VALUE!"}]
[null,{"$f":"IF($O$1=\"x\",Kalkulacja!I213,\"\")","v":""},"",{"$f":"IF($O$1=\"x\",Kalkulacja!U213,\"\")","v":""},"",null,null,null,null,null,null,{"$f":"Kalkulacja!K213","v":0.5},{"$f":"IF(Kalkulacja!$U$414>0,D214*L214*1.5,D214*L214)","v":{"$error":"#VALUE!"}},{"$f":"INDEX(Kalkulacja!U:U,S214)","v":{"$error":"#N/A"}},{"$error":"#N/A"},{"$error":"#N/A"},null,null,{"$f":"MATCH(B214,Kalkulacja!I:I,0)","v":{"$error":"#N/A"}},null,0,30,30,null,{"$error":"#VALUE!"},{"$error":"#VALUE!"},{"$error":"#VALUE!"}]
[null,{"$f":"IF($O$1=\"x\",Kalkulacja!I214,\"\")","v":""},"",{"$f":"IF($O$1=\"x\",Kalkulacja!U214,\"\")","v":""},"",null,null,null,null,null,null,{"$f":"Kalkulacja!K214","v":0.5},{"$f":"IF(Kalkulacja!$U$414>0,D215*L215*1.5,D215*L215)","v":{"$error":"#VALUE!"}},{"$f":"INDEX(Kalkulacja!U:U,S215)","v":{"$error":"#N/A"}},{"$error":"#N/A"},{"$error":"#N/A"},null,null,{"$f":"MATCH(B215,Kalkulacja!I:I,0)","v":{"$error":"#N/A"}},null,0,30,30,null,{"$error":"#VALUE!"},{"$error":"#VALUE!"},{"$error":"#VALUE!"}]
[null,{"$f":"IF($O$1=\"x\",Kalkulacja!I215,\"\")","v":""},"",{"$f":"IF($O$1=\"x\",Kalkulacja!U215,\"\")","v":""},{"$f":"IF($O$1=\"x\",Y216&\":\"&AA216,\"\")","v":""},null,null,null,null,null,null,{"$f":"Kalkulacja!K215","v":0.5},{"$f":"IF(Kalkulacja!$U$414>0,D216*L216*1.5,D216*L216)","v":{"$error":"#VALUE!"}},{"$f":"INDEX(Kalkulacja!U:U,S216)","v":{"$error":"#N/A"}},{"$error":"#N/A"},{"$error":"#N/A"},null,null,{"$f":"MATCH(B216,Kalkulacja!I:I,0)","v":{"$error":"#N/A"}},null,0,30,30,null,{"$error":"#VALUE!"},{"$error":"#VALUE!"},{"$error":"#VALUE!"}]
[null,{"$f":"IF($O$1=\"x\",Kalkulacja!I216,\"\")","v":""},"",{"$f":"IF($O$1=\"x\",Kalkulacja!U216,\"\")","v":""},"",null,null,null,null,null,null,{"$f":"Kalkulacja!K216","v":0.5},{"$f":"IF(Kalkulacja!$U$414>0,D217*L217*1.5,D217*L217)","v":{"$error":"#VALUE!"}},{"$f":"INDEX(Kalkulacja!U:U,S217)","v":{"$error":"#N/A"}},{"$error":"#N/A"},{"$error":"#N/A"},null,null,{"$f":"MATCH(B217,Kalkulacja!I:I,0)","v":{"$error":"#N/A"}},null,0,30,30,null,{"$error":"#VALUE!"},{"$error":"#VALUE!"},{"$error":"#VALUE!"}]
[null,{"$f":"IF($O$1=\"x\",Kalkulacja!I217,\"\")","v":""},"",{"$f":"IF($O$1=\"x\",Kalkulacja!U217,\"\")","v":""},"",null,null,null,null,null,null,{"$f":"Kalkulacja!K217","v":1},{"$f":"IF(Kalkulacja!$U$414>0,D218*L218*1.5,D218*L218)","v":{"$error":"#VALUE!"}},{"$f":"INDEX(Kalkulacja!U:U,S218)","v":{"$error":"#N/A"}},{"$error":"#N/A"},{"$error":"#N/A"},null,null,{"$f":"MATCH(B218,Kalkulacja!I:I,0)","v":{"$error":"#N/A"}},null,1,0,"00",null,{"$error":"#VALUE!"},{"$error":"#VALUE!"},{"$error":"#VALUE!"}]
[null,{"$f":"IF($O$1=\"x\",Kalkulacja!I218,\"\")","v":""},"",{"$f":"IF($O$1=\"x\",Kalkulacja!U218,\"\")","v":""},"",null,null,null,null,null,null,{"$f":"Kalkulacja!K218","v":0},{"$f":"IF(Kalkulacja!$U$414>0,D219*L219*1.5,D219*L219)","v":{"$error":"#VALUE!"}},{"$f":"INDEX(Kalkulacja!U:U,S219)","v":{"$error":"#N/A"}},0,1,null,null,{"$f":"MATCH(B219,Kalkulacja!I:I,0)","v":{"$error":"#N/A"}},null,0,0,"00",null,{"$error":"#VALUE!"},{"$error":"#VALUE!"},{"$error":"#VALUE!"}]
[null,{"$f":"IF($O$1=\"x\",Kalkulacja!I219,\"\")","v":""},"",{"$f":"IF($O$1=\"x\",Kalkulacja!U219,\"\")","v":""},"",null,null,null,null,null,null,{"$f":"Kalkulacja!K219","v":0},{"$f":"IF(Kalkulacja!$U$414>0,D220*L220*1.5,D220*L220)","v":{"$error":"#VALUE!"}},{"$f":"INDEX(Kalkulacja!U:U,S220)","v":{"$error":"#N/A"}},0,1,null,null,{"$f":"MATCH(B220,Kalkulacja!I:I,0)","v":{"$error":"#N/A"}},null,0,0,"00",null,{"$error":"#VALUE!"},{"$error":"#VALUE!"},{"$error":"#VALUE!"}]
[null,{"$f":"IF($O$1=\"x\",Kalkulacja!I220,\"\")","v":""},"",{"$f":"IF($O$1=\"x\",Kalkulacja!U220,\"\")","v":""},"",null,null,null,null,null,null,{"$f":"Kalkulacja!K220","v":0},{"$f":"IF(Kalkulacja!$U$414>0,D221*L221*1.5,D221*L221)","v":{"$error":"#VALUE!"}},{"$f":"INDEX(Kalkulacja!U:U,S221)","v":{"$error":"#N/A"}},0,1,null,null,{"$f":"MATCH(B221,Kalkulacja!I:I,0)","v":{"$error":"#N/A"}},null,0,0,"00",null,{"$error":"#VALUE!"},{"$error":"#VALUE!"},{"$error":"#VALUE!"}]
[null,{"$f":"IF($O$1=\"x\",Kalkulacja!I221,\"\")","v":""},"",{"$f":"IF($O$1=\"x\",Kalkulacja!U221,\"\")","v":""},"",null,null,null,null,null,null,{"$f":"Kalkulacja!K221","v":0},{"$f":"IF(Kalkulacja!$U$414>0,D222*L222*1.5,D222*L222)","v":{"$error":"#VALUE!"}},{"$f":"INDEX(Kalkulacja!U:U,S222)","v":{"$error":"#N/A"}},0,1,null,null,{"$f":"MATCH(B222,Kalkulacja!I:I,0)","v":{"$error":"#N/A"}},null,0,0,"00",null,{"$error":"#VALUE!"},{"$error":"#VALUE!"},{"$error":"#VALUE!"}]
[null,{"$f":"IF($O$1=\"x\",Kalkulacja!I222,\"\")","v":""},"",{"$f":"IF($O$1=\"x\",Kalkulacja!U222,\"\")","v":""},"",null,null,null,null,null,null,{"$f":"Kalkulacja!K222","v":0},{"$f":"IF(Kalkulacja!$U$414>0,D223*L223*1.5,D223*L223)","v":{"$error":"#VALUE!"}},{"$f":"INDEX(Kalkulacja!U:U,S223)","v":{"$error":"#N/A"}},0,1,null,null,{"$f":"MATCH(B223,Kalkulacja!I:I,0)","v":{"$error":"#N/A"}},null,0,0,"00",null,{"$error":"#VALUE!"},{"$error":"#VALUE!"},{"$error":"#VALUE!"}]
[null,{"$f":"IF($O$1=\"x\",Kalkulacja!I223,\"\")","v":""},null,null,null,null,null,null,null,null,null,{"$f":"Kalkulacja!K223","v":0},{"$f":"IF(Kalkulacja!$U$414>0,D224*L224*1.5,D224*L224)","v":0},{"$f":"INDEX(Kalkulacja!U:U,S224)","v":{"$error":"#N/A"}},{"$f":"IF(SUM(O225:O251)>0,1,0)","v":{"$error":"#N/A"}},{"$error":"#N/A"},null,{"$f":"IF($O$1=\"x\",\"x\",\"\")","v":""},{"$f":"MATCH(B224,Kalkulacja!I:I,0)","v":{"$error":"#N/A"}},null,0,0,"00",null,0,0,"00"]
[null,{"$f":"IF($O$1=\"x\",Kalkulacja!I224,\"\")","v":""},{"$f":"IF($O$1=\"x\",U225&\":\"&W225,\"\")","v":""},{"$f":"IF($O$1=\"x\",Kalkulacja!U224,\"\")","v":""},"",null,null,null,null,null,null,{"$f":"Kalkulacja!K224","v":1},{"$f":"IF(Kalkulacja!$U$414>0,D225*L225*1.5,D225*L225)","v":{"$error":"#VALUE!"}},{"$f":"INDEX(Kalkulacja!U:U,S225)","v":{"$error":"#N/A"}},{"$f":"IF(L225>0,IF(N225>0,1,0),0)","v":{"$error":"#N/A"}},{"$error":"#N/A"},null,null,{"$f":"MATCH(B225,Kalkulacja!I:I,0)","v":{"$error":"#N/A"}},null,1,0,"00",null,{"$error":"#VALUE!"},{"$error":"#VALUE!"},{"$error":"#VALUE!"}]
[null,{"$f":"IF($O$1=\"x\",Kalkulacja!I225,\"\")","v":""},"",{"$f":"IF($O$1=\"x\",Kalkulacja!U225,\"\")","v":""},"",null,null,null,null,null,null,{"$f":"Kalkulacja!K225","v":2},{"$f":"IF(Kalkulacja!$U$414>0,D226*L226*1.5,D226*L226)","v":{"$error":"#VALUE!"}},{"$f":"INDEX(Kalkulacja!U:U,S226)","v":{"$error":"#N/A"}},{"$error":"#N/A"},{"$error":"#N/A"},null,null,{"$f":"MATCH(B226,Kalkulacja!I:I,0)","v":{"$error":"#N/A"}},null,2,0,"00",null,{"$error":"#VALUE!"},{"$error":"#VALUE!"},{"$error":"#VALUE!"}]
[null,{"$f":"IF($O$1=\"x\",Kalkulacja!I226,\"\")","v":""},"",{"$f":"IF($O$1=\"x\",Kalkulacja!U226,\"\")","v":""},"",null,null,null,null,null,null,{"$f":"Kalkulacja!K226","v":4},{"$f":"IF(Kalkulacja!$U$414>0,D227*L227*1.5,D227*L227)","v":{"$error":"#VALUE!"}},{"$f":"INDEX(Kalkulacja!U:U,S227)","v":{"$error":"#N/A"}},{"$error":"#N/A"},{"$error":"#N/A"},null,null,{"$f":"MATCH(B227,Kalkulacja!I:I,0)","v":{"$error":"#N/A"}},null,4,0,"00",null,{"$error":"#VALUE!"},{"$error":"#VALUE!"},{"$error":"#VALUE!"}]
[null,{"$f":"IF($O$1=\"x\",Kalkulacja!I227,\"\")","v":""},"",{"$f":"IF($O$1=\"x\",Kalkulacja!U227,\"\")","v":""},"",null,null,null,null,null,null,{"$f":"Kalkulacja!K227","v":0},{"$f":"IF(Kalkulacja!$U$414>0,D228*L228*1.5,D228*L228)","v":{"$error":"#VALUE!"}},{"$f":"INDEX(Kalkulacja!U:U,S228)","v":{"$error":"#N/A"}},0,1,null,null,{"$f":"MATCH(B228,Kalkulacja!I:I,0)","v":{"$error":"#N/A"}},null,0,0,"00",null,{"$error":"#VALUE!"},{"$error":"#VALUE!"},{"$error":"#VALUE!"}]
[null,{"$f":"IF($O$1=\"x\",Kalkulacja!I228,\"\")","v":""},"",{"$f":"IF($O$1=\"x\",Kalkulacja!U228,\"\")","v":""},"",null,null,null,null,null,null,{"$f":"Kalkulacja!K228","v":0},{"$f":"IF(Kalkulacja!$U$414>0,D229*L229*1.5,D229*L229)","v":{"$error":"#VALUE!"}},{"$f":"INDEX(Kalkulacja!U:U,S229)","v":{"$error":"#N/A"}},0,1,null,null,{"$f":"MATCH(B229,Kalkulacja!I:I,0)","v":{"$error":"#N/A"}},null,0,0,"00",null,{"$error":"#VALUE!"},{"$error":"#VALUE!"},{"$error":"#VALUE!"}]
[null,{"$f":"IF($O$1=\"x\",Kalkulacja!I229,\"\")","v":""},"",{"$f":"IF($O$1=\"x\",Kalkulacja!U229,\"\")","v":""},"",null,null,null,null,null,null,{"$f":"Kalkulacja!K229","v":0},{"$f":"IF(Kalkulacja!$U$414>0,D230*L230*1.5,D230*L230)","v":{"$error":"#VALUE!"}},{"$f":"INDEX(Kalkulacja!U:U,S230)","v":{"$error":"#N/A"}},0,1,null,null,{"$f":"MATCH(B230,Kalkulacja!I:I,0)","v":{"$error":"#N/A"}},null,0,0,"00",null,{"$error":"#VALUE!"},{"$error":"#VALUE!"},{"$error":"#VALUE!"}]
[null,{"$f":"IF($O$1=\"x\",Kalkulacja!I230,\"\")","v":""},"",{"$f":"IF($O$1=\"x\",Kalkulacja!U230,\"\")","v":""},"",null,null,null,null,null,null,{"$f":"Kalkulacja!K230","v":1.5},{"$f":"IF(Kalkulacja!$U$414>0,D231*L231*1.5,D231*L231)","v":{"$error":"#VALUE!"}},{"$f":"INDEX(Kalkulacja!U:U,S231)","v":{"$error":"#N/A"}},{"$error":"#N/A"},{"$error":"#N/A"},null,null,{"$f":"MATCH(B231,Kalkulacja!I:I,0)","v":{"$error":"#N/A"}},null,1,30,30,null,{"$error":"#VALUE!"},{"$error":"#VALUE!"},{"$error":"#VALUE!"}]
[null,{"$f":"IF($O$1=\"x\",Kalkulacja!I231,\"\")","v":""},"",{"$f":"IF($O$1=\"x\",Kalkulacja!U231,\"\")","v":""},"",null,null,null,null,null,null,{"$f":"Kalkulacja!K231","v":2},{"$f":"IF(Kalkulacja!$U$414>0,D232*L232*1.5,D232*L232)","v":{"$error":"#VALUE!"}},{"$f":"INDEX(Kalkulacja!U:U,S232)","v":{"$error":"#N/A"}},{"$error":"#N/A"},{"$error":"#N/A"},null,null,{"$f":"MATCH(B232,Kalkulacja!I:I,0)","v":{"$error":"#N/A"}},null,2,0,"00",null,{"$error":"#VALUE!"},{"$error":"#VALUE!"},{"$error":"#VALUE!"}]
[null,{"$f":"IF($O$1=\"x\",Kalkulacja!I232,\"\")","v":""},"",{"$f":"IF($O$1=\"x\",Kalkulacja!U232,\"\")","v":""},"",null,null,null,null,null,null,{"$f":"Kalkulacja!K232","v":2},{"$f":"IF(Kalkulacja!$U$414>0,D233*L233*1.5,D233*L233)","v":{"$error":"#VALUE!"}},{"$f":"INDEX(Kalkulacja!U:U,S233)","v":{"$error":"#N/A"}},{"$error":"#N/A"},{"$error":"#N/A"},null,null,{"$f":"MATCH(B233,Kalkulacja!I:I,0)","v":{"$error":"#N/A"}},null,2,0,"00",null,{"$error":"#VALUE!"},{"$error":"#VALUE!"},{"$error":"#VALUE!"}]
[null,{"$f":"IF($O$1=\"x\",Kalkulacja!I233,\"\")","v":""},"",{"$f":"IF($O$1=\"x\",Kalkulacja!U233,\"\")","v":""},"",null,null,null,null,null,null,{"$f":"Kalkulacja!K233","v":3},{"$f":"IF(Kalkulacja!$U$414>0,D234*L234*1.5,D234*L234)","v":{"$error":"#VALUE!"}},{"$f":"INDEX(Kalkulacja!U:U,S234)","v":{"$error":"#N/A"}},{"$error":"#N/A"},{"$error":"#N/A"},null,null,{"$f":"MATCH(B234,Kalkulacja!I:I,0)","v":{"$error":"#N/A"}},null,3,0,"00",null,{"$error":"#VALUE!"},{"$error":"#VALUE!"},{"$error":"#VALUE!"}]
[null,{"$f":"IF($O$1=\"x\",Kalkulacja!I234,\"\")","v":""},"",{"$f":"IF($O$1=\"x\",Kalkulacja!U234,\"\")","v":""},"",null,null,null,null,null,null,{"$f":"Kalkulacja!K234","v":0.2},{"$f":"IF(Kalkulacja!$U$414>0,D235*L235*1.5,D235*L235)","v":{"$error":"#VALUE!"}},{"$f":"INDEX(Kalkulacja!U:U,S235)","v":{"$error":"#N/A"}},{"$error":"#N/A"},{"$error":"#N/A"},null,null,{"$f":"MATCH(B235,Kalkulacja!I:I,0)","v":{"$error":"#N/A"}},null,0,12,12,null,{"$error":"#VALUE!"},{"$error":"#VALUE!"},{"$error":"#VALUE!"}]
[null,{"$f":"IF($O$1=\"x\",Kalkulacja!I235,\"\")","v":""},"",{"$f":"IF($O$1=\"x\",Kalkulacja!U235,\"\")","v":""},"",null,null,null,null,null,null,{"$f":"Kalkulacja!K235","v":0.1},{"$f":"IF(Kalkulacja!$U$414>0,D236*L236*1.5,D236*L236)","v":{"$error":"#VALUE!"}},{"$f":"INDEX(Kalkulacja!U:U,S236)","v":{"$error":"#N/A"}},{"$error":"#N/A"},{"$error":"#N/A"},null,null,{"$f":"MATCH(B236,Kalkulacja!I:I,0)","v":{"$error":"#N/A"}},null,0,6,"06",null,{"$error":"#VALUE!"},{"$error":"#VALUE!"},{"$error":"#VALUE!"}]
[null,{"$f":"IF($O$1=\"x\",Kalkulacja!I236,\"\")","v":""},"",{"$f":"IF($O$1=\"x\",Kalkulacja!U236,\"\")","v":""},"",null,null,null,null,null,null,{"$f":"Kalkulacja!K236","v":0},{"$f":"IF(Kalkulacja!$U$414>0,D237*L237*1.5,D237*L237)","v":{"$error":"#VALUE!"}},{"$f":"INDEX(Kalkulacja!U:U,S237)","v":{"$error":"#N/A"}},0,1,null,null,{"$f":"MATCH(B237,Kalkulacja!I:I,0)","v":{"$error":"#N/A"}},null,0,0,"00",null,{"$error":"#VALUE!"},{"$error":"#VALUE!"},{"$error":"#VALUE!"}]
[null,{"$f":"IF($O$1=\"x\",Kalkulacja!I237,\"\")","v":""},"",{"$f":"IF($O$1=\"x\",Kalkulacja!U237,\"\")","v":""},"",null,null,null,null,null,null,{"$f":"Kalkulacja!K237","v":10},{"$f":"IF(Kalkulacja!$U$414>0,D238*L238*1.5,D238*L238)","v":{"$error":"#VALUE!"}},{"$f":"INDEX(Kalkulacja!U:U,S238)","v":{"$error":"#N/A"}},{"$error":"#N/A"},{"$error":"#N/A"},null,null,{"$f":"MATCH(B238,Kalkulacja!I:I,0)","v":{"$error":"#N/A"}},null,10,0,"00",null,{"$error":"#VALUE!"},{"$error":"#VALUE!"},{"$error":"#VALUE!"}]
[null,{"$f":"IF($O$1=\"x\",Kalkulacja!I238,\"\")","v":""},"",{"$f":"IF($O$1=\"x\",Kalkulacja!U238,\"\")","v":""},"",null,null,null,null,null,null,{"$f":"Kalkulacja!K238","v":0.3},{"$f":"IF(Kalkulacja!$U$414>0,D239*L239*1.5,D239*L239)","v":{"$error":"#VALUE!"}},{"$f":"INDEX(Kalkulacja!U:U,S239)","v":{"$error":"#N/A"}},{"$error":"#N/A"},{"$error":"#N/A"},null,null,{"$f":"MATCH(B239,Kalkulacja!I:I,0)","v":{"$error":"#N/A"}},null,0,18,18,null,{"$error":"#VALUE!"},{"$error":"#VALUE!"},{"$error":"#VALUE!"}]
[null,{"$f":"IF($O$1=\"x\",Kalkulacja!I239,\"\")","v":""},"",{"$f":"IF($O$1=\"x\",Kalkulacja!U239,\"\")","v":""},"",null,null,null,null,null,null,{"$f":"Kalkulacja!K239","v":0.3},{"$f":"IF(Kalkulacja!$U$414>0,D240*L240*1.5,D240*L240)","v":{"$error":"#VALUE!"}},{"$f":"INDEX(Kalkulacja!U:U,S240)","v":{"$error":"#N/A"}},{"$error":"#N/A"},{"$error":"#N/A"},null,null,{"$f":"MATCH(B240,Kalkulacja!I:I,0)","v":{"$error":"#N/A"}},null,0,18,18,null,{"$error":"#VALUE!"},{"$error":"#VALUE!"},{"$error":"#VALUE!"}]
[null,{"$f":"IF($O$1=\"x\",Kalkulacja!I240,\"\")","v":""},"",{"$f":"IF($O$1=\"x\",Kalkulacja!U240,\"\")","v":""},"",null,null,null,null,null,null,{"$f":"Kalkulacja!K240","v":0.3},{"$f":"IF(Kalkulacja!$U$414>0,D241*L241*1.5,D241*L241)","v":{"$error":"#VALUE!"}},{"$f":"INDEX(Kalkulacja!U:U,S241)","v":{"$error":"#N/A"}},{"$error":"#N/A"},{"$error":"#N/A"},null,null,{"$f":"MATCH(B241,Kalkulacja!I:I,0)","v":{"$error":"#N/A"}},null,0,18,18,null,{"$error":"#VALUE!"},{"$error":"#VALUE!"},{"$error":"#VALUE!"}]
[null,{"$f":"IF($O$1=\"x\",Kalkulacja!I241,\"\")","v":""},"",{"$f":"IF($O$1=\"x\",Kalkulacja!U241,\"\")","v":""},"",null,null,null,null,null,null,{"$f":"Kalkulacja!K241","v":0.1},{"$f":"IF(Kalkulacja!$U$414>0,D242*L242*1.5,D242*L242)","v":{"$error":"#VALUE!"}},{"$f":"INDEX(Kalkulacja!U:U,S242)","v":{"$error":"#N/A"}},{"$error":"#N/A"},{"$error":"#N/A"},null,null,{"$f":"MATCH(B242,Kalkulacja!I:I,0)","v":{"$error":"#N/A"}},null,0,6,"06",null,{"$error":"#VALUE!"},{"$error":"#VALUE!"},{"$error":"#VALUE!"}]
[null,{"$f":"IF($O$1=\"x\",Kalkulacja!I242,\"\")","v":""},"",{"$f":"IF($O$1=\"x\",Kalkulacja!U242,\"\")","v":""},"",null,null,null,null,null,null,{"$f":"Kalkulacja!K242","v":0.5},{"$f":"IF(Kalkulacja!$U$414>0,D243*L243*1.5,D243*L243)","v":{"$error":"#VALUE!"}},{"$f":"INDEX(Kalkulacja!U:U,S243)","v":{"$error":"#N/A"}},{"$error":"#N/A"},{"$f":"IF(O243=1,0,1)","v":{"$error":"#N/A"}},null,null,{"$f":"MATCH(B243,Kalkulacja!I:I,0)","v":{"$error":"#N/A"}},null,0,30,{"$f":"IF(V243<10,\"0\"&V243,V243)","v":30},null,{"$error":"#VALUE!"},{"$error":"#VALUE!"},{"$f":"IF(Z243<10,\"0\"&Z243,Z243)","v":{"$error":"#VALUE!"}}]
[null,{"$f":"IF($O$1=\"x\",Kalkulacja!I243,\"\")","v":""},"",{"$f":"IF($O$1=\"x\",Kalkulacja!U243,\"\")","v":""},"",null,null,null,null,null,null,{"$f":"Kalkulacja!K243","v":1},{"$f":"IF(Kalkulacja!$U$414>0,D244*L244*1.5,D244*L244)","v":{"$error":"#VALUE!"}},{"$f":"INDEX(Kalkulacja!U:U,S244)","v":{"$error":"#N/A"}},{"$error":"#N/A"},{"$error":"#N/A"},null,null,{"$f":"MATCH(B244,Kalkulacja!I:I,0)","v":{"$error":"#N/A"}},null,1,0,"00",null,{"$error":"#VALUE!"},{"$error":"#VALUE!"},{"$error":"#VALUE!"}]
[null,{"$f":"IF($O$1=\"x\",Kalkulacja!I244,\"\")","v":""},"",{"$f":"IF($O$1=\"x\",Kalkulacja!U244,\"\")","v":""},"",null,null,null,null,null,null,{"$f":"Kalkulacja!K244","v":2},{"$f":"IF(Kalkulacja!$U$414>0,D245*L245*1.5,D245*L245)","v":{"$error":"#VALUE!"}},{"$f":"INDEX(Kalkulacja!U:U,S245)","v":{"$error":"#N/A"}},{"$error":"#N/A"},{"$error":"#N/A"},null,null,{"$f":"MATCH(B245,Kalkulacja!I:I,0)","v":{"$error":"#N/A"}},null,2,0,"00",null,{"$error":"#VALUE!"},{"$error":"#VALUE!"},{"$error":"#VALUE!"}]
[null,{"$f":"IF($O$1=\"x\",Kalkulacja!I245,\"\")","v":""},"",{"$f":"IF($O$1=\"x\",Kalkulacja!U245,\"\")","v":""},"",null,null,null,null,null,null,{"$f":"Kalkulacja!K245","v":0.5},{"$f":"IF(Kalkulacja!$U$414>0,D246*L246*1.5,D246*L246)","v":{"$error":"#VALUE!"}},{"$f":"INDEX(Kalkulacja!U:U,S246)","v":{"$error":"#N/A"}},{"$error":"#N/A"},{"$error":"#N/A"},null,null,{"$f":"MATCH(B246,Kalkulacja!I:I,0)","v":{"$error":"#N/A"}},null,0,30,30,null,{"$error":"#VALUE!"},{"$error":"#VALUE!"},{"$error":"#VALUE!"}]
[null,{"$f":"IF($O$1=\"x\",Kalkulacja!I246,\"\")","v":""},"",{"$f":"IF($O$1=\"x\",Kalkulacja!U246,\"\")","v":""},"",null,null,null,null,null,null,{"$f":"Kalkulacja!K246","v":0},{"$f":"IF(Kalkulacja!$U$414>0,D247*L247*1.5,D247*L247)","v":{"$error":"#VALUE!"}},{"$f":"INDEX(Kalkulacja!U:U,S247)","v":{"$error":"#N/A"}},0,1,null,null,{"$f":"MATCH(B247,Kalkulacja!I:I,0)","v":{"$error":"#N/A"}},null,0,0,"00",null,{"$error":"#VALUE!"},{"$error":"#VALUE!"},{"$error":"#VALUE!"}]
[null,{"$f":"IF($O$1=\"x\",Kalkulacja!I247,\"\")","v":""},"",{"$f":"IF($O$1=\"x\",Kalkulacja!U247,\"\")","v":""},"",null,null,null,null,null,null,{"$f":"Kalkulacja!K247","v":0},{"$f":"IF(Kalkulacja!$U$414>0,D248*L248*1.5,D248*L248)","v":{"$error":"#VALUE!"}},{"$f":"INDEX(Kalkulacja!U:U,S248)","v":{"$error":"#N/A"}},0,1,null,null,{"$f":"MATCH(B248,Kalkulacja!I:I,0)","v":{"$error":"#N/A"}},null,0,0,"00",null,{"$error":"#VALUE!"},{"$error":"#VALUE!"},{"$error":"#VALUE!"}]
[null,{"$f":"IF($O$1=\"x\",Kalkulacja!I248,\"\")","v":""},"",{"$f":"IF($O$1=\"x\",Kalkulacja!U248,\"\")","v":""},"",null,null,null,null,null,null,{"$f":"Kalkulacja!K248","v":0},{"$f":"IF(Kalkulacja!$U$414>0,D249*L249*1.5,D249*L249)","v":{"$error":"#VALUE!"}},{"$f":"INDEX(Kalkulacja!U:U,S249)","v":{"$error":"#N/A"}},0,1,null,null,{"$f":"MATCH(B249,Kalkulacja!I:I,0)","v":{"$error":"#N/A"}},null,0,0,"00",null,{"$error":"#VALUE!"},{"$error":"#VALUE!"},{"$error":"#VALUE!"}]
[null,{"$f":"IF($O$1=\"x\",Kalkulacja!I249,\"\")","v":""},"",{"$f":"IF($O$1=\"x\",Kalkulacja!U249,\"\")","v":""},"",null,null,null,null,null,null,{"$f":"Kalkulacja!K249","v":0},{"$f":"IF(Kalkulacja!$U$414>0,D250*L250*1.5,D250*L250)","v":{"$error":"#VALUE!"}},{"$f":"INDEX(Kalkulacja!U:U,S250)","v":{"$error":"#N/A"}},0,1,null,null,{"$f":"MATCH(B250,Kalkulacja!I:I,0)","v":{"$error":"#N/A"}},null,0,0,"00",null,{"$error":"#VALUE!"},{"$error":"#VALUE!"},{"$error":"#VALUE!"}]
[null,{"$f":"IF($O$1=\"x\",Kalkulacja!I250,\"\")","v":""},"",{"$f":"IF($O$1=\"x\",Kalkulacja!U250,\"\")","v":""},"",null,null,null,null,null,null,{"$f":"Kalkulacja!K250","v":0},{"$f":"IF(Kalkulacja!$U$414>0,D251*L251*1.5,D251*L251)","v":{"$error":"#VALUE!"}},{"$f":"INDEX(Kalkulacja!U:U,S251)","v":{"$error":"#N/A"}},0,1,null,null,{"$f":"MATCH(B251,Kalkulacja!I:I,0)","v":{"$error":"#N/A"}},null,0,0,"00",null,{"$error":"#VALUE!"},{"$error":"#VALUE!"},{"$error":"#VALUE!"}]
[null,{"$f":"IF($O$1=\"x\",Kalkulacja!I251,\"\")","v":""},null,null,null,null,null,null,null,null,null,{"$f":"Kalkulacja!K251","v":0},{"$f":"IF(Kalkulacja!$U$414>0,D252*L252*1.5,D252*L252)","v":0},{"$f":"INDEX(Kalkulacja!U:U,S252)","v":{"$error":"#N/A"}},{"$f":"IF(SUM(O253:O255)>0,1,0)","v":{"$error":"#N/A"}},{"$error":"#N/A"},null,{"$f":"IF($O$1=\"x\",\"x\",\"\")","v":""},{"$f":"MATCH(B252,Kalkulacja!I:I,0)","v":{"$error":"#N/A"}},null,0,0,"00",null,0,0,"00"]
[null,{"$f":"IF($O$1=\"x\",Kalkulacja!I252,\"\")","v":""},{"$f":"IF($O$1=\"x\",U253&\":\"&W253,\"\")","v":""},{"$f":"IF($O$1=\"x\",Kalkulacja!U252,\"\")","v":""},"",null,null,null,null,null,null,{"$f":"Kalkulacja!K252","v":2},{"$f":"IF(Kalkulacja!$U$414>0,D253*L253*1.5,D253*L253)","v":{"$error":"#VALUE!"}},{"$f":"INDEX(Kalkulacja!U:U,S253)","v":{"$error":"#N/A"}},{"$f":"IF(L253>0,IF(N253>0,1,0),0)","v":{"$error":"#N/A"}},{"$error":"#N/A"},null,null,{"$f":"MATCH(B253,Kalkulacja!I:I,0)","v":{"$error":"#N/A"}},null,2,0,"00",null,{"$error":"#VALUE!"},{"$error":"#VALUE!"},{"$error":"#VALUE!"}]
[null,{"$f":"IF($O$1=\"x\",Kalkulacja!I253,\"\")","v":""},{"$f":"IF($O$1=\"x\",U254&\":\"&W254,\"\")","v":""},{"$f":"IF($O$1=\"x\",Kalkulacja!U253,\"\")","v":""},"",null,null,null,null,null,null,{"$f":"Kalkulacja!K253","v":0},{"$f":"IF(Kalkulacja!$U$414>0,D254*L254*1.5,D254*L254)","v":{"$error":"#VALUE!"}},{"$f":"INDEX(Kalkulacja!U:U,S254)","v":{"$error":"#N/A"}},{"$f":"IF(L254>0,IF(N254>0,1,0),0)","v":0},1,null,null,{"$f":"MATCH(B254,Kalkulacja!I:I,0)","v":{"$error":"#N/A"}},null,0,0,"00",null,{"$error":"#VALUE!"},{"$error":"#VALUE!"},{"$error":"#VALUE!"}]
[null,{"$f":"IF($O$1=\"x\",Kalkulacja!I254,\"\")","v":""},{"$f":"IF($O$1=\"x\",U255&\":\"&W255,\"\")","v":""},{"$f":"IF($O$1=\"x\",Kalkulacja!U254,\"\")","v":""},"",null,null,null,null,null,null,{"$f":"Kalkulacja!K254","v":0},{"$f":"IF(Kalkulacja!$U$414>0,D255*L255*1.5,D255*L255)","v":{"$error":"#VALUE!"}},{"$f":"INDEX(Kalkulacja!U:U,S255)","v":{"$error":"#N/A"}},{"$f":"IF(L255>0,IF(N255>0,1,0),0)","v":0},1,null,null,{"$f":"MATCH(B255,Kalkulacja!I:I,0)","v":{"$error":"#N/A"}},null,0,0,"00",null,{"$error":"#VALUE!"},{"$error":"#VALUE!"},{"$error":"#VALUE!"}]
[null,{"$f":"IF($O$1=\"x\",Kalkulacja!I255,\"\")","v":""},null,null,null,null,null,null,null,null,null,{"$f":"Kalkulacja!K255","v":0},{"$f":"IF(Kalkulacja!$U$414>0,D256*L256*1.5,D256*L256)","v":0},{"$f":"INDEX(Kalkulacja!U:U,S256)","v":{"$error":"#N/A"}},{"$f":"IF(SUM(O257:O270)>0,1,0)","v":{"$error":"#N/A"}},{"$error":"#N/A"},null,{"$f":"IF($O$1=\"x\",\"x\",\"\")","v":""},{"$f":"MATCH(B256,Kalkulacja!I:I,0)","v":{"$error":"#N/A"}},null,0,0,"00",null,0,0,"00"]
[null,{"$f":"IF($O$1=\"x\",Kalkulacja!I256,\"\")","v":""},{"$f":"IF($O$1=\"x\",U257&\":\"&W257,\"\")","v":""},{"$f":"IF($O$1=\"x\",Kalkulacja!U256,\"\")","v":""},"",null,null,null,null,null,null,{"$f":"Kalkulacja!K256","v":1},{"$f":"IF(Kalkulacja!$U$414>0,D257*L257*1.5,D257*L257)","v":{"$error":"#VALUE!"}},{"$f":"INDEX(Kalkulacja!U:U,S257)","v":{"$error":"#N/A"}},{"$f":"IF(L257>0,IF(N257>0,1,0),0)","v":{"$error":"#N/A"}},{"$error":"#N/A"},null,null,{"$f":"MATCH(B257,Kalkulacja!I:I,0)","v":{"$error":"#N/A"}},null,1,0,"00",null,{"$error":"#VALUE!"},{"$error":"#VALUE!"},{"$error":"#VALUE!"}]
[null,{"$f":"IF($O$1=\"x\",Kalkulacja!I257,\"\")","v":""},"",{"$f":"IF($O$1=\"x\",Kalkulacja!U257,\"\")","v":""},"",null,null,null,null,null,null,{"$f":"Kalkulacja!K257","v":1},{"$f":"IF(Kalkulacja!$U$414>0,D258*L258*1.5,D258*L258)","v":{"$error":"#VALUE!"}},{"$f":"INDEX(Kalkulacja!U:U,S258)","v":{"$error":"#N/A"}},{"$error":"#N/A"},{"$error":"#N/A"},null,null,{"$f":"MATCH(B258,Kalkulacja!I:I,0)","v":{"$error":"#N/A"}},null,1,0,"00",null,{"$error":"#VALUE!"},{"$error":"#VALUE!"},{"$error":"#VALUE!"}]
[null,{"$f":"IF($O$1=\"x\",Kalkulacja!I258,\"\")","v":""},"",{"$f":"IF($O$1=\"x\",Kalkulacja!U258,\"\")","v":""},"",null,null,null,null,null,null,{"$f":"Kalkulacja!K258","v":2},{"$f":"IF(Kalkulacja!$U$414>0,D259*L259*1.5,D259*L259)","v":{"$error":"#VALUE!"}},{"$f":"INDEX(Kalkulacja!U:U,S259)","v":{"$error":"#N/A"}},{"$error":"#N/A"},{"$error":"#N/A"},null,null,{"$f":"MATCH(B259,Kalkulacja!I:I,0)","v":{"$error":"#N/A"}},null,2,0,"00",null,{"$error":"#VALUE!"},{"$error":"#VALUE!"},{"$error":"#VALUE!"}]
[null,{"$f":"IF($O$1=\"x\",Kalkulacja!I259,\"\")","v":""},"",{"$f":"IF($O$1=\"x\",Kalkulacja!U259,\"\")","v":""},"",null,null,null,null,null,null,{"$f":"Kalkulacja!K259","v":3},{"$f":"IF(Kalkulacja!$U$414>0,D260*L260*1.5,D260*L260)","v":{"$error":"#VALUE!"}},{"$f":"INDEX(Kalkulacja!U:U,S260)","v":{"$error":"#N/A"}},{"$error":"#N/A"},{"$error":"#N/A"},null,null,{"$f":"MATCH(B260,Kalkulacja!I:I,0)","v":{"$error":"#N/A"}},null,{"$f":"TRUNC(L260)","v":3},{"$f":"ROUND((L260-U260)*60,0)","v":0},"00",null,{"$f":"TRUNC(M260)","v":{"$error":"#VALUE!"}},{"$f":"ROUND((M260-Y260)*60,0)","v":{"$error":"#VALUE!"}},{"$error":"#VALUE!"}]
[null,{"$f":"IF($O$1=\"x\",Kalkulacja!I260,\"\")","v":""},"",{"$f":"IF($O$1=\"x\",Kalkulacja!U260,\"\")","v":""},"",null,null,null,null,null,null,{"$f":"Kalkulacja!K260","v":0},{"$f":"IF(Kalkulacja!$U$414>0,D261*L261*1.5,D261*L261)","v":{"$error":"#VALUE!"}},{"$f":"INDEX(Kalkulacja!U:U,S261)","v":{"$error":"#N/A"}},0,1,null,null,{"$f":"MATCH(B261,Kalkulacja!I:I,0)","v":{"$error":"#N/A"}},null,0,0,"00",null,{"$error":"#VALUE!"},{"$error":"#VALUE!"},{"$error":"#VALUE!"}]
[null,{"$f":"IF($O$1=\"x\",Kalkulacja!I261,\"\")","v":""},"",{"$f":"IF($O$1=\"x\",Kalkulacja!U261,\"\")","v":""},"",null,null,null,null,null,null,{"$f":"Kalkulacja!K261","v":0},{"$f":"IF(Kalkulacja!$U$414>0,D262*L262*1.5,D262*L262)","v":{"$error":"#VALUE!"}},{"$f":"INDEX(Kalkulacja!U:U,S262)","v":{"$error":"#N/A"}},0,1,null,null,{"$f":"MATCH(B262,Kalkulacja!I:I,0)","v":{"$error":"#N/A"}},null,0,0,"00",null,{"$error":"#VALUE!"},{"$error":"#VALUE!"},{"$error":"#VALUE!"}]
[null,{"$f":"IF($O$1=\"x\",Kalkulacja!I262,\"\")","v":""},"",{"$f":"IF($O$1=\"x\",Kalkulacja!U262,\"\")","v":""},"",null,null,null,null,null,null,{"$f":"Kalkulacja!K262","v":1},{"$f":"IF(Kalkulacja!$U$414>0,D263*L263*1.5,D263*L263)","v":{"$error":"#VALUE!"}},{"$f":"INDEX(Kalkulacja!U:U,S263)","v":{"$error":"#N/A"}},{"$error":"#N/A"},{"$error":"#N/A"},null,null,{"$f":"MATCH(B263,Kalkulacja!I:I,0)","v":{"$error":"#N/A"}},null,1,0,"00",null,{"$error":"#VALUE!"},{"$error":"#VALUE!"},{"$error":"#VALUE!"}]
[null,{"$f":"IF($O$1=\"x\",Kalkulacja!I263,\"\")","v":""},"",{"$f":"IF($O$1=\"x\",Kalkulacja!U263,\"\")","v":""},"",null,null,null,null,null,null,{"$f":"Kalkulacja!K263","v":0.5},{"$f":"IF(Kalkulacja!$U$414>0,D264*L264*1.5,D264*L264)","v":{"$error":"#VALUE!"}},{"$f":"INDEX(Kalkulacja!U:U,S264)","v":{"$error":"#N/A"}},{"$error":"#N/A"},{"$error":"#N/A"},null,null,{"$f":"MATCH(B264,Kalkulacja!I:I,0)","v":{"$error":"#N/A"}},null,0,30,30,null,{"$error":"#VALUE!"},{"$error":"#VALUE!"},{"$error":"#VALUE!"}]
[null,{"$f":"IF($O$1=\"x\",Kalkulacja!I264,\"\")","v":""},"",{"$f":"IF($O$1=\"x\",Kalkulacja!U264,\"\")","v":""},"",null,null,null,null,null,null,{"$f":"Kalkulacja!K264","v":2},{"$f":"IF(Kalkulacja!$U$414>0,D265*L265*1.5,D265*L265)","v":{"$error":"#VALUE!"}},{"$f":"INDEX(Kalkulacja!U:U,S265)","v":{"$error":"#N/A"}},{"$error":"#N/A"},{"$error":"#N/A"},null,null,{"$f":"MATCH(B265,Kalkulacja!I:I,0)","v":{"$error":"#N/A"}},null,2,0,"00",null,{"$error":"#VALUE!"},{"$error":"#VALUE!"},{"$error":"#VALUE!"}]
[null,{"$f":"IF($O$1=\"x\",Kalkulacja!I265,\"\")","v":""},"",{"$f":"IF($O$1=\"x\",Kalkulacja!U265,\"\")","v":""},"",null,null,null,null,null,null,{"$f":"Kalkulacja!K265","v":0},{"$f":"IF(Kalkulacja!$U$414>0,D266*L266*1.5,D266*L266)","v":{"$error":"#VALUE!"}},{"$f":"INDEX(Kalkulacja!U:U,S266)","v":{"$error":"#N/A"}},0,1,null,null,{"$f":"MATCH(B266,Kalkulacja!I:I,0)","v":{"$error":"#N/A"}},null,0,0,"00",null,{"$error":"#VALUE!"},{"$error":"#VALUE!"},{"$error":"#VALUE!"}]
[null,{"$f":"IF($O$1=\"x\",Kalkulacja!I266,\"\")","v":""},"",{"$f":"IF($O$1=\"x\",Kalkulacja!U266,\"\")","v":""},"",null,null,null,null,null,null,{"$f":"Kalkulacja!K266","v":0},{"$f":"IF(Kalkulacja!$U$414>0,D267*L267*1.5,D267*L267)","v":{"$error":"#VALUE!"}},{"$f":"INDEX(Kalkulacja!U:U,S267)","v":{"$error":"#N/A"}},0,1,null,null,{"$f":"MATCH(B267,Kalkulacja!I:I,0)","v":{"$error":"#N/A"}},null,0,0,"00",null,{"$error":"#VALUE!"},{"$error":"#VALUE!"},{"$error":"#VALUE!"}]
[null,{"$f":"IF($O$1=\"x\",Kalkulacja!I267,\"\")","v":""},"",{"$f":"IF($O$1=\"x\",Kalkulacja!U267,\"\")","v":""},"",null,null,null,null,null,null,{"$f":"Kalkulacja!K267","v":0},{"$f":"IF(Kalkulacja!$U$414>0,D268*L268*1.5,D268*L268)","v":{"$error":"#VALUE!"}},{"$f":"INDEX(Kalkulacja!U:U,S268)","v":{"$error":"#N/A"}},0,1,null,null,{"$f":"MATCH(B268,Kalkulacja!I:I,0)","v":{"$error":"#N/A"}},null,0,0,"00",null,{"$error":"#VALUE!"},{"$error":"#VALUE!"},{"$error":"#VALUE!"}]
[null,{"$f":"IF($O$1=\"x\",Kalkulacja!I268,\"\")","v":""},"",{"$f":"IF($O$1=\"x\",Kalkulacja!U268,\"\")","v":""},"",null,null,null,null,null,null,{"$f":"Kalkulacja!K268","v":0},{"$f":"IF(Kalkulacja!$U$414>0,D269*L269*1.5,D269*L269)","v":{"$error":"#VALUE!"}},{"$f":"INDEX(Kalkulacja!U:U,S269)","v":{"$error":"#N/A"}},0,1,null,null,{"$f":"MATCH(B269,Kalkulacja!I:I,0)","v":{"$error":"#N/A"}},null,0,0,"00",null,{"$error":"#VALUE!"},{"$error":"#VALUE!"},{"$error":"#VALUE!"}]
[null,{"$f":"IF($O$1=\"x\",Kalkulacja!I269,\"\")","v":""},"",{"$f":"IF($O$1=\"x\",Kalkulacja!U269,\"\")","v":""},"",null,null,null,null,null,null,{"$f":"Kalkulacja!K269","v":0},{"$f":"IF(Kalkulacja!$U$414>0,D270*L270*1.5,D270*L270)","v":{"$error":"#VALUE!"}},{"$f":"INDEX(Kalkulacja!U:U,S270)","v":{"$error":"#N/A"}},0,1,null,null,{"$f":"MATCH(B270,Kalkulacja!I:I,0)","v":{"$error":"#N/A"}},null,0,0,"00",null,{"$error":"#VALUE!"},{"$error":"#VALUE!"},{"$error":"#VALUE!"}]
[null,{"$f":"IF($O$1=\"x\",Kalkulacja!I270,\"\")","v":""},null,null,null,null,null,null,null,null,null,{"$f":"Kalkulacja!K270","v":0},{"$f":"IF(Kalkulacja!$U$414>0,D271*L271*1.5,D271*L271)","v":0},{"$f":"INDEX(Kalkulacja!U:U,S271)","v":{"$error":"#N/A"}},{"$f":"IF(SUM(O272:O284)>0,1,0)","v":0},1,null,{"$f":"IF($O$1=\"x\",\"x\",\"\")","v":""},{"$f":"MATCH(B271,Kalkulacja!I:I,0)","v":{"$error":"#N/A"}},null,0,0,"00",null,0,0,"00"]
[null,{"$f":"IF($O$1=\"x\",Kalkulacja!I271,\"\")","v":""},{"$f":"IF($O$1=\"x\",U272&\":\"&W272,\"\")","v":""},{"$f":"IF($O$1=\"x\",Kalkulacja!U271,\"\")","v":""},"",null,null,null,null,null,null,{"$f":"Kalkulacja!K271","v":0},{"$f":"IF(Kalkulacja!$U$414>0,D272*L272*1.5,D272*L272)","v":{"$error":"#VALUE!"}},{"$f":"INDEX(Kalkulacja!U:U,S272)","v":{"$error":"#N/A"}},{"$f":"IF(L272>0,IF(N272>0,1,0),0)","v":0},1,null,null,{"$f":"MATCH(B272,Kalkulacja!I:I,0)","v":{"$error":"#N/A"}},null,0,0,"00",null,{"$error":"#VALUE!"},{"$error":"#VALUE!"},{"$error":"#VALUE!"}]
[null,{"$f":"IF($O$1=\"x\",Kalkulacja!I272,\"\")","v":""},"",{"$f":"IF($O$1=\"x\",Kalkulacja!U272,\"\")","v":""},"",null,null,null,null,null,null,{"$f":"Kalkulacja!K272","v":0},{"$f":"IF(Kalkulacja!$U$414>0,D273*L273*1.5,D273*L273)","v":{"$error":"#VALUE!"}},{"$f":"INDEX(Kalkulacja!U:U,S273)","v":{"$error":"#N/A"}},0,1,null,null,{"$f":"MATCH(B273,Kalkulacja!I:I,0)","v":{"$error":"#N/A"}},null,0,0,"00",null,{"$error":"#VALUE!"},{"$error":"#VALUE!"},{"$error":"#VALUE!"}]
[null,{"$f":"IF($O$1=\"x\",Kalkulacja!I273,\"\")","v":""},"",{"$f":"IF($O$1=\"x\",Kalkulacja!U273,\"\")","v":""},"",null,null,null,null,null,null,{"$f":"Kalkulacja!K273","v":0},{"$f":"IF(Kalkulacja!$U$414>0,D274*L274*1.5,D274*L274)","v":{"$error":"#VALUE!"}},{"$f":"INDEX(Kalkulacja!U:U,S274)","v":{"$error":"#N/A"}},0,1,null,null,{"$f":"MATCH(B274,Kalkulacja!I:I,0)","v":{"$error":"#N/A"}},null,0,0,"00",null,{"$error":"#VALUE!"},{"$error":"#VALUE!"},{"$error":"#VALUE!"}]
[null,{"$f":"IF($O$1=\"x\",Kalkulacja!I274,\"\")","v":""},"",{"$f":"IF($O$1=\"x\",Kalkulacja!U274,\"\")","v":""},"",null,null,null,null,null,null,{"$f":"Kalkulacja!K274","v":0},{"$f":"IF(Kalkulacja!$U$414>0,D275*L275*1.5,D275*L275)","v":{"$error":"#VALUE!"}},{"$f":"INDEX(Kalkulacja!U:U,S275)","v":{"$error":"#N/A"}},0,1,null,null,{"$f":"MATCH(B275,Kalkulacja!I:I,0)","v":{"$error":"#N/A"}},null,0,0,"00",null,{"$error":"#VALUE!"},{"$error":"#VALUE!"},{"$error":"#VALUE!"}]
[null,{"$f":"IF($O$1=\"x\",Kalkulacja!I275,\"\")","v":""},"",{"$f":"IF($O$1=\"x\",Kalkulacja!U275,\"\")","v":""},"",null,null,null,null,null,null,{"$f":"Kalkulacja!K275","v":0},{"$f":"IF(Kalkulacja!$U$414>0,D276*L276*1.5,D276*L276)","v":{"$error":"#VALUE!"}},{"$f":"INDEX(Kalkulacja!U:U,S276)","v":{"$error":"#N/A"}},0,1,null,null,{"$f":"MATCH(B276,Kalkulacja!I:I,0)","v":{"$error":"#N/A"}},null,0,0,"00",null,{"$error":"#VALUE!"},{"$error":"#VALUE!"},{"$error":"#VALUE!"}]
[null,{"$f":"IF($O$1=\"x\",Kalkulacja!I276,\"\")","v":""},"",{"$f":"IF($O$1=\"x\",Kalkulacja!U276,\"\")","v":""},"",null,null,null,null,null,null,{"$f":"Kalkulacja!K276","v":0},{"$f":"IF(Kalkulacja!$U$414>0,D277*L277*1.5,D277*L277)","v":{"$error":"#VALUE!"}},{"$f":"INDEX(Kalkulacja!U:U,S277)","v":{"$error":"#N/A"}},0,1,null,null,{"$f":"MATCH(B277,Kalkulacja!I:I,0)","v":{"$error":"#N/A"}},null,0,0,"00",null,{"$error":"#VALUE!"},{"$error":"#VALUE!"},{"$error":"#VALUE!"}]
[null,{"$f":"IF($O$1=\"x\",Kalkulacja!I277,\"\")","v":""},"",{"$f":"IF($O$1=\"x\",Kalkulacja!U277,\"\")","v":""},"",null,null,null,null,null,null,{"$f":"Kalkulacja!K277","v":0},{"$f":"IF(Kalkulacja!$U$414>0,D278*L278*1.5,D278*L278)","v":{"$error":"#VALUE!"}},{"$f":"INDEX(Kalkulacja!U:U,S278)","v":{"$error":"#N/A"}},0,1,null,null,{"$f":"MATCH(B278,Kalkulacja!I:I,0)","v":{"$error":"#N/A"}},null,0,0,"00",null,{"$error":"#VALUE!"},{"$error":"#VALUE!"},{"$error":"#VALUE!"}]
[null,{"$f":"IF($O$1=\"x\",Kalkulacja!I278,\"\")","v":""},"",{"$f":"IF($O$1=\"x\",Kalkulacja!U278,\"\")","v":""},{"$f":"IF($O$1=\"x\",Y279&\":\"&AA279,\"\")","v":""},null,null,null,null,null,null,{"$f":"Kalkulacja!K278","v":0},{"$f":"IF(Kalkulacja!$U$414>0,D279*L279*1.5,D279*L279)","v":{"$error":"#VALUE!"}},{"$f":"INDEX(Kalkulacja!U:U,S279)","v":{"$error":"#N/A"}},0,1,null,null,{"$f":"MATCH(B279,Kalkulacja!I:I,0)","v":{"$error":"#N/A"}},null,0,0,"00",null,{"$error":"#VALUE!"},{"$error":"#VALUE!"},{"$error":"#VALUE!"}]
[null,{"$f":"IF($O$1=\"x\",Kalkulacja!I279,\"\")","v":""},"",{"$f":"IF($O$1=\"x\",Kalkulacja!U279,\"\")","v":""},"",null,null,null,null,null,null,{"$f":"Kalkulacja!K279","v":0},{"$f":"IF(Kalkulacja!$U$414>0,D280*L280*1.5,D280*L280)","v":{"$error":"#VALUE!"}},{"$f":"INDEX(Kalkulacja!U:U,S280)","v":{"$error":"#N/A"}},0,1,null,null,{"$f":"MATCH(B280,Kalkulacja!I:I,0)","v":{"$error":"#N/A"}},null,0,0,"00",null,{"$error":"#VALUE!"},{"$error":"#VALUE!"},{"$error":"#VALUE!"}]
[null,{"$f":"IF($O$1=\"x\",Kalkulacja!I280,\"\")","v":""},"",{"$f":"IF($O$1=\"x\",Kalkulacja!U280,\"\")","v":""},"",null,null,null,null,null,null,{"$f":"Kalkulacja!K280","v":0},{"$f":"IF(Kalkulacja!$U$414>0,D281*L281*1.5,D281*L281)","v":{"$error":"#VALUE!"}},{"$f":"INDEX(Kalkulacja!U:U,S281)","v":{"$error":"#N/A"}},0,1,null,null,{"$f":"MATCH(B281,Kalkulacja!I:I,0)","v":{"$error":"#N/A"}},null,0,0,"00",null,{"$error":"#VALUE!"},{"$error":"#VALUE!"},{"$error":"#VALUE!"}]
[null,{"$f":"IF($O$1=\"x\",Kalkulacja!I281,\"\")","v":""},"",{"$f":"IF($O$1=\"x\",Kalkulacja!U281,\"\")","v":""},"",null,null,null,null,null,null,{"$f":"Kalkulacja!K281","v":0},{"$f":"IF(Kalkulacja!$U$414>0,D282*L282*1.5,D282*L282)","v":{"$error":"#VALUE!"}},{"$f":"INDEX(Kalkulacja!U:U,S282)","v":{"$error":"#N/A"}},0,1,null,null,{"$f":"MATCH(B282,Kalkulacja!I:I,0)","v":{"$error":"#N/A"}},null,0,0,"00",null,{"$error":"#VALUE!"},{"$error":"#VALUE!"},{"$error":"#VALUE!"}]
[null,{"$f":"IF($O$1=\"x\",Kalkulacja!I282,\"\")","v":""},"",{"$f":"IF($O$1=\"x\",Kalkulacja!U282,\"\")","v":""},"",null,null,null,null,null,null,{"$f":"Kalkulacja!K282","v":0},{"$f":"IF(Kalkulacja!$U$414>0,D283*L283*1.5,D283*L283)","v":{"$error":"#VALUE!"}},{"$f":"INDEX(Kalkulacja!U:U,S283)","v":{"$error":"#N/A"}},0,1,null,null,{"$f":"MATCH(B283,Kalkulacja!I:I,0)","v":{"$error":"#N/A"}},null,0,0,"00",null,{"$error":"#VALUE!"},{"$error":"#VALUE!"},{"$error":"#VALUE!"}]
[null,{"$f":"IF($O$1=\"x\",Kalkulacja!I283,\"\")","v":""},"",{"$f":"IF($O$1=\"x\",Kalkulacja!U283,\"\")","v":""},"",null,null,null,null,null,null,{"$f":"Kalkulacja!K283","v":0},{"$f":"IF(Kalkulacja!$U$414>0,D284*L284*1.5,D284*L284)","v":{"$error":"#VALUE!"}},{"$f":"INDEX(Kalkulacja!U:U,S284)","v":{"$error":"#N/A"}},0,1,null,null,{"$f":"MATCH(B284,Kalkulacja!I:I,0)","v":{"$error":"#N/A"}},null,0,0,"00",null,{"$error":"#VALUE!"},{"$error":"#VALUE!"},{"$error":"#VALUE!"}]
[null,{"$f":"IF($O$1=\"x\",Kalkulacja!I284,\"\")","v":""},null,null,null,null,null,null,null,null,null,{"$f":"Kalkulacja!K284","v":0},{"$f":"IF(Kalkulacja!$U$414>0,D285*L285*1.5,D285*L285)","v":0},{"$f":"INDEX(Kalkulacja!U:U,S285)","v":{"$error":"#N/A"}},{"$f":"IF(SUM(O286,O301,O323,O340,O364,O376,O393,O400)>0,1,0)","v":{"$error":"#N/A"}},{"$error":"#N/A"},null,{"$f":"IF($O$1=\"x\",\"x\",\"\")","v":""},{"$f":"MATCH(B285,Kalkulacja!I:I,0)","v":{"$error":"#N/A"}},null,0,0,"00",null,0,0,"00"]
[null,{"$f":"IF($O$1=\"x\",Kalkulacja!I285,\"\")","v":""},null,null,null,null,null,null,null,null,null,{"$f":"Kalkulacja!K285","v":0},{"$f":"IF(Kalkulacja!$U$414>0,D286*L286*1.5,D286*L286)","v":0},{"$f":"INDEX(Kalkulacja!U:U,S286)","v":{"$error":"#N/A"}},{"$f":"IF(SUM(O287:O300)>0,1,0)","v":{"$error":"#N/A"}},{"$error":"#N/A"},null,{"$f":"IF($O$1=\"x\",\"y\",\"\")","v":""},{"$f":"MATCH(B286,Kalkulacja!I:I,0)","v":{"$error":"#N/A"}},null,0,0,"00",null,0,0,"00"]
[null,{"$f":"IF($O$1=\"x\",Kalkulacja!I286,\"\")","v":""},{"$f":"IF($O$1=\"x\",U287&\":\"&W287,\"\")","v":""},{"$f":"IF($O$1=\"x\",Kalkulacja!U286,\"\")","v":""},"",null,null,null,null,null,null,{"$f":"Kalkulacja!K286","v":3},{"$f":"IF(Kalkulacja!$U$414>0,D287*L287*1.5,D287*L287)","v":{"$error":"#VALUE!"}},{"$f":"INDEX(Kalkulacja!U:U,S287)","v":{"$error":"#N/A"}},{"$f":"IF(L287>0,IF(N287>0,1,0),0)","v":{"$error":"#N/A"}},{"$error":"#N/A"},null,null,{"$f":"MATCH(B287,Kalkulacja!I:I,0)","v":{"$error":"#N/A"}},null,3,0,"00",null,{"$error":"#VALUE!"},{"$error":"#VALUE!"},{"$error":"#VALUE!"}]
[null,{"$f":"IF($O$1=\"x\",Kalkulacja!I287,\"\")","v":""},"",{"$f":"IF($O$1=\"x\",Kalkulacja!U287,\"\")","v":""},"",null,null,null,null,null,null,{"$f":"Kalkulacja!K287","v":5},{"$f":"IF(Kalkulacja!$U$414>0,D288*L288*1.5,D288*L288)","v":{"$error":"#VALUE!"}},{"$f":"INDEX(Kalkulacja!U:U,S288)","v":{"$error":"#N/A"}},{"$error":"#N/A"},{"$error":"#N/A"},null,null,{"$f":"MATCH(B288,Kalkulacja!I:I,0)","v":{"$error":"#N/A"}},null,5,0,"00",null,{"$error":"#VALUE!"},{"$error":"#VALUE!"},{"$error":"#VALUE!"}]
[null,{"$f":"IF($O$1=\"x\",Kalkulacja!I288,\"\")","v":""},"",{"$f":"IF($O$1=\"x\",Kalkulacja!U288,\"\")","v":""},"",null,null,null,null,null,null,{"$f":"Kalkulacja!K288","v":8},{"$f":"IF(Kalkulacja!$U$414>0,D289*L289*1.5,D289*L289)","v":{"$error":"#VALUE!"}},{"$f":"INDEX(Kalkulacja!U:U,S289)","v":{"$error":"#N/A"}},{"$error":"#N/A"},{"$error":"#N/A"},null,null,{"$f":"MATCH(B289,Kalkulacja!I:I,0)","v":{"$error":"#N/A"}},null,8,0,"00",null,{"$error":"#VALUE!"},{"$error":"#VALUE!"},{"$error":"#VALUE!"}]
[null,{"$f":"IF($O$1=\"x\",Kalkulacja!I289,\"\")","v":""},"",{"$f":"IF($O$1=\"x\",Kalkulacja!U289,\"\")","v":""},"",null,null,null,null,null,null,{"$f":"Kalkulacja!K289","v":10},{"$f":"IF(Kalkulacja!$U$414>0,D290*L290*1.5,D290*L290)","v":{"$error":"#VALUE!"}},{"$f":"INDEX(Kalkulacja!U:U,S290)","v":{"$error":"#N/A"}},{"$error":"#N/A"},{"$error":"#N/A"},null,null,{"$f":"MATCH(B290,Kalkulacja!I:I,0)","v":{"$error":"#N/A"}},null,10,0,"00",null,{"$error":"#VALUE!"},{"$error":"#VALUE!"},{"$error":"#VALUE!"}]
[null,{"$f":"IF($O$1=\"x\",Kalkulacja!I290,\"\")","v":""},"",{"$f":"IF($O$1=\"x\",Kalkulacja!U290,\"\")","v":""},"",null,null,null,null,null,null,{"$f":"Kalkulacja!K290","v":3},{"$f":"IF(Kalkulacja!$U$414>0,D291*L291*1.5,D291*L291)","v":{"$error":"#VALUE!"}},{"$f":"INDEX(Kalkulacja!U:U,S291)","v":{"$error":"#N/A"}},{"$error":"#N/A"},{"$error":"#N/A"},null,null,{"$f":"S290+1","v":{"$error":"#N/A"}},null,3,0,"00",null,{"$error":"#VALUE!"},{"$error":"#VALUE!"},{"$error":"#VALUE!"}]
[null,{"$f":"IF($O$1=\"x\",Kalkulacja!I291,\"\")","v":""},"",{"$f":"IF($O$1=\"x\",Kalkulacja!U291,\"\")","v":""},"",null,null,null,null,null,null,{"$f":"Kalkulacja!K291","v":5},{"$f":"IF(Kalkulacja!$U$414>0,D292*L292*1.5,D292*L292)","v":{"$error":"#VALUE!"}},{"$f":"INDEX(Kalkulacja!U:U,S292)","v":{"$error":"#N/A"}},{"$error":"#N/A"},{"$error":"#N/A"},null,null,{"$f":"S291+1","v":{"$error":"#N/A"}},null,5,0,"00",null,{"$error":"#VALUE!"},{"$error":"#VALUE!"},{"$error":"#VALUE!"}]
[null,{"$f":"IF($O$1=\"x\",Kalkulacja!I292,\"\")","v":""},"",{"$f":"IF($O$1=\"x\",Kalkulacja!U292,\"\")","v":""},"",null,null,null,null,null,null,{"$f":"Kalkulacja!K292","v":2},{"$f":"IF(Kalkulacja!$U$414>0,D293*L293*1.5,D293*L293)","v":{"$error":"#VALUE!"}},{"$f":"INDEX(Kalkulacja!U:U,S293)","v":{"$error":"#N/A"}},{"$error":"#N/A"},{"$error":"#N/A"},null,null,{"$f":"S292+1","v":{"$error":"#N/A"}},null,2,0,"00",null,{"$error":"#VALUE!"},{"$error":"#VALUE!"},{"$error":"#VALUE!"}]
[null,{"$f":"IF($O$1=\"x\",Kalkulacja!I293,\"\")","v":""},"",{"$f":"IF($O$1=\"x\",Kalkulacja!U293,\"\")","v":""},"",null,null,null,null,null,null,{"$f":"Kalkulacja!K293","v":3},{"$f":"IF(Kalkulacja!$U$414>0,D294*L294*1.5,D294*L294)","v":{"$error":"#VALUE!"}},{"$f":"INDEX(Kalkulacja!U:U,S294)","v":{"$error":"#N/A"}},{"$error":"#N/A"},{"$error":"#N/A"},null,null,{"$f":"S293+1","v":{"$error":"#N/A"}},null,3,0,"00",null,{"$error":"#VALUE!"},{"$error":"#VALUE!"},{"$error":"#VALUE!"}]
[null,{"$f":"IF($O$1=\"x\",Kalkulacja!I294,\"\")","v":""},"",{"$f":"IF($O$1=\"x\",Kalkulacja!U294,\"\")","v":""},"",null,null,null,null,null,null,{"$f":"Kalkulacja!K294","v":2},{"$f":"IF(Kalkulacja!$U$414>0,D295*L295*1.5,D295*L295)","v":{"$error":"#VALUE!"}},{"$f":"INDEX(Kalkulacja!U:U,S295)","v":{"$error":"#N/A"}},{"$error":"#N/A"},{"$error":"#N/A"},null,null,{"$f":"S294+1","v":{"$error":"#N/A"}},null,2,0,"00",null,{"$error":"#VALUE!"},{"$error":"#VALUE!"},{"$error":"#VALUE!"}]
[null,{"$f":"IF($O$1=\"x\",Kalkulacja!I295,\"\")","v":""},"",{"$f":"IF($O$1=\"x\",Kalkulacja!U295,\"\")","v":""},"",null,null,null,null,null,null,{"$f":"Kalkulacja!K295","v":0},{"$f":"IF(Kalkulacja!$U$414>0,D296*L296*1.5,D296*L296)","v":{"$error":"#VALUE!"}},{"$f":"INDEX(Kalkulacja!U:U,S296)","v":{"$error":"#N/A"}},0,1,null,null,{"$f":"MATCH(B296,Kalkulacja!I:I,0)","v":{"$error":"#N/A"}},null,0,0,"00",null,{"$error":"#VALUE!"},{"$error":"#VALUE!"},{"$error":"#VALUE!"}]
[null,{"$f":"IF($O$1=\"x\",Kalkulacja!I296,\"\")","v":""},"",{"$f":"IF($O$1=\"x\",Kalkulacja!U296,\"\")","v":""},"",null,null,null,null,null,null,{"$f":"Kalkulacja!K296","v":1},{"$f":"IF(Kalkulacja!$U$414>0,D297*L297*1.5,D297*L297)","v":{"$error":"#VALUE!"}},{"$f":"INDEX(Kalkulacja!U:U,S297)","v":{"$error":"#N/A"}},{"$error":"#N/A"},{"$error":"#N/A"},null,null,{"$f":"MATCH(B297,Kalkulacja!I:I,0)","v":{"$error":"#N/A"}},null,1,0,"00",null,{"$error":"#VALUE!"},{"$error":"#VALUE!"},{"$error":"#VALUE!"}]
[null,{"$f":"IF($O$1=\"x\",Kalkulacja!I297,\"\")","v":""},"",{"$f":"IF($O$1=\"x\",Kalkulacja!U297,\"\")","v":""},"",null,null,null,null,null,null,{"$f":"Kalkulacja!K297","v":0},{"$f":"IF(Kalkulacja!$U$414>0,D298*L298*1.5,D298*L298)","v":{"$error":"#VALUE!"}},{"$f":"INDEX(Kalkulacja!U:U,S298)","v":{"$error":"#N/A"}},0,1,null,null,{"$f":"MATCH(B298,Kalkulacja!I:I,0)","v":{"$error":"#N/A"}},null,0,0,"00",null,{"$error":"#VALUE!"},{"$error":"#VALUE!"},{"$error":"#VALUE!"}]
[null,{"$f":"IF($O$1=\"x\",Kalkulacja!I298,\"\")","v":""},"",{"$f":"IF($O$1=\"x\",Kalkulacja!U298,\"\")","v":""},"",null,null,null,null,null,null,{"$f":"Kalkulacja!K298","v":0},{"$f":"IF(Kalkulacja!$U$414>0,D299*L299*1.5,D299*L299)","v":{"$error":"#VALUE!"}},{"$f":"INDEX(Kalkulacja!U:U,S299)","v":{"$error":"#N/A"}},0,1,null,null,{"$f":"MATCH(B299,Kalkulacja!I:I,0)","v":{"$error":"#N/A"}},null,0,0,"00",null,{"$error":"#VALUE!"},{"$error":"#VALUE!"},{"$error":"#VALUE!"}]
[null,{"$f":"IF($O$1=\"x\",Kalkulacja!I299,\"\")","v":""},"",{"$f":"IF($O$1=\"x\",Kalkulacja!U299,\"\")","v":""},"",null,null,null,null,null,null,{"$f":"Kalkulacja!K299","v":0},{"$f":"IF(Kalkulacja!$U$414>0,D300*L300*1.5,D300*L300)","v":{"$error":"#VALUE!"}},{"$f":"INDEX(Kalkulacja!U:U,S300)","v":{"$error":"#N/A"}},0,1,null,null,{"$f":"MATCH(B300,Kalkulacja!I:I,0)","v":{"$error":"#N/A"}},null,0,0,"00",null,{"$error":"#VALUE!"},{"$error":"#VALUE!"},{"$error":"#VALUE!"}]
[null,{"$f":"IF($O$1=\"x\",Kalkulacja!I300,\"\")","v":""},null,null,null,null,null,null,null,null,null,{"$f":"Kalkulacja!K300","v":0},{"$f":"IF(Kalkulacja!$U$414>0,D301*L301*1.5,D301*L301)","v":0},{"$f":"INDEX(Kalkulacja!U:U,S301)","v":{"$error":"#N/A"}},{"$f":"IF(SUM(O302:O322)>0,1,0)","v":{"$error":"#N/A"}},{"$error":"#N/A"},null,{"$f":"IF($O$1=\"x\",\"y\",\"\")","v":""},{"$f":"MATCH(B301,Kalkulacja!I:I,0)","v":{"$error":"#N/A"}},null,0,0,"00",null,0,0,"00"]
[null,{"$f":"IF($O$1=\"x\",Kalkulacja!I301,\"\")","v":""},{"$f":"IF($O$1=\"x\",U302&\":\"&W302,\"\")","v":""},{"$f":"IF($O$1=\"x\",Kalkulacja!U301,\"\")","v":""},"",null,null,null,null,null,null,{"$f":"Kalkulacja!K301","v":0},{"$f":"IF(Kalkulacja!$U$414>0,D302*L302*1.5,D302*L302)","v":{"$error":"#VALUE!"}},{"$f":"INDEX(Kalkulacja!U:U,S302)","v":{"$error":"#N/A"}},{"$f":"IF(L302>0,IF(N302>0,1,0),0)","v":0},1,null,null,{"$f":"MATCH(B302,Kalkulacja!I:I,0)","v":{"$error":"#N/A"}},null,0,0,"00",null,{"$error":"#VALUE!"},{"$error":"#VALUE!"},{"$error":"#VALUE!"}]
[null,{"$f":"IF($O$1=\"x\",Kalkulacja!I302,\"\")","v":""},"",{"$f":"IF($O$1=\"x\",Kalkulacja!U302,\"\")","v":""},"",null,null,null,null,null,null,{"$f":"Kalkulacja!K302","v":0},{"$f":"IF(Kalkulacja!$U$414>0,D303*L303*1.5,D303*L303)","v":{"$error":"#VALUE!"}},{"$f":"INDEX(Kalkulacja!U:U,S303)","v":{"$error":"#N/A"}},0,1,null,null,{"$f":"MATCH(B303,Kalkulacja!I:I,0)","v":{"$error":"#N/A"}},null,0,0,"00",null,{"$error":"#VALUE!"},{"$error":"#VALUE!"},{"$error":"#VALUE!"}]
[null,{"$f":"IF($O$1=\"x\",Kalkulacja!I303,\"\")","v":""},"",{"$f":"IF($O$1=\"x\",Kalkulacja!U303,\"\")","v":""},"",null,null,null,null,null,null,{"$f":"Kalkulacja!K303","v":0},{"$f":"IF(Kalkulacja!$U$414>0,D304*L304*1.5,D304*L304)","v":{"$error":"#VALUE!"}},{"$f":"INDEX(Kalkulacja!U:U,S304)","v":{"$error":"#N/A"}},0,1,null,null,{"$f":"MATCH(B304,Kalkulacja!I:I,0)","v":{"$error":"#N/A"}},null,0,0,"00",null,{"$error":"#VALUE!"},{"$error":"#VALUE!"},{"$error":"#VALUE!"}]
[null,{"$f":"IF($O$1=\"x\",Kalkulacja!I304,\"\")","v":""},"",{"$f":"IF($O$1=\"x\",Kalkulacja!U304,\"\")","v":""},"",null,null,null,null,null,null,{"$f":"Kalkulacja!K304","v":0},{"$f":"IF(Kalkulacja!$U$414>0,D305*L305*1.5,D305*L305)","v":{"$error":"#VALUE!"}},{"$f":"INDEX(Kalkulacja!U:U,S305)","v":{"$error":"#N/A"}},0,1,null,null,{"$f":"MATCH(B305,Kalkulacja!I:I,0)","v":{"$error":"#N/A"}},null,0,0,"00",null,{"$error":"#VALUE!"},{"$error":"#VALUE!"},{"$error":"#VALUE!"}]
[null,{"$f":"IF($O$1=\"x\",Kalkulacja!I305,\"\")","v":""},"",{"$f":"IF($O$1=\"x\",Kalkulacja!U305,\"\")","v":""},"",null,null,null,null,null,null,{"$f":"Kalkulacja!K305","v":0},{"$f":"IF(Kalkulacja!$U$414>0,D306*L306*1.5,D306*L306)","v":{"$error":"#VALUE!"}},{"$f":"INDEX(Kalkulacja!U:U,S306)","v":{"$error":"#N/A"}},0,1,null,null,{"$f":"MATCH(B306,Kalkulacja!I:I,0)","v":{"$error":"#N/A"}},null,0,0,"00",null,{"$error":"#VALUE!"},{"$error":"#VALUE!"},{"$error":"#VALUE!"}]
[null,{"$f":"IF($O$1=\"x\",Kalkulacja!I306,\"\")","v":""},"",{"$f":"IF($O$1=\"x\",Kalkulacja!U306,\"\")","v":""},"",null,null,null,null,null,null,{"$f":"Kalkulacja!K306","v":0},{"$f":"IF(Kalkulacja!$U$414>0,D307*L307*1.5,D307*L307)","v":{"$error":"#VALUE!"}},{"$f":"INDEX(Kalkulacja!U:U,S307)","v":{"$error":"#N/A"}},0,{"$f":"IF(O307=1,0,1)","v":1},null,null,{"$f":"MATCH(B307,Kalkulacja!I:I,0)","v":{"$error":"#N/A"}},null,0,0,{"$f":"IF(V307<10,\"0\"&V307,V307)","v":"00"},null,{"$error":"#VALUE!"},{"$error":"#VALUE!"},{"$f":"IF(Z307<10,\"0\"&Z307,Z307)","v":{"$error":"#VALUE!"}}]
[null,{"$f":"IF($O$1=\"x\",Kalkulacja!I307,\"\")","v":""},"",{"$f":"IF($O$1=\"x\",Kalkulacja!U307,\"\")","v":""},"",null,null,null,null,null,null,{"$f":"Kalkulacja!K307","v":0},{"$f":"IF(Kalkulacja!$U$414>0,D308*L308*1.5,D308*L308)","v":{"$error":"#VALUE!"}},{"$f":"INDEX(Kalkulacja!U:U,S308)","v":{"$error":"#N/A"}},0,1,null,null,{"$f":"MATCH(B308,Kalkulacja!I:I,0)","v":{"$error":"#N/A"}},null,0,0,"00",null,{"$error":"#VALUE!"},{"$error":"#VALUE!"},{"$error":"#VALUE!"}]
[null,{"$f":"IF($O$1=\"x\",Kalkulacja!I308,\"\")","v":""},"",{"$f":"IF($O$1=\"x\",Kalkulacja!U308,\"\")","v":""},"",null,null,null,null,null,null,{"$f":"Kalkulacja!K308","v":0},{"$f":"IF(Kalkulacja!$U$414>0,D309*L309*1.5,D309*L309)","v":{"$error":"#VALUE!"}},{"$f":"INDEX(Kalkulacja!U:U,S309)","v":{"$error":"#N/A"}},0,1,null,null,{"$f":"MATCH(B309,Kalkulacja!I:I,0)","v":{"$error":"#N/A"}},null,0,0,"00",null,{"$error":"#VALUE!"},{"$error":"#VALUE!"},{"$error":"#VALUE!"}]
[null,{"$f":"IF($O$1=\"x\",Kalkulacja!I309,\"\")","v":""},"",{"$f":"IF($O$1=\"x\",Kalkulacja!U309,\"\")","v":""},"",null,null,null,null,null,null,{"$f":"Kalkulacja!K309","v":0},{"$f":"IF(Kalkulacja!$U$414>0,D310*L310*1.5,D310*L310)","v":{"$error":"#VALUE!"}},{"$f":"INDEX(Kalkulacja!U:U,S310)","v":{"$error":"#N/A"}},0,1,null,null,{"$f":"MATCH(B310,Kalkulacja!I:I,0)","v":{"$error":"#N/A"}},null,0,0,"00",null,{"$error":"#VALUE!"},{"$error":"#VALUE!"},{"$error":"#VALUE!"}]
[null,{"$f":"IF($O$1=\"x\",Kalkulacja!I310,\"\")","v":""},"",{"$f":"IF($O$1=\"x\",Kalkulacja!U310,\"\")","v":""},"",null,null,null,null,null,null,{"$f":"Kalkulacja!K310","v":0},{"$f":"IF(Kalkulacja!$U$414>0,D311*L311*1.5,D311*L311)","v":{"$error":"#VALUE!"}},{"$f":"INDEX(Kalkulacja!U:U,S311)","v":{"$error":"#N/A"}},0,1,null,null,{"$f":"MATCH(B311,Kalkulacja!I:I,0)","v":{"$error":"#N/A"}},null,0,0,"00",null,{"$error":"#VALUE!"},{"$error":"#VALUE!"},{"$error":"#VALUE!"}]
[null,{"$f":"IF($O$1=\"x\",Kalkulacja!I311,\"\")","v":""},"",{"$f":"IF($O$1=\"x\",Kalkulacja!U311,\"\")","v":""},"",null,null,null,null,null,null,{"$f":"Kalkulacja!K311","v":0},{"$f":"IF(Kalkulacja!$U$414>0,D312*L312*1.5,D312*L312)","v":{"$error":"#VALUE!"}},{"$f":"INDEX(Kalkulacja!U:U,S312)","v":{"$error":"#N/A"}},0,1,null,null,{"$f":"MATCH(B312,Kalkulacja!I:I,0)","v":{"$error":"#N/A"}},null,0,0,"00",null,{"$error":"#VALUE!"},{"$error":"#VALUE!"},{"$error":"#VALUE!"}]
[null,{"$f":"IF($O$1=\"x\",Kalkulacja!I312,\"\")","v":""},"",{"$f":"IF($O$1=\"x\",Kalkulacja!U312,\"\")","v":""},"",null,null,null,null,null,null,{"$f":"Kalkulacja!K312","v":0},{"$f":"IF(Kalkulacja!$U$414>0,D313*L313*1.5,D313*L313)","v":{"$error":"#VALUE!"}},{"$f":"INDEX(Kalkulacja!U:U,S313)","v":{"$error":"#N/A"}},0,1,null,null,{"$f":"MATCH(B313,Kalkulacja!I:I,0)","v":{"$error":"#N/A"}},null,0,0,"00",null,{"$error":"#VALUE!"},{"$error":"#VALUE!"},{"$error":"#VALUE!"}]
[null,{"$f":"IF($O$1=\"x\",Kalkulacja!I313,\"\")","v":""},"",{"$f":"IF($O$1=\"x\",Kalkulacja!U313,\"\")","v":""},"",null,null,null,null,null,null,{"$f":"Kalkulacja!K313","v":1},{"$f":"IF(Kalkulacja!$U$414>0,D314*L314*1.5,D314*L314)","v":{"$error":"#VALUE!"}},{"$f":"INDEX(Kalkulacja!U:U,S314)","v":{"$error":"#N/A"}},{"$error":"#N/A"},{"$error":"#N/A"},null,null,{"$f":"MATCH(B314,Kalkulacja!I:I,0)","v":{"$error":"#N/A"}},null,1,0,"00",null,{"$error":"#VALUE!"},{"$error":"#VALUE!"},{"$error":"#VALUE!"}]
[null,{"$f":"IF($O$1=\"x\",Kalkulacja!I314,\"\")","v":""},"",{"$f":"IF($O$1=\"x\",Kalkulacja!U314,\"\")","v":""},"",null,null,null,null,null,null,{"$f":"Kalkulacja!K314","v":1},{"$f":"IF(Kalkulacja!$U$414>0,D315*L315*1.5,D315*L315)","v":{"$error":"#VALUE!"}},{"$f":"INDEX(Kalkulacja!U:U,S315)","v":{"$error":"#N/A"}},{"$error":"#N/A"},{"$error":"#N/A"},null,null,{"$f":"MATCH(B315,Kalkulacja!I:I,0)","v":{"$error":"#N/A"}},null,1,0,"00",null,{"$error":"#VALUE!"},{"$error":"#VALUE!"},{"$error":"#VALUE!"}]
[null,{"$f":"IF($O$1=\"x\",Kalkulacja!I315,\"\")","v":""},"",{"$f":"IF($O$1=\"x\",Kalkulacja!U315,\"\")","v":""},"",null,null,null,null,null,null,{"$f":"Kalkulacja!K315","v":0.5},{"$f":"IF(Kalkulacja!$U$414>0,D316*L316*1.5,D316*L316)","v":{"$error":"#VALUE!"}},{"$f":"INDEX(Kalkulacja!U:U,S316)","v":{"$error":"#N/A"}},{"$error":"#N/A"},{"$error":"#N/A"},null,null,{"$f":"MATCH(B316,Kalkulacja!I:I,0)","v":{"$error":"#N/A"}},null,0,30,30,null,{"$error":"#VALUE!"},{"$error":"#VALUE!"},{"$error":"#VALUE!"}]
[null,{"$f":"IF($O$1=\"x\",Kalkulacja!I316,\"\")","v":""},"",{"$f":"IF($O$1=\"x\",Kalkulacja!U316,\"\")","v":""},"",null,null,null,null,null,null,{"$f":"Kalkulacja!K316","v":0.5},{"$f":"IF(Kalkulacja!$U$414>0,D317*L317*1.5,D317*L317)","v":{"$error":"#VALUE!"}},{"$f":"INDEX(Kalkulacja!U:U,S317)","v":{"$error":"#N/A"}},{"$error":"#N/A"},{"$error":"#N/A"},null,null,{"$f":"MATCH(B317,Kalkulacja!I:I,0)","v":{"$error":"#N/A"}},null,0,30,30,null,{"$error":"#VALUE!"},{"$error":"#VALUE!"},{"$error":"#VALUE!"}]
[null,{"$f":"IF($O$1=\"x\",Kalkulacja!I317,\"\")","v":""},"",{"$f":"IF($O$1=\"x\",Kalkulacja!U317,\"\")","v":""},"",null,null,null,null,null,null,{"$f":"Kalkulacja!K317","v":0.5},{"$f":"IF(Kalkulacja!$U$414>0,D318*L318*1.5,D318*L318)","v":{"$error":"#VALUE!"}},{"$f":"INDEX(Kalkulacja!U:U,S318)","v":{"$error":"#N/A"}},{"$error":"#N/A"},{"$error":"#N/A"},null,null,{"$f":"MATCH(B318,Kalkulacja!I:I,0)","v":{"$error":"#N/A"}},null,0,30,30,null,{"$error":"#VALUE!"},{"$error":"#VALUE!"},{"$error":"#VALUE!"}]
[null,{"$f":"IF($O$1=\"x\",Kalkulacja!I318,\"\")","v":""},"",{"$f":"IF($O$1=\"x\",Kalkulacja!U318,\"\")","v":""},"",null,null,null,null,null,null,{"$f":"Kalkulacja!K318","v":0},{"$f":"IF(Kalkulacja!$U$414>0,D319*L319*1.5,D319*L319)","v":{"$error":"#VALUE!"}},{"$f":"INDEX(Kalkulacja!U:U,S319)","v":{"$error":"#N/A"}},0,1,null,null,{"$f":"MATCH(B319,Kalkulacja!I:I,0)","v":{"$error":"#N/A"}},null,0,0,"00",null,{"$error":"#VALUE!"},{"$error":"#VALUE!"},{"$error":"#VALUE!"}]
[null,{"$f":"IF($O$1=\"x\",Kalkulacja!I319,\"\")","v":""},"",{"$f":"IF($O$1=\"x\",Kalkulacja!U319,\"\")","v":""},"",null,null,null,null,null,null,{"$f":"Kalkulacja!K319","v":0},{"$f":"IF(Kalkulacja!$U$414>0,D320*L320*1.5,D320*L320)","v":{"$error":"#VALUE!"}},{"$f":"INDEX(Kalkulacja!U:U,S320)","v":{"$error":"#N/A"}},0,1,null,null,{"$f":"MATCH(B320,Kalkulacja!I:I,0)","v":{"$error":"#N/A"}},null,0,0,"00",null,{"$error":"#VALUE!"},{"$error":"#VALUE!"},{"$error":"#VALUE!"}]
[null,{"$f":"IF($O$1=\"x\",Kalkulacja!I320,\"\")","v":""},"",{"$f":"IF($O$1=\"x\",Kalkulacja!U320,\"\")","v":""},"",null,null,null,null,null,null,{"$f":"Kalkulacja!K320","v":0},{"$f":"IF(Kalkulacja!$U$414>0,D321*L321*1.5,D321*L321)","v":{"$error":"#VALUE!"}},{"$f":"INDEX(Kalkulacja!U:U,S321)","v":{"$error":"#N/A"}},0,1,null,null,{"$f":"MATCH(B321,Kalkulacja!I:I,0)","v":{"$error":"#N/A"}},null,0,0,"00",null,{"$error":"#VALUE!"},{"$error":"#VALUE!"},{"$error":"#VALUE!"}]
[null,{"$f":"IF($O$1=\"x\",Kalkulacja!I321,\"\")","v":""},"",{"$f":"IF($O$1=\"x\",Kalkulacja!U321,\"\")","v":""},"",null,null,null,null,null,null,{"$f":"Kalkulacja!K321","v":0},{"$f":"IF(Kalkulacja!$U$414>0,D322*L322*1.5,D322*L322)","v":{"$error":"#VALUE!"}},{"$f":"INDEX(Kalkulacja!U:U,S322)","v":{"$error":"#N/A"}},0,1,null,null,{"$f":"MATCH(B322,Kalkulacja!I:I,0)","v":{"$error":"#N/A"}},null,0,0,"00",null,{"$error":"#VALUE!"},{"$error":"#VALUE!"},{"$error":"#VALUE!"}]
[null,{"$f":"IF($O$1=\"x\",Kalkulacja!I322,\"\")","v":""},null,null,null,null,null,null,null,null,null,{"$f":"Kalkulacja!K322","v":0},{"$f":"IF(Kalkulacja!$U$414>0,D323*L323*1.5,D323*L323)","v":0},{"$f":"INDEX(Kalkulacja!U:U,S323)","v":{"$error":"#N/A"}},{"$f":"IF(SUM(O324:O339)>0,1,0)","v":{"$error":"#N/A"}},{"$error":"#N/A"},null,{"$f":"IF($O$1=\"x\",\"y\",\"\")","v":""},{"$f":"MATCH(B323,Kalkulacja!I:I,0)","v":{"$error":"#N/A"}},null,0,0,"00",null,0,0,"00"]
[null,{"$f":"IF($O$1=\"x\",Kalkulacja!I323,\"\")","v":""},{"$f":"IF($O$1=\"x\",U324&\":\"&W324,\"\")","v":""},{"$f":"IF($O$1=\"x\",Kalkulacja!U323,\"\")","v":""},"",null,null,null,null,null,null,{"$f":"Kalkulacja!K323","v":0},{"$f":"IF(Kalkulacja!$U$414>0,D324*L324*1.5,D324*L324)","v":{"$error":"#VALUE!"}},{"$f":"INDEX(Kalkulacja!U:U,S324)","v":{"$error":"#N/A"}},{"$f":"IF(L324>0,IF(N324>0,1,0),0)","v":0},1,null,null,{"$f":"MATCH(B324,Kalkulacja!I:I,0)","v":{"$error":"#N/A"}},null,{"$f":"TRUNC(L324)","v":0},{"$f":"ROUND((L324-U324)*60,0)","v":0},"00",null,{"$f":"TRUNC(M324)","v":{"$error":"#VALUE!"}},{"$f":"ROUND((M324-Y324)*60,0)","v":{"$error":"#VALUE!"}},{"$error":"#VALUE!"}]
[null,{"$f":"IF($O$1=\"x\",Kalkulacja!I324,\"\")","v":""},"",{"$f":"IF($O$1=\"x\",Kalkulacja!U324,\"\")","v":""},"",null,null,null,null,null,null,{"$f":"Kalkulacja!K324","v":0},{"$f":"IF(Kalkulacja!$U$414>0,D325*L325*1.5,D325*L325)","v":{"$error":"#VALUE!"}},{"$f":"INDEX(Kalkulacja!U:U,S325)","v":{"$error":"#N/A"}},0,1,null,null,{"$f":"MATCH(B325,Kalkulacja!I:I,0)","v":{"$error":"#N/A"}},null,0,0,"00",null,{"$error":"#VALUE!"},{"$error":"#VALUE!"},{"$error":"#VALUE!"}]
[null,{"$f":"IF($O$1=\"x\",Kalkulacja!I325,\"\")","v":""},"",{"$f":"IF($O$1=\"x\",Kalkulacja!U325,\"\")","v":""},"",null,null,null,null,null,null,{"$f":"Kalkulacja!K325","v":1},{"$f":"IF(Kalkulacja!$U$414>0,D326*L326*1.5,D326*L326)","v":{"$error":"#VALUE!"}},{"$f":"INDEX(Kalkulacja!U:U,S326)","v":{"$error":"#N/A"}},{"$error":"#N/A"},{"$error":"#N/A"},null,null,{"$f":"MATCH(B326,Kalkulacja!I:I,0)","v":{"$error":"#N/A"}},null,1,0,"00",null,{"$error":"#VALUE!"},{"$error":"#VALUE!"},{"$error":"#VALUE!"}]
[null,{"$f":"IF($O$1=\"x\",Kalkulacja!I326,\"\")","v":""},"",{"$f":"IF($O$1=\"x\",Kalkulacja!U326,\"\")","v":""},"",null,null,null,null,null,null,{"$f":"Kalkulacja!K326","v":0},{"$f":"IF(Kalkulacja!$U$414>0,D327*L327*1.5,D327*L327)","v":{"$error":"#VALUE!"}},{"$f":"INDEX(Kalkulacja!U:U,S327)","v":{"$error":"#N/A"}},0,1,null,null,{"$f":"MATCH(B327,Kalkulacja!I:I,0)","v":{"$error":"#N/A"}},null,0,0,"00",null,{"$error":"#VALUE!"},{"$error":"#VALUE!"},{"$error":"#VALUE!"}]
[null,{"$f":"IF($O$1=\"x\",Kalkulacja!I327,\"\")","v":""},"",{"$f":"IF($O$1=\"x\",Kalkulacja!U327,\"\")","v":""},"",null,null,null,null,null,null,{"$f":"Kalkulacja!K327","v":0},{"$f":"IF(Kalkulacja!$U$414>0,D328*L328*1.5,D328*L328)","v":{"$error":"#VALUE!"}},{"$f":"INDEX(Kalkulacja!U:U,S328)","v":{"$error":"#N/A"}},0,1,null,null,{"$f":"MATCH(B328,Kalkulacja!I:I,0)","v":{"$error":"#N/A"}},null,0,0,"00",null,{"$error":"#VALUE!"},{"$error":"#VALUE!"},{"$error":"#VALUE!"}]
[null,{"$f":"IF($O$1=\"x\",Kalkulacja!I328,\"\")","v":""},"",{"$f":"IF($O$1=\"x\",Kalkulacja!U328,\"\")","v":""},"",null,null,null,null,null,null,{"$f":"Kalkulacja!K328","v":0},{"$f":"IF(Kalkulacja!$U$414>0,D329*L329*1.5,D329*L329)","v":{"$error":"#VALUE!"}},{"$f":"INDEX(Kalkulacja!U:U,S329)","v":{"$error":"#N/A"}},0,1,null,null,{"$f":"MATCH(B329,Kalkulacja!I:I,0)","v":{"$error":"#N/A"}},null,0,0,"00",null,{"$error":"#VALUE!"},{"$error":"#VALUE!"},{"$error":"#VALUE!"}]
[null,{"$f":"IF($O$1=\"x\",Kalkulacja!I329,\"\")","v":""},"",{"$f":"IF($O$1=\"x\",Kalkulacja!U329,\"\")","v":""},"",null,null,null,null,null,null,{"$f":"Kalkulacja!K329","v":0},{"$f":"IF(Kalkulacja!$U$414>0,D330*L330*1.5,D330*L330)","v":{"$error":"#VALUE!"}},{"$f":"INDEX(Kalkulacja!U:U,S330)","v":{"$error":"#N/A"}},0,1,null,null,{"$f":"MATCH(B330,Kalkulacja!I:I,0)","v":{"$error":"#N/A"}},null,0,0,"00",null,{"$error":"#VALUE!"},{"$error":"#VALUE!"},{"$error":"#VALUE!"}]
[null,{"$f":"IF($O$1=\"x\",Kalkulacja!I330,\"\")","v":""},"",{"$f":"IF($O$1=\"x\",Kalkulacja!U330,\"\")","v":""},"",null,null,null,null,null,null,{"$f":"Kalkulacja!K330","v":0},{"$f":"IF(Kalkulacja!$U$414>0,D331*L331*1.5,D331*L331)","v":{"$error":"#VALUE!"}},{"$f":"INDEX(Kalkulacja!U:U,S331)","v":{"$error":"#N/A"}},0,1,null,null,{"$f":"MATCH(B331,Kalkulacja!I:I,0)","v":{"$error":"#N/A"}},null,0,0,"00",null,{"$error":"#VALUE!"},{"$error":"#VALUE!"},{"$error":"#VALUE!"}]
[null,{"$f":"IF($O$1=\"x\",Kalkulacja!I331,\"\")","v":""},"",{"$f":"IF($O$1=\"x\",Kalkulacja!U331,\"\")","v":""},"",null,null,null,null,null,null,{"$f":"Kalkulacja!K331","v":0},{"$f":"IF(Kalkulacja!$U$414>0,D332*L332*1.5,D332*L332)","v":{"$error":"#VALUE!"}},{"$f":"INDEX(Kalkulacja!U:U,S332)","v":{"$error":"#N/A"}},0,1,null,null,{"$f":"MATCH(B332,Kalkulacja!I:I,0)","v":{"$error":"#N/A"}},null,0,0,"00",null,{"$error":"#VALUE!"},{"$error":"#VALUE!"},{"$error":"#VALUE!"}]
[null,{"$f":"IF($O$1=\"x\",Kalkulacja!I332,\"\")","v":""},"",{"$f":"IF($O$1=\"x\",Kalkulacja!U332,\"\")","v":""},"",null,null,null,null,null,null,{"$f":"Kalkulacja!K332","v":0},{"$f":"IF(Kalkulacja!$U$414>0,D333*L333*1.5,D333*L333)","v":{"$error":"#VALUE!"}},{"$f":"INDEX(Kalkulacja!U:U,S333)","v":{"$error":"#N/A"}},0,1,null,null,{"$f":"MATCH(B333,Kalkulacja!I:I,0)","v":{"$error":"#N/A"}},null,0,0,"00",null,{"$error":"#VALUE!"},{"$error":"#VALUE!"},{"$error":"#VALUE!"}]
[null,{"$f":"IF($O$1=\"x\",Kalkulacja!I333,\"\")","v":""},"",{"$f":"IF($O$1=\"x\",Kalkulacja!U333,\"\")","v":""},"",null,null,null,null,null,null,{"$f":"Kalkulacja!K333","v":0},{"$f":"IF(Kalkulacja!$U$414>0,D334*L334*1.5,D334*L334)","v":{"$error":"#VALUE!"}},{"$f":"INDEX(Kalkulacja!U:U,S334)","v":{"$error":"#N/A"}},0,1,null,null,{"$f":"MATCH(B334,Kalkulacja!I:I,0)","v":{"$error":"#N/A"}},null,0,0,"00",null,{"$error":"#VALUE!"},{"$error":"#VALUE!"},{"$error":"#VALUE!"}]
[null,{"$f":"IF($O$1=\"x\",Kalkulacja!I334,\"\")","v":""},"",{"$f":"IF($O$1=\"x\",Kalkulacja!U334,\"\")","v":""},"",null,null,null,null,null,null,{"$f":"Kalkulacja!K334","v":0.5},{"$f":"IF(Kalkulacja!$U$414>0,D335*L335*1.5,D335*L335)","v":{"$error":"#VALUE!"}},{"$f":"INDEX(Kalkulacja!U:U,S335)","v":{"$error":"#N/A"}},{"$error":"#N/A"},{"$error":"#N/A"},null,null,{"$f":"MATCH(B335,Kalkulacja!I:I,0)","v":{"$error":"#N/A"}},null,0,30,30,null,{"$error":"#VALUE!"},{"$error":"#VALUE!"},{"$error":"#VALUE!"}]
[null,{"$f":"IF($O$1=\"x\",Kalkulacja!I335,\"\")","v":""},"",{"$f":"IF($O$1=\"x\",Kalkulacja!U335,\"\")","v":""},"",null,null,null,null,null,null,{"$f":"Kalkulacja!K335","v":0},{"$f":"IF(Kalkulacja!$U$414>0,D336*L336*1.5,D336*L336)","v":{"$error":"#VALUE!"}},{"$f":"INDEX(Kalkulacja!U:U,S336)","v":{"$error":"#N/A"}},0,1,null,null,{"$f":"MATCH(B336,Kalkulacja!I:I,0)","v":{"$error":"#N/A"}},null,0,0,"00",null,{"$error":"#VALUE!"},{"$error":"#VALUE!"},{"$error":"#VALUE!"}]
[null,{"$f":"IF($O$1=\"x\",Kalkulacja!I336,\"\")","v":""},"",{"$f":"IF($O$1=\"x\",Kalkulacja!U336,\"\")","v":""},"",null,null,null,null,null,null,{"$f":"Kalkulacja!K336","v":0},{"$f":"IF(Kalkulacja!$U$414>0,D337*L337*1.5,D337*L337)","v":{"$error":"#VALUE!"}},{"$f":"INDEX(Kalkulacja!U:U,S337)","v":{"$error":"#N/A"}},0,1,null,null,{"$f":"MATCH(B337,Kalkulacja!I:I,0)","v":{"$error":"#N/A"}},null,0,0,"00",null,{"$error":"#VALUE!"},{"$error":"#VALUE!"},{"$error":"#VALUE!"}]
[null,{"$f":"IF($O$1=\"x\",Kalkulacja!I337,\"\")","v":""},"",{"$f":"IF($O$1=\"x\",Kalkulacja!U337,\"\")","v":""},"",null,null,null,null,null,null,{"$f":"Kalkulacja!K337","v":0},{"$f":"IF(Kalkulacja!$U$414>0,D338*L338*1.5,D338*L338)","v":{"$error":"#VALUE!"}},{"$f":"INDEX(Kalkulacja!U:U,S338)","v":{"$error":"#N/A"}},0,1,null,null,{"$f":"MATCH(B338,Kalkulacja!I:I,0)","v":{"$error":"#N/A"}},null,0,0,"00",null,{"$error":"#VALUE!"},{"$error":"#VALUE!"},{"$error":"#VALUE!"}]
[null,{"$f":"IF($O$1=\"x\",Kalkulacja!I338,\"\")","v":""},"",{"$f":"IF($O$1=\"x\",Kalkulacja!U338,\"\")","v":""},"",null,null,null,null,null,null,{"$f":"Kalkulacja!K338","v":0},{"$f":"IF(Kalkulacja!$U$414>0,D339*L339*1.5,D339*L339)","v":{"$error":"#VALUE!"}},{"$f":"INDEX(Kalkulacja!U:U,S339)","v":{"$error":"#N/A"}},0,1,null,null,{"$f":"MATCH(B339,Kalkulacja!I:I,0)","v":{"$error":"#N/A"}},null,0,0,"00",null,{"$error":"#VALUE!"},{"$error":"#VALUE!"},{"$error":"#VALUE!"}]
[null,{"$f":"IF($O$1=\"x\",Kalkulacja!I339,\"\")","v":""},null,null,null,null,null,null,null,null,null,{"$f":"Kalkulacja!K339","v":0},{"$f":"IF(Kalkulacja!$U$414>0,D340*L340*1.5,D340*L340)","v":0},{"$f":"INDEX(Kalkulacja!U:U,S340)","v":{"$error":"#N/A"}},{"$f":"IF(SUM(O341:O352)>0,1,0)","v":{"$error":"#N/A"}},{"$error":"#N/A"},null,{"$f":"IF($O$1=\"x\",\"y\",\"\")","v":""},{"$f":"MATCH(B340,Kalkulacja!I:I,0)","v":{"$error":"#N/A"}},null,0,0,"00",null,0,0,"00"]
[null,{"$f":"IF($O$1=\"x\",Kalkulacja!I340,\"\")","v":""},{"$f":"IF($O$1=\"x\",U341&\":\"&W341,\"\")","v":""},{"$f":"IF($O$1=\"x\",Kalkulacja!U340,\"\")","v":""},"",null,null,null,null,null,null,{"$f":"Kalkulacja!K340","v":1},{"$f":"IF(Kalkulacja!$U$414>0,D341*L341*1.5,D341*L341)","v":{"$error":"#VALUE!"}},{"$f":"INDEX(Kalkulacja!U:U,S341)","v":{"$error":"#N/A"}},{"$f":"IF(L341>0,IF(N341>0,1,0),0)","v":{"$error":"#N/A"}},{"$error":"#N/A"},null,null,{"$f":"MATCH(B341,Kalkulacja!I:I,0)","v":{"$error":"#N/A"}},null,1,0,"00",null,{"$error":"#VALUE!"},{"$error":"#VALUE!"},{"$error":"#VALUE!"}]
[null,{"$f":"IF($O$1=\"x\",Kalkulacja!I341,\"\")","v":""},"",{"$f":"IF($O$1=\"x\",Kalkulacja!U341,\"\")","v":""},"",null,null,null,null,null,null,{"$f":"Kalkulacja!K341","v":0.5},{"$f":"IF(Kalkulacja!$U$414>0,D342*L342*1.5,D342*L342)","v":{"$error":"#VALUE!"}},{"$f":"INDEX(Kalkulacja!U:U,S342)","v":{"$error":"#N/A"}},{"$error":"#N/A"},{"$error":"#N/A"},null,null,{"$f":"MATCH(B342,Kalkulacja!I:I,0)","v":{"$error":"#N/A"}},null,0,30,30,null,{"$error":"#VALUE!"},{"$error":"#VALUE!"},{"$error":"#VALUE!"}]
[null,{"$f":"IF($O$1=\"x\",Kalkulacja!I342,\"\")","v":""},"",{"$f":"IF($O$1=\"x\",Kalkulacja!U342,\"\")","v":""},{"$f":"IF($O$1=\"x\",Y343&\":\"&AA343,\"\")","v":""},null,null,null,null,null,null,{"$f":"Kalkulacja!K342","v":1},{"$f":"IF(Kalkulacja!$U$414>0,D343*L343*1.5,D343*L343)","v":{"$error":"#VALUE!"}},{"$f":"INDEX(Kalkulacja!U:U,S343)","v":{"$error":"#N/A"}},{"$error":"#N/A"},{"$error":"#N/A"},null,null,{"$f":"MATCH(B343,Kalkulacja!I:I,0)","v":{"$error":"#N/A"}},null,1,0,"00",null,{"$error":"#VALUE!"},{"$error":"#VALUE!"},{"$error":"#VALUE!"}]
[null,{"$f":"IF($O$1=\"x\",Kalkulacja!I343,\"\")","v":""},"",{"$f":"IF($O$1=\"x\",Kalkulacja!U343,\"\")","v":""},"",null,null,null,null,null,null,{"$f":"Kalkulacja!K343","v":0},{"$f":"IF(Kalkulacja!$U$414>0,D344*L344*1.5,D344*L344)","v":{"$error":"#VALUE!"}},{"$f":"INDEX(Kalkulacja!U:U,S344)","v":{"$error":"#N/A"}},0,1,null,null,{"$f":"MATCH(B344,Kalkulacja!I:I,0)","v":{"$error":"#N/A"}},null,0,0,"00",null,{"$error":"#VALUE!"},{"$error":"#VALUE!"},{"$error":"#VALUE!"}]
[null,{"$f":"IF($O$1=\"x\",Kalkulacja!I344,\"\")","v":""},"",{"$f":"IF($O$1=\"x\",Kalkulacja!U344,\"\")","v":""},"",null,null,null,null,null,null,{"$f":"Kalkulacja!K344","v":1},{"$f":"IF(Kalkulacja!$U$414>0,D345*L345*1.5,D345*L345)","v":{"$error":"#VALUE!"}},{"$f":"INDEX(Kalkulacja!U:U,S345)","v":{"$error":"#N/A"}},{"$error":"#N/A"},{"$error":"#N/A"},null,null,{"$f":"MATCH(B345,Kalkulacja!I:I,0)","v":{"$error":"#N/A"}},null,1,0,"00",null,{"$error":"#VALUE!"},{"$error":"#VALUE!"},{"$error":"#VALUE!"}]
[null,{"$f":"IF($O$1=\"x\",Kalkulacja!I345,\"\")","v":""},"",{"$f":"IF($O$1=\"x\",Kalkulacja!U345,\"\")","v":""},"",null,null,null,null,null,null,{"$f":"Kalkulacja!K345","v":0.5},{"$f":"IF(Kalkulacja!$U$414>0,D346*L346*1.5,D346*L346)","v":{"$error":"#VALUE!"}},{"$f":"INDEX(Kalkulacja!U:U,S346)","v":{"$error":"#N/A"}},{"$error":"#N/A"},{"$error":"#N/A"},null,null,{"$f":"MATCH(B346,Kalkulacja!I:I,0)","v":{"$error":"#N/A"}},null,0,30,30,null,{"$error":"#VALUE!"},{"$error":"#VALUE!"},{"$error":"#VALUE!"}]
[null,{"$f":"IF($O$1=\"x\",Kalkulacja!I346,\"\")","v":""},"",{"$f":"IF($O$1=\"x\",Kalkulacja!U346,\"\")","v":""},"",null,null,null,null,null,null,{"$f":"Kalkulacja!K346","v":0},{"$f":"IF(Kalkulacja!$U$414>0,D347*L347*1.5,D347*L347)","v":{"$error":"#VALUE!"}},{"$f":"INDEX(Kalkulacja!U:U,S347)","v":{"$error":"#N/A"}},0,1,null,null,{"$f":"MATCH(B347,Kalkulacja!I:I,0)","v":{"$error":"#N/A"}},null,0,0,"00",null,{"$error":"#VALUE!"},{"$error":"#VALUE!"},{"$error":"#VALUE!"}]
[null,{"$f":"IF($O$1=\"x\",Kalkulacja!I347,\"\")","v":""},"",{"$f":"IF($O$1=\"x\",Kalkulacja!U347,\"\")","v":""},"",null,null,null,null,null,null,{"$f":"Kalkulacja!K347","v":0},{"$f":"IF(Kalkulacja!$U$414>0,D348*L348*1.5,D348*L348)","v":{"$error":"#VALUE!"}},{"$f":"INDEX(Kalkulacja!U:U,S348)","v":{"$error":"#N/A"}},0,1,null,null,{"$f":"MATCH(B348,Kalkulacja!I:I,0)","v":{"$error":"#N/A"}},null,0,0,"00",null,{"$error":"#VALUE!"},{"$error":"#VALUE!"},{"$error":"#VALUE!"}]
[null,{"$f":"IF($O$1=\"x\",Kalkulacja!I348,\"\")","v":""},"",{"$f":"IF($O$1=\"x\",Kalkulacja!U348,\"\")","v":""},"",null,null,null,null,null,null,{"$f":"Kalkulacja!K348","v":0},{"$f":"IF(Kalkulacja!$U$414>0,D349*L349*1.5,D349*L349)","v":{"$error":"#VALUE!"}},{"$f":"INDEX(Kalkulacja!U:U,S349)","v":{"$error":"#N/A"}},0,1,null,null,{"$f":"MATCH(B349,Kalkulacja!I:I,0)","v":{"$error":"#N/A"}},null,0,0,"00",null,{"$error":"#VALUE!"},{"$error":"#VALUE!"},{"$error":"#VALUE!"}]
[null,{"$f":"IF($O$1=\"x\",Kalkulacja!I349,\"\")","v":""},"",{"$f":"IF($O$1=\"x\",Kalkulacja!U349,\"\")","v":""},"",null,null,null,null,null,null,{"$f":"Kalkulacja!K349","v":0},{"$f":"IF(Kalkulacja!$U$414>0,D350*L350*1.5,D350*L350)","v":{"$error":"#VALUE!"}},{"$f":"INDEX(Kalkulacja!U:U,S350)","v":{"$error":"#N/A"}},0,1,null,null,{"$f":"MATCH(B350,Kalkulacja!I:I,0)","v":{"$error":"#N/A"}},null,0,0,"00",null,{"$error":"#VALUE!"},{"$error":"#VALUE!"},{"$error":"#VALUE!"}]
[null,{"$f":"IF($O$1=\"x\",Kalkulacja!I350,\"\")","v":""},"",{"$f":"IF($O$1=\"x\",Kalkulacja!U350,\"\")","v":""},"",null,null,null,null,null,null,{"$f":"Kalkulacja!K350","v":0},{"$f":"IF(Kalkulacja!$U$414>0,D351*L351*1.5,D351*L351)","v":{"$error":"#VALUE!"}},{"$f":"INDEX(Kalkulacja!U:U,S351)","v":{"$error":"#N/A"}},0,1,null,null,{"$f":"MATCH(B351,Kalkulacja!I:I,0)","v":{"$error":"#N/A"}},null,0,0,"00",null,{"$error":"#VALUE!"},{"$error":"#VALUE!"},{"$error":"#VALUE!"}]
[null,{"$f":"IF($O$1=\"x\",Kalkulacja!I351,\"\")","v":""},"",{"$f":"IF($O$1=\"x\",Kalkulacja!U351,\"\")","v":""},"",null,null,null,null,null,null,{"$f":"Kalkulacja!K351","v":0},{"$f":"IF(Kalkulacja!$U$414>0,D352*L352*1.5,D352*L352)","v":{"$error":"#VALUE!"}},{"$f":"INDEX(Kalkulacja!U:U,S352)","v":{"$error":"#N/A"}},0,1,null,null,{"$f":"MATCH(B352,Kalkulacja!I:I,0)","v":{"$error":"#N/A"}},null,0,0,"00",null,{"$error":"#VALUE!"},{"$error":"#VALUE!"},{"$error":"#VALUE!"}]
[null,{"$f":"IF($O$1=\"x\",Kalkulacja!I352,\"\")","v":""},null,null,null,null,null,null,null,null,null,{"$f":"Kalkulacja!K352","v":0},{"$f":"IF(Kalkulacja!$U$414>0,D353*L353*1.5,D353*L353)","v":0},{"$f":"INDEX(Kalkulacja!U:U,S353)","v":{"$error":"#N/A"}},{"$f":"IF(SUM(O354:O363)>0,1,0)","v":0},1,null,{"$f":"IF($O$1=\"x\",\"y\",\"\")","v":""},{"$f":"MATCH(B353,Kalkulacja!I:I,0)","v":{"$error":"#N/A"}},null,0,0,"00",null,0,0,"00"]
[null,{"$f":"IF($O$1=\"x\",Kalkulacja!I353,\"\")","v":""},{"$f":"IF($O$1=\"x\",U354&\":\"&W354,\"\")","v":""},{"$f":"IF($O$1=\"x\",Kalkulacja!U353,\"\")","v":""},"",null,null,null,null,null,null,{"$f":"Kalkulacja!K353","v":0},{"$f":"IF(Kalkulacja!$U$414>0,D354*L354*1.5,D354*L354)","v":{"$error":"#VALUE!"}},{"$f":"INDEX(Kalkulacja!U:U,S354)","v":{"$error":"#N/A"}},{"$f":"IF(L354>0,IF(N354>0,1,0),0)","v":0},1,null,null,{"$f":"MATCH(B354,Kalkulacja!I:I,0)","v":{"$error":"#N/A"}},null,0,0,"00",null,{"$error":"#VALUE!"},{"$error":"#VALUE!"},{"$error":"#VALUE!"}]
[null,{"$f":"IF($O$1=\"x\",Kalkulacja!I354,\"\")","v":""},"",{"$f":"IF($O$1=\"x\",Kalkulacja!U354,\"\")","v":""},"",null,null,null,null,null,null,{"$f":"Kalkulacja!K354","v":0},{"$f":"IF(Kalkulacja!$U$414>0,D355*L355*1.5,D355*L355)","v":{"$error":"#VALUE!"}},{"$f":"INDEX(Kalkulacja!U:U,S355)","v":{"$error":"#N/A"}},0,1,null,null,{"$f":"MATCH(B355,Kalkulacja!I:I,0)","v":{"$error":"#N/A"}},null,0,0,"00",null,{"$error":"#VALUE!"},{"$error":"#VALUE!"},{"$error":"#VALUE!"}]
[null,{"$f":"IF($O$1=\"x\",Kalkulacja!I355,\"\")","v":""},"",{"$f":"IF($O$1=\"x\",Kalkulacja!U355,\"\")","v":""},"",null,null,null,null,null,null,{"$f":"Kalkulacja!K355","v":0},{"$f":"IF(Kalkulacja!$U$414>0,D356*L356*1.5,D356*L356)","v":{"$error":"#VALUE!"}},{"$f":"INDEX(Kalkulacja!U:U,S356)","v":{"$error":"#N/A"}},0,1,null,null,{"$f":"MATCH(B356,Kalkulacja!I:I,0)","v":{"$error":"#N/A"}},null,0,0,"00",null,{"$error":"#VALUE!"},{"$error":"#VALUE!"},{"$error":"#VALUE!"}]
[null,{"$f":"IF($O$1=\"x\",Kalkulacja!I356,\"\")","v":""},"",{"$f":"IF($O$1=\"x\",Kalkulacja!U356,\"\")","v":""},"",null,null,null,null,null,null,{"$f":"Kalkulacja!K356","v":0},{"$f":"IF(Kalkulacja!$U$414>0,D357*L357*1.5,D357*L357)","v":{"$error":"#VALUE!"}},{"$f":"INDEX(Kalkulacja!U:U,S357)","v":{"$error":"#N/A"}},0,1,null,null,{"$f":"MATCH(B357,Kalkulacja!I:I,0)","v":{"$error":"#N/A"}},null,0,0,"00",null,{"$error":"#VALUE!"},{"$error":"#VALUE!"},{"$error":"#VALUE!"}]
[null,{"$f":"IF($O$1=\"x\",Kalkulacja!I357,\"\")","v":""},"",{"$f":"IF($O$1=\"x\",Kalkulacja!U357,\"\")","v":""},"",null,null,null,null,null,null,{"$f":"Kalkulacja!K357","v":0},{"$f":"IF(Kalkulacja!$U$414>0,D358*L358*1.5,D358*L358)","v":{"$error":"#VALUE!"}},{"$f":"INDEX(Kalkulacja!U:U,S358)","v":{"$error":"#N/A"}},0,1,null,null,{"$f":"MATCH(B358,Kalkulacja!I:I,0)","v":{"$error":"#N/A"}},null,0,0,"00",null,{"$error":"#VALUE!"},{"$error":"#VALUE!"},{"$error":"#VALUE!"}]
[null,{"$f":"IF($O$1=\"x\",Kalkulacja!I358,\"\")","v":""},"",{"$f":"IF($O$1=\"x\",Kalkulacja!U358,\"\")","v":""},"",null,null,null,null,null,null,{"$f":"Kalkulacja!K358","v":0},{"$f":"IF(Kalkulacja!$U$414>0,D359*L359*1.5,D359*L359)","v":{"$error":"#VALUE!"}},{"$f":"INDEX(Kalkulacja!U:U,S359)","v":{"$error":"#N/A"}},0,1,null,null,{"$f":"MATCH(B359,Kalkulacja!I:I,0)","v":{"$error":"#N/A"}},null,0,0,"00",null,{"$error":"#VALUE!"},{"$error":"#VALUE!"},{"$error":"#VALUE!"}]
[null,{"$f":"IF($O$1=\"x\",Kalkulacja!I359,\"\")","v":""},"",{"$f":"IF($O$1=\"x\",Kalkulacja!U359,\"\")","v":""},"",null,null,null,null,null,null,{"$f":"Kalkulacja!K359","v":0},{"$f":"IF(Kalkulacja!$U$414>0,D360*L360*1.5,D360*L360)","v":{"$error":"#VALUE!"}},{"$f":"INDEX(Kalkulacja!U:U,S360)","v":{"$error":"#N/A"}},0,1,null,null,{"$f":"MATCH(B360,Kalkulacja!I:I,0)","v":{"$error":"#N/A"}},null,0,0,"00",null,{"$error":"#VALUE!"},{"$error":"#VALUE!"},{"$error":"#VALUE!"}]
[null,{"$f":"IF($O$1=\"x\",Kalkulacja!I360,\"\")","v":""},"",{"$f":"IF($O$1=\"x\",Kalkulacja!U360,\"\")","v":""},"",null,null,null,null,null,null,{"$f":"Kalkulacja!K360","v":0},{"$f":"IF(Kalkulacja!$U$414>0,D361*L361*1.5,D361*L361)","v":{"$error":"#VALUE!"}},{"$f":"INDEX(Kalkulacja!U:U,S361)","v":{"$error":"#N/A"}},0,1,null,null,{"$f":"MATCH(B361,Kalkulacja!I:I,0)","v":{"$error":"#N/A"}},null,0,0,"00",null,{"$error":"#VALUE!"},{"$error":"#VALUE!"},{"$error":"#VALUE!"}]
[null,{"$f":"IF($O$1=\"x\",Kalkulacja!I361,\"\")","v":""},"",{"$f":"IF($O$1=\"x\",Kalkulacja!U361,\"\")","v":""},"",null,null,null,null,null,null,{"$f":"Kalkulacja!K361","v":0},{"$f":"IF(Kalkulacja!$U$414>0,D362*L362*1.5,D362*L362)","v":{"$error":"#VALUE!"}},{"$f":"INDEX(Kalkulacja!U:U,S362)","v":{"$error":"#N/A"}},0,1,null,null,{"$f":"MATCH(B362,Kalkulacja!I:I,0)","v":{"$error":"#N/A"}},null,0,0,"00",null,{"$error":"#VALUE!"},{"$error":"#VALUE!"},{"$error":"#VALUE!"}]
[null,{"$f":"IF($O$1=\"x\",Kalkulacja!I362,\"\")","v":""},"",{"$f":"IF($O$1=\"x\",Kalkulacja!U362,\"\")","v":""},"",null,null,null,null,null,null,{"$f":"Kalkulacja!K362","v":0},{"$f":"IF(Kalkulacja!$U$414>0,D363*L363*1.5,D363*L363)","v":{"$error":"#VALUE!"}},{"$f":"INDEX(Kalkulacja!U:U,S363)","v":{"$error":"#N/A"}},0,1,null,null,{"$f":"MATCH(B363,Kalkulacja!I:I,0)","v":{"$error":"#N/A"}},null,0,0,"00",null,{"$error":"#VALUE!"},{"$error":"#VALUE!"},{"$error":"#VALUE!"}]
[null,{"$f":"IF($O$1=\"x\",Kalkulacja!I363,\"\")","v":""},null,null,null,null,null,null,null,null,null,{"$f":"Kalkulacja!K363","v":0},{"$f":"IF(Kalkulacja!$U$414>0,D364*L364*1.5,D364*L364)","v":0},{"$f":"INDEX(Kalkulacja!U:U,S364)","v":{"$error":"#N/A"}},{"$f":"IF(SUM(O365:O375)>0,1,0)","v":0},1,null,{"$f":"IF($O$1=\"x\",\"y\",\"\")","v":""},{"$f":"MATCH(B364,Kalkulacja!I:I,0)","v":{"$error":"#N/A"}},null,0,0,"00",null,0,0,"00"]
[null,{"$f":"IF($O$1=\"x\",Kalkulacja!I364,\"\")","v":""},{"$f":"IF($O$1=\"x\",U365&\":\"&W365,\"\")","v":""},{"$f":"IF($O$1=\"x\",Kalkulacja!U364,\"\")","v":""},"",null,null,null,null,null,null,{"$f":"Kalkulacja!K364","v":0},{"$f":"IF(Kalkulacja!$U$414>0,D365*L365*1.5,D365*L365)","v":{"$error":"#VALUE!"}},{"$f":"INDEX(Kalkulacja!U:U,S365)","v":{"$error":"#N/A"}},{"$f":"IF(L365>0,IF(N365>0,1,0),0)","v":0},1,null,null,{"$f":"MATCH(B365,Kalkulacja!I:I,0)","v":{"$error":"#N/A"}},null,0,0,"00",null,{"$error":"#VALUE!"},{"$error":"#VALUE!"},{"$error":"#VALUE!"}]
[null,{"$f":"IF($O$1=\"x\",Kalkulacja!I365,\"\")","v":""},"",{"$f":"IF($O$1=\"x\",Kalkulacja!U365,\"\")","v":""},"",null,null,null,null,null,null,{"$f":"Kalkulacja!K365","v":0},{"$f":"IF(Kalkulacja!$U$414>0,D366*L366*1.5,D366*L366)","v":{"$error":"#VALUE!"}},{"$f":"INDEX(Kalkulacja!U:U,S366)","v":{"$error":"#N/A"}},0,1,null,null,{"$f":"MATCH(B366,Kalkulacja!I:I,0)","v":{"$error":"#N/A"}},null,0,0,"00",null,{"$error":"#VALUE!"},{"$error":"#VALUE!"},{"$error":"#VALUE!"}]
[null,{"$f":"IF($O$1=\"x\",Kalkulacja!I366,\"\")","v":""},"",{"$f":"IF($O$1=\"x\",Kalkulacja!U366,\"\")","v":""},"",null,null,null,null,null,null,{"$f":"Kalkulacja!K366","v":0},{"$f":"IF(Kalkulacja!$U$414>0,D367*L367*1.5,D367*L367)","v":{"$error":"#VALUE!"}},{"$f":"INDEX(Kalkulacja!U:U,S367)","v":{"$error":"#N/A"}},0,1,null,null,{"$f":"MATCH(B367,Kalkulacja!I:I,0)","v":{"$error":"#N/A"}},null,0,0,"00",null,{"$error":"#VALUE!"},{"$error":"#VALUE!"},{"$error":"#VALUE!"}]
[null,{"$f":"IF($O$1=\"x\",Kalkulacja!I367,\"\")","v":""},"",{"$f":"IF($O$1=\"x\",Kalkulacja!U367,\"\")","v":""},"",null,null,null,null,null,null,{"$f":"Kalkulacja!K367","v":0},{"$f":"IF(Kalkulacja!$U$414>0,D368*L368*1.5,D368*L368)","v":{"$error":"#VALUE!"}},{"$f":"INDEX(Kalkulacja!U:U,S368)","v":{"$error":"#N/A"}},0,1,null,null,{"$f":"MATCH(B368,Kalkulacja!I:I,0)","v":{"$error":"#N/A"}},null,0,0,"00",null,{"$error":"#VALUE!"},{"$error":"#VALUE!"},{"$error":"#VALUE!"}]
[null,{"$f":"IF($O$1=\"x\",Kalkulacja!I368,\"\")","v":""},"",{"$f":"IF($O$1=\"x\",Kalkulacja!U368,\"\")","v":""},"",null,null,null,null,null,null,{"$f":"Kalkulacja!K368","v":0},{"$f":"IF(Kalkulacja!$U$414>0,D369*L369*1.5,D369*L369)","v":{"$error":"#VALUE!"}},{"$f":"INDEX(Kalkulacja!U:U,S369)","v":{"$error":"#N/A"}},0,{"$f":"IF(O369=1,0,1)","v":1},null,null,{"$f":"MATCH(B369,Kalkulacja!I:I,0)","v":{"$error":"#N/A"}},null,0,0,{"$f":"IF(V369<10,\"0\"&V369,V369)","v":"00"},null,{"$error":"#VALUE!"},{"$error":"#VALUE!"},{"$f":"IF(Z369<10,\"0\"&Z369,Z369)","v":{"$error":"#VALUE!"}}]
[null,{"$f":"IF($O$1=\"x\",Kalkulacja!I369,\"\")","v":""},"",{"$f":"IF($O$1=\"x\",Kalkulacja!U369,\"\")","v":""},"",null,null,null,null,null,null,{"$f":"Kalkulacja!K369","v":0},{"$f":"IF(Kalkulacja!$U$414>0,D370*L370*1.5,D370*L370)","v":{"$error":"#VALUE!"}},{"$f":"INDEX(Kalkulacja!U:U,S370)","v":{"$error":"#N/A"}},0,1,null,null,{"$f":"MATCH(B370,Kalkulacja!I:I,0)","v":{"$error":"#N/A"}},null,0,0,"00",null,{"$error":"#VALUE!"},{"$error":"#VALUE!"},{"$error":"#VALUE!"}]
[null,{"$f":"IF($O$1=\"x\",Kalkulacja!I370,\"\")","v":""},"",{"$f":"IF($O$1=\"x\",Kalkulacja!U370,\"\")","v":""},"",null,null,null,null,null,null,{"$f":"Kalkulacja!K370","v":0},{"$f":"IF(Kalkulacja!$U$414>0,D371*L371*1.5,D371*L371)","v":{"$error":"#VALUE!"}},{"$f":"INDEX(Kalkulacja!U:U,S371)","v":{"$error":"#N/A"}},0,1,null,null,{"$f":"MATCH(B371,Kalkulacja!I:I,0)","v":{"$error":"#N/A"}},null,0,0,"00",null,{"$error":"#VALUE!"},{"$error":"#VALUE!"},{"$error":"#VALUE!"}]
[null,{"$f":"IF($O$1=\"x\",Kalkulacja!I371,\"\")","v":""},"",{"$f":"IF($O$1=\"x\",Kalkulacja!U371,\"\")","v":""},"",null,null,null,null,null,null,{"$f":"Kalkulacja!K371","v":0},{"$f":"IF(Kalkulacja!$U$414>0,D372*L372*1.5,D372*L372)","v":{"$error":"#VALUE!"}},{"$f":"INDEX(Kalkulacja!U:U,S372)","v":{"$error":"#N/A"}},0,1,null,null,{"$f":"MATCH(B372,Kalkulacja!I:I,0)","v":{"$error":"#N/A"}},null,0,0,"00",null,{"$error":"#VALUE!"},{"$error":"#VALUE!"},{"$error":"#VALUE!"}]
[null,{"$f":"IF($O$1=\"x\",Kalkulacja!I372,\"\")","v":""},"",{"$f":"IF($O$1=\"x\",Kalkulacja!U372,\"\")","v":""},"",null,null,null,null,null,null,{"$f":"Kalkulacja!K372","v":0},{"$f":"IF(Kalkulacja!$U$414>0,D373*L373*1.5,D373*L373)","v":{"$error":"#VALUE!"}},{"$f":"INDEX(Kalkulacja!U:U,S373)","v":{"$error":"#N/A"}},0,1,null,null,{"$f":"MATCH(B373,Kalkulacja!I:I,0)","v":{"$error":"#N/A"}},null,0,0,"00",null,{"$error":"#VALUE!"},{"$error":"#VALUE!"},{"$error":"#VALUE!"}]
[null,{"$f":"IF($O$1=\"x\",Kalkulacja!I373,\"\")","v":""},"",{"$f":"IF($O$1=\"x\",Kalkulacja!U373,\"\")","v":""},"",null,null,null,null,null,null,{"$f":"Kalkulacja!K373","v":0},{"$f":"IF(Kalkulacja!$U$414>0,D374*L374*1.5,D374*L374)","v":{"$error":"#VALUE!"}},{"$f":"INDEX(Kalkulacja!U:U,S374)","v":{"$error":"#N/A"}},0,1,null,null,{"$f":"MATCH(B374,Kalkulacja!I:I,0)","v":{"$error":"#N/A"}},null,0,0,"00",null,{"$error":"#VALUE!"},{"$error":"#VALUE!"},{"$error":"#VALUE!"}]
[null,{"$f":"IF($O$1=\"x\",Kalkulacja!I374,\"\")","v":""},"",{"$f":"IF($O$1=\"x\",Kalkulacja!U374,\"\")","v":""},"",null,null,null,null,null,null,{"$f":"Kalkulacja!K374","v":0},{"$f":"IF(Kalkulacja!$U$414>0,D375*L375*1.5,D375*L375)","v":{"$error":"#VALUE!"}},{"$f":"INDEX(Kalkulacja!U:U,S375)","v":{"$error":"#N/A"}},0,1,null,null,{"$f":"MATCH(B375,Kalkulacja!I:I,0)","v":{"$error":"#N/A"}},null,0,0,"00",null,{"$error":"#VALUE!"},{"$error":"#VALUE!"},{"$error":"#VALUE!"}]
[null,{"$f":"IF($O$1=\"x\",Kalkulacja!I375,\"\")","v":""},null,null,null,null,null,null,null,null,null,{"$f":"Kalkulacja!K375","v":0},{"$f":"IF(Kalkulacja!$U$414>0,D376*L376*1.5,D376*L376)","v":0},{"$f":"INDEX(Kalkulacja!U:U,S376)","v":{"$error":"#N/A"}},{"$f":"IF(SUM(O377:O392)>0,1,0)","v":0},1,null,{"$f":"IF($O$1=\"x\",\"y\",\"\")","v":""},{"$f":"MATCH(B376,Kalkulacja!I:I,0)","v":{"$error":"#N/A"}},null,0,0,"00",null,0,0,"00"]
[null,{"$f":"IF($O$1=\"x\",Kalkulacja!I376,\"\")","v":""},{"$f":"IF($O$1=\"x\",U377&\":\"&W377,\"\")","v":""},{"$f":"IF($O$1=\"x\",Kalkulacja!U376,\"\")","v":""},"",null,null,null,null,null,null,{"$f":"Kalkulacja!K376","v":0},{"$f":"IF(Kalkulacja!$U$414>0,D377*L377*1.5,D377*L377)","v":{"$error":"#VALUE!"}},{"$f":"INDEX(Kalkulacja!U:U,S377)","v":{"$error":"#N/A"}},{"$f":"IF(L377>0,IF(N377>0,1,0),0)","v":0},1,null,null,{"$f":"MATCH(B377,Kalkulacja!I:I,0)","v":{"$error":"#N/A"}},null,0,0,"00",null,{"$error":"#VALUE!"},{"$error":"#VALUE!"},{"$error":"#VALUE!"}]
[null,{"$f":"IF($O$1=\"x\",Kalkulacja!I377,\"\")","v":""},"",{"$f":"IF($O$1=\"x\",Kalkulacja!U377,\"\")","v":""},"",null,null,null,null,null,null,{"$f":"Kalkulacja!K377","v":0},{"$f":"IF(Kalkulacja!$U$414>0,D378*L378*1.5,D378*L378)","v":{"$error":"#VALUE!"}},{"$f":"INDEX(Kalkulacja!U:U,S378)","v":{"$error":"#N/A"}},0,1,null,null,{"$f":"MATCH(B378,Kalkulacja!I:I,0)","v":{"$error":"#N/A"}},null,0,0,"00",null,{"$error":"#VALUE!"},{"$error":"#VALUE!"},{"$error":"#VALUE!"}]
[null,{"$f":"IF($O$1=\"x\",Kalkulacja!I378,\"\")","v":""},"",{"$f":"IF($O$1=\"x\",Kalkulacja!U378,\"\")","v":""},"",null,null,null,null,null,null,{"$f":"Kalkulacja!K378","v":0},{"$f":"IF(Kalkulacja!$U$414>0,D379*L379*1.5,D379*L379)","v":{"$error":"#VALUE!"}},{"$f":"INDEX(Kalkulacja!U:U,S379)","v":{"$error":"#N/A"}},0,1,null,null,{"$f":"MATCH(B379,Kalkulacja!I:I,0)","v":{"$error":"#N/A"}},null,0,0,"00",null,{"$error":"#VALUE!"},{"$error":"#VALUE!"},{"$error":"#VALUE!"}]
[null,{"$f":"IF($O$1=\"x\",Kalkulacja!I379,\"\")","v":""},"",{"$f":"IF($O$1=\"x\",Kalkulacja!U379,\"\")","v":""},"",null,null,null,null,null,null,{"$f":"Kalkulacja!K379","v":0},{"$f":"IF(Kalkulacja!$U$414>0,D380*L380*1.5,D380*L380)","v":{"$error":"#VALUE!"}},{"$f":"INDEX(Kalkulacja!U:U,S380)","v":{"$error":"#N/A"}},0,1,null,null,{"$f":"MATCH(B380,Kalkulacja!I:I,0)","v":{"$error":"#N/A"}},null,0,0,"00",null,{"$error":"#VALUE!"},{"$error":"#VALUE!"},{"$error":"#VALUE!"}]
[null,{"$f":"IF($O$1=\"x\",Kalkulacja!I380,\"\")","v":""},"",{"$f":"IF($O$1=\"x\",Kalkulacja!U380,\"\")","v":""},"",null,null,null,null,null,null,{"$f":"Kalkulacja!K380","v":0},{"$f":"IF(Kalkulacja!$U$414>0,D381*L381*1.5,D381*L381)","v":{"$error":"#VALUE!"}},{"$f":"INDEX(Kalkulacja!U:U,S381)","v":{"$error":"#N/A"}},0,1,null,null,{"$f":"MATCH(B381,Kalkulacja!I:I,0)","v":{"$error":"#N/A"}},null,0,0,"00",null,{"$error":"#VALUE!"},{"$error":"#VALUE!"},{"$error":"#VALUE!"}]
[null,{"$f":"IF($O$1=\"x\",Kalkulacja!I381,\"\")","v":""},"",{"$f":"IF($O$1=\"x\",Kalkulacja!U381,\"\")","v":""},"",null,null,null,null,null,null,{"$f":"Kalkulacja!K381","v":0},{"$f":"IF(Kalkulacja!$U$414>0,D382*L382*1.5,D382*L382)","v":{"$error":"#VALUE!"}},{"$f":"INDEX(Kalkulacja!U:U,S382)","v":{"$error":"#N/A"}},0,1,null,null,{"$f":"MATCH(B382,Kalkulacja!I:I,0)","v":{"$error":"#N/A"}},null,0,0,"00",null,{"$error":"#VALUE!"},{"$error":"#VALUE!"},{"$error":"#VALUE!"}]
[null,{"$f":"IF($O$1=\"x\",Kalkulacja!I382,\"\")","v":""},"",{"$f":"IF($O$1=\"x\",Kalkulacja!U382,\"\")","v":""},"",null,null,null,null,null,null,{"$f":"Kalkulacja!K382","v":0},{"$f":"IF(Kalkulacja!$U$414>0,D383*L383*1.5,D383*L383)","v":{"$error":"#VALUE!"}},{"$f":"INDEX(Kalkulacja!U:U,S383)","v":{"$error":"#N/A"}},0,1,null,null,{"$f":"MATCH(B383,Kalkulacja!I:I,0)","v":{"$error":"#N/A"}},null,0,0,"00",null,{"$error":"#VALUE!"},{"$error":"#VALUE!"},{"$error":"#VALUE!"}]
[null,{"$f":"IF($O$1=\"x\",Kalkulacja!I383,\"\")","v":""},"",{"$f":"IF($O$1=\"x\",Kalkulacja!U383,\"\")","v":""},"",null,null,null,null,null,null,{"$f":"Kalkulacja!K383","v":0},{"$f":"IF(Kalkulacja!$U$414>0,D384*L384*1.5,D384*L384)","v":{"$error":"#VALUE!"}},{"$f":"INDEX(Kalkulacja!U:U,S384)","v":{"$error":"#N/A"}},0,1,null,null,{"$f":"MATCH(B384,Kalkulacja!I:I,0)","v":{"$error":"#N/A"}},null,0,0,"00",null,{"$error":"#VALUE!"},{"$error":"#VALUE!"},{"$error":"#VALUE!"}]
[null,{"$f":"IF($O$1=\"x\",Kalkulacja!I384,\"\")","v":""},"",{"$f":"IF($O$1=\"x\",Kalkulacja!U384,\"\")","v":""},"",null,null,null,null,null,null,{"$f":"Kalkulacja!K384","v":0},{"$f":"IF(Kalkulacja!$U$414>0,D385*L385*1.5,D385*L385)","v":{"$error":"#VALUE!"}},{"$f":"INDEX(Kalkulacja!U:U,S385)","v":{"$error":"#N/A"}},0,1,null,null,{"$f":"MATCH(B385,Kalkulacja!I:I,0)","v":{"$error":"#N/A"}},null,0,0,"00",null,{"$error":"#VALUE!"},{"$error":"#VALUE!"},{"$error":"#VALUE!"}]
[null,{"$f":"IF($O$1=\"x\",Kalkulacja!I385,\"\")","v":""},"",{"$f":"IF($O$1=\"x\",Kalkulacja!U385,\"\")","v":""},"",null,null,null,null,null,null,{"$f":"Kalkulacja!K385","v":0},{"$f":"IF(Kalkulacja!$U$414>0,D386*L386*1.5,D386*L386)","v":{"$error":"#VALUE!"}},{"$f":"INDEX(Kalkulacja!U:U,S386)","v":{"$error":"#N/A"}},0,1,null,null,{"$f":"MATCH(B386,Kalkulacja!I:I,0)","v":{"$error":"#N/A"}},null,{"$f":"TRUNC(L386)","v":0},{"$f":"ROUND((L386-U386)*60,0)","v":0},"00",null,{"$f":"TRUNC(M386)","v":{"$error":"#VALUE!"}},{"$f":"ROUND((M386-Y386)*60,0)","v":{"$error":"#VALUE!"}},{"$error":"#VALUE!"}]
[null,{"$f":"IF($O$1=\"x\",Kalkulacja!I386,\"\")","v":""},"",{"$f":"IF($O$1=\"x\",Kalkulacja!U386,\"\")","v":""},"",null,null,null,null,null,null,{"$f":"Kalkulacja!K386","v":0},{"$f":"IF(Kalkulacja!$U$414>0,D387*L387*1.5,D387*L387)","v":{"$error":"#VALUE!"}},{"$f":"INDEX(Kalkulacja!U:U,S387)","v":{"$error":"#N/A"}},0,1,null,null,{"$f":"MATCH(B387,Kalkulacja!I:I,0)","v":{"$error":"#N/A"}},null,0,0,"00",null,{"$error":"#VALUE!"},{"$error":"#VALUE!"},{"$error":"#VALUE!"}]
[null,{"$f":"IF($O$1=\"x\",Kalkulacja!I387,\"\")","v":""},"",{"$f":"IF($O$1=\"x\",Kalkulacja!U387,\"\")","v":""},"",null,null,null,null,null,null,{"$f":"Kalkulacja!K387","v":0},{"$f":"IF(Kalkulacja!$U$414>0,D388*L388*1.5,D388*L388)","v":{"$error":"#VALUE!"}},{"$f":"INDEX(Kalkulacja!U:U,S388)","v":{"$error":"#N/A"}},0,1,null,null,{"$f":"MATCH(B388,Kalkulacja!I:I,0)","v":{"$error":"#N/A"}},null,0,0,"00",null,{"$error":"#VALUE!"},{"$error":"#VALUE!"},{"$error":"#VALUE!"}]
[null,{"$f":"IF($O$1=\"x\",Kalkulacja!I388,\"\")","v":""},"",{"$f":"IF($O$1=\"x\",Kalkulacja!U388,\"\")","v":""},"",null,null,null,null,null,null,{"$f":"Kalkulacja!K388","v":0},{"$f":"IF(Kalkulacja!$U$414>0,D389*L389*1.5,D389*L389)","v":{"$error":"#VALUE!"}},{"$f":"INDEX(Kalkulacja!U:U,S389)","v":{"$error":"#N/A"}},0,1,null,null,{"$f":"MATCH(B389,Kalkulacja!I:I,0)","v":{"$error":"#N/A"}},null,0,0,"00",null,{"$error":"#VALUE!"},{"$error":"#VALUE!"},{"$error":"#VALUE!"}]
[null,{"$f":"IF($O$1=\"x\",Kalkulacja!I389,\"\")","v":""},"",{"$f":"IF($O$1=\"x\",Kalkulacja!U389,\"\")","v":""},"",null,null,null,null,null,null,{"$f":"Kalkulacja!K389","v":0},{"$f":"IF(Kalkulacja!$U$414>0,D390*L390*1.5,D390*L390)","v":{"$error":"#VALUE!"}},{"$f":"INDEX(Kalkulacja!U:U,S390)","v":{"$error":"#N/A"}},0,1,null,null,{"$f":"MATCH(B390,Kalkulacja!I:I,0)","v":{"$error":"#N/A"}},null,0,0,"00",null,{"$error":"#VALUE!"},{"$error":"#VALUE!"},{"$error":"#VALUE!"}]
[null,{"$f":"IF($O$1=\"x\",Kalkulacja!I390,\"\")","v":""},"",{"$f":"IF($O$1=\"x\",Kalkulacja!U390,\"\")","v":""},"",null,null,null,null,null,null,{"$f":"Kalkulacja!K390","v":0},{"$f":"IF(Kalkulacja!$U$414>0,D391*L391*1.5,D391*L391)","v":{"$error":"#VALUE!"}},{"$f":"INDEX(Kalkulacja!U:U,S391)","v":{"$error":"#N/A"}},0,1,null,null,{"$f":"MATCH(B391,Kalkulacja!I:I,0)","v":{"$error":"#N/A"}},null,0,0,"00",null,{"$error":"#VALUE!"},{"$error":"#VALUE!"},{"$error":"#VALUE!"}]
[null,{"$f":"IF($O$1=\"x\",Kalkulacja!I391,\"\")","v":""},"",{"$f":"IF($O$1=\"x\",Kalkulacja!U391,\"\")","v":""},"",null,null,null,null,null,null,{"$f":"Kalkulacja!K391","v":0},{"$f":"IF(Kalkulacja!$U$414>0,D392*L392*1.5,D392*L392)","v":{"$error":"#VALUE!"}},{"$f":"INDEX(Kalkulacja!U:U,S392)","v":{"$error":"#N/A"}},0,1,null,null,{"$f":"MATCH(B392,Kalkulacja!I:I,0)","v":{"$error":"#N/A"}},null,0,0,"00",null,{"$error":"#VALUE!"},{"$error":"#VALUE!"},{"$error":"#VALUE!"}]
[null,{"$f":"IF($O$1=\"x\",Kalkulacja!I392,\"\")","v":""},null,null,null,null,null,null,null,null,null,{"$f":"Kalkulacja!K392","v":0},{"$f":"IF(Kalkulacja!$U$414>0,D393*L393*1.5,D393*L393)","v":0},{"$f":"INDEX(Kalkulacja!U:U,S393)","v":{"$error":"#N/A"}},{"$f":"IF(SUM(O394:O399)>0,1,0)","v":0},1,null,{"$f":"IF($O$1=\"x\",\"y\",\"\")","v":""},{"$f":"MATCH(B393,Kalkulacja!I:I,0)","v":{"$error":"#N/A"}},null,0,0,"00",null,0,0,"00"]
[null,{"$f":"IF($O$1=\"x\",Kalkulacja!I393,\"\")","v":""},"",{"$f":"IF($O$1=\"x\",Kalkulacja!U393,\"\")","v":""},"",null,null,null,null,null,null,{"$f":"Kalkulacja!K393","v":0},{"$f":"IF(Kalkulacja!$U$414>0,D394*L394*1.5,D394*L394)","v":{"$error":"#VALUE!"}},{"$f":"INDEX(Kalkulacja!U:U,S394)","v":{"$error":"#N/A"}},{"$f":"IF(L394>0,IF(N394>0,1,0),0)","v":0},1,null,null,{"$f":"MATCH(B394,Kalkulacja!I:I,0)","v":{"$error":"#N/A"}},null,0,0,"00",null,{"$error":"#VALUE!"},{"$error":"#VALUE!"},{"$error":"#VALUE!"}]
[null,{"$f":"IF($O$1=\"x\",Kalkulacja!I394,\"\")","v":""},"",{"$f":"IF($O$1=\"x\",Kalkulacja!U394,\"\")","v":""},"",null,null,null,null,null,null,{"$f":"Kalkulacja!K394","v":0},{"$f":"IF(Kalkulacja!$U$414>0,D395*L395*1.5,D395*L395)","v":{"$error":"#VALUE!"}},{"$f":"INDEX(Kalkulacja!U:U,S395)","v":{"$error":"#N/A"}},0,1,null,null,{"$f":"MATCH(B395,Kalkulacja!I:I,0)","v":{"$error":"#N/A"}},null,0,0,"00",null,{"$error":"#VALUE!"},{"$error":"#VALUE!"},{"$error":"#VALUE!"}]
[null,{"$f":"IF($O$1=\"x\",Kalkulacja!I395,\"\")","v":""},"",{"$f":"IF($O$1=\"x\",Kalkulacja!U395,\"\")","v":""},"",null,null,null,null,null,null,{"$f":"Kalkulacja!K395","v":0},{"$f":"IF(Kalkulacja!$U$414>0,D396*L396*1.5,D396*L396)","v":{"$error":"#VALUE!"}},{"$f":"INDEX(Kalkulacja!U:U,S396)","v":{"$error":"#N/A"}},0,1,null,null,{"$f":"MATCH(B396,Kalkulacja!I:I,0)","v":{"$error":"#N/A"}},null,0,0,"00",null,{"$error":"#VALUE!"},{"$error":"#VALUE!"},{"$error":"#VALUE!"}]
[null,{"$f":"IF($O$1=\"x\",Kalkulacja!I396,\"\")","v":""},"",{"$f":"IF($O$1=\"x\",Kalkulacja!U396,\"\")","v":""},"",null,null,null,null,null,null,{"$f":"Kalkulacja!K396","v":0},{"$f":"IF(Kalkulacja!$U$414>0,D397*L397*1.5,D397*L397)","v":{"$error":"#VALUE!"}},{"$f":"INDEX(Kalkulacja!U:U,S397)","v":{"$error":"#N/A"}},0,1,null,null,{"$f":"MATCH(B397,Kalkulacja!I:I,0)","v":{"$error":"#N/A"}},null,0,0,"00",null,{"$error":"#VALUE!"},{"$error":"#VALUE!"},{"$error":"#VALUE!"}]
[null,{"$f":"IF($O$1=\"x\",Kalkulacja!I397,\"\")","v":""},"",{"$f":"IF($O$1=\"x\",Kalkulacja!U397,\"\")","v":""},"",null,null,null,null,null,null,{"$f":"Kalkulacja!K397","v":0},{"$f":"IF(Kalkulacja!$U$414>0,D398*L398*1.5,D398*L398)","v":{"$error":"#VALUE!"}},{"$f":"INDEX(Kalkulacja!U:U,S398)","v":{"$error":"#N/A"}},0,1,null,null,{"$f":"MATCH(B398,Kalkulacja!I:I,0)","v":{"$error":"#N/A"}},null,0,0,"00",null,{"$error":"#VALUE!"},{"$error":"#VALUE!"},{"$error":"#VALUE!"}]
[null,{"$f":"IF($O$1=\"x\",Kalkulacja!I398,\"\")","v":""},"",{"$f":"IF($O$1=\"x\",Kalkulacja!U398,\"\")","v":""},"",null,null,null,null,null,null,{"$f":"Kalkulacja!K398","v":0},{"$f":"IF(Kalkulacja!$U$414>0,D399*L399*1.5,D399*L399)","v":{"$error":"#VALUE!"}},{"$f":"INDEX(Kalkulacja!U:U,S399)","v":{"$error":"#N/A"}},0,1,null,null,{"$f":"MATCH(B399,Kalkulacja!I:I,0)","v":{"$error":"#N/A"}},null,0,0,"00",null,{"$error":"#VALUE!"},{"$error":"#VALUE!"},{"$error":"#VALUE!"}]
[null,{"$f":"IF($O$1=\"x\",Kalkulacja!I399,\"\")","v":""},null,null,null,null,null,null,null,null,null,{"$f":"Kalkulacja!K399","v":0},{"$f":"IF(Kalkulacja!$U$414>0,D400*L400*1.5,D400*L400)","v":0},{"$f":"INDEX(Kalkulacja!U:U,S400)","v":{"$error":"#N/A"}},{"$f":"IF(SUM(O401:O413)>0,1,0)","v":0},1,null,{"$f":"IF($O$1=\"x\",\"y\",\"\")","v":""},{"$f":"MATCH(B400,Kalkulacja!I:I,0)","v":{"$error":"#N/A"}},null,0,0,"00",null,0,0,"00"]
[null,{"$f":"IF($O$1=\"x\",Kalkulacja!I400,\"\")","v":""},"",{"$f":"IF($O$1=\"x\",Kalkulacja!U400,\"\")","v":""},"",null,null,null,null,null,null,{"$f":"Kalkulacja!K400","v":0},{"$f":"IF(Kalkulacja!$U$414>0,D401*L401*1.5,D401*L401)","v":{"$error":"#VALUE!"}},{"$f":"INDEX(Kalkulacja!U:U,S401)","v":{"$error":"#N/A"}},{"$f":"IF(L401>0,IF(N401>0,1,0),0)","v":0},1,null,null,{"$f":"MATCH(B401,Kalkulacja!I:I,0)","v":{"$error":"#N/A"}},null,0,0,"00",null,{"$error":"#VALUE!"},{"$error":"#VALUE!"},{"$error":"#VALUE!"}]
[null,{"$f":"IF($O$1=\"x\",Kalkulacja!I401,\"\")","v":""},"",{"$f":"IF($O$1=\"x\",Kalkulacja!U401,\"\")","v":""},"",null,null,null,null,null,null,{"$f":"Kalkulacja!K401","v":0},{"$f":"IF(Kalkulacja!$U$414>0,D402*L402*1.5,D402*L402)","v":{"$error":"#VALUE!"}},{"$f":"INDEX(Kalkulacja!U:U,S402)","v":{"$error":"#N/A"}},0,1,null,null,{"$f":"MATCH(B402,Kalkulacja!I:I,0)","v":{"$error":"#N/A"}},null,0,0,"00",null,{"$error":"#VALUE!"},{"$error":"#VALUE!"},{"$error":"#VALUE!"}]
[null,{"$f":"IF($O$1=\"x\",Kalkulacja!I402,\"\")","v":""},"",{"$f":"IF($O$1=\"x\",Kalkulacja!U402,\"\")","v":""},"",null,null,null,null,null,null,{"$f":"Kalkulacja!K402","v":0},{"$f":"IF(Kalkulacja!$U$414>0,D403*L403*1.5,D403*L403)","v":{"$error":"#VALUE!"}},{"$f":"INDEX(Kalkulacja!U:U,S403)","v":{"$error":"#N/A"}},0,1,null,null,{"$f":"MATCH(B403,Kalkulacja!I:I,0)","v":{"$error":"#N/A"}},null,0,0,"00",null,{"$error":"#VALUE!"},{"$error":"#VALUE!"},{"$error":"#VALUE!"}]
[null,{"$f":"IF($O$1=\"x\",Kalkulacja!I403,\"\")","v":""},"",{"$f":"IF($O$1=\"x\",Kalkulacja!U403,\"\")","v":""},"",null,null,null,null,null,null,{"$f":"Kalkulacja!K403","v":0},{"$f":"IF(Kalkulacja!$U$414>0,D404*L404*1.5,D404*L404)","v":{"$error":"#VALUE!"}},{"$f":"INDEX(Kalkulacja!U:U,S404)","v":{"$error":"#N/A"}},0,1,null,null,{"$f":"MATCH(B404,Kalkulacja!I:I,0)","v":{"$error":"#N/A"}},null,0,0,"00",null,{"$error":"#VALUE!"},{"$error":"#VALUE!"},{"$error":"#VALUE!"}]
[null,{"$f":"IF($O$1=\"x\",Kalkulacja!I404,\"\")","v":""},"",{"$f":"IF($O$1=\"x\",Kalkulacja!U404,\"\")","v":""},{"$f":"IF($O$1=\"x\",Y405&\":\"&AA405,\"\")","v":""},null,null,null,null,null,null,{"$f":"Kalkulacja!K404","v":0},{"$f":"IF(Kalkulacja!$U$414>0,D405*L405*1.5,D405*L405)","v":{"$error":"#VALUE!"}},{"$f":"INDEX(Kalkulacja!U:U,S405)","v":{"$error":"#N/A"}},0,1,null,null,{"$f":"MATCH(B405,Kalkulacja!I:I,0)","v":{"$error":"#N/A"}},null,0,0,"00",null,{"$error":"#VALUE!"},{"$error":"#VALUE!"},{"$error":"#VALUE!"}]
[null,{"$f":"IF($O$1=\"x\",Kalkulacja!I405,\"\")","v":""},"",{"$f":"IF($O$1=\"x\",Kalkulacja!U405,\"\")","v":""},"",null,null,null,null,null,null,{"$f":"Kalkulacja!K405","v":0},{"$f":"IF(Kalkulacja!$U$414>0,D406*L406*1.5,D406*L406)","v":{"$error":"#VALUE!"}},{"$f":"INDEX(Kalkulacja!U:U,S406)","v":{"$error":"#N/A"}},0,1,null,null,{"$f":"MATCH(B406,Kalkulacja!I:I,0)","v":{"$error":"#N/A"}},null,0,0,"00",null,{"$error":"#VALUE!"},{"$error":"#VALUE!"},{"$error":"#VALUE!"}]
[null,{"$f":"IF($O$1=\"x\",Kalkulacja!I406,\"\")","v":""},"",{"$f":"IF($O$1=\"x\",Kalkulacja!U406,\"\")","v":""},"",null,null,null,null,null,null,{"$f":"Kalkulacja!K406","v":0},{"$f":"IF(Kalkulacja!$U$414>0,D407*L407*1.5,D407*L407)","v":{"$error":"#VALUE!"}},{"$f":"INDEX(Kalkulacja!U:U,S407)","v":{"$error":"#N/A"}},0,1,null,null,{"$f":"MATCH(B407,Kalkulacja!I:I,0)","v":{"$error":"#N/A"}},null,0,0,"00",null,{"$error":"#VALUE!"},{"$error":"#VALUE!"},{"$error":"#VALUE!"}]
[null,{"$f":"IF($O$1=\"x\",Kalkulacja!I407,\"\")","v":""},"",{"$f":"IF($O$1=\"x\",Kalkulacja!U407,\"\")","v":""},"",null,null,null,null,null,null,{"$f":"Kalkulacja!K407","v":0},{"$f":"IF(Kalkulacja!$U$414>0,D408*L408*1.5,D408*L408)","v":{"$error":"#VALUE!"}},{"$f":"INDEX(Kalkulacja!U:U,S408)","v":{"$error":"#N/A"}},0,1,null,null,{"$f":"MATCH(B408,Kalkulacja!I:I,0)","v":{"$error":"#N/A"}},null,0,0,"00",null,{"$error":"#VALUE!"},{"$error":"#VALUE!"},{"$error":"#VALUE!"}]
[null,{"$f":"IF($O$1=\"x\",Kalkulacja!I408,\"\")","v":""},"",{"$f":"IF($O$1=\"x\",Kalkulacja!U408,\"\")","v":""},"",null,null,null,null,null,null,{"$f":"Kalkulacja!K408","v":0},{"$f":"IF(Kalkulacja!$U$414>0,D409*L409*1.5,D409*L409)","v":{"$error":"#VALUE!"}},{"$f":"INDEX(Kalkulacja!U:U,S409)","v":{"$error":"#N/A"}},0,1,null,null,{"$f":"MATCH(B409,Kalkulacja!I:I,0)","v":{"$error":"#N/A"}},null,0,0,"00",null,{"$error":"#VALUE!"},{"$error":"#VALUE!"},{"$error":"#VALUE!"}]
[null,{"$f":"IF($O$1=\"x\",Kalkulacja!I409,\"\")","v":""},"",{"$f":"IF($O$1=\"x\",Kalkulacja!U409,\"\")","v":""},"",null,null,null,null,null,null,{"$f":"Kalkulacja!K409","v":0},{"$f":"IF(Kalkulacja!$U$414>0,D410*L410*1.5,D410*L410)","v":{"$error":"#VALUE!"}},{"$f":"INDEX(Kalkulacja!U:U,S410)","v":{"$error":"#N/A"}},0,1,null,null,{"$f":"MATCH(B410,Kalkulacja!I:I,0)","v":{"$error":"#N/A"}},null,0,0,"00",null,{"$error":"#VALUE!"},{"$error":"#VALUE!"},{"$error":"#VALUE!"}]
[null,{"$f":"IF($O$1=\"x\",Kalkulacja!I410,\"\")","v":""},"",{"$f":"IF($O$1=\"x\",Kalkulacja!U410,\"\")","v":""},"",null,null,null,null,null,null,{"$f":"Kalkulacja!K410","v":0},{"$f":"IF(Kalkulacja!$U$414>0,D411*L411*1.5,D411*L411)","v":{"$error":"#VALUE!"}},{"$f":"INDEX(Kalkulacja!U:U,S411)","v":{"$error":"#N/A"}},0,1,null,null,{"$f":"MATCH(B411,Kalkulacja!I:I,0)","v":{"$error":"#N/A"}},null,0,0,"00",null,{"$error":"#VALUE!"},{"$error":"#VALUE!"},{"$error":"#VALUE!"}]
[null,{"$f":"IF($O$1=\"x\",Kalkulacja!I411,\"\")","v":""},"",{"$f":"IF($O$1=\"x\",Kalkulacja!U411,\"\")","v":""},"",null,null,null,null,null,null,{"$f":"Kalkulacja!K411","v":0},{"$f":"IF(Kalkulacja!$U$414>0,D412*L412*1.5,D412*L412)","v":{"$error":"#VALUE!"}},{"$f":"INDEX(Kalkulacja!U:U,S412)","v":{"$error":"#N/A"}},0,1,null,null,{"$f":"MATCH(B412,Kalkulacja!I:I,0)","v":{"$error":"#N/A"}},null,0,0,"00",null,{"$error":"#VALUE!"},{"$error":"#VALUE!"},{"$error":"#VALUE!"}]
[null,{"$f":"IF($O$1=\"x\",Kalkulacja!I412,\"\")","v":""},"",{"$f":"IF($O$1=\"x\",Kalkulacja!U412,\"\")","v":""},"",null,null,null,null,null,null,{"$f":"Kalkulacja!K412","v":0},{"$f":"IF(Kalkulacja!$U$414>0,D413*L413*1.5,D413*L413)","v":{"$error":"#VALUE!"}},{"$f":"INDEX(Kalkulacja!U:U,S413)","v":{"$error":"#N/A"}},0,1,null,null,{"$f":"MATCH(B413,Kalkulacja!I:I,0)","v":{"$error":"#N/A"}},null,0,0,"00",null,{"$error":"#VALUE!"},{"$error":"#VALUE!"},{"$error":"#VALUE!"}]
[null,{"$f":"IF($O$1=\"x\",Kalkulacja!I413,\"\")","v":""},null,null,null,null,null,null,null,null,null,{"$f":"Kalkulacja!K413","v":0},{"$f":"IF(Kalkulacja!$U$414>0,D414*L414*1.5,D414*L414)","v":0},{"$f":"INDEX(Kalkulacja!U:U,S414)","v":{"$error":"#N/A"}},0,1,null,"x",{"$f":"MATCH(B414,Kalkulacja!I:I,0)","v":{"$error":"#N/A"}},null,{"$f":"TRUNC(L414)","v":0},{"$f":"ROUND((L414-U414)*60,0)","v":0},{"$f":"IF(V414<10,\"0\"&V414,V414)","v":"00"},null,{"$f":"TRUNC(M414)","v":0},{"$f":"ROUND((M414-Y414)*60,0)","v":0},{"$f":"IF(Z414<10,\"0\"&Z414,Z414)","v":"00"}]
[null,{"$f":"IF($O$1=\"x\",Kalkulacja!I414,\"\")","v":""},{"$f":"IF($O$1=\"x\",U415&\":\"&W415,\"\")","v":""},{"$f":"IF($O$1=\"x\",Kalkulacja!U414,\"\")","v":""},{"$f":"IF($O$1=\"x\",Y415&\":\"&AA415,\"\")","v":""},null,null,null,null,null,null,{"$f":"Kalkulacja!K414","v":0},{"$f":"IF(Kalkulacja!$U$414>0,D415*L415*1.5,D415*L415)","v":{"$error":"#VALUE!"}},{"$f":"INDEX(Kalkulacja!U:U,S415)","v":{"$error":"#N/A"}},0,1,null,null,{"$f":"MATCH(B415,Kalkulacja!I:I,0)","v":{"$error":"#N/A"}},null,0,0,"00",null,{"$error":"#VALUE!"},{"$error":"#VALUE!"},{"$error":"#VALUE!"}]
[null,{"$f":"IF($O$1=\"x\",Kalkulacja!I415,\"\")","v":""},null,null,null,null,null,null,null,null,null,{"$f":"Kalkulacja!K415","v":0},{"$f":"IF(Kalkulacja!$U$414>0,D416*L416*1.5,D416*L416)","v":0},{"$f":"INDEX(Kalkulacja!U:U,S416)","v":{"$error":"#N/A"}},{"$f":"IF(O417>0,1,0)","v":0},1,null,{"$f":"IF($O$1=\"x\",\"x\",\"\")","v":""},{"$f":"MATCH(B416,Kalkulacja!I:I,0)","v":{"$error":"#N/A"}},null,0,0,"00",null,0,0,"00"]
[null,{"$f":"IF($O$1=\"x\",Kalkulacja!I416,\"\")","v":""},"",{"$f":"IF($O$1=\"x\",Kalkulacja!U416,\"\")","v":""},"",null,null,null,null,null,null,{"$f":"Kalkulacja!K416","v":0},{"$f":"IF(Kalkulacja!$U$414>0,D417*L417*1.5,D417*L417)","v":{"$error":"#VALUE!"}},{"$f":"INDEX(Kalkulacja!U:U,S417)","v":{"$error":"#N/A"}},{"$f":"IF(L417>0,IF(N417>0,1,0),0)","v":0},1,null,null,{"$f":"MATCH(B417,Kalkulacja!I:I,0)","v":{"$error":"#N/A"}},null,0,0,"00",null,{"$error":"#VALUE!"},{"$error":"#VALUE!"},{"$error":"#VALUE!"}]

{"sheet":"Sklep - szczegóły","index":8,"n_rows":83,"n_cols":7,"rows_kept":83,"cut":false,"hidden":false,"merged":[[81,1,81,3],[82,1,82,3],[62,1,62,3],[60,1,60,3],[50,1,50,3],[80,1,80,3],[67,1,67,3],[76,1,76,3],[78,1,78,3],[82,4,82,10],[81,4,81,10],[76,4,76,10],[78,4,78,10],[80,4,80,10],[62,4,62,10],[65,4,65,10],[67,4,67,10],[70,4,70,10],[74,4,74,10],[73,1,73,10],[64,1,64,10],[74,1,74,3],[55,4,55,10],[56,4,56,10],[57,4,57,10],[58,4,58,10],[60,4,60,10],[50,4,50,10],[51,4,51,10],[52,4,52,10],[53,4,53,10],[54,4,54,10],[49,1,49,10],[7,2,7,3],[8,2,8,3],[9,2,9,3],[10,2,10,3],[17,2,17,3],[16,2,16,3],[15,2,15,3],[14,2,14,3],[13,2,13,3],[12,2,12,3],[11,2,11,3],[14,4,14,10],[15,4,15,10],[21,1,21,3],[21,4,21,10],[20,1,20,10],[18,4,18,10],[28,2,29,2],[28,3,29,3],[2,1,2,10],[3,1,3,3],[3,4,3,10],[4,1,4,3],[4,4,4,10],[8,4,8,10],[18,1,18,3],[5,1,5,3],[5,4,5,10],[6,1,6,3],[6,4,6,10],[7,4,7,10],[16,4,16,10],[17,4,17,10],[9,4,9,10],[10,4,10,10],[11,4,11,10],[12,4,12,10],[13,4,13,10]]}
[null,null,"   Szczegóły do sklepu",null,null,null,"WooCommerce"]
[]
[null,"Produkty"]
[null,"1. Określ, co będziesz sprzedawać. "]
[null,"2. Wypisz nazwy kategorii w sklepie."]
[null,"3. Czy sklep będzie posiadać dodatkową kategoryzację produktów np. Nowości, Promocje, Bestsellery"]
[null,"4. Przedstaw przykład strony produktu (możesz podać przykład sklepu konkurencji)",null,null,"Podaj przykłady i zaznacz X"]
[null,"a","Opis skrócony"]
[null,"b","Opis rozbudowany"]
[null,"c","Parametry techniczne / Specyfikacja / Instrukcje / Do pobrania"]
[null,"d","Warianty / atrybuty produktu np. rozmiar, kolor, inne atrybuty."]
[null,"e","Zdjęcia/galerie"]
[null,"f","Wideo"]
[null,"g","Opinie / Gwarancja"]
[null,"h","Inne treści"]
[null,"i","Powiązane produkty (cross-selling)"]
[null,"j","Podobne lepsze produkty"]
[null,"k","Pakiety/grupy/zestawy produktów"]
[null,"5. Czy sklep oferuje produkty/usługi niestandardowe na indywidualne zamówienie?"]
[]
[null,"Dostawa, płatności"]
[null,"1. Ustal formy dostawy np. "]
[]
[null,null,"Przedpłata – Cena (wpisz cenę)","Za pobraniem – Cena (wpisz cenę)"]
[null,"Odbiór osobisty","Przedpłata","Płatność przy odbiorze (gotówka/karta?)"]
[null,"Kurier np. DPD","Przedpłata – 0 zł","Za pobraniem – 0 zł"]
[null,"Poczta Polska","Przedpłata – 0 zł","Za pobraniem – 0 zł"]
[null,"Paczkomaty","Przedpłata – 0 zł","Za pobraniem – 0 zł"]
[null,"Inny transport","Przedpłata – 0 zł","Za pobraniem – 0 zł"]
[null,"(podaj nazwę)"]
[]
[null,"Ustal czy ceny wysyłki są stałe czy zmienne w zależności od ilości, rodzaju produktu itp."]
[null,"Są to niezbędne informacje w celu przygotowania klas wysyłkowych (stawka dla klasy)."]
[]
[null,"2. Ustal metody płatności"]
[null,"a","Gotówka przy odbiorze osobistym"]
[null,"b","za pobraniem,"]
[null,"c","przelew na konto bankowe (przelew tradycyjny),"]
[null,"d","płatność online  np. PAYU, Przelewy24, Dotpay, tPay, PayPal"]
[null,"e","karta płatnicza (operator ten sam czy wyżej przy płatności online)."]
[]
[null,"3. Podpisz odpowiednie umowy / załóż konta z np.:"]
[null,"a","Kurierem np. DPD, DHL, UPS, Furgonetka,"]
[null,"b","Pocztą Polską,"]
[null,"c","InPost (paczkomaty)"]
[null,"d","Paczka w ruchu"]
[null,"e","Systemem płatności np. PAYU"]
[null,"f","Systemem płatności międzynarodowym np. PayPal"]
[]
[null,"Integracje"]
[null,"1. Magazyn – sklep WooCommerce posiada status magazynowy oraz automatyczny stan magazynowy, który zmienia się wraz ze sprzedażą produktów."]
[null,"Ustal czy chcesz stan magazynowy zintegrować z zewnętrznym systemem/programem magazynowym. Aktualne integracje z WooCommerce:"]
[null,"a","wFirma.pl"]
[null,"b","Subiekt GT / Subiekt nexo PRO"]
[null,"c","Sage Symfonia"]
[null,"d","Navireo"]
[null,"e","Asseco WAPRO WF-MAG"]
[null,"f","ZohoCRM"]
[null,"g","Pipedrive"]
[]
[null,"2. Ustal czy będziesz sprzedawać na allegro i lub czy potrzebujesz integracji w wystawianiu w sklepie i allegro automatycznie. Zalecane tylko dla dużych sklepów."]
[]
[null,"3. Czy chcesz wystawiać produkty w serwisie OLX poprzez automatyczne wystawianie ogłoszeń z poziomu WordPress?"]
[]
[null,"Formalności"]
[null,"1. Przygotuj dane firmy i dane konta bankowego do płatności przelewem bankowym."]
[]
[null,"2. Przygotuj Regulamin sklepu oraz komplet dokumentów np. odstąpienie od umowy, formularz reklamacji, pouczenia i klauzule."]
[null,"Polecamy zlecić to kancelarii Prawnej wyspecjalizowanej w regulaminach sklepów i serwisów internetowych: https://solidnyregulamin.pl/#cennik "]
[]
[null,"3. Określ e-mail sklepu, na który mają przychodzić zamówienia i wiadomości od klientów."]
[null,"Ten sam adres użyjemy jako e-mail wysyłający automatyczne powiadomienia dla klientów."]
[]
[null,"Marketing"]
[null,"1. Czy sklep będzie reklamował się w Google Merchant Center (produkty w Google)?"]
[]
[null,"2. Czy sklep będzie wysyłał newsletter?"]
[]
[null,"3. Czy sklep chce oferować kupony rabatowe?"]
[]
[null,"4. Czy sklep będzie miał darmową przesyłkę? Na jakiej zasadzie ma działać np."]
[null,"a) po przekroczeniu kwoty zamówienia (podaj kwotę)"]
[null,"b) przy wpisaniu kuponu dającego darmową wysyłkę?"]

{"sheet":"Istotne dane","index":9,"n_rows":6,"n_cols":2,"rows_kept":6,"cut":false,"hidden":false,"merged":[[2,1,2,2]]}
[null,"           Istotne dane"]
[]
[null,"Podstawowe dane"]
[null,"Email do formularza"]
[null,"Telefon główny do firmy"]
[null,"Linki do Twoich kanałów social media"]

{"sheet":"Dostępy i kody","index":10,"n_rows":41,"n_cols":2,"rows_kept":41,"cut":false,"hidden":false,"merged":[[23,1,23,2],[33,1,33,2],[39,1,39,2],[29,1,29,2],[36,1,36,2],[2,1,2,2],[7,1,7,2],[16,1,16,2],[13,1,13,2],[14,1,14,2]]}
[null,"           Dostępy i kody"]
[]
[null,"Panel serwera"]
[null,"Link do panelu"]
[null,"Login"]
[null,"Hasło"]
[]
[null,"FTP"]
[null,"Host"]
[null,"Login"]
[null,"Hasło"]
[null,"Port"]
[]
[null,"Istotne wymagania hostingowe do uruchomienia strony na WordPress:"]
[null," - PHP w wersji 7.4 lub wyższej\n- MySQL w wersji 5.6 lub wyższej, lub MariaDB w wersji 10.0 lub wyższej\n- Nginx lub Apache z modułem mod_rewrite\n- Wsparcie HTTPS"]
[]
[null,"MySQL"]
[null,"Link do panelu phpMyAdmin"]
[null,"Host"]
[null,"Nazwa bazy"]
[null,"Użytkownik"]
[null,"Hasło"]
[]
[null,"Domena"]
[null,"Link do panelu"]
[null,"Login "]
[null,"Hasło"]
[null,"Hasło"]
[]
[null,"WordPress"]
[null,"Login "]
[null,"Hasło"]
[]
[null,"Google Analytics"]
[null,"Wklej kod Google Analytics lub numer ID"]
[]
[null,"Pixel Facebook"]
[null,"Wklej Pixel Facebooka"]
[]
[null,"Inny kod"]
[null,"Wklej inny kod"]

{"sheet":"Dodatkowe usługi","index":11,"n_rows":4,"n_cols":21,"rows_kept":4,"cut":false,"hidden":true,"merged":[]}
["Podstawa","Usługa","Moduł",null,"Czas projektu","Cena projektu","Czas projektu","Cena Content Managera","Czas programowania","Cena programowania","Ilość","Na liście","Razem cena","Cena licencji","Ilość","Suma czasu projektu","Suma czasu Content Managera","Suma czasu programowania",null,null,"Wtyczka"]
[null,null,null,null,"Stawka",140,"Stawka",140,"Stawka",180]
[null,null,"Materiały"]
[null,"Usługa:","Nazwa usługi / modułu",null,0,{"$f":"E4*F2","v":0},0,{"$f":"G4*H2","v":0},0,{"$f":"I4*J2","v":0},1,null,{"$f":"(F4+H4+J4)*K4","v":0},0,{"$f":"K4","v":1},{"$f":"K4*E4","v":0},{"$f":"K4*G4","v":0},{"$f":"K4*I4","v":0}]

{"sheet":"Harmonogram","index":12,"n_rows":25,"n_cols":12,"rows_kept":25,"cut":false,"hidden":true,"merged":[[0,1,0,3]]}
[null,"Harmonogram realizacji"]
[]
[null,"Szczegółowe etapy realizacji","Liczba dni roboczych","Termin","Czas realizacji",null,null,null,"Czas"]
[null,"Podpisanie umowy - rozpoczęcie realizacji",null,{"$f":"DATE(2022,1,1)","v":"2022-01-01"}]
[null,"Przesłanie materiałów przez Zamawiającego",2,{"$f":"WORKDAY(D4,C5,Kalendarz!$A$1:$A$324)","v":"2022-01-04"}]
[null,"Projektowanie grafiki strony",{"$f":"Kalkulacja!Y420","v":3.6124999999999998},{"$f":"WORKDAY(D5,C6,Kalendarz!$A$1:$A$324)","v":"2022-01-07"},{"$f":"J6&\":\"&L6","v":"17:20"},null,null,"Projekt www - Projekt 0",{"$f":"Kalkulacja!$AC$420*VLOOKUP(H6,CSV!$C$10:$D$13,2,0)","v":17.34},{"$f":"TRUNC(I6)","v":17},{"$f":"ROUND((I6-TRUNC(I6))*60,0)","v":20},{"$f":"IF(K6<10,\"0\"&K6,K6)","v":20}]
[null,"1 seria poprawek Zamawiającego",3,{"$f":"WORKDAY(D6,C7,Kalendarz!$A$1:$A$324)","v":"2022-01-12"}]
[null,"1 seria przesyłania poprawionych projektów",3,{"$f":"WORKDAY(D7,C8,Kalendarz!$A$1:$A$324)","v":"2022-01-17"},{"$f":"J8&\":\"&L8","v":"3:28"},null,null,"Projekt www - Korekty 1",{"$f":"Kalkulacja!$AC$420*VLOOKUP(H8,CSV!$C$10:$D$13,2,0)","v":3.4679999999999995},{"$f":"TRUNC(I8)","v":3},{"$f":"ROUND((I8-TRUNC(I8))*60,0)","v":28},{"$f":"IF(K8<10,\"0\"&K8,K8)","v":28}]
[null,"2 seria poprawek Zamawiającego",3,{"$f":"WORKDAY(D8,C9,Kalendarz!$A$1:$A$324)","v":"2022-01-20"}]
[null,"2 seria przesyłania poprawionych projektów",3,{"$f":"WORKDAY(D9,C10,Kalendarz!$A$1:$A$324)","v":"2022-01-25"},{"$f":"J10&\":\"&L10","v":"3:11"},null,null,"Projekt www - Korekty 2",{"$f":"Kalkulacja!$AC$420*VLOOKUP(H10,CSV!$C$10:$D$13,2,0)","v":3.1789999999999998},3,11,{"$f":"IF(K10<10,\"0\"&K10,K10)","v":11}]
[null,"3 seria poprawek Zamawiającego",3,{"$f":"WORKDAY(D10,C11,Kalendarz!$A$1:$A$324)","v":"2022-01-28"}]
[null,"3 seria przesyłania poprawionych projektów",3,{"$f":"WORKDAY(D11,C12,Kalendarz!$A$1:$A$324)","v":"2022-02-02"},{"$f":"J12&\":\"&L12","v":"2:36"},null,null,"Projekt www - Korekty 3",{"$f":"Kalkulacja!$AC$420*VLOOKUP(H12,CSV!$C$10:$D$13,2,0)","v":2.601},2,36,{"$f":"IF(K12<10,\"0\"&K12,K12)","v":36}]
[null,"Programowanie www",{"$f":"Kalkulacja!Y422","v":10.120000000000001},{"$f":"WORKDAY(D12,C13,Kalendarz!$A$1:$A$324)","v":"2022-02-16"},{"$f":"J13&\":\"&L13","v":"60:43"},null,null,null,{"$f":"(Kalkulacja!$AE$422*(CSV!$D$18+CSV!$D$21))+(Kalkulacja!$AD$421*CSV!D23)","v":60.720000000000006},60,43,{"$f":"IF(K13<10,\"0\"&K13,K13)","v":43}]
[null,"1 seria poprawek Zamawiającego",3,{"$f":"WORKDAY(D13,C14,Kalendarz!$A$1:$A$324)","v":"2022-02-21"}]
[null,"1 seria aktualizacji strony",3,{"$f":"WORKDAY(D14,C15,Kalendarz!$A$1:$A$324)","v":"2022-02-24"},{"$f":"J15&\":\"&L15","v":"5:36"},null,null,null,{"$f":"(Kalkulacja!$AE$422*CSV!D19/3)+(Kalkulacja!$AD$421*CSV!D24/3)","v":5.6056666666666679},5,36,{"$f":"IF(K15<10,\"0\"&K15,K15)","v":36}]
[null,"2 seria poprawek Zamawiającego",3,{"$f":"WORKDAY(D15,C16,Kalendarz!$A$1:$A$324)","v":"2022-03-01"}]
[null,"2 seria aktualizacji strony",3,{"$f":"WORKDAY(D16,C17,Kalendarz!$A$1:$A$324)","v":"2022-03-04"},{"$f":"J17&\":\"&L17","v":"5:36"},null,null,null,{"$f":"I15","v":5.6056666666666679},5,36,{"$f":"IF(K17<10,\"0\"&K17,K17)","v":36}]
[null,"3 seria poprawek Zamawiającego",3,{"$f":"WORKDAY(D17,C18,Kalendarz!$A$1:$A$324)","v":"2022-03-09"}]
[null,"3 seria aktualizacji strony",3,{"$f":"WORKDAY(D18,C19,Kalendarz!$A$1:$A$324)","v":"2022-03-14"},{"$f":"J19&\":\"&L19","v":"5:36"},null,null,null,{"$f":"I17","v":5.6056666666666679},5,36,{"$f":"IF(K19<10,\"0\"&K19,K19)","v":36}]
[null,"Uruchomienie strony w internecie",1,{"$f":"WORKDAY(D19,C20,Kalendarz!$A$1:$A$324)","v":"2022-03-15"}]
[null,"Zakończenie realizacji",null,{"$f":"WORKDAY(D20,C21,Kalendarz!$A$1:$A$324)","v":"2022-03-15"}]
[null,"Łączna ilość dni podstawowej realizacji dla Studio Kreacja",{"$f":"C6+C13+C20","v":14.732500000000002}]
[null,"Łączna ilość dni na korekty dla Studio Kreacja",{"$f":"C8+C10+C12+C15+C17+C19","v":18}]
[null,"Łączna ilość dni na korekty dla Zamawiajacego",{"$f":"C7+C9+C11+C14+C16+C18","v":18}]
[null,"Łączna ilość dni roboczych całej realizacji",{"$f":"SUM(C5:C20)","v":52.732500000000002}]

{"sheet":"Podświetlanie modułów","index":13,"n_rows":2338,"n_cols":10,"rows_kept":2338,"cut":false,"hidden":true,"merged":[[2,9,4,9]]}
[]
[null,"Komórka do poświetlenie w zakładce kalkulacja","Powiązana podstrona z briefu","Wartość"]
[null,"Linia czasu (historia)","Historia",{"$f":"IFERROR(INDEX(Brief!$AO$29:$AO$63,MATCH(C3,Brief!$G$29:$G$58,0))*1,\"\")","v":0},null,{"$f":"B3","v":"Linia czasu (historia)"},{"$f":"SUMIF(B:B,F3,D:D)","v":0},{"$f":"IF(G3>0,1,0)","v":0},null,"Uwaga: nazwa komórki w zakładce kalkuklacja i nazwa powiązanej podstrony z briefu musi być dokładnie taka sama jak opowiadające komórki w zakładkach kalkulacja i brief -> sugeruję opcję kopiuj + wklej lub podlinkowanie odpowiednich komórek za pośrednictwem = i odpowiedniej komórki niż ręczne wpisywanie"]
[null,{"$f":"Kalkulacja!I9","v":"Fotomontaż ze zdjęć 1 szt"},{"$f":"Brief!G49","v":"Galeria"},{"$f":"IFERROR(INDEX(Brief!$AO$29:$AO$63,MATCH(C4,Brief!$G$29:$G$58,0))*1,\"\")","v":0},null,{"$f":"B4","v":"Fotomontaż ze zdjęć 1 szt"},{"$f":"SUMIF(B:B,F4,D:D)","v":0},{"$f":"IF(G4>0,1,0)","v":0}]
[null,"Lista pracowników + strona o pracowniku","Zespół",{"$f":"IFERROR(INDEX(Brief!$AO$29:$AO$63,MATCH(C5,Brief!$G$29:$G$58,0))*1,\"\")","v":0},null,"Lista pracowników + strona o pracowniku",0,0]
[null,"Wpisy","Aktualności",{"$f":"IFERROR(INDEX(Brief!$AO$29:$AO$63,MATCH(C6,Brief!$G$29:$G$58,0))*1,\"\")","v":0},null,"Wpisy",0,0]
[null,"Wpisy","Blog",{"$f":"IFERROR(INDEX(Brief!$AO$29:$AO$63,MATCH(C7,Brief!$G$29:$G$58,0))*1,\"\")","v":0},null,"Wpisy",0,0]
[null,{"$f":"Kalkulacja!I175","v":"Oferty pracy + formularz aplikacji"},{"$f":"Brief!G57","v":"Kariera / Oferty pracy"},{"$f":"IFERROR(INDEX(Brief!$AO$29:$AO$63,MATCH(C8,Brief!$G$29:$G$58,0))*1,\"\")","v":0},null,"Oferty pracy + formularz aplikacji",0,0]
[null,"Dedykowane wpisy np. poradnik, przepisy kulinarne, case study, realizacje, projekty, portfolio itp.","Porady",{"$f":"IFERROR(INDEX(Brief!$AO$29:$AO$63,MATCH(C9,Brief!$G$29:$G$58,0))*1,\"\")","v":0},null,"Dedykowane wpisy np. poradnik, przepisy kulinarne, case study, realizacje, projekty, portfolio itp.",0,0]
[null,"Dedykowane wpisy np. poradnik, przepisy kulinarne, case study, realizacje, projekty, portfolio itp.","Przepisy",{"$f":"IFERROR(INDEX(Brief!$AO$29:$AO$63,MATCH(C10,Brief!$G$29:$G$58,0))*1,\"\")","v":0},null,"Dedykowane wpisy np. poradnik, przepisy kulinarne, case study, realizacje, projekty, portfolio itp.",0,0]
[null,"Wpisy","Akademia",{"$f":"IFERROR(INDEX(Brief!$AO$29:$AO$63,MATCH(C11,Brief!$G$29:$G$58,0))*1,\"\")","v":0},null,"Wpisy",0,0]
[null,"Wpisy","Publikacje",{"$f":"IFERROR(INDEX(Brief!$AO$29:$AO$63,MATCH(C12,Brief!$G$29:$G$58,0))*1,\"\")","v":0},null,"Wpisy",0,0]
[null,"Katalog produktów (bez opcji sklepu) producenci, serie, linie, typy, grupy, kategorie itp.","Produkty",{"$f":"IFERROR(INDEX(Brief!$AO$29:$AO$63,MATCH(C13,Brief!$G$29:$G$58,0))*1,\"\")","v":0},null,"Katalog produktów (bez opcji sklepu) producenci, serie, linie, typy, grupy, kategorie itp.",0,0]
[null,"Cenniki zaawansowane + popup z opisem","Cennik",{"$f":"IFERROR(INDEX(Brief!$AO$29:$AO$63,MATCH(C14,Brief!$G$29:$G$58,0))*1,\"\")","v":0},null,"Cenniki zaawansowane + popup z opisem",0,0]
[null,"Mapa lokalizacji sklepów / oddziałów / punktów","Gdzie kupię",{"$f":"IFERROR(INDEX(Brief!$AO$29:$AO$63,MATCH(C15,Brief!$G$29:$G$58,0))*1,\"\")","v":0},null,"Mapa lokalizacji sklepów / oddziałów / punktów",0,0]
[null,"Galeria zdjęć (podstawowa w WordPress)","Galeria",{"$f":"IFERROR(INDEX(Brief!$AO$29:$AO$63,MATCH(C16,Brief!$G$29:$G$58,0))*1,\"\")","v":0},null,"Galeria zdjęć (podstawowa w WordPress)",0,0]
[null,"Dedykowane wpisy np. poradnik, przepisy kulinarne, case study, realizacje, projekty, portfolio itp.","Galeria",{"$f":"IFERROR(INDEX(Brief!$AO$29:$AO$63,MATCH(C17,Brief!$G$29:$G$58,0))*1,\"\")","v":0},null,"Dedykowane wpisy np. poradnik, przepisy kulinarne, case study, realizacje, projekty, portfolio itp.",0,0]
[null,"Katalog produktów (bez opcji sklepu) producenci, serie, linie, typy, grupy, kategorie itp.","Realizacje",{"$f":"IFERROR(INDEX(Brief!$AO$29:$AO$63,MATCH(C18,Brief!$G$29:$G$58,0))*1,\"\")","v":0},null,"Katalog produktów (bez opcji sklepu) producenci, serie, linie, typy, grupy, kategorie itp.",0,0]
[null,"Moduł opinii","Opinie / Referencje",{"$f":"IFERROR(INDEX(Brief!$AO$29:$AO$63,MATCH(C19,Brief!$G$29:$G$58,0))*1,\"\")","v":0},null,"Moduł opinii",0,0]
[null,"Załączniki i pliki do pobrania (osobny moduł)","Do pobrania",{"$f":"IFERROR(INDEX(Brief!$AO$29:$AO$63,MATCH(C20,Brief!$G$29:$G$58,0))*1,\"\")","v":0},null,"Załączniki i pliki do pobrania (osobny moduł)",0,0]
[null,"Formularz kontaktowy (5 pól)","Kontakt",{"$f":"IFERROR(INDEX(Brief!$AO$29:$AO$63,MATCH(C21,Brief!$G$29:$G$58,0))*1,\"\")","v":0},null,"Formularz kontaktowy (5 pól)",0,0]
[null,"Mapa prosta Google Mapy","Kontakt",{"$f":"IFERROR(INDEX(Brief!$AO$29:$AO$63,MATCH(C22,Brief!$G$29:$G$58,0))*1,\"\")","v":0},null,"Mapa prosta Google Mapy",0,0]
[null,null,null,{"$f":"IFERROR(INDEX(Brief!$AO$29:$AO$63,MATCH(C23,Brief!$G$29:$G$58,0))*1,\"\")","v":""},null,0,0,0]
[null,null,null,{"$f":"IFERROR(INDEX(Brief!$AO$29:$AO$63,MATCH(C24,Brief!$G$29:$G$58,0))*1,\"\")","v":""},null,0,0,0]
[null,null,null,{"$f":"IFERROR(INDEX(Brief!$AO$29:$AO$63,MATCH(C25,Brief!$G$29:$G$58,0))*1,\"\")","v":""},null,0,0,0]
[null,null,null,{"$f":"IFERROR(INDEX(Brief!$AO$29:$AO$63,MATCH(C26,Brief!$G$29:$G$58,0))*1,\"\")","v":""},null,0,0,0]
[null,null,null,{"$f":"IFERROR(INDEX(Brief!$AO$29:$AO$63,MATCH(C27,Brief!$G$29:$G$58,0))*1,\"\")","v":""},null,0,0,0]
[null,null,null,{"$f":"IFERROR(INDEX(Brief!$AO$29:$AO$63,MATCH(C28,Brief!$G$29:$G$58,0))*1,\"\")","v":""},null,0,0,0]
[null,null,null,{"$f":"IFERROR(INDEX(Brief!$AO$29:$AO$63,MATCH(C29,Brief!$G$29:$G$58,0))*1,\"\")","v":""},null,0,0,0]
[null,null,null,{"$f":"IFERROR(INDEX(Brief!$AO$29:$AO$63,MATCH(C30,Brief!$G$29:$G$58,0))*1,\"\")","v":""},null,0,0,0]
[null,null,null,{"$f":"IFERROR(INDEX(Brief!$AO$29:$AO$63,MATCH(C31,Brief!$G$29:$G$58,0))*1,\"\")","v":""},null,0,0,0]
[null,null,null,{"$f":"IFERROR(INDEX(Brief!$AO$29:$AO$63,MATCH(C32,Brief!$G$29:$G$58,0))*1,\"\")","v":""},null,0,0,0]
[null,null,null,{"$f":"IFERROR(INDEX(Brief!$AO$29:$AO$63,MATCH(C33,Brief!$G$29:$G$58,0))*1,\"\")","v":""},null,0,0,0]
[null,null,null,{"$f":"IFERROR(INDEX(Brief!$AO$29:$AO$63,MATCH(C34,Brief!$G$29:$G$58,0))*1,\"\")","v":""},null,0,0,0]
[null,null,null,{"$f":"IFERROR(INDEX(Brief!$AO$29:$AO$63,MATCH(C35,Brief!$G$29:$G$58,0))*1,\"\")","v":""},null,0,0,0]
[null,null,null,{"$f":"IFERROR(INDEX(Brief!$AO$29:$AO$63,MATCH(C36,Brief!$G$29:$G$58,0))*1,\"\")","v":""},null,0,0,0]
[null,null,null,{"$f":"IFERROR(INDEX(Brief!$AO$29:$AO$63,MATCH(C37,Brief!$G$29:$G$58,0))*1,\"\")","v":""},null,0,0,0]
[null,null,null,{"$f":"IFERROR(INDEX(Brief!$AO$29:$AO$63,MATCH(C38,Brief!$G$29:$G$58,0))*1,\"\")","v":""},null,0,0,0]
[null,null,null,{"$f":"IFERROR(INDEX(Brief!$AO$29:$AO$63,MATCH(C39,Brief!$G$29:$G$58,0))*1,\"\")","v":""},null,0,0,0]
[null,null,null,{"$f":"IFERROR(INDEX(Brief!$AO$29:$AO$63,MATCH(C40,Brief!$G$29:$G$58,0))*1,\"\")","v":""},null,0,0,0]
[null,null,null,{"$f":"IFERROR(INDEX(Brief!$AO$29:$AO$63,MATCH(C41,Brief!$G$29:$G$58,0))*1,\"\")","v":""},null,0,0,0]
[null,null,null,{"$f":"IFERROR(INDEX(Brief!$AO$29:$AO$63,MATCH(C42,Brief!$G$29:$G$58,0))*1,\"\")","v":""},null,0,0,0]
[null,null,null,{"$f":"IFERROR(INDEX(Brief!$AO$29:$AO$63,MATCH(C43,Brief!$G$29:$G$58,0))*1,\"\")","v":""},null,0,0,0]
[null,null,null,{"$f":"IFERROR(INDEX(Brief!$AO$29:$AO$63,MATCH(C44,Brief!$G$29:$G$58,0))*1,\"\")","v":""},null,0,0,0]
[null,null,null,{"$f":"IFERROR(INDEX(Brief!$AO$29:$AO$63,MATCH(C45,Brief!$G$29:$G$58,0))*1,\"\")","v":""},null,0,0,0]
[null,null,null,{"$f":"IFERROR(INDEX(Brief!$AO$29:$AO$63,MATCH(C46,Brief!$G$29:$G$58,0))*1,\"\")","v":""},null,0,0,0]
[null,null,null,{"$f":"IFERROR(INDEX(Brief!$AO$29:$AO$63,MATCH(C47,Brief!$G$29:$G$58,0))*1,\"\")","v":""},null,0,0,0]
[null,null,null,{"$f":"IFERROR(INDEX(Brief!$AO$29:$AO$63,MATCH(C48,Brief!$G$29:$G$58,0))*1,\"\")","v":""},null,0,0,0]
[null,null,null,{"$f":"IFERROR(INDEX(Brief!$AO$29:$AO$63,MATCH(C49,Brief!$G$29:$G$58,0))*1,\"\")","v":""},null,0,0,0]
[null,null,null,{"$f":"IFERROR(INDEX(Brief!$AO$29:$AO$63,MATCH(C50,Brief!$G$29:$G$58,0))*1,\"\")","v":""},null,0,0,0]
[null,null,null,{"$f":"IFERROR(INDEX(Brief!$AO$29:$AO$63,MATCH(C51,Brief!$G$29:$G$58,0))*1,\"\")","v":""},null,0,0,0]
[null,null,null,{"$f":"IFERROR(INDEX(Brief!$AO$29:$AO$63,MATCH(C52,Brief!$G$29:$G$58,0))*1,\"\")","v":""},null,0,0,0]
[null,null,null,{"$f":"IFERROR(INDEX(Brief!$AO$29:$AO$63,MATCH(C53,Brief!$G$29:$G$58,0))*1,\"\")","v":""},null,0,0,0]
[null,null,null,{"$f":"IFERROR(INDEX(Brief!$AO$29:$AO$63,MATCH(C54,Brief!$G$29:$G$58,0))*1,\"\")","v":""},null,0,0,0]
[null,null,null,{"$f":"IFERROR(INDEX(Brief!$AO$29:$AO$63,MATCH(C55,Brief!$G$29:$G$58,0))*1,\"\")","v":""},null,0,0,0]
[null,null,null,{"$f":"IFERROR(INDEX(Brief!$AO$29:$AO$63,MATCH(C56,Brief!$G$29:$G$58,0))*1,\"\")","v":""},null,0,0,0]
[null,null,null,{"$f":"IFERROR(INDEX(Brief!$AO$29:$AO$63,MATCH(C57,Brief!$G$29:$G$58,0))*1,\"\")","v":""},null,0,0,0]
[null,null,null,{"$f":"IFERROR(INDEX(Brief!$AO$29:$AO$63,MATCH(C58,Brief!$G$29:$G$58,0))*1,\"\")","v":""},null,0,0,0]
[null,null,null,{"$f":"IFERROR(INDEX(Brief!$AO$29:$AO$63,MATCH(C59,Brief!$G$29:$G$58,0))*1,\"\")","v":""},null,0,0,0]
[null,null,null,{"$f":"IFERROR(INDEX(Brief!$AO$29:$AO$63,MATCH(C60,Brief!$G$29:$G$58,0))*1,\"\")","v":""},null,0,0,0]
[null,null,null,{"$f":"IFERROR(INDEX(Brief!$AO$29:$AO$63,MATCH(C61,Brief!$G$29:$G$58,0))*1,\"\")","v":""},null,0,0,0]
[null,null,null,{"$f":"IFERROR(INDEX(Brief!$AO$29:$AO$63,MATCH(C62,Brief!$G$29:$G$58,0))*1,\"\")","v":""},null,0,0,0]
[null,null,null,{"$f":"IFERROR(INDEX(Brief!$AO$29:$AO$63,MATCH(C63,Brief!$G$29:$G$58,0))*1,\"\")","v":""},null,0,0,0]
[null,null,null,{"$f":"IFERROR(INDEX(Brief!$AO$29:$AO$63,MATCH(C64,Brief!$G$29:$G$58,0))*1,\"\")","v":""},null,0,0,0]
[null,null,null,{"$f":"IFERROR(INDEX(Brief!$AO$29:$AO$63,MATCH(C65,Brief!$G$29:$G$58,0))*1,\"\")","v":""},null,0,0,0]
[null,null,null,{"$f":"IFERROR(INDEX(Brief!$AO$29:$AO$63,MATCH(C66,Brief!$G$29:$G$58,0))*1,\"\")","v":""},null,0,0,0]
[null,null,null,{"$f":"IFERROR(INDEX(Brief!$AO$29:$AO$63,MATCH(C67,Brief!$G$29:$G$58,0))*1,\"\")","v":""},null,0,0,0]
[null,null,null,{"$f":"IFERROR(INDEX(Brief!$AO$29:$AO$63,MATCH(C68,Brief!$G$29:$G$58,0))*1,\"\")","v":""},null,{"$f":"B68","v":0},{"$f":"SUMIF(B:B,F68,D:D)","v":0},{"$f":"IF(G68>0,1,0)","v":0}]
[null,null,null,{"$f":"IFERROR(INDEX(Brief!$AO$29:$AO$63,MATCH(C69,Brief!$G$29:$G$58,0))*1,\"\")","v":""},null,0,0,0]
[null,null,null,{"$f":"IFERROR(INDEX(Brief!$AO$29:$AO$63,MATCH(C70,Brief!$G$29:$G$58,0))*1,\"\")","v":""},null,0,0,0]
[null,null,null,{"$f":"IFERROR(INDEX(Brief!$AO$29:$AO$63,MATCH(C71,Brief!$G$29:$G$58,0))*1,\"\")","v":""},null,0,0,0]
[null,null,null,{"$f":"IFERROR(INDEX(Brief!$AO$29:$AO$63,MATCH(C72,Brief!$G$29:$G$58,0))*1,\"\")","v":""},null,0,0,0]
[null,null,null,{"$f":"IFERROR(INDEX(Brief!$AO$29:$AO$63,MATCH(C73,Brief!$G$29:$G$58,0))*1,\"\")","v":""},null,0,0,0]
[null,null,null,{"$f":"IFERROR(INDEX(Brief!$AO$29:$AO$63,MATCH(C74,Brief!$G$29:$G$58,0))*1,\"\")","v":""},null,0,0,0]
[null,null,null,{"$f":"IFERROR(INDEX(Brief!$AO$29:$AO$63,MATCH(C75,Brief!$G$29:$G$58,0))*1,\"\")","v":""},null,0,0,0]
[null,null,null,{"$f":"IFERROR(INDEX(Brief!$AO$29:$AO$63,MATCH(C76,Brief!$G$29:$G$58,0))*1,\"\")","v":""},null,0,0,0]
[null,null,null,{"$f":"IFERROR(INDEX(Brief!$AO$29:$AO$63,MATCH(C77,Brief!$G$29:$G$58,0))*1,\"\")","v":""},null,0,0,0]
[null,null,null,{"$f":"IFERROR(INDEX(Brief!$AO$29:$AO$63,MATCH(C78,Brief!$G$29:$G$58,0))*1,\"\")","v":""},null,0,0,0]
[null,null,null,{"$f":"IFERROR(INDEX(Brief!$AO$29:$AO$63,MATCH(C79,Brief!$G$29:$G$58,0))*1,\"\")","v":""},null,0,0,0]
[null,null,null,{"$f":"IFERROR(INDEX(Brief!$AO$29:$AO$63,MATCH(C80,Brief!$G$29:$G$58,0))*1,\"\")","v":""},null,0,0,0]
[null,null,null,{"$f":"IFERROR(INDEX(Brief!$AO$29:$AO$63,MATCH(C81,Brief!$G$29:$G$58,0))*1,\"\")","v":""},null,0,0,0]
[null,null,null,{"$f":"IFERROR(INDEX(Brief!$AO$29:$AO$63,MATCH(C82,Brief!$G$29:$G$58,0))*1,\"\")","v":""},null,0,0,0]
[null,null,null,{"$f":"IFERROR(INDEX(Brief!$AO$29:$AO$63,MATCH(C83,Brief!$G$29:$G$58,0))*1,\"\")","v":""},null,0,0,0]
[null,null,null,{"$f":"IFERROR(INDEX(Brief!$AO$29:$AO$63,MATCH(C84,Brief!$G$29:$G$58,0))*1,\"\")","v":""},null,0,0,0]
[null,null,null,{"$f":"IFERROR(INDEX(Brief!$AO$29:$AO$63,MATCH(C85,Brief!$G$29:$G$58,0))*1,\"\")","v":""},null,0,0,0]
[null,null,null,{"$f":"IFERROR(INDEX(Brief!$AO$29:$AO$63,MATCH(C86,Brief!$G$29:$G$58,0))*1,\"\")","v":""},null,0,0,0]
[null,null,null,{"$f":"IFERROR(INDEX(Brief!$AO$29:$AO$63,MATCH(C87,Brief!$G$29:$G$58,0))*1,\"\")","v":""},null,0,0,0]
[null,null,null,{"$f":"IFERROR(INDEX(Brief!$AO$29:$AO$63,MATCH(C88,Brief!$G$29:$G$58,0))*1,\"\")","v":""},null,0,0,0]
[null,null,null,{"$f":"IFERROR(INDEX(Brief!$AO$29:$AO$63,MATCH(C89,Brief!$G$29:$G$58,0))*1,\"\")","v":""},null,0,0,0]
[null,null,null,{"$f":"IFERROR(INDEX(Brief!$AO$29:$AO$63,MATCH(C90,Brief!$G$29:$G$58,0))*1,\"\")","v":""},null,0,0,0]
[null,null,null,{"$f":"IFERROR(INDEX(Brief!$AO$29:$AO$63,MATCH(C91,Brief!$G$29:$G$58,0))*1,\"\")","v":""},null,0,0,0]
[null,null,null,{"$f":"IFERROR(INDEX(Brief!$AO$29:$AO$63,MATCH(C92,Brief!$G$29:$G$58,0))*1,\"\")","v":""},null,0,0,0]
[null,null,null,{"$f":"IFERROR(INDEX(Brief!$AO$29:$AO$63,MATCH(C93,Brief!$G$29:$G$58,0))*1,\"\")","v":""},null,0,0,0]
[null,null,null,{"$f":"IFERROR(INDEX(Brief!$AO$29:$AO$63,MATCH(C94,Brief!$G$29:$G$58,0))*1,\"\")","v":""},null,0,0,0]
[null,null,null,{"$f":"IFERROR(INDEX(Brief!$AO$29:$AO$63,MATCH(C95,Brief!$G$29:$G$58,0))*1,\"\")","v":""},null,0,0,0]
[null,null,null,{"$f":"IFERROR(INDEX(Brief!$AO$29:$AO$63,MATCH(C96,Brief!$G$29:$G$58,0))*1,\"\")","v":""},null,0,0,0]
[null,null,null,{"$f":"IFERROR(INDEX(Brief!$AO$29:$AO$63,MATCH(C97,Brief!$G$29:$G$58,0))*1,\"\")","v":""},null,0,0,0]
[null,null,null,{"$f":"IFERROR(INDEX(Brief!$AO$29:$AO$63,MATCH(C98,Brief!$G$29:$G$58,0))*1,\"\")","v":""},null,0,0,0]
[null,null,null,{"$f":"IFERROR(INDEX(Brief!$AO$29:$AO$63,MATCH(C99,Brief!$G$29:$G$58,0))*1,\"\")","v":""},null,0,0,0]
[null,null,null,{"$f":"IFERROR(INDEX(Brief!$AO$29:$AO$63,MATCH(C100,Brief!$G$29:$G$58,0))*1,\"\")","v":""},null,0,0,0]
[null,null,null,{"$f":"IFERROR(INDEX(Brief!$AO$29:$AO$63,MATCH(C101,Brief!$G$29:$G$58,0))*1,\"\")","v":""},null,0,0,0]
[null,null,null,{"$f":"IFERROR(INDEX(Brief!$AO$29:$AO$63,MATCH(C102,Brief!$G$29:$G$58,0))*1,\"\")","v":""},null,0,0,0]
[null,null,null,{"$f":"IFERROR(INDEX(Brief!$AO$29:$AO$63,MATCH(C103,Brief!$G$29:$G$58,0))*1,\"\")","v":""},null,0,0,0]
[null,null,null,{"$f":"IFERROR(INDEX(Brief!$AO$29:$AO$63,MATCH(C104,Brief!$G$29:$G$58,0))*1,\"\")","v":""},null,0,0,0]
[null,null,null,{"$f":"IFERROR(INDEX(Brief!$AO$29:$AO$63,MATCH(C105,Brief!$G$29:$G$58,0))*1,\"\")","v":""},null,0,0,0]
[null,null,null,{"$f":"IFERROR(INDEX(Brief!$AO$29:$AO$63,MATCH(C106,Brief!$G$29:$G$58,0))*1,\"\")","v":""},null,0,0,0]
[null,null,null,{"$f":"IFERROR(INDEX(Brief!$AO$29:$AO$63,MATCH(C107,Brief!$G$29:$G$58,0))*1,\"\")","v":""},null,0,0,0]
[null,null,null,{"$f":"IFERROR(INDEX(Brief!$AO$29:$AO$63,MATCH(C108,Brief!$G$29:$G$58,0))*1,\"\")","v":""},null,0,0,0]
[null,null,null,{"$f":"IFERROR(INDEX(Brief!$AO$29:$AO$63,MATCH(C109,Brief!$G$29:$G$58,0))*1,\"\")","v":""},null,0,0,0]
[null,null,null,{"$f":"IFERROR(INDEX(Brief!$AO$29:$AO$63,MATCH(C110,Brief!$G$29:$G$58,0))*1,\"\")","v":""},null,0,0,0]
[null,null,null,{"$f":"IFERROR(INDEX(Brief!$AO$29:$AO$63,MATCH(C111,Brief!$G$29:$G$58,0))*1,\"\")","v":""},null,0,0,0]
[null,null,null,{"$f":"IFERROR(INDEX(Brief!$AO$29:$AO$63,MATCH(C112,Brief!$G$29:$G$58,0))*1,\"\")","v":""},null,0,0,0]
[null,null,null,{"$f":"IFERROR(INDEX(Brief!$AO$29:$AO$63,MATCH(C113,Brief!$G$29:$G$58,0))*1,\"\")","v":""},null,0,0,0]
[null,null,null,{"$f":"IFERROR(INDEX(Brief!$AO$29:$AO$63,MATCH(C114,Brief!$G$29:$G$58,0))*1,\"\")","v":""},null,0,0,0]
[null,null,null,{"$f":"IFERROR(INDEX(Brief!$AO$29:$AO$63,MATCH(C115,Brief!$G$29:$G$58,0))*1,\"\")","v":""},null,0,0,0]
[null,null,null,{"$f":"IFERROR(INDEX(Brief!$AO$29:$AO$63,MATCH(C116,Brief!$G$29:$G$58,0))*1,\"\")","v":""},null,0,0,0]
[null,null,null,{"$f":"IFERROR(INDEX(Brief!$AO$29:$AO$63,MATCH(C117,Brief!$G$29:$G$58,0))*1,\"\")","v":""},null,0,0,0]
[null,null,null,{"$f":"IFERROR(INDEX(Brief!$AO$29:$AO$63,MATCH(C118,Brief!$G$29:$G$58,0))*1,\"\")","v":""},null,0,0,0]
[null,null,null,{"$f":"IFERROR(INDEX(Brief!$AO$29:$AO$63,MATCH(C119,Brief!$G$29:$G$58,0))*1,\"\")","v":""},null,0,0,0]
[null,null,null,{"$f":"IFERROR(INDEX(Brief!$AO$29:$AO$63,MATCH(C120,Brief!$G$29:$G$58,0))*1,\"\")","v":""},null,0,0,0]
[null,null,null,{"$f":"IFERROR(INDEX(Brief!$AO$29:$AO$63,MATCH(C121,Brief!$G$29:$G$58,0))*1,\"\")","v":""},null,0,0,0]
[null,null,null,{"$f":"IFERROR(INDEX(Brief!$AO$29:$AO$63,MATCH(C122,Brief!$G$29:$G$58,0))*1,\"\")","v":""},null,0,0,0]
[null,null,null,{"$f":"IFERROR(INDEX(Brief!$AO$29:$AO$63,MATCH(C123,Brief!$G$29:$G$58,0))*1,\"\")","v":""},null,0,0,0]
[null,null,null,{"$f":"IFERROR(INDEX(Brief!$AO$29:$AO$63,MATCH(C124,Brief!$G$29:$G$58,0))*1,\"\")","v":""},null,0,0,0]
[null,null,null,{"$f":"IFERROR(INDEX(Brief!$AO$29:$AO$63,MATCH(C125,Brief!$G$29:$G$58,0))*1,\"\")","v":""},null,0,0,0]
[null,null,null,{"$f":"IFERROR(INDEX(Brief!$AO$29:$AO$63,MATCH(C126,Brief!$G$29:$G$58,0))*1,\"\")","v":""},null,0,0,0]
[null,null,null,{"$f":"IFERROR(INDEX(Brief!$AO$29:$AO$63,MATCH(C127,Brief!$G$29:$G$58,0))*1,\"\")","v":""},null,0,0,0]
[null,null,null,{"$f":"IFERROR(INDEX(Brief!$AO$29:$AO$63,MATCH(C128,Brief!$G$29:$G$58,0))*1,\"\")","v":""},null,0,0,0]
[null,null,null,{"$f":"IFERROR(INDEX(Brief!$AO$29:$AO$63,MATCH(C129,Brief!$G$29:$G$58,0))*1,\"\")","v":""},null,0,0,0]
[null,null,null,{"$f":"IFERROR(INDEX(Brief!$AO$29:$AO$63,MATCH(C130,Brief!$G$29:$G$58,0))*1,\"\")","v":""},null,0,0,0]
[null,null,null,{"$f":"IFERROR(INDEX(Brief!$AO$29:$AO$63,MATCH(C131,Brief!$G$29:$G$58,0))*1,\"\")","v":""},null,0,0,0]
[null,null,null,{"$f":"IFERROR(INDEX(Brief!$AO$29:$AO$63,MATCH(C132,Brief!$G$29:$G$58,0))*1,\"\")","v":""},null,{"$f":"B132","v":0},{"$f":"SUMIF(B:B,F132,D:D)","v":0},{"$f":"IF(G132>0,1,0)","v":0}]
[null,null,null,{"$f":"IFERROR(INDEX(Brief!$AO$29:$AO$63,MATCH(C133,Brief!$G$29:$G$58,0))*1,\"\")","v":""},null,0,0,0]
[null,null,null,{"$f":"IFERROR(INDEX(Brief!$AO$29:$AO$63,MATCH(C134,Brief!$G$29:$G$58,0))*1,\"\")","v":""},null,0,0,0]
[null,null,null,{"$f":"IFERROR(INDEX(Brief!$AO$29:$AO$63,MATCH(C135,Brief!$G$29:$G$58,0))*1,\"\")","v":""},null,0,0,0]
[null,null,null,{"$f":"IFERROR(INDEX(Brief!$AO$29:$AO$63,MATCH(C136,Brief!$G$29:$G$58,0))*1,\"\")","v":""},null,0,0,0]
[null,null,null,{"$f":"IFERROR(INDEX(Brief!$AO$29:$AO$63,MATCH(C137,Brief!$G$29:$G$58,0))*1,\"\")","v":""},null,0,0,0]
[null,null,null,{"$f":"IFERROR(INDEX(Brief!$AO$29:$AO$63,MATCH(C138,Brief!$G$29:$G$58,0))*1,\"\")","v":""},null,0,0,0]
[null,null,null,{"$f":"IFERROR(INDEX(Brief!$AO$29:$AO$63,MATCH(C139,Brief!$G$29:$G$58,0))*1,\"\")","v":""},null,0,0,0]
[null,null,null,{"$f":"IFERROR(INDEX(Brief!$AO$29:$AO$63,MATCH(C140,Brief!$G$29:$G$58,0))*1,\"\")","v":""},null,0,0,0]
[null,null,null,{"$f":"IFERROR(INDEX(Brief!$AO$29:$AO$63,MATCH(C141,Brief!$G$29:$G$58,0))*1,\"\")","v":""},null,0,0,0]
[null,null,null,{"$f":"IFERROR(INDEX(Brief!$AO$29:$AO$63,MATCH(C142,Brief!$G$29:$G$58,0))*1,\"\")","v":""},null,0,0,0]
[null,null,null,{"$f":"IFERROR(INDEX(Brief!$AO$29:$AO$63,MATCH(C143,Brief!$G$29:$G$58,0))*1,\"\")","v":""},null,0,0,0]
[null,null,null,{"$f":"IFERROR(INDEX(Brief!$AO$29:$AO$63,MATCH(C144,Brief!$G$29:$G$58,0))*1,\"\")","v":""},null,0,0,0]
[null,null,null,{"$f":"IFERROR(INDEX(Brief!$AO$29:$AO$63,MATCH(C145,Brief!$G$29:$G$58,0))*1,\"\")","v":""},null,0,0,0]
[null,null,null,{"$f":"IFERROR(INDEX(Brief!$AO$29:$AO$63,MATCH(C146,Brief!$G$29:$G$58,0))*1,\"\")","v":""},null,0,0,0]
[null,null,null,{"$f":"IFERROR(INDEX(Brief!$AO$29:$AO$63,MATCH(C147,Brief!$G$29:$G$58,0))*1,\"\")","v":""},null,0,0,0]
[null,null,null,{"$f":"IFERROR(INDEX(Brief!$AO$29:$AO$63,MATCH(C148,Brief!$G$29:$G$58,0))*1,\"\")","v":""},null,0,0,0]
[null,null,null,{"$f":"IFERROR(INDEX(Brief!$AO$29:$AO$63,MATCH(C149,Brief!$G$29:$G$58,0))*1,\"\")","v":""},null,0,0,0]
[null,null,null,{"$f":"IFERROR(INDEX(Brief!$AO$29:$AO$63,MATCH(C150,Brief!$G$29:$G$58,0))*1,\"\")","v":""},null,0,0,0]
[null,null,null,{"$f":"IFERROR(INDEX(Brief!$AO$29:$AO$63,MATCH(C151,Brief!$G$29:$G$58,0))*1,\"\")","v":""},null,0,0,0]
[null,null,null,{"$f":"IFERROR(INDEX(Brief!$AO$29:$AO$63,MATCH(C152,Brief!$G$29:$G$58,0))*1,\"\")","v":""},null,0,0,0]
[null,null,null,{"$f":"IFERROR(INDEX(Brief!$AO$29:$AO$63,MATCH(C153,Brief!$G$29:$G$58,0))*1,\"\")","v":""},null,0,0,0]
[null,null,null,{"$f":"IFERROR(INDEX(Brief!$AO$29:$AO$63,MATCH(C154,Brief!$G$29:$G$58,0))*1,\"\")","v":""},null,0,0,0]
[null,null,null,{"$f":"IFERROR(INDEX(Brief!$AO$29:$AO$63,MATCH(C155,Brief!$G$29:$G$58,0))*1,\"\")","v":""},null,0,0,0]
[null,null,null,{"$f":"IFERROR(INDEX(Brief!$AO$29:$AO$63,MATCH(C156,Brief!$G$29:$G$58,0))*1,\"\")","v":""},null,0,0,0]
[null,null,null,{"$f":"IFERROR(INDEX(Brief!$AO$29:$AO$63,MATCH(C157,Brief!$G$29:$G$58,0))*1,\"\")","v":""},null,0,0,0]
[null,null,null,{"$f":"IFERROR(INDEX(Brief!$AO$29:$AO$63,MATCH(C158,Brief!$G$29:$G$58,0))*1,\"\")","v":""},null,0,0,0]
[null,null,null,{"$f":"IFERROR(INDEX(Brief!$AO$29:$AO$63,MATCH(C159,Brief!$G$29:$G$58,0))*1,\"\")","v":""},null,0,0,0]
[null,null,null,{"$f":"IFERROR(INDEX(Brief!$AO$29:$AO$63,MATCH(C160,Brief!$G$29:$G$58,0))*1,\"\")","v":""},null,0,0,0]
[null,null,null,{"$f":"IFERROR(INDEX(Brief!$AO$29:$AO$63,MATCH(C161,Brief!$G$29:$G$58,0))*1,\"\")","v":""},null,0,0,0]
[null,null,null,{"$f":"IFERROR(INDEX(Brief!$AO$29:$AO$63,MATCH(C162,Brief!$G$29:$G$58,0))*1,\"\")","v":""},null,0,0,0]
[null,null,null,{"$f":"IFERROR(INDEX(Brief!$AO$29:$AO$63,MATCH(C163,Brief!$G$29:$G$58,0))*1,\"\")","v":""},null,0,0,0]
[null,null,null,{"$f":"IFERROR(INDEX(Brief!$AO$29:$AO$63,MATCH(C164,Brief!$G$29:$G$58,0))*1,\"\")","v":""},null,0,0,0]
[null,null,null,{"$f":"IFERROR(INDEX(Brief!$AO$29:$AO$63,MATCH(C165,Brief!$G$29:$G$58,0))*1,\"\")","v":""},null,0,0,0]
[null,null,null,{"$f":"IFERROR(INDEX(Brief!$AO$29:$AO$63,MATCH(C166,Brief!$G$29:$G$58,0))*1,\"\")","v":""},null,0,0,0]
[null,null,null,{"$f":"IFERROR(INDEX(Brief!$AO$29:$AO$63,MATCH(C167,Brief!$G$29:$G$58,0))*1,\"\")","v":""},null,0,0,0]
[null,null,null,{"$f":"IFERROR(INDEX(Brief!$AO$29:$AO$63,MATCH(C168,Brief!$G$29:$G$58,0))*1,\"\")","v":""},null,0,0,0]
[null,null,null,{"$f":"IFERROR(INDEX(Brief!$AO$29:$AO$63,MATCH(C169,Brief!$G$29:$G$58,0))*1,\"\")","v":""},null,0,0,0]
[null,null,null,{"$f":"IFERROR(INDEX(Brief!$AO$29:$AO$63,MATCH(C170,Brief!$G$29:$G$58,0))*1,\"\")","v":""},null,0,0,0]
[null,null,null,{"$f":"IFERROR(INDEX(Brief!$AO$29:$AO$63,MATCH(C171,Brief!$G$29:$G$58,0))*1,\"\")","v":""},null,0,0,0]
[null,null,null,{"$f":"IFERROR(INDEX(Brief!$AO$29:$AO$63,MATCH(C172,Brief!$G$29:$G$58,0))*1,\"\")","v":""},null,0,0,0]
[null,null,null,{"$f":"IFERROR(INDEX(Brief!$AO$29:$AO$63,MATCH(C173,Brief!$G$29:$G$58,0))*1,\"\")","v":""},null,0,0,0]
[null,null,null,{"$f":"IFERROR(INDEX(Brief!$AO$29:$AO$63,MATCH(C174,Brief!$G$29:$G$58,0))*1,\"\")","v":""},null,0,0,0]
[null,null,null,{"$f":"IFERROR(INDEX(Brief!$AO$29:$AO$63,MATCH(C175,Brief!$G$29:$G$58,0))*1,\"\")","v":""},null,0,0,0]
[null,null,null,{"$f":"IFERROR(INDEX(Brief!$AO$29:$AO$63,MATCH(C176,Brief!$G$29:$G$58,0))*1,\"\")","v":""},null,0,0,0]
[null,null,null,{"$f":"IFERROR(INDEX(Brief!$AO$29:$AO$63,MATCH(C177,Brief!$G$29:$G$58,0))*1,\"\")","v":""},null,0,0,0]
[null,null,null,{"$f":"IFERROR(INDEX(Brief!$AO$29:$AO$63,MATCH(C178,Brief!$G$29:$G$58,0))*1,\"\")","v":""},null,0,0,0]
[null,null,null,{"$f":"IFERROR(INDEX(Brief!$AO$29:$AO$63,MATCH(C179,Brief!$G$29:$G$58,0))*1,\"\")","v":""},null,0,0,0]
[null,null,null,{"$f":"IFERROR(INDEX(Brief!$AO$29:$AO$63,MATCH(C180,Brief!$G$29:$G$58,0))*1,\"\")","v":""},null,0,0,0]
[null,null,null,{"$f":"IFERROR(INDEX(Brief!$AO$29:$AO$63,MATCH(C181,Brief!$G$29:$G$58,0))*1,\"\")","v":""},null,0,0,0]
[null,null,null,{"$f":"IFERROR(INDEX(Brief!$AO$29:$AO$63,MATCH(C182,Brief!$G$29:$G$58,0))*1,\"\")","v":""},null,0,0,0]
[null,null,null,{"$f":"IFERROR(INDEX(Brief!$AO$29:$AO$63,MATCH(C183,Brief!$G$29:$G$58,0))*1,\"\")","v":""},null,0,0,0]
[null,null,null,{"$f":"IFERROR(INDEX(Brief!$AO$29:$AO$63,MATCH(C184,Brief!$G$29:$G$58,0))*1,\"\")","v":""},null,0,0,0]
[null,null,null,{"$f":"IFERROR(INDEX(Brief!$AO$29:$AO$63,MATCH(C185,Brief!$G$29:$G$58,0))*1,\"\")","v":""},null,0,0,0]
[null,null,null,{"$f":"IFERROR(INDEX(Brief!$AO$29:$AO$63,MATCH(C186,Brief!$G$29:$G$58,0))*1,\"\")","v":""},null,0,0,0]
[null,null,null,{"$f":"IFERROR(INDEX(Brief!$AO$29:$AO$63,MATCH(C187,Brief!$G$29:$G$58,0))*1,\"\")","v":""},null,0,0,0]
[null,null,null,{"$f":"IFERROR(INDEX(Brief!$AO$29:$AO$63,MATCH(C188,Brief!$G$29:$G$58,0))*1,\"\")","v":""},null,0,0,0]
[null,null,null,{"$f":"IFERROR(INDEX(Brief!$AO$29:$AO$63,MATCH(C189,Brief!$G$29:$G$58,0))*1,\"\")","v":""},null,0,0,0]
[null,null,null,{"$f":"IFERROR(INDEX(Brief!$AO$29:$AO$63,MATCH(C190,Brief!$G$29:$G$58,0))*1,\"\")","v":""},null,0,0,0]
[null,null,null,{"$f":"IFERROR(INDEX(Brief!$AO$29:$AO$63,MATCH(C191,Brief!$G$29:$G$58,0))*1,\"\")","v":""},null,0,0,0]
[null,null,null,{"$f":"IFERROR(INDEX(Brief!$AO$29:$AO$63,MATCH(C192,Brief!$G$29:$G$58,0))*1,\"\")","v":""},null,0,0,0]
[null,null,null,{"$f":"IFERROR(INDEX(Brief!$AO$29:$AO$63,MATCH(C193,Brief!$G$29:$G$58,0))*1,\"\")","v":""},null,0,0,0]
[null,null,null,{"$f":"IFERROR(INDEX(Brief!$AO$29:$AO$63,MATCH(C194,Brief!$G$29:$G$58,0))*1,\"\")","v":""},null,0,0,0]
[null,null,null,{"$f":"IFERROR(INDEX(Brief!$AO$29:$AO$63,MATCH(C195,Brief!$G$29:$G$58,0))*1,\"\")","v":""},null,0,0,0]
[null,null,null,{"$f":"IFERROR(INDEX(Brief!$AO$29:$AO$63,MATCH(C196,Brief!$G$29:$G$58,0))*1,\"\")","v":""},null,{"$f":"B196","v":0},{"$f":"SUMIF(B:B,F196,D:D)","v":0},{"$f":"IF(G196>0,1,0)","v":0}]
[null,null,null,{"$f":"IFERROR(INDEX(Brief!$AO$29:$AO$63,MATCH(C197,Brief!$G$29:$G$58,0))*1,\"\")","v":""},null,0,0,0]
[null,null,null,{"$f":"IFERROR(INDEX(Brief!$AO$29:$AO$63,MATCH(C198,Brief!$G$29:$G$58,0))*1,\"\")","v":""},null,0,0,0]
[null,null,null,{"$f":"IFERROR(INDEX(Brief!$AO$29:$AO$63,MATCH(C199,Brief!$G$29:$G$58,0))*1,\"\")","v":""},null,0,0,0]
[null,null,null,{"$f":"IFERROR(INDEX(Brief!$AO$29:$AO$63,MATCH(C200,Brief!$G$29:$G$58,0))*1,\"\")","v":""},null,0,0,0]
[null,null,null,{"$f":"IFERROR(INDEX(Brief!$AO$29:$AO$63,MATCH(C201,Brief!$G$29:$G$58,0))*1,\"\")","v":""},null,0,0,0]
[null,null,null,{"$f":"IFERROR(INDEX(Brief!$AO$29:$AO$63,MATCH(C202,Brief!$G$29:$G$58,0))*1,\"\")","v":""},null,0,0,0]
[null,null,null,{"$f":"IFERROR(INDEX(Brief!$AO$29:$AO$63,MATCH(C203,Brief!$G$29:$G$58,0))*1,\"\")","v":""},null,0,0,0]
[null,null,null,{"$f":"IFERROR(INDEX(Brief!$AO$29:$AO$63,MATCH(C204,Brief!$G$29:$G$58,0))*1,\"\")","v":""},null,0,0,0]
[null,null,null,{"$f":"IFERROR(INDEX(Brief!$AO$29:$AO$63,MATCH(C205,Brief!$G$29:$G$58,0))*1,\"\")","v":""},null,0,0,0]
[null,null,null,{"$f":"IFERROR(INDEX(Brief!$AO$29:$AO$63,MATCH(C206,Brief!$G$29:$G$58,0))*1,\"\")","v":""},null,0,0,0]
[null,null,null,{"$f":"IFERROR(INDEX(Brief!$AO$29:$AO$63,MATCH(C207,Brief!$G$29:$G$58,0))*1,\"\")","v":""},null,0,0,0]
[null,null,null,{"$f":"IFERROR(INDEX(Brief!$AO$29:$AO$63,MATCH(C208,Brief!$G$29:$G$58,0))*1,\"\")","v":""},null,0,0,0]
[null,null,null,{"$f":"IFERROR(INDEX(Brief!$AO$29:$AO$63,MATCH(C209,Brief!$G$29:$G$58,0))*1,\"\")","v":""},null,0,0,0]
[null,null,null,{"$f":"IFERROR(INDEX(Brief!$AO$29:$AO$63,MATCH(C210,Brief!$G$29:$G$58,0))*1,\"\")","v":""},null,0,0,0]
[null,null,null,{"$f":"IFERROR(INDEX(Brief!$AO$29:$AO$63,MATCH(C211,Brief!$G$29:$G$58,0))*1,\"\")","v":""},null,0,0,0]
[null,null,null,{"$f":"IFERROR(INDEX(Brief!$AO$29:$AO$63,MATCH(C212,Brief!$G$29:$G$58,0))*1,\"\")","v":""},null,0,0,0]
[null,null,null,{"$f":"IFERROR(INDEX(Brief!$AO$29:$AO$63,MATCH(C213,Brief!$G$29:$G$58,0))*1,\"\")","v":""},null,0,0,0]
[null,null,null,{"$f":"IFERROR(INDEX(Brief!$AO$29:$AO$63,MATCH(C214,Brief!$G$29:$G$58,0))*1,\"\")","v":""},null,0,0,0]
[null,null,null,{"$f":"IFERROR(INDEX(Brief!$AO$29:$AO$63,MATCH(C215,Brief!$G$29:$G$58,0))*1,\"\")","v":""},null,0,0,0]
[null,null,null,{"$f":"IFERROR(INDEX(Brief!$AO$29:$AO$63,MATCH(C216,Brief!$G$29:$G$58,0))*1,\"\")","v":""},null,0,0,0]
[null,null,null,{"$f":"IFERROR(INDEX(Brief!$AO$29:$AO$63,MATCH(C217,Brief!$G$29:$G$58,0))*1,\"\")","v":""},null,0,0,0]
[null,null,null,{"$f":"IFERROR(INDEX(Brief!$AO$29:$AO$63,MATCH(C218,Brief!$G$29:$G$58,0))*1,\"\")","v":""},null,0,0,0]
[null,null,null,{"$f":"IFERROR(INDEX(Brief!$AO$29:$AO$63,MATCH(C219,Brief!$G$29:$G$58,0))*1,\"\")","v":""},null,0,0,0]
[null,null,null,{"$f":"IFERROR(INDEX(Brief!$AO$29:$AO$63,MATCH(C220,Brief!$G$29:$G$58,0))*1,\"\")","v":""},null,0,0,0]
[null,null,null,{"$f":"IFERROR(INDEX(Brief!$AO$29:$AO$63,MATCH(C221,Brief!$G$29:$G$58,0))*1,\"\")","v":""},null,0,0,0]
[null,null,null,{"$f":"IFERROR(INDEX(Brief!$AO$29:$AO$63,MATCH(C222,Brief!$G$29:$G$58,0))*1,\"\")","v":""},null,0,0,0]
[null,null,null,{"$f":"IFERROR(INDEX(Brief!$AO$29:$AO$63,MATCH(C223,Brief!$G$29:$G$58,0))*1,\"\")","v":""},null,0,0,0]
[null,null,null,{"$f":"IFERROR(INDEX(Brief!$AO$29:$AO$63,MATCH(C224,Brief!$G$29:$G$58,0))*1,\"\")","v":""},null,0,0,0]
[null,null,null,{"$f":"IFERROR(INDEX(Brief!$AO$29:$AO$63,MATCH(C225,Brief!$G$29:$G$58,0))*1,\"\")","v":""},null,0,0,0]
[null,null,null,{"$f":"IFERROR(INDEX(Brief!$AO$29:$AO$63,MATCH(C226,Brief!$G$29:$G$58,0))*1,\"\")","v":""},null,0,0,0]
[null,null,null,{"$f":"IFERROR(INDEX(Brief!$AO$29:$AO$63,MATCH(C227,Brief!$G$29:$G$58,0))*1,\"\")","v":""},null,0,0,0]
[null,null,null,{"$f":"IFERROR(INDEX(Brief!$AO$29:$AO$63,MATCH(C228,Brief!$G$29:$G$58,0))*1,\"\")","v":""},null,0,0,0]
[null,null,null,{"$f":"IFERROR(INDEX(Brief!$AO$29:$AO$63,MATCH(C229,Brief!$G$29:$G$58,0))*1,\"\")","v":""},null,0,0,0]
[null,null,null,{"$f":"IFERROR(INDEX(Brief!$AO$29:$AO$63,MATCH(C230,Brief!$G$29:$G$58,0))*1,\"\")","v":""},null,0,0,0]
[null,null,null,{"$f":"IFERROR(INDEX(Brief!$AO$29:$AO$63,MATCH(C231,Brief!$G$29:$G$58,0))*1,\"\")","v":""},null,0,0,0]
[null,null,null,{"$f":"IFERROR(INDEX(Brief!$AO$29:$AO$63,MATCH(C232,Brief!$G$29:$G$58,0))*1,\"\")","v":""},null,0,0,0]
[null,null,null,{"$f":"IFERROR(INDEX(Brief!$AO$29:$AO$63,MATCH(C233,Brief!$G$29:$G$58,0))*1,\"\")","v":""},null,0,0,0]
[null,null,null,{"$f":"IFERROR(INDEX(Brief!$AO$29:$AO$63,MATCH(C234,Brief!$G$29:$G$58,0))*1,\"\")","v":""},null,0,0,0]
[null,null,null,{"$f":"IFERROR(INDEX(Brief!$AO$29:$AO$63,MATCH(C235,Brief!$G$29:$G$58,0))*1,\"\")","v":""},null,0,0,0]
[null,null,null,{"$f":"IFERROR(INDEX(Brief!$AO$29:$AO$63,MATCH(C236,Brief!$G$29:$G$58,0))*1,\"\")","v":""},null,0,0,0]
[null,null,null,{"$f":"IFERROR(INDEX(Brief!$AO$29:$AO$63,MATCH(C237,Brief!$G$29:$G$58,0))*1,\"\")","v":""},null,0,0,0]
[null,null,null,{"$f":"IFERROR(INDEX(Brief!$AO$29:$AO$63,MATCH(C238,Brief!$G$29:$G$58,0))*1,\"\")","v":""},null,0,0,0]
[null,null,null,{"$f":"IFERROR(INDEX(Brief!$AO$29:$AO$63,MATCH(C239,Brief!$G$29:$G$58,0))*1,\"\")","v":""},null,0,0,0]
[null,null,null,{"$f":"IFERROR(INDEX(Brief!$AO$29:$AO$63,MATCH(C240,Brief!$G$29:$G$58,0))*1,\"\")","v":""},null,0,0,0]
[null,null,null,{"$f":"IFERROR(INDEX(Brief!$AO$29:$AO$63,MATCH(C241,Brief!$G$29:$G$58,0))*1,\"\")","v":""},null,0,0,0]
[null,null,null,{"$f":"IFERROR(INDEX(Brief!$AO$29:$AO$63,MATCH(C242,Brief!$G$29:$G$58,0))*1,\"\")","v":""},null,0,0,0]
[null,null,null,{"$f":"IFERROR(INDEX(Brief!$AO$29:$AO$63,MATCH(C243,Brief!$G$29:$G$58,0))*1,\"\")","v":""},null,0,0,0]
[null,null,null,{"$f":"IFERROR(INDEX(Brief!$AO$29:$AO$63,MATCH(C244,Brief!$G$29:$G$58,0))*1,\"\")","v":""},null,0,0,0]
[null,null,null,{"$f":"IFERROR(INDEX(Brief!$AO$29:$AO$63,MATCH(C245,Brief!$G$29:$G$58,0))*1,\"\")","v":""},null,0,0,0]
[null,null,null,{"$f":"IFERROR(INDEX(Brief!$AO$29:$AO$63,MATCH(C246,Brief!$G$29:$G$58,0))*1,\"\")","v":""},null,0,0,0]
[null,null,null,{"$f":"IFERROR(INDEX(Brief!$AO$29:$AO$63,MATCH(C247,Brief!$G$29:$G$58,0))*1,\"\")","v":""},null,0,0,0]
[null,null,null,{"$f":"IFERROR(INDEX(Brief!$AO$29:$AO$63,MATCH(C248,Brief!$G$29:$G$58,0))*1,\"\")","v":""},null,0,0,0]
[null,null,null,{"$f":"IFERROR(INDEX(Brief!$AO$29:$AO$63,MATCH(C249,Brief!$G$29:$G$58,0))*1,\"\")","v":""},null,0,0,0]
[null,null,null,{"$f":"IFERROR(INDEX(Brief!$AO$29:$AO$63,MATCH(C250,Brief!$G$29:$G$58,0))*1,\"\")","v":""},null,0,0,0]
[null,null,null,{"$f":"IFERROR(INDEX(Brief!$AO$29:$AO$63,MATCH(C251,Brief!$G$29:$G$58,0))*1,\"\")","v":""},null,0,0,0]
[null,null,null,{"$f":"IFERROR(INDEX(Brief!$AO$29:$AO$63,MATCH(C252,Brief!$G$29:$G$58,0))*1,\"\")","v":""},null,0,0,0]
[null,null,null,{"$f":"IFERROR(INDEX(Brief!$AO$29:$AO$63,MATCH(C253,Brief!$G$29:$G$58,0))*1,\"\")","v":""},null,0,0,0]
[null,null,null,{"$f":"IFERROR(INDEX(Brief!$AO$29:$AO$63,MATCH(C254,Brief!$G$29:$G$58,0))*1,\"\")","v":""},null,0,0,0]
[null,null,null,{"$f":"IFERROR(INDEX(Brief!$AO$29:$AO$63,MATCH(C255,Brief!$G$29:$G$58,0))*1,\"\")","v":""},null,0,0,0]
[null,null,null,{"$f":"IFERROR(INDEX(Brief!$AO$29:$AO$63,MATCH(C256,Brief!$G$29:$G$58,0))*1,\"\")","v":""},null,0,0,0]
[null,null,null,{"$f":"IFERROR(INDEX(Brief!$AO$29:$AO$63,MATCH(C257,Brief!$G$29:$G$58,0))*1,\"\")","v":""},null,0,0,0]
[null,null,null,{"$f":"IFERROR(INDEX(Brief!$AO$29:$AO$63,MATCH(C258,Brief!$G$29:$G$58,0))*1,\"\")","v":""},null,0,0,0]
[null,null,null,{"$f":"IFERROR(INDEX(Brief!$AO$29:$AO$63,MATCH(C259,Brief!$G$29:$G$58,0))*1,\"\")","v":""},null,0,0,0]
[null,null,null,{"$f":"IFERROR(INDEX(Brief!$AO$29:$AO$63,MATCH(C260,Brief!$G$29:$G$58,0))*1,\"\")","v":""},null,{"$f":"B260","v":0},{"$f":"SUMIF(B:B,F260,D:D)","v":0},{"$f":"IF(G260>0,1,0)","v":0}]
[null,null,null,{"$f":"IFERROR(INDEX(Brief!$AO$29:$AO$63,MATCH(C261,Brief!$G$29:$G$58,0))*1,\"\")","v":""},null,0,0,0]
[null,null,null,{"$f":"IFERROR(INDEX(Brief!$AO$29:$AO$63,MATCH(C262,Brief!$G$29:$G$58,0))*1,\"\")","v":""},null,0,0,0]
[null,null,null,{"$f":"IFERROR(INDEX(Brief!$AO$29:$AO$63,MATCH(C263,Brief!$G$29:$G$58,0))*1,\"\")","v":""},null,0,0,0]
[null,null,null,{"$f":"IFERROR(INDEX(Brief!$AO$29:$AO$63,MATCH(C264,Brief!$G$29:$G$58,0))*1,\"\")","v":""},null,0,0,0]
[null,null,null,{"$f":"IFERROR(INDEX(Brief!$AO$29:$AO$63,MATCH(C265,Brief!$G$29:$G$58,0))*1,\"\")","v":""},null,0,0,0]
[null,null,null,{"$f":"IFERROR(INDEX(Brief!$AO$29:$AO$63,MATCH(C266,Brief!$G$29:$G$58,0))*1,\"\")","v":""},null,0,0,0]
[null,null,null,{"$f":"IFERROR(INDEX(Brief!$AO$29:$AO$63,MATCH(C267,Brief!$G$29:$G$58,0))*1,\"\")","v":""},null,0,0,0]
[null,null,null,{"$f":"IFERROR(INDEX(Brief!$AO$29:$AO$63,MATCH(C268,Brief!$G$29:$G$58,0))*1,\"\")","v":""},null,0,0,0]
[null,null,null,{"$f":"IFERROR(INDEX(Brief!$AO$29:$AO$63,MATCH(C269,Brief!$G$29:$G$58,0))*1,\"\")","v":""},null,0,0,0]
[null,null,null,{"$f":"IFERROR(INDEX(Brief!$AO$29:$AO$63,MATCH(C270,Brief!$G$29:$G$58,0))*1,\"\")","v":""},null,0,0,0]
[null,null,null,{"$f":"IFERROR(INDEX(Brief!$AO$29:$AO$63,MATCH(C271,Brief!$G$29:$G$58,0))*1,\"\")","v":""},null,0,0,0]
[null,null,null,{"$f":"IFERROR(INDEX(Brief!$AO$29:$AO$63,MATCH(C272,Brief!$G$29:$G$58,0))*1,\"\")","v":""},null,0,0,0]
[null,null,null,{"$f":"IFERROR(INDEX(Brief!$AO$29:$AO$63,MATCH(C273,Brief!$G$29:$G$58,0))*1,\"\")","v":""},null,0,0,0]
[null,null,null,{"$f":"IFERROR(INDEX(Brief!$AO$29:$AO$63,MATCH(C274,Brief!$G$29:$G$58,0))*1,\"\")","v":""},null,0,0,0]
[null,null,null,{"$f":"IFERROR(INDEX(Brief!$AO$29:$AO$63,MATCH(C275,Brief!$G$29:$G$58,0))*1,\"\")","v":""},null,0,0,0]
[null,null,null,{"$f":"IFERROR(INDEX(Brief!$AO$29:$AO$63,MATCH(C276,Brief!$G$29:$G$58,0))*1,\"\")","v":""},null,0,0,0]
[null,null,null,{"$f":"IFERROR(INDEX(Brief!$AO$29:$AO$63,MATCH(C277,Brief!$G$29:$G$58,0))*1,\"\")","v":""},null,0,0,0]
[null,null,null,{"$f":"IFERROR(INDEX(Brief!$AO$29:$AO$63,MATCH(C278,Brief!$G$29:$G$58,0))*1,\"\")","v":""},null,0,0,0]
[null,null,null,{"$f":"IFERROR(INDEX(Brief!$AO$29:$AO$63,MATCH(C279,Brief!$G$29:$G$58,0))*1,\"\")","v":""},null,0,0,0]
[null,null,null,{"$f":"IFERROR(INDEX(Brief!$AO$29:$AO$63,MATCH(C280,Brief!$G$29:$G$58,0))*1,\"\")","v":""},null,0,0,0]
[null,null,null,{"$f":"IFERROR(INDEX(Brief!$AO$29:$AO$63,MATCH(C281,Brief!$G$29:$G$58,0))*1,\"\")","v":""},null,0,0,0]
[null,null,null,{"$f":"IFERROR(INDEX(Brief!$AO$29:$AO$63,MATCH(C282,Brief!$G$29:$G$58,0))*1,\"\")","v":""},null,0,0,0]
[null,null,null,{"$f":"IFERROR(INDEX(Brief!$AO$29:$AO$63,MATCH(C283,Brief!$G$29:$G$58,0))*1,\"\")","v":""},null,0,0,0]
[null,null,null,{"$f":"IFERROR(INDEX(Brief!$AO$29:$AO$63,MATCH(C284,Brief!$G$29:$G$58,0))*1,\"\")","v":""},null,0,0,0]
[null,null,null,{"$f":"IFERROR(INDEX(Brief!$AO$29:$AO$63,MATCH(C285,Brief!$G$29:$G$58,0))*1,\"\")","v":""},null,0,0,0]
[null,null,null,{"$f":"IFERROR(INDEX(Brief!$AO$29:$AO$63,MATCH(C286,Brief!$G$29:$G$58,0))*1,\"\")","v":""},null,0,0,0]
[null,null,null,{"$f":"IFERROR(INDEX(Brief!$AO$29:$AO$63,MATCH(C287,Brief!$G$29:$G$58,0))*1,\"\")","v":""},null,0,0,0]
[null,null,null,{"$f":"IFERROR(INDEX(Brief!$AO$29:$AO$63,MATCH(C288,Brief!$G$29:$G$58,0))*1,\"\")","v":""},null,0,0,0]
[null,null,null,{"$f":"IFERROR(INDEX(Brief!$AO$29:$AO$63,MATCH(C289,Brief!$G$29:$G$58,0))*1,\"\")","v":""},null,0,0,0]
[null,null,null,{"$f":"IFERROR(INDEX(Brief!$AO$29:$AO$63,MATCH(C290,Brief!$G$29:$G$58,0))*1,\"\")","v":""},null,0,0,0]
[null,null,null,{"$f":"IFERROR(INDEX(Brief!$AO$29:$AO$63,MATCH(C291,Brief!$G$29:$G$58,0))*1,\"\")","v":""},null,0,0,0]
[null,null,null,{"$f":"IFERROR(INDEX(Brief!$AO$29:$AO$63,MATCH(C292,Brief!$G$29:$G$58,0))*1,\"\")","v":""},null,0,0,0]
[null,null,null,{"$f":"IFERROR(INDEX(Brief!$AO$29:$AO$63,MATCH(C293,Brief!$G$29:$G$58,0))*1,\"\")","v":""},null,0,0,0]
[null,null,null,{"$f":"IFERROR(INDEX(Brief!$AO$29:$AO$63,MATCH(C294,Brief!$G$29:$G$58,0))*1,\"\")","v":""},null,0,0,0]
[null,null,null,{"$f":"IFERROR(INDEX(Brief!$AO$29:$AO$63,MATCH(C295,Brief!$G$29:$G$58,0))*1,\"\")","v":""},null,0,0,0]
[null,null,null,{"$f":"IFERROR(INDEX(Brief!$AO$29:$AO$63,MATCH(C296,Brief!$G$29:$G$58,0))*1,\"\")","v":""},null,0,0,0]
[null,null,null,{"$f":"IFERROR(INDEX(Brief!$AO$29:$AO$63,MATCH(C297,Brief!$G$29:$G$58,0))*1,\"\")","v":""},null,0,0,0]
[null,null,null,{"$f":"IFERROR(INDEX(Brief!$AO$29:$AO$63,MATCH(C298,Brief!$G$29:$G$58,0))*1,\"\")","v":""},null,0,0,0]
[null,null,null,{"$f":"IFERROR(INDEX(Brief!$AO$29:$AO$63,MATCH(C299,Brief!$G$29:$G$58,0))*1,\"\")","v":""},null,0,0,0]
[null,null,null,{"$f":"IFERROR(INDEX(Brief!$AO$29:$AO$63,MATCH(C300,Brief!$G$29:$G$58,0))*1,\"\")","v":""},null,0,0,0]
[null,null,null,{"$f":"IFERROR(INDEX(Brief!$AO$29:$AO$63,MATCH(C301,Brief!$G$29:$G$58,0))*1,\"\")","v":""},null,0,0,0]
[null,null,null,{"$f":"IFERROR(INDEX(Brief!$AO$29:$AO$63,MATCH(C302,Brief!$G$29:$G$58,0))*1,\"\")","v":""},null,0,0,0]
[null,null,null,{"$f":"IFERROR(INDEX(Brief!$AO$29:$AO$63,MATCH(C303,Brief!$G$29:$G$58,0))*1,\"\")","v":""},null,0,0,0]
[null,null,null,{"$f":"IFERROR(INDEX(Brief!$AO$29:$AO$63,MATCH(C304,Brief!$G$29:$G$58,0))*1,\"\")","v":""},null,0,0,0]
[null,null,null,{"$f":"IFERROR(INDEX(Brief!$AO$29:$AO$63,MATCH(C305,Brief!$G$29:$G$58,0))*1,\"\")","v":""},null,0,0,0]
[null,null,null,{"$f":"IFERROR(INDEX(Brief!$AO$29:$AO$63,MATCH(C306,Brief!$G$29:$G$58,0))*1,\"\")","v":""},null,0,0,0]
[null,null,null,{"$f":"IFERROR(INDEX(Brief!$AO$29:$AO$63,MATCH(C307,Brief!$G$29:$G$58,0))*1,\"\")","v":""},null,0,0,0]
[null,null,null,{"$f":"IFERROR(INDEX(Brief!$AO$29:$AO$63,MATCH(C308,Brief!$G$29:$G$58,0))*1,\"\")","v":""},null,0,0,0]
[null,null,null,{"$f":"IFERROR(INDEX(Brief!$AO$29:$AO$63,MATCH(C309,Brief!$G$29:$G$58,0))*1,\"\")","v":""},null,0,0,0]
[null,null,null,{"$f":"IFERROR(INDEX(Brief!$AO$29:$AO$63,MATCH(C310,Brief!$G$29:$G$58,0))*1,\"\")","v":""},null,0,0,0]
[null,null,null,{"$f":"IFERROR(INDEX(Brief!$AO$29:$AO$63,MATCH(C311,Brief!$G$29:$G$58,0))*1,\"\")","v":""},null,0,0,0]
[null,null,null,{"$f":"IFERROR(INDEX(Brief!$AO$29:$AO$63,MATCH(C312,Brief!$G$29:$G$58,0))*1,\"\")","v":""},null,0,0,0]
[null,null,null,{"$f":"IFERROR(INDEX(Brief!$AO$29:$AO$63,MATCH(C313,Brief!$G$29:$G$58,0))*1,\"\")","v":""},null,0,0,0]
[null,null,null,{"$f":"IFERROR(INDEX(Brief!$AO$29:$AO$63,MATCH(C314,Brief!$G$29:$G$58,0))*1,\"\")","v":""},null,0,0,0]
[null,null,null,{"$f":"IFERROR(INDEX(Brief!$AO$29:$AO$63,MATCH(C315,Brief!$G$29:$G$58,0))*1,\"\")","v":""},null,0,0,0]
[null,null,null,{"$f":"IFERROR(INDEX(Brief!$AO$29:$AO$63,MATCH(C316,Brief!$G$29:$G$58,0))*1,\"\")","v":""},null,0,0,0]
[null,null,null,{"$f":"IFERROR(INDEX(Brief!$AO$29:$AO$63,MATCH(C317,Brief!$G$29:$G$58,0))*1,\"\")","v":""},null,0,0,0]
[null,null,null,{"$f":"IFERROR(INDEX(Brief!$AO$29:$AO$63,MATCH(C318,Brief!$G$29:$G$58,0))*1,\"\")","v":""},null,0,0,0]
[null,null,null,{"$f":"IFERROR(INDEX(Brief!$AO$29:$AO$63,MATCH(C319,Brief!$G$29:$G$58,0))*1,\"\")","v":""},null,0,0,0]
[null,null,null,{"$f":"IFERROR(INDEX(Brief!$AO$29:$AO$63,MATCH(C320,Brief!$G$29:$G$58,0))*1,\"\")","v":""},null,0,0,0]
[null,null,null,{"$f":"IFERROR(INDEX(Brief!$AO$29:$AO$63,MATCH(C321,Brief!$G$29:$G$58,0))*1,\"\")","v":""},null,0,0,0]
[null,null,null,{"$f":"IFERROR(INDEX(Brief!$AO$29:$AO$63,MATCH(C322,Brief!$G$29:$G$58,0))*1,\"\")","v":""},null,0,0,0]
[null,null,null,{"$f":"IFERROR(INDEX(Brief!$AO$29:$AO$63,MATCH(C323,Brief!$G$29:$G$58,0))*1,\"\")","v":""},null,0,0,0]
[null,null,null,{"$f":"IFERROR(INDEX(Brief!$AO$29:$AO$63,MATCH(C324,Brief!$G$29:$G$58,0))*1,\"\")","v":""},null,{"$f":"B324","v":0},{"$f":"SUMIF(B:B,F324,D:D)","v":0},{"$f":"IF(G324>0,1,0)","v":0}]
[null,null,null,{"$f":"IFERROR(INDEX(Brief!$AO$29:$AO$63,MATCH(C325,Brief!$G$29:$G$58,0))*1,\"\")","v":""},null,0,0,0]
[null,null,null,{"$f":"IFERROR(INDEX(Brief!$AO$29:$AO$63,MATCH(C326,Brief!$G$29:$G$58,0))*1,\"\")","v":""},null,0,0,0]
[null,null,null,{"$f":"IFERROR(INDEX(Brief!$AO$29:$AO$63,MATCH(C327,Brief!$G$29:$G$58,0))*1,\"\")","v":""},null,0,0,0]
[null,null,null,{"$f":"IFERROR(INDEX(Brief!$AO$29:$AO$63,MATCH(C328,Brief!$G$29:$G$58,0))*1,\"\")","v":""},null,0,0,0]
[null,null,null,{"$f":"IFERROR(INDEX(Brief!$AO$29:$AO$63,MATCH(C329,Brief!$G$29:$G$58,0))*1,\"\")","v":""},null,0,0,0]
[null,null,null,{"$f":"IFERROR(INDEX(Brief!$AO$29:$AO$63,MATCH(C330,Brief!$G$29:$G$58,0))*1,\"\")","v":""},null,0,0,0]
[null,null,null,{"$f":"IFERROR(INDEX(Brief!$AO$29:$AO$63,MATCH(C331,Brief!$G$29:$G$58,0))*1,\"\")","v":""},null,0,0,0]
[null,null,null,{"$f":"IFERROR(INDEX(Brief!$AO$29:$AO$63,MATCH(C332,Brief!$G$29:$G$58,0))*1,\"\")","v":""},null,0,0,0]
[null,null,null,{"$f":"IFERROR(INDEX(Brief!$AO$29:$AO$63,MATCH(C333,Brief!$G$29:$G$58,0))*1,\"\")","v":""},null,0,0,0]
[null,null,null,{"$f":"IFERROR(INDEX(Brief!$AO$29:$AO$63,MATCH(C334,Brief!$G$29:$G$58,0))*1,\"\")","v":""},null,0,0,0]
[null,null,null,{"$f":"IFERROR(INDEX(Brief!$AO$29:$AO$63,MATCH(C335,Brief!$G$29:$G$58,0))*1,\"\")","v":""},null,0,0,0]
[null,null,null,{"$f":"IFERROR(INDEX(Brief!$AO$29:$AO$63,MATCH(C336,Brief!$G$29:$G$58,0))*1,\"\")","v":""},null,0,0,0]
[null,null,null,{"$f":"IFERROR(INDEX(Brief!$AO$29:$AO$63,MATCH(C337,Brief!$G$29:$G$58,0))*1,\"\")","v":""},null,0,0,0]
[null,null,null,{"$f":"IFERROR(INDEX(Brief!$AO$29:$AO$63,MATCH(C338,Brief!$G$29:$G$58,0))*1,\"\")","v":""},null,0,0,0]
[null,null,null,{"$f":"IFERROR(INDEX(Brief!$AO$29:$AO$63,MATCH(C339,Brief!$G$29:$G$58,0))*1,\"\")","v":""},null,0,0,0]
[null,null,null,{"$f":"IFERROR(INDEX(Brief!$AO$29:$AO$63,MATCH(C340,Brief!$G$29:$G$58,0))*1,\"\")","v":""},null,0,0,0]
[null,null,null,{"$f":"IFERROR(INDEX(Brief!$AO$29:$AO$63,MATCH(C341,Brief!$G$29:$G$58,0))*1,\"\")","v":""},null,0,0,0]
[null,null,null,{"$f":"IFERROR(INDEX(Brief!$AO$29:$AO$63,MATCH(C342,Brief!$G$29:$G$58,0))*1,\"\")","v":""},null,0,0,0]
[null,null,null,{"$f":"IFERROR(INDEX(Brief!$AO$29:$AO$63,MATCH(C343,Brief!$G$29:$G$58,0))*1,\"\")","v":""},null,0,0,0]
[null,null,null,{"$f":"IFERROR(INDEX(Brief!$AO$29:$AO$63,MATCH(C344,Brief!$G$29:$G$58,0))*1,\"\")","v":""},null,0,0,0]
[null,null,null,{"$f":"IFERROR(INDEX(Brief!$AO$29:$AO$63,MATCH(C345,Brief!$G$29:$G$58,0))*1,\"\")","v":""},null,0,0,0]
[null,null,null,{"$f":"IFERROR(INDEX(Brief!$AO$29:$AO$63,MATCH(C346,Brief!$G$29:$G$58,0))*1,\"\")","v":""},null,0,0,0]
[null,null,null,{"$f":"IFERROR(INDEX(Brief!$AO$29:$AO$63,MATCH(C347,Brief!$G$29:$G$58,0))*1,\"\")","v":""},null,0,0,0]
[null,null,null,{"$f":"IFERROR(INDEX(Brief!$AO$29:$AO$63,MATCH(C348,Brief!$G$29:$G$58,0))*1,\"\")","v":""},null,0,0,0]
[null,null,null,{"$f":"IFERROR(INDEX(Brief!$AO$29:$AO$63,MATCH(C349,Brief!$G$29:$G$58,0))*1,\"\")","v":""},null,0,0,0]
[null,null,null,{"$f":"IFERROR(INDEX(Brief!$AO$29:$AO$63,MATCH(C350,Brief!$G$29:$G$58,0))*1,\"\")","v":""},null,0,0,0]
[null,null,null,{"$f":"IFERROR(INDEX(Brief!$AO$29:$AO$63,MATCH(C351,Brief!$G$29:$G$58,0))*1,\"\")","v":""},null,0,0,0]
[null,null,null,{"$f":"IFERROR(INDEX(Brief!$AO$29:$AO$63,MATCH(C352,Brief!$G$29:$G$58,0))*1,\"\")","v":""},null,0,0,0]
[null,null,null,{"$f":"IFERROR(INDEX(Brief!$AO$29:$AO$63,MATCH(C353,Brief!$G$29:$G$58,0))*1,\"\")","v":""},null,0,0,0]
[null,null,null,{"$f":"IFERROR(INDEX(Brief!$AO$29:$AO$63,MATCH(C354,Brief!$G$29:$G$58,0))*1,\"\")","v":""},null,0,0,0]
[null,null,null,{"$f":"IFERROR(INDEX(Brief!$AO$29:$AO$63,MATCH(C355,Brief!$G$29:$G$58,0))*1,\"\")","v":""},null,0,0,0]
[null,null,null,{"$f":"IFERROR(INDEX(Brief!$AO$29:$AO$63,MATCH(C356,Brief!$G$29:$G$58,0))*1,\"\")","v":""},null,0,0,0]
[null,null,null,{"$f":"IFERROR(INDEX(Brief!$AO$29:$AO$63,MATCH(C357,Brief!$G$29:$G$58,0))*1,\"\")","v":""},null,0,0,0]
[null,null,null,{"$f":"IFERROR(INDEX(Brief!$AO$29:$AO$63,MATCH(C358,Brief!$G$29:$G$58,0))*1,\"\")","v":""},null,0,0,0]
[null,null,null,{"$f":"IFERROR(INDEX(Brief!$AO$29:$AO$63,MATCH(C359,Brief!$G$29:$G$58,0))*1,\"\")","v":""},null,0,0,0]
[null,null,null,{"$f":"IFERROR(INDEX(Brief!$AO$29:$AO$63,MATCH(C360,Brief!$G$29:$G$58,0))*1,\"\")","v":""},null,0,0,0]
[null,null,null,{"$f":"IFERROR(INDEX(Brief!$AO$29:$AO$63,MATCH(C361,Brief!$G$29:$G$58,0))*1,\"\")","v":""},null,0,0,0]
[null,null,null,{"$f":"IFERROR(INDEX(Brief!$AO$29:$AO$63,MATCH(C362,Brief!$G$29:$G$58,0))*1,\"\")","v":""},null,0,0,0]
[null,null,null,{"$f":"IFERROR(INDEX(Brief!$AO$29:$AO$63,MATCH(C363,Brief!$G$29:$G$58,0))*1,\"\")","v":""},null,0,0,0]
[null,null,null,{"$f":"IFERROR(INDEX(Brief!$AO$29:$AO$63,MATCH(C364,Brief!$G$29:$G$58,0))*1,\"\")","v":""},null,0,0,0]
[null,null,null,{"$f":"IFERROR(INDEX(Brief!$AO$29:$AO$63,MATCH(C365,Brief!$G$29:$G$58,0))*1,\"\")","v":""},null,0,0,0]
[null,null,null,{"$f":"IFERROR(INDEX(Brief!$AO$29:$AO$63,MATCH(C366,Brief!$G$29:$G$58,0))*1,\"\")","v":""},null,0,0,0]
[null,null,null,{"$f":"IFERROR(INDEX(Brief!$AO$29:$AO$63,MATCH(C367,Brief!$G$29:$G$58,0))*1,\"\")","v":""},null,0,0,0]
[null,null,null,{"$f":"IFERROR(INDEX(Brief!$AO$29:$AO$63,MATCH(C368,Brief!$G$29:$G$58,0))*1,\"\")","v":""},null,0,0,0]
[null,null,null,{"$f":"IFERROR(INDEX(Brief!$AO$29:$AO$63,MATCH(C369,Brief!$G$29:$G$58,0))*1,\"\")","v":""},null,0,0,0]
[null,null,null,{"$f":"IFERROR(INDEX(Brief!$AO$29:$AO$63,MATCH(C370,Brief!$G$29:$G$58,0))*1,\"\")","v":""},null,0,0,0]
[null,null,null,{"$f":"IFERROR(INDEX(Brief!$AO$29:$AO$63,MATCH(C371,Brief!$G$29:$G$58,0))*1,\"\")","v":""},null,0,0,0]
[null,null,null,{"$f":"IFERROR(INDEX(Brief!$AO$29:$AO$63,MATCH(C372,Brief!$G$29:$G$58,0))*1,\"\")","v":""},null,0,0,0]
[null,null,null,{"$f":"IFERROR(INDEX(Brief!$AO$29:$AO$63,MATCH(C373,Brief!$G$29:$G$58,0))*1,\"\")","v":""},null,0,0,0]
[null,null,null,{"$f":"IFERROR(INDEX(Brief!$AO$29:$AO$63,MATCH(C374,Brief!$G$29:$G$58,0))*1,\"\")","v":""},null,0,0,0]
[null,null,null,{"$f":"IFERROR(INDEX(Brief!$AO$29:$AO$63,MATCH(C375,Brief!$G$29:$G$58,0))*1,\"\")","v":""},null,0,0,0]
[null,null,null,{"$f":"IFERROR(INDEX(Brief!$AO$29:$AO$63,MATCH(C376,Brief!$G$29:$G$58,0))*1,\"\")","v":""},null,0,0,0]
[null,null,null,{"$f":"IFERROR(INDEX(Brief!$AO$29:$AO$63,MATCH(C377,Brief!$G$29:$G$58,0))*1,\"\")","v":""},null,0,0,0]
[null,null,null,{"$f":"IFERROR(INDEX(Brief!$AO$29:$AO$63,MATCH(C378,Brief!$G$29:$G$58,0))*1,\"\")","v":""},null,0,0,0]
[null,null,null,{"$f":"IFERROR(INDEX(Brief!$AO$29:$AO$63,MATCH(C379,Brief!$G$29:$G$58,0))*1,\"\")","v":""},null,0,0,0]
[null,null,null,{"$f":"IFERROR(INDEX(Brief!$AO$29:$AO$63,MATCH(C380,Brief!$G$29:$G$58,0))*1,\"\")","v":""},null,0,0,0]
[null,null,null,{"$f":"IFERROR(INDEX(Brief!$AO$29:$AO$63,MATCH(C381,Brief!$G$29:$G$58,0))*1,\"\")","v":""},null,0,0,0]
[null,null,null,{"$f":"IFERROR(INDEX(Brief!$AO$29:$AO$63,MATCH(C382,Brief!$G$29:$G$58,0))*1,\"\")","v":""},null,0,0,0]
[null,null,null,{"$f":"IFERROR(INDEX(Brief!$AO$29:$AO$63,MATCH(C383,Brief!$G$29:$G$58,0))*1,\"\")","v":""},null,0,0,0]
[null,null,null,{"$f":"IFERROR(INDEX(Brief!$AO$29:$AO$63,MATCH(C384,Brief!$G$29:$G$58,0))*1,\"\")","v":""},null,0,0,0]
[null,null,null,{"$f":"IFERROR(INDEX(Brief!$AO$29:$AO$63,MATCH(C385,Brief!$G$29:$G$58,0))*1,\"\")","v":""},null,0,0,0]
[null,null,null,{"$f":"IFERROR(INDEX(Brief!$AO$29:$AO$63,MATCH(C386,Brief!$G$29:$G$58,0))*1,\"\")","v":""},null,0,0,0]
[null,null,null,{"$f":"IFERROR(INDEX(Brief!$AO$29:$AO$63,MATCH(C387,Brief!$G$29:$G$58,0))*1,\"\")","v":""},null,0,0,0]
[null,null,null,{"$f":"IFERROR(INDEX(Brief!$AO$29:$AO$63,MATCH(C388,Brief!$G$29:$G$58,0))*1,\"\")","v":""},null,{"$f":"B388","v":0},{"$f":"SUMIF(B:B,F388,D:D)","v":0},{"$f":"IF(G388>0,1,0)","v":0}]
[null,null,null,{"$f":"IFERROR(INDEX(Brief!$AO$29:$AO$63,MATCH(C389,Brief!$G$29:$G$58,0))*1,\"\")","v":""},null,0,0,0]
[null,null,null,{"$f":"IFERROR(INDEX(Brief!$AO$29:$AO$63,MATCH(C390,Brief!$G$29:$G$58,0))*1,\"\")","v":""},null,0,0,0]
[null,null,null,{"$f":"IFERROR(INDEX(Brief!$AO$29:$AO$63,MATCH(C391,Brief!$G$29:$G$58,0))*1,\"\")","v":""},null,0,0,0]
[null,null,null,{"$f":"IFERROR(INDEX(Brief!$AO$29:$AO$63,MATCH(C392,Brief!$G$29:$G$58,0))*1,\"\")","v":""},null,0,0,0]
[null,null,null,{"$f":"IFERROR(INDEX(Brief!$AO$29:$AO$63,MATCH(C393,Brief!$G$29:$G$58,0))*1,\"\")","v":""},null,0,0,0]
[null,null,null,{"$f":"IFERROR(INDEX(Brief!$AO$29:$AO$63,MATCH(C394,Brief!$G$29:$G$58,0))*1,\"\")","v":""},null,0,0,0]
[null,null,null,{"$f":"IFERROR(INDEX(Brief!$AO$29:$AO$63,MATCH(C395,Brief!$G$29:$G$58,0))*1,\"\")","v":""},null,0,0,0]
[null,null,null,{"$f":"IFERROR(INDEX(Brief!$AO$29:$AO$63,MATCH(C396,Brief!$G$29:$G$58,0))*1,\"\")","v":""},null,0,0,0]
[null,null,null,{"$f":"IFERROR(INDEX(Brief!$AO$29:$AO$63,MATCH(C397,Brief!$G$29:$G$58,0))*1,\"\")","v":""},null,0,0,0]
[null,null,null,{"$f":"IFERROR(INDEX(Brief!$AO$29:$AO$63,MATCH(C398,Brief!$G$29:$G$58,0))*1,\"\")","v":""},null,0,0,0]
[null,null,null,{"$f":"IFERROR(INDEX(Brief!$AO$29:$AO$63,MATCH(C399,Brief!$G$29:$G$58,0))*1,\"\")","v":""},null,0,0,0]
[null,null,null,{"$f":"IFERROR(INDEX(Brief!$AO$29:$AO$63,MATCH(C400,Brief!$G$29:$G$58,0))*1,\"\")","v":""},null,0,0,0]
[null,null,null,{"$f":"IFERROR(INDEX(Brief!$AO$29:$AO$63,MATCH(C401,Brief!$G$29:$G$58,0))*1,\"\")","v":""},null,0,0,0]
[null,null,null,{"$f":"IFERROR(INDEX(Brief!$AO$29:$AO$63,MATCH(C402,Brief!$G$29:$G$58,0))*1,\"\")","v":""},null,0,0,0]
[null,null,null,{"$f":"IFERROR(INDEX(Brief!$AO$29:$AO$63,MATCH(C403,Brief!$G$29:$G$58,0))*1,\"\")","v":""},null,0,0,0]
[null,null,null,{"$f":"IFERROR(INDEX(Brief!$AO$29:$AO$63,MATCH(C404,Brief!$G$29:$G$58,0))*1,\"\")","v":""},null,0,0,0]
[null,null,null,{"$f":"IFERROR(INDEX(Brief!$AO$29:$AO$63,MATCH(C405,Brief!$G$29:$G$58,0))*1,\"\")","v":""},null,0,0,0]
[null,null,null,{"$f":"IFERROR(INDEX(Brief!$AO$29:$AO$63,MATCH(C406,Brief!$G$29:$G$58,0))*1,\"\")","v":""},null,0,0,0]
[null,null,null,{"$f":"IFERROR(INDEX(Brief!$AO$29:$AO$63,MATCH(C407,Brief!$G$29:$G$58,0))*1,\"\")","v":""},null,0,0,0]
[null,null,null,{"$f":"IFERROR(INDEX(Brief!$AO$29:$AO$63,MATCH(C408,Brief!$G$29:$G$58,0))*1,\"\")","v":""},null,0,0,0]
[null,null,null,{"$f":"IFERROR(INDEX(Brief!$AO$29:$AO$63,MATCH(C409,Brief!$G$29:$G$58,0))*1,\"\")","v":""},null,0,0,0]
[null,null,null,{"$f":"IFERROR(INDEX(Brief!$AO$29:$AO$63,MATCH(C410,Brief!$G$29:$G$58,0))*1,\"\")","v":""},null,0,0,0]
[null,null,null,{"$f":"IFERROR(INDEX(Brief!$AO$29:$AO$63,MATCH(C411,Brief!$G$29:$G$58,0))*1,\"\")","v":""},null,0,0,0]
[null,null,null,{"$f":"IFERROR(INDEX(Brief!$AO$29:$AO$63,MATCH(C412,Brief!$G$29:$G$58,0))*1,\"\")","v":""},null,0,0,0]
[null,null,null,{"$f":"IFERROR(INDEX(Brief!$AO$29:$AO$63,MATCH(C413,Brief!$G$29:$G$58,0))*1,\"\")","v":""},null,0,0,0]
[null,null,null,{"$f":"IFERROR(INDEX(Brief!$AO$29:$AO$63,MATCH(C414,Brief!$G$29:$G$58,0))*1,\"\")","v":""},null,0,0,0]
[null,null,null,{"$f":"IFERROR(INDEX(Brief!$AO$29:$AO$63,MATCH(C415,Brief!$G$29:$G$58,0))*1,\"\")","v":""},null,0,0,0]
[null,null,null,{"$f":"IFERROR(INDEX(Brief!$AO$29:$AO$63,MATCH(C416,Brief!$G$29:$G$58,0))*1,\"\")","v":""},null,0,0,0]
[null,null,null,{"$f":"IFERROR(INDEX(Brief!$AO$29:$AO$63,MATCH(C417,Brief!$G$29:$G$58,0))*1,\"\")","v":""},null,0,0,0]
[null,null,null,{"$f":"IFERROR(INDEX(Brief!$AO$29:$AO$63,MATCH(C418,Brief!$G$29:$G$58,0))*1,\"\")","v":""},null,0,0,0]
[null,null,null,{"$f":"IFERROR(INDEX(Brief!$AO$29:$AO$63,MATCH(C419,Brief!$G$29:$G$58,0))*1,\"\")","v":""},null,0,0,0]
[null,null,null,{"$f":"IFERROR(INDEX(Brief!$AO$29:$AO$63,MATCH(C420,Brief!$G$29:$G$58,0))*1,\"\")","v":""},null,0,0,0]
[null,null,null,{"$f":"IFERROR(INDEX(Brief!$AO$29:$AO$63,MATCH(C421,Brief!$G$29:$G$58,0))*1,\"\")","v":""},null,0,0,0]
[null,null,null,{"$f":"IFERROR(INDEX(Brief!$AO$29:$AO$63,MATCH(C422,Brief!$G$29:$G$58,0))*1,\"\")","v":""},null,0,0,0]
[null,null,null,{"$f":"IFERROR(INDEX(Brief!$AO$29:$AO$63,MATCH(C423,Brief!$G$29:$G$58,0))*1,\"\")","v":""},null,0,0,0]
[null,null,null,{"$f":"IFERROR(INDEX(Brief!$AO$29:$AO$63,MATCH(C424,Brief!$G$29:$G$58,0))*1,\"\")","v":""},null,0,0,0]
[null,null,null,{"$f":"IFERROR(INDEX(Brief!$AO$29:$AO$63,MATCH(C425,Brief!$G$29:$G$58,0))*1,\"\")","v":""},null,0,0,0]
[null,null,null,{"$f":"IFERROR(INDEX(Brief!$AO$29:$AO$63,MATCH(C426,Brief!$G$29:$G$58,0))*1,\"\")","v":""},null,0,0,0]
[null,null,null,{"$f":"IFERROR(INDEX(Brief!$AO$29:$AO$63,MATCH(C427,Brief!$G$29:$G$58,0))*1,\"\")","v":""},null,0,0,0]
[null,null,null,{"$f":"IFERROR(INDEX(Brief!$AO$29:$AO$63,MATCH(C428,Brief!$G$29:$G$58,0))*1,\"\")","v":""},null,0,0,0]
[null,null,null,{"$f":"IFERROR(INDEX(Brief!$AO$29:$AO$63,MATCH(C429,Brief!$G$29:$G$58,0))*1,\"\")","v":""},null,0,0,0]
[null,null,null,{"$f":"IFERROR(INDEX(Brief!$AO$29:$AO$63,MATCH(C430,Brief!$G$29:$G$58,0))*1,\"\")","v":""},null,0,0,0]
[null,null,null,{"$f":"IFERROR(INDEX(Brief!$AO$29:$AO$63,MATCH(C431,Brief!$G$29:$G$58,0))*1,\"\")","v":""},null,0,0,0]
[null,null,null,{"$f":"IFERROR(INDEX(Brief!$AO$29:$AO$63,MATCH(C432,Brief!$G$29:$G$58,0))*1,\"\")","v":""},null,0,0,0]
[null,null,null,{"$f":"IFERROR(INDEX(Brief!$AO$29:$AO$63,MATCH(C433,Brief!$G$29:$G$58,0))*1,\"\")","v":""},null,0,0,0]
[null,null,null,{"$f":"IFERROR(INDEX(Brief!$AO$29:$AO$63,MATCH(C434,Brief!$G$29:$G$58,0))*1,\"\")","v":""},null,0,0,0]
[null,null,null,{"$f":"IFERROR(INDEX(Brief!$AO$29:$AO$63,MATCH(C435,Brief!$G$29:$G$58,0))*1,\"\")","v":""},null,0,0,0]
[null,null,null,{"$f":"IFERROR(INDEX(Brief!$AO$29:$AO$63,MATCH(C436,Brief!$G$29:$G$58,0))*1,\"\")","v":""},null,0,0,0]
[null,null,null,{"$f":"IFERROR(INDEX(Brief!$AO$29:$AO$63,MATCH(C437,Brief!$G$29:$G$58,0))*1,\"\")","v":""},null,0,0,0]
[null,null,null,{"$f":"IFERROR(INDEX(Brief!$AO$29:$AO$63,MATCH(C438,Brief!$G$29:$G$58,0))*1,\"\")","v":""},null,0,0,0]
[null,null,null,{"$f":"IFERROR(INDEX(Brief!$AO$29:$AO$63,MATCH(C439,Brief!$G$29:$G$58,0))*1,\"\")","v":""},null,0,0,0]
[null,null,null,{"$f":"IFERROR(INDEX(Brief!$AO$29:$AO$63,MATCH(C440,Brief!$G$29:$G$58,0))*1,\"\")","v":""},null,0,0,0]
[null,null,null,{"$f":"IFERROR(INDEX(Brief!$AO$29:$AO$63,MATCH(C441,Brief!$G$29:$G$58,0))*1,\"\")","v":""},null,0,0,0]
[null,null,null,{"$f":"IFERROR(INDEX(Brief!$AO$29:$AO$63,MATCH(C442,Brief!$G$29:$G$58,0))*1,\"\")","v":""},null,0,0,0]
[null,null,null,{"$f":"IFERROR(INDEX(Brief!$AO$29:$AO$63,MATCH(C443,Brief!$G$29:$G$58,0))*1,\"\")","v":""},null,0,0,0]
[null,null,null,{"$f":"IFERROR(INDEX(Brief!$AO$29:$AO$63,MATCH(C444,Brief!$G$29:$G$58,0))*1,\"\")","v":""},null,0,0,0]
[null,null,null,{"$f":"IFERROR(INDEX(Brief!$AO$29:$AO$63,MATCH(C445,Brief!$G$29:$G$58,0))*1,\"\")","v":""},null,0,0,0]
[null,null,null,{"$f":"IFERROR(INDEX(Brief!$AO$29:$AO$63,MATCH(C446,Brief!$G$29:$G$58,0))*1,\"\")","v":""},null,0,0,0]
[null,null,null,{"$f":"IFERROR(INDEX(Brief!$AO$29:$AO$63,MATCH(C447,Brief!$G$29:$G$58,0))*1,\"\")","v":""},null,0,0,0]
[null,null,null,{"$f":"IFERROR(INDEX(Brief!$AO$29:$AO$63,MATCH(C448,Brief!$G$29:$G$58,0))*1,\"\")","v":""},null,0,0,0]
[null,null,null,{"$f":"IFERROR(INDEX(Brief!$AO$29:$AO$63,MATCH(C449,Brief!$G$29:$G$58,0))*1,\"\")","v":""},null,0,0,0]
[null,null,null,{"$f":"IFERROR(INDEX(Brief!$AO$29:$AO$63,MATCH(C450,Brief!$G$29:$G$58,0))*1,\"\")","v":""},null,0,0,0]
[null,null,null,{"$f":"IFERROR(INDEX(Brief!$AO$29:$AO$63,MATCH(C451,Brief!$G$29:$G$58,0))*1,\"\")","v":""},null,0,0,0]
[null,null,null,{"$f":"IFERROR(INDEX(Brief!$AO$29:$AO$63,MATCH(C452,Brief!$G$29:$G$58,0))*1,\"\")","v":""},null,{"$f":"B452","v":0},{"$f":"SUMIF(B:B,F452,D:D)","v":0},{"$f":"IF(G452>0,1,0)","v":0}]
[null,null,null,{"$f":"IFERROR(INDEX(Brief!$AO$29:$AO$63,MATCH(C453,Brief!$G$29:$G$58,0))*1,\"\")","v":""},null,0,0,0]
[null,null,null,{"$f":"IFERROR(INDEX(Brief!$AO$29:$AO$63,MATCH(C454,Brief!$G$29:$G$58,0))*1,\"\")","v":""},null,0,0,0]
[null,null,null,{"$f":"IFERROR(INDEX(Brief!$AO$29:$AO$63,MATCH(C455,Brief!$G$29:$G$58,0))*1,\"\")","v":""},null,0,0,0]
[null,null,null,{"$f":"IFERROR(INDEX(Brief!$AO$29:$AO$63,MATCH(C456,Brief!$G$29:$G$58,0))*1,\"\")","v":""},null,0,0,0]
[null,null,null,{"$f":"IFERROR(INDEX(Brief!$AO$29:$AO$63,MATCH(C457,Brief!$G$29:$G$58,0))*1,\"\")","v":""},null,0,0,0]
[null,null,null,{"$f":"IFERROR(INDEX(Brief!$AO$29:$AO$63,MATCH(C458,Brief!$G$29:$G$58,0))*1,\"\")","v":""},null,0,0,0]
[null,null,null,{"$f":"IFERROR(INDEX(Brief!$AO$29:$AO$63,MATCH(C459,Brief!$G$29:$G$58,0))*1,\"\")","v":""},null,0,0,0]
[null,null,null,{"$f":"IFERROR(INDEX(Brief!$AO$29:$AO$63,MATCH(C460,Brief!$G$29:$G$58,0))*1,\"\")","v":""},null,0,0,0]
[null,null,null,{"$f":"IFERROR(INDEX(Brief!$AO$29:$AO$63,MATCH(C461,Brief!$G$29:$G$58,0))*1,\"\")","v":""},null,0,0,0]
[null,null,null,{"$f":"IFERROR(INDEX(Brief!$AO$29:$AO$63,MATCH(C462,Brief!$G$29:$G$58,0))*1,\"\")","v":""},null,0,0,0]
[null,null,null,{"$f":"IFERROR(INDEX(Brief!$AO$29:$AO$63,MATCH(C463,Brief!$G$29:$G$58,0))*1,\"\")","v":""},null,0,0,0]
[null,null,null,{"$f":"IFERROR(INDEX(Brief!$AO$29:$AO$63,MATCH(C464,Brief!$G$29:$G$58,0))*1,\"\")","v":""},null,0,0,0]
[null,null,null,{"$f":"IFERROR(INDEX(Brief!$AO$29:$AO$63,MATCH(C465,Brief!$G$29:$G$58,0))*1,\"\")","v":""},null,0,0,0]
[null,null,null,{"$f":"IFERROR(INDEX(Brief!$AO$29:$AO$63,MATCH(C466,Brief!$G$29:$G$58,0))*1,\"\")","v":""},null,0,0,0]
[null,null,null,{"$f":"IFERROR(INDEX(Brief!$AO$29:$AO$63,MATCH(C467,Brief!$G$29:$G$58,0))*1,\"\")","v":""},null,0,0,0]
[null,null,null,{"$f":"IFERROR(INDEX(Brief!$AO$29:$AO$63,MATCH(C468,Brief!$G$29:$G$58,0))*1,\"\")","v":""},null,0,0,0]
[null,null,null,{"$f":"IFERROR(INDEX(Brief!$AO$29:$AO$63,MATCH(C469,Brief!$G$29:$G$58,0))*1,\"\")","v":""},null,0,0,0]
[null,null,null,{"$f":"IFERROR(INDEX(Brief!$AO$29:$AO$63,MATCH(C470,Brief!$G$29:$G$58,0))*1,\"\")","v":""},null,0,0,0]
[null,null,null,{"$f":"IFERROR(INDEX(Brief!$AO$29:$AO$63,MATCH(C471,Brief!$G$29:$G$58,0))*1,\"\")","v":""},null,0,0,0]
[null,null,null,{"$f":"IFERROR(INDEX(Brief!$AO$29:$AO$63,MATCH(C472,Brief!$G$29:$G$58,0))*1,\"\")","v":""},null,0,0,0]
[null,null,null,{"$f":"IFERROR(INDEX(Brief!$AO$29:$AO$63,MATCH(C473,Brief!$G$29:$G$58,0))*1,\"\")","v":""},null,0,0,0]
[null,null,null,{"$f":"IFERROR(INDEX(Brief!$AO$29:$AO$63,MATCH(C474,Brief!$G$29:$G$58,0))*1,\"\")","v":""},null,0,0,0]
[null,null,null,{"$f":"IFERROR(INDEX(Brief!$AO$29:$AO$63,MATCH(C475,Brief!$G$29:$G$58,0))*1,\"\")","v":""},null,0,0,0]
[null,null,null,{"$f":"IFERROR(INDEX(Brief!$AO$29:$AO$63,MATCH(C476,Brief!$G$29:$G$58,0))*1,\"\")","v":""},null,0,0,0]
[null,null,null,{"$f":"IFERROR(INDEX(Brief!$AO$29:$AO$63,MATCH(C477,Brief!$G$29:$G$58,0))*1,\"\")","v":""},null,0,0,0]
[null,null,null,{"$f":"IFERROR(INDEX(Brief!$AO$29:$AO$63,MATCH(C478,Brief!$G$29:$G$58,0))*1,\"\")","v":""},null,0,0,0]
[null,null,null,{"$f":"IFERROR(INDEX(Brief!$AO$29:$AO$63,MATCH(C479,Brief!$G$29:$G$58,0))*1,\"\")","v":""},null,0,0,0]
[null,null,null,{"$f":"IFERROR(INDEX(Brief!$AO$29:$AO$63,MATCH(C480,Brief!$G$29:$G$58,0))*1,\"\")","v":""},null,0,0,0]
[null,null,null,{"$f":"IFERROR(INDEX(Brief!$AO$29:$AO$63,MATCH(C481,Brief!$G$29:$G$58,0))*1,\"\")","v":""},null,0,0,0]
[null,null,null,{"$f":"IFERROR(INDEX(Brief!$AO$29:$AO$63,MATCH(C482,Brief!$G$29:$G$58,0))*1,\"\")","v":""},null,0,0,0]
[null,null,null,{"$f":"IFERROR(INDEX(Brief!$AO$29:$AO$63,MATCH(C483,Brief!$G$29:$G$58,0))*1,\"\")","v":""},null,0,0,0]
[null,null,null,{"$f":"IFERROR(INDEX(Brief!$AO$29:$AO$63,MATCH(C484,Brief!$G$29:$G$58,0))*1,\"\")","v":""},null,0,0,0]
[null,null,null,{"$f":"IFERROR(INDEX(Brief!$AO$29:$AO$63,MATCH(C485,Brief!$G$29:$G$58,0))*1,\"\")","v":""},null,0,0,0]
[null,null,null,{"$f":"IFERROR(INDEX(Brief!$AO$29:$AO$63,MATCH(C486,Brief!$G$29:$G$58,0))*1,\"\")","v":""},null,0,0,0]
[null,null,null,{"$f":"IFERROR(INDEX(Brief!$AO$29:$AO$63,MATCH(C487,Brief!$G$29:$G$58,0))*1,\"\")","v":""},null,0,0,0]
[null,null,null,{"$f":"IFERROR(INDEX(Brief!$AO$29:$AO$63,MATCH(C488,Brief!$G$29:$G$58,0))*1,\"\")","v":""},null,0,0,0]
[null,null,null,{"$f":"IFERROR(INDEX(Brief!$AO$29:$AO$63,MATCH(C489,Brief!$G$29:$G$58,0))*1,\"\")","v":""},null,0,0,0]
[null,null,null,{"$f":"IFERROR(INDEX(Brief!$AO$29:$AO$63,MATCH(C490,Brief!$G$29:$G$58,0))*1,\"\")","v":""},null,0,0,0]
[null,null,null,{"$f":"IFERROR(INDEX(Brief!$AO$29:$AO$63,MATCH(C491,Brief!$G$29:$G$58,0))*1,\"\")","v":""},null,0,0,0]
[null,null,null,{"$f":"IFERROR(INDEX(Brief!$AO$29:$AO$63,MATCH(C492,Brief!$G$29:$G$58,0))*1,\"\")","v":""},null,0,0,0]
[null,null,null,{"$f":"IFERROR(INDEX(Brief!$AO$29:$AO$63,MATCH(C493,Brief!$G$29:$G$58,0))*1,\"\")","v":""},null,0,0,0]
[null,null,null,{"$f":"IFERROR(INDEX(Brief!$AO$29:$AO$63,MATCH(C494,Brief!$G$29:$G$58,0))*1,\"\")","v":""},null,0,0,0]
[null,null,null,{"$f":"IFERROR(INDEX(Brief!$AO$29:$AO$63,MATCH(C495,Brief!$G$29:$G$58,0))*1,\"\")","v":""},null,0,0,0]
[null,null,null,{"$f":"IFERROR(INDEX(Brief!$AO$29:$AO$63,MATCH(C496,Brief!$G$29:$G$58,0))*1,\"\")","v":""},null,0,0,0]
[null,null,null,{"$f":"IFERROR(INDEX(Brief!$AO$29:$AO$63,MATCH(C497,Brief!$G$29:$G$58,0))*1,\"\")","v":""},null,0,0,0]
[null,null,null,{"$f":"IFERROR(INDEX(Brief!$AO$29:$AO$63,MATCH(C498,Brief!$G$29:$G$58,0))*1,\"\")","v":""},null,0,0,0]
[null,null,null,{"$f":"IFERROR(INDEX(Brief!$AO$29:$AO$63,MATCH(C499,Brief!$G$29:$G$58,0))*1,\"\")","v":""},null,0,0,0]
[null,null,null,{"$f":"IFERROR(INDEX(Brief!$AO$29:$AO$63,MATCH(C500,Brief!$G$29:$G$58,0))*1,\"\")","v":""},null,0,0,0]
[null,null,null,{"$f":"IFERROR(INDEX(Brief!$AO$29:$AO$63,MATCH(C501,Brief!$G$29:$G$58,0))*1,\"\")","v":""},null,0,0,0]
[null,null,null,{"$f":"IFERROR(INDEX(Brief!$AO$29:$AO$63,MATCH(C502,Brief!$G$29:$G$58,0))*1,\"\")","v":""},null,0,0,0]
[null,null,null,{"$f":"IFERROR(INDEX(Brief!$AO$29:$AO$63,MATCH(C503,Brief!$G$29:$G$58,0))*1,\"\")","v":""},null,0,0,0]
[null,null,null,{"$f":"IFERROR(INDEX(Brief!$AO$29:$AO$63,MATCH(C504,Brief!$G$29:$G$58,0))*1,\"\")","v":""},null,0,0,0]
[null,null,null,{"$f":"IFERROR(INDEX(Brief!$AO$29:$AO$63,MATCH(C505,Brief!$G$29:$G$58,0))*1,\"\")","v":""},null,0,0,0]
[null,null,null,{"$f":"IFERROR(INDEX(Brief!$AO$29:$AO$63,MATCH(C506,Brief!$G$29:$G$58,0))*1,\"\")","v":""},null,0,0,0]
[null,null,null,{"$f":"IFERROR(INDEX(Brief!$AO$29:$AO$63,MATCH(C507,Brief!$G$29:$G$58,0))*1,\"\")","v":""},null,0,0,0]
[null,null,null,{"$f":"IFERROR(INDEX(Brief!$AO$29:$AO$63,MATCH(C508,Brief!$G$29:$G$58,0))*1,\"\")","v":""},null,0,0,0]
[null,null,null,{"$f":"IFERROR(INDEX(Brief!$AO$29:$AO$63,MATCH(C509,Brief!$G$29:$G$58,0))*1,\"\")","v":""},null,0,0,0]
[null,null,null,{"$f":"IFERROR(INDEX(Brief!$AO$29:$AO$63,MATCH(C510,Brief!$G$29:$G$58,0))*1,\"\")","v":""},null,0,0,0]
[null,null,null,{"$f":"IFERROR(INDEX(Brief!$AO$29:$AO$63,MATCH(C511,Brief!$G$29:$G$58,0))*1,\"\")","v":""},null,0,0,0]
[null,null,null,{"$f":"IFERROR(INDEX(Brief!$AO$29:$AO$63,MATCH(C512,Brief!$G$29:$G$58,0))*1,\"\")","v":""},null,0,0,0]
[null,null,null,{"$f":"IFERROR(INDEX(Brief!$AO$29:$AO$63,MATCH(C513,Brief!$G$29:$G$58,0))*1,\"\")","v":""},null,0,0,0]
[null,null,null,{"$f":"IFERROR(INDEX(Brief!$AO$29:$AO$63,MATCH(C514,Brief!$G$29:$G$58,0))*1,\"\")","v":""},null,0,0,0]
[null,null,null,{"$f":"IFERROR(INDEX(Brief!$AO$29:$AO$63,MATCH(C515,Brief!$G$29:$G$58,0))*1,\"\")","v":""},null,0,0,0]
[null,null,null,{"$f":"IFERROR(INDEX(Brief!$AO$29:$AO$63,MATCH(C516,Brief!$G$29:$G$58,0))*1,\"\")","v":""},null,{"$f":"B516","v":0},{"$f":"SUMIF(B:B,F516,D:D)","v":0},{"$f":"IF(G516>0,1,0)","v":0}]
[null,null,null,{"$f":"IFERROR(INDEX(Brief!$AO$29:$AO$63,MATCH(C517,Brief!$G$29:$G$58,0))*1,\"\")","v":""},null,0,0,0]
[null,null,null,{"$f":"IFERROR(INDEX(Brief!$AO$29:$AO$63,MATCH(C518,Brief!$G$29:$G$58,0))*1,\"\")","v":""},null,0,0,0]
[null,null,null,{"$f":"IFERROR(INDEX(Brief!$AO$29:$AO$63,MATCH(C519,Brief!$G$29:$G$58,0))*1,\"\")","v":""},null,0,0,0]
[null,null,null,{"$f":"IFERROR(INDEX(Brief!$AO$29:$AO$63,MATCH(C520,Brief!$G$29:$G$58,0))*1,\"\")","v":""},null,0,0,0]
[null,null,null,{"$f":"IFERROR(INDEX(Brief!$AO$29:$AO$63,MATCH(C521,Brief!$G$29:$G$58,0))*1,\"\")","v":""},null,0,0,0]
[null,null,null,{"$f":"IFERROR(INDEX(Brief!$AO$29:$AO$63,MATCH(C522,Brief!$G$29:$G$58,0))*1,\"\")","v":""},null,0,0,0]
[null,null,null,{"$f":"IFERROR(INDEX(Brief!$AO$29:$AO$63,MATCH(C523,Brief!$G$29:$G$58,0))*1,\"\")","v":""},null,0,0,0]
[null,null,null,{"$f":"IFERROR(INDEX(Brief!$AO$29:$AO$63,MATCH(C524,Brief!$G$29:$G$58,0))*1,\"\")","v":""},null,0,0,0]
[null,null,null,{"$f":"IFERROR(INDEX(Brief!$AO$29:$AO$63,MATCH(C525,Brief!$G$29:$G$58,0))*1,\"\")","v":""},null,0,0,0]
[null,null,null,{"$f":"IFERROR(INDEX(Brief!$AO$29:$AO$63,MATCH(C526,Brief!$G$29:$G$58,0))*1,\"\")","v":""},null,0,0,0]
[null,null,null,{"$f":"IFERROR(INDEX(Brief!$AO$29:$AO$63,MATCH(C527,Brief!$G$29:$G$58,0))*1,\"\")","v":""},null,0,0,0]
[null,null,null,{"$f":"IFERROR(INDEX(Brief!$AO$29:$AO$63,MATCH(C528,Brief!$G$29:$G$58,0))*1,\"\")","v":""},null,0,0,0]
[null,null,null,{"$f":"IFERROR(INDEX(Brief!$AO$29:$AO$63,MATCH(C529,Brief!$G$29:$G$58,0))*1,\"\")","v":""},null,0,0,0]
[null,null,null,{"$f":"IFERROR(INDEX(Brief!$AO$29:$AO$63,MATCH(C530,Brief!$G$29:$G$58,0))*1,\"\")","v":""},null,0,0,0]
[null,null,null,{"$f":"IFERROR(INDEX(Brief!$AO$29:$AO$63,MATCH(C531,Brief!$G$29:$G$58,0))*1,\"\")","v":""},null,0,0,0]
[null,null,null,{"$f":"IFERROR(INDEX(Brief!$AO$29:$AO$63,MATCH(C532,Brief!$G$29:$G$58,0))*1,\"\")","v":""},null,0,0,0]
[null,null,null,{"$f":"IFERROR(INDEX(Brief!$AO$29:$AO$63,MATCH(C533,Brief!$G$29:$G$58,0))*1,\"\")","v":""},null,0,0,0]
[null,null,null,{"$f":"IFERROR(INDEX(Brief!$AO$29:$AO$63,MATCH(C534,Brief!$G$29:$G$58,0))*1,\"\")","v":""},null,0,0,0]
[null,null,null,{"$f":"IFERROR(INDEX(Brief!$AO$29:$AO$63,MATCH(C535,Brief!$G$29:$G$58,0))*1,\"\")","v":""},null,0,0,0]
[null,null,null,{"$f":"IFERROR(INDEX(Brief!$AO$29:$AO$63,MATCH(C536,Brief!$G$29:$G$58,0))*1,\"\")","v":""},null,0,0,0]
[null,null,null,{"$f":"IFERROR(INDEX(Brief!$AO$29:$AO$63,MATCH(C537,Brief!$G$29:$G$58,0))*1,\"\")","v":""},null,0,0,0]
[null,null,null,{"$f":"IFERROR(INDEX(Brief!$AO$29:$AO$63,MATCH(C538,Brief!$G$29:$G$58,0))*1,\"\")","v":""},null,0,0,0]
[null,null,null,{"$f":"IFERROR(INDEX(Brief!$AO$29:$AO$63,MATCH(C539,Brief!$G$29:$G$58,0))*1,\"\")","v":""},null,0,0,0]
[null,null,null,{"$f":"IFERROR(INDEX(Brief!$AO$29:$AO$63,MATCH(C540,Brief!$G$29:$G$58,0))*1,\"\")","v":""},null,0,0,0]
[null,null,null,{"$f":"IFERROR(INDEX(Brief!$AO$29:$AO$63,MATCH(C541,Brief!$G$29:$G$58,0))*1,\"\")","v":""},null,0,0,0]
[null,null,null,{"$f":"IFERROR(INDEX(Brief!$AO$29:$AO$63,MATCH(C542,Brief!$G$29:$G$58,0))*1,\"\")","v":""},null,0,0,0]
[null,null,null,{"$f":"IFERROR(INDEX(Brief!$AO$29:$AO$63,MATCH(C543,Brief!$G$29:$G$58,0))*1,\"\")","v":""},null,0,0,0]
[null,null,null,{"$f":"IFERROR(INDEX(Brief!$AO$29:$AO$63,MATCH(C544,Brief!$G$29:$G$58,0))*1,\"\")","v":""},null,0,0,0]
[null,null,null,{"$f":"IFERROR(INDEX(Brief!$AO$29:$AO$63,MATCH(C545,Brief!$G$29:$G$58,0))*1,\"\")","v":""},null,0,0,0]
[null,null,null,{"$f":"IFERROR(INDEX(Brief!$AO$29:$AO$63,MATCH(C546,Brief!$G$29:$G$58,0))*1,\"\")","v":""},null,0,0,0]
[null,null,null,{"$f":"IFERROR(INDEX(Brief!$AO$29:$AO$63,MATCH(C547,Brief!$G$29:$G$58,0))*1,\"\")","v":""},null,0,0,0]
[null,null,null,{"$f":"IFERROR(INDEX(Brief!$AO$29:$AO$63,MATCH(C548,Brief!$G$29:$G$58,0))*1,\"\")","v":""},null,0,0,0]
[null,null,null,{"$f":"IFERROR(INDEX(Brief!$AO$29:$AO$63,MATCH(C549,Brief!$G$29:$G$58,0))*1,\"\")","v":""},null,0,0,0]
[null,null,null,{"$f":"IFERROR(INDEX(Brief!$AO$29:$AO$63,MATCH(C550,Brief!$G$29:$G$58,0))*1,\"\")","v":""},null,0,0,0]
[null,null,null,{"$f":"IFERROR(INDEX(Brief!$AO$29:$AO$63,MATCH(C551,Brief!$G$29:$G$58,0))*1,\"\")","v":""},null,0,0,0]
[null,null,null,{"$f":"IFERROR(INDEX(Brief!$AO$29:$AO$63,MATCH(C552,Brief!$G$29:$G$58,0))*1,\"\")","v":""},null,0,0,0]
[null,null,null,{"$f":"IFERROR(INDEX(Brief!$AO$29:$AO$63,MATCH(C553,Brief!$G$29:$G$58,0))*1,\"\")","v":""},null,0,0,0]
[null,null,null,{"$f":"IFERROR(INDEX(Brief!$AO$29:$AO$63,MATCH(C554,Brief!$G$29:$G$58,0))*1,\"\")","v":""},null,0,0,0]
[null,null,null,{"$f":"IFERROR(INDEX(Brief!$AO$29:$AO$63,MATCH(C555,Brief!$G$29:$G$58,0))*1,\"\")","v":""},null,0,0,0]
[null,null,null,{"$f":"IFERROR(INDEX(Brief!$AO$29:$AO$63,MATCH(C556,Brief!$G$29:$G$58,0))*1,\"\")","v":""},null,0,0,0]
[null,null,null,{"$f":"IFERROR(INDEX(Brief!$AO$29:$AO$63,MATCH(C557,Brief!$G$29:$G$58,0))*1,\"\")","v":""},null,0,0,0]
[null,null,null,{"$f":"IFERROR(INDEX(Brief!$AO$29:$AO$63,MATCH(C558,Brief!$G$29:$G$58,0))*1,\"\")","v":""},null,0,0,0]
[null,null,null,{"$f":"IFERROR(INDEX(Brief!$AO$29:$AO$63,MATCH(C559,Brief!$G$29:$G$58,0))*1,\"\")","v":""},null,0,0,0]
[null,null,null,{"$f":"IFERROR(INDEX(Brief!$AO$29:$AO$63,MATCH(C560,Brief!$G$29:$G$58,0))*1,\"\")","v":""},null,0,0,0]
[null,null,null,{"$f":"IFERROR(INDEX(Brief!$AO$29:$AO$63,MATCH(C561,Brief!$G$29:$G$58,0))*1,\"\")","v":""},null,0,0,0]
[null,null,null,{"$f":"IFERROR(INDEX(Brief!$AO$29:$AO$63,MATCH(C562,Brief!$G$29:$G$58,0))*1,\"\")","v":""},null,0,0,0]
[null,null,null,{"$f":"IFERROR(INDEX(Brief!$AO$29:$AO$63,MATCH(C563,Brief!$G$29:$G$58,0))*1,\"\")","v":""},null,0,0,0]
[null,null,null,{"$f":"IFERROR(INDEX(Brief!$AO$29:$AO$63,MATCH(C564,Brief!$G$29:$G$58,0))*1,\"\")","v":""},null,0,0,0]
[null,null,null,{"$f":"IFERROR(INDEX(Brief!$AO$29:$AO$63,MATCH(C565,Brief!$G$29:$G$58,0))*1,\"\")","v":""},null,0,0,0]
[null,null,null,{"$f":"IFERROR(INDEX(Brief!$AO$29:$AO$63,MATCH(C566,Brief!$G$29:$G$58,0))*1,\"\")","v":""},null,0,0,0]
[null,null,null,{"$f":"IFERROR(INDEX(Brief!$AO$29:$AO$63,MATCH(C567,Brief!$G$29:$G$58,0))*1,\"\")","v":""},null,0,0,0]
[null,null,null,{"$f":"IFERROR(INDEX(Brief!$AO$29:$AO$63,MATCH(C568,Brief!$G$29:$G$58,0))*1,\"\")","v":""},null,0,0,0]
[null,null,null,{"$f":"IFERROR(INDEX(Brief!$AO$29:$AO$63,MATCH(C569,Brief!$G$29:$G$58,0))*1,\"\")","v":""},null,0,0,0]
[null,null,null,{"$f":"IFERROR(INDEX(Brief!$AO$29:$AO$63,MATCH(C570,Brief!$G$29:$G$58,0))*1,\"\")","v":""},null,0,0,0]
[null,null,null,{"$f":"IFERROR(INDEX(Brief!$AO$29:$AO$63,MATCH(C571,Brief!$G$29:$G$58,0))*1,\"\")","v":""},null,0,0,0]
[null,null,null,{"$f":"IFERROR(INDEX(Brief!$AO$29:$AO$63,MATCH(C572,Brief!$G$29:$G$58,0))*1,\"\")","v":""},null,0,0,0]
[null,null,null,{"$f":"IFERROR(INDEX(Brief!$AO$29:$AO$63,MATCH(C573,Brief!$G$29:$G$58,0))*1,\"\")","v":""},null,0,0,0]
[null,null,null,{"$f":"IFERROR(INDEX(Brief!$AO$29:$AO$63,MATCH(C574,Brief!$G$29:$G$58,0))*1,\"\")","v":""},null,0,0,0]
[null,null,null,{"$f":"IFERROR(INDEX(Brief!$AO$29:$AO$63,MATCH(C575,Brief!$G$29:$G$58,0))*1,\"\")","v":""},null,0,0,0]
[null,null,null,{"$f":"IFERROR(INDEX(Brief!$AO$29:$AO$63,MATCH(C576,Brief!$G$29:$G$58,0))*1,\"\")","v":""},null,0,0,0]
[null,null,null,{"$f":"IFERROR(INDEX(Brief!$AO$29:$AO$63,MATCH(C577,Brief!$G$29:$G$58,0))*1,\"\")","v":""},null,0,0,0]
[null,null,null,{"$f":"IFERROR(INDEX(Brief!$AO$29:$AO$63,MATCH(C578,Brief!$G$29:$G$58,0))*1,\"\")","v":""},null,0,0,0]
[null,null,null,{"$f":"IFERROR(INDEX(Brief!$AO$29:$AO$63,MATCH(C579,Brief!$G$29:$G$58,0))*1,\"\")","v":""},null,0,0,0]
[null,null,null,{"$f":"IFERROR(INDEX(Brief!$AO$29:$AO$63,MATCH(C580,Brief!$G$29:$G$58,0))*1,\"\")","v":""},null,{"$f":"B580","v":0},{"$f":"SUMIF(B:B,F580,D:D)","v":0},{"$f":"IF(G580>0,1,0)","v":0}]
[null,null,null,{"$f":"IFERROR(INDEX(Brief!$AO$29:$AO$63,MATCH(C581,Brief!$G$29:$G$58,0))*1,\"\")","v":""},null,0,0,0]
[null,null,null,{"$f":"IFERROR(INDEX(Brief!$AO$29:$AO$63,MATCH(C582,Brief!$G$29:$G$58,0))*1,\"\")","v":""},null,0,0,0]
[null,null,null,{"$f":"IFERROR(INDEX(Brief!$AO$29:$AO$63,MATCH(C583,Brief!$G$29:$G$58,0))*1,\"\")","v":""},null,0,0,0]
[null,null,null,{"$f":"IFERROR(INDEX(Brief!$AO$29:$AO$63,MATCH(C584,Brief!$G$29:$G$58,0))*1,\"\")","v":""},null,0,0,0]
[null,null,null,{"$f":"IFERROR(INDEX(Brief!$AO$29:$AO$63,MATCH(C585,Brief!$G$29:$G$58,0))*1,\"\")","v":""},null,0,0,0]
[null,null,null,{"$f":"IFERROR(INDEX(Brief!$AO$29:$AO$63,MATCH(C586,Brief!$G$29:$G$58,0))*1,\"\")","v":""},null,0,0,0]
[null,null,null,{"$f":"IFERROR(INDEX(Brief!$AO$29:$AO$63,MATCH(C587,Brief!$G$29:$G$58,0))*1,\"\")","v":""},null,0,0,0]
[null,null,null,{"$f":"IFERROR(INDEX(Brief!$AO$29:$AO$63,MATCH(C588,Brief!$G$29:$G$58,0))*1,\"\")","v":""},null,0,0,0]
[null,null,null,{"$f":"IFERROR(INDEX(Brief!$AO$29:$AO$63,MATCH(C589,Brief!$G$29:$G$58,0))*1,\"\")","v":""},null,0,0,0]
[null,null,null,{"$f":"IFERROR(INDEX(Brief!$AO$29:$AO$63,MATCH(C590,Brief!$G$29:$G$58,0))*1,\"\")","v":""},null,0,0,0]
[null,null,null,{"$f":"IFERROR(INDEX(Brief!$AO$29:$AO$63,MATCH(C591,Brief!$G$29:$G$58,0))*1,\"\")","v":""},null,0,0,0]
[null,null,null,{"$f":"IFERROR(INDEX(Brief!$AO$29:$AO$63,MATCH(C592,Brief!$G$29:$G$58,0))*1,\"\")","v":""},null,0,0,0]
[null,null,null,{"$f":"IFERROR(INDEX(Brief!$AO$29:$AO$63,MATCH(C593,Brief!$G$29:$G$58,0))*1,\"\")","v":""}]
[null,null,null,{"$f":"IFERROR(INDEX(Brief!$AO$29:$AO$63,MATCH(C594,Brief!$G$29:$G$58,0))*1,\"\")","v":""}]
[null,null,null,{"$f":"IFERROR(INDEX(Brief!$AO$29:$AO$63,MATCH(C595,Brief!$G$29:$G$58,0))*1,\"\")","v":""}]
[null,null,null,{"$f":"IFERROR(INDEX(Brief!$AO$29:$AO$63,MATCH(C596,Brief!$G$29:$G$58,0))*1,\"\")","v":""}]
[null,null,null,{"$f":"IFERROR(INDEX(Brief!$AO$29:$AO$63,MATCH(C597,Brief!$G$29:$G$58,0))*1,\"\")","v":""}]
[null,null,null,{"$f":"IFERROR(INDEX(Brief!$AO$29:$AO$63,MATCH(C598,Brief!$G$29:$G$58,0))*1,\"\")","v":""}]
[null,null,null,{"$f":"IFERROR(INDEX(Brief!$AO$29:$AO$63,MATCH(C599,Brief!$G$29:$G$58,0))*1,\"\")","v":""}]
[null,null,null,{"$f":"IFERROR(INDEX(Brief!$AO$29:$AO$63,MATCH(C600,Brief!$G$29:$G$58,0))*1,\"\")","v":""}]
[null,null,null,{"$f":"IFERROR(INDEX(Brief!$AO$29:$AO$63,MATCH(C601,Brief!$G$29:$G$58,0))*1,\"\")","v":""}]
[null,null,null,{"$f":"IFERROR(INDEX(Brief!$AO$29:$AO$63,MATCH(C602,Brief!$G$29:$G$58,0))*1,\"\")","v":""}]
[null,null,null,{"$f":"IFERROR(INDEX(Brief!$AO$29:$AO$63,MATCH(C603,Brief!$G$29:$G$58,0))*1,\"\")","v":""}]
[null,null,null,{"$f":"IFERROR(INDEX(Brief!$AO$29:$AO$63,MATCH(C604,Brief!$G$29:$G$58,0))*1,\"\")","v":""}]
[null,null,null,{"$f":"IFERROR(INDEX(Brief!$AO$29:$AO$63,MATCH(C605,Brief!$G$29:$G$58,0))*1,\"\")","v":""}]
[null,null,null,{"$f":"IFERROR(INDEX(Brief!$AO$29:$AO$63,MATCH(C606,Brief!$G$29:$G$58,0))*1,\"\")","v":""}]
[null,null,null,{"$f":"IFERROR(INDEX(Brief!$AO$29:$AO$63,MATCH(C607,Brief!$G$29:$G$58,0))*1,\"\")","v":""}]
[null,null,null,{"$f":"IFERROR(INDEX(Brief!$AO$29:$AO$63,MATCH(C608,Brief!$G$29:$G$58,0))*1,\"\")","v":""}]
[null,null,null,{"$f":"IFERROR(INDEX(Brief!$AO$29:$AO$63,MATCH(C609,Brief!$G$29:$G$58,0))*1,\"\")","v":""}]
[null,null,null,{"$f":"IFERROR(INDEX(Brief!$AO$29:$AO$63,MATCH(C610,Brief!$G$29:$G$58,0))*1,\"\")","v":""}]
[null,null,null,{"$f":"IFERROR(INDEX(Brief!$AO$29:$AO$63,MATCH(C611,Brief!$G$29:$G$58,0))*1,\"\")","v":""}]
[null,null,null,{"$f":"IFERROR(INDEX(Brief!$AO$29:$AO$63,MATCH(C612,Brief!$G$29:$G$58,0))*1,\"\")","v":""}]
[null,null,null,{"$f":"IFERROR(INDEX(Brief!$AO$29:$AO$63,MATCH(C613,Brief!$G$29:$G$58,0))*1,\"\")","v":""}]
[null,null,null,{"$f":"IFERROR(INDEX(Brief!$AO$29:$AO$63,MATCH(C614,Brief!$G$29:$G$58,0))*1,\"\")","v":""}]
[null,null,null,{"$f":"IFERROR(INDEX(Brief!$AO$29:$AO$63,MATCH(C615,Brief!$G$29:$G$58,0))*1,\"\")","v":""}]
[null,null,null,{"$f":"IFERROR(INDEX(Brief!$AO$29:$AO$63,MATCH(C616,Brief!$G$29:$G$58,0))*1,\"\")","v":""}]
[null,null,null,{"$f":"IFERROR(INDEX(Brief!$AO$29:$AO$63,MATCH(C617,Brief!$G$29:$G$58,0))*1,\"\")","v":""}]
[null,null,null,{"$f":"IFERROR(INDEX(Brief!$AO$29:$AO$63,MATCH(C618,Brief!$G$29:$G$58,0))*1,\"\")","v":""}]
[null,null,null,{"$f":"IFERROR(INDEX(Brief!$AO$29:$AO$63,MATCH(C619,Brief!$G$29:$G$58,0))*1,\"\")","v":""}]
[null,null,null,{"$f":"IFERROR(INDEX(Brief!$AO$29:$AO$63,MATCH(C620,Brief!$G$29:$G$58,0))*1,\"\")","v":""}]
[null,null,null,{"$f":"IFERROR(INDEX(Brief!$AO$29:$AO$63,MATCH(C621,Brief!$G$29:$G$58,0))*1,\"\")","v":""}]
[null,null,null,{"$f":"IFERROR(INDEX(Brief!$AO$29:$AO$63,MATCH(C622,Brief!$G$29:$G$58,0))*1,\"\")","v":""}]
[null,null,null,{"$f":"IFERROR(INDEX(Brief!$AO$29:$AO$63,MATCH(C623,Brief!$G$29:$G$58,0))*1,\"\")","v":""}]
[null,null,null,{"$f":"IFERROR(INDEX(Brief!$AO$29:$AO$63,MATCH(C624,Brief!$G$29:$G$58,0))*1,\"\")","v":""}]
[null,null,null,{"$f":"IFERROR(INDEX(Brief!$AO$29:$AO$63,MATCH(C625,Brief!$G$29:$G$58,0))*1,\"\")","v":""}]
[null,null,null,{"$f":"IFERROR(INDEX(Brief!$AO$29:$AO$63,MATCH(C626,Brief!$G$29:$G$58,0))*1,\"\")","v":""}]
[null,null,null,{"$f":"IFERROR(INDEX(Brief!$AO$29:$AO$63,MATCH(C627,Brief!$G$29:$G$58,0))*1,\"\")","v":""}]
[null,null,null,{"$f":"IFERROR(INDEX(Brief!$AO$29:$AO$63,MATCH(C628,Brief!$G$29:$G$58,0))*1,\"\")","v":""}]
[null,null,null,{"$f":"IFERROR(INDEX(Brief!$AO$29:$AO$63,MATCH(C629,Brief!$G$29:$G$58,0))*1,\"\")","v":""}]
[null,null,null,{"$f":"IFERROR(INDEX(Brief!$AO$29:$AO$63,MATCH(C630,Brief!$G$29:$G$58,0))*1,\"\")","v":""}]
[null,null,null,{"$f":"IFERROR(INDEX(Brief!$AO$29:$AO$63,MATCH(C631,Brief!$G$29:$G$58,0))*1,\"\")","v":""}]
[null,null,null,{"$f":"IFERROR(INDEX(Brief!$AO$29:$AO$63,MATCH(C632,Brief!$G$29:$G$58,0))*1,\"\")","v":""}]
[null,null,null,{"$f":"IFERROR(INDEX(Brief!$AO$29:$AO$63,MATCH(C633,Brief!$G$29:$G$58,0))*1,\"\")","v":""}]
[null,null,null,{"$f":"IFERROR(INDEX(Brief!$AO$29:$AO$63,MATCH(C634,Brief!$G$29:$G$58,0))*1,\"\")","v":""}]
[null,null,null,{"$f":"IFERROR(INDEX(Brief!$AO$29:$AO$63,MATCH(C635,Brief!$G$29:$G$58,0))*1,\"\")","v":""}]
[null,null,null,{"$f":"IFERROR(INDEX(Brief!$AO$29:$AO$63,MATCH(C636,Brief!$G$29:$G$58,0))*1,\"\")","v":""}]
[null,null,null,{"$f":"IFERROR(INDEX(Brief!$AO$29:$AO$63,MATCH(C637,Brief!$G$29:$G$58,0))*1,\"\")","v":""}]
[null,null,null,{"$f":"IFERROR(INDEX(Brief!$AO$29:$AO$63,MATCH(C638,Brief!$G$29:$G$58,0))*1,\"\")","v":""}]
[null,null,null,{"$f":"IFERROR(INDEX(Brief!$AO$29:$AO$63,MATCH(C639,Brief!$G$29:$G$58,0))*1,\"\")","v":""}]
[null,null,null,{"$f":"IFERROR(INDEX(Brief!$AO$29:$AO$63,MATCH(C640,Brief!$G$29:$G$58,0))*1,\"\")","v":""}]
[null,null,null,{"$f":"IFERROR(INDEX(Brief!$AO$29:$AO$63,MATCH(C641,Brief!$G$29:$G$58,0))*1,\"\")","v":""}]
[null,null,null,{"$f":"IFERROR(INDEX(Brief!$AO$29:$AO$63,MATCH(C642,Brief!$G$29:$G$58,0))*1,\"\")","v":""}]
[null,null,null,{"$f":"IFERROR(INDEX(Brief!$AO$29:$AO$63,MATCH(C643,Brief!$G$29:$G$58,0))*1,\"\")","v":""}]
[null,null,null,{"$f":"IFERROR(INDEX(Brief!$AO$29:$AO$63,MATCH(C644,Brief!$G$29:$G$58,0))*1,\"\")","v":""}]
[null,null,null,{"$f":"IFERROR(INDEX(Brief!$AO$29:$AO$63,MATCH(C645,Brief!$G$29:$G$58,0))*1,\"\")","v":""}]
[null,null,null,{"$f":"IFERROR(INDEX(Brief!$AO$29:$AO$63,MATCH(C646,Brief!$G$29:$G$58,0))*1,\"\")","v":""}]
[null,null,null,{"$f":"IFERROR(INDEX(Brief!$AO$29:$AO$63,MATCH(C647,Brief!$G$29:$G$58,0))*1,\"\")","v":""}]
[null,null,null,{"$f":"IFERROR(INDEX(Brief!$AO$29:$AO$63,MATCH(C648,Brief!$G$29:$G$58,0))*1,\"\")","v":""}]
[null,null,null,{"$f":"IFERROR(INDEX(Brief!$AO$29:$AO$63,MATCH(C649,Brief!$G$29:$G$58,0))*1,\"\")","v":""}]
[null,null,null,{"$f":"IFERROR(INDEX(Brief!$AO$29:$AO$63,MATCH(C650,Brief!$G$29:$G$58,0))*1,\"\")","v":""}]
[null,null,null,{"$f":"IFERROR(INDEX(Brief!$AO$29:$AO$63,MATCH(C651,Brief!$G$29:$G$58,0))*1,\"\")","v":""}]
[null,null,null,{"$f":"IFERROR(INDEX(Brief!$AO$29:$AO$63,MATCH(C652,Brief!$G$29:$G$58,0))*1,\"\")","v":""}]
[null,null,null,{"$f":"IFERROR(INDEX(Brief!$AO$29:$AO$63,MATCH(C653,Brief!$G$29:$G$58,0))*1,\"\")","v":""}]
[null,null,null,{"$f":"IFERROR(INDEX(Brief!$AO$29:$AO$63,MATCH(C654,Brief!$G$29:$G$58,0))*1,\"\")","v":""}]
[null,null,null,{"$f":"IFERROR(INDEX(Brief!$AO$29:$AO$63,MATCH(C655,Brief!$G$29:$G$58,0))*1,\"\")","v":""}]
[null,null,null,{"$f":"IFERROR(INDEX(Brief!$AO$29:$AO$63,MATCH(C656,Brief!$G$29:$G$58,0))*1,\"\")","v":""}]
[null,null,null,{"$f":"IFERROR(INDEX(Brief!$AO$29:$AO$63,MATCH(C657,Brief!$G$29:$G$58,0))*1,\"\")","v":""}]
[null,null,null,{"$f":"IFERROR(INDEX(Brief!$AO$29:$AO$63,MATCH(C658,Brief!$G$29:$G$58,0))*1,\"\")","v":""}]
[null,null,null,{"$f":"IFERROR(INDEX(Brief!$AO$29:$AO$63,MATCH(C659,Brief!$G$29:$G$58,0))*1,\"\")","v":""}]
[null,null,null,{"$f":"IFERROR(INDEX(Brief!$AO$29:$AO$63,MATCH(C660,Brief!$G$29:$G$58,0))*1,\"\")","v":""}]
[null,null,null,{"$f":"IFERROR(INDEX(Brief!$AO$29:$AO$63,MATCH(C661,Brief!$G$29:$G$58,0))*1,\"\")","v":""}]
[null,null,null,{"$f":"IFERROR(INDEX(Brief!$AO$29:$AO$63,MATCH(C662,Brief!$G$29:$G$58,0))*1,\"\")","v":""}]
[null,null,null,{"$f":"IFERROR(INDEX(Brief!$AO$29:$AO$63,MATCH(C663,Brief!$G$29:$G$58,0))*1,\"\")","v":""}]
[null,null,null,{"$f":"IFERROR(INDEX(Brief!$AO$29:$AO$63,MATCH(C664,Brief!$G$29:$G$58,0))*1,\"\")","v":""}]
[null,null,null,{"$f":"IFERROR(INDEX(Brief!$AO$29:$AO$63,MATCH(C665,Brief!$G$29:$G$58,0))*1,\"\")","v":""}]
[null,null,null,{"$f":"IFERROR(INDEX(Brief!$AO$29:$AO$63,MATCH(C666,Brief!$G$29:$G$58,0))*1,\"\")","v":""}]
[null,null,null,{"$f":"IFERROR(INDEX(Brief!$AO$29:$AO$63,MATCH(C667,Brief!$G$29:$G$58,0))*1,\"\")","v":""}]
[null,null,null,{"$f":"IFERROR(INDEX(Brief!$AO$29:$AO$63,MATCH(C668,Brief!$G$29:$G$58,0))*1,\"\")","v":""}]
[null,null,null,{"$f":"IFERROR(INDEX(Brief!$AO$29:$AO$63,MATCH(C669,Brief!$G$29:$G$58,0))*1,\"\")","v":""}]
[null,null,null,{"$f":"IFERROR(INDEX(Brief!$AO$29:$AO$63,MATCH(C670,Brief!$G$29:$G$58,0))*1,\"\")","v":""}]
[null,null,null,{"$f":"IFERROR(INDEX(Brief!$AO$29:$AO$63,MATCH(C671,Brief!$G$29:$G$58,0))*1,\"\")","v":""}]
[null,null,null,{"$f":"IFERROR(INDEX(Brief!$AO$29:$AO$63,MATCH(C672,Brief!$G$29:$G$58,0))*1,\"\")","v":""}]
[null,null,null,{"$f":"IFERROR(INDEX(Brief!$AO$29:$AO$63,MATCH(C673,Brief!$G$29:$G$58,0))*1,\"\")","v":""}]
[null,null,null,{"$f":"IFERROR(INDEX(Brief!$AO$29:$AO$63,MATCH(C674,Brief!$G$29:$G$58,0))*1,\"\")","v":""}]
[null,null,null,{"$f":"IFERROR(INDEX(Brief!$AO$29:$AO$63,MATCH(C675,Brief!$G$29:$G$58,0))*1,\"\")","v":""}]
[null,null,null,{"$f":"IFERROR(INDEX(Brief!$AO$29:$AO$63,MATCH(C676,Brief!$G$29:$G$58,0))*1,\"\")","v":""}]
[null,null,null,{"$f":"IFERROR(INDEX(Brief!$AO$29:$AO$63,MATCH(C677,Brief!$G$29:$G$58,0))*1,\"\")","v":""}]
[null,null,null,{"$f":"IFERROR(INDEX(Brief!$AO$29:$AO$63,MATCH(C678,Brief!$G$29:$G$58,0))*1,\"\")","v":""}]
[null,null,null,{"$f":"IFERROR(INDEX(Brief!$AO$29:$AO$63,MATCH(C679,Brief!$G$29:$G$58,0))*1,\"\")","v":""}]
[null,null,null,{"$f":"IFERROR(INDEX(Brief!$AO$29:$AO$63,MATCH(C680,Brief!$G$29:$G$58,0))*1,\"\")","v":""}]
[null,null,null,{"$f":"IFERROR(INDEX(Brief!$AO$29:$AO$63,MATCH(C681,Brief!$G$29:$G$58,0))*1,\"\")","v":""}]
[null,null,null,{"$f":"IFERROR(INDEX(Brief!$AO$29:$AO$63,MATCH(C682,Brief!$G$29:$G$58,0))*1,\"\")","v":""}]
[null,null,null,{"$f":"IFERROR(INDEX(Brief!$AO$29:$AO$63,MATCH(C683,Brief!$G$29:$G$58,0))*1,\"\")","v":""}]
[null,null,null,{"$f":"IFERROR(INDEX(Brief!$AO$29:$AO$63,MATCH(C684,Brief!$G$29:$G$58,0))*1,\"\")","v":""}]
[null,null,null,{"$f":"IFERROR(INDEX(Brief!$AO$29:$AO$63,MATCH(C685,Brief!$G$29:$G$58,0))*1,\"\")","v":""}]
[null,null,null,{"$f":"IFERROR(INDEX(Brief!$AO$29:$AO$63,MATCH(C686,Brief!$G$29:$G$58,0))*1,\"\")","v":""}]
[null,null,null,{"$f":"IFERROR(INDEX(Brief!$AO$29:$AO$63,MATCH(C687,Brief!$G$29:$G$58,0))*1,\"\")","v":""}]
[null,null,null,{"$f":"IFERROR(INDEX(Brief!$AO$29:$AO$63,MATCH(C688,Brief!$G$29:$G$58,0))*1,\"\")","v":""}]
[null,null,null,{"$f":"IFERROR(INDEX(Brief!$AO$29:$AO$63,MATCH(C689,Brief!$G$29:$G$58,0))*1,\"\")","v":""}]
[null,null,null,{"$f":"IFERROR(INDEX(Brief!$AO$29:$AO$63,MATCH(C690,Brief!$G$29:$G$58,0))*1,\"\")","v":""}]
[null,null,null,{"$f":"IFERROR(INDEX(Brief!$AO$29:$AO$63,MATCH(C691,Brief!$G$29:$G$58,0))*1,\"\")","v":""}]
[null,null,null,{"$f":"IFERROR(INDEX(Brief!$AO$29:$AO$63,MATCH(C692,Brief!$G$29:$G$58,0))*1,\"\")","v":""}]
[null,null,null,{"$f":"IFERROR(INDEX(Brief!$AO$29:$AO$63,MATCH(C693,Brief!$G$29:$G$58,0))*1,\"\")","v":""}]
[null,null,null,{"$f":"IFERROR(INDEX(Brief!$AO$29:$AO$63,MATCH(C694,Brief!$G$29:$G$58,0))*1,\"\")","v":""}]
[null,null,null,{"$f":"IFERROR(INDEX(Brief!$AO$29:$AO$63,MATCH(C695,Brief!$G$29:$G$58,0))*1,\"\")","v":""}]
[null,null,null,{"$f":"IFERROR(INDEX(Brief!$AO$29:$AO$63,MATCH(C696,Brief!$G$29:$G$58,0))*1,\"\")","v":""}]
[null,null,null,{"$f":"IFERROR(INDEX(Brief!$AO$29:$AO$63,MATCH(C697,Brief!$G$29:$G$58,0))*1,\"\")","v":""}]
[null,null,null,{"$f":"IFERROR(INDEX(Brief!$AO$29:$AO$63,MATCH(C698,Brief!$G$29:$G$58,0))*1,\"\")","v":""}]
[null,null,null,{"$f":"IFERROR(INDEX(Brief!$AO$29:$AO$63,MATCH(C699,Brief!$G$29:$G$58,0))*1,\"\")","v":""}]
[null,null,null,{"$f":"IFERROR(INDEX(Brief!$AO$29:$AO$63,MATCH(C700,Brief!$G$29:$G$58,0))*1,\"\")","v":""}]
[null,null,null,{"$f":"IFERROR(INDEX(Brief!$AO$29:$AO$63,MATCH(C701,Brief!$G$29:$G$58,0))*1,\"\")","v":""}]
[null,null,null,{"$f":"IFERROR(INDEX(Brief!$AO$29:$AO$63,MATCH(C702,Brief!$G$29:$G$58,0))*1,\"\")","v":""}]
[null,null,null,{"$f":"IFERROR(INDEX(Brief!$AO$29:$AO$63,MATCH(C703,Brief!$G$29:$G$58,0))*1,\"\")","v":""}]
[null,null,null,{"$f":"IFERROR(INDEX(Brief!$AO$29:$AO$63,MATCH(C704,Brief!$G$29:$G$58,0))*1,\"\")","v":""}]
[null,null,null,{"$f":"IFERROR(INDEX(Brief!$AO$29:$AO$63,MATCH(C705,Brief!$G$29:$G$58,0))*1,\"\")","v":""}]
[null,null,null,{"$f":"IFERROR(INDEX(Brief!$AO$29:$AO$63,MATCH(C706,Brief!$G$29:$G$58,0))*1,\"\")","v":""}]
[null,null,null,{"$f":"IFERROR(INDEX(Brief!$AO$29:$AO$63,MATCH(C707,Brief!$G$29:$G$58,0))*1,\"\")","v":""}]
[null,null,null,{"$f":"IFERROR(INDEX(Brief!$AO$29:$AO$63,MATCH(C708,Brief!$G$29:$G$58,0))*1,\"\")","v":""}]
[null,null,null,{"$f":"IFERROR(INDEX(Brief!$AO$29:$AO$63,MATCH(C709,Brief!$G$29:$G$58,0))*1,\"\")","v":""}]
[null,null,null,{"$f":"IFERROR(INDEX(Brief!$AO$29:$AO$63,MATCH(C710,Brief!$G$29:$G$58,0))*1,\"\")","v":""}]
[null,null,null,{"$f":"IFERROR(INDEX(Brief!$AO$29:$AO$63,MATCH(C711,Brief!$G$29:$G$58,0))*1,\"\")","v":""}]
[null,null,null,{"$f":"IFERROR(INDEX(Brief!$AO$29:$AO$63,MATCH(C712,Brief!$G$29:$G$58,0))*1,\"\")","v":""}]
[null,null,null,{"$f":"IFERROR(INDEX(Brief!$AO$29:$AO$63,MATCH(C713,Brief!$G$29:$G$58,0))*1,\"\")","v":""}]
[null,null,null,{"$f":"IFERROR(INDEX(Brief!$AO$29:$AO$63,MATCH(C714,Brief!$G$29:$G$58,0))*1,\"\")","v":""}]
[null,null,null,{"$f":"IFERROR(INDEX(Brief!$AO$29:$AO$63,MATCH(C715,Brief!$G$29:$G$58,0))*1,\"\")","v":""}]
[null,null,null,{"$f":"IFERROR(INDEX(Brief!$AO$29:$AO$63,MATCH(C716,Brief!$G$29:$G$58,0))*1,\"\")","v":""}]
[null,null,null,{"$f":"IFERROR(INDEX(Brief!$AO$29:$AO$63,MATCH(C717,Brief!$G$29:$G$58,0))*1,\"\")","v":""}]
[null,null,null,{"$f":"IFERROR(INDEX(Brief!$AO$29:$AO$63,MATCH(C718,Brief!$G$29:$G$58,0))*1,\"\")","v":""}]
[null,null,null,{"$f":"IFERROR(INDEX(Brief!$AO$29:$AO$63,MATCH(C719,Brief!$G$29:$G$58,0))*1,\"\")","v":""}]
[null,null,null,{"$f":"IFERROR(INDEX(Brief!$AO$29:$AO$63,MATCH(C720,Brief!$G$29:$G$58,0))*1,\"\")","v":""}]
[null,null,null,{"$f":"IFERROR(INDEX(Brief!$AO$29:$AO$63,MATCH(C721,Brief!$G$29:$G$58,0))*1,\"\")","v":""}]
[null,null,null,{"$f":"IFERROR(INDEX(Brief!$AO$29:$AO$63,MATCH(C722,Brief!$G$29:$G$58,0))*1,\"\")","v":""}]
[null,null,null,{"$f":"IFERROR(INDEX(Brief!$AO$29:$AO$63,MATCH(C723,Brief!$G$29:$G$58,0))*1,\"\")","v":""}]
[null,null,null,{"$f":"IFERROR(INDEX(Brief!$AO$29:$AO$63,MATCH(C724,Brief!$G$29:$G$58,0))*1,\"\")","v":""}]
[null,null,null,{"$f":"IFERROR(INDEX(Brief!$AO$29:$AO$63,MATCH(C725,Brief!$G$29:$G$58,0))*1,\"\")","v":""}]
[null,null,null,{"$f":"IFERROR(INDEX(Brief!$AO$29:$AO$63,MATCH(C726,Brief!$G$29:$G$58,0))*1,\"\")","v":""}]
[null,null,null,{"$f":"IFERROR(INDEX(Brief!$AO$29:$AO$63,MATCH(C727,Brief!$G$29:$G$58,0))*1,\"\")","v":""}]
[null,null,null,{"$f":"IFERROR(INDEX(Brief!$AO$29:$AO$63,MATCH(C728,Brief!$G$29:$G$58,0))*1,\"\")","v":""}]
[null,null,null,{"$f":"IFERROR(INDEX(Brief!$AO$29:$AO$63,MATCH(C729,Brief!$G$29:$G$58,0))*1,\"\")","v":""}]
[null,null,null,{"$f":"IFERROR(INDEX(Brief!$AO$29:$AO$63,MATCH(C730,Brief!$G$29:$G$58,0))*1,\"\")","v":""}]
[null,null,null,{"$f":"IFERROR(INDEX(Brief!$AO$29:$AO$63,MATCH(C731,Brief!$G$29:$G$58,0))*1,\"\")","v":""}]
[null,null,null,{"$f":"IFERROR(INDEX(Brief!$AO$29:$AO$63,MATCH(C732,Brief!$G$29:$G$58,0))*1,\"\")","v":""}]
[null,null,null,{"$f":"IFERROR(INDEX(Brief!$AO$29:$AO$63,MATCH(C733,Brief!$G$29:$G$58,0))*1,\"\")","v":""}]
[null,null,null,{"$f":"IFERROR(INDEX(Brief!$AO$29:$AO$63,MATCH(C734,Brief!$G$29:$G$58,0))*1,\"\")","v":""}]
[null,null,null,{"$f":"IFERROR(INDEX(Brief!$AO$29:$AO$63,MATCH(C735,Brief!$G$29:$G$58,0))*1,\"\")","v":""}]
[null,null,null,{"$f":"IFERROR(INDEX(Brief!$AO$29:$AO$63,MATCH(C736,Brief!$G$29:$G$58,0))*1,\"\")","v":""}]
[null,null,null,{"$f":"IFERROR(INDEX(Brief!$AO$29:$AO$63,MATCH(C737,Brief!$G$29:$G$58,0))*1,\"\")","v":""}]
[null,null,null,{"$f":"IFERROR(INDEX(Brief!$AO$29:$AO$63,MATCH(C738,Brief!$G$29:$G$58,0))*1,\"\")","v":""}]
[null,null,null,{"$f":"IFERROR(INDEX(Brief!$AO$29:$AO$63,MATCH(C739,Brief!$G$29:$G$58,0))*1,\"\")","v":""}]
[null,null,null,{"$f":"IFERROR(INDEX(Brief!$AO$29:$AO$63,MATCH(C740,Brief!$G$29:$G$58,0))*1,\"\")","v":""}]
[null,null,null,{"$f":"IFERROR(INDEX(Brief!$AO$29:$AO$63,MATCH(C741,Brief!$G$29:$G$58,0))*1,\"\")","v":""}]
[null,null,null,{"$f":"IFERROR(INDEX(Brief!$AO$29:$AO$63,MATCH(C742,Brief!$G$29:$G$58,0))*1,\"\")","v":""}]
[null,null,null,{"$f":"IFERROR(INDEX(Brief!$AO$29:$AO$63,MATCH(C743,Brief!$G$29:$G$58,0))*1,\"\")","v":""}]
[null,null,null,{"$f":"IFERROR(INDEX(Brief!$AO$29:$AO$63,MATCH(C744,Brief!$G$29:$G$58,0))*1,\"\")","v":""}]
[null,null,null,{"$f":"IFERROR(INDEX(Brief!$AO$29:$AO$63,MATCH(C745,Brief!$G$29:$G$58,0))*1,\"\")","v":""}]
[null,null,null,{"$f":"IFERROR(INDEX(Brief!$AO$29:$AO$63,MATCH(C746,Brief!$G$29:$G$58,0))*1,\"\")","v":""}]
[null,null,null,{"$f":"IFERROR(INDEX(Brief!$AO$29:$AO$63,MATCH(C747,Brief!$G$29:$G$58,0))*1,\"\")","v":""}]
[null,null,null,{"$f":"IFERROR(INDEX(Brief!$AO$29:$AO$63,MATCH(C748,Brief!$G$29:$G$58,0))*1,\"\")","v":""}]
[null,null,null,{"$f":"IFERROR(INDEX(Brief!$AO$29:$AO$63,MATCH(C749,Brief!$G$29:$G$58,0))*1,\"\")","v":""}]
[null,null,null,{"$f":"IFERROR(INDEX(Brief!$AO$29:$AO$63,MATCH(C750,Brief!$G$29:$G$58,0))*1,\"\")","v":""}]
[null,null,null,{"$f":"IFERROR(INDEX(Brief!$AO$29:$AO$63,MATCH(C751,Brief!$G$29:$G$58,0))*1,\"\")","v":""}]
[null,null,null,{"$f":"IFERROR(INDEX(Brief!$AO$29:$AO$63,MATCH(C752,Brief!$G$29:$G$58,0))*1,\"\")","v":""}]
[null,null,null,{"$f":"IFERROR(INDEX(Brief!$AO$29:$AO$63,MATCH(C753,Brief!$G$29:$G$58,0))*1,\"\")","v":""}]
[null,null,null,{"$f":"IFERROR(INDEX(Brief!$AO$29:$AO$63,MATCH(C754,Brief!$G$29:$G$58,0))*1,\"\")","v":""}]
[null,null,null,{"$f":"IFERROR(INDEX(Brief!$AO$29:$AO$63,MATCH(C755,Brief!$G$29:$G$58,0))*1,\"\")","v":""}]
[null,null,null,{"$f":"IFERROR(INDEX(Brief!$AO$29:$AO$63,MATCH(C756,Brief!$G$29:$G$58,0))*1,\"\")","v":""}]
[null,null,null,{"$f":"IFERROR(INDEX(Brief!$AO$29:$AO$63,MATCH(C757,Brief!$G$29:$G$58,0))*1,\"\")","v":""}]
[null,null,null,{"$f":"IFERROR(INDEX(Brief!$AO$29:$AO$63,MATCH(C758,Brief!$G$29:$G$58,0))*1,\"\")","v":""}]
[null,null,null,{"$f":"IFERROR(INDEX(Brief!$AO$29:$AO$63,MATCH(C759,Brief!$G$29:$G$58,0))*1,\"\")","v":""}]
[null,null,null,{"$f":"IFERROR(INDEX(Brief!$AO$29:$AO$63,MATCH(C760,Brief!$G$29:$G$58,0))*1,\"\")","v":""}]
[null,null,null,{"$f":"IFERROR(INDEX(Brief!$AO$29:$AO$63,MATCH(C761,Brief!$G$29:$G$58,0))*1,\"\")","v":""}]
[null,null,null,{"$f":"IFERROR(INDEX(Brief!$AO$29:$AO$63,MATCH(C762,Brief!$G$29:$G$58,0))*1,\"\")","v":""}]
[null,null,null,{"$f":"IFERROR(INDEX(Brief!$AO$29:$AO$63,MATCH(C763,Brief!$G$29:$G$58,0))*1,\"\")","v":""}]
[null,null,null,{"$f":"IFERROR(INDEX(Brief!$AO$29:$AO$63,MATCH(C764,Brief!$G$29:$G$58,0))*1,\"\")","v":""}]
[null,null,null,{"$f":"IFERROR(INDEX(Brief!$AO$29:$AO$63,MATCH(C765,Brief!$G$29:$G$58,0))*1,\"\")","v":""}]
[null,null,null,{"$f":"IFERROR(INDEX(Brief!$AO$29:$AO$63,MATCH(C766,Brief!$G$29:$G$58,0))*1,\"\")","v":""}]
[null,null,null,{"$f":"IFERROR(INDEX(Brief!$AO$29:$AO$63,MATCH(C767,Brief!$G$29:$G$58,0))*1,\"\")","v":""}]
[null,null,null,{"$f":"IFERROR(INDEX(Brief!$AO$29:$AO$63,MATCH(C768,Brief!$G$29:$G$58,0))*1,\"\")","v":""}]
[null,null,null,{"$f":"IFERROR(INDEX(Brief!$AO$29:$AO$63,MATCH(C769,Brief!$G$29:$G$58,0))*1,\"\")","v":""}]
[null,null,null,{"$f":"IFERROR(INDEX(Brief!$AO$29:$AO$63,MATCH(C770,Brief!$G$29:$G$58,0))*1,\"\")","v":""}]
[null,null,null,{"$f":"IFERROR(INDEX(Brief!$AO$29:$AO$63,MATCH(C771,Brief!$G$29:$G$58,0))*1,\"\")","v":""}]
[null,null,null,{"$f":"IFERROR(INDEX(Brief!$AO$29:$AO$63,MATCH(C772,Brief!$G$29:$G$58,0))*1,\"\")","v":""}]
[null,null,null,{"$f":"IFERROR(INDEX(Brief!$AO$29:$AO$63,MATCH(C773,Brief!$G$29:$G$58,0))*1,\"\")","v":""}]
[null,null,null,{"$f":"IFERROR(INDEX(Brief!$AO$29:$AO$63,MATCH(C774,Brief!$G$29:$G$58,0))*1,\"\")","v":""}]
[null,null,null,{"$f":"IFERROR(INDEX(Brief!$AO$29:$AO$63,MATCH(C775,Brief!$G$29:$G$58,0))*1,\"\")","v":""}]
[null,null,null,{"$f":"IFERROR(INDEX(Brief!$AO$29:$AO$63,MATCH(C776,Brief!$G$29:$G$58,0))*1,\"\")","v":""}]
[null,null,null,{"$f":"IFERROR(INDEX(Brief!$AO$29:$AO$63,MATCH(C777,Brief!$G$29:$G$58,0))*1,\"\")","v":""}]
[null,null,null,{"$f":"IFERROR(INDEX(Brief!$AO$29:$AO$63,MATCH(C778,Brief!$G$29:$G$58,0))*1,\"\")","v":""}]
[null,null,null,{"$f":"IFERROR(INDEX(Brief!$AO$29:$AO$63,MATCH(C779,Brief!$G$29:$G$58,0))*1,\"\")","v":""}]
[null,null,null,{"$f":"IFERROR(INDEX(Brief!$AO$29:$AO$63,MATCH(C780,Brief!$G$29:$G$58,0))*1,\"\")","v":""}]
[null,null,null,{"$f":"IFERROR(INDEX(Brief!$AO$29:$AO$63,MATCH(C781,Brief!$G$29:$G$58,0))*1,\"\")","v":""}]
[null,null,null,{"$f":"IFERROR(INDEX(Brief!$AO$29:$AO$63,MATCH(C782,Brief!$G$29:$G$58,0))*1,\"\")","v":""}]
[null,null,null,{"$f":"IFERROR(INDEX(Brief!$AO$29:$AO$63,MATCH(C783,Brief!$G$29:$G$58,0))*1,\"\")","v":""}]
[null,null,null,{"$f":"IFERROR(INDEX(Brief!$AO$29:$AO$63,MATCH(C784,Brief!$G$29:$G$58,0))*1,\"\")","v":""}]
[null,null,null,{"$f":"IFERROR(INDEX(Brief!$AO$29:$AO$63,MATCH(C785,Brief!$G$29:$G$58,0))*1,\"\")","v":""}]
[null,null,null,{"$f":"IFERROR(INDEX(Brief!$AO$29:$AO$63,MATCH(C786,Brief!$G$29:$G$58,0))*1,\"\")","v":""}]
[null,null,null,{"$f":"IFERROR(INDEX(Brief!$AO$29:$AO$63,MATCH(C787,Brief!$G$29:$G$58,0))*1,\"\")","v":""}]
[null,null,null,{"$f":"IFERROR(INDEX(Brief!$AO$29:$AO$63,MATCH(C788,Brief!$G$29:$G$58,0))*1,\"\")","v":""}]
[null,null,null,{"$f":"IFERROR(INDEX(Brief!$AO$29:$AO$63,MATCH(C789,Brief!$G$29:$G$58,0))*1,\"\")","v":""}]
[null,null,null,{"$f":"IFERROR(INDEX(Brief!$AO$29:$AO$63,MATCH(C790,Brief!$G$29:$G$58,0))*1,\"\")","v":""}]
[null,null,null,{"$f":"IFERROR(INDEX(Brief!$AO$29:$AO$63,MATCH(C791,Brief!#REF!,0))*1,\"\")","v":""}]
[null,null,null,{"$f":"IFERROR(INDEX(Brief!$AO$29:$AO$63,MATCH(C792,Brief!#REF!,0))*1,\"\")","v":""}]
[null,null,null,{"$f":"IFERROR(INDEX(Brief!$AO$29:$AO$63,MATCH(C793,Brief!#REF!,0))*1,\"\")","v":""}]
[null,null,null,{"$f":"IFERROR(INDEX(Brief!$AO$29:$AO$63,MATCH(C794,Brief!#REF!,0))*1,\"\")","v":""}]
[null,null,null,{"$f":"IFERROR(INDEX(Brief!$AO$29:$AO$63,MATCH(C795,Brief!#REF!,0))*1,\"\")","v":""}]
[null,null,null,{"$f":"IFERROR(INDEX(Brief!$AO$29:$AO$63,MATCH(C796,Brief!#REF!,0))*1,\"\")","v":""}]
[null,null,null,{"$f":"IFERROR(INDEX(Brief!$AO$29:$AO$63,MATCH(C797,Brief!#REF!,0))*1,\"\")","v":""}]
[null,null,null,{"$f":"IFERROR(INDEX(Brief!$AO$29:$AO$63,MATCH(C798,Brief!#REF!,0))*1,\"\")","v":""}]
[null,null,null,{"$f":"IFERROR(INDEX(Brief!$AO$29:$AO$63,MATCH(C799,Brief!#REF!,0))*1,\"\")","v":""}]
[null,null,null,{"$f":"IFERROR(INDEX(Brief!$AO$29:$AO$63,MATCH(C800,Brief!#REF!,0))*1,\"\")","v":""}]
[null,null,null,{"$f":"IFERROR(INDEX(Brief!$AO$29:$AO$63,MATCH(C801,Brief!#REF!,0))*1,\"\")","v":""}]
[null,null,null,{"$f":"IFERROR(INDEX(Brief!$AO$29:$AO$63,MATCH(C802,Brief!#REF!,0))*1,\"\")","v":""}]
[null,null,null,{"$f":"IFERROR(INDEX(Brief!$AO$29:$AO$63,MATCH(C803,Brief!#REF!,0))*1,\"\")","v":""}]
[null,null,null,{"$f":"IFERROR(INDEX(Brief!$AO$29:$AO$63,MATCH(C804,Brief!#REF!,0))*1,\"\")","v":""}]
[null,null,null,{"$f":"IFERROR(INDEX(Brief!$AO$29:$AO$63,MATCH(C805,Brief!#REF!,0))*1,\"\")","v":""}]
[null,null,null,{"$f":"IFERROR(INDEX(Brief!$AO$29:$AO$63,MATCH(C806,Brief!#REF!,0))*1,\"\")","v":""}]
[null,null,null,{"$f":"IFERROR(INDEX(Brief!$AO$29:$AO$63,MATCH(C807,Brief!#REF!,0))*1,\"\")","v":""}]
[null,null,null,{"$f":"IFERROR(INDEX(Brief!$AO$29:$AO$63,MATCH(C808,Brief!#REF!,0))*1,\"\")","v":""}]
[null,null,null,{"$f":"IFERROR(INDEX(Brief!$AO$29:$AO$63,MATCH(C809,Brief!#REF!,0))*1,\"\")","v":""}]
[null,null,null,{"$f":"IFERROR(INDEX(Brief!$AO$29:$AO$63,MATCH(C810,Brief!#REF!,0))*1,\"\")","v":""}]
[null,null,null,{"$f":"IFERROR(INDEX(Brief!$AO$29:$AO$63,MATCH(C811,Brief!#REF!,0))*1,\"\")","v":""}]
[null,null,null,{"$f":"IFERROR(INDEX(Brief!$AO$29:$AO$63,MATCH(C812,Brief!#REF!,0))*1,\"\")","v":""}]
[null,null,null,{"$f":"IFERROR(INDEX(Brief!$AO$29:$AO$63,MATCH(C813,Brief!#REF!,0))*1,\"\")","v":""}]
[null,null,null,{"$f":"IFERROR(INDEX(Brief!$AO$29:$AO$63,MATCH(C814,Brief!#REF!,0))*1,\"\")","v":""}]
[null,null,null,{"$f":"IFERROR(INDEX(Brief!$AO$29:$AO$63,MATCH(C815,Brief!#REF!,0))*1,\"\")","v":""}]
[null,null,null,{"$f":"IFERROR(INDEX(Brief!$AO$29:$AO$63,MATCH(C816,Brief!#REF!,0))*1,\"\")","v":""}]
[null,null,null,{"$f":"IFERROR(INDEX(Brief!$AO$29:$AO$63,MATCH(C817,Brief!#REF!,0))*1,\"\")","v":""}]
[null,null,null,{"$f":"IFERROR(INDEX(Brief!$AO$29:$AO$63,MATCH(C818,Brief!#REF!,0))*1,\"\")","v":""}]
[null,null,null,{"$f":"IFERROR(INDEX(Brief!$AO$29:$AO$63,MATCH(C819,Brief!#REF!,0))*1,\"\")","v":""}]
[null,null,null,{"$f":"IFERROR(INDEX(Brief!$AO$29:$AO$63,MATCH(C820,Brief!#REF!,0))*1,\"\")","v":""}]
[null,null,null,{"$f":"IFERROR(INDEX(Brief!$AO$29:$AO$63,MATCH(C821,Brief!#REF!,0))*1,\"\")","v":""}]
[null,null,null,{"$f":"IFERROR(INDEX(Brief!$AO$29:$AO$63,MATCH(C822,Brief!#REF!,0))*1,\"\")","v":""}]
[null,null,null,{"$f":"IFERROR(INDEX(Brief!$AO$29:$AO$63,MATCH(C823,Brief!#REF!,0))*1,\"\")","v":""}]
[null,null,null,{"$f":"IFERROR(INDEX(Brief!$AO$29:$AO$63,MATCH(C824,Brief!#REF!,0))*1,\"\")","v":""}]
[null,null,null,{"$f":"IFERROR(INDEX(Brief!$AO$29:$AO$63,MATCH(C825,Brief!#REF!,0))*1,\"\")","v":""}]
[null,null,null,{"$f":"IFERROR(INDEX(Brief!$AO$29:$AO$63,MATCH(C826,Brief!#REF!,0))*1,\"\")","v":""}]
[null,null,null,{"$f":"IFERROR(INDEX(Brief!$AO$29:$AO$63,MATCH(C827,Brief!#REF!,0))*1,\"\")","v":""}]
[null,null,null,{"$f":"IFERROR(INDEX(Brief!$AO$29:$AO$63,MATCH(C828,Brief!#REF!,0))*1,\"\")","v":""}]
[null,null,null,{"$f":"IFERROR(INDEX(Brief!$AO$29:$AO$63,MATCH(C829,Brief!#REF!,0))*1,\"\")","v":""}]
[null,null,null,{"$f":"IFERROR(INDEX(Brief!$AO$29:$AO$63,MATCH(C830,Brief!#REF!,0))*1,\"\")","v":""}]
[null,null,null,{"$f":"IFERROR(INDEX(Brief!$AO$29:$AO$63,MATCH(C831,Brief!#REF!,0))*1,\"\")","v":""}]
[null,null,null,{"$f":"IFERROR(INDEX(Brief!$AO$29:$AO$63,MATCH(C832,Brief!#REF!,0))*1,\"\")","v":""}]
[null,null,null,{"$f":"IFERROR(INDEX(Brief!$AO$29:$AO$63,MATCH(C833,Brief!#REF!,0))*1,\"\")","v":""}]
[null,null,null,{"$f":"IFERROR(INDEX(Brief!$AO$29:$AO$63,MATCH(C834,Brief!#REF!,0))*1,\"\")","v":""}]
[null,null,null,{"$f":"IFERROR(INDEX(Brief!$AO$29:$AO$63,MATCH(C835,Brief!#REF!,0))*1,\"\")","v":""}]
[null,null,null,{"$f":"IFERROR(INDEX(Brief!$AO$29:$AO$63,MATCH(C836,Brief!#REF!,0))*1,\"\")","v":""}]
[null,null,null,{"$f":"IFERROR(INDEX(Brief!$AO$29:$AO$63,MATCH(C837,Brief!#REF!,0))*1,\"\")","v":""}]
[null,null,null,{"$f":"IFERROR(INDEX(Brief!$AO$29:$AO$63,MATCH(C838,Brief!#REF!,0))*1,\"\")","v":""}]
[null,null,null,{"$f":"IFERROR(INDEX(Brief!$AO$29:$AO$63,MATCH(C839,Brief!#REF!,0))*1,\"\")","v":""}]
[null,null,null,{"$f":"IFERROR(INDEX(Brief!$AO$29:$AO$63,MATCH(C840,Brief!#REF!,0))*1,\"\")","v":""}]
[null,null,null,{"$f":"IFERROR(INDEX(Brief!$AO$29:$AO$63,MATCH(C841,Brief!#REF!,0))*1,\"\")","v":""}]
[null,null,null,{"$f":"IFERROR(INDEX(Brief!$AO$29:$AO$63,MATCH(C842,Brief!#REF!,0))*1,\"\")","v":""}]
[null,null,null,{"$f":"IFERROR(INDEX(Brief!$AO$29:$AO$63,MATCH(C843,Brief!#REF!,0))*1,\"\")","v":""}]
[null,null,null,{"$f":"IFERROR(INDEX(Brief!$AO$29:$AO$63,MATCH(C844,Brief!#REF!,0))*1,\"\")","v":""}]
[null,null,null,{"$f":"IFERROR(INDEX(Brief!$AO$29:$AO$63,MATCH(C845,Brief!#REF!,0))*1,\"\")","v":""}]
[null,null,null,{"$f":"IFERROR(INDEX(Brief!$AO$29:$AO$63,MATCH(C846,Brief!#REF!,0))*1,\"\")","v":""}]
[null,null,null,{"$f":"IFERROR(INDEX(Brief!$AO$29:$AO$63,MATCH(C847,Brief!#REF!,0))*1,\"\")","v":""}]
[null,null,null,{"$f":"IFERROR(INDEX(Brief!$AO$29:$AO$63,MATCH(C848,Brief!#REF!,0))*1,\"\")","v":""}]
[null,null,null,{"$f":"IFERROR(INDEX(Brief!$AO$29:$AO$63,MATCH(C849,Brief!#REF!,0))*1,\"\")","v":""}]
[null,null,null,{"$f":"IFERROR(INDEX(Brief!$AO$29:$AO$63,MATCH(C850,Brief!#REF!,0))*1,\"\")","v":""}]
[null,null,null,{"$f":"IFERROR(INDEX(Brief!$AO$29:$AO$63,MATCH(C851,Brief!#REF!,0))*1,\"\")","v":""}]
[null,null,null,{"$f":"IFERROR(INDEX(Brief!$AO$29:$AO$63,MATCH(C852,Brief!#REF!,0))*1,\"\")","v":""}]
[null,null,null,{"$f":"IFERROR(INDEX(Brief!$AO$29:$AO$63,MATCH(C853,Brief!#REF!,0))*1,\"\")","v":""}]
[null,null,null,{"$f":"IFERROR(INDEX(Brief!$AO$29:$AO$63,MATCH(C854,Brief!#REF!,0))*1,\"\")","v":""}]
[null,null,null,{"$f":"IFERROR(INDEX(Brief!$AO$29:$AO$63,MATCH(C855,Brief!#REF!,0))*1,\"\")","v":""}]
[null,null,null,{"$f":"IFERROR(INDEX(Brief!$AO$29:$AO$63,MATCH(C856,Brief!#REF!,0))*1,\"\")","v":""}]
[null,null,null,{"$f":"IFERROR(INDEX(Brief!$AO$29:$AO$63,MATCH(C857,Brief!#REF!,0))*1,\"\")","v":""}]
[null,null,null,{"$f":"IFERROR(INDEX(Brief!$AO$29:$AO$63,MATCH(C858,Brief!#REF!,0))*1,\"\")","v":""}]
[null,null,null,{"$f":"IFERROR(INDEX(Brief!$AO$29:$AO$63,MATCH(C859,Brief!#REF!,0))*1,\"\")","v":""}]
[null,null,null,{"$f":"IFERROR(INDEX(Brief!$AO$29:$AO$63,MATCH(C860,Brief!#REF!,0))*1,\"\")","v":""}]
[null,null,null,{"$f":"IFERROR(INDEX(Brief!$AO$29:$AO$63,MATCH(C861,Brief!#REF!,0))*1,\"\")","v":""}]
[null,null,null,{"$f":"IFERROR(INDEX(Brief!$AO$29:$AO$63,MATCH(C862,Brief!#REF!,0))*1,\"\")","v":""}]
[null,null,null,{"$f":"IFERROR(INDEX(Brief!$AO$29:$AO$63,MATCH(C863,Brief!#REF!,0))*1,\"\")","v":""}]
[null,null,null,{"$f":"IFERROR(INDEX(Brief!$AO$29:$AO$63,MATCH(C864,Brief!#REF!,0))*1,\"\")","v":""}]
[null,null,null,{"$f":"IFERROR(INDEX(Brief!$AO$29:$AO$63,MATCH(C865,Brief!#REF!,0))*1,\"\")","v":""}]
[null,null,null,{"$f":"IFERROR(INDEX(Brief!$AO$29:$AO$63,MATCH(C866,Brief!#REF!,0))*1,\"\")","v":""}]
[null,null,null,{"$f":"IFERROR(INDEX(Brief!$AO$29:$AO$63,MATCH(C867,Brief!#REF!,0))*1,\"\")","v":""}]
[null,null,null,{"$f":"IFERROR(INDEX(Brief!$AO$29:$AO$63,MATCH(C868,Brief!#REF!,0))*1,\"\")","v":""}]
[null,null,null,{"$f":"IFERROR(INDEX(Brief!$AO$29:$AO$63,MATCH(C869,Brief!#REF!,0))*1,\"\")","v":""}]
[null,null,null,{"$f":"IFERROR(INDEX(Brief!$AO$29:$AO$63,MATCH(C870,Brief!#REF!,0))*1,\"\")","v":""}]
[null,null,null,{"$f":"IFERROR(INDEX(Brief!$AO$29:$AO$63,MATCH(C871,Brief!#REF!,0))*1,\"\")","v":""}]
[null,null,null,{"$f":"IFERROR(INDEX(Brief!$AO$29:$AO$63,MATCH(C872,Brief!#REF!,0))*1,\"\")","v":""}]
[null,null,null,{"$f":"IFERROR(INDEX(Brief!$AO$29:$AO$63,MATCH(C873,Brief!#REF!,0))*1,\"\")","v":""}]
[null,null,null,{"$f":"IFERROR(INDEX(Brief!$AO$29:$AO$63,MATCH(C874,Brief!#REF!,0))*1,\"\")","v":""}]
[null,null,null,{"$f":"IFERROR(INDEX(Brief!$AO$29:$AO$63,MATCH(C875,Brief!#REF!,0))*1,\"\")","v":""}]
[null,null,null,{"$f":"IFERROR(INDEX(Brief!$AO$29:$AO$63,MATCH(C876,Brief!#REF!,0))*1,\"\")","v":""}]
[null,null,null,{"$f":"IFERROR(INDEX(Brief!$AO$29:$AO$63,MATCH(C877,Brief!#REF!,0))*1,\"\")","v":""}]
[null,null,null,{"$f":"IFERROR(INDEX(Brief!$AO$29:$AO$63,MATCH(C878,Brief!#REF!,0))*1,\"\")","v":""}]
[null,null,null,{"$f":"IFERROR(INDEX(Brief!$AO$29:$AO$63,MATCH(C879,Brief!#REF!,0))*1,\"\")","v":""}]
[null,null,null,{"$f":"IFERROR(INDEX(Brief!$AO$29:$AO$63,MATCH(C880,Brief!#REF!,0))*1,\"\")","v":""}]
[null,null,null,{"$f":"IFERROR(INDEX(Brief!$AO$29:$AO$63,MATCH(C881,Brief!#REF!,0))*1,\"\")","v":""}]
[null,null,null,{"$f":"IFERROR(INDEX(Brief!$AO$29:$AO$63,MATCH(C882,Brief!#REF!,0))*1,\"\")","v":""}]
[null,null,null,{"$f":"IFERROR(INDEX(Brief!$AO$29:$AO$63,MATCH(C883,Brief!#REF!,0))*1,\"\")","v":""}]
[null,null,null,{"$f":"IFERROR(INDEX(Brief!$AO$29:$AO$63,MATCH(C884,Brief!#REF!,0))*1,\"\")","v":""}]
[null,null,null,{"$f":"IFERROR(INDEX(Brief!$AO$29:$AO$63,MATCH(C885,Brief!#REF!,0))*1,\"\")","v":""}]
[null,null,null,{"$f":"IFERROR(INDEX(Brief!$AO$29:$AO$63,MATCH(C886,Brief!#REF!,0))*1,\"\")","v":""}]
[null,null,null,{"$f":"IFERROR(INDEX(Brief!$AO$29:$AO$63,MATCH(C887,Brief!#REF!,0))*1,\"\")","v":""}]
[null,null,null,{"$f":"IFERROR(INDEX(Brief!$AO$29:$AO$63,MATCH(C888,Brief!#REF!,0))*1,\"\")","v":""}]
[null,null,null,{"$f":"IFERROR(INDEX(Brief!$AO$29:$AO$63,MATCH(C889,Brief!#REF!,0))*1,\"\")","v":""}]
[null,null,null,{"$f":"IFERROR(INDEX(Brief!$AO$29:$AO$63,MATCH(C890,Brief!#REF!,0))*1,\"\")","v":""}]
[null,null,null,{"$f":"IFERROR(INDEX(Brief!$AO$29:$AO$63,MATCH(C891,Brief!#REF!,0))*1,\"\")","v":""}]
[null,null,null,{"$f":"IFERROR(INDEX(Brief!$AO$29:$AO$63,MATCH(C892,Brief!#REF!,0))*1,\"\")","v":""}]
[null,null,null,{"$f":"IFERROR(INDEX(Brief!$AO$29:$AO$63,MATCH(C893,Brief!#REF!,0))*1,\"\")","v":""}]
[null,null,null,{"$f":"IFERROR(INDEX(Brief!$AO$29:$AO$63,MATCH(C894,Brief!#REF!,0))*1,\"\")","v":""}]
[null,null,null,{"$f":"IFERROR(INDEX(Brief!$AO$29:$AO$63,MATCH(C895,Brief!#REF!,0))*1,\"\")","v":""}]
[null,null,null,{"$f":"IFERROR(INDEX(Brief!$AO$29:$AO$63,MATCH(C896,Brief!#REF!,0))*1,\"\")","v":""}]
[null,null,null,{"$f":"IFERROR(INDEX(Brief!$AO$29:$AO$63,MATCH(C897,Brief!#REF!,0))*1,\"\")","v":""}]
[null,null,null,{"$f":"IFERROR(INDEX(Brief!$AO$29:$AO$63,MATCH(C898,Brief!#REF!,0))*1,\"\")","v":""}]
[null,null,null,{"$f":"IFERROR(INDEX(Brief!$AO$29:$AO$63,MATCH(C899,Brief!#REF!,0))*1,\"\")","v":""}]
[null,null,null,{"$f":"IFERROR(INDEX(Brief!$AO$29:$AO$63,MATCH(C900,Brief!#REF!,0))*1,\"\")","v":""}]
[null,null,null,{"$f":"IFERROR(INDEX(Brief!$AO$29:$AO$63,MATCH(C901,Brief!#REF!,0))*1,\"\")","v":""}]
[null,null,null,{"$f":"IFERROR(INDEX(Brief!$AO$29:$AO$63,MATCH(C902,Brief!#REF!,0))*1,\"\")","v":""}]
[null,null,null,{"$f":"IFERROR(INDEX(Brief!$AO$29:$AO$63,MATCH(C903,Brief!#REF!,0))*1,\"\")","v":""}]
[null,null,null,{"$f":"IFERROR(INDEX(Brief!$AO$29:$AO$63,MATCH(C904,Brief!#REF!,0))*1,\"\")","v":""}]
[null,null,null,{"$f":"IFERROR(INDEX(Brief!$AO$29:$AO$63,MATCH(C905,Brief!#REF!,0))*1,\"\")","v":""}]
[null,null,null,{"$f":"IFERROR(INDEX(Brief!$AO$29:$AO$63,MATCH(C906,Brief!#REF!,0))*1,\"\")","v":""}]
[null,null,null,{"$f":"IFERROR(INDEX(Brief!$AO$29:$AO$63,MATCH(C907,Brief!#REF!,0))*1,\"\")","v":""}]
[null,null,null,{"$f":"IFERROR(INDEX(Brief!$AO$29:$AO$63,MATCH(C908,Brief!#REF!,0))*1,\"\")","v":""}]
[null,null,null,{"$f":"IFERROR(INDEX(Brief!$AO$29:$AO$63,MATCH(C909,Brief!#REF!,0))*1,\"\")","v":""}]
[null,null,null,{"$f":"IFERROR(INDEX(Brief!$AO$29:$AO$63,MATCH(C910,Brief!#REF!,0))*1,\"\")","v":""}]
[null,null,null,{"$f":"IFERROR(INDEX(Brief!$AO$29:$AO$63,MATCH(C911,Brief!#REF!,0))*1,\"\")","v":""}]
[null,null,null,{"$f":"IFERROR(INDEX(Brief!$AO$29:$AO$63,MATCH(C912,Brief!#REF!,0))*1,\"\")","v":""}]
[null,null,null,{"$f":"IFERROR(INDEX(Brief!$AO$29:$AO$63,MATCH(C913,Brief!#REF!,0))*1,\"\")","v":""}]
[null,null,null,{"$f":"IFERROR(INDEX(Brief!$AO$29:$AO$63,MATCH(C914,Brief!#REF!,0))*1,\"\")","v":""}]
[null,null,null,{"$f":"IFERROR(INDEX(Brief!$AO$29:$AO$63,MATCH(C915,Brief!#REF!,0))*1,\"\")","v":""}]
[null,null,null,{"$f":"IFERROR(INDEX(Brief!$AO$29:$AO$63,MATCH(C916,Brief!#REF!,0))*1,\"\")","v":""}]
[null,null,null,{"$f":"IFERROR(INDEX(Brief!$AO$29:$AO$63,MATCH(C917,Brief!#REF!,0))*1,\"\")","v":""}]
[null,null,null,{"$f":"IFERROR(INDEX(Brief!$AO$29:$AO$63,MATCH(C918,Brief!#REF!,0))*1,\"\")","v":""}]
[null,null,null,{"$f":"IFERROR(INDEX(Brief!$AO$29:$AO$63,MATCH(C919,Brief!#REF!,0))*1,\"\")","v":""}]
[null,null,null,{"$f":"IFERROR(INDEX(Brief!$AO$29:$AO$63,MATCH(C920,Brief!#REF!,0))*1,\"\")","v":""}]
[null,null,null,{"$f":"IFERROR(INDEX(Brief!$AO$29:$AO$63,MATCH(C921,Brief!#REF!,0))*1,\"\")","v":""}]
[null,null,null,{"$f":"IFERROR(INDEX(Brief!$AO$29:$AO$63,MATCH(C922,Brief!#REF!,0))*1,\"\")","v":""}]
[null,null,null,{"$f":"IFERROR(INDEX(Brief!$AO$29:$AO$63,MATCH(C923,Brief!#REF!,0))*1,\"\")","v":""}]
[null,null,null,{"$f":"IFERROR(INDEX(Brief!$AO$29:$AO$63,MATCH(C924,Brief!#REF!,0))*1,\"\")","v":""}]
[null,null,null,{"$f":"IFERROR(INDEX(Brief!$AO$29:$AO$63,MATCH(C925,Brief!#REF!,0))*1,\"\")","v":""}]
[null,null,null,{"$f":"IFERROR(INDEX(Brief!$AO$29:$AO$63,MATCH(C926,Brief!#REF!,0))*1,\"\")","v":""}]
[null,null,null,{"$f":"IFERROR(INDEX(Brief!$AO$29:$AO$63,MATCH(C927,Brief!#REF!,0))*1,\"\")","v":""}]
[null,null,null,{"$f":"IFERROR(INDEX(Brief!$AO$29:$AO$63,MATCH(C928,Brief!#REF!,0))*1,\"\")","v":""}]
[null,null,null,{"$f":"IFERROR(INDEX(Brief!$AO$29:$AO$63,MATCH(C929,Brief!#REF!,0))*1,\"\")","v":""}]
[null,null,null,{"$f":"IFERROR(INDEX(Brief!$AO$29:$AO$63,MATCH(C930,Brief!#REF!,0))*1,\"\")","v":""}]
[null,null,null,{"$f":"IFERROR(INDEX(Brief!$AO$29:$AO$63,MATCH(C931,Brief!#REF!,0))*1,\"\")","v":""}]
[null,null,null,{"$f":"IFERROR(INDEX(Brief!$AO$29:$AO$63,MATCH(C932,Brief!#REF!,0))*1,\"\")","v":""}]
[null,null,null,{"$f":"IFERROR(INDEX(Brief!$AO$29:$AO$63,MATCH(C933,Brief!#REF!,0))*1,\"\")","v":""}]
[null,null,null,{"$f":"IFERROR(INDEX(Brief!$AO$29:$AO$63,MATCH(C934,Brief!#REF!,0))*1,\"\")","v":""}]
[null,null,null,{"$f":"IFERROR(INDEX(Brief!$AO$29:$AO$63,MATCH(C935,Brief!#REF!,0))*1,\"\")","v":""}]
[null,null,null,{"$f":"IFERROR(INDEX(Brief!$AO$29:$AO$63,MATCH(C936,Brief!#REF!,0))*1,\"\")","v":""}]
[null,null,null,{"$f":"IFERROR(INDEX(Brief!$AO$29:$AO$63,MATCH(C937,Brief!#REF!,0))*1,\"\")","v":""}]
[null,null,null,{"$f":"IFERROR(INDEX(Brief!$AO$29:$AO$63,MATCH(C938,Brief!#REF!,0))*1,\"\")","v":""}]
[null,null,null,{"$f":"IFERROR(INDEX(Brief!$AO$29:$AO$63,MATCH(C939,Brief!#REF!,0))*1,\"\")","v":""}]
[null,null,null,{"$f":"IFERROR(INDEX(Brief!$AO$29:$AO$63,MATCH(C940,Brief!#REF!,0))*1,\"\")","v":""}]
[null,null,null,{"$f":"IFERROR(INDEX(Brief!$AO$29:$AO$63,MATCH(C941,Brief!#REF!,0))*1,\"\")","v":""}]
[null,null,null,{"$f":"IFERROR(INDEX(Brief!$AO$29:$AO$63,MATCH(C942,Brief!#REF!,0))*1,\"\")","v":""}]
[null,null,null,{"$f":"IFERROR(INDEX(Brief!$AO$29:$AO$63,MATCH(C943,Brief!#REF!,0))*1,\"\")","v":""}]
[null,null,null,{"$f":"IFERROR(INDEX(Brief!$AO$29:$AO$63,MATCH(C944,Brief!#REF!,0))*1,\"\")","v":""}]
[null,null,null,{"$f":"IFERROR(INDEX(Brief!$AO$29:$AO$63,MATCH(C945,Brief!#REF!,0))*1,\"\")","v":""}]
[null,null,null,{"$f":"IFERROR(INDEX(Brief!$AO$29:$AO$63,MATCH(C946,Brief!#REF!,0))*1,\"\")","v":""}]
[null,null,null,{"$f":"IFERROR(INDEX(Brief!$AO$29:$AO$63,MATCH(C947,Brief!#REF!,0))*1,\"\")","v":""}]
[null,null,null,{"$f":"IFERROR(INDEX(Brief!$AO$29:$AO$63,MATCH(C948,Brief!#REF!,0))*1,\"\")","v":""}]
[null,null,null,{"$f":"IFERROR(INDEX(Brief!$AO$29:$AO$63,MATCH(C949,Brief!#REF!,0))*1,\"\")","v":""}]
[null,null,null,{"$f":"IFERROR(INDEX(Brief!$AO$29:$AO$63,MATCH(C950,Brief!#REF!,0))*1,\"\")","v":""}]
[null,null,null,{"$f":"IFERROR(INDEX(Brief!$AO$29:$AO$63,MATCH(C951,Brief!#REF!,0))*1,\"\")","v":""}]
[null,null,null,{"$f":"IFERROR(INDEX(Brief!$AO$29:$AO$63,MATCH(C952,Brief!#REF!,0))*1,\"\")","v":""}]
[null,null,null,{"$f":"IFERROR(INDEX(Brief!$AO$29:$AO$63,MATCH(C953,Brief!#REF!,0))*1,\"\")","v":""}]
[null,null,null,{"$f":"IFERROR(INDEX(Brief!$AO$29:$AO$63,MATCH(C954,Brief!#REF!,0))*1,\"\")","v":""}]
[null,null,null,{"$f":"IFERROR(INDEX(Brief!$AO$29:$AO$63,MATCH(C955,Brief!#REF!,0))*1,\"\")","v":""}]
[null,null,null,{"$f":"IFERROR(INDEX(Brief!$AO$29:$AO$63,MATCH(C956,Brief!#REF!,0))*1,\"\")","v":""}]
[null,null,null,{"$f":"IFERROR(INDEX(Brief!$AO$29:$AO$63,MATCH(C957,Brief!#REF!,0))*1,\"\")","v":""}]
[null,null,null,{"$f":"IFERROR(INDEX(Brief!$AO$29:$AO$63,MATCH(C958,Brief!#REF!,0))*1,\"\")","v":""}]
[null,null,null,{"$f":"IFERROR(INDEX(Brief!$AO$29:$AO$63,MATCH(C959,Brief!#REF!,0))*1,\"\")","v":""}]
[null,null,null,{"$f":"IFERROR(INDEX(Brief!$AO$29:$AO$63,MATCH(C960,Brief!#REF!,0))*1,\"\")","v":""}]
[null,null,null,{"$f":"IFERROR(INDEX(Brief!$AO$29:$AO$63,MATCH(C961,Brief!#REF!,0))*1,\"\")","v":""}]
[null,null,null,{"$f":"IFERROR(INDEX(Brief!$AO$29:$AO$63,MATCH(C962,Brief!#REF!,0))*1,\"\")","v":""}]
[null,null,null,{"$f":"IFERROR(INDEX(Brief!$AO$29:$AO$63,MATCH(C963,Brief!#REF!,0))*1,\"\")","v":""}]
[null,null,null,{"$f":"IFERROR(INDEX(Brief!$AO$29:$AO$63,MATCH(C964,Brief!#REF!,0))*1,\"\")","v":""}]
[null,null,null,{"$f":"IFERROR(INDEX(Brief!$AO$29:$AO$63,MATCH(C965,Brief!#REF!,0))*1,\"\")","v":""}]
[null,null,null,{"$f":"IFERROR(INDEX(Brief!$AO$29:$AO$63,MATCH(C966,Brief!#REF!,0))*1,\"\")","v":""}]
[null,null,null,{"$f":"IFERROR(INDEX(Brief!$AO$29:$AO$63,MATCH(C967,Brief!#REF!,0))*1,\"\")","v":""}]
[null,null,null,{"$f":"IFERROR(INDEX(Brief!$AO$29:$AO$63,MATCH(C968,Brief!#REF!,0))*1,\"\")","v":""}]
[null,null,null,{"$f":"IFERROR(INDEX(Brief!$AO$29:$AO$63,MATCH(C969,Brief!#REF!,0))*1,\"\")","v":""}]
[null,null,null,{"$f":"IFERROR(INDEX(Brief!$AO$29:$AO$63,MATCH(C970,Brief!#REF!,0))*1,\"\")","v":""}]
[null,null,null,{"$f":"IFERROR(INDEX(Brief!$AO$29:$AO$63,MATCH(C971,Brief!#REF!,0))*1,\"\")","v":""}]
[null,null,null,{"$f":"IFERROR(INDEX(Brief!$AO$29:$AO$63,MATCH(C972,Brief!#REF!,0))*1,\"\")","v":""}]
[null,null,null,{"$f":"IFERROR(INDEX(Brief!$AO$29:$AO$63,MATCH(C973,Brief!#REF!,0))*1,\"\")","v":""}]
[null,null,null,{"$f":"IFERROR(INDEX(Brief!$AO$29:$AO$63,MATCH(C974,Brief!#REF!,0))*1,\"\")","v":""}]
[null,null,null,{"$f":"IFERROR(INDEX(Brief!$AO$29:$AO$63,MATCH(C975,Brief!#REF!,0))*1,\"\")","v":""}]
[null,null,null,{"$f":"IFERROR(INDEX(Brief!$AO$29:$AO$63,MATCH(C976,Brief!#REF!,0))*1,\"\")","v":""}]
[null,null,null,{"$f":"IFERROR(INDEX(Brief!$AO$29:$AO$63,MATCH(C977,Brief!#REF!,0))*1,\"\")","v":""}]
[null,null,null,{"$f":"IFERROR(INDEX(Brief!$AO$29:$AO$63,MATCH(C978,Brief!#REF!,0))*1,\"\")","v":""}]
[null,null,null,{"$f":"IFERROR(INDEX(Brief!$AO$29:$AO$63,MATCH(C979,Brief!#REF!,0))*1,\"\")","v":""}]
[null,null,null,{"$f":"IFERROR(INDEX(Brief!$AO$29:$AO$63,MATCH(C980,Brief!#REF!,0))*1,\"\")","v":""}]
[null,null,null,{"$f":"IFERROR(INDEX(Brief!$AO$29:$AO$63,MATCH(C981,Brief!#REF!,0))*1,\"\")","v":""}]
[null,null,null,{"$f":"IFERROR(INDEX(Brief!$AO$29:$AO$63,MATCH(C982,Brief!#REF!,0))*1,\"\")","v":""}]
[null,null,null,{"$f":"IFERROR(INDEX(Brief!$AO$29:$AO$63,MATCH(C983,Brief!#REF!,0))*1,\"\")","v":""}]
[null,null,null,{"$f":"IFERROR(INDEX(Brief!$AO$29:$AO$63,MATCH(C984,Brief!#REF!,0))*1,\"\")","v":""}]
[null,null,null,{"$f":"IFERROR(INDEX(Brief!$AO$29:$AO$63,MATCH(C985,Brief!#REF!,0))*1,\"\")","v":""}]
[null,null,null,{"$f":"IFERROR(INDEX(Brief!$AO$29:$AO$63,MATCH(C986,Brief!#REF!,0))*1,\"\")","v":""}]
[null,null,null,{"$f":"IFERROR(INDEX(Brief!$AO$29:$AO$63,MATCH(C987,Brief!#REF!,0))*1,\"\")","v":""}]
[null,null,null,{"$f":"IFERROR(INDEX(Brief!$AO$29:$AO$63,MATCH(C988,Brief!#REF!,0))*1,\"\")","v":""}]
[null,null,null,{"$f":"IFERROR(INDEX(Brief!$AO$29:$AO$63,MATCH(C989,Brief!#REF!,0))*1,\"\")","v":""}]
[null,null,null,{"$f":"IFERROR(INDEX(Brief!$AO$29:$AO$63,MATCH(C990,Brief!#REF!,0))*1,\"\")","v":""}]
[null,null,null,{"$f":"IFERROR(INDEX(Brief!$AO$29:$AO$63,MATCH(C991,Brief!#REF!,0))*1,\"\")","v":""}]
[null,null,null,{"$f":"IFERROR(INDEX(Brief!$AO$29:$AO$63,MATCH(C992,Brief!#REF!,0))*1,\"\")","v":""}]
[null,null,null,{"$f":"IFERROR(INDEX(Brief!$AO$29:$AO$63,MATCH(C993,Brief!#REF!,0))*1,\"\")","v":""}]
[null,null,null,{"$f":"IFERROR(INDEX(Brief!$AO$29:$AO$63,MATCH(C994,Brief!#REF!,0))*1,\"\")","v":""}]
[null,null,null,{"$f":"IFERROR(INDEX(Brief!$AO$29:$AO$63,MATCH(C995,Brief!#REF!,0))*1,\"\")","v":""}]
[null,null,null,{"$f":"IFERROR(INDEX(Brief!$AO$29:$AO$63,MATCH(C996,Brief!#REF!,0))*1,\"\")","v":""}]
[null,null,null,{"$f":"IFERROR(INDEX(Brief!$AO$29:$AO$63,MATCH(C997,Brief!#REF!,0))*1,\"\")","v":""}]
[null,null,null,{"$f":"IFERROR(INDEX(Brief!$AO$29:$AO$63,MATCH(C998,Brief!#REF!,0))*1,\"\")","v":""}]
[null,null,null,{"$f":"IFERROR(INDEX(Brief!$AO$29:$AO$63,MATCH(C999,Brief!#REF!,0))*1,\"\")","v":""}]
[null,null,null,{"$f":"IFERROR(INDEX(Brief!$AO$29:$AO$63,MATCH(C1000,Brief!#REF!,0))*1,\"\")","v":""}]
[null,null,null,{"$f":"IFERROR(INDEX(Brief!$AO$29:$AO$63,MATCH(C1001,Brief!#REF!,0))*1,\"\")","v":""}]
[null,null,null,{"$f":"IFERROR(INDEX(Brief!$AO$29:$AO$63,MATCH(C1002,Brief!#REF!,0))*1,\"\")","v":""}]
[null,null,null,{"$f":"IFERROR(INDEX(Brief!$AO$29:$AO$63,MATCH(C1003,Brief!#REF!,0))*1,\"\")","v":""}]
[null,null,null,{"$f":"IFERROR(INDEX(Brief!$AO$29:$AO$63,MATCH(C1004,Brief!#REF!,0))*1,\"\")","v":""}]
[null,null,null,{"$f":"IFERROR(INDEX(Brief!$AO$29:$AO$63,MATCH(C1005,Brief!#REF!,0))*1,\"\")","v":""}]
[null,null,null,{"$f":"IFERROR(INDEX(Brief!$AO$29:$AO$63,MATCH(C1006,Brief!#REF!,0))*1,\"\")","v":""}]
[null,null,null,{"$f":"IFERROR(INDEX(Brief!$AO$29:$AO$63,MATCH(C1007,Brief!#REF!,0))*1,\"\")","v":""}]
[null,null,null,{"$f":"IFERROR(INDEX(Brief!$AO$29:$AO$63,MATCH(C1008,Brief!#REF!,0))*1,\"\")","v":""}]
[null,null,null,{"$f":"IFERROR(INDEX(Brief!$AO$29:$AO$63,MATCH(C1009,Brief!#REF!,0))*1,\"\")","v":""}]
[null,null,null,{"$f":"IFERROR(INDEX(Brief!$AO$29:$AO$63,MATCH(C1010,Brief!#REF!,0))*1,\"\")","v":""}]
[null,null,null,{"$f":"IFERROR(INDEX(Brief!$AO$29:$AO$63,MATCH(C1011,Brief!#REF!,0))*1,\"\")","v":""}]
[null,null,null,{"$f":"IFERROR(INDEX(Brief!$AO$29:$AO$63,MATCH(C1012,Brief!#REF!,0))*1,\"\")","v":""}]
[null,null,null,{"$f":"IFERROR(INDEX(Brief!$AO$29:$AO$63,MATCH(C1013,Brief!#REF!,0))*1,\"\")","v":""}]
[null,null,null,{"$f":"IFERROR(INDEX(Brief!$AO$29:$AO$63,MATCH(C1014,Brief!#REF!,0))*1,\"\")","v":""}]
[null,null,null,{"$f":"IFERROR(INDEX(Brief!$AO$29:$AO$63,MATCH(C1015,Brief!#REF!,0))*1,\"\")","v":""}]
[null,null,null,{"$f":"IFERROR(INDEX(Brief!$AO$29:$AO$63,MATCH(C1016,Brief!#REF!,0))*1,\"\")","v":""}]
[null,null,null,{"$f":"IFERROR(INDEX(Brief!$AO$29:$AO$63,MATCH(C1017,Brief!#REF!,0))*1,\"\")","v":""}]
[null,null,null,{"$f":"IFERROR(INDEX(Brief!$AO$29:$AO$63,MATCH(C1018,Brief!#REF!,0))*1,\"\")","v":""}]
[null,null,null,{"$f":"IFERROR(INDEX(Brief!$AO$29:$AO$63,MATCH(C1019,Brief!#REF!,0))*1,\"\")","v":""}]
[null,null,null,{"$f":"IFERROR(INDEX(Brief!$AO$29:$AO$63,MATCH(C1020,Brief!#REF!,0))*1,\"\")","v":""}]
[null,null,null,{"$f":"IFERROR(INDEX(Brief!$AO$29:$AO$63,MATCH(C1021,Brief!#REF!,0))*1,\"\")","v":""}]
[null,null,null,{"$f":"IFERROR(INDEX(Brief!$AO$29:$AO$63,MATCH(C1022,Brief!#REF!,0))*1,\"\")","v":""}]
[null,null,null,{"$f":"IFERROR(INDEX(Brief!$AO$29:$AO$63,MATCH(C1023,Brief!#REF!,0))*1,\"\")","v":""}]
[null,null,null,{"$f":"IFERROR(INDEX(Brief!$AO$29:$AO$63,MATCH(C1024,Brief!#REF!,0))*1,\"\")","v":""}]
[null,null,null,{"$f":"IFERROR(INDEX(Brief!$AO$29:$AO$63,MATCH(C1025,Brief!#REF!,0))*1,\"\")","v":""}]
[null,null,null,{"$f":"IFERROR(INDEX(Brief!$AO$29:$AO$63,MATCH(C1026,Brief!#REF!,0))*1,\"\")","v":""}]
[null,null,null,{"$f":"IFERROR(INDEX(Brief!$AO$29:$AO$63,MATCH(C1027,Brief!#REF!,0))*1,\"\")","v":""}]
[null,null,null,{"$f":"IFERROR(INDEX(Brief!$AO$29:$AO$63,MATCH(C1028,Brief!#REF!,0))*1,\"\")","v":""}]
[null,null,null,{"$f":"IFERROR(INDEX(Brief!$AO$29:$AO$63,MATCH(C1029,Brief!#REF!,0))*1,\"\")","v":""}]
[null,null,null,{"$f":"IFERROR(INDEX(Brief!$AO$29:$AO$63,MATCH(C1030,Brief!#REF!,0))*1,\"\")","v":""}]
[null,null,null,{"$f":"IFERROR(INDEX(Brief!$AO$29:$AO$63,MATCH(C1031,Brief!#REF!,0))*1,\"\")","v":""}]
[null,null,null,{"$f":"IFERROR(INDEX(Brief!$AO$29:$AO$63,MATCH(C1032,Brief!#REF!,0))*1,\"\")","v":""}]
[null,null,null,{"$f":"IFERROR(INDEX(Brief!$AO$29:$AO$63,MATCH(C1033,Brief!#REF!,0))*1,\"\")","v":""}]
[null,null,null,{"$f":"IFERROR(INDEX(Brief!$AO$29:$AO$63,MATCH(C1034,Brief!#REF!,0))*1,\"\")","v":""}]
[null,null,null,{"$f":"IFERROR(INDEX(Brief!$AO$29:$AO$63,MATCH(C1035,Brief!#REF!,0))*1,\"\")","v":""}]
[null,null,null,{"$f":"IFERROR(INDEX(Brief!$AO$29:$AO$63,MATCH(C1036,Brief!#REF!,0))*1,\"\")","v":""}]
[null,null,null,{"$f":"IFERROR(INDEX(Brief!$AO$29:$AO$63,MATCH(C1037,Brief!#REF!,0))*1,\"\")","v":""}]
[null,null,null,{"$f":"IFERROR(INDEX(Brief!$AO$29:$AO$63,MATCH(C1038,Brief!#REF!,0))*1,\"\")","v":""}]
[null,null,null,{"$f":"IFERROR(INDEX(Brief!$AO$29:$AO$63,MATCH(C1039,Brief!#REF!,0))*1,\"\")","v":""}]
[null,null,null,{"$f":"IFERROR(INDEX(Brief!$AO$29:$AO$63,MATCH(C1040,Brief!#REF!,0))*1,\"\")","v":""}]
[null,null,null,{"$f":"IFERROR(INDEX(Brief!$AO$29:$AO$63,MATCH(C1041,Brief!#REF!,0))*1,\"\")","v":""}]
[null,null,null,{"$f":"IFERROR(INDEX(Brief!$AO$29:$AO$63,MATCH(C1042,Brief!#REF!,0))*1,\"\")","v":""}]
[null,null,null,{"$f":"IFERROR(INDEX(Brief!$AO$29:$AO$63,MATCH(C1043,Brief!#REF!,0))*1,\"\")","v":""}]
[null,null,null,{"$f":"IFERROR(INDEX(Brief!$AO$29:$AO$63,MATCH(C1044,Brief!#REF!,0))*1,\"\")","v":""}]
[null,null,null,{"$f":"IFERROR(INDEX(Brief!$AO$29:$AO$63,MATCH(C1045,Brief!#REF!,0))*1,\"\")","v":""}]
[null,null,null,{"$f":"IFERROR(INDEX(Brief!$AO$29:$AO$63,MATCH(C1046,Brief!#REF!,0))*1,\"\")","v":""}]
[null,null,null,{"$f":"IFERROR(INDEX(Brief!$AO$29:$AO$63,MATCH(C1047,Brief!#REF!,0))*1,\"\")","v":""}]
[null,null,null,{"$f":"IFERROR(INDEX(Brief!$AO$29:$AO$63,MATCH(C1048,Brief!#REF!,0))*1,\"\")","v":""}]
[null,null,null,{"$f":"IFERROR(INDEX(Brief!$AO$29:$AO$63,MATCH(C1049,Brief!#REF!,0))*1,\"\")","v":""}]
[null,null,null,{"$f":"IFERROR(INDEX(Brief!$AO$29:$AO$63,MATCH(C1050,Brief!#REF!,0))*1,\"\")","v":""}]
[null,null,null,{"$f":"IFERROR(INDEX(Brief!$AO$29:$AO$63,MATCH(C1051,Brief!#REF!,0))*1,\"\")","v":""}]
[null,null,null,{"$f":"IFERROR(INDEX(Brief!$AO$29:$AO$63,MATCH(C1052,Brief!#REF!,0))*1,\"\")","v":""}]
[null,null,null,{"$f":"IFERROR(INDEX(Brief!$AO$29:$AO$63,MATCH(C1053,Brief!#REF!,0))*1,\"\")","v":""}]
[null,null,null,{"$f":"IFERROR(INDEX(Brief!$AO$29:$AO$63,MATCH(C1054,Brief!#REF!,0))*1,\"\")","v":""}]
[null,null,null,{"$f":"IFERROR(INDEX(Brief!$AO$29:$AO$63,MATCH(C1055,Brief!#REF!,0))*1,\"\")","v":""}]
[null,null,null,{"$f":"IFERROR(INDEX(Brief!$AO$29:$AO$63,MATCH(C1056,Brief!#REF!,0))*1,\"\")","v":""}]
[null,null,null,{"$f":"IFERROR(INDEX(Brief!$AO$29:$AO$63,MATCH(C1057,Brief!#REF!,0))*1,\"\")","v":""}]
[null,null,null,{"$f":"IFERROR(INDEX(Brief!$AO$29:$AO$63,MATCH(C1058,Brief!#REF!,0))*1,\"\")","v":""}]
[null,null,null,{"$f":"IFERROR(INDEX(Brief!$AO$29:$AO$63,MATCH(C1059,Brief!#REF!,0))*1,\"\")","v":""}]
[null,null,null,{"$f":"IFERROR(INDEX(Brief!$AO$29:$AO$63,MATCH(C1060,Brief!#REF!,0))*1,\"\")","v":""}]
[null,null,null,{"$f":"IFERROR(INDEX(Brief!$AO$29:$AO$63,MATCH(C1061,Brief!#REF!,0))*1,\"\")","v":""}]
[null,null,null,{"$f":"IFERROR(INDEX(Brief!$AO$29:$AO$63,MATCH(C1062,Brief!#REF!,0))*1,\"\")","v":""}]
[null,null,null,{"$f":"IFERROR(INDEX(Brief!$AO$29:$AO$63,MATCH(C1063,Brief!#REF!,0))*1,\"\")","v":""}]
[null,null,null,{"$f":"IFERROR(INDEX(Brief!$AO$29:$AO$63,MATCH(C1064,Brief!#REF!,0))*1,\"\")","v":""}]
[null,null,null,{"$f":"IFERROR(INDEX(Brief!$AO$29:$AO$63,MATCH(C1065,Brief!#REF!,0))*1,\"\")","v":""}]
[null,null,null,{"$f":"IFERROR(INDEX(Brief!$AO$29:$AO$63,MATCH(C1066,Brief!#REF!,0))*1,\"\")","v":""}]
[null,null,null,{"$f":"IFERROR(INDEX(Brief!$AO$29:$AO$63,MATCH(C1067,Brief!#REF!,0))*1,\"\")","v":""}]
[null,null,null,{"$f":"IFERROR(INDEX(Brief!$AO$29:$AO$63,MATCH(C1068,Brief!#REF!,0))*1,\"\")","v":""}]
[null,null,null,{"$f":"IFERROR(INDEX(Brief!$AO$29:$AO$63,MATCH(C1069,Brief!#REF!,0))*1,\"\")","v":""}]
[null,null,null,{"$f":"IFERROR(INDEX(Brief!$AO$29:$AO$63,MATCH(C1070,Brief!#REF!,0))*1,\"\")","v":""}]
[null,null,null,{"$f":"IFERROR(INDEX(Brief!$AO$29:$AO$63,MATCH(C1071,Brief!#REF!,0))*1,\"\")","v":""}]
[null,null,null,{"$f":"IFERROR(INDEX(Brief!$AO$29:$AO$63,MATCH(C1072,Brief!#REF!,0))*1,\"\")","v":""}]
[null,null,null,{"$f":"IFERROR(INDEX(Brief!$AO$29:$AO$63,MATCH(C1073,Brief!#REF!,0))*1,\"\")","v":""}]
[null,null,null,{"$f":"IFERROR(INDEX(Brief!$AO$29:$AO$63,MATCH(C1074,Brief!#REF!,0))*1,\"\")","v":""}]
[null,null,null,{"$f":"IFERROR(INDEX(Brief!$AO$29:$AO$63,MATCH(C1075,Brief!#REF!,0))*1,\"\")","v":""}]
[null,null,null,{"$f":"IFERROR(INDEX(Brief!$AO$29:$AO$63,MATCH(C1076,Brief!#REF!,0))*1,\"\")","v":""}]
[null,null,null,{"$f":"IFERROR(INDEX(Brief!$AO$29:$AO$63,MATCH(C1077,Brief!#REF!,0))*1,\"\")","v":""}]
[null,null,null,{"$f":"IFERROR(INDEX(Brief!$AO$29:$AO$63,MATCH(C1078,Brief!#REF!,0))*1,\"\")","v":""}]
[null,null,null,{"$f":"IFERROR(INDEX(Brief!$AO$29:$AO$63,MATCH(C1079,Brief!#REF!,0))*1,\"\")","v":""}]
[null,null,null,{"$f":"IFERROR(INDEX(Brief!$AO$29:$AO$63,MATCH(C1080,Brief!#REF!,0))*1,\"\")","v":""}]
[null,null,null,{"$f":"IFERROR(INDEX(Brief!$AO$29:$AO$63,MATCH(C1081,Brief!#REF!,0))*1,\"\")","v":""}]
[null,null,null,{"$f":"IFERROR(INDEX(Brief!$AO$29:$AO$63,MATCH(C1082,Brief!#REF!,0))*1,\"\")","v":""}]
[null,null,null,{"$f":"IFERROR(INDEX(Brief!$AO$29:$AO$63,MATCH(C1083,Brief!#REF!,0))*1,\"\")","v":""}]
[null,null,null,{"$f":"IFERROR(INDEX(Brief!$AO$29:$AO$63,MATCH(C1084,Brief!#REF!,0))*1,\"\")","v":""}]
[null,null,null,{"$f":"IFERROR(INDEX(Brief!$AO$29:$AO$63,MATCH(C1085,Brief!#REF!,0))*1,\"\")","v":""}]
[null,null,null,{"$f":"IFERROR(INDEX(Brief!$AO$29:$AO$63,MATCH(C1086,Brief!#REF!,0))*1,\"\")","v":""}]
[null,null,null,{"$f":"IFERROR(INDEX(Brief!$AO$29:$AO$63,MATCH(C1087,Brief!#REF!,0))*1,\"\")","v":""}]
[null,null,null,{"$f":"IFERROR(INDEX(Brief!$AO$29:$AO$63,MATCH(C1088,Brief!#REF!,0))*1,\"\")","v":""}]
[null,null,null,{"$f":"IFERROR(INDEX(Brief!$AO$29:$AO$63,MATCH(C1089,Brief!#REF!,0))*1,\"\")","v":""}]
[null,null,null,{"$f":"IFERROR(INDEX(Brief!$AO$29:$AO$63,MATCH(C1090,Brief!#REF!,0))*1,\"\")","v":""}]
[null,null,null,{"$f":"IFERROR(INDEX(Brief!$AO$29:$AO$63,MATCH(C1091,Brief!#REF!,0))*1,\"\")","v":""}]
[null,null,null,{"$f":"IFERROR(INDEX(Brief!$AO$29:$AO$63,MATCH(C1092,Brief!#REF!,0))*1,\"\")","v":""}]
[null,null,null,{"$f":"IFERROR(INDEX(Brief!$AO$29:$AO$63,MATCH(C1093,Brief!#REF!,0))*1,\"\")","v":""}]
[null,null,null,{"$f":"IFERROR(INDEX(Brief!$AO$29:$AO$63,MATCH(C1094,Brief!#REF!,0))*1,\"\")","v":""}]
[null,null,null,{"$f":"IFERROR(INDEX(Brief!$AO$29:$AO$63,MATCH(C1095,Brief!#REF!,0))*1,\"\")","v":""}]
[null,null,null,{"$f":"IFERROR(INDEX(Brief!$AO$29:$AO$63,MATCH(C1096,Brief!#REF!,0))*1,\"\")","v":""}]
[null,null,null,{"$f":"IFERROR(INDEX(Brief!$AO$29:$AO$63,MATCH(C1097,Brief!#REF!,0))*1,\"\")","v":""}]
[null,null,null,{"$f":"IFERROR(INDEX(Brief!$AO$29:$AO$63,MATCH(C1098,Brief!#REF!,0))*1,\"\")","v":""}]
[null,null,null,{"$f":"IFERROR(INDEX(Brief!$AO$29:$AO$63,MATCH(C1099,Brief!#REF!,0))*1,\"\")","v":""}]
[null,null,null,{"$f":"IFERROR(INDEX(Brief!$AO$29:$AO$63,MATCH(C1100,Brief!#REF!,0))*1,\"\")","v":""}]
[null,null,null,{"$f":"IFERROR(INDEX(Brief!$AO$29:$AO$63,MATCH(C1101,Brief!#REF!,0))*1,\"\")","v":""}]
[null,null,null,{"$f":"IFERROR(INDEX(Brief!$AO$29:$AO$63,MATCH(C1102,Brief!#REF!,0))*1,\"\")","v":""}]
[null,null,null,{"$f":"IFERROR(INDEX(Brief!$AO$29:$AO$63,MATCH(C1103,Brief!#REF!,0))*1,\"\")","v":""}]
[null,null,null,{"$f":"IFERROR(INDEX(Brief!$AO$29:$AO$63,MATCH(C1104,Brief!#REF!,0))*1,\"\")","v":""}]
[null,null,null,{"$f":"IFERROR(INDEX(Brief!$AO$29:$AO$63,MATCH(C1105,Brief!#REF!,0))*1,\"\")","v":""}]
[null,null,null,{"$f":"IFERROR(INDEX(Brief!$AO$29:$AO$63,MATCH(C1106,Brief!#REF!,0))*1,\"\")","v":""}]
[null,null,null,{"$f":"IFERROR(INDEX(Brief!$AO$29:$AO$63,MATCH(C1107,Brief!#REF!,0))*1,\"\")","v":""}]
[null,null,null,{"$f":"IFERROR(INDEX(Brief!$AO$29:$AO$63,MATCH(C1108,Brief!#REF!,0))*1,\"\")","v":""}]
[null,null,null,{"$f":"IFERROR(INDEX(Brief!$AO$29:$AO$63,MATCH(C1109,Brief!#REF!,0))*1,\"\")","v":""}]
[null,null,null,{"$f":"IFERROR(INDEX(Brief!$AO$29:$AO$63,MATCH(C1110,Brief!#REF!,0))*1,\"\")","v":""}]
[null,null,null,{"$f":"IFERROR(INDEX(Brief!$AO$29:$AO$63,MATCH(C1111,Brief!#REF!,0))*1,\"\")","v":""}]
[null,null,null,{"$f":"IFERROR(INDEX(Brief!$AO$29:$AO$63,MATCH(C1112,Brief!#REF!,0))*1,\"\")","v":""}]
[null,null,null,{"$f":"IFERROR(INDEX(Brief!$AO$29:$AO$63,MATCH(C1113,Brief!#REF!,0))*1,\"\")","v":""}]
[null,null,null,{"$f":"IFERROR(INDEX(Brief!$AO$29:$AO$63,MATCH(C1114,Brief!#REF!,0))*1,\"\")","v":""}]
[null,null,null,{"$f":"IFERROR(INDEX(Brief!$AO$29:$AO$63,MATCH(C1115,Brief!#REF!,0))*1,\"\")","v":""}]
[null,null,null,{"$f":"IFERROR(INDEX(Brief!$AO$29:$AO$63,MATCH(C1116,Brief!#REF!,0))*1,\"\")","v":""}]
[null,null,null,{"$f":"IFERROR(INDEX(Brief!$AO$29:$AO$63,MATCH(C1117,Brief!#REF!,0))*1,\"\")","v":""}]
[null,null,null,{"$f":"IFERROR(INDEX(Brief!$AO$29:$AO$63,MATCH(C1118,Brief!#REF!,0))*1,\"\")","v":""}]
[null,null,null,{"$f":"IFERROR(INDEX(Brief!$AO$29:$AO$63,MATCH(C1119,Brief!#REF!,0))*1,\"\")","v":""}]
[null,null,null,{"$f":"IFERROR(INDEX(Brief!$AO$29:$AO$63,MATCH(C1120,Brief!#REF!,0))*1,\"\")","v":""}]
[null,null,null,{"$f":"IFERROR(INDEX(Brief!$AO$29:$AO$63,MATCH(C1121,Brief!#REF!,0))*1,\"\")","v":""}]
[null,null,null,{"$f":"IFERROR(INDEX(Brief!$AO$29:$AO$63,MATCH(C1122,Brief!#REF!,0))*1,\"\")","v":""}]
[null,null,null,{"$f":"IFERROR(INDEX(Brief!$AO$29:$AO$63,MATCH(C1123,Brief!#REF!,0))*1,\"\")","v":""}]
[null,null,null,{"$f":"IFERROR(INDEX(Brief!$AO$29:$AO$63,MATCH(C1124,Brief!#REF!,0))*1,\"\")","v":""}]
[null,null,null,{"$f":"IFERROR(INDEX(Brief!$AO$29:$AO$63,MATCH(C1125,Brief!#REF!,0))*1,\"\")","v":""}]
[null,null,null,{"$f":"IFERROR(INDEX(Brief!$AO$29:$AO$63,MATCH(C1126,Brief!#REF!,0))*1,\"\")","v":""}]
[null,null,null,{"$f":"IFERROR(INDEX(Brief!$AO$29:$AO$63,MATCH(C1127,Brief!#REF!,0))*1,\"\")","v":""}]
[null,null,null,{"$f":"IFERROR(INDEX(Brief!$AO$29:$AO$63,MATCH(C1128,Brief!#REF!,0))*1,\"\")","v":""}]
[null,null,null,{"$f":"IFERROR(INDEX(Brief!$AO$29:$AO$63,MATCH(C1129,Brief!#REF!,0))*1,\"\")","v":""}]
[null,null,null,{"$f":"IFERROR(INDEX(Brief!$AO$29:$AO$63,MATCH(C1130,Brief!#REF!,0))*1,\"\")","v":""}]
[null,null,null,{"$f":"IFERROR(INDEX(Brief!$AO$29:$AO$63,MATCH(C1131,Brief!#REF!,0))*1,\"\")","v":""}]
[null,null,null,{"$f":"IFERROR(INDEX(Brief!$AO$29:$AO$63,MATCH(C1132,Brief!#REF!,0))*1,\"\")","v":""}]
[null,null,null,{"$f":"IFERROR(INDEX(Brief!$AO$29:$AO$63,MATCH(C1133,Brief!#REF!,0))*1,\"\")","v":""}]
[null,null,null,{"$f":"IFERROR(INDEX(Brief!$AO$29:$AO$63,MATCH(C1134,Brief!#REF!,0))*1,\"\")","v":""}]
[null,null,null,{"$f":"IFERROR(INDEX(Brief!$AO$29:$AO$63,MATCH(C1135,Brief!#REF!,0))*1,\"\")","v":""}]
[null,null,null,{"$f":"IFERROR(INDEX(Brief!$AO$29:$AO$63,MATCH(C1136,Brief!#REF!,0))*1,\"\")","v":""}]
[null,null,null,{"$f":"IFERROR(INDEX(Brief!$AO$29:$AO$63,MATCH(C1137,Brief!#REF!,0))*1,\"\")","v":""}]
[null,null,null,{"$f":"IFERROR(INDEX(Brief!$AO$29:$AO$63,MATCH(C1138,Brief!#REF!,0))*1,\"\")","v":""}]
[null,null,null,{"$f":"IFERROR(INDEX(Brief!$AO$29:$AO$63,MATCH(C1139,Brief!#REF!,0))*1,\"\")","v":""}]
[null,null,null,{"$f":"IFERROR(INDEX(Brief!$AO$29:$AO$63,MATCH(C1140,Brief!#REF!,0))*1,\"\")","v":""}]
[null,null,null,{"$f":"IFERROR(INDEX(Brief!$AO$29:$AO$63,MATCH(C1141,Brief!#REF!,0))*1,\"\")","v":""}]
[null,null,null,{"$f":"IFERROR(INDEX(Brief!$AO$29:$AO$63,MATCH(C1142,Brief!#REF!,0))*1,\"\")","v":""}]
[null,null,null,{"$f":"IFERROR(INDEX(Brief!$AO$29:$AO$63,MATCH(C1143,Brief!#REF!,0))*1,\"\")","v":""}]
[null,null,null,{"$f":"IFERROR(INDEX(Brief!$AO$29:$AO$63,MATCH(C1144,Brief!#REF!,0))*1,\"\")","v":""}]
[null,null,null,{"$f":"IFERROR(INDEX(Brief!$AO$29:$AO$63,MATCH(C1145,Brief!#REF!,0))*1,\"\")","v":""}]
[null,null,null,{"$f":"IFERROR(INDEX(Brief!$AO$29:$AO$63,MATCH(C1146,Brief!#REF!,0))*1,\"\")","v":""}]
[null,null,null,{"$f":"IFERROR(INDEX(Brief!$AO$29:$AO$63,MATCH(C1147,Brief!#REF!,0))*1,\"\")","v":""}]
[null,null,null,{"$f":"IFERROR(INDEX(Brief!$AO$29:$AO$63,MATCH(C1148,Brief!#REF!,0))*1,\"\")","v":""}]
[null,null,null,{"$f":"IFERROR(INDEX(Brief!$AO$29:$AO$63,MATCH(C1149,Brief!#REF!,0))*1,\"\")","v":""}]
[null,null,null,{"$f":"IFERROR(INDEX(Brief!$AO$29:$AO$63,MATCH(C1150,Brief!#REF!,0))*1,\"\")","v":""}]
[null,null,null,{"$f":"IFERROR(INDEX(Brief!$AO$29:$AO$63,MATCH(C1151,Brief!#REF!,0))*1,\"\")","v":""}]
[null,null,null,{"$f":"IFERROR(INDEX(Brief!$AO$29:$AO$63,MATCH(C1152,Brief!#REF!,0))*1,\"\")","v":""}]
[null,null,null,{"$f":"IFERROR(INDEX(Brief!$AO$29:$AO$63,MATCH(C1153,Brief!#REF!,0))*1,\"\")","v":""}]
[null,null,null,{"$f":"IFERROR(INDEX(Brief!$AO$29:$AO$63,MATCH(C1154,Brief!#REF!,0))*1,\"\")","v":""}]
[null,null,null,{"$f":"IFERROR(INDEX(Brief!$AO$29:$AO$63,MATCH(C1155,Brief!#REF!,0))*1,\"\")","v":""}]
[null,null,null,{"$f":"IFERROR(INDEX(Brief!$AO$29:$AO$63,MATCH(C1156,Brief!#REF!,0))*1,\"\")","v":""}]
[null,null,null,{"$f":"IFERROR(INDEX(Brief!$AO$29:$AO$63,MATCH(C1157,Brief!#REF!,0))*1,\"\")","v":""}]
[null,null,null,{"$f":"IFERROR(INDEX(Brief!$AO$29:$AO$63,MATCH(C1158,Brief!#REF!,0))*1,\"\")","v":""}]
[null,null,null,{"$f":"IFERROR(INDEX(Brief!$AO$29:$AO$63,MATCH(C1159,Brief!#REF!,0))*1,\"\")","v":""}]
[null,null,null,{"$f":"IFERROR(INDEX(Brief!$AO$29:$AO$63,MATCH(C1160,Brief!#REF!,0))*1,\"\")","v":""}]
[null,null,null,{"$f":"IFERROR(INDEX(Brief!$AO$29:$AO$63,MATCH(C1161,Brief!#REF!,0))*1,\"\")","v":""}]
[null,null,null,{"$f":"IFERROR(INDEX(Brief!$AO$29:$AO$63,MATCH(C1162,Brief!#REF!,0))*1,\"\")","v":""}]
[null,null,null,{"$f":"IFERROR(INDEX(Brief!$AO$29:$AO$63,MATCH(C1163,Brief!#REF!,0))*1,\"\")","v":""}]
[null,null,null,{"$f":"IFERROR(INDEX(Brief!$AO$29:$AO$63,MATCH(C1164,Brief!#REF!,0))*1,\"\")","v":""}]
[null,null,null,{"$f":"IFERROR(INDEX(Brief!$AO$29:$AO$63,MATCH(C1165,Brief!#REF!,0))*1,\"\")","v":""}]
[null,null,null,{"$f":"IFERROR(INDEX(Brief!$AO$29:$AO$63,MATCH(C1166,Brief!#REF!,0))*1,\"\")","v":""}]
[null,null,null,{"$f":"IFERROR(INDEX(Brief!$AO$29:$AO$63,MATCH(C1167,Brief!#REF!,0))*1,\"\")","v":""}]
[null,null,null,{"$f":"IFERROR(INDEX(Brief!$AO$29:$AO$63,MATCH(C1168,Brief!#REF!,0))*1,\"\")","v":""}]
[null,null,null,{"$f":"IFERROR(INDEX(Brief!$AO$29:$AO$63,MATCH(C1169,Brief!#REF!,0))*1,\"\")","v":""}]
[null,null,null,{"$f":"IFERROR(INDEX(Brief!$AO$29:$AO$63,MATCH(C1170,Brief!#REF!,0))*1,\"\")","v":""}]
[null,null,null,{"$f":"IFERROR(INDEX(Brief!$AO$29:$AO$63,MATCH(C1171,Brief!#REF!,0))*1,\"\")","v":""}]
[null,null,null,{"$f":"IFERROR(INDEX(Brief!$AO$29:$AO$63,MATCH(C1172,Brief!#REF!,0))*1,\"\")","v":""}]
[null,null,null,{"$f":"IFERROR(INDEX(Brief!$AO$29:$AO$63,MATCH(C1173,Brief!#REF!,0))*1,\"\")","v":""}]
[null,null,null,{"$f":"IFERROR(INDEX(Brief!$AO$29:$AO$63,MATCH(C1174,Brief!#REF!,0))*1,\"\")","v":""}]
[null,null,null,{"$f":"IFERROR(INDEX(Brief!$AO$29:$AO$63,MATCH(C1175,Brief!#REF!,0))*1,\"\")","v":""}]
[null,null,null,{"$f":"IFERROR(INDEX(Brief!$AO$29:$AO$63,MATCH(C1176,Brief!#REF!,0))*1,\"\")","v":""}]
[null,null,null,{"$f":"IFERROR(INDEX(Brief!$AO$29:$AO$63,MATCH(C1177,Brief!#REF!,0))*1,\"\")","v":""}]
[null,null,null,{"$f":"IFERROR(INDEX(Brief!$AO$29:$AO$63,MATCH(C1178,Brief!#REF!,0))*1,\"\")","v":""}]
[null,null,null,{"$f":"IFERROR(INDEX(Brief!$AO$29:$AO$63,MATCH(C1179,Brief!#REF!,0))*1,\"\")","v":""}]
[null,null,null,{"$f":"IFERROR(INDEX(Brief!$AO$29:$AO$63,MATCH(C1180,Brief!#REF!,0))*1,\"\")","v":""}]
[null,null,null,{"$f":"IFERROR(INDEX(Brief!$AO$29:$AO$63,MATCH(C1181,Brief!#REF!,0))*1,\"\")","v":""}]
[null,null,null,{"$f":"IFERROR(INDEX(Brief!$AO$29:$AO$63,MATCH(C1182,Brief!#REF!,0))*1,\"\")","v":""}]
[null,null,null,{"$f":"IFERROR(INDEX(Brief!$AO$29:$AO$63,MATCH(C1183,Brief!#REF!,0))*1,\"\")","v":""}]
[null,null,null,{"$f":"IFERROR(INDEX(Brief!$AO$29:$AO$63,MATCH(C1184,Brief!#REF!,0))*1,\"\")","v":""}]
[null,null,null,{"$f":"IFERROR(INDEX(Brief!$AO$29:$AO$63,MATCH(C1185,Brief!#REF!,0))*1,\"\")","v":""}]
[null,null,null,{"$f":"IFERROR(INDEX(Brief!$AO$29:$AO$63,MATCH(C1186,Brief!#REF!,0))*1,\"\")","v":""}]
[null,null,null,{"$f":"IFERROR(INDEX(Brief!$AO$29:$AO$63,MATCH(C1187,Brief!#REF!,0))*1,\"\")","v":""}]
[null,null,null,{"$f":"IFERROR(INDEX(Brief!$AO$29:$AO$63,MATCH(C1188,Brief!#REF!,0))*1,\"\")","v":""}]
[null,null,null,{"$f":"IFERROR(INDEX(Brief!$AO$29:$AO$63,MATCH(C1189,Brief!#REF!,0))*1,\"\")","v":""}]
[null,null,null,{"$f":"IFERROR(INDEX(Brief!$AO$29:$AO$63,MATCH(C1190,Brief!#REF!,0))*1,\"\")","v":""}]
[null,null,null,{"$f":"IFERROR(INDEX(Brief!$AO$29:$AO$63,MATCH(C1191,Brief!#REF!,0))*1,\"\")","v":""}]
[null,null,null,{"$f":"IFERROR(INDEX(Brief!$AO$29:$AO$63,MATCH(C1192,Brief!#REF!,0))*1,\"\")","v":""}]
[null,null,null,{"$f":"IFERROR(INDEX(Brief!$AO$29:$AO$63,MATCH(C1193,Brief!#REF!,0))*1,\"\")","v":""}]
[null,null,null,{"$f":"IFERROR(INDEX(Brief!$AO$29:$AO$63,MATCH(C1194,Brief!#REF!,0))*1,\"\")","v":""}]
[null,null,null,{"$f":"IFERROR(INDEX(Brief!$AO$29:$AO$63,MATCH(C1195,Brief!#REF!,0))*1,\"\")","v":""}]
[null,null,null,{"$f":"IFERROR(INDEX(Brief!$AO$29:$AO$63,MATCH(C1196,Brief!#REF!,0))*1,\"\")","v":""}]
[null,null,null,{"$f":"IFERROR(INDEX(Brief!$AO$29:$AO$63,MATCH(C1197,Brief!#REF!,0))*1,\"\")","v":""}]
[null,null,null,{"$f":"IFERROR(INDEX(Brief!$AO$29:$AO$63,MATCH(C1198,Brief!#REF!,0))*1,\"\")","v":""}]
[null,null,null,{"$f":"IFERROR(INDEX(Brief!$AO$29:$AO$63,MATCH(C1199,Brief!#REF!,0))*1,\"\")","v":""}]
[null,null,null,{"$f":"IFERROR(INDEX(Brief!$AO$29:$AO$63,MATCH(C1200,Brief!#REF!,0))*1,\"\")","v":""}]
[null,null,null,{"$f":"IFERROR(INDEX(Brief!$AO$29:$AO$63,MATCH(C1201,Brief!#REF!,0))*1,\"\")","v":""}]
[null,null,null,{"$f":"IFERROR(INDEX(Brief!$AO$29:$AO$63,MATCH(C1202,Brief!#REF!,0))*1,\"\")","v":""}]
[null,null,null,{"$f":"IFERROR(INDEX(Brief!$AO$29:$AO$63,MATCH(C1203,Brief!#REF!,0))*1,\"\")","v":""}]
[null,null,null,{"$f":"IFERROR(INDEX(Brief!$AO$29:$AO$63,MATCH(C1204,Brief!#REF!,0))*1,\"\")","v":""}]
[null,null,null,{"$f":"IFERROR(INDEX(Brief!$AO$29:$AO$63,MATCH(C1205,Brief!#REF!,0))*1,\"\")","v":""}]
[null,null,null,{"$f":"IFERROR(INDEX(Brief!$AO$29:$AO$63,MATCH(C1206,Brief!#REF!,0))*1,\"\")","v":""}]
[null,null,null,{"$f":"IFERROR(INDEX(Brief!$AO$29:$AO$63,MATCH(C1207,Brief!#REF!,0))*1,\"\")","v":""}]
[null,null,null,{"$f":"IFERROR(INDEX(Brief!$AO$29:$AO$63,MATCH(C1208,Brief!#REF!,0))*1,\"\")","v":""}]
[null,null,null,{"$f":"IFERROR(INDEX(Brief!$AO$29:$AO$63,MATCH(C1209,Brief!#REF!,0))*1,\"\")","v":""}]
[null,null,null,{"$f":"IFERROR(INDEX(Brief!$AO$29:$AO$63,MATCH(C1210,Brief!#REF!,0))*1,\"\")","v":""}]
[null,null,null,{"$f":"IFERROR(INDEX(Brief!$AO$29:$AO$63,MATCH(C1211,Brief!#REF!,0))*1,\"\")","v":""}]
[null,null,null,{"$f":"IFERROR(INDEX(Brief!$AO$29:$AO$63,MATCH(C1212,Brief!#REF!,0))*1,\"\")","v":""}]
[null,null,null,{"$f":"IFERROR(INDEX(Brief!$AO$29:$AO$63,MATCH(C1213,Brief!#REF!,0))*1,\"\")","v":""}]
[null,null,null,{"$f":"IFERROR(INDEX(Brief!$AO$29:$AO$63,MATCH(C1214,Brief!#REF!,0))*1,\"\")","v":""}]
[null,null,null,{"$f":"IFERROR(INDEX(Brief!$AO$29:$AO$63,MATCH(C1215,Brief!#REF!,0))*1,\"\")","v":""}]
[null,null,null,{"$f":"IFERROR(INDEX(Brief!$AO$29:$AO$63,MATCH(C1216,Brief!#REF!,0))*1,\"\")","v":""}]
[null,null,null,{"$f":"IFERROR(INDEX(Brief!$AO$29:$AO$63,MATCH(C1217,Brief!#REF!,0))*1,\"\")","v":""}]
[null,null,null,{"$f":"IFERROR(INDEX(Brief!$AO$29:$AO$63,MATCH(C1218,Brief!#REF!,0))*1,\"\")","v":""}]
[null,null,null,{"$f":"IFERROR(INDEX(Brief!$AO$29:$AO$63,MATCH(C1219,Brief!#REF!,0))*1,\"\")","v":""}]
[null,null,null,{"$f":"IFERROR(INDEX(Brief!$AO$29:$AO$63,MATCH(C1220,Brief!#REF!,0))*1,\"\")","v":""}]
[null,null,null,{"$f":"IFERROR(INDEX(Brief!$AO$29:$AO$63,MATCH(C1221,Brief!#REF!,0))*1,\"\")","v":""}]
[null,null,null,{"$f":"IFERROR(INDEX(Brief!$AO$29:$AO$63,MATCH(C1222,Brief!#REF!,0))*1,\"\")","v":""}]
[null,null,null,{"$f":"IFERROR(INDEX(Brief!$AO$29:$AO$63,MATCH(C1223,Brief!#REF!,0))*1,\"\")","v":""}]
[null,null,null,{"$f":"IFERROR(INDEX(Brief!$AO$29:$AO$63,MATCH(C1224,Brief!#REF!,0))*1,\"\")","v":""}]
[null,null,null,{"$f":"IFERROR(INDEX(Brief!$AO$29:$AO$63,MATCH(C1225,Brief!#REF!,0))*1,\"\")","v":""}]
[null,null,null,{"$f":"IFERROR(INDEX(Brief!$AO$29:$AO$63,MATCH(C1226,Brief!#REF!,0))*1,\"\")","v":""}]
[null,null,null,{"$f":"IFERROR(INDEX(Brief!$AO$29:$AO$63,MATCH(C1227,Brief!#REF!,0))*1,\"\")","v":""}]
[null,null,null,{"$f":"IFERROR(INDEX(Brief!$AO$29:$AO$63,MATCH(C1228,Brief!#REF!,0))*1,\"\")","v":""}]
[null,null,null,{"$f":"IFERROR(INDEX(Brief!$AO$29:$AO$63,MATCH(C1229,Brief!#REF!,0))*1,\"\")","v":""}]
[null,null,null,{"$f":"IFERROR(INDEX(Brief!$AO$29:$AO$63,MATCH(C1230,Brief!#REF!,0))*1,\"\")","v":""}]
[null,null,null,{"$f":"IFERROR(INDEX(Brief!$AO$29:$AO$63,MATCH(C1231,Brief!#REF!,0))*1,\"\")","v":""}]
[null,null,null,{"$f":"IFERROR(INDEX(Brief!$AO$29:$AO$63,MATCH(C1232,Brief!#REF!,0))*1,\"\")","v":""}]
[null,null,null,{"$f":"IFERROR(INDEX(Brief!$AO$29:$AO$63,MATCH(C1233,Brief!#REF!,0))*1,\"\")","v":""}]
[null,null,null,{"$f":"IFERROR(INDEX(Brief!$AO$29:$AO$63,MATCH(C1234,Brief!#REF!,0))*1,\"\")","v":""}]
[null,null,null,{"$f":"IFERROR(INDEX(Brief!$AO$29:$AO$63,MATCH(C1235,Brief!#REF!,0))*1,\"\")","v":""}]
[null,null,null,{"$f":"IFERROR(INDEX(Brief!$AO$29:$AO$63,MATCH(C1236,Brief!#REF!,0))*1,\"\")","v":""}]
[null,null,null,{"$f":"IFERROR(INDEX(Brief!$AO$29:$AO$63,MATCH(C1237,Brief!#REF!,0))*1,\"\")","v":""}]
[null,null,null,{"$f":"IFERROR(INDEX(Brief!$AO$29:$AO$63,MATCH(C1238,Brief!#REF!,0))*1,\"\")","v":""}]
[null,null,null,{"$f":"IFERROR(INDEX(Brief!$AO$29:$AO$63,MATCH(C1239,Brief!#REF!,0))*1,\"\")","v":""}]
[null,null,null,{"$f":"IFERROR(INDEX(Brief!$AO$29:$AO$63,MATCH(C1240,Brief!#REF!,0))*1,\"\")","v":""}]
[null,null,null,{"$f":"IFERROR(INDEX(Brief!$AO$29:$AO$63,MATCH(C1241,Brief!#REF!,0))*1,\"\")","v":""}]
[null,null,null,{"$f":"IFERROR(INDEX(Brief!$AO$29:$AO$63,MATCH(C1242,Brief!#REF!,0))*1,\"\")","v":""}]
[null,null,null,{"$f":"IFERROR(INDEX(Brief!$AO$29:$AO$63,MATCH(C1243,Brief!#REF!,0))*1,\"\")","v":""}]
[null,null,null,{"$f":"IFERROR(INDEX(Brief!$AO$29:$AO$63,MATCH(C1244,Brief!#REF!,0))*1,\"\")","v":""}]
[null,null,null,{"$f":"IFERROR(INDEX(Brief!$AO$29:$AO$63,MATCH(C1245,Brief!#REF!,0))*1,\"\")","v":""}]
[null,null,null,{"$f":"IFERROR(INDEX(Brief!$AO$29:$AO$63,MATCH(C1246,Brief!#REF!,0))*1,\"\")","v":""}]
[null,null,null,{"$f":"IFERROR(INDEX(Brief!$AO$29:$AO$63,MATCH(C1247,Brief!#REF!,0))*1,\"\")","v":""}]
[null,null,null,{"$f":"IFERROR(INDEX(Brief!$AO$29:$AO$63,MATCH(C1248,Brief!#REF!,0))*1,\"\")","v":""}]
[null,null,null,{"$f":"IFERROR(INDEX(Brief!$AO$29:$AO$63,MATCH(C1249,Brief!#REF!,0))*1,\"\")","v":""}]
[null,null,null,{"$f":"IFERROR(INDEX(Brief!$AO$29:$AO$63,MATCH(C1250,Brief!#REF!,0))*1,\"\")","v":""}]
[null,null,null,{"$f":"IFERROR(INDEX(Brief!$AO$29:$AO$63,MATCH(C1251,Brief!#REF!,0))*1,\"\")","v":""}]
[null,null,null,{"$f":"IFERROR(INDEX(Brief!$AO$29:$AO$63,MATCH(C1252,Brief!#REF!,0))*1,\"\")","v":""}]
[null,null,null,{"$f":"IFERROR(INDEX(Brief!$AO$29:$AO$63,MATCH(C1253,Brief!#REF!,0))*1,\"\")","v":""}]
[null,null,null,{"$f":"IFERROR(INDEX(Brief!$AO$29:$AO$63,MATCH(C1254,Brief!#REF!,0))*1,\"\")","v":""}]
[null,null,null,{"$f":"IFERROR(INDEX(Brief!$AO$29:$AO$63,MATCH(C1255,Brief!#REF!,0))*1,\"\")","v":""}]
[null,null,null,{"$f":"IFERROR(INDEX(Brief!$AO$29:$AO$63,MATCH(C1256,Brief!#REF!,0))*1,\"\")","v":""}]
[null,null,null,{"$f":"IFERROR(INDEX(Brief!$AO$29:$AO$63,MATCH(C1257,Brief!#REF!,0))*1,\"\")","v":""}]
[null,null,null,{"$f":"IFERROR(INDEX(Brief!$AO$29:$AO$63,MATCH(C1258,Brief!#REF!,0))*1,\"\")","v":""}]
[null,null,null,{"$f":"IFERROR(INDEX(Brief!$AO$29:$AO$63,MATCH(C1259,Brief!#REF!,0))*1,\"\")","v":""}]
[null,null,null,{"$f":"IFERROR(INDEX(Brief!$AO$29:$AO$63,MATCH(C1260,Brief!#REF!,0))*1,\"\")","v":""}]
[null,null,null,{"$f":"IFERROR(INDEX(Brief!$AO$29:$AO$63,MATCH(C1261,Brief!#REF!,0))*1,\"\")","v":""}]
[null,null,null,{"$f":"IFERROR(INDEX(Brief!$AO$29:$AO$63,MATCH(C1262,Brief!#REF!,0))*1,\"\")","v":""}]
[null,null,null,{"$f":"IFERROR(INDEX(Brief!$AO$29:$AO$63,MATCH(C1263,Brief!#REF!,0))*1,\"\")","v":""}]
[null,null,null,{"$f":"IFERROR(INDEX(Brief!$AO$29:$AO$63,MATCH(C1264,Brief!#REF!,0))*1,\"\")","v":""}]
[null,null,null,{"$f":"IFERROR(INDEX(Brief!$AO$29:$AO$63,MATCH(C1265,Brief!#REF!,0))*1,\"\")","v":""}]
[null,null,null,{"$f":"IFERROR(INDEX(Brief!$AO$29:$AO$63,MATCH(C1266,Brief!#REF!,0))*1,\"\")","v":""}]
[null,null,null,{"$f":"IFERROR(INDEX(Brief!$AO$29:$AO$63,MATCH(C1267,Brief!#REF!,0))*1,\"\")","v":""}]
[null,null,null,{"$f":"IFERROR(INDEX(Brief!$AO$29:$AO$63,MATCH(C1268,Brief!#REF!,0))*1,\"\")","v":""}]
[null,null,null,{"$f":"IFERROR(INDEX(Brief!$AO$29:$AO$63,MATCH(C1269,Brief!#REF!,0))*1,\"\")","v":""}]
[null,null,null,{"$f":"IFERROR(INDEX(Brief!$AO$29:$AO$63,MATCH(C1270,Brief!#REF!,0))*1,\"\")","v":""}]
[null,null,null,{"$f":"IFERROR(INDEX(Brief!$AO$29:$AO$63,MATCH(C1271,Brief!#REF!,0))*1,\"\")","v":""}]
[null,null,null,{"$f":"IFERROR(INDEX(Brief!$AO$29:$AO$63,MATCH(C1272,Brief!#REF!,0))*1,\"\")","v":""}]
[null,null,null,{"$f":"IFERROR(INDEX(Brief!$AO$29:$AO$63,MATCH(C1273,Brief!#REF!,0))*1,\"\")","v":""}]
[null,null,null,{"$f":"IFERROR(INDEX(Brief!$AO$29:$AO$63,MATCH(C1274,Brief!#REF!,0))*1,\"\")","v":""}]
[null,null,null,{"$f":"IFERROR(INDEX(Brief!$AO$29:$AO$63,MATCH(C1275,Brief!#REF!,0))*1,\"\")","v":""}]
[null,null,null,{"$f":"IFERROR(INDEX(Brief!$AO$29:$AO$63,MATCH(C1276,Brief!#REF!,0))*1,\"\")","v":""}]
[null,null,null,{"$f":"IFERROR(INDEX(Brief!$AO$29:$AO$63,MATCH(C1277,Brief!#REF!,0))*1,\"\")","v":""}]
[null,null,null,{"$f":"IFERROR(INDEX(Brief!$AO$29:$AO$63,MATCH(C1278,Brief!#REF!,0))*1,\"\")","v":""}]
[null,null,null,{"$f":"IFERROR(INDEX(Brief!$AO$29:$AO$63,MATCH(C1279,Brief!#REF!,0))*1,\"\")","v":""}]
[null,null,null,{"$f":"IFERROR(INDEX(Brief!$AO$29:$AO$63,MATCH(C1280,Brief!#REF!,0))*1,\"\")","v":""}]
[null,null,null,{"$f":"IFERROR(INDEX(Brief!$AO$29:$AO$63,MATCH(C1281,Brief!#REF!,0))*1,\"\")","v":""}]
[null,null,null,{"$f":"IFERROR(INDEX(Brief!$AO$29:$AO$63,MATCH(C1282,Brief!#REF!,0))*1,\"\")","v":""}]
[null,null,null,{"$f":"IFERROR(INDEX(Brief!$AO$29:$AO$63,MATCH(C1283,Brief!#REF!,0))*1,\"\")","v":""}]
[null,null,null,{"$f":"IFERROR(INDEX(Brief!$AO$29:$AO$63,MATCH(C1284,Brief!#REF!,0))*1,\"\")","v":""}]
[null,null,null,{"$f":"IFERROR(INDEX(Brief!$AO$29:$AO$63,MATCH(C1285,Brief!#REF!,0))*1,\"\")","v":""}]
[null,null,null,{"$f":"IFERROR(INDEX(Brief!$AO$29:$AO$63,MATCH(C1286,Brief!#REF!,0))*1,\"\")","v":""}]
[null,null,null,{"$f":"IFERROR(INDEX(Brief!$AO$29:$AO$63,MATCH(C1287,Brief!#REF!,0))*1,\"\")","v":""}]
[null,null,null,{"$f":"IFERROR(INDEX(Brief!$AO$29:$AO$63,MATCH(C1288,Brief!#REF!,0))*1,\"\")","v":""}]
[null,null,null,{"$f":"IFERROR(INDEX(Brief!$AO$29:$AO$63,MATCH(C1289,Brief!#REF!,0))*1,\"\")","v":""}]
[null,null,null,{"$f":"IFERROR(INDEX(Brief!$AO$29:$AO$63,MATCH(C1290,Brief!#REF!,0))*1,\"\")","v":""}]
[null,null,null,{"$f":"IFERROR(INDEX(Brief!$AO$29:$AO$63,MATCH(C1291,Brief!#REF!,0))*1,\"\")","v":""}]
[null,null,null,{"$f":"IFERROR(INDEX(Brief!$AO$29:$AO$63,MATCH(C1292,Brief!#REF!,0))*1,\"\")","v":""}]
[null,null,null,{"$f":"IFERROR(INDEX(Brief!$AO$29:$AO$63,MATCH(C1293,Brief!#REF!,0))*1,\"\")","v":""}]
[null,null,null,{"$f":"IFERROR(INDEX(Brief!$AO$29:$AO$63,MATCH(C1294,Brief!#REF!,0))*1,\"\")","v":""}]
[null,null,null,{"$f":"IFERROR(INDEX(Brief!$AO$29:$AO$63,MATCH(C1295,Brief!#REF!,0))*1,\"\")","v":""}]
[null,null,null,{"$f":"IFERROR(INDEX(Brief!$AO$29:$AO$63,MATCH(C1296,Brief!#REF!,0))*1,\"\")","v":""}]
[null,null,null,{"$f":"IFERROR(INDEX(Brief!$AO$29:$AO$63,MATCH(C1297,Brief!#REF!,0))*1,\"\")","v":""}]
[null,null,null,{"$f":"IFERROR(INDEX(Brief!$AO$29:$AO$63,MATCH(C1298,Brief!#REF!,0))*1,\"\")","v":""}]
[null,null,null,{"$f":"IFERROR(INDEX(Brief!$AO$29:$AO$63,MATCH(C1299,Brief!#REF!,0))*1,\"\")","v":""}]
[null,null,null,{"$f":"IFERROR(INDEX(Brief!$AO$29:$AO$63,MATCH(C1300,Brief!#REF!,0))*1,\"\")","v":""}]
[null,null,null,{"$f":"IFERROR(INDEX(Brief!$AO$29:$AO$63,MATCH(C1301,Brief!#REF!,0))*1,\"\")","v":""}]
[null,null,null,{"$f":"IFERROR(INDEX(Brief!$AO$29:$AO$63,MATCH(C1302,Brief!#REF!,0))*1,\"\")","v":""}]
[null,null,null,{"$f":"IFERROR(INDEX(Brief!$AO$29:$AO$63,MATCH(C1303,Brief!#REF!,0))*1,\"\")","v":""}]
[null,null,null,{"$f":"IFERROR(INDEX(Brief!$AO$29:$AO$63,MATCH(C1304,Brief!#REF!,0))*1,\"\")","v":""}]
[null,null,null,{"$f":"IFERROR(INDEX(Brief!$AO$29:$AO$63,MATCH(C1305,Brief!#REF!,0))*1,\"\")","v":""}]
[null,null,null,{"$f":"IFERROR(INDEX(Brief!$AO$29:$AO$63,MATCH(C1306,Brief!#REF!,0))*1,\"\")","v":""}]
[null,null,null,{"$f":"IFERROR(INDEX(Brief!$AO$29:$AO$63,MATCH(C1307,Brief!#REF!,0))*1,\"\")","v":""}]
[null,null,null,{"$f":"IFERROR(INDEX(Brief!$AO$29:$AO$63,MATCH(C1308,Brief!#REF!,0))*1,\"\")","v":""}]
[null,null,null,{"$f":"IFERROR(INDEX(Brief!$AO$29:$AO$63,MATCH(C1309,Brief!#REF!,0))*1,\"\")","v":""}]
[null,null,null,{"$f":"IFERROR(INDEX(Brief!$AO$29:$AO$63,MATCH(C1310,Brief!#REF!,0))*1,\"\")","v":""}]
[null,null,null,{"$f":"IFERROR(INDEX(Brief!$AO$29:$AO$63,MATCH(C1311,Brief!#REF!,0))*1,\"\")","v":""}]
[null,null,null,{"$f":"IFERROR(INDEX(Brief!$AO$29:$AO$63,MATCH(C1312,Brief!#REF!,0))*1,\"\")","v":""}]
[null,null,null,{"$f":"IFERROR(INDEX(Brief!$AO$29:$AO$63,MATCH(C1313,Brief!#REF!,0))*1,\"\")","v":""}]
[null,null,null,{"$f":"IFERROR(INDEX(Brief!$AO$29:$AO$63,MATCH(C1314,Brief!#REF!,0))*1,\"\")","v":""}]
[null,null,null,{"$f":"IFERROR(INDEX(Brief!$AO$29:$AO$63,MATCH(C1315,Brief!#REF!,0))*1,\"\")","v":""}]
[null,null,null,{"$f":"IFERROR(INDEX(Brief!$AO$29:$AO$63,MATCH(C1316,Brief!#REF!,0))*1,\"\")","v":""}]
[null,null,null,{"$f":"IFERROR(INDEX(Brief!$AO$29:$AO$63,MATCH(C1317,Brief!#REF!,0))*1,\"\")","v":""}]
[null,null,null,{"$f":"IFERROR(INDEX(Brief!$AO$29:$AO$63,MATCH(C1318,Brief!#REF!,0))*1,\"\")","v":""}]
[null,null,null,{"$f":"IFERROR(INDEX(Brief!$AO$29:$AO$63,MATCH(C1319,Brief!#REF!,0))*1,\"\")","v":""}]
[null,null,null,{"$f":"IFERROR(INDEX(Brief!$AO$29:$AO$63,MATCH(C1320,Brief!#REF!,0))*1,\"\")","v":""}]
[null,null,null,{"$f":"IFERROR(INDEX(Brief!$AO$29:$AO$63,MATCH(C1321,Brief!#REF!,0))*1,\"\")","v":""}]
[null,null,null,{"$f":"IFERROR(INDEX(Brief!$AO$29:$AO$63,MATCH(C1322,Brief!#REF!,0))*1,\"\")","v":""}]
[null,null,null,{"$f":"IFERROR(INDEX(Brief!$AO$29:$AO$63,MATCH(C1323,Brief!#REF!,0))*1,\"\")","v":""}]
[null,null,null,{"$f":"IFERROR(INDEX(Brief!$AO$29:$AO$63,MATCH(C1324,Brief!#REF!,0))*1,\"\")","v":""}]
[null,null,null,{"$f":"IFERROR(INDEX(Brief!$AO$29:$AO$63,MATCH(C1325,Brief!#REF!,0))*1,\"\")","v":""}]
[null,null,null,{"$f":"IFERROR(INDEX(Brief!$AO$29:$AO$63,MATCH(C1326,Brief!#REF!,0))*1,\"\")","v":""}]
[null,null,null,{"$f":"IFERROR(INDEX(Brief!$AO$29:$AO$63,MATCH(C1327,Brief!#REF!,0))*1,\"\")","v":""}]
[null,null,null,{"$f":"IFERROR(INDEX(Brief!$AO$29:$AO$63,MATCH(C1328,Brief!#REF!,0))*1,\"\")","v":""}]
[null,null,null,{"$f":"IFERROR(INDEX(Brief!$AO$29:$AO$63,MATCH(C1329,Brief!#REF!,0))*1,\"\")","v":""}]
[null,null,null,{"$f":"IFERROR(INDEX(Brief!$AO$29:$AO$63,MATCH(C1330,Brief!#REF!,0))*1,\"\")","v":""}]
[null,null,null,{"$f":"IFERROR(INDEX(Brief!$AO$29:$AO$63,MATCH(C1331,Brief!#REF!,0))*1,\"\")","v":""}]
[null,null,null,{"$f":"IFERROR(INDEX(Brief!$AO$29:$AO$63,MATCH(C1332,Brief!#REF!,0))*1,\"\")","v":""}]
[null,null,null,{"$f":"IFERROR(INDEX(Brief!$AO$29:$AO$63,MATCH(C1333,Brief!#REF!,0))*1,\"\")","v":""}]
[null,null,null,{"$f":"IFERROR(INDEX(Brief!$AO$29:$AO$63,MATCH(C1334,Brief!#REF!,0))*1,\"\")","v":""}]
[null,null,null,{"$f":"IFERROR(INDEX(Brief!$AO$29:$AO$63,MATCH(C1335,Brief!#REF!,0))*1,\"\")","v":""}]
[null,null,null,{"$f":"IFERROR(INDEX(Brief!$AO$29:$AO$63,MATCH(C1336,Brief!#REF!,0))*1,\"\")","v":""}]
[null,null,null,{"$f":"IFERROR(INDEX(Brief!$AO$29:$AO$63,MATCH(C1337,Brief!#REF!,0))*1,\"\")","v":""}]
[null,null,null,{"$f":"IFERROR(INDEX(Brief!$AO$29:$AO$63,MATCH(C1338,Brief!#REF!,0))*1,\"\")","v":""}]
[null,null,null,{"$f":"IFERROR(INDEX(Brief!$AO$29:$AO$63,MATCH(C1339,Brief!#REF!,0))*1,\"\")","v":""}]
[null,null,null,{"$f":"IFERROR(INDEX(Brief!$AO$29:$AO$63,MATCH(C1340,Brief!#REF!,0))*1,\"\")","v":""}]
[null,null,null,{"$f":"IFERROR(INDEX(Brief!$AO$29:$AO$63,MATCH(C1341,Brief!#REF!,0))*1,\"\")","v":""}]
[null,null,null,{"$f":"IFERROR(INDEX(Brief!$AO$29:$AO$63,MATCH(C1342,Brief!#REF!,0))*1,\"\")","v":""}]
[null,null,null,{"$f":"IFERROR(INDEX(Brief!$AO$29:$AO$63,MATCH(C1343,Brief!#REF!,0))*1,\"\")","v":""}]
[null,null,null,{"$f":"IFERROR(INDEX(Brief!$AO$29:$AO$63,MATCH(C1344,Brief!#REF!,0))*1,\"\")","v":""}]
[null,null,null,{"$f":"IFERROR(INDEX(Brief!$AO$29:$AO$63,MATCH(C1345,Brief!#REF!,0))*1,\"\")","v":""}]
[null,null,null,{"$f":"IFERROR(INDEX(Brief!$AO$29:$AO$63,MATCH(C1346,Brief!#REF!,0))*1,\"\")","v":""}]
[null,null,null,{"$f":"IFERROR(INDEX(Brief!$AO$29:$AO$63,MATCH(C1347,Brief!#REF!,0))*1,\"\")","v":""}]
[null,null,null,{"$f":"IFERROR(INDEX(Brief!$AO$29:$AO$63,MATCH(C1348,Brief!#REF!,0))*1,\"\")","v":""}]
[null,null,null,{"$f":"IFERROR(INDEX(Brief!$AO$29:$AO$63,MATCH(C1349,Brief!#REF!,0))*1,\"\")","v":""}]
[null,null,null,{"$f":"IFERROR(INDEX(Brief!$AO$29:$AO$63,MATCH(C1350,Brief!#REF!,0))*1,\"\")","v":""}]
[null,null,null,{"$f":"IFERROR(INDEX(Brief!$AO$29:$AO$63,MATCH(C1351,Brief!#REF!,0))*1,\"\")","v":""}]
[null,null,null,{"$f":"IFERROR(INDEX(Brief!$AO$29:$AO$63,MATCH(C1352,Brief!#REF!,0))*1,\"\")","v":""}]
[null,null,null,{"$f":"IFERROR(INDEX(Brief!$AO$29:$AO$63,MATCH(C1353,Brief!#REF!,0))*1,\"\")","v":""}]
[null,null,null,{"$f":"IFERROR(INDEX(Brief!$AO$29:$AO$63,MATCH(C1354,Brief!#REF!,0))*1,\"\")","v":""}]
[null,null,null,{"$f":"IFERROR(INDEX(Brief!$AO$29:$AO$63,MATCH(C1355,Brief!#REF!,0))*1,\"\")","v":""}]
[null,null,null,{"$f":"IFERROR(INDEX(Brief!$AO$29:$AO$63,MATCH(C1356,Brief!#REF!,0))*1,\"\")","v":""}]
[null,null,null,{"$f":"IFERROR(INDEX(Brief!$AO$29:$AO$63,MATCH(C1357,Brief!#REF!,0))*1,\"\")","v":""}]
[null,null,null,{"$f":"IFERROR(INDEX(Brief!$AO$29:$AO$63,MATCH(C1358,Brief!#REF!,0))*1,\"\")","v":""}]
[null,null,null,{"$f":"IFERROR(INDEX(Brief!$AO$29:$AO$63,MATCH(C1359,Brief!#REF!,0))*1,\"\")","v":""}]
[null,null,null,{"$f":"IFERROR(INDEX(Brief!$AO$29:$AO$63,MATCH(C1360,Brief!#REF!,0))*1,\"\")","v":""}]
[null,null,null,{"$f":"IFERROR(INDEX(Brief!$AO$29:$AO$63,MATCH(C1361,Brief!#REF!,0))*1,\"\")","v":""}]
[null,null,null,{"$f":"IFERROR(INDEX(Brief!$AO$29:$AO$63,MATCH(C1362,Brief!#REF!,0))*1,\"\")","v":""}]
[null,null,null,{"$f":"IFERROR(INDEX(Brief!$AO$29:$AO$63,MATCH(C1363,Brief!#REF!,0))*1,\"\")","v":""}]
[null,null,null,{"$f":"IFERROR(INDEX(Brief!$AO$29:$AO$63,MATCH(C1364,Brief!#REF!,0))*1,\"\")","v":""}]
[null,null,null,{"$f":"IFERROR(INDEX(Brief!$AO$29:$AO$63,MATCH(C1365,Brief!#REF!,0))*1,\"\")","v":""}]
[null,null,null,{"$f":"IFERROR(INDEX(Brief!$AO$29:$AO$63,MATCH(C1366,Brief!#REF!,0))*1,\"\")","v":""}]
[null,null,null,{"$f":"IFERROR(INDEX(Brief!$AO$29:$AO$63,MATCH(C1367,Brief!#REF!,0))*1,\"\")","v":""}]
[null,null,null,{"$f":"IFERROR(INDEX(Brief!$AO$29:$AO$63,MATCH(C1368,Brief!#REF!,0))*1,\"\")","v":""}]
[null,null,null,{"$f":"IFERROR(INDEX(Brief!$AO$29:$AO$63,MATCH(C1369,Brief!#REF!,0))*1,\"\")","v":""}]
[null,null,null,{"$f":"IFERROR(INDEX(Brief!$AO$29:$AO$63,MATCH(C1370,Brief!#REF!,0))*1,\"\")","v":""}]
[null,null,null,{"$f":"IFERROR(INDEX(Brief!$AO$29:$AO$63,MATCH(C1371,Brief!#REF!,0))*1,\"\")","v":""}]
[null,null,null,{"$f":"IFERROR(INDEX(Brief!$AO$29:$AO$63,MATCH(C1372,Brief!#REF!,0))*1,\"\")","v":""}]
[null,null,null,{"$f":"IFERROR(INDEX(Brief!$AO$29:$AO$63,MATCH(C1373,Brief!#REF!,0))*1,\"\")","v":""}]
[null,null,null,{"$f":"IFERROR(INDEX(Brief!$AO$29:$AO$63,MATCH(C1374,Brief!#REF!,0))*1,\"\")","v":""}]
[null,null,null,{"$f":"IFERROR(INDEX(Brief!$AO$29:$AO$63,MATCH(C1375,Brief!#REF!,0))*1,\"\")","v":""}]
[null,null,null,{"$f":"IFERROR(INDEX(Brief!$AO$29:$AO$63,MATCH(C1376,Brief!#REF!,0))*1,\"\")","v":""}]
[null,null,null,{"$f":"IFERROR(INDEX(Brief!$AO$29:$AO$63,MATCH(C1377,Brief!#REF!,0))*1,\"\")","v":""}]
[null,null,null,{"$f":"IFERROR(INDEX(Brief!$AO$29:$AO$63,MATCH(C1378,Brief!#REF!,0))*1,\"\")","v":""}]
[null,null,null,{"$f":"IFERROR(INDEX(Brief!$AO$29:$AO$63,MATCH(C1379,Brief!#REF!,0))*1,\"\")","v":""}]
[null,null,null,{"$f":"IFERROR(INDEX(Brief!$AO$29:$AO$63,MATCH(C1380,Brief!#REF!,0))*1,\"\")","v":""}]
[null,null,null,{"$f":"IFERROR(INDEX(Brief!$AO$29:$AO$63,MATCH(C1381,Brief!#REF!,0))*1,\"\")","v":""}]
[null,null,null,{"$f":"IFERROR(INDEX(Brief!$AO$29:$AO$63,MATCH(C1382,Brief!#REF!,0))*1,\"\")","v":""}]
[null,null,null,{"$f":"IFERROR(INDEX(Brief!$AO$29:$AO$63,MATCH(C1383,Brief!#REF!,0))*1,\"\")","v":""}]
[null,null,null,{"$f":"IFERROR(INDEX(Brief!$AO$29:$AO$63,MATCH(C1384,Brief!#REF!,0))*1,\"\")","v":""}]
[null,null,null,{"$f":"IFERROR(INDEX(Brief!$AO$29:$AO$63,MATCH(C1385,Brief!#REF!,0))*1,\"\")","v":""}]
[null,null,null,{"$f":"IFERROR(INDEX(Brief!$AO$29:$AO$63,MATCH(C1386,Brief!#REF!,0))*1,\"\")","v":""}]
[null,null,null,{"$f":"IFERROR(INDEX(Brief!$AO$29:$AO$63,MATCH(C1387,Brief!#REF!,0))*1,\"\")","v":""}]
[null,null,null,{"$f":"IFERROR(INDEX(Brief!$AO$29:$AO$63,MATCH(C1388,Brief!#REF!,0))*1,\"\")","v":""}]
[null,null,null,{"$f":"IFERROR(INDEX(Brief!$AO$29:$AO$63,MATCH(C1389,Brief!#REF!,0))*1,\"\")","v":""}]
[null,null,null,{"$f":"IFERROR(INDEX(Brief!$AO$29:$AO$63,MATCH(C1390,Brief!#REF!,0))*1,\"\")","v":""}]
[null,null,null,{"$f":"IFERROR(INDEX(Brief!$AO$29:$AO$63,MATCH(C1391,Brief!#REF!,0))*1,\"\")","v":""}]
[null,null,null,{"$f":"IFERROR(INDEX(Brief!$AO$29:$AO$63,MATCH(C1392,Brief!#REF!,0))*1,\"\")","v":""}]
[null,null,null,{"$f":"IFERROR(INDEX(Brief!$AO$29:$AO$63,MATCH(C1393,Brief!#REF!,0))*1,\"\")","v":""}]
[null,null,null,{"$f":"IFERROR(INDEX(Brief!$AO$29:$AO$63,MATCH(C1394,Brief!#REF!,0))*1,\"\")","v":""}]
[null,null,null,{"$f":"IFERROR(INDEX(Brief!$AO$29:$AO$63,MATCH(C1395,Brief!#REF!,0))*1,\"\")","v":""}]
[null,null,null,{"$f":"IFERROR(INDEX(Brief!$AO$29:$AO$63,MATCH(C1396,Brief!#REF!,0))*1,\"\")","v":""}]
[null,null,null,{"$f":"IFERROR(INDEX(Brief!$AO$29:$AO$63,MATCH(C1397,Brief!#REF!,0))*1,\"\")","v":""}]
[null,null,null,{"$f":"IFERROR(INDEX(Brief!$AO$29:$AO$63,MATCH(C1398,Brief!#REF!,0))*1,\"\")","v":""}]
[null,null,null,{"$f":"IFERROR(INDEX(Brief!$AO$29:$AO$63,MATCH(C1399,Brief!#REF!,0))*1,\"\")","v":""}]
[null,null,null,{"$f":"IFERROR(INDEX(Brief!$AO$29:$AO$63,MATCH(C1400,Brief!#REF!,0))*1,\"\")","v":""}]
[null,null,null,{"$f":"IFERROR(INDEX(Brief!$AO$29:$AO$63,MATCH(C1401,Brief!#REF!,0))*1,\"\")","v":""}]
[null,null,null,{"$f":"IFERROR(INDEX(Brief!$AO$29:$AO$63,MATCH(C1402,Brief!#REF!,0))*1,\"\")","v":""}]
[null,null,null,{"$f":"IFERROR(INDEX(Brief!$AO$29:$AO$63,MATCH(C1403,Brief!#REF!,0))*1,\"\")","v":""}]
[null,null,null,{"$f":"IFERROR(INDEX(Brief!$AO$29:$AO$63,MATCH(C1404,Brief!#REF!,0))*1,\"\")","v":""}]
[null,null,null,{"$f":"IFERROR(INDEX(Brief!$AO$29:$AO$63,MATCH(C1405,Brief!#REF!,0))*1,\"\")","v":""}]
[null,null,null,{"$f":"IFERROR(INDEX(Brief!$AO$29:$AO$63,MATCH(C1406,Brief!#REF!,0))*1,\"\")","v":""}]
[null,null,null,{"$f":"IFERROR(INDEX(Brief!$AO$29:$AO$63,MATCH(C1407,Brief!#REF!,0))*1,\"\")","v":""}]
[null,null,null,{"$f":"IFERROR(INDEX(Brief!$AO$29:$AO$63,MATCH(C1408,Brief!#REF!,0))*1,\"\")","v":""}]
[null,null,null,{"$f":"IFERROR(INDEX(Brief!$AO$29:$AO$63,MATCH(C1409,Brief!#REF!,0))*1,\"\")","v":""}]
[null,null,null,{"$f":"IFERROR(INDEX(Brief!$AO$29:$AO$63,MATCH(C1410,Brief!#REF!,0))*1,\"\")","v":""}]
[null,null,null,{"$f":"IFERROR(INDEX(Brief!$AO$29:$AO$63,MATCH(C1411,Brief!#REF!,0))*1,\"\")","v":""}]
[null,null,null,{"$f":"IFERROR(INDEX(Brief!$AO$29:$AO$63,MATCH(C1412,Brief!#REF!,0))*1,\"\")","v":""}]
[null,null,null,{"$f":"IFERROR(INDEX(Brief!$AO$29:$AO$63,MATCH(C1413,Brief!#REF!,0))*1,\"\")","v":""}]
[null,null,null,{"$f":"IFERROR(INDEX(Brief!$AO$29:$AO$63,MATCH(C1414,Brief!#REF!,0))*1,\"\")","v":""}]
[null,null,null,{"$f":"IFERROR(INDEX(Brief!$AO$29:$AO$63,MATCH(C1415,Brief!#REF!,0))*1,\"\")","v":""}]
[null,null,null,{"$f":"IFERROR(INDEX(Brief!$AO$29:$AO$63,MATCH(C1416,Brief!#REF!,0))*1,\"\")","v":""}]
[null,null,null,{"$f":"IFERROR(INDEX(Brief!$AO$29:$AO$63,MATCH(C1417,Brief!#REF!,0))*1,\"\")","v":""}]
[null,null,null,{"$f":"IFERROR(INDEX(Brief!$AO$29:$AO$63,MATCH(C1418,Brief!#REF!,0))*1,\"\")","v":""}]
[null,null,null,{"$f":"IFERROR(INDEX(Brief!$AO$29:$AO$63,MATCH(C1419,Brief!#REF!,0))*1,\"\")","v":""}]
[null,null,null,{"$f":"IFERROR(INDEX(Brief!$AO$29:$AO$63,MATCH(C1420,Brief!#REF!,0))*1,\"\")","v":""}]
[null,null,null,{"$f":"IFERROR(INDEX(Brief!$AO$29:$AO$63,MATCH(C1421,Brief!#REF!,0))*1,\"\")","v":""}]
[null,null,null,{"$f":"IFERROR(INDEX(Brief!$AO$29:$AO$63,MATCH(C1422,Brief!#REF!,0))*1,\"\")","v":""}]
[null,null,null,{"$f":"IFERROR(INDEX(Brief!$AO$29:$AO$63,MATCH(C1423,Brief!#REF!,0))*1,\"\")","v":""}]
[null,null,null,{"$f":"IFERROR(INDEX(Brief!$AO$29:$AO$63,MATCH(C1424,Brief!#REF!,0))*1,\"\")","v":""}]
[null,null,null,{"$f":"IFERROR(INDEX(Brief!$AO$29:$AO$63,MATCH(C1425,Brief!#REF!,0))*1,\"\")","v":""}]
[null,null,null,{"$f":"IFERROR(INDEX(Brief!$AO$29:$AO$63,MATCH(C1426,Brief!#REF!,0))*1,\"\")","v":""}]
[null,null,null,{"$f":"IFERROR(INDEX(Brief!$AO$29:$AO$63,MATCH(C1427,Brief!#REF!,0))*1,\"\")","v":""}]
[null,null,null,{"$f":"IFERROR(INDEX(Brief!$AO$29:$AO$63,MATCH(C1428,Brief!#REF!,0))*1,\"\")","v":""}]
[null,null,null,{"$f":"IFERROR(INDEX(Brief!$AO$29:$AO$63,MATCH(C1429,Brief!#REF!,0))*1,\"\")","v":""}]
[null,null,null,{"$f":"IFERROR(INDEX(Brief!$AO$29:$AO$63,MATCH(C1430,Brief!#REF!,0))*1,\"\")","v":""}]
[null,null,null,{"$f":"IFERROR(INDEX(Brief!$AO$29:$AO$63,MATCH(C1431,Brief!#REF!,0))*1,\"\")","v":""}]
[null,null,null,{"$f":"IFERROR(INDEX(Brief!$AO$29:$AO$63,MATCH(C1432,Brief!#REF!,0))*1,\"\")","v":""}]
[null,null,null,{"$f":"IFERROR(INDEX(Brief!$AO$29:$AO$63,MATCH(C1433,Brief!#REF!,0))*1,\"\")","v":""}]
[null,null,null,{"$f":"IFERROR(INDEX(Brief!$AO$29:$AO$63,MATCH(C1434,Brief!#REF!,0))*1,\"\")","v":""}]
[null,null,null,{"$f":"IFERROR(INDEX(Brief!$AO$29:$AO$63,MATCH(C1435,Brief!#REF!,0))*1,\"\")","v":""}]
[null,null,null,{"$f":"IFERROR(INDEX(Brief!$AO$29:$AO$63,MATCH(C1436,Brief!#REF!,0))*1,\"\")","v":""}]
[null,null,null,{"$f":"IFERROR(INDEX(Brief!$AO$29:$AO$63,MATCH(C1437,Brief!#REF!,0))*1,\"\")","v":""}]
[null,null,null,{"$f":"IFERROR(INDEX(Brief!$AO$29:$AO$63,MATCH(C1438,Brief!#REF!,0))*1,\"\")","v":""}]
[null,null,null,{"$f":"IFERROR(INDEX(Brief!$AO$29:$AO$63,MATCH(C1439,Brief!#REF!,0))*1,\"\")","v":""}]
[null,null,null,{"$f":"IFERROR(INDEX(Brief!$AO$29:$AO$63,MATCH(C1440,Brief!#REF!,0))*1,\"\")","v":""}]
[null,null,null,{"$f":"IFERROR(INDEX(Brief!$AO$29:$AO$63,MATCH(C1441,Brief!#REF!,0))*1,\"\")","v":""}]
[null,null,null,{"$f":"IFERROR(INDEX(Brief!$AO$29:$AO$63,MATCH(C1442,Brief!#REF!,0))*1,\"\")","v":""}]
[null,null,null,{"$f":"IFERROR(INDEX(Brief!$AO$29:$AO$63,MATCH(C1443,Brief!#REF!,0))*1,\"\")","v":""}]
[null,null,null,{"$f":"IFERROR(INDEX(Brief!$AO$29:$AO$63,MATCH(C1444,Brief!#REF!,0))*1,\"\")","v":""}]
[null,null,null,{"$f":"IFERROR(INDEX(Brief!$AO$29:$AO$63,MATCH(C1445,Brief!#REF!,0))*1,\"\")","v":""}]
[null,null,null,{"$f":"IFERROR(INDEX(Brief!$AO$29:$AO$63,MATCH(C1446,Brief!#REF!,0))*1,\"\")","v":""}]
[null,null,null,{"$f":"IFERROR(INDEX(Brief!$AO$29:$AO$63,MATCH(C1447,Brief!#REF!,0))*1,\"\")","v":""}]
[null,null,null,{"$f":"IFERROR(INDEX(Brief!$AO$29:$AO$63,MATCH(C1448,Brief!#REF!,0))*1,\"\")","v":""}]
[null,null,null,{"$f":"IFERROR(INDEX(Brief!$AO$29:$AO$63,MATCH(C1449,Brief!#REF!,0))*1,\"\")","v":""}]
[null,null,null,{"$f":"IFERROR(INDEX(Brief!$AO$29:$AO$63,MATCH(C1450,Brief!#REF!,0))*1,\"\")","v":""}]
[null,null,null,{"$f":"IFERROR(INDEX(Brief!$AO$29:$AO$63,MATCH(C1451,Brief!#REF!,0))*1,\"\")","v":""}]
[null,null,null,{"$f":"IFERROR(INDEX(Brief!$AO$29:$AO$63,MATCH(C1452,Brief!#REF!,0))*1,\"\")","v":""}]
[null,null,null,{"$f":"IFERROR(INDEX(Brief!$AO$29:$AO$63,MATCH(C1453,Brief!#REF!,0))*1,\"\")","v":""}]
[null,null,null,{"$f":"IFERROR(INDEX(Brief!$AO$29:$AO$63,MATCH(C1454,Brief!#REF!,0))*1,\"\")","v":""}]
[null,null,null,{"$f":"IFERROR(INDEX(Brief!$AO$29:$AO$63,MATCH(C1455,Brief!#REF!,0))*1,\"\")","v":""}]
[null,null,null,{"$f":"IFERROR(INDEX(Brief!$AO$29:$AO$63,MATCH(C1456,Brief!#REF!,0))*1,\"\")","v":""}]
[null,null,null,{"$f":"IFERROR(INDEX(Brief!$AO$29:$AO$63,MATCH(C1457,Brief!#REF!,0))*1,\"\")","v":""}]
[null,null,null,{"$f":"IFERROR(INDEX(Brief!$AO$29:$AO$63,MATCH(C1458,Brief!#REF!,0))*1,\"\")","v":""}]
[null,null,null,{"$f":"IFERROR(INDEX(Brief!$AO$29:$AO$63,MATCH(C1459,Brief!#REF!,0))*1,\"\")","v":""}]
[null,null,null,{"$f":"IFERROR(INDEX(Brief!$AO$29:$AO$63,MATCH(C1460,Brief!#REF!,0))*1,\"\")","v":""}]
[null,null,null,{"$f":"IFERROR(INDEX(Brief!$AO$29:$AO$63,MATCH(C1461,Brief!#REF!,0))*1,\"\")","v":""}]
[null,null,null,{"$f":"IFERROR(INDEX(Brief!$AO$29:$AO$63,MATCH(C1462,Brief!#REF!,0))*1,\"\")","v":""}]
[null,null,null,{"$f":"IFERROR(INDEX(Brief!$AO$29:$AO$63,MATCH(C1463,Brief!#REF!,0))*1,\"\")","v":""}]
[null,null,null,{"$f":"IFERROR(INDEX(Brief!$AO$29:$AO$63,MATCH(C1464,Brief!#REF!,0))*1,\"\")","v":""}]
[null,null,null,{"$f":"IFERROR(INDEX(Brief!$AO$29:$AO$63,MATCH(C1465,Brief!#REF!,0))*1,\"\")","v":""}]
[null,null,null,{"$f":"IFERROR(INDEX(Brief!$AO$29:$AO$63,MATCH(C1466,Brief!#REF!,0))*1,\"\")","v":""}]
[null,null,null,{"$f":"IFERROR(INDEX(Brief!$AO$29:$AO$63,MATCH(C1467,Brief!#REF!,0))*1,\"\")","v":""}]
[null,null,null,{"$f":"IFERROR(INDEX(Brief!$AO$29:$AO$63,MATCH(C1468,Brief!#REF!,0))*1,\"\")","v":""}]
[null,null,null,{"$f":"IFERROR(INDEX(Brief!$AO$29:$AO$63,MATCH(C1469,Brief!#REF!,0))*1,\"\")","v":""}]
[null,null,null,{"$f":"IFERROR(INDEX(Brief!$AO$29:$AO$63,MATCH(C1470,Brief!#REF!,0))*1,\"\")","v":""}]
[null,null,null,{"$f":"IFERROR(INDEX(Brief!$AO$29:$AO$63,MATCH(C1471,Brief!#REF!,0))*1,\"\")","v":""}]
[null,null,null,{"$f":"IFERROR(INDEX(Brief!$AO$29:$AO$63,MATCH(C1472,Brief!#REF!,0))*1,\"\")","v":""}]
[null,null,null,{"$f":"IFERROR(INDEX(Brief!$AO$29:$AO$63,MATCH(C1473,Brief!#REF!,0))*1,\"\")","v":""}]
[null,null,null,{"$f":"IFERROR(INDEX(Brief!$AO$29:$AO$63,MATCH(C1474,Brief!#REF!,0))*1,\"\")","v":""}]
[null,null,null,{"$f":"IFERROR(INDEX(Brief!$AO$29:$AO$63,MATCH(C1475,Brief!#REF!,0))*1,\"\")","v":""}]
[null,null,null,{"$f":"IFERROR(INDEX(Brief!$AO$29:$AO$63,MATCH(C1476,Brief!#REF!,0))*1,\"\")","v":""}]
[null,null,null,{"$f":"IFERROR(INDEX(Brief!$AO$29:$AO$63,MATCH(C1477,Brief!#REF!,0))*1,\"\")","v":""}]
[null,null,null,{"$f":"IFERROR(INDEX(Brief!$AO$29:$AO$63,MATCH(C1478,Brief!#REF!,0))*1,\"\")","v":""}]
[null,null,null,{"$f":"IFERROR(INDEX(Brief!$AO$29:$AO$63,MATCH(C1479,Brief!#REF!,0))*1,\"\")","v":""}]
[null,null,null,{"$f":"IFERROR(INDEX(Brief!$AO$29:$AO$63,MATCH(C1480,Brief!#REF!,0))*1,\"\")","v":""}]
[null,null,null,{"$f":"IFERROR(INDEX(Brief!$AO$29:$AO$63,MATCH(C1481,Brief!#REF!,0))*1,\"\")","v":""}]
[null,null,null,{"$f":"IFERROR(INDEX(Brief!$AO$29:$AO$63,MATCH(C1482,Brief!#REF!,0))*1,\"\")","v":""}]
[null,null,null,{"$f":"IFERROR(INDEX(Brief!$AO$29:$AO$63,MATCH(C1483,Brief!#REF!,0))*1,\"\")","v":""}]
[null,null,null,{"$f":"IFERROR(INDEX(Brief!$AO$29:$AO$63,MATCH(C1484,Brief!#REF!,0))*1,\"\")","v":""}]
[null,null,null,{"$f":"IFERROR(INDEX(Brief!$AO$29:$AO$63,MATCH(C1485,Brief!#REF!,0))*1,\"\")","v":""}]
[null,null,null,{"$f":"IFERROR(INDEX(Brief!$AO$29:$AO$63,MATCH(C1486,Brief!#REF!,0))*1,\"\")","v":""}]
[null,null,null,{"$f":"IFERROR(INDEX(Brief!$AO$29:$AO$63,MATCH(C1487,Brief!#REF!,0))*1,\"\")","v":""}]
[null,null,null,{"$f":"IFERROR(INDEX(Brief!$AO$29:$AO$63,MATCH(C1488,Brief!#REF!,0))*1,\"\")","v":""}]
[null,null,null,{"$f":"IFERROR(INDEX(Brief!$AO$29:$AO$63,MATCH(C1489,Brief!#REF!,0))*1,\"\")","v":""}]
[null,null,null,{"$f":"IFERROR(INDEX(Brief!$AO$29:$AO$63,MATCH(C1490,Brief!#REF!,0))*1,\"\")","v":""}]
[null,null,null,{"$f":"IFERROR(INDEX(Brief!$AO$29:$AO$63,MATCH(C1491,Brief!#REF!,0))*1,\"\")","v":""}]
[null,null,null,{"$f":"IFERROR(INDEX(Brief!$AO$29:$AO$63,MATCH(C1492,Brief!#REF!,0))*1,\"\")","v":""}]
[null,null,null,{"$f":"IFERROR(INDEX(Brief!$AO$29:$AO$63,MATCH(C1493,Brief!#REF!,0))*1,\"\")","v":""}]
[null,null,null,{"$f":"IFERROR(INDEX(Brief!$AO$29:$AO$63,MATCH(C1494,Brief!#REF!,0))*1,\"\")","v":""}]
[null,null,null,{"$f":"IFERROR(INDEX(Brief!$AO$29:$AO$63,MATCH(C1495,Brief!#REF!,0))*1,\"\")","v":""}]
[null,null,null,{"$f":"IFERROR(INDEX(Brief!$AO$29:$AO$63,MATCH(C1496,Brief!#REF!,0))*1,\"\")","v":""}]
[null,null,null,{"$f":"IFERROR(INDEX(Brief!$AO$29:$AO$63,MATCH(C1497,Brief!#REF!,0))*1,\"\")","v":""}]
[null,null,null,{"$f":"IFERROR(INDEX(Brief!$AO$29:$AO$63,MATCH(C1498,Brief!#REF!,0))*1,\"\")","v":""}]
[null,null,null,{"$f":"IFERROR(INDEX(Brief!$AO$29:$AO$63,MATCH(C1499,Brief!#REF!,0))*1,\"\")","v":""}]
[null,null,null,{"$f":"IFERROR(INDEX(Brief!$AO$29:$AO$63,MATCH(C1500,Brief!#REF!,0))*1,\"\")","v":""}]
[null,null,null,{"$f":"IFERROR(INDEX(Brief!$AO$29:$AO$63,MATCH(C1501,Brief!#REF!,0))*1,\"\")","v":""}]
[null,null,null,{"$f":"IFERROR(INDEX(Brief!$AO$29:$AO$63,MATCH(C1502,Brief!#REF!,0))*1,\"\")","v":""}]
[null,null,null,{"$f":"IFERROR(INDEX(Brief!$AO$29:$AO$63,MATCH(C1503,Brief!#REF!,0))*1,\"\")","v":""}]
[null,null,null,{"$f":"IFERROR(INDEX(Brief!$AO$29:$AO$63,MATCH(C1504,Brief!#REF!,0))*1,\"\")","v":""}]
[null,null,null,{"$f":"IFERROR(INDEX(Brief!$AO$29:$AO$63,MATCH(C1505,Brief!#REF!,0))*1,\"\")","v":""}]
[null,null,null,{"$f":"IFERROR(INDEX(Brief!$AO$29:$AO$63,MATCH(C1506,Brief!#REF!,0))*1,\"\")","v":""}]
[null,null,null,{"$f":"IFERROR(INDEX(Brief!$AO$29:$AO$63,MATCH(C1507,Brief!#REF!,0))*1,\"\")","v":""}]
[null,null,null,{"$f":"IFERROR(INDEX(Brief!$AO$29:$AO$63,MATCH(C1508,Brief!#REF!,0))*1,\"\")","v":""}]
[null,null,null,{"$f":"IFERROR(INDEX(Brief!$AO$29:$AO$63,MATCH(C1509,Brief!#REF!,0))*1,\"\")","v":""}]
[null,null,null,{"$f":"IFERROR(INDEX(Brief!$AO$29:$AO$63,MATCH(C1510,Brief!#REF!,0))*1,\"\")","v":""}]
[null,null,null,{"$f":"IFERROR(INDEX(Brief!$AO$29:$AO$63,MATCH(C1511,Brief!#REF!,0))*1,\"\")","v":""}]
[null,null,null,{"$f":"IFERROR(INDEX(Brief!$AO$29:$AO$63,MATCH(C1512,Brief!#REF!,0))*1,\"\")","v":""}]
[null,null,null,{"$f":"IFERROR(INDEX(Brief!$AO$29:$AO$63,MATCH(C1513,Brief!#REF!,0))*1,\"\")","v":""}]
[null,null,null,{"$f":"IFERROR(INDEX(Brief!$AO$29:$AO$63,MATCH(C1514,Brief!#REF!,0))*1,\"\")","v":""}]
[null,null,null,{"$f":"IFERROR(INDEX(Brief!$AO$29:$AO$63,MATCH(C1515,Brief!#REF!,0))*1,\"\")","v":""}]
[null,null,null,{"$f":"IFERROR(INDEX(Brief!$AO$29:$AO$63,MATCH(C1516,Brief!#REF!,0))*1,\"\")","v":""}]
[null,null,null,{"$f":"IFERROR(INDEX(Brief!$AO$29:$AO$63,MATCH(C1517,Brief!#REF!,0))*1,\"\")","v":""}]
[null,null,null,{"$f":"IFERROR(INDEX(Brief!$AO$29:$AO$63,MATCH(C1518,Brief!#REF!,0))*1,\"\")","v":""}]
[null,null,null,{"$f":"IFERROR(INDEX(Brief!$AO$29:$AO$63,MATCH(C1519,Brief!#REF!,0))*1,\"\")","v":""}]
[null,null,null,{"$f":"IFERROR(INDEX(Brief!$AO$29:$AO$63,MATCH(C1520,Brief!#REF!,0))*1,\"\")","v":""}]
[null,null,null,{"$f":"IFERROR(INDEX(Brief!$AO$29:$AO$63,MATCH(C1521,Brief!#REF!,0))*1,\"\")","v":""}]
[null,null,null,{"$f":"IFERROR(INDEX(Brief!$AO$29:$AO$63,MATCH(C1522,Brief!#REF!,0))*1,\"\")","v":""}]
[null,null,null,{"$f":"IFERROR(INDEX(Brief!$AO$29:$AO$63,MATCH(C1523,Brief!#REF!,0))*1,\"\")","v":""}]
[null,null,null,{"$f":"IFERROR(INDEX(Brief!$AO$29:$AO$63,MATCH(C1524,Brief!#REF!,0))*1,\"\")","v":""}]
[null,null,null,{"$f":"IFERROR(INDEX(Brief!$AO$29:$AO$63,MATCH(C1525,Brief!#REF!,0))*1,\"\")","v":""}]
[null,null,null,{"$f":"IFERROR(INDEX(Brief!$AO$29:$AO$63,MATCH(C1526,Brief!#REF!,0))*1,\"\")","v":""}]
[null,null,null,{"$f":"IFERROR(INDEX(Brief!$AO$29:$AO$63,MATCH(C1527,Brief!#REF!,0))*1,\"\")","v":""}]
[null,null,null,{"$f":"IFERROR(INDEX(Brief!$AO$29:$AO$63,MATCH(C1528,Brief!#REF!,0))*1,\"\")","v":""}]
[null,null,null,{"$f":"IFERROR(INDEX(Brief!$AO$29:$AO$63,MATCH(C1529,Brief!#REF!,0))*1,\"\")","v":""}]
[null,null,null,{"$f":"IFERROR(INDEX(Brief!$AO$29:$AO$63,MATCH(C1530,Brief!#REF!,0))*1,\"\")","v":""}]
[null,null,null,{"$f":"IFERROR(INDEX(Brief!$AO$29:$AO$63,MATCH(C1531,Brief!#REF!,0))*1,\"\")","v":""}]
[null,null,null,{"$f":"IFERROR(INDEX(Brief!$AO$29:$AO$63,MATCH(C1532,Brief!#REF!,0))*1,\"\")","v":""}]
[null,null,null,{"$f":"IFERROR(INDEX(Brief!$AO$29:$AO$63,MATCH(C1533,Brief!#REF!,0))*1,\"\")","v":""}]
[null,null,null,{"$f":"IFERROR(INDEX(Brief!$AO$29:$AO$63,MATCH(C1534,Brief!#REF!,0))*1,\"\")","v":""}]
[null,null,null,{"$f":"IFERROR(INDEX(Brief!$AO$29:$AO$63,MATCH(C1535,Brief!#REF!,0))*1,\"\")","v":""}]
[null,null,null,{"$f":"IFERROR(INDEX(Brief!$AO$29:$AO$63,MATCH(C1536,Brief!#REF!,0))*1,\"\")","v":""}]
[null,null,null,{"$f":"IFERROR(INDEX(Brief!$AO$29:$AO$63,MATCH(C1537,Brief!#REF!,0))*1,\"\")","v":""}]
[null,null,null,{"$f":"IFERROR(INDEX(Brief!$AO$29:$AO$63,MATCH(C1538,Brief!#REF!,0))*1,\"\")","v":""}]
[null,null,null,{"$f":"IFERROR(INDEX(Brief!$AO$29:$AO$63,MATCH(C1539,Brief!#REF!,0))*1,\"\")","v":""}]
[null,null,null,{"$f":"IFERROR(INDEX(Brief!$AO$29:$AO$63,MATCH(C1540,Brief!#REF!,0))*1,\"\")","v":""}]
[null,null,null,{"$f":"IFERROR(INDEX(Brief!$AO$29:$AO$63,MATCH(C1541,Brief!#REF!,0))*1,\"\")","v":""}]
[null,null,null,{"$f":"IFERROR(INDEX(Brief!$AO$29:$AO$63,MATCH(C1542,Brief!#REF!,0))*1,\"\")","v":""}]
[null,null,null,{"$f":"IFERROR(INDEX(Brief!$AO$29:$AO$63,MATCH(C1543,Brief!#REF!,0))*1,\"\")","v":""}]
[null,null,null,{"$f":"IFERROR(INDEX(Brief!$AO$29:$AO$63,MATCH(C1544,Brief!#REF!,0))*1,\"\")","v":""}]
[null,null,null,{"$f":"IFERROR(INDEX(Brief!$AO$29:$AO$63,MATCH(C1545,Brief!#REF!,0))*1,\"\")","v":""}]
[null,null,null,{"$f":"IFERROR(INDEX(Brief!$AO$29:$AO$63,MATCH(C1546,Brief!#REF!,0))*1,\"\")","v":""}]
[null,null,null,{"$f":"IFERROR(INDEX(Brief!$AO$29:$AO$63,MATCH(C1547,Brief!#REF!,0))*1,\"\")","v":""}]
[null,null,null,{"$f":"IFERROR(INDEX(Brief!$AO$29:$AO$63,MATCH(C1548,Brief!#REF!,0))*1,\"\")","v":""}]
[null,null,null,{"$f":"IFERROR(INDEX(Brief!$AO$29:$AO$63,MATCH(C1549,Brief!#REF!,0))*1,\"\")","v":""}]
[null,null,null,{"$f":"IFERROR(INDEX(Brief!$AO$29:$AO$63,MATCH(C1550,Brief!#REF!,0))*1,\"\")","v":""}]
[null,null,null,{"$f":"IFERROR(INDEX(Brief!$AO$29:$AO$63,MATCH(C1551,Brief!#REF!,0))*1,\"\")","v":""}]
[null,null,null,{"$f":"IFERROR(INDEX(Brief!$AO$29:$AO$63,MATCH(C1552,Brief!#REF!,0))*1,\"\")","v":""}]
[null,null,null,{"$f":"IFERROR(INDEX(Brief!$AO$29:$AO$63,MATCH(C1553,Brief!#REF!,0))*1,\"\")","v":""}]
[null,null,null,{"$f":"IFERROR(INDEX(Brief!$AO$29:$AO$63,MATCH(C1554,Brief!#REF!,0))*1,\"\")","v":""}]
[null,null,null,{"$f":"IFERROR(INDEX(Brief!$AO$29:$AO$63,MATCH(C1555,Brief!#REF!,0))*1,\"\")","v":""}]
[null,null,null,{"$f":"IFERROR(INDEX(Brief!$AO$29:$AO$63,MATCH(C1556,Brief!#REF!,0))*1,\"\")","v":""}]
[null,null,null,{"$f":"IFERROR(INDEX(Brief!$AO$29:$AO$63,MATCH(C1557,Brief!#REF!,0))*1,\"\")","v":""}]
[null,null,null,{"$f":"IFERROR(INDEX(Brief!$AO$29:$AO$63,MATCH(C1558,Brief!#REF!,0))*1,\"\")","v":""}]
[null,null,null,{"$f":"IFERROR(INDEX(Brief!$AO$29:$AO$63,MATCH(C1559,Brief!#REF!,0))*1,\"\")","v":""}]
[null,null,null,{"$f":"IFERROR(INDEX(Brief!$AO$29:$AO$63,MATCH(C1560,Brief!#REF!,0))*1,\"\")","v":""}]
[null,null,null,{"$f":"IFERROR(INDEX(Brief!$AO$29:$AO$63,MATCH(C1561,Brief!#REF!,0))*1,\"\")","v":""}]
[null,null,null,{"$f":"IFERROR(INDEX(Brief!$AO$29:$AO$63,MATCH(C1562,Brief!#REF!,0))*1,\"\")","v":""}]
[null,null,null,{"$f":"IFERROR(INDEX(Brief!$AO$29:$AO$63,MATCH(C1563,Brief!#REF!,0))*1,\"\")","v":""}]
[null,null,null,{"$f":"IFERROR(INDEX(Brief!$AO$29:$AO$63,MATCH(C1564,Brief!#REF!,0))*1,\"\")","v":""}]
[null,null,null,{"$f":"IFERROR(INDEX(Brief!$AO$29:$AO$63,MATCH(C1565,Brief!#REF!,0))*1,\"\")","v":""}]
[null,null,null,{"$f":"IFERROR(INDEX(Brief!$AO$29:$AO$63,MATCH(C1566,Brief!#REF!,0))*1,\"\")","v":""}]
[null,null,null,{"$f":"IFERROR(INDEX(Brief!$AO$29:$AO$63,MATCH(C1567,Brief!#REF!,0))*1,\"\")","v":""}]
[null,null,null,{"$f":"IFERROR(INDEX(Brief!$AO$29:$AO$63,MATCH(C1568,Brief!#REF!,0))*1,\"\")","v":""}]
[null,null,null,{"$f":"IFERROR(INDEX(Brief!$AO$29:$AO$63,MATCH(C1569,Brief!#REF!,0))*1,\"\")","v":""}]
[null,null,null,{"$f":"IFERROR(INDEX(Brief!$AO$29:$AO$63,MATCH(C1570,Brief!#REF!,0))*1,\"\")","v":""}]
[null,null,null,{"$f":"IFERROR(INDEX(Brief!$AO$29:$AO$63,MATCH(C1571,Brief!#REF!,0))*1,\"\")","v":""}]
[null,null,null,{"$f":"IFERROR(INDEX(Brief!$AO$29:$AO$63,MATCH(C1572,Brief!#REF!,0))*1,\"\")","v":""}]
[null,null,null,{"$f":"IFERROR(INDEX(Brief!$AO$29:$AO$63,MATCH(C1573,Brief!#REF!,0))*1,\"\")","v":""}]
[null,null,null,{"$f":"IFERROR(INDEX(Brief!$AO$29:$AO$63,MATCH(C1574,Brief!#REF!,0))*1,\"\")","v":""}]
[null,null,null,{"$f":"IFERROR(INDEX(Brief!$AO$29:$AO$63,MATCH(C1575,Brief!#REF!,0))*1,\"\")","v":""}]
[null,null,null,{"$f":"IFERROR(INDEX(Brief!$AO$29:$AO$63,MATCH(C1576,Brief!#REF!,0))*1,\"\")","v":""}]
[null,null,null,{"$f":"IFERROR(INDEX(Brief!$AO$29:$AO$63,MATCH(C1577,Brief!#REF!,0))*1,\"\")","v":""}]
[null,null,null,{"$f":"IFERROR(INDEX(Brief!$AO$29:$AO$63,MATCH(C1578,Brief!#REF!,0))*1,\"\")","v":""}]
[null,null,null,{"$f":"IFERROR(INDEX(Brief!$AO$29:$AO$63,MATCH(C1579,Brief!#REF!,0))*1,\"\")","v":""}]
[null,null,null,{"$f":"IFERROR(INDEX(Brief!$AO$29:$AO$63,MATCH(C1580,Brief!#REF!,0))*1,\"\")","v":""}]
[null,null,null,{"$f":"IFERROR(INDEX(Brief!$AO$29:$AO$63,MATCH(C1581,Brief!#REF!,0))*1,\"\")","v":""}]
[null,null,null,{"$f":"IFERROR(INDEX(Brief!$AO$29:$AO$63,MATCH(C1582,Brief!#REF!,0))*1,\"\")","v":""}]
[null,null,null,{"$f":"IFERROR(INDEX(Brief!$AO$29:$AO$63,MATCH(C1583,Brief!#REF!,0))*1,\"\")","v":""}]
[null,null,null,{"$f":"IFERROR(INDEX(Brief!$AO$29:$AO$63,MATCH(C1584,Brief!#REF!,0))*1,\"\")","v":""}]
[null,null,null,{"$f":"IFERROR(INDEX(Brief!$AO$29:$AO$63,MATCH(C1585,Brief!#REF!,0))*1,\"\")","v":""}]
[null,null,null,{"$f":"IFERROR(INDEX(Brief!$AO$29:$AO$63,MATCH(C1586,Brief!#REF!,0))*1,\"\")","v":""}]
[null,null,null,{"$f":"IFERROR(INDEX(Brief!$AO$29:$AO$63,MATCH(C1587,Brief!#REF!,0))*1,\"\")","v":""}]
[null,null,null,{"$f":"IFERROR(INDEX(Brief!$AO$29:$AO$63,MATCH(C1588,Brief!#REF!,0))*1,\"\")","v":""}]
[null,null,null,{"$f":"IFERROR(INDEX(Brief!$AO$29:$AO$63,MATCH(C1589,Brief!#REF!,0))*1,\"\")","v":""}]
[null,null,null,{"$f":"IFERROR(INDEX(Brief!$AO$29:$AO$63,MATCH(C1590,Brief!#REF!,0))*1,\"\")","v":""}]
[null,null,null,{"$f":"IFERROR(INDEX(Brief!$AO$29:$AO$63,MATCH(C1591,Brief!#REF!,0))*1,\"\")","v":""}]
[null,null,null,{"$f":"IFERROR(INDEX(Brief!$AO$29:$AO$63,MATCH(C1592,Brief!#REF!,0))*1,\"\")","v":""}]
[null,null,null,{"$f":"IFERROR(INDEX(Brief!$AO$29:$AO$63,MATCH(C1593,Brief!#REF!,0))*1,\"\")","v":""}]
[null,null,null,{"$f":"IFERROR(INDEX(Brief!$AO$29:$AO$63,MATCH(C1594,Brief!#REF!,0))*1,\"\")","v":""}]
[null,null,null,{"$f":"IFERROR(INDEX(Brief!$AO$29:$AO$63,MATCH(C1595,Brief!#REF!,0))*1,\"\")","v":""}]
[null,null,null,{"$f":"IFERROR(INDEX(Brief!$AO$29:$AO$63,MATCH(C1596,Brief!#REF!,0))*1,\"\")","v":""}]
[null,null,null,{"$f":"IFERROR(INDEX(Brief!$AO$29:$AO$63,MATCH(C1597,Brief!#REF!,0))*1,\"\")","v":""}]
[null,null,null,{"$f":"IFERROR(INDEX(Brief!$AO$29:$AO$63,MATCH(C1598,Brief!#REF!,0))*1,\"\")","v":""}]
[null,null,null,{"$f":"IFERROR(INDEX(Brief!$AO$29:$AO$63,MATCH(C1599,Brief!#REF!,0))*1,\"\")","v":""}]
[null,null,null,{"$f":"IFERROR(INDEX(Brief!$AO$29:$AO$63,MATCH(C1600,Brief!#REF!,0))*1,\"\")","v":""}]
[null,null,null,{"$f":"IFERROR(INDEX(Brief!$AO$29:$AO$63,MATCH(C1601,Brief!#REF!,0))*1,\"\")","v":""}]
[null,null,null,{"$f":"IFERROR(INDEX(Brief!$AO$29:$AO$63,MATCH(C1602,Brief!#REF!,0))*1,\"\")","v":""}]
[null,null,null,{"$f":"IFERROR(INDEX(Brief!$AO$29:$AO$63,MATCH(C1603,Brief!#REF!,0))*1,\"\")","v":""}]
[null,null,null,{"$f":"IFERROR(INDEX(Brief!$AO$29:$AO$63,MATCH(C1604,Brief!#REF!,0))*1,\"\")","v":""}]
[null,null,null,{"$f":"IFERROR(INDEX(Brief!$AO$29:$AO$63,MATCH(C1605,Brief!#REF!,0))*1,\"\")","v":""}]
[null,null,null,{"$f":"IFERROR(INDEX(Brief!$AO$29:$AO$63,MATCH(C1606,Brief!#REF!,0))*1,\"\")","v":""}]
[null,null,null,{"$f":"IFERROR(INDEX(Brief!$AO$29:$AO$63,MATCH(C1607,Brief!#REF!,0))*1,\"\")","v":""}]
[null,null,null,{"$f":"IFERROR(INDEX(Brief!$AO$29:$AO$63,MATCH(C1608,Brief!#REF!,0))*1,\"\")","v":""}]
[null,null,null,{"$f":"IFERROR(INDEX(Brief!$AO$29:$AO$63,MATCH(C1609,Brief!#REF!,0))*1,\"\")","v":""}]
[null,null,null,{"$f":"IFERROR(INDEX(Brief!$AO$29:$AO$63,MATCH(C1610,Brief!#REF!,0))*1,\"\")","v":""}]
[null,null,null,{"$f":"IFERROR(INDEX(Brief!$AO$29:$AO$63,MATCH(C1611,Brief!#REF!,0))*1,\"\")","v":""}]
[null,null,null,{"$f":"IFERROR(INDEX(Brief!$AO$29:$AO$63,MATCH(C1612,Brief!#REF!,0))*1,\"\")","v":""}]
[null,null,null,{"$f":"IFERROR(INDEX(Brief!$AO$29:$AO$63,MATCH(C1613,Brief!#REF!,0))*1,\"\")","v":""}]
[null,null,null,{"$f":"IFERROR(INDEX(Brief!$AO$29:$AO$63,MATCH(C1614,Brief!#REF!,0))*1,\"\")","v":""}]
[null,null,null,{"$f":"IFERROR(INDEX(Brief!$AO$29:$AO$63,MATCH(C1615,Brief!#REF!,0))*1,\"\")","v":""}]
[null,null,null,{"$f":"IFERROR(INDEX(Brief!$AO$29:$AO$63,MATCH(C1616,Brief!#REF!,0))*1,\"\")","v":""}]
[null,null,null,{"$f":"IFERROR(INDEX(Brief!$AO$29:$AO$63,MATCH(C1617,Brief!#REF!,0))*1,\"\")","v":""}]
[null,null,null,{"$f":"IFERROR(INDEX(Brief!$AO$29:$AO$63,MATCH(C1618,Brief!#REF!,0))*1,\"\")","v":""}]
[null,null,null,{"$f":"IFERROR(INDEX(Brief!$AO$29:$AO$63,MATCH(C1619,Brief!#REF!,0))*1,\"\")","v":""}]
[null,null,null,{"$f":"IFERROR(INDEX(Brief!$AO$29:$AO$63,MATCH(C1620,Brief!#REF!,0))*1,\"\")","v":""}]
[null,null,null,{"$f":"IFERROR(INDEX(Brief!$AO$29:$AO$63,MATCH(C1621,Brief!#REF!,0))*1,\"\")","v":""}]
[null,null,null,{"$f":"IFERROR(INDEX(Brief!$AO$29:$AO$63,MATCH(C1622,Brief!#REF!,0))*1,\"\")","v":""}]
[null,null,null,{"$f":"IFERROR(INDEX(Brief!$AO$29:$AO$63,MATCH(C1623,Brief!#REF!,0))*1,\"\")","v":""}]
[null,null,null,{"$f":"IFERROR(INDEX(Brief!$AO$29:$AO$63,MATCH(C1624,Brief!#REF!,0))*1,\"\")","v":""}]
[null,null,null,{"$f":"IFERROR(INDEX(Brief!$AO$29:$AO$63,MATCH(C1625,Brief!#REF!,0))*1,\"\")","v":""}]
[null,null,null,{"$f":"IFERROR(INDEX(Brief!$AO$29:$AO$63,MATCH(C1626,Brief!#REF!,0))*1,\"\")","v":""}]
[null,null,null,{"$f":"IFERROR(INDEX(Brief!$AO$29:$AO$63,MATCH(C1627,Brief!#REF!,0))*1,\"\")","v":""}]
[null,null,null,{"$f":"IFERROR(INDEX(Brief!$AO$29:$AO$63,MATCH(C1628,Brief!#REF!,0))*1,\"\")","v":""}]
[null,null,null,{"$f":"IFERROR(INDEX(Brief!$AO$29:$AO$63,MATCH(C1629,Brief!#REF!,0))*1,\"\")","v":""}]
[null,null,null,{"$f":"IFERROR(INDEX(Brief!$AO$29:$AO$63,MATCH(C1630,Brief!#REF!,0))*1,\"\")","v":""}]
[null,null,null,{"$f":"IFERROR(INDEX(Brief!$AO$29:$AO$63,MATCH(C1631,Brief!#REF!,0))*1,\"\")","v":""}]
[null,null,null,{"$f":"IFERROR(INDEX(Brief!$AO$29:$AO$63,MATCH(C1632,Brief!#REF!,0))*1,\"\")","v":""}]
[null,null,null,{"$f":"IFERROR(INDEX(Brief!$AO$29:$AO$63,MATCH(C1633,Brief!#REF!,0))*1,\"\")","v":""}]
[null,null,null,{"$f":"IFERROR(INDEX(Brief!$AO$29:$AO$63,MATCH(C1634,Brief!#REF!,0))*1,\"\")","v":""}]
[null,null,null,{"$f":"IFERROR(INDEX(Brief!$AO$29:$AO$63,MATCH(C1635,Brief!#REF!,0))*1,\"\")","v":""}]
[null,null,null,{"$f":"IFERROR(INDEX(Brief!$AO$29:$AO$63,MATCH(C1636,Brief!#REF!,0))*1,\"\")","v":""}]
[null,null,null,{"$f":"IFERROR(INDEX(Brief!$AO$29:$AO$63,MATCH(C1637,Brief!#REF!,0))*1,\"\")","v":""}]
[null,null,null,{"$f":"IFERROR(INDEX(Brief!$AO$29:$AO$63,MATCH(C1638,Brief!#REF!,0))*1,\"\")","v":""}]
[null,null,null,{"$f":"IFERROR(INDEX(Brief!$AO$29:$AO$63,MATCH(C1639,Brief!#REF!,0))*1,\"\")","v":""}]
[null,null,null,{"$f":"IFERROR(INDEX(Brief!$AO$29:$AO$63,MATCH(C1640,Brief!#REF!,0))*1,\"\")","v":""}]
[null,null,null,{"$f":"IFERROR(INDEX(Brief!$AO$29:$AO$63,MATCH(C1641,Brief!#REF!,0))*1,\"\")","v":""}]
[null,null,null,{"$f":"IFERROR(INDEX(Brief!$AO$29:$AO$63,MATCH(C1642,Brief!#REF!,0))*1,\"\")","v":""}]
[null,null,null,{"$f":"IFERROR(INDEX(Brief!$AO$29:$AO$63,MATCH(C1643,Brief!#REF!,0))*1,\"\")","v":""}]
[null,null,null,{"$f":"IFERROR(INDEX(Brief!$AO$29:$AO$63,MATCH(C1644,Brief!#REF!,0))*1,\"\")","v":""}]
[null,null,null,{"$f":"IFERROR(INDEX(Brief!$AO$29:$AO$63,MATCH(C1645,Brief!#REF!,0))*1,\"\")","v":""}]
[null,null,null,{"$f":"IFERROR(INDEX(Brief!$AO$29:$AO$63,MATCH(C1646,Brief!#REF!,0))*1,\"\")","v":""}]
[null,null,null,{"$f":"IFERROR(INDEX(Brief!$AO$29:$AO$63,MATCH(C1647,Brief!#REF!,0))*1,\"\")","v":""}]
[null,null,null,{"$f":"IFERROR(INDEX(Brief!$AO$29:$AO$63,MATCH(C1648,Brief!#REF!,0))*1,\"\")","v":""}]
[null,null,null,{"$f":"IFERROR(INDEX(Brief!$AO$29:$AO$63,MATCH(C1649,Brief!#REF!,0))*1,\"\")","v":""}]
[null,null,null,{"$f":"IFERROR(INDEX(Brief!$AO$29:$AO$63,MATCH(C1650,Brief!#REF!,0))*1,\"\")","v":""}]
[null,null,null,{"$f":"IFERROR(INDEX(Brief!$AO$29:$AO$63,MATCH(C1651,Brief!#REF!,0))*1,\"\")","v":""}]
[null,null,null,{"$f":"IFERROR(INDEX(Brief!$AO$29:$AO$63,MATCH(C1652,Brief!#REF!,0))*1,\"\")","v":""}]
[null,null,null,{"$f":"IFERROR(INDEX(Brief!$AO$29:$AO$63,MATCH(C1653,Brief!#REF!,0))*1,\"\")","v":""}]
[null,null,null,{"$f":"IFERROR(INDEX(Brief!$AO$29:$AO$63,MATCH(C1654,Brief!#REF!,0))*1,\"\")","v":""}]
[null,null,null,{"$f":"IFERROR(INDEX(Brief!$AO$29:$AO$63,MATCH(C1655,Brief!#REF!,0))*1,\"\")","v":""}]
[null,null,null,{"$f":"IFERROR(INDEX(Brief!$AO$29:$AO$63,MATCH(C1656,Brief!#REF!,0))*1,\"\")","v":""}]
[null,null,null,{"$f":"IFERROR(INDEX(Brief!$AO$29:$AO$63,MATCH(C1657,Brief!#REF!,0))*1,\"\")","v":""}]
[null,null,null,{"$f":"IFERROR(INDEX(Brief!$AO$29:$AO$63,MATCH(C1658,Brief!#REF!,0))*1,\"\")","v":""}]
[null,null,null,{"$f":"IFERROR(INDEX(Brief!$AO$29:$AO$63,MATCH(C1659,Brief!#REF!,0))*1,\"\")","v":""}]
[null,null,null,{"$f":"IFERROR(INDEX(Brief!$AO$29:$AO$63,MATCH(C1660,Brief!#REF!,0))*1,\"\")","v":""}]
[null,null,null,{"$f":"IFERROR(INDEX(Brief!$AO$29:$AO$63,MATCH(C1661,Brief!#REF!,0))*1,\"\")","v":""}]
[null,null,null,{"$f":"IFERROR(INDEX(Brief!$AO$29:$AO$63,MATCH(C1662,Brief!#REF!,0))*1,\"\")","v":""}]
[null,null,null,{"$f":"IFERROR(INDEX(Brief!$AO$29:$AO$63,MATCH(C1663,Brief!#REF!,0))*1,\"\")","v":""}]
[null,null,null,{"$f":"IFERROR(INDEX(Brief!$AO$29:$AO$63,MATCH(C1664,Brief!#REF!,0))*1,\"\")","v":""}]
[null,null,null,{"$f":"IFERROR(INDEX(Brief!$AO$29:$AO$63,MATCH(C1665,Brief!#REF!,0))*1,\"\")","v":""}]
[null,null,null,{"$f":"IFERROR(INDEX(Brief!$AO$29:$AO$63,MATCH(C1666,Brief!#REF!,0))*1,\"\")","v":""}]
[null,null,null,{"$f":"IFERROR(INDEX(Brief!$AO$29:$AO$63,MATCH(C1667,Brief!#REF!,0))*1,\"\")","v":""}]
[null,null,null,{"$f":"IFERROR(INDEX(Brief!$AO$29:$AO$63,MATCH(C1668,Brief!#REF!,0))*1,\"\")","v":""}]
[null,null,null,{"$f":"IFERROR(INDEX(Brief!$AO$29:$AO$63,MATCH(C1669,Brief!#REF!,0))*1,\"\")","v":""}]
[null,null,null,{"$f":"IFERROR(INDEX(Brief!$AO$29:$AO$63,MATCH(C1670,Brief!#REF!,0))*1,\"\")","v":""}]
[null,null,null,{"$f":"IFERROR(INDEX(Brief!$AO$29:$AO$63,MATCH(C1671,Brief!#REF!,0))*1,\"\")","v":""}]
[null,null,null,{"$f":"IFERROR(INDEX(Brief!$AO$29:$AO$63,MATCH(C1672,Brief!#REF!,0))*1,\"\")","v":""}]
[null,null,null,{"$f":"IFERROR(INDEX(Brief!$AO$29:$AO$63,MATCH(C1673,Brief!#REF!,0))*1,\"\")","v":""}]
[null,null,null,{"$f":"IFERROR(INDEX(Brief!$AO$29:$AO$63,MATCH(C1674,Brief!#REF!,0))*1,\"\")","v":""}]
[null,null,null,{"$f":"IFERROR(INDEX(Brief!$AO$29:$AO$63,MATCH(C1675,Brief!#REF!,0))*1,\"\")","v":""}]
[null,null,null,{"$f":"IFERROR(INDEX(Brief!$AO$29:$AO$63,MATCH(C1676,Brief!#REF!,0))*1,\"\")","v":""}]
[null,null,null,{"$f":"IFERROR(INDEX(Brief!$AO$29:$AO$63,MATCH(C1677,Brief!#REF!,0))*1,\"\")","v":""}]
[null,null,null,{"$f":"IFERROR(INDEX(Brief!$AO$29:$AO$63,MATCH(C1678,Brief!#REF!,0))*1,\"\")","v":""}]
[null,null,null,{"$f":"IFERROR(INDEX(Brief!$AO$29:$AO$63,MATCH(C1679,Brief!#REF!,0))*1,\"\")","v":""}]
[null,null,null,{"$f":"IFERROR(INDEX(Brief!$AO$29:$AO$63,MATCH(C1680,Brief!#REF!,0))*1,\"\")","v":""}]
[null,null,null,{"$f":"IFERROR(INDEX(Brief!$AO$29:$AO$63,MATCH(C1681,Brief!#REF!,0))*1,\"\")","v":""}]
[null,null,null,{"$f":"IFERROR(INDEX(Brief!$AO$29:$AO$63,MATCH(C1682,Brief!#REF!,0))*1,\"\")","v":""}]
[null,null,null,{"$f":"IFERROR(INDEX(Brief!$AO$29:$AO$63,MATCH(C1683,Brief!#REF!,0))*1,\"\")","v":""}]
[null,null,null,{"$f":"IFERROR(INDEX(Brief!$AO$29:$AO$63,MATCH(C1684,Brief!#REF!,0))*1,\"\")","v":""}]
[null,null,null,{"$f":"IFERROR(INDEX(Brief!$AO$29:$AO$63,MATCH(C1685,Brief!#REF!,0))*1,\"\")","v":""}]
[null,null,null,{"$f":"IFERROR(INDEX(Brief!$AO$29:$AO$63,MATCH(C1686,Brief!#REF!,0))*1,\"\")","v":""}]
[null,null,null,{"$f":"IFERROR(INDEX(Brief!$AO$29:$AO$63,MATCH(C1687,Brief!#REF!,0))*1,\"\")","v":""}]
[null,null,null,{"$f":"IFERROR(INDEX(Brief!$AO$29:$AO$63,MATCH(C1688,Brief!#REF!,0))*1,\"\")","v":""}]
[null,null,null,{"$f":"IFERROR(INDEX(Brief!$AO$29:$AO$63,MATCH(C1689,Brief!#REF!,0))*1,\"\")","v":""}]
[null,null,null,{"$f":"IFERROR(INDEX(Brief!$AO$29:$AO$63,MATCH(C1690,Brief!#REF!,0))*1,\"\")","v":""}]
[null,null,null,{"$f":"IFERROR(INDEX(Brief!$AO$29:$AO$63,MATCH(C1691,Brief!#REF!,0))*1,\"\")","v":""}]
[null,null,null,{"$f":"IFERROR(INDEX(Brief!$AO$29:$AO$63,MATCH(C1692,Brief!#REF!,0))*1,\"\")","v":""}]
[null,null,null,{"$f":"IFERROR(INDEX(Brief!$AO$29:$AO$63,MATCH(C1693,Brief!#REF!,0))*1,\"\")","v":""}]
[null,null,null,{"$f":"IFERROR(INDEX(Brief!$AO$29:$AO$63,MATCH(C1694,Brief!#REF!,0))*1,\"\")","v":""}]
[null,null,null,{"$f":"IFERROR(INDEX(Brief!$AO$29:$AO$63,MATCH(C1695,Brief!#REF!,0))*1,\"\")","v":""}]
[null,null,null,{"$f":"IFERROR(INDEX(Brief!$AO$29:$AO$63,MATCH(C1696,Brief!#REF!,0))*1,\"\")","v":""}]
[null,null,null,{"$f":"IFERROR(INDEX(Brief!$AO$29:$AO$63,MATCH(C1697,Brief!#REF!,0))*1,\"\")","v":""}]
[null,null,null,{"$f":"IFERROR(INDEX(Brief!$AO$29:$AO$63,MATCH(C1698,Brief!#REF!,0))*1,\"\")","v":""}]
[null,null,null,{"$f":"IFERROR(INDEX(Brief!$AO$29:$AO$63,MATCH(C1699,Brief!#REF!,0))*1,\"\")","v":""}]
[null,null,null,{"$f":"IFERROR(INDEX(Brief!$AO$29:$AO$63,MATCH(C1700,Brief!#REF!,0))*1,\"\")","v":""}]
[null,null,null,{"$f":"IFERROR(INDEX(Brief!$AO$29:$AO$63,MATCH(C1701,Brief!#REF!,0))*1,\"\")","v":""}]
[null,null,null,{"$f":"IFERROR(INDEX(Brief!$AO$29:$AO$63,MATCH(C1702,Brief!#REF!,0))*1,\"\")","v":""}]
[null,null,null,{"$f":"IFERROR(INDEX(Brief!$AO$29:$AO$63,MATCH(C1703,Brief!#REF!,0))*1,\"\")","v":""}]
[null,null,null,{"$f":"IFERROR(INDEX(Brief!$AO$29:$AO$63,MATCH(C1704,Brief!#REF!,0))*1,\"\")","v":""}]
[null,null,null,{"$f":"IFERROR(INDEX(Brief!$AO$29:$AO$63,MATCH(C1705,Brief!#REF!,0))*1,\"\")","v":""}]
[null,null,null,{"$f":"IFERROR(INDEX(Brief!$AO$29:$AO$63,MATCH(C1706,Brief!#REF!,0))*1,\"\")","v":""}]
[null,null,null,{"$f":"IFERROR(INDEX(Brief!$AO$29:$AO$63,MATCH(C1707,Brief!#REF!,0))*1,\"\")","v":""}]
[null,null,null,{"$f":"IFERROR(INDEX(Brief!$AO$29:$AO$63,MATCH(C1708,Brief!#REF!,0))*1,\"\")","v":""}]
[null,null,null,{"$f":"IFERROR(INDEX(Brief!$AO$29:$AO$63,MATCH(C1709,Brief!#REF!,0))*1,\"\")","v":""}]
[null,null,null,{"$f":"IFERROR(INDEX(Brief!$AO$29:$AO$63,MATCH(C1710,Brief!#REF!,0))*1,\"\")","v":""}]
[null,null,null,{"$f":"IFERROR(INDEX(Brief!$AO$29:$AO$63,MATCH(C1711,Brief!#REF!,0))*1,\"\")","v":""}]
[null,null,null,{"$f":"IFERROR(INDEX(Brief!$AO$29:$AO$63,MATCH(C1712,Brief!#REF!,0))*1,\"\")","v":""}]
[null,null,null,{"$f":"IFERROR(INDEX(Brief!$AO$29:$AO$63,MATCH(C1713,Brief!#REF!,0))*1,\"\")","v":""}]
[null,null,null,{"$f":"IFERROR(INDEX(Brief!$AO$29:$AO$63,MATCH(C1714,Brief!#REF!,0))*1,\"\")","v":""}]
[null,null,null,{"$f":"IFERROR(INDEX(Brief!$AO$29:$AO$63,MATCH(C1715,Brief!#REF!,0))*1,\"\")","v":""}]
[null,null,null,{"$f":"IFERROR(INDEX(Brief!$AO$29:$AO$63,MATCH(C1716,Brief!#REF!,0))*1,\"\")","v":""}]
[null,null,null,{"$f":"IFERROR(INDEX(Brief!$AO$29:$AO$63,MATCH(C1717,Brief!#REF!,0))*1,\"\")","v":""}]
[null,null,null,{"$f":"IFERROR(INDEX(Brief!$AO$29:$AO$63,MATCH(C1718,Brief!#REF!,0))*1,\"\")","v":""}]
[null,null,null,{"$f":"IFERROR(INDEX(Brief!$AO$29:$AO$63,MATCH(C1719,Brief!#REF!,0))*1,\"\")","v":""}]
[null,null,null,{"$f":"IFERROR(INDEX(Brief!$AO$29:$AO$63,MATCH(C1720,Brief!#REF!,0))*1,\"\")","v":""}]
[null,null,null,{"$f":"IFERROR(INDEX(Brief!$AO$29:$AO$63,MATCH(C1721,Brief!#REF!,0))*1,\"\")","v":""}]
[null,null,null,{"$f":"IFERROR(INDEX(Brief!$AO$29:$AO$63,MATCH(C1722,Brief!#REF!,0))*1,\"\")","v":""}]
[null,null,null,{"$f":"IFERROR(INDEX(Brief!$AO$29:$AO$63,MATCH(C1723,Brief!#REF!,0))*1,\"\")","v":""}]
[null,null,null,{"$f":"IFERROR(INDEX(Brief!$AO$29:$AO$63,MATCH(C1724,Brief!#REF!,0))*1,\"\")","v":""}]
[null,null,null,{"$f":"IFERROR(INDEX(Brief!$AO$29:$AO$63,MATCH(C1725,Brief!#REF!,0))*1,\"\")","v":""}]
[null,null,null,{"$f":"IFERROR(INDEX(Brief!$AO$29:$AO$63,MATCH(C1726,Brief!#REF!,0))*1,\"\")","v":""}]
[null,null,null,{"$f":"IFERROR(INDEX(Brief!$AO$29:$AO$63,MATCH(C1727,Brief!#REF!,0))*1,\"\")","v":""}]
[null,null,null,{"$f":"IFERROR(INDEX(Brief!$AO$29:$AO$63,MATCH(C1728,Brief!#REF!,0))*1,\"\")","v":""}]
[null,null,null,{"$f":"IFERROR(INDEX(Brief!$AO$29:$AO$63,MATCH(C1729,Brief!#REF!,0))*1,\"\")","v":""}]
[null,null,null,{"$f":"IFERROR(INDEX(Brief!$AO$29:$AO$63,MATCH(C1730,Brief!#REF!,0))*1,\"\")","v":""}]
[null,null,null,{"$f":"IFERROR(INDEX(Brief!$AO$29:$AO$63,MATCH(C1731,Brief!#REF!,0))*1,\"\")","v":""}]
[null,null,null,{"$f":"IFERROR(INDEX(Brief!$AO$29:$AO$63,MATCH(C1732,Brief!#REF!,0))*1,\"\")","v":""}]
[null,null,null,{"$f":"IFERROR(INDEX(Brief!$AO$29:$AO$63,MATCH(C1733,Brief!#REF!,0))*1,\"\")","v":""}]
[null,null,null,{"$f":"IFERROR(INDEX(Brief!$AO$29:$AO$63,MATCH(C1734,Brief!#REF!,0))*1,\"\")","v":""}]
[null,null,null,{"$f":"IFERROR(INDEX(Brief!$AO$29:$AO$63,MATCH(C1735,Brief!#REF!,0))*1,\"\")","v":""}]
[null,null,null,{"$f":"IFERROR(INDEX(Brief!$AO$29:$AO$63,MATCH(C1736,Brief!#REF!,0))*1,\"\")","v":""}]
[null,null,null,{"$f":"IFERROR(INDEX(Brief!$AO$29:$AO$63,MATCH(C1737,Brief!#REF!,0))*1,\"\")","v":""}]
[null,null,null,{"$f":"IFERROR(INDEX(Brief!$AO$29:$AO$63,MATCH(C1738,Brief!#REF!,0))*1,\"\")","v":""}]
[null,null,null,{"$f":"IFERROR(INDEX(Brief!$AO$29:$AO$63,MATCH(C1739,Brief!#REF!,0))*1,\"\")","v":""}]
[null,null,null,{"$f":"IFERROR(INDEX(Brief!$AO$29:$AO$63,MATCH(C1740,Brief!#REF!,0))*1,\"\")","v":""}]
[null,null,null,{"$f":"IFERROR(INDEX(Brief!$AO$29:$AO$63,MATCH(C1741,Brief!#REF!,0))*1,\"\")","v":""}]
[null,null,null,{"$f":"IFERROR(INDEX(Brief!$AO$29:$AO$63,MATCH(C1742,Brief!#REF!,0))*1,\"\")","v":""}]
[null,null,null,{"$f":"IFERROR(INDEX(Brief!$AO$29:$AO$63,MATCH(C1743,Brief!#REF!,0))*1,\"\")","v":""}]
[null,null,null,{"$f":"IFERROR(INDEX(Brief!$AO$29:$AO$63,MATCH(C1744,Brief!#REF!,0))*1,\"\")","v":""}]
[null,null,null,{"$f":"IFERROR(INDEX(Brief!$AO$29:$AO$63,MATCH(C1745,Brief!#REF!,0))*1,\"\")","v":""}]
[null,null,null,{"$f":"IFERROR(INDEX(Brief!$AO$29:$AO$63,MATCH(C1746,Brief!#REF!,0))*1,\"\")","v":""}]
[null,null,null,{"$f":"IFERROR(INDEX(Brief!$AO$29:$AO$63,MATCH(C1747,Brief!#REF!,0))*1,\"\")","v":""}]
[null,null,null,{"$f":"IFERROR(INDEX(Brief!$AO$29:$AO$63,MATCH(C1748,Brief!#REF!,0))*1,\"\")","v":""}]
[null,null,null,{"$f":"IFERROR(INDEX(Brief!$AO$29:$AO$63,MATCH(C1749,Brief!#REF!,0))*1,\"\")","v":""}]
[null,null,null,{"$f":"IFERROR(INDEX(Brief!$AO$29:$AO$63,MATCH(C1750,Brief!#REF!,0))*1,\"\")","v":""}]
[null,null,null,{"$f":"IFERROR(INDEX(Brief!$AO$29:$AO$63,MATCH(C1751,Brief!#REF!,0))*1,\"\")","v":""}]
[null,null,null,{"$f":"IFERROR(INDEX(Brief!$AO$29:$AO$63,MATCH(C1752,Brief!#REF!,0))*1,\"\")","v":""}]
[null,null,null,{"$f":"IFERROR(INDEX(Brief!$AO$29:$AO$63,MATCH(C1753,Brief!#REF!,0))*1,\"\")","v":""}]
[null,null,null,{"$f":"IFERROR(INDEX(Brief!$AO$29:$AO$63,MATCH(C1754,Brief!#REF!,0))*1,\"\")","v":""}]
[null,null,null,{"$f":"IFERROR(INDEX(Brief!$AO$29:$AO$63,MATCH(C1755,Brief!#REF!,0))*1,\"\")","v":""}]
[null,null,null,{"$f":"IFERROR(INDEX(Brief!$AO$29:$AO$63,MATCH(C1756,Brief!#REF!,0))*1,\"\")","v":""}]
[null,null,null,{"$f":"IFERROR(INDEX(Brief!$AO$29:$AO$63,MATCH(C1757,Brief!#REF!,0))*1,\"\")","v":""}]
[null,null,null,{"$f":"IFERROR(INDEX(Brief!$AO$29:$AO$63,MATCH(C1758,Brief!#REF!,0))*1,\"\")","v":""}]
[null,null,null,{"$f":"IFERROR(INDEX(Brief!$AO$29:$AO$63,MATCH(C1759,Brief!#REF!,0))*1,\"\")","v":""}]
[null,null,null,{"$f":"IFERROR(INDEX(Brief!$AO$29:$AO$63,MATCH(C1760,Brief!#REF!,0))*1,\"\")","v":""}]
[null,null,null,{"$f":"IFERROR(INDEX(Brief!$AO$29:$AO$63,MATCH(C1761,Brief!#REF!,0))*1,\"\")","v":""}]
[null,null,null,{"$f":"IFERROR(INDEX(Brief!$AO$29:$AO$63,MATCH(C1762,Brief!#REF!,0))*1,\"\")","v":""}]
[null,null,null,{"$f":"IFERROR(INDEX(Brief!$AO$29:$AO$63,MATCH(C1763,Brief!#REF!,0))*1,\"\")","v":""}]
[null,null,null,{"$f":"IFERROR(INDEX(Brief!$AO$29:$AO$63,MATCH(C1764,Brief!#REF!,0))*1,\"\")","v":""}]
[null,null,null,{"$f":"IFERROR(INDEX(Brief!$AO$29:$AO$63,MATCH(C1765,Brief!#REF!,0))*1,\"\")","v":""}]
[null,null,null,{"$f":"IFERROR(INDEX(Brief!$AO$29:$AO$63,MATCH(C1766,Brief!#REF!,0))*1,\"\")","v":""}]
[null,null,null,{"$f":"IFERROR(INDEX(Brief!$AO$29:$AO$63,MATCH(C1767,Brief!#REF!,0))*1,\"\")","v":""}]
[null,null,null,{"$f":"IFERROR(INDEX(Brief!$AO$29:$AO$63,MATCH(C1768,Brief!#REF!,0))*1,\"\")","v":""}]
[null,null,null,{"$f":"IFERROR(INDEX(Brief!$AO$29:$AO$63,MATCH(C1769,Brief!#REF!,0))*1,\"\")","v":""}]
[null,null,null,{"$f":"IFERROR(INDEX(Brief!$AO$29:$AO$63,MATCH(C1770,Brief!#REF!,0))*1,\"\")","v":""}]
[null,null,null,{"$f":"IFERROR(INDEX(Brief!$AO$29:$AO$63,MATCH(C1771,Brief!#REF!,0))*1,\"\")","v":""}]
[null,null,null,{"$f":"IFERROR(INDEX(Brief!$AO$29:$AO$63,MATCH(C1772,Brief!#REF!,0))*1,\"\")","v":""}]
[null,null,null,{"$f":"IFERROR(INDEX(Brief!$AO$29:$AO$63,MATCH(C1773,Brief!#REF!,0))*1,\"\")","v":""}]
[null,null,null,{"$f":"IFERROR(INDEX(Brief!$AO$29:$AO$63,MATCH(C1774,Brief!#REF!,0))*1,\"\")","v":""}]
[null,null,null,{"$f":"IFERROR(INDEX(Brief!$AO$29:$AO$63,MATCH(C1775,Brief!#REF!,0))*1,\"\")","v":""}]
[null,null,null,{"$f":"IFERROR(INDEX(Brief!$AO$29:$AO$63,MATCH(C1776,Brief!#REF!,0))*1,\"\")","v":""}]
[null,null,null,{"$f":"IFERROR(INDEX(Brief!$AO$29:$AO$63,MATCH(C1777,Brief!#REF!,0))*1,\"\")","v":""}]
[null,null,null,{"$f":"IFERROR(INDEX(Brief!$AO$29:$AO$63,MATCH(C1778,Brief!#REF!,0))*1,\"\")","v":""}]
[null,null,null,{"$f":"IFERROR(INDEX(Brief!$AO$29:$AO$63,MATCH(C1779,Brief!#REF!,0))*1,\"\")","v":""}]
[null,null,null,{"$f":"IFERROR(INDEX(Brief!$AO$29:$AO$63,MATCH(C1780,Brief!#REF!,0))*1,\"\")","v":""}]
[null,null,null,{"$f":"IFERROR(INDEX(Brief!$AO$29:$AO$63,MATCH(C1781,Brief!#REF!,0))*1,\"\")","v":""}]
[null,null,null,{"$f":"IFERROR(INDEX(Brief!$AO$29:$AO$63,MATCH(C1782,Brief!#REF!,0))*1,\"\")","v":""}]
[null,null,null,{"$f":"IFERROR(INDEX(Brief!$AO$29:$AO$63,MATCH(C1783,Brief!#REF!,0))*1,\"\")","v":""}]
[null,null,null,{"$f":"IFERROR(INDEX(Brief!$AO$29:$AO$63,MATCH(C1784,Brief!#REF!,0))*1,\"\")","v":""}]
[null,null,null,{"$f":"IFERROR(INDEX(Brief!$AO$29:$AO$63,MATCH(C1785,Brief!#REF!,0))*1,\"\")","v":""}]
[null,null,null,{"$f":"IFERROR(INDEX(Brief!$AO$29:$AO$63,MATCH(C1786,Brief!#REF!,0))*1,\"\")","v":""}]
[null,null,null,{"$f":"IFERROR(INDEX(Brief!$AO$29:$AO$63,MATCH(C1787,Brief!#REF!,0))*1,\"\")","v":""}]
[null,null,null,{"$f":"IFERROR(INDEX(Brief!$AO$29:$AO$63,MATCH(C1788,Brief!#REF!,0))*1,\"\")","v":""}]
[null,null,null,{"$f":"IFERROR(INDEX(Brief!$AO$29:$AO$63,MATCH(C1789,Brief!#REF!,0))*1,\"\")","v":""}]
[null,null,null,{"$f":"IFERROR(INDEX(Brief!$AO$29:$AO$63,MATCH(C1790,Brief!#REF!,0))*1,\"\")","v":""}]
[null,null,null,{"$f":"IFERROR(INDEX(Brief!$AO$29:$AO$63,MATCH(C1791,Brief!#REF!,0))*1,\"\")","v":""}]
[null,null,null,{"$f":"IFERROR(INDEX(Brief!$AO$29:$AO$63,MATCH(C1792,Brief!#REF!,0))*1,\"\")","v":""}]
[null,null,null,{"$f":"IFERROR(INDEX(Brief!$AO$29:$AO$63,MATCH(C1793,Brief!#REF!,0))*1,\"\")","v":""}]
[null,null,null,{"$f":"IFERROR(INDEX(Brief!$AO$29:$AO$63,MATCH(C1794,Brief!#REF!,0))*1,\"\")","v":""}]
[null,null,null,{"$f":"IFERROR(INDEX(Brief!$AO$29:$AO$63,MATCH(C1795,Brief!#REF!,0))*1,\"\")","v":""}]
[null,null,null,{"$f":"IFERROR(INDEX(Brief!$AO$29:$AO$63,MATCH(C1796,Brief!#REF!,0))*1,\"\")","v":""}]
[null,null,null,{"$f":"IFERROR(INDEX(Brief!$AO$29:$AO$63,MATCH(C1797,Brief!#REF!,0))*1,\"\")","v":""}]
[null,null,null,{"$f":"IFERROR(INDEX(Brief!$AO$29:$AO$63,MATCH(C1798,Brief!#REF!,0))*1,\"\")","v":""}]
[null,null,null,{"$f":"IFERROR(INDEX(Brief!$AO$29:$AO$63,MATCH(C1799,Brief!#REF!,0))*1,\"\")","v":""}]
[null,null,null,{"$f":"IFERROR(INDEX(Brief!$AO$29:$AO$63,MATCH(C1800,Brief!#REF!,0))*1,\"\")","v":""}]
[null,null,null,{"$f":"IFERROR(INDEX(Brief!$AO$29:$AO$63,MATCH(C1801,Brief!#REF!,0))*1,\"\")","v":""}]
[null,null,null,{"$f":"IFERROR(INDEX(Brief!$AO$29:$AO$63,MATCH(C1802,Brief!#REF!,0))*1,\"\")","v":""}]
[null,null,null,{"$f":"IFERROR(INDEX(Brief!$AO$29:$AO$63,MATCH(C1803,Brief!#REF!,0))*1,\"\")","v":""}]
[null,null,null,{"$f":"IFERROR(INDEX(Brief!$AO$29:$AO$63,MATCH(C1804,Brief!#REF!,0))*1,\"\")","v":""}]
[null,null,null,{"$f":"IFERROR(INDEX(Brief!$AO$29:$AO$63,MATCH(C1805,Brief!#REF!,0))*1,\"\")","v":""}]
[null,null,null,{"$f":"IFERROR(INDEX(Brief!$AO$29:$AO$63,MATCH(C1806,Brief!#REF!,0))*1,\"\")","v":""}]
[null,null,null,{"$f":"IFERROR(INDEX(Brief!$AO$29:$AO$63,MATCH(C1807,Brief!#REF!,0))*1,\"\")","v":""}]
[null,null,null,{"$f":"IFERROR(INDEX(Brief!$AO$29:$AO$63,MATCH(C1808,Brief!#REF!,0))*1,\"\")","v":""}]
[null,null,null,{"$f":"IFERROR(INDEX(Brief!$AO$29:$AO$63,MATCH(C1809,Brief!#REF!,0))*1,\"\")","v":""}]
[null,null,null,{"$f":"IFERROR(INDEX(Brief!$AO$29:$AO$63,MATCH(C1810,Brief!#REF!,0))*1,\"\")","v":""}]
[null,null,null,{"$f":"IFERROR(INDEX(Brief!$AO$29:$AO$63,MATCH(C1811,Brief!#REF!,0))*1,\"\")","v":""}]
[null,null,null,{"$f":"IFERROR(INDEX(Brief!$AO$29:$AO$63,MATCH(C1812,Brief!#REF!,0))*1,\"\")","v":""}]
[null,null,null,{"$f":"IFERROR(INDEX(Brief!$AO$29:$AO$63,MATCH(C1813,Brief!#REF!,0))*1,\"\")","v":""}]
[null,null,null,{"$f":"IFERROR(INDEX(Brief!$AO$29:$AO$63,MATCH(C1814,Brief!#REF!,0))*1,\"\")","v":""}]
[null,null,null,{"$f":"IFERROR(INDEX(Brief!$AO$29:$AO$63,MATCH(C1815,Brief!#REF!,0))*1,\"\")","v":""}]
[null,null,null,{"$f":"IFERROR(INDEX(Brief!$AO$29:$AO$63,MATCH(C1816,Brief!#REF!,0))*1,\"\")","v":""}]
[null,null,null,{"$f":"IFERROR(INDEX(Brief!$AO$29:$AO$63,MATCH(C1817,Brief!#REF!,0))*1,\"\")","v":""}]
[null,null,null,{"$f":"IFERROR(INDEX(Brief!$AO$29:$AO$63,MATCH(C1818,Brief!#REF!,0))*1,\"\")","v":""}]
[null,null,null,{"$f":"IFERROR(INDEX(Brief!$AO$29:$AO$63,MATCH(C1819,Brief!#REF!,0))*1,\"\")","v":""}]
[null,null,null,{"$f":"IFERROR(INDEX(Brief!$AO$29:$AO$63,MATCH(C1820,Brief!#REF!,0))*1,\"\")","v":""}]
[null,null,null,{"$f":"IFERROR(INDEX(Brief!$AO$29:$AO$63,MATCH(C1821,Brief!#REF!,0))*1,\"\")","v":""}]
[null,null,null,{"$f":"IFERROR(INDEX(Brief!$AO$29:$AO$63,MATCH(C1822,Brief!#REF!,0))*1,\"\")","v":""}]
[null,null,null,{"$f":"IFERROR(INDEX(Brief!$AO$29:$AO$63,MATCH(C1823,Brief!#REF!,0))*1,\"\")","v":""}]
[null,null,null,{"$f":"IFERROR(INDEX(Brief!$AO$29:$AO$63,MATCH(C1824,Brief!#REF!,0))*1,\"\")","v":""}]
[null,null,null,{"$f":"IFERROR(INDEX(Brief!$AO$29:$AO$63,MATCH(C1825,Brief!#REF!,0))*1,\"\")","v":""}]
[null,null,null,{"$f":"IFERROR(INDEX(Brief!$AO$29:$AO$63,MATCH(C1826,Brief!#REF!,0))*1,\"\")","v":""}]
[null,null,null,{"$f":"IFERROR(INDEX(Brief!$AO$29:$AO$63,MATCH(C1827,Brief!#REF!,0))*1,\"\")","v":""}]
[null,null,null,{"$f":"IFERROR(INDEX(Brief!$AO$29:$AO$63,MATCH(C1828,Brief!#REF!,0))*1,\"\")","v":""}]
[null,null,null,{"$f":"IFERROR(INDEX(Brief!$AO$29:$AO$63,MATCH(C1829,Brief!#REF!,0))*1,\"\")","v":""}]
[null,null,null,{"$f":"IFERROR(INDEX(Brief!$AO$29:$AO$63,MATCH(C1830,Brief!#REF!,0))*1,\"\")","v":""}]
[null,null,null,{"$f":"IFERROR(INDEX(Brief!$AO$29:$AO$63,MATCH(C1831,Brief!#REF!,0))*1,\"\")","v":""}]
[null,null,null,{"$f":"IFERROR(INDEX(Brief!$AO$29:$AO$63,MATCH(C1832,Brief!#REF!,0))*1,\"\")","v":""}]
[null,null,null,{"$f":"IFERROR(INDEX(Brief!$AO$29:$AO$63,MATCH(C1833,Brief!#REF!,0))*1,\"\")","v":""}]
[null,null,null,{"$f":"IFERROR(INDEX(Brief!$AO$29:$AO$63,MATCH(C1834,Brief!#REF!,0))*1,\"\")","v":""}]
[null,null,null,{"$f":"IFERROR(INDEX(Brief!$AO$29:$AO$63,MATCH(C1835,Brief!#REF!,0))*1,\"\")","v":""}]
[null,null,null,{"$f":"IFERROR(INDEX(Brief!$AO$29:$AO$63,MATCH(C1836,Brief!#REF!,0))*1,\"\")","v":""}]
[null,null,null,{"$f":"IFERROR(INDEX(Brief!$AO$29:$AO$63,MATCH(C1837,Brief!#REF!,0))*1,\"\")","v":""}]
[null,null,null,{"$f":"IFERROR(INDEX(Brief!$AO$29:$AO$63,MATCH(C1838,Brief!#REF!,0))*1,\"\")","v":""}]
[null,null,null,{"$f":"IFERROR(INDEX(Brief!$AO$29:$AO$63,MATCH(C1839,Brief!#REF!,0))*1,\"\")","v":""}]
[null,null,null,{"$f":"IFERROR(INDEX(Brief!$AO$29:$AO$63,MATCH(C1840,Brief!#REF!,0))*1,\"\")","v":""}]
[null,null,null,{"$f":"IFERROR(INDEX(Brief!$AO$29:$AO$63,MATCH(C1841,Brief!#REF!,0))*1,\"\")","v":""}]
[null,null,null,{"$f":"IFERROR(INDEX(Brief!$AO$29:$AO$63,MATCH(C1842,Brief!#REF!,0))*1,\"\")","v":""}]
[null,null,null,{"$f":"IFERROR(INDEX(Brief!$AO$29:$AO$63,MATCH(C1843,Brief!#REF!,0))*1,\"\")","v":""}]
[null,null,null,{"$f":"IFERROR(INDEX(Brief!$AO$29:$AO$63,MATCH(C1844,Brief!#REF!,0))*1,\"\")","v":""}]
[null,null,null,{"$f":"IFERROR(INDEX(Brief!$AO$29:$AO$63,MATCH(C1845,Brief!#REF!,0))*1,\"\")","v":""}]
[null,null,null,{"$f":"IFERROR(INDEX(Brief!$AO$29:$AO$63,MATCH(C1846,Brief!#REF!,0))*1,\"\")","v":""}]
[null,null,null,{"$f":"IFERROR(INDEX(Brief!$AO$29:$AO$63,MATCH(C1847,Brief!#REF!,0))*1,\"\")","v":""}]
[null,null,null,{"$f":"IFERROR(INDEX(Brief!$AO$29:$AO$63,MATCH(C1848,Brief!#REF!,0))*1,\"\")","v":""}]
[null,null,null,{"$f":"IFERROR(INDEX(Brief!$AO$29:$AO$63,MATCH(C1849,Brief!#REF!,0))*1,\"\")","v":""}]
[null,null,null,{"$f":"IFERROR(INDEX(Brief!$AO$29:$AO$63,MATCH(C1850,Brief!#REF!,0))*1,\"\")","v":""}]
[null,null,null,{"$f":"IFERROR(INDEX(Brief!$AO$29:$AO$63,MATCH(C1851,Brief!#REF!,0))*1,\"\")","v":""}]
[null,null,null,{"$f":"IFERROR(INDEX(Brief!$AO$29:$AO$63,MATCH(C1852,Brief!#REF!,0))*1,\"\")","v":""}]
[null,null,null,{"$f":"IFERROR(INDEX(Brief!$AO$29:$AO$63,MATCH(C1853,Brief!#REF!,0))*1,\"\")","v":""}]
[null,null,null,{"$f":"IFERROR(INDEX(Brief!$AO$29:$AO$63,MATCH(C1854,Brief!#REF!,0))*1,\"\")","v":""}]
[null,null,null,{"$f":"IFERROR(INDEX(Brief!$AO$29:$AO$63,MATCH(C1855,Brief!#REF!,0))*1,\"\")","v":""}]
[null,null,null,{"$f":"IFERROR(INDEX(Brief!$AO$29:$AO$63,MATCH(C1856,Brief!#REF!,0))*1,\"\")","v":""}]
[null,null,null,{"$f":"IFERROR(INDEX(Brief!$AO$29:$AO$63,MATCH(C1857,Brief!#REF!,0))*1,\"\")","v":""}]
[null,null,null,{"$f":"IFERROR(INDEX(Brief!$AO$29:$AO$63,MATCH(C1858,Brief!#REF!,0))*1,\"\")","v":""}]
[null,null,null,{"$f":"IFERROR(INDEX(Brief!$AO$29:$AO$63,MATCH(C1859,Brief!#REF!,0))*1,\"\")","v":""}]
[null,null,null,{"$f":"IFERROR(INDEX(Brief!$AO$29:$AO$63,MATCH(C1860,Brief!#REF!,0))*1,\"\")","v":""}]
[null,null,null,{"$f":"IFERROR(INDEX(Brief!$AO$29:$AO$63,MATCH(C1861,Brief!#REF!,0))*1,\"\")","v":""}]
[null,null,null,{"$f":"IFERROR(INDEX(Brief!$AO$29:$AO$63,MATCH(C1862,Brief!#REF!,0))*1,\"\")","v":""}]
[null,null,null,{"$f":"IFERROR(INDEX(Brief!$AO$29:$AO$63,MATCH(C1863,Brief!#REF!,0))*1,\"\")","v":""}]
[null,null,null,{"$f":"IFERROR(INDEX(Brief!$AO$29:$AO$63,MATCH(C1864,Brief!#REF!,0))*1,\"\")","v":""}]
[null,null,null,{"$f":"IFERROR(INDEX(Brief!$AO$29:$AO$63,MATCH(C1865,Brief!#REF!,0))*1,\"\")","v":""}]
[null,null,null,{"$f":"IFERROR(INDEX(Brief!$AO$29:$AO$63,MATCH(C1866,Brief!#REF!,0))*1,\"\")","v":""}]
[null,null,null,{"$f":"IFERROR(INDEX(Brief!$AO$29:$AO$63,MATCH(C1867,Brief!#REF!,0))*1,\"\")","v":""}]
[null,null,null,{"$f":"IFERROR(INDEX(Brief!$AO$29:$AO$63,MATCH(C1868,Brief!#REF!,0))*1,\"\")","v":""}]
[null,null,null,{"$f":"IFERROR(INDEX(Brief!$AO$29:$AO$63,MATCH(C1869,Brief!#REF!,0))*1,\"\")","v":""}]
[null,null,null,{"$f":"IFERROR(INDEX(Brief!$AO$29:$AO$63,MATCH(C1870,Brief!#REF!,0))*1,\"\")","v":""}]
[null,null,null,{"$f":"IFERROR(INDEX(Brief!$AO$29:$AO$63,MATCH(C1871,Brief!#REF!,0))*1,\"\")","v":""}]
[null,null,null,{"$f":"IFERROR(INDEX(Brief!$AO$29:$AO$63,MATCH(C1872,Brief!#REF!,0))*1,\"\")","v":""}]
[null,null,null,{"$f":"IFERROR(INDEX(Brief!$AO$29:$AO$63,MATCH(C1873,Brief!#REF!,0))*1,\"\")","v":""}]
[null,null,null,{"$f":"IFERROR(INDEX(Brief!$AO$29:$AO$63,MATCH(C1874,Brief!#REF!,0))*1,\"\")","v":""}]
[null,null,null,{"$f":"IFERROR(INDEX(Brief!$AO$29:$AO$63,MATCH(C1875,Brief!#REF!,0))*1,\"\")","v":""}]
[null,null,null,{"$f":"IFERROR(INDEX(Brief!$AO$29:$AO$63,MATCH(C1876,Brief!#REF!,0))*1,\"\")","v":""}]
[null,null,null,{"$f":"IFERROR(INDEX(Brief!$AO$29:$AO$63,MATCH(C1877,Brief!#REF!,0))*1,\"\")","v":""}]
[null,null,null,{"$f":"IFERROR(INDEX(Brief!$AO$29:$AO$63,MATCH(C1878,Brief!#REF!,0))*1,\"\")","v":""}]
[null,null,null,{"$f":"IFERROR(INDEX(Brief!$AO$29:$AO$63,MATCH(C1879,Brief!#REF!,0))*1,\"\")","v":""}]
[null,null,null,{"$f":"IFERROR(INDEX(Brief!$AO$29:$AO$63,MATCH(C1880,Brief!#REF!,0))*1,\"\")","v":""}]
[null,null,null,{"$f":"IFERROR(INDEX(Brief!$AO$29:$AO$63,MATCH(C1881,Brief!#REF!,0))*1,\"\")","v":""}]
[null,null,null,{"$f":"IFERROR(INDEX(Brief!$AO$29:$AO$63,MATCH(C1882,Brief!#REF!,0))*1,\"\")","v":""}]
[null,null,null,{"$f":"IFERROR(INDEX(Brief!$AO$29:$AO$63,MATCH(C1883,Brief!#REF!,0))*1,\"\")","v":""}]
[null,null,null,{"$f":"IFERROR(INDEX(Brief!$AO$29:$AO$63,MATCH(C1884,Brief!#REF!,0))*1,\"\")","v":""}]
[null,null,null,{"$f":"IFERROR(INDEX(Brief!$AO$29:$AO$63,MATCH(C1885,Brief!#REF!,0))*1,\"\")","v":""}]
[null,null,null,{"$f":"IFERROR(INDEX(Brief!$AO$29:$AO$63,MATCH(C1886,Brief!#REF!,0))*1,\"\")","v":""}]
[null,null,null,{"$f":"IFERROR(INDEX(Brief!$AO$29:$AO$63,MATCH(C1887,Brief!#REF!,0))*1,\"\")","v":""}]
[null,null,null,{"$f":"IFERROR(INDEX(Brief!$AO$29:$AO$63,MATCH(C1888,Brief!#REF!,0))*1,\"\")","v":""}]
[null,null,null,{"$f":"IFERROR(INDEX(Brief!$AO$29:$AO$63,MATCH(C1889,Brief!#REF!,0))*1,\"\")","v":""}]
[null,null,null,{"$f":"IFERROR(INDEX(Brief!$AO$29:$AO$63,MATCH(C1890,Brief!#REF!,0))*1,\"\")","v":""}]
[null,null,null,{"$f":"IFERROR(INDEX(Brief!$AO$29:$AO$63,MATCH(C1891,Brief!#REF!,0))*1,\"\")","v":""}]
[null,null,null,{"$f":"IFERROR(INDEX(Brief!$AO$29:$AO$63,MATCH(C1892,Brief!#REF!,0))*1,\"\")","v":""}]
[null,null,null,{"$f":"IFERROR(INDEX(Brief!$AO$29:$AO$63,MATCH(C1893,Brief!#REF!,0))*1,\"\")","v":""}]
[null,null,null,{"$f":"IFERROR(INDEX(Brief!$AO$29:$AO$63,MATCH(C1894,Brief!#REF!,0))*1,\"\")","v":""}]
[null,null,null,{"$f":"IFERROR(INDEX(Brief!$AO$29:$AO$63,MATCH(C1895,Brief!#REF!,0))*1,\"\")","v":""}]
[null,null,null,{"$f":"IFERROR(INDEX(Brief!$AO$29:$AO$63,MATCH(C1896,Brief!#REF!,0))*1,\"\")","v":""}]
[null,null,null,{"$f":"IFERROR(INDEX(Brief!$AO$29:$AO$63,MATCH(C1897,Brief!#REF!,0))*1,\"\")","v":""}]
[null,null,null,{"$f":"IFERROR(INDEX(Brief!$AO$29:$AO$63,MATCH(C1898,Brief!#REF!,0))*1,\"\")","v":""}]
[null,null,null,{"$f":"IFERROR(INDEX(Brief!$AO$29:$AO$63,MATCH(C1899,Brief!#REF!,0))*1,\"\")","v":""}]
[null,null,null,{"$f":"IFERROR(INDEX(Brief!$AO$29:$AO$63,MATCH(C1900,Brief!#REF!,0))*1,\"\")","v":""}]
[null,null,null,{"$f":"IFERROR(INDEX(Brief!$AO$29:$AO$63,MATCH(C1901,Brief!#REF!,0))*1,\"\")","v":""}]
[null,null,null,{"$f":"IFERROR(INDEX(Brief!$AO$29:$AO$63,MATCH(C1902,Brief!#REF!,0))*1,\"\")","v":""}]
[null,null,null,{"$f":"IFERROR(INDEX(Brief!$AO$29:$AO$63,MATCH(C1903,Brief!#REF!,0))*1,\"\")","v":""}]
[null,null,null,{"$f":"IFERROR(INDEX(Brief!$AO$29:$AO$63,MATCH(C1904,Brief!#REF!,0))*1,\"\")","v":""}]
[null,null,null,{"$f":"IFERROR(INDEX(Brief!$AO$29:$AO$63,MATCH(C1905,Brief!#REF!,0))*1,\"\")","v":""}]
[null,null,null,{"$f":"IFERROR(INDEX(Brief!$AO$29:$AO$63,MATCH(C1906,Brief!#REF!,0))*1,\"\")","v":""}]
[null,null,null,{"$f":"IFERROR(INDEX(Brief!$AO$29:$AO$63,MATCH(C1907,Brief!#REF!,0))*1,\"\")","v":""}]
[null,null,null,{"$f":"IFERROR(INDEX(Brief!$AO$29:$AO$63,MATCH(C1908,Brief!#REF!,0))*1,\"\")","v":""}]
[null,null,null,{"$f":"IFERROR(INDEX(Brief!$AO$29:$AO$63,MATCH(C1909,Brief!#REF!,0))*1,\"\")","v":""}]
[null,null,null,{"$f":"IFERROR(INDEX(Brief!$AO$29:$AO$63,MATCH(C1910,Brief!#REF!,0))*1,\"\")","v":""}]
[null,null,null,{"$f":"IFERROR(INDEX(Brief!$AO$29:$AO$63,MATCH(C1911,Brief!#REF!,0))*1,\"\")","v":""}]
[null,null,null,{"$f":"IFERROR(INDEX(Brief!$AO$29:$AO$63,MATCH(C1912,Brief!#REF!,0))*1,\"\")","v":""}]
[null,null,null,{"$f":"IFERROR(INDEX(Brief!$AO$29:$AO$63,MATCH(C1913,Brief!#REF!,0))*1,\"\")","v":""}]
[null,null,null,{"$f":"IFERROR(INDEX(Brief!$AO$29:$AO$63,MATCH(C1914,Brief!#REF!,0))*1,\"\")","v":""}]
[null,null,null,{"$f":"IFERROR(INDEX(Brief!$AO$29:$AO$63,MATCH(C1915,Brief!#REF!,0))*1,\"\")","v":""}]
[null,null,null,{"$f":"IFERROR(INDEX(Brief!$AO$29:$AO$63,MATCH(C1916,Brief!#REF!,0))*1,\"\")","v":""}]
[null,null,null,{"$f":"IFERROR(INDEX(Brief!$AO$29:$AO$63,MATCH(C1917,Brief!#REF!,0))*1,\"\")","v":""}]
[null,null,null,{"$f":"IFERROR(INDEX(Brief!$AO$29:$AO$63,MATCH(C1918,Brief!#REF!,0))*1,\"\")","v":""}]
[null,null,null,{"$f":"IFERROR(INDEX(Brief!$AO$29:$AO$63,MATCH(C1919,Brief!#REF!,0))*1,\"\")","v":""}]
[null,null,null,{"$f":"IFERROR(INDEX(Brief!$AO$29:$AO$63,MATCH(C1920,Brief!#REF!,0))*1,\"\")","v":""}]
[null,null,null,{"$f":"IFERROR(INDEX(Brief!$AO$29:$AO$63,MATCH(C1921,Brief!#REF!,0))*1,\"\")","v":""}]
[null,null,null,{"$f":"IFERROR(INDEX(Brief!$AO$29:$AO$63,MATCH(C1922,Brief!#REF!,0))*1,\"\")","v":""}]
[null,null,null,{"$f":"IFERROR(INDEX(Brief!$AO$29:$AO$63,MATCH(C1923,Brief!#REF!,0))*1,\"\")","v":""}]
[null,null,null,{"$f":"IFERROR(INDEX(Brief!$AO$29:$AO$63,MATCH(C1924,Brief!#REF!,0))*1,\"\")","v":""}]
[null,null,null,{"$f":"IFERROR(INDEX(Brief!$AO$29:$AO$63,MATCH(C1925,Brief!#REF!,0))*1,\"\")","v":""}]
[null,null,null,{"$f":"IFERROR(INDEX(Brief!$AO$29:$AO$63,MATCH(C1926,Brief!#REF!,0))*1,\"\")","v":""}]
[null,null,null,{"$f":"IFERROR(INDEX(Brief!$AO$29:$AO$63,MATCH(C1927,Brief!#REF!,0))*1,\"\")","v":""}]
[null,null,null,{"$f":"IFERROR(INDEX(Brief!$AO$29:$AO$63,MATCH(C1928,Brief!#REF!,0))*1,\"\")","v":""}]
[null,null,null,{"$f":"IFERROR(INDEX(Brief!$AO$29:$AO$63,MATCH(C1929,Brief!#REF!,0))*1,\"\")","v":""}]
[null,null,null,{"$f":"IFERROR(INDEX(Brief!$AO$29:$AO$63,MATCH(C1930,Brief!#REF!,0))*1,\"\")","v":""}]
[null,null,null,{"$f":"IFERROR(INDEX(Brief!$AO$29:$AO$63,MATCH(C1931,Brief!#REF!,0))*1,\"\")","v":""}]
[null,null,null,{"$f":"IFERROR(INDEX(Brief!$AO$29:$AO$63,MATCH(C1932,Brief!#REF!,0))*1,\"\")","v":""}]
[null,null,null,{"$f":"IFERROR(INDEX(Brief!$AO$29:$AO$63,MATCH(C1933,Brief!#REF!,0))*1,\"\")","v":""}]
[null,null,null,{"$f":"IFERROR(INDEX(Brief!$AO$29:$AO$63,MATCH(C1934,Brief!#REF!,0))*1,\"\")","v":""}]
[null,null,null,{"$f":"IFERROR(INDEX(Brief!$AO$29:$AO$63,MATCH(C1935,Brief!#REF!,0))*1,\"\")","v":""}]
[null,null,null,{"$f":"IFERROR(INDEX(Brief!$AO$29:$AO$63,MATCH(C1936,Brief!#REF!,0))*1,\"\")","v":""}]
[null,null,null,{"$f":"IFERROR(INDEX(Brief!$AO$29:$AO$63,MATCH(C1937,Brief!#REF!,0))*1,\"\")","v":""}]
[null,null,null,{"$f":"IFERROR(INDEX(Brief!$AO$29:$AO$63,MATCH(C1938,Brief!#REF!,0))*1,\"\")","v":""}]
[null,null,null,{"$f":"IFERROR(INDEX(Brief!$AO$29:$AO$63,MATCH(C1939,Brief!#REF!,0))*1,\"\")","v":""}]
[null,null,null,{"$f":"IFERROR(INDEX(Brief!$AO$29:$AO$63,MATCH(C1940,Brief!#REF!,0))*1,\"\")","v":""}]
[null,null,null,{"$f":"IFERROR(INDEX(Brief!$AO$29:$AO$63,MATCH(C1941,Brief!#REF!,0))*1,\"\")","v":""}]
[null,null,null,{"$f":"IFERROR(INDEX(Brief!$AO$29:$AO$63,MATCH(C1942,Brief!#REF!,0))*1,\"\")","v":""}]
[null,null,null,{"$f":"IFERROR(INDEX(Brief!$AO$29:$AO$63,MATCH(C1943,Brief!#REF!,0))*1,\"\")","v":""}]
[null,null,null,{"$f":"IFERROR(INDEX(Brief!$AO$29:$AO$63,MATCH(C1944,Brief!#REF!,0))*1,\"\")","v":""}]
[null,null,null,{"$f":"IFERROR(INDEX(Brief!$AO$29:$AO$63,MATCH(C1945,Brief!#REF!,0))*1,\"\")","v":""}]
[null,null,null,{"$f":"IFERROR(INDEX(Brief!$AO$29:$AO$63,MATCH(C1946,Brief!#REF!,0))*1,\"\")","v":""}]
[null,null,null,{"$f":"IFERROR(INDEX(Brief!$AO$29:$AO$63,MATCH(C1947,Brief!#REF!,0))*1,\"\")","v":""}]
[null,null,null,{"$f":"IFERROR(INDEX(Brief!$AO$29:$AO$63,MATCH(C1948,Brief!#REF!,0))*1,\"\")","v":""}]
[null,null,null,{"$f":"IFERROR(INDEX(Brief!$AO$29:$AO$63,MATCH(C1949,Brief!#REF!,0))*1,\"\")","v":""}]
[null,null,null,{"$f":"IFERROR(INDEX(Brief!$AO$29:$AO$63,MATCH(C1950,Brief!#REF!,0))*1,\"\")","v":""}]
[null,null,null,{"$f":"IFERROR(INDEX(Brief!$AO$29:$AO$63,MATCH(C1951,Brief!#REF!,0))*1,\"\")","v":""}]
[null,null,null,{"$f":"IFERROR(INDEX(Brief!$AO$29:$AO$63,MATCH(C1952,Brief!#REF!,0))*1,\"\")","v":""}]
[null,null,null,{"$f":"IFERROR(INDEX(Brief!$AO$29:$AO$63,MATCH(C1953,Brief!#REF!,0))*1,\"\")","v":""}]
[null,null,null,{"$f":"IFERROR(INDEX(Brief!$AO$29:$AO$63,MATCH(C1954,Brief!#REF!,0))*1,\"\")","v":""}]
[null,null,null,{"$f":"IFERROR(INDEX(Brief!$AO$29:$AO$63,MATCH(C1955,Brief!#REF!,0))*1,\"\")","v":""}]
[null,null,null,{"$f":"IFERROR(INDEX(Brief!$AO$29:$AO$63,MATCH(C1956,Brief!#REF!,0))*1,\"\")","v":""}]
[null,null,null,{"$f":"IFERROR(INDEX(Brief!$AO$29:$AO$63,MATCH(C1957,Brief!#REF!,0))*1,\"\")","v":""}]
[null,null,null,{"$f":"IFERROR(INDEX(Brief!$AO$29:$AO$63,MATCH(C1958,Brief!#REF!,0))*1,\"\")","v":""}]
[null,null,null,{"$f":"IFERROR(INDEX(Brief!$AO$29:$AO$63,MATCH(C1959,Brief!#REF!,0))*1,\"\")","v":""}]
[null,null,null,{"$f":"IFERROR(INDEX(Brief!$AO$29:$AO$63,MATCH(C1960,Brief!#REF!,0))*1,\"\")","v":""}]
[null,null,null,{"$f":"IFERROR(INDEX(Brief!$AO$29:$AO$63,MATCH(C1961,Brief!#REF!,0))*1,\"\")","v":""}]
[null,null,null,{"$f":"IFERROR(INDEX(Brief!$AO$29:$AO$63,MATCH(C1962,Brief!#REF!,0))*1,\"\")","v":""}]
[null,null,null,{"$f":"IFERROR(INDEX(Brief!$AO$29:$AO$63,MATCH(C1963,Brief!#REF!,0))*1,\"\")","v":""}]
[null,null,null,{"$f":"IFERROR(INDEX(Brief!$AO$29:$AO$63,MATCH(C1964,Brief!#REF!,0))*1,\"\")","v":""}]
[null,null,null,{"$f":"IFERROR(INDEX(Brief!$AO$29:$AO$63,MATCH(C1965,Brief!#REF!,0))*1,\"\")","v":""}]
[null,null,null,{"$f":"IFERROR(INDEX(Brief!$AO$29:$AO$63,MATCH(C1966,Brief!#REF!,0))*1,\"\")","v":""}]
[null,null,null,{"$f":"IFERROR(INDEX(Brief!$AO$29:$AO$63,MATCH(C1967,Brief!#REF!,0))*1,\"\")","v":""}]
[null,null,null,{"$f":"IFERROR(INDEX(Brief!$AO$29:$AO$63,MATCH(C1968,Brief!#REF!,0))*1,\"\")","v":""}]
[null,null,null,{"$f":"IFERROR(INDEX(Brief!$AO$29:$AO$63,MATCH(C1969,Brief!#REF!,0))*1,\"\")","v":""}]
[null,null,null,{"$f":"IFERROR(INDEX(Brief!$AO$29:$AO$63,MATCH(C1970,Brief!#REF!,0))*1,\"\")","v":""}]
[null,null,null,{"$f":"IFERROR(INDEX(Brief!$AO$29:$AO$63,MATCH(C1971,Brief!#REF!,0))*1,\"\")","v":""}]
[null,null,null,{"$f":"IFERROR(INDEX(Brief!$AO$29:$AO$63,MATCH(C1972,Brief!#REF!,0))*1,\"\")","v":""}]
[null,null,null,{"$f":"IFERROR(INDEX(Brief!$AO$29:$AO$63,MATCH(C1973,Brief!#REF!,0))*1,\"\")","v":""}]
[null,null,null,{"$f":"IFERROR(INDEX(Brief!$AO$29:$AO$63,MATCH(C1974,Brief!#REF!,0))*1,\"\")","v":""}]
[null,null,null,{"$f":"IFERROR(INDEX(Brief!$AO$29:$AO$63,MATCH(C1975,Brief!#REF!,0))*1,\"\")","v":""}]
[null,null,null,{"$f":"IFERROR(INDEX(Brief!$AO$29:$AO$63,MATCH(C1976,Brief!#REF!,0))*1,\"\")","v":""}]
[null,null,null,{"$f":"IFERROR(INDEX(Brief!$AO$29:$AO$63,MATCH(C1977,Brief!#REF!,0))*1,\"\")","v":""}]
[null,null,null,{"$f":"IFERROR(INDEX(Brief!$AO$29:$AO$63,MATCH(C1978,Brief!#REF!,0))*1,\"\")","v":""}]
[null,null,null,{"$f":"IFERROR(INDEX(Brief!$AO$29:$AO$63,MATCH(C1979,Brief!#REF!,0))*1,\"\")","v":""}]
[null,null,null,{"$f":"IFERROR(INDEX(Brief!$AO$29:$AO$63,MATCH(C1980,Brief!#REF!,0))*1,\"\")","v":""}]
[null,null,null,{"$f":"IFERROR(INDEX(Brief!$AO$29:$AO$63,MATCH(C1981,Brief!#REF!,0))*1,\"\")","v":""}]
[null,null,null,{"$f":"IFERROR(INDEX(Brief!$AO$29:$AO$63,MATCH(C1982,Brief!#REF!,0))*1,\"\")","v":""}]
[null,null,null,{"$f":"IFERROR(INDEX(Brief!$AO$29:$AO$63,MATCH(C1983,Brief!#REF!,0))*1,\"\")","v":""}]
[null,null,null,{"$f":"IFERROR(INDEX(Brief!$AO$29:$AO$63,MATCH(C1984,Brief!#REF!,0))*1,\"\")","v":""}]
[null,null,null,{"$f":"IFERROR(INDEX(Brief!$AO$29:$AO$63,MATCH(C1985,Brief!#REF!,0))*1,\"\")","v":""}]
[null,null,null,{"$f":"IFERROR(INDEX(Brief!$AO$29:$AO$63,MATCH(C1986,Brief!#REF!,0))*1,\"\")","v":""}]
[null,null,null,{"$f":"IFERROR(INDEX(Brief!$AO$29:$AO$63,MATCH(C1987,Brief!#REF!,0))*1,\"\")","v":""}]
[null,null,null,{"$f":"IFERROR(INDEX(Brief!$AO$29:$AO$63,MATCH(C1988,Brief!#REF!,0))*1,\"\")","v":""}]
[null,null,null,{"$f":"IFERROR(INDEX(Brief!$AO$29:$AO$63,MATCH(C1989,Brief!#REF!,0))*1,\"\")","v":""}]
[null,null,null,{"$f":"IFERROR(INDEX(Brief!$AO$29:$AO$63,MATCH(C1990,Brief!#REF!,0))*1,\"\")","v":""}]
[null,null,null,{"$f":"IFERROR(INDEX(Brief!$AO$29:$AO$63,MATCH(C1991,Brief!#REF!,0))*1,\"\")","v":""}]
[null,null,null,{"$f":"IFERROR(INDEX(Brief!$AO$29:$AO$63,MATCH(C1992,Brief!#REF!,0))*1,\"\")","v":""}]
[null,null,null,{"$f":"IFERROR(INDEX(Brief!$AO$29:$AO$63,MATCH(C1993,Brief!#REF!,0))*1,\"\")","v":""}]
[null,null,null,{"$f":"IFERROR(INDEX(Brief!$AO$29:$AO$63,MATCH(C1994,Brief!#REF!,0))*1,\"\")","v":""}]
[null,null,null,{"$f":"IFERROR(INDEX(Brief!$AO$29:$AO$63,MATCH(C1995,Brief!#REF!,0))*1,\"\")","v":""}]
[null,null,null,{"$f":"IFERROR(INDEX(Brief!$AO$29:$AO$63,MATCH(C1996,Brief!#REF!,0))*1,\"\")","v":""}]
[null,null,null,{"$f":"IFERROR(INDEX(Brief!$AO$29:$AO$63,MATCH(C1997,Brief!#REF!,0))*1,\"\")","v":""}]
[null,null,null,{"$f":"IFERROR(INDEX(Brief!$AO$29:$AO$63,MATCH(C1998,Brief!#REF!,0))*1,\"\")","v":""}]
[null,null,null,{"$f":"IFERROR(INDEX(Brief!$AO$29:$AO$63,MATCH(C1999,Brief!#REF!,0))*1,\"\")","v":""}]
[null,null,null,{"$f":"IFERROR(INDEX(Brief!$AO$29:$AO$63,MATCH(C2000,Brief!#REF!,0))*1,\"\")","v":""}]
[null,null,null,{"$f":"IFERROR(INDEX(Brief!$AO$29:$AO$63,MATCH(C2001,Brief!#REF!,0))*1,\"\")","v":""}]
[null,null,null,{"$f":"IFERROR(INDEX(Brief!$AO$29:$AO$63,MATCH(C2002,Brief!#REF!,0))*1,\"\")","v":""}]
[null,null,null,{"$f":"IFERROR(INDEX(Brief!$AO$29:$AO$63,MATCH(C2003,Brief!#REF!,0))*1,\"\")","v":""}]
[null,null,null,{"$f":"IFERROR(INDEX(Brief!$AO$29:$AO$63,MATCH(C2004,Brief!#REF!,0))*1,\"\")","v":""}]
[null,null,null,{"$f":"IFERROR(INDEX(Brief!$AO$29:$AO$63,MATCH(C2005,Brief!#REF!,0))*1,\"\")","v":""}]
[null,null,null,{"$f":"IFERROR(INDEX(Brief!$AO$29:$AO$63,MATCH(C2006,Brief!#REF!,0))*1,\"\")","v":""}]
[null,null,null,{"$f":"IFERROR(INDEX(Brief!$AO$29:$AO$63,MATCH(C2007,Brief!#REF!,0))*1,\"\")","v":""}]
[null,null,null,{"$f":"IFERROR(INDEX(Brief!$AO$29:$AO$63,MATCH(C2008,Brief!#REF!,0))*1,\"\")","v":""}]
[null,null,null,{"$f":"IFERROR(INDEX(Brief!$AO$29:$AO$63,MATCH(C2009,Brief!#REF!,0))*1,\"\")","v":""}]
[null,null,null,{"$f":"IFERROR(INDEX(Brief!$AO$29:$AO$63,MATCH(C2010,Brief!#REF!,0))*1,\"\")","v":""}]
[null,null,null,{"$f":"IFERROR(INDEX(Brief!$AO$29:$AO$63,MATCH(C2011,Brief!#REF!,0))*1,\"\")","v":""}]
[null,null,null,{"$f":"IFERROR(INDEX(Brief!$AO$29:$AO$63,MATCH(C2012,Brief!#REF!,0))*1,\"\")","v":""}]
[null,null,null,{"$f":"IFERROR(INDEX(Brief!$AO$29:$AO$63,MATCH(C2013,Brief!#REF!,0))*1,\"\")","v":""}]
[null,null,null,{"$f":"IFERROR(INDEX(Brief!$AO$29:$AO$63,MATCH(C2014,Brief!#REF!,0))*1,\"\")","v":""}]
[null,null,null,{"$f":"IFERROR(INDEX(Brief!$AO$29:$AO$63,MATCH(C2015,Brief!#REF!,0))*1,\"\")","v":""}]
[null,null,null,{"$f":"IFERROR(INDEX(Brief!$AO$29:$AO$63,MATCH(C2016,Brief!#REF!,0))*1,\"\")","v":""}]
[null,null,null,{"$f":"IFERROR(INDEX(Brief!$AO$29:$AO$63,MATCH(C2017,Brief!#REF!,0))*1,\"\")","v":""}]
[null,null,null,{"$f":"IFERROR(INDEX(Brief!$AO$29:$AO$63,MATCH(C2018,Brief!#REF!,0))*1,\"\")","v":""}]
[null,null,null,{"$f":"IFERROR(INDEX(Brief!$AO$29:$AO$63,MATCH(C2019,Brief!#REF!,0))*1,\"\")","v":""}]
[null,null,null,{"$f":"IFERROR(INDEX(Brief!$AO$29:$AO$63,MATCH(C2020,Brief!#REF!,0))*1,\"\")","v":""}]
[null,null,null,{"$f":"IFERROR(INDEX(Brief!$AO$29:$AO$63,MATCH(C2021,Brief!#REF!,0))*1,\"\")","v":""}]
[null,null,null,{"$f":"IFERROR(INDEX(Brief!$AO$29:$AO$63,MATCH(C2022,Brief!#REF!,0))*1,\"\")","v":""}]
[null,null,null,{"$f":"IFERROR(INDEX(Brief!$AO$29:$AO$63,MATCH(C2023,Brief!#REF!,0))*1,\"\")","v":""}]
[null,null,null,{"$f":"IFERROR(INDEX(Brief!$AO$29:$AO$63,MATCH(C2024,Brief!#REF!,0))*1,\"\")","v":""}]
[null,null,null,{"$f":"IFERROR(INDEX(Brief!$AO$29:$AO$63,MATCH(C2025,Brief!#REF!,0))*1,\"\")","v":""}]
[null,null,null,{"$f":"IFERROR(INDEX(Brief!$AO$29:$AO$63,MATCH(C2026,Brief!#REF!,0))*1,\"\")","v":""}]
[null,null,null,{"$f":"IFERROR(INDEX(Brief!$AO$29:$AO$63,MATCH(C2027,Brief!#REF!,0))*1,\"\")","v":""}]
[null,null,null,{"$f":"IFERROR(INDEX(Brief!$AO$29:$AO$63,MATCH(C2028,Brief!#REF!,0))*1,\"\")","v":""}]
[null,null,null,{"$f":"IFERROR(INDEX(Brief!$AO$29:$AO$63,MATCH(C2029,Brief!#REF!,0))*1,\"\")","v":""}]
[null,null,null,{"$f":"IFERROR(INDEX(Brief!$AO$29:$AO$63,MATCH(C2030,Brief!#REF!,0))*1,\"\")","v":""}]
[null,null,null,{"$f":"IFERROR(INDEX(Brief!$AO$29:$AO$63,MATCH(C2031,Brief!#REF!,0))*1,\"\")","v":""}]
[null,null,null,{"$f":"IFERROR(INDEX(Brief!$AO$29:$AO$63,MATCH(C2032,Brief!#REF!,0))*1,\"\")","v":""}]
[null,null,null,{"$f":"IFERROR(INDEX(Brief!$AO$29:$AO$63,MATCH(C2033,Brief!#REF!,0))*1,\"\")","v":""}]
[null,null,null,{"$f":"IFERROR(INDEX(Brief!$AO$29:$AO$63,MATCH(C2034,Brief!#REF!,0))*1,\"\")","v":""}]
[null,null,null,{"$f":"IFERROR(INDEX(Brief!$AO$29:$AO$63,MATCH(C2035,Brief!#REF!,0))*1,\"\")","v":""}]
[null,null,null,{"$f":"IFERROR(INDEX(Brief!$AO$29:$AO$63,MATCH(C2036,Brief!#REF!,0))*1,\"\")","v":""}]
[null,null,null,{"$f":"IFERROR(INDEX(Brief!$AO$29:$AO$63,MATCH(C2037,Brief!#REF!,0))*1,\"\")","v":""}]
[null,null,null,{"$f":"IFERROR(INDEX(Brief!$AO$29:$AO$63,MATCH(C2038,Brief!#REF!,0))*1,\"\")","v":""}]
[null,null,null,{"$f":"IFERROR(INDEX(Brief!$AO$29:$AO$63,MATCH(C2039,Brief!#REF!,0))*1,\"\")","v":""}]
[null,null,null,{"$f":"IFERROR(INDEX(Brief!$AO$29:$AO$63,MATCH(C2040,Brief!#REF!,0))*1,\"\")","v":""}]
[null,null,null,{"$f":"IFERROR(INDEX(Brief!$AO$29:$AO$63,MATCH(C2041,Brief!#REF!,0))*1,\"\")","v":""}]
[null,null,null,{"$f":"IFERROR(INDEX(Brief!$AO$29:$AO$63,MATCH(C2042,Brief!#REF!,0))*1,\"\")","v":""}]
[null,null,null,{"$f":"IFERROR(INDEX(Brief!$AO$29:$AO$63,MATCH(C2043,Brief!#REF!,0))*1,\"\")","v":""}]
[null,null,null,{"$f":"IFERROR(INDEX(Brief!$AO$29:$AO$63,MATCH(C2044,Brief!#REF!,0))*1,\"\")","v":""}]
[null,null,null,{"$f":"IFERROR(INDEX(Brief!$AO$29:$AO$63,MATCH(C2045,Brief!#REF!,0))*1,\"\")","v":""}]
[null,null,null,{"$f":"IFERROR(INDEX(Brief!$AO$29:$AO$63,MATCH(C2046,Brief!#REF!,0))*1,\"\")","v":""}]
[null,null,null,{"$f":"IFERROR(INDEX(Brief!$AO$29:$AO$63,MATCH(C2047,Brief!#REF!,0))*1,\"\")","v":""}]
[null,null,null,{"$f":"IFERROR(INDEX(Brief!$AO$29:$AO$63,MATCH(C2048,Brief!#REF!,0))*1,\"\")","v":""}]
[null,null,null,{"$f":"IFERROR(INDEX(Brief!$AO$29:$AO$63,MATCH(C2049,Brief!#REF!,0))*1,\"\")","v":""}]
[null,null,null,{"$f":"IFERROR(INDEX(Brief!$AO$29:$AO$63,MATCH(C2050,Brief!#REF!,0))*1,\"\")","v":""}]
[null,null,null,{"$f":"IFERROR(INDEX(Brief!$AO$29:$AO$63,MATCH(C2051,Brief!#REF!,0))*1,\"\")","v":""}]
[null,null,null,{"$f":"IFERROR(INDEX(Brief!$AO$29:$AO$63,MATCH(C2052,Brief!#REF!,0))*1,\"\")","v":""}]
[null,null,null,{"$f":"IFERROR(INDEX(Brief!$AO$29:$AO$63,MATCH(C2053,Brief!#REF!,0))*1,\"\")","v":""}]
[null,null,null,{"$f":"IFERROR(INDEX(Brief!$AO$29:$AO$63,MATCH(C2054,Brief!#REF!,0))*1,\"\")","v":""}]
[null,null,null,{"$f":"IFERROR(INDEX(Brief!$AO$29:$AO$63,MATCH(C2055,Brief!#REF!,0))*1,\"\")","v":""}]
[null,null,null,{"$f":"IFERROR(INDEX(Brief!$AO$29:$AO$63,MATCH(C2056,Brief!#REF!,0))*1,\"\")","v":""}]
[null,null,null,{"$f":"IFERROR(INDEX(Brief!$AO$29:$AO$63,MATCH(C2057,Brief!#REF!,0))*1,\"\")","v":""}]
[null,null,null,{"$f":"IFERROR(INDEX(Brief!$AO$29:$AO$63,MATCH(C2058,Brief!#REF!,0))*1,\"\")","v":""}]
[null,null,null,{"$f":"IFERROR(INDEX(Brief!$AO$29:$AO$63,MATCH(C2059,Brief!#REF!,0))*1,\"\")","v":""}]
[null,null,null,{"$f":"IFERROR(INDEX(Brief!$AO$29:$AO$63,MATCH(C2060,Brief!#REF!,0))*1,\"\")","v":""}]
[null,null,null,{"$f":"IFERROR(INDEX(Brief!$AO$29:$AO$63,MATCH(C2061,Brief!#REF!,0))*1,\"\")","v":""}]
[null,null,null,{"$f":"IFERROR(INDEX(Brief!$AO$29:$AO$63,MATCH(C2062,Brief!#REF!,0))*1,\"\")","v":""}]
[null,null,null,{"$f":"IFERROR(INDEX(Brief!$AO$29:$AO$63,MATCH(C2063,Brief!#REF!,0))*1,\"\")","v":""}]
[null,null,null,{"$f":"IFERROR(INDEX(Brief!$AO$29:$AO$63,MATCH(C2064,Brief!#REF!,0))*1,\"\")","v":""}]
[null,null,null,{"$f":"IFERROR(INDEX(Brief!$AO$29:$AO$63,MATCH(C2065,Brief!#REF!,0))*1,\"\")","v":""}]
[null,null,null,{"$f":"IFERROR(INDEX(Brief!$AO$29:$AO$63,MATCH(C2066,Brief!#REF!,0))*1,\"\")","v":""}]
[null,null,null,{"$f":"IFERROR(INDEX(Brief!$AO$29:$AO$63,MATCH(C2067,Brief!#REF!,0))*1,\"\")","v":""}]
[null,null,null,{"$f":"IFERROR(INDEX(Brief!$AO$29:$AO$63,MATCH(C2068,Brief!#REF!,0))*1,\"\")","v":""}]
[null,null,null,{"$f":"IFERROR(INDEX(Brief!$AO$29:$AO$63,MATCH(C2069,Brief!#REF!,0))*1,\"\")","v":""}]
[null,null,null,{"$f":"IFERROR(INDEX(Brief!$AO$29:$AO$63,MATCH(C2070,Brief!#REF!,0))*1,\"\")","v":""}]
[null,null,null,{"$f":"IFERROR(INDEX(Brief!$AO$29:$AO$63,MATCH(C2071,Brief!#REF!,0))*1,\"\")","v":""}]
[null,null,null,{"$f":"IFERROR(INDEX(Brief!$AO$29:$AO$63,MATCH(C2072,Brief!#REF!,0))*1,\"\")","v":""}]
[null,null,null,{"$f":"IFERROR(INDEX(Brief!$AO$29:$AO$63,MATCH(C2073,Brief!#REF!,0))*1,\"\")","v":""}]
[null,null,null,{"$f":"IFERROR(INDEX(Brief!$AO$29:$AO$63,MATCH(C2074,Brief!#REF!,0))*1,\"\")","v":""}]
[null,null,null,{"$f":"IFERROR(INDEX(Brief!$AO$29:$AO$63,MATCH(C2075,Brief!#REF!,0))*1,\"\")","v":""}]
[null,null,null,{"$f":"IFERROR(INDEX(Brief!$AO$29:$AO$63,MATCH(C2076,Brief!#REF!,0))*1,\"\")","v":""}]
[null,null,null,{"$f":"IFERROR(INDEX(Brief!$AO$29:$AO$63,MATCH(C2077,Brief!#REF!,0))*1,\"\")","v":""}]
[null,null,null,{"$f":"IFERROR(INDEX(Brief!$AO$29:$AO$63,MATCH(C2078,Brief!#REF!,0))*1,\"\")","v":""}]
[null,null,null,{"$f":"IFERROR(INDEX(Brief!$AO$29:$AO$63,MATCH(C2079,Brief!#REF!,0))*1,\"\")","v":""}]
[null,null,null,{"$f":"IFERROR(INDEX(Brief!$AO$29:$AO$63,MATCH(C2080,Brief!#REF!,0))*1,\"\")","v":""}]
[null,null,null,{"$f":"IFERROR(INDEX(Brief!$AO$29:$AO$63,MATCH(C2081,Brief!#REF!,0))*1,\"\")","v":""}]
[null,null,null,{"$f":"IFERROR(INDEX(Brief!$AO$29:$AO$63,MATCH(C2082,Brief!#REF!,0))*1,\"\")","v":""}]
[null,null,null,{"$f":"IFERROR(INDEX(Brief!$AO$29:$AO$63,MATCH(C2083,Brief!#REF!,0))*1,\"\")","v":""}]
[null,null,null,{"$f":"IFERROR(INDEX(Brief!$AO$29:$AO$63,MATCH(C2084,Brief!#REF!,0))*1,\"\")","v":""}]
[null,null,null,{"$f":"IFERROR(INDEX(Brief!$AO$29:$AO$63,MATCH(C2085,Brief!#REF!,0))*1,\"\")","v":""}]
[null,null,null,{"$f":"IFERROR(INDEX(Brief!$AO$29:$AO$63,MATCH(C2086,Brief!#REF!,0))*1,\"\")","v":""}]
[null,null,null,{"$f":"IFERROR(INDEX(Brief!$AO$29:$AO$63,MATCH(C2087,Brief!#REF!,0))*1,\"\")","v":""}]
[null,null,null,{"$f":"IFERROR(INDEX(Brief!$AO$29:$AO$63,MATCH(C2088,Brief!#REF!,0))*1,\"\")","v":""}]
[null,null,null,{"$f":"IFERROR(INDEX(Brief!$AO$29:$AO$63,MATCH(C2089,Brief!#REF!,0))*1,\"\")","v":""}]
[null,null,null,{"$f":"IFERROR(INDEX(Brief!$AO$29:$AO$63,MATCH(C2090,Brief!#REF!,0))*1,\"\")","v":""}]
[null,null,null,{"$f":"IFERROR(INDEX(Brief!$AO$29:$AO$63,MATCH(C2091,Brief!#REF!,0))*1,\"\")","v":""}]
[null,null,null,{"$f":"IFERROR(INDEX(Brief!$AO$29:$AO$63,MATCH(C2092,Brief!#REF!,0))*1,\"\")","v":""}]
[null,null,null,{"$f":"IFERROR(INDEX(Brief!$AO$29:$AO$63,MATCH(C2093,Brief!#REF!,0))*1,\"\")","v":""}]
[null,null,null,{"$f":"IFERROR(INDEX(Brief!$AO$29:$AO$63,MATCH(C2094,Brief!#REF!,0))*1,\"\")","v":""}]
[null,null,null,{"$f":"IFERROR(INDEX(Brief!$AO$29:$AO$63,MATCH(C2095,Brief!#REF!,0))*1,\"\")","v":""}]
[null,null,null,{"$f":"IFERROR(INDEX(Brief!$AO$29:$AO$63,MATCH(C2096,Brief!#REF!,0))*1,\"\")","v":""}]
[null,null,null,{"$f":"IFERROR(INDEX(Brief!$AO$29:$AO$63,MATCH(C2097,Brief!#REF!,0))*1,\"\")","v":""}]
[null,null,null,{"$f":"IFERROR(INDEX(Brief!$AO$29:$AO$63,MATCH(C2098,Brief!#REF!,0))*1,\"\")","v":""}]
[null,null,null,{"$f":"IFERROR(INDEX(Brief!$AO$29:$AO$63,MATCH(C2099,Brief!#REF!,0))*1,\"\")","v":""}]
[null,null,null,{"$f":"IFERROR(INDEX(Brief!$AO$29:$AO$63,MATCH(C2100,Brief!#REF!,0))*1,\"\")","v":""}]
[null,null,null,{"$f":"IFERROR(INDEX(Brief!$AO$29:$AO$63,MATCH(C2101,Brief!#REF!,0))*1,\"\")","v":""}]
[null,null,null,{"$f":"IFERROR(INDEX(Brief!$AO$29:$AO$63,MATCH(C2102,Brief!#REF!,0))*1,\"\")","v":""}]
[null,null,null,{"$f":"IFERROR(INDEX(Brief!$AO$29:$AO$63,MATCH(C2103,Brief!#REF!,0))*1,\"\")","v":""}]
[null,null,null,{"$f":"IFERROR(INDEX(Brief!$AO$29:$AO$63,MATCH(C2104,Brief!#REF!,0))*1,\"\")","v":""}]
[null,null,null,{"$f":"IFERROR(INDEX(Brief!$AO$29:$AO$63,MATCH(C2105,Brief!#REF!,0))*1,\"\")","v":""}]
[null,null,null,{"$f":"IFERROR(INDEX(Brief!$AO$29:$AO$63,MATCH(C2106,Brief!#REF!,0))*1,\"\")","v":""}]
[null,null,null,{"$f":"IFERROR(INDEX(Brief!$AO$29:$AO$63,MATCH(C2107,Brief!#REF!,0))*1,\"\")","v":""}]
[null,null,null,{"$f":"IFERROR(INDEX(Brief!$AO$29:$AO$63,MATCH(C2108,Brief!#REF!,0))*1,\"\")","v":""}]
[null,null,null,{"$f":"IFERROR(INDEX(Brief!$AO$29:$AO$63,MATCH(C2109,Brief!#REF!,0))*1,\"\")","v":""}]
[null,null,null,{"$f":"IFERROR(INDEX(Brief!$AO$29:$AO$63,MATCH(C2110,Brief!#REF!,0))*1,\"\")","v":""}]
[null,null,null,{"$f":"IFERROR(INDEX(Brief!$AO$29:$AO$63,MATCH(C2111,Brief!#REF!,0))*1,\"\")","v":""}]
[null,null,null,{"$f":"IFERROR(INDEX(Brief!$AO$29:$AO$63,MATCH(C2112,Brief!#REF!,0))*1,\"\")","v":""}]
[null,null,null,{"$f":"IFERROR(INDEX(Brief!$AO$29:$AO$63,MATCH(C2113,Brief!#REF!,0))*1,\"\")","v":""}]
[null,null,null,{"$f":"IFERROR(INDEX(Brief!$AO$29:$AO$63,MATCH(C2114,Brief!#REF!,0))*1,\"\")","v":""}]
[null,null,null,{"$f":"IFERROR(INDEX(Brief!$AO$29:$AO$63,MATCH(C2115,Brief!#REF!,0))*1,\"\")","v":""}]
[null,null,null,{"$f":"IFERROR(INDEX(Brief!$AO$29:$AO$63,MATCH(C2116,Brief!#REF!,0))*1,\"\")","v":""}]
[null,null,null,{"$f":"IFERROR(INDEX(Brief!$AO$29:$AO$63,MATCH(C2117,Brief!#REF!,0))*1,\"\")","v":""}]
[null,null,null,{"$f":"IFERROR(INDEX(Brief!$AO$29:$AO$63,MATCH(C2118,Brief!#REF!,0))*1,\"\")","v":""}]
[null,null,null,{"$f":"IFERROR(INDEX(Brief!$AO$29:$AO$63,MATCH(C2119,Brief!#REF!,0))*1,\"\")","v":""}]
[null,null,null,{"$f":"IFERROR(INDEX(Brief!$AO$29:$AO$63,MATCH(C2120,Brief!#REF!,0))*1,\"\")","v":""}]
[null,null,null,{"$f":"IFERROR(INDEX(Brief!$AO$29:$AO$63,MATCH(C2121,Brief!#REF!,0))*1,\"\")","v":""}]
[null,null,null,{"$f":"IFERROR(INDEX(Brief!$AO$29:$AO$63,MATCH(C2122,Brief!#REF!,0))*1,\"\")","v":""}]
[null,null,null,{"$f":"IFERROR(INDEX(Brief!$AO$29:$AO$63,MATCH(C2123,Brief!#REF!,0))*1,\"\")","v":""}]
[null,null,null,{"$f":"IFERROR(INDEX(Brief!$AO$29:$AO$63,MATCH(C2124,Brief!#REF!,0))*1,\"\")","v":""}]
[null,null,null,{"$f":"IFERROR(INDEX(Brief!$AO$29:$AO$63,MATCH(C2125,Brief!#REF!,0))*1,\"\")","v":""}]
[null,null,null,{"$f":"IFERROR(INDEX(Brief!$AO$29:$AO$63,MATCH(C2126,Brief!#REF!,0))*1,\"\")","v":""}]
[null,null,null,{"$f":"IFERROR(INDEX(Brief!$AO$29:$AO$63,MATCH(C2127,Brief!#REF!,0))*1,\"\")","v":""}]
[null,null,null,{"$f":"IFERROR(INDEX(Brief!$AO$29:$AO$63,MATCH(C2128,Brief!#REF!,0))*1,\"\")","v":""}]
[null,null,null,{"$f":"IFERROR(INDEX(Brief!$AO$29:$AO$63,MATCH(C2129,Brief!#REF!,0))*1,\"\")","v":""}]
[null,null,null,{"$f":"IFERROR(INDEX(Brief!$AO$29:$AO$63,MATCH(C2130,Brief!#REF!,0))*1,\"\")","v":""}]
[null,null,null,{"$f":"IFERROR(INDEX(Brief!$AO$29:$AO$63,MATCH(C2131,Brief!#REF!,0))*1,\"\")","v":""}]
[null,null,null,{"$f":"IFERROR(INDEX(Brief!$AO$29:$AO$63,MATCH(C2132,Brief!#REF!,0))*1,\"\")","v":""}]
[null,null,null,{"$f":"IFERROR(INDEX(Brief!$AO$29:$AO$63,MATCH(C2133,Brief!#REF!,0))*1,\"\")","v":""}]
[null,null,null,{"$f":"IFERROR(INDEX(Brief!$AO$29:$AO$63,MATCH(C2134,Brief!#REF!,0))*1,\"\")","v":""}]
[null,null,null,{"$f":"IFERROR(INDEX(Brief!$AO$29:$AO$63,MATCH(C2135,Brief!#REF!,0))*1,\"\")","v":""}]
[null,null,null,{"$f":"IFERROR(INDEX(Brief!$AO$29:$AO$63,MATCH(C2136,Brief!#REF!,0))*1,\"\")","v":""}]
[null,null,null,{"$f":"IFERROR(INDEX(Brief!$AO$29:$AO$63,MATCH(C2137,Brief!#REF!,0))*1,\"\")","v":""}]
[null,null,null,{"$f":"IFERROR(INDEX(Brief!$AO$29:$AO$63,MATCH(C2138,Brief!#REF!,0))*1,\"\")","v":""}]
[null,null,null,{"$f":"IFERROR(INDEX(Brief!$AO$29:$AO$63,MATCH(C2139,Brief!#REF!,0))*1,\"\")","v":""}]
[null,null,null,{"$f":"IFERROR(INDEX(Brief!$AO$29:$AO$63,MATCH(C2140,Brief!#REF!,0))*1,\"\")","v":""}]
[null,null,null,{"$f":"IFERROR(INDEX(Brief!$AO$29:$AO$63,MATCH(C2141,Brief!#REF!,0))*1,\"\")","v":""}]
[null,null,null,{"$f":"IFERROR(INDEX(Brief!$AO$29:$AO$63,MATCH(C2142,Brief!#REF!,0))*1,\"\")","v":""}]
[null,null,null,{"$f":"IFERROR(INDEX(Brief!$AO$29:$AO$63,MATCH(C2143,Brief!#REF!,0))*1,\"\")","v":""}]
[null,null,null,{"$f":"IFERROR(INDEX(Brief!$AO$29:$AO$63,MATCH(C2144,Brief!#REF!,0))*1,\"\")","v":""}]
[null,null,null,{"$f":"IFERROR(INDEX(Brief!$AO$29:$AO$63,MATCH(C2145,Brief!#REF!,0))*1,\"\")","v":""}]
[null,null,null,{"$f":"IFERROR(INDEX(Brief!$AO$29:$AO$63,MATCH(C2146,Brief!#REF!,0))*1,\"\")","v":""}]
[null,null,null,{"$f":"IFERROR(INDEX(Brief!$AO$29:$AO$63,MATCH(C2147,Brief!#REF!,0))*1,\"\")","v":""}]
[null,null,null,{"$f":"IFERROR(INDEX(Brief!$AO$29:$AO$63,MATCH(C2148,Brief!#REF!,0))*1,\"\")","v":""}]
[null,null,null,{"$f":"IFERROR(INDEX(Brief!$AO$29:$AO$63,MATCH(C2149,Brief!#REF!,0))*1,\"\")","v":""}]
[null,null,null,{"$f":"IFERROR(INDEX(Brief!$AO$29:$AO$63,MATCH(C2150,Brief!#REF!,0))*1,\"\")","v":""}]
[null,null,null,{"$f":"IFERROR(INDEX(Brief!$AO$29:$AO$63,MATCH(C2151,Brief!#REF!,0))*1,\"\")","v":""}]
[null,null,null,{"$f":"IFERROR(INDEX(Brief!$AO$29:$AO$63,MATCH(C2152,Brief!#REF!,0))*1,\"\")","v":""}]
[null,null,null,{"$f":"IFERROR(INDEX(Brief!$AO$29:$AO$63,MATCH(C2153,Brief!#REF!,0))*1,\"\")","v":""}]
[null,null,null,{"$f":"IFERROR(INDEX(Brief!$AO$29:$AO$63,MATCH(C2154,Brief!#REF!,0))*1,\"\")","v":""}]
[null,null,null,{"$f":"IFERROR(INDEX(Brief!$AO$29:$AO$63,MATCH(C2155,Brief!#REF!,0))*1,\"\")","v":""}]
[null,null,null,{"$f":"IFERROR(INDEX(Brief!$AO$29:$AO$63,MATCH(C2156,Brief!#REF!,0))*1,\"\")","v":""}]
[null,null,null,{"$f":"IFERROR(INDEX(Brief!$AO$29:$AO$63,MATCH(C2157,Brief!#REF!,0))*1,\"\")","v":""}]
[null,null,null,{"$f":"IFERROR(INDEX(Brief!$AO$29:$AO$63,MATCH(C2158,Brief!#REF!,0))*1,\"\")","v":""}]
[null,null,null,{"$f":"IFERROR(INDEX(Brief!$AO$29:$AO$63,MATCH(C2159,Brief!#REF!,0))*1,\"\")","v":""}]
[null,null,null,{"$f":"IFERROR(INDEX(Brief!$AO$29:$AO$63,MATCH(C2160,Brief!#REF!,0))*1,\"\")","v":""}]
[null,null,null,{"$f":"IFERROR(INDEX(Brief!$AO$29:$AO$63,MATCH(C2161,Brief!#REF!,0))*1,\"\")","v":""}]
[null,null,null,{"$f":"IFERROR(INDEX(Brief!$AO$29:$AO$63,MATCH(C2162,Brief!#REF!,0))*1,\"\")","v":""}]
[null,null,null,{"$f":"IFERROR(INDEX(Brief!$AO$29:$AO$63,MATCH(C2163,Brief!#REF!,0))*1,\"\")","v":""}]
[null,null,null,{"$f":"IFERROR(INDEX(Brief!$AO$29:$AO$63,MATCH(C2164,Brief!#REF!,0))*1,\"\")","v":""}]
[null,null,null,{"$f":"IFERROR(INDEX(Brief!$AO$29:$AO$63,MATCH(C2165,Brief!#REF!,0))*1,\"\")","v":""}]
[null,null,null,{"$f":"IFERROR(INDEX(Brief!$AO$29:$AO$63,MATCH(C2166,Brief!#REF!,0))*1,\"\")","v":""}]
[null,null,null,{"$f":"IFERROR(INDEX(Brief!$AO$29:$AO$63,MATCH(C2167,Brief!#REF!,0))*1,\"\")","v":""}]
[null,null,null,{"$f":"IFERROR(INDEX(Brief!$AO$29:$AO$63,MATCH(C2168,Brief!#REF!,0))*1,\"\")","v":""}]
[null,null,null,{"$f":"IFERROR(INDEX(Brief!$AO$29:$AO$63,MATCH(C2169,Brief!#REF!,0))*1,\"\")","v":""}]
[null,null,null,{"$f":"IFERROR(INDEX(Brief!$AO$29:$AO$63,MATCH(C2170,Brief!#REF!,0))*1,\"\")","v":""}]
[null,null,null,{"$f":"IFERROR(INDEX(Brief!$AO$29:$AO$63,MATCH(C2171,Brief!#REF!,0))*1,\"\")","v":""}]
[null,null,null,{"$f":"IFERROR(INDEX(Brief!$AO$29:$AO$63,MATCH(C2172,Brief!#REF!,0))*1,\"\")","v":""}]
[null,null,null,{"$f":"IFERROR(INDEX(Brief!$AO$29:$AO$63,MATCH(C2173,Brief!#REF!,0))*1,\"\")","v":""}]
[null,null,null,{"$f":"IFERROR(INDEX(Brief!$AO$29:$AO$63,MATCH(C2174,Brief!#REF!,0))*1,\"\")","v":""}]
[null,null,null,{"$f":"IFERROR(INDEX(Brief!$AO$29:$AO$63,MATCH(C2175,Brief!#REF!,0))*1,\"\")","v":""}]
[null,null,null,{"$f":"IFERROR(INDEX(Brief!$AO$29:$AO$63,MATCH(C2176,Brief!#REF!,0))*1,\"\")","v":""}]
[null,null,null,{"$f":"IFERROR(INDEX(Brief!$AO$29:$AO$63,MATCH(C2177,Brief!#REF!,0))*1,\"\")","v":""}]
[null,null,null,{"$f":"IFERROR(INDEX(Brief!$AO$29:$AO$63,MATCH(C2178,Brief!#REF!,0))*1,\"\")","v":""}]
[null,null,null,{"$f":"IFERROR(INDEX(Brief!$AO$29:$AO$63,MATCH(C2179,Brief!#REF!,0))*1,\"\")","v":""}]
[null,null,null,{"$f":"IFERROR(INDEX(Brief!$AO$29:$AO$63,MATCH(C2180,Brief!#REF!,0))*1,\"\")","v":""}]
[null,null,null,{"$f":"IFERROR(INDEX(Brief!$AO$29:$AO$63,MATCH(C2181,Brief!#REF!,0))*1,\"\")","v":""}]
[null,null,null,{"$f":"IFERROR(INDEX(Brief!$AO$29:$AO$63,MATCH(C2182,Brief!#REF!,0))*1,\"\")","v":""}]
[null,null,null,{"$f":"IFERROR(INDEX(Brief!$AO$29:$AO$63,MATCH(C2183,Brief!#REF!,0))*1,\"\")","v":""}]
[null,null,null,{"$f":"IFERROR(INDEX(Brief!$AO$29:$AO$63,MATCH(C2184,Brief!#REF!,0))*1,\"\")","v":""}]
[null,null,null,{"$f":"IFERROR(INDEX(Brief!$AO$29:$AO$63,MATCH(C2185,Brief!#REF!,0))*1,\"\")","v":""}]
[null,null,null,{"$f":"IFERROR(INDEX(Brief!$AO$29:$AO$63,MATCH(C2186,Brief!#REF!,0))*1,\"\")","v":""}]
[null,null,null,{"$f":"IFERROR(INDEX(Brief!$AO$29:$AO$63,MATCH(C2187,Brief!#REF!,0))*1,\"\")","v":""}]
[null,null,null,{"$f":"IFERROR(INDEX(Brief!$AO$29:$AO$63,MATCH(C2188,Brief!#REF!,0))*1,\"\")","v":""}]
[null,null,null,{"$f":"IFERROR(INDEX(Brief!$AO$29:$AO$63,MATCH(C2189,Brief!#REF!,0))*1,\"\")","v":""}]
[null,null,null,{"$f":"IFERROR(INDEX(Brief!$AO$29:$AO$63,MATCH(C2190,Brief!#REF!,0))*1,\"\")","v":""}]
[null,null,null,{"$f":"IFERROR(INDEX(Brief!$AO$29:$AO$63,MATCH(C2191,Brief!#REF!,0))*1,\"\")","v":""}]
[null,null,null,{"$f":"IFERROR(INDEX(Brief!$AO$29:$AO$63,MATCH(C2192,Brief!#REF!,0))*1,\"\")","v":""}]
[null,null,null,{"$f":"IFERROR(INDEX(Brief!$AO$29:$AO$63,MATCH(C2193,Brief!#REF!,0))*1,\"\")","v":""}]
[null,null,null,{"$f":"IFERROR(INDEX(Brief!$AO$29:$AO$63,MATCH(C2194,Brief!#REF!,0))*1,\"\")","v":""}]
[null,null,null,{"$f":"IFERROR(INDEX(Brief!$AO$29:$AO$63,MATCH(C2195,Brief!#REF!,0))*1,\"\")","v":""}]
[null,null,null,{"$f":"IFERROR(INDEX(Brief!$AO$29:$AO$63,MATCH(C2196,Brief!#REF!,0))*1,\"\")","v":""}]
[null,null,null,{"$f":"IFERROR(INDEX(Brief!$AO$29:$AO$63,MATCH(C2197,Brief!#REF!,0))*1,\"\")","v":""}]
[null,null,null,{"$f":"IFERROR(INDEX(Brief!$AO$29:$AO$63,MATCH(C2198,Brief!#REF!,0))*1,\"\")","v":""}]
[null,null,null,{"$f":"IFERROR(INDEX(Brief!$AO$29:$AO$63,MATCH(C2199,Brief!#REF!,0))*1,\"\")","v":""}]
[null,null,null,{"$f":"IFERROR(INDEX(Brief!$AO$29:$AO$63,MATCH(C2200,Brief!#REF!,0))*1,\"\")","v":""}]
[null,null,null,{"$f":"IFERROR(INDEX(Brief!$AO$29:$AO$63,MATCH(C2201,Brief!#REF!,0))*1,\"\")","v":""}]
[null,null,null,{"$f":"IFERROR(INDEX(Brief!$AO$29:$AO$63,MATCH(C2202,Brief!#REF!,0))*1,\"\")","v":""}]
[null,null,null,{"$f":"IFERROR(INDEX(Brief!$AO$29:$AO$63,MATCH(C2203,Brief!#REF!,0))*1,\"\")","v":""}]
[null,null,null,{"$f":"IFERROR(INDEX(Brief!$AO$29:$AO$63,MATCH(C2204,Brief!#REF!,0))*1,\"\")","v":""}]
[null,null,null,{"$f":"IFERROR(INDEX(Brief!$AO$29:$AO$63,MATCH(C2205,Brief!#REF!,0))*1,\"\")","v":""}]
[null,null,null,{"$f":"IFERROR(INDEX(Brief!$AO$29:$AO$63,MATCH(C2206,Brief!#REF!,0))*1,\"\")","v":""}]
[null,null,null,{"$f":"IFERROR(INDEX(Brief!$AO$29:$AO$63,MATCH(C2207,Brief!#REF!,0))*1,\"\")","v":""}]
[null,null,null,{"$f":"IFERROR(INDEX(Brief!$AO$29:$AO$63,MATCH(C2208,Brief!#REF!,0))*1,\"\")","v":""}]
[null,null,null,{"$f":"IFERROR(INDEX(Brief!$AO$29:$AO$63,MATCH(C2209,Brief!#REF!,0))*1,\"\")","v":""}]
[null,null,null,{"$f":"IFERROR(INDEX(Brief!$AO$29:$AO$63,MATCH(C2210,Brief!#REF!,0))*1,\"\")","v":""}]
[null,null,null,{"$f":"IFERROR(INDEX(Brief!$AO$29:$AO$63,MATCH(C2211,Brief!#REF!,0))*1,\"\")","v":""}]
[null,null,null,{"$f":"IFERROR(INDEX(Brief!$AO$29:$AO$63,MATCH(C2212,Brief!#REF!,0))*1,\"\")","v":""}]
[null,null,null,{"$f":"IFERROR(INDEX(Brief!$AO$29:$AO$63,MATCH(C2213,Brief!#REF!,0))*1,\"\")","v":""}]
[null,null,null,{"$f":"IFERROR(INDEX(Brief!$AO$29:$AO$63,MATCH(C2214,Brief!#REF!,0))*1,\"\")","v":""}]
[null,null,null,{"$f":"IFERROR(INDEX(Brief!$AO$29:$AO$63,MATCH(C2215,Brief!#REF!,0))*1,\"\")","v":""}]
[null,null,null,{"$f":"IFERROR(INDEX(Brief!$AO$29:$AO$63,MATCH(C2216,Brief!#REF!,0))*1,\"\")","v":""}]
[null,null,null,{"$f":"IFERROR(INDEX(Brief!$AO$29:$AO$63,MATCH(C2217,Brief!#REF!,0))*1,\"\")","v":""}]
[null,null,null,{"$f":"IFERROR(INDEX(Brief!$AO$29:$AO$63,MATCH(C2218,Brief!#REF!,0))*1,\"\")","v":""}]
[null,null,null,{"$f":"IFERROR(INDEX(Brief!$AO$29:$AO$63,MATCH(C2219,Brief!#REF!,0))*1,\"\")","v":""}]
[null,null,null,{"$f":"IFERROR(INDEX(Brief!$AO$29:$AO$63,MATCH(C2220,Brief!#REF!,0))*1,\"\")","v":""}]
[null,null,null,{"$f":"IFERROR(INDEX(Brief!$AO$29:$AO$63,MATCH(C2221,Brief!#REF!,0))*1,\"\")","v":""}]
[null,null,null,{"$f":"IFERROR(INDEX(Brief!$AO$29:$AO$63,MATCH(C2222,Brief!#REF!,0))*1,\"\")","v":""}]
[null,null,null,{"$f":"IFERROR(INDEX(Brief!$AO$29:$AO$63,MATCH(C2223,Brief!#REF!,0))*1,\"\")","v":""}]
[null,null,null,{"$f":"IFERROR(INDEX(Brief!$AO$29:$AO$63,MATCH(C2224,Brief!#REF!,0))*1,\"\")","v":""}]
[null,null,null,{"$f":"IFERROR(INDEX(Brief!$AO$29:$AO$63,MATCH(C2225,Brief!#REF!,0))*1,\"\")","v":""}]
[null,null,null,{"$f":"IFERROR(INDEX(Brief!$AO$29:$AO$63,MATCH(C2226,Brief!#REF!,0))*1,\"\")","v":""}]
[null,null,null,{"$f":"IFERROR(INDEX(Brief!$AO$29:$AO$63,MATCH(C2227,Brief!#REF!,0))*1,\"\")","v":""}]
[null,null,null,{"$f":"IFERROR(INDEX(Brief!$AO$29:$AO$63,MATCH(C2228,Brief!#REF!,0))*1,\"\")","v":""}]
[null,null,null,{"$f":"IFERROR(INDEX(Brief!$AO$29:$AO$63,MATCH(C2229,Brief!#REF!,0))*1,\"\")","v":""}]
[null,null,null,{"$f":"IFERROR(INDEX(Brief!$AO$29:$AO$63,MATCH(C2230,Brief!#REF!,0))*1,\"\")","v":""}]
[null,null,null,{"$f":"IFERROR(INDEX(Brief!$AO$29:$AO$63,MATCH(C2231,Brief!#REF!,0))*1,\"\")","v":""}]
[null,null,null,{"$f":"IFERROR(INDEX(Brief!$AO$29:$AO$63,MATCH(C2232,Brief!#REF!,0))*1,\"\")","v":""}]
[null,null,null,{"$f":"IFERROR(INDEX(Brief!$AO$29:$AO$63,MATCH(C2233,Brief!#REF!,0))*1,\"\")","v":""}]
[null,null,null,{"$f":"IFERROR(INDEX(Brief!$AO$29:$AO$63,MATCH(C2234,Brief!#REF!,0))*1,\"\")","v":""}]
[null,null,null,{"$f":"IFERROR(INDEX(Brief!$AO$29:$AO$63,MATCH(C2235,Brief!#REF!,0))*1,\"\")","v":""}]
[null,null,null,{"$f":"IFERROR(INDEX(Brief!$AO$29:$AO$63,MATCH(C2236,Brief!#REF!,0))*1,\"\")","v":""}]
[null,null,null,{"$f":"IFERROR(INDEX(Brief!$AO$29:$AO$63,MATCH(C2237,Brief!#REF!,0))*1,\"\")","v":""}]
[null,null,null,{"$f":"IFERROR(INDEX(Brief!$AO$29:$AO$63,MATCH(C2238,Brief!#REF!,0))*1,\"\")","v":""}]
[null,null,null,{"$f":"IFERROR(INDEX(Brief!$AO$29:$AO$63,MATCH(C2239,Brief!#REF!,0))*1,\"\")","v":""}]
[null,null,null,{"$f":"IFERROR(INDEX(Brief!$AO$29:$AO$63,MATCH(C2240,Brief!#REF!,0))*1,\"\")","v":""}]
[null,null,null,{"$f":"IFERROR(INDEX(Brief!$AO$29:$AO$63,MATCH(C2241,Brief!#REF!,0))*1,\"\")","v":""}]
[null,null,null,{"$f":"IFERROR(INDEX(Brief!$AO$29:$AO$63,MATCH(C2242,Brief!#REF!,0))*1,\"\")","v":""}]
[null,null,null,{"$f":"IFERROR(INDEX(Brief!$AO$29:$AO$63,MATCH(C2243,Brief!#REF!,0))*1,\"\")","v":""}]
[null,null,null,{"$f":"IFERROR(INDEX(Brief!$AO$29:$AO$63,MATCH(C2244,Brief!#REF!,0))*1,\"\")","v":""}]
[null,null,null,{"$f":"IFERROR(INDEX(Brief!$AO$29:$AO$63,MATCH(C2245,Brief!#REF!,0))*1,\"\")","v":""}]
[null,null,null,{"$f":"IFERROR(INDEX(Brief!$AO$29:$AO$63,MATCH(C2246,Brief!#REF!,0))*1,\"\")","v":""}]
[null,null,null,{"$f":"IFERROR(INDEX(Brief!$AO$29:$AO$63,MATCH(C2247,Brief!#REF!,0))*1,\"\")","v":""}]
[null,null,null,{"$f":"IFERROR(INDEX(Brief!$AO$29:$AO$63,MATCH(C2248,Brief!#REF!,0))*1,\"\")","v":""}]
[null,null,null,{"$f":"IFERROR(INDEX(Brief!$AO$29:$AO$63,MATCH(C2249,Brief!#REF!,0))*1,\"\")","v":""}]
[null,null,null,{"$f":"IFERROR(INDEX(Brief!$AO$29:$AO$63,MATCH(C2250,Brief!#REF!,0))*1,\"\")","v":""}]
[null,null,null,{"$f":"IFERROR(INDEX(Brief!$AO$29:$AO$63,MATCH(C2251,Brief!#REF!,0))*1,\"\")","v":""}]
[null,null,null,{"$f":"IFERROR(INDEX(Brief!$AO$29:$AO$63,MATCH(C2252,Brief!#REF!,0))*1,\"\")","v":""}]
[null,null,null,{"$f":"IFERROR(INDEX(Brief!$AO$29:$AO$63,MATCH(C2253,Brief!#REF!,0))*1,\"\")","v":""}]
[null,null,null,{"$f":"IFERROR(INDEX(Brief!$AO$29:$AO$63,MATCH(C2254,Brief!#REF!,0))*1,\"\")","v":""}]
[null,null,null,{"$f":"IFERROR(INDEX(Brief!$AO$29:$AO$63,MATCH(C2255,Brief!#REF!,0))*1,\"\")","v":""}]
[null,null,null,{"$f":"IFERROR(INDEX(Brief!$AO$29:$AO$63,MATCH(C2256,Brief!#REF!,0))*1,\"\")","v":""}]
[null,null,null,{"$f":"IFERROR(INDEX(Brief!$AO$29:$AO$63,MATCH(C2257,Brief!#REF!,0))*1,\"\")","v":""}]
[null,null,null,{"$f":"IFERROR(INDEX(Brief!$AO$29:$AO$63,MATCH(C2258,Brief!#REF!,0))*1,\"\")","v":""}]
[null,null,null,{"$f":"IFERROR(INDEX(Brief!$AO$29:$AO$63,MATCH(C2259,Brief!#REF!,0))*1,\"\")","v":""}]
[null,null,null,{"$f":"IFERROR(INDEX(Brief!$AO$29:$AO$63,MATCH(C2260,Brief!#REF!,0))*1,\"\")","v":""}]
[null,null,null,{"$f":"IFERROR(INDEX(Brief!$AO$29:$AO$63,MATCH(C2261,Brief!#REF!,0))*1,\"\")","v":""}]
[null,null,null,{"$f":"IFERROR(INDEX(Brief!$AO$29:$AO$63,MATCH(C2262,Brief!#REF!,0))*1,\"\")","v":""}]
[null,null,null,{"$f":"IFERROR(INDEX(Brief!$AO$29:$AO$63,MATCH(C2263,Brief!#REF!,0))*1,\"\")","v":""}]
[null,null,null,{"$f":"IFERROR(INDEX(Brief!$AO$29:$AO$63,MATCH(C2264,Brief!#REF!,0))*1,\"\")","v":""}]
[null,null,null,{"$f":"IFERROR(INDEX(Brief!$AO$29:$AO$63,MATCH(C2265,Brief!#REF!,0))*1,\"\")","v":""}]
[null,null,null,{"$f":"IFERROR(INDEX(Brief!$AO$29:$AO$63,MATCH(C2266,Brief!#REF!,0))*1,\"\")","v":""}]
[null,null,null,{"$f":"IFERROR(INDEX(Brief!$AO$29:$AO$63,MATCH(C2267,Brief!#REF!,0))*1,\"\")","v":""}]
[null,null,null,{"$f":"IFERROR(INDEX(Brief!$AO$29:$AO$63,MATCH(C2268,Brief!#REF!,0))*1,\"\")","v":""}]
[null,null,null,{"$f":"IFERROR(INDEX(Brief!$AO$29:$AO$63,MATCH(C2269,Brief!#REF!,0))*1,\"\")","v":""}]
[null,null,null,{"$f":"IFERROR(INDEX(Brief!$AO$29:$AO$63,MATCH(C2270,Brief!#REF!,0))*1,\"\")","v":""}]
[null,null,null,{"$f":"IFERROR(INDEX(Brief!$AO$29:$AO$63,MATCH(C2271,Brief!#REF!,0))*1,\"\")","v":""}]
[null,null,null,{"$f":"IFERROR(INDEX(Brief!$AO$29:$AO$63,MATCH(C2272,Brief!#REF!,0))*1,\"\")","v":""}]
[null,null,null,{"$f":"IFERROR(INDEX(Brief!$AO$29:$AO$63,MATCH(C2273,Brief!#REF!,0))*1,\"\")","v":""}]
[null,null,null,{"$f":"IFERROR(INDEX(Brief!$AO$29:$AO$63,MATCH(C2274,Brief!#REF!,0))*1,\"\")","v":""}]
[null,null,null,{"$f":"IFERROR(INDEX(Brief!$AO$29:$AO$63,MATCH(C2275,Brief!#REF!,0))*1,\"\")","v":""}]
[null,null,null,{"$f":"IFERROR(INDEX(Brief!$AO$29:$AO$63,MATCH(C2276,Brief!#REF!,0))*1,\"\")","v":""}]
[null,null,null,{"$f":"IFERROR(INDEX(Brief!$AO$29:$AO$63,MATCH(C2277,Brief!#REF!,0))*1,\"\")","v":""}]
[null,null,null,{"$f":"IFERROR(INDEX(Brief!$AO$29:$AO$63,MATCH(C2278,Brief!#REF!,0))*1,\"\")","v":""}]
[null,null,null,{"$f":"IFERROR(INDEX(Brief!$AO$29:$AO$63,MATCH(C2279,Brief!#REF!,0))*1,\"\")","v":""}]
[null,null,null,{"$f":"IFERROR(INDEX(Brief!$AO$29:$AO$63,MATCH(C2280,Brief!#REF!,0))*1,\"\")","v":""}]
[null,null,null,{"$f":"IFERROR(INDEX(Brief!$AO$29:$AO$63,MATCH(C2281,Brief!#REF!,0))*1,\"\")","v":""}]
[null,null,null,{"$f":"IFERROR(INDEX(Brief!$AO$29:$AO$63,MATCH(C2282,Brief!#REF!,0))*1,\"\")","v":""}]
[null,null,null,{"$f":"IFERROR(INDEX(Brief!$AO$29:$AO$63,MATCH(C2283,Brief!#REF!,0))*1,\"\")","v":""}]
[null,null,null,{"$f":"IFERROR(INDEX(Brief!$AO$29:$AO$63,MATCH(C2284,Brief!#REF!,0))*1,\"\")","v":""}]
[null,null,null,{"$f":"IFERROR(INDEX(Brief!$AO$29:$AO$63,MATCH(C2285,Brief!#REF!,0))*1,\"\")","v":""}]
[null,null,null,{"$f":"IFERROR(INDEX(Brief!$AO$29:$AO$63,MATCH(C2286,Brief!#REF!,0))*1,\"\")","v":""}]
[null,null,null,{"$f":"IFERROR(INDEX(Brief!$AO$29:$AO$63,MATCH(C2287,Brief!#REF!,0))*1,\"\")","v":""}]
[null,null,null,{"$f":"IFERROR(INDEX(Brief!$AO$29:$AO$63,MATCH(C2288,Brief!#REF!,0))*1,\"\")","v":""}]
[null,null,null,{"$f":"IFERROR(INDEX(Brief!$AO$29:$AO$63,MATCH(C2289,Brief!#REF!,0))*1,\"\")","v":""}]
[null,null,null,{"$f":"IFERROR(INDEX(Brief!$AO$29:$AO$63,MATCH(C2290,Brief!#REF!,0))*1,\"\")","v":""}]
[null,null,null,{"$f":"IFERROR(INDEX(Brief!$AO$29:$AO$63,MATCH(C2291,Brief!#REF!,0))*1,\"\")","v":""}]
[null,null,null,{"$f":"IFERROR(INDEX(Brief!$AO$29:$AO$63,MATCH(C2292,Brief!#REF!,0))*1,\"\")","v":""}]
[null,null,null,{"$f":"IFERROR(INDEX(Brief!$AO$29:$AO$63,MATCH(C2293,Brief!#REF!,0))*1,\"\")","v":""}]
[null,null,null,{"$f":"IFERROR(INDEX(Brief!$AO$29:$AO$63,MATCH(C2294,Brief!#REF!,0))*1,\"\")","v":""}]
[null,null,null,{"$f":"IFERROR(INDEX(Brief!$AO$29:$AO$63,MATCH(C2295,Brief!#REF!,0))*1,\"\")","v":""}]
[null,null,null,{"$f":"IFERROR(INDEX(Brief!$AO$29:$AO$63,MATCH(C2296,Brief!#REF!,0))*1,\"\")","v":""}]
[null,null,null,{"$f":"IFERROR(INDEX(Brief!$AO$29:$AO$63,MATCH(C2297,Brief!#REF!,0))*1,\"\")","v":""}]
[null,null,null,{"$f":"IFERROR(INDEX(Brief!$AO$29:$AO$63,MATCH(C2298,Brief!#REF!,0))*1,\"\")","v":""}]
[null,null,null,{"$f":"IFERROR(INDEX(Brief!$AO$29:$AO$63,MATCH(C2299,Brief!#REF!,0))*1,\"\")","v":""}]
[null,null,null,{"$f":"IFERROR(INDEX(Brief!$AO$29:$AO$63,MATCH(C2300,Brief!#REF!,0))*1,\"\")","v":""}]
[null,null,null,{"$f":"IFERROR(INDEX(Brief!$AO$29:$AO$63,MATCH(C2301,Brief!#REF!,0))*1,\"\")","v":""}]
[null,null,null,{"$f":"IFERROR(INDEX(Brief!$AO$29:$AO$63,MATCH(C2302,Brief!#REF!,0))*1,\"\")","v":""}]
[null,null,null,{"$f":"IFERROR(INDEX(Brief!$AO$29:$AO$63,MATCH(C2303,Brief!#REF!,0))*1,\"\")","v":""}]
[null,null,null,{"$f":"IFERROR(INDEX(Brief!$AO$29:$AO$63,MATCH(C2304,Brief!#REF!,0))*1,\"\")","v":""}]
[null,null,null,{"$f":"IFERROR(INDEX(Brief!$AO$29:$AO$63,MATCH(C2305,Brief!#REF!,0))*1,\"\")","v":""}]
[null,null,null,{"$f":"IFERROR(INDEX(Brief!$AO$29:$AO$63,MATCH(C2306,Brief!#REF!,0))*1,\"\")","v":""}]
[null,null,null,{"$f":"IFERROR(INDEX(Brief!$AO$29:$AO$63,MATCH(C2307,Brief!#REF!,0))*1,\"\")","v":""}]
[null,null,null,{"$f":"IFERROR(INDEX(Brief!$AO$29:$AO$63,MATCH(C2308,Brief!#REF!,0))*1,\"\")","v":""}]
[null,null,null,{"$f":"IFERROR(INDEX(Brief!$AO$29:$AO$63,MATCH(C2309,Brief!#REF!,0))*1,\"\")","v":""}]
[null,null,null,{"$f":"IFERROR(INDEX(Brief!$AO$29:$AO$63,MATCH(C2310,Brief!#REF!,0))*1,\"\")","v":""}]
[null,null,null,{"$f":"IFERROR(INDEX(Brief!$AO$29:$AO$63,MATCH(C2311,Brief!#REF!,0))*1,\"\")","v":""}]
[null,null,null,{"$f":"IFERROR(INDEX(Brief!$AO$29:$AO$63,MATCH(C2312,Brief!#REF!,0))*1,\"\")","v":""}]
[null,null,null,{"$f":"IFERROR(INDEX(Brief!$AO$29:$AO$63,MATCH(C2313,Brief!#REF!,0))*1,\"\")","v":""}]
[null,null,null,{"$f":"IFERROR(INDEX(Brief!$AO$29:$AO$63,MATCH(C2314,Brief!#REF!,0))*1,\"\")","v":""}]
[null,null,null,{"$f":"IFERROR(INDEX(Brief!$AO$29:$AO$63,MATCH(C2315,Brief!#REF!,0))*1,\"\")","v":""}]
[null,null,null,{"$f":"IFERROR(INDEX(Brief!$AO$29:$AO$63,MATCH(C2316,Brief!#REF!,0))*1,\"\")","v":""}]
[null,null,null,{"$f":"IFERROR(INDEX(Brief!$AO$29:$AO$63,MATCH(C2317,Brief!#REF!,0))*1,\"\")","v":""}]
[null,null,null,{"$f":"IFERROR(INDEX(Brief!$AO$29:$AO$63,MATCH(C2318,Brief!#REF!,0))*1,\"\")","v":""}]
[null,null,null,{"$f":"IFERROR(INDEX(Brief!$AO$29:$AO$63,MATCH(C2319,Brief!#REF!,0))*1,\"\")","v":""}]
[null,null,null,{"$f":"IFERROR(INDEX(Brief!$AO$29:$AO$63,MATCH(C2320,Brief!#REF!,0))*1,\"\")","v":""}]
[null,null,null,{"$f":"IFERROR(INDEX(Brief!$AO$29:$AO$63,MATCH(C2321,Brief!#REF!,0))*1,\"\")","v":""}]
[null,null,null,{"$f":"IFERROR(INDEX(Brief!$AO$29:$AO$63,MATCH(C2322,Brief!#REF!,0))*1,\"\")","v":""}]
[null,null,null,{"$f":"IFERROR(INDEX(Brief!$AO$29:$AO$63,MATCH(C2323,Brief!#REF!,0))*1,\"\")","v":""}]
[null,null,null,{"$f":"IFERROR(INDEX(Brief!$AO$29:$AO$63,MATCH(C2324,Brief!#REF!,0))*1,\"\")","v":""}]
[null,null,null,{"$f":"IFERROR(INDEX(Brief!$AO$29:$AO$63,MATCH(C2325,Brief!#REF!,0))*1,\"\")","v":""}]
[null,null,null,{"$f":"IFERROR(INDEX(Brief!$AO$29:$AO$63,MATCH(C2326,Brief!#REF!,0))*1,\"\")","v":""}]
[null,null,null,{"$f":"IFERROR(INDEX(Brief!$AO$29:$AO$63,MATCH(C2327,Brief!#REF!,0))*1,\"\")","v":""}]
[null,null,null,{"$f":"IFERROR(INDEX(Brief!$AO$29:$AO$63,MATCH(C2328,Brief!#REF!,0))*1,\"\")","v":""}]
[null,null,null,{"$f":"IFERROR(INDEX(Brief!$AO$29:$AO$63,MATCH(C2329,Brief!#REF!,0))*1,\"\")","v":""}]
[null,null,null,{"$f":"IFERROR(INDEX(Brief!$AO$29:$AO$63,MATCH(C2330,Brief!#REF!,0))*1,\"\")","v":""}]
[null,null,null,{"$f":"IFERROR(INDEX(Brief!$AO$29:$AO$63,MATCH(C2331,Brief!#REF!,0))*1,\"\")","v":""}]
[null,null,null,{"$f":"IFERROR(INDEX(Brief!$AO$29:$AO$63,MATCH(C2332,Brief!#REF!,0))*1,\"\")","v":""}]
[null,null,null,{"$f":"IFERROR(INDEX(Brief!$AO$29:$AO$63,MATCH(C2333,Brief!#REF!,0))*1,\"\")","v":""}]
[null,null,null,{"$f":"IFERROR(INDEX(Brief!$AO$29:$AO$63,MATCH(C2334,Brief!#REF!,0))*1,\"\")","v":""}]
[null,null,null,{"$f":"IFERROR(INDEX(Brief!$AO$29:$AO$63,MATCH(C2335,Brief!#REF!,0))*1,\"\")","v":""}]
[null,null,null,{"$f":"IFERROR(INDEX(Brief!$AO$29:$AO$63,MATCH(C2336,Brief!#REF!,0))*1,\"\")","v":""}]
[null,null,null,{"$f":"IFERROR(INDEX(Brief!$AO$29:$AO$63,MATCH(C2337,Brief!#REF!,0))*1,\"\")","v":""}]
[null,null,null,{"$f":"IFERROR(INDEX(Brief!$AO$29:$AO$63,MATCH(C2338,Brief!#REF!,0))*1,\"\")","v":""}]

{"sheet":"Kalendarz","index":14,"n_rows":324,"n_cols":3,"rows_kept":324,"cut":false,"hidden":true,"merged":[]}
["2006-01-01","Nowy Rok","N"]
["2006-04-16","Wielkanoc","N"]
["2006-04-17","Poniedziałek Wielkanocny","Pn"]
["2006-05-01","Święto Pracy","Pn"]
["2006-05-02","Dzień Flagi Rzeczypospolitej Polskiej","Wt"]
["2006-05-03","Święto Narodowe Trzeciego Maja","Śr"]
["2006-06-15","Boże Ciało","Cz"]
["2006-08-15","Wniebowzięcie N.M. Panny","Wt"]
["2006-11-01","Wszystkich Świętych","Śr"]
["2006-11-11","Narodowe Święto Niepodległości","So"]
["2006-12-25","pierwszy dzień Świąt Bożego Narodzenia","Pn"]
["2006-12-26","drugi dzień Świąt Bożego Narodzenia","Wt"]
["2007-01-01","Nowy Rok","Pn"]
["2007-04-08","Wielkanoc","N"]
["2007-04-09","Poniedziałek Wielkanocny","Pn"]
["2007-05-01","Święto Pracy","Wt"]
["2007-05-02","Dzień Flagi Rzeczypospolitej Polskiej","Śr"]
["2007-05-03","Święto Narodowe Trzeciego Maja","Cz"]
["2007-06-07","Boże Ciało","Cz"]
["2007-08-15","Wniebowzięcie N.M. Panny","Śr"]
["2007-11-01","Wszystkich Świętych","Cz"]
["2007-11-11","Narodowe Święto Niepodległości","N"]
["2007-12-25","pierwszy dzień Świąt Bożego Narodzenia","Wt"]
["2007-12-26","drugi dzień Świąt Bożego Narodzenia","Śr"]
["2008-01-01","Nowy Rok","Wt"]
["2008-03-23","Wielkanoc","N"]
["2008-03-24","Poniedziałek Wielkanocny","Pn"]
["2008-05-01","Święto Pracy","Cz"]
["2008-05-02","Dzień Flagi Rzeczypospolitej Polskiej","Pt"]
["2008-05-03","Święto Narodowe Trzeciego Maja","So"]
["2008-05-22","Boże Ciało","Cz"]
["2008-08-15","Wniebowzięcie N.M. Panny","Pt"]
["2008-11-01","Wszystkich Świętych","So"]
["2008-11-11","Narodowe Święto Niepodległości","Wt"]
["2008-12-25","pierwszy dzień Świąt Bożego Narodzenia","Cz"]
["2008-12-26","drugi dzień Świąt Bożego Narodzenia","Pt"]
["2009-01-01","Nowy Rok","Cz"]
["2009-01-01","Nowy Rok","Cz"]
["2009-04-12","Wielkanoc","N"]
["2009-04-12","Wielkanoc","N"]
["2009-04-13","Poniedziałek Wielkanocny","Pn"]
["2009-04-13","Poniedziałek Wielkanocny","Pn"]
["2009-05-01","Święto Pracy","Pt"]
["2009-05-01","Święto Pracy","Pt"]
["2009-05-02","Dzień Flagi Rzeczypospolitej Polskiej","So"]
["2009-05-02","Dzień Flagi Rzeczypospolitej Polskiej","So"]
["2009-05-03","Święto Narodowe Trzeciego Maja","N"]
["2009-05-03","Święto Narodowe Trzeciego Maja","N"]
["2009-06-11","Boże Ciało","Cz"]
["2009-06-11","Boże Ciało","Cz"]
["2009-08-15","Wniebowzięcie N.M. Panny","So"]
["2009-08-15","Wniebowzięcie N.M. Panny","So"]
["2009-11-01","Wszystkich Świętych","N"]
["2009-11-01","Wszystkich Świętych","N"]
["2009-11-11","Narodowe Święto Niepodległości","Śr"]
["2009-11-11","Narodowe Święto Niepodległości","Śr"]
["2009-12-25","pierwszy dzień Świąt Bożego Narodzenia","Pt"]
["2009-12-25","pierwszy dzień Świąt Bożego Narodzenia","Pt"]
["2009-12-26","drugi dzień Świąt Bożego Narodzenia","So"]
["2009-12-26","drugi dzień Świąt Bożego Narodzenia","So"]
["2010-01-01","Nowy Rok","Pt"]
["2010-01-01","Nowy Rok","Pt"]
["2010-04-04","Wielkanoc","N"]
["2010-04-04","Wielkanoc","N"]
["2010-04-05","Poniedziałek Wielkanocny","Pn"]
["2010-04-05","Poniedziałek Wielkanocny","Pn"]
["2010-05-01","Święto Pracy","So"]
["2010-05-01","Święto Pracy","So"]
["2010-05-02","Dzień Flagi Rzeczypospolitej Polskiej","N"]
["2010-05-02","Dzień Flagi Rzeczypospolitej Polskiej","N"]
["2010-05-03","Święto Narodowe Trzeciego Maja","Pn"]
["2010-05-03","Święto Narodowe Trzeciego Maja","Pn"]
["2010-06-03","Boże Ciało","Cz"]
["2010-06-03","Boże Ciało","Cz"]
["2010-08-15","Wniebowzięcie N.M. Panny","N"]
["2010-08-15","Wniebowzięcie N.M. Panny","N"]
["2010-11-01","Wszystkich Świętych","Pn"]
["2010-11-01","Wszystkich Świętych","Pn"]
["2010-11-11","Narodowe Święto Niepodległości","Cz"]
["2010-11-11","Narodowe Święto Niepodległości","Cz"]
["2010-12-25","pierwszy dzień Świąt Bożego Narodzenia","So"]
["2010-12-25","pierwszy dzień Świąt Bożego Narodzenia","So"]
["2010-12-26","drugi dzień Świąt Bożego Narodzenia","N"]
["2010-12-26","drugi dzień Świąt Bożego Narodzenia","N"]
["2011-01-01","Nowy Rok","So"]
["2011-01-01","Nowy Rok","So"]
["2011-04-24","Wielkanoc","N"]
["2011-04-24","Wielkanoc","N"]
["2011-04-25","Poniedziałek Wielkanocny","Pn"]
["2011-04-25","Poniedziałek Wielkanocny","Pn"]
["2011-05-01","Święto Pracy","N"]
["2011-05-01","Święto Pracy","N"]
["2011-05-02","Dzień Flagi Rzeczypospolitej Polskiej","Pn"]
["2011-05-02","Dzień Flagi Rzeczypospolitej Polskiej","Pn"]
["2011-05-03","Święto Narodowe Trzeciego Maja","Wt"]
["2011-05-03","Święto Narodowe Trzeciego Maja","Wt"]
["2011-06-23","Boże Ciało","Cz"]
["2011-06-23","Boże Ciało","Cz"]
["2011-08-15","Wniebowzięcie N.M. Panny","Pn"]
["2011-08-15","Wniebowzięcie N.M. Panny","Pn"]
["2011-11-01","Wszystkich Świętych","Wt"]
["2011-11-01","Wszystkich Świętych","Wt"]
["2011-11-11","Narodowe Święto Niepodległości","Pt"]
["2011-11-11","Narodowe Święto Niepodległości","Pt"]
["2011-12-25","pierwszy dzień Świąt Bożego Narodzenia","N"]
["2011-12-25","pierwszy dzień Świąt Bożego Narodzenia","N"]
["2011-12-26","drugi dzień Świąt Bożego Narodzenia","Pn"]
["2011-12-26","drugi dzień Świąt Bożego Narodzenia","Pn"]
["2012-01-01","Nowy Rok","N"]
["2012-01-01","Nowy Rok","N"]
["2012-04-08","Wielkanoc","N"]
["2012-04-08","Wielkanoc","N"]
["2012-04-09","Poniedziałek Wielkanocny","Pn"]
["2012-04-09","Poniedziałek Wielkanocny","Pn"]
["2012-05-01","Święto Pracy","Wt"]
["2012-05-01","Święto Pracy","Wt"]
["2012-05-02","Dzień Flagi Rzeczypospolitej Polskiej","Śr"]
["2012-05-02","Dzień Flagi Rzeczypospolitej Polskiej","Śr"]
["2012-05-03","Święto Narodowe Trzeciego Maja","Cz"]
["2012-05-03","Święto Narodowe Trzeciego Maja","Cz"]
["2012-06-07","Boże Ciało","Cz"]
["2012-06-07","Boże Ciało","Cz"]
["2012-08-15","Wniebowzięcie N.M. Panny","Śr"]
["2012-08-15","Wniebowzięcie N.M. Panny","Śr"]
["2012-11-01","Wszystkich Świętych","Cz"]
["2012-11-01","Wszystkich Świętych","Cz"]
["2012-11-11","Narodowe Święto Niepodległości","N"]
["2012-11-11","Narodowe Święto Niepodległości","N"]
["2012-12-25","pierwszy dzień Świąt Bożego Narodzenia","Wt"]
["2012-12-25","pierwszy dzień Świąt Bożego Narodzenia","Wt"]
["2012-12-26","drugi dzień Świąt Bożego Narodzenia","Śr"]
["2012-12-26","drugi dzień Świąt Bożego Narodzenia","Śr"]
["2013-01-01","Nowy Rok","Wt"]
["2013-03-31","Wielkanoc","N"]
["2013-04-01","Poniedziałek Wielkanocny","Pn"]
["2013-05-01","Święto Pracy","Śr"]
["2013-05-02","Dzień Flagi Rzeczypospolitej Polskiej","Cz"]
["2013-05-03","Święto Narodowe Trzeciego Maja","Pt"]
["2013-05-30","Boże Ciało","Cz"]
["2013-08-15","Wniebowzięcie N.M. Panny","Cz"]
["2013-11-01","Wszystkich Świętych","Pt"]
["2013-11-11","Narodowe Święto Niepodległości","Pn"]
["2013-12-25","pierwszy dzień Świąt Bożego Narodzenia","Śr"]
["2013-12-26","drugi dzień Świąt Bożego Narodzenia","Cz"]
["2014-01-01","Nowy Rok","Śr"]
["2014-04-20","Wielkanoc","N"]
["2014-04-21","Poniedziałek Wielkanocny","Pn"]
["2014-05-01","Święto Pracy","Cz"]
["2014-05-02","Dzień Flagi Rzeczypospolitej Polskiej","Pt"]
["2014-05-03","Święto Narodowe Trzeciego Maja","So"]
["2014-06-19","Boże Ciało","Cz"]
["2014-08-15","Wniebowzięcie N.M. Panny","Pt"]
["2014-11-01","Wszystkich Świętych","So"]
["2014-11-11","Narodowe Święto Niepodległości","Wt"]
["2014-12-25","pierwszy dzień Świąt Bożego Narodzenia","Cz"]
["2014-12-26","drugi dzień Świąt Bożego Narodzenia","Pt"]
["2015-01-01","Nowy Rok","Cz"]
["2015-04-05","Wielkanoc","N"]
["2015-04-06","Poniedziałek Wielkanocny","Pn"]
["2015-05-01","Święto Pracy","Pt"]
["2015-05-02","Dzień Flagi Rzeczypospolitej Polskiej","So"]
["2015-05-03","Święto Narodowe Trzeciego Maja","N"]
["2015-06-04","Boże Ciało","Cz"]
["2015-08-15","Wniebowzięcie N.M. Panny","So"]
["2015-11-01","Wszystkich Świętych","N"]
["2015-11-11","Narodowe Święto Niepodległości","Śr"]
["2015-12-25","pierwszy dzień Świąt Bożego Narodzenia","Pt"]
["2015-12-26","drugi dzień Świąt Bożego Narodzenia","So"]
["2016-01-01","Nowy Rok","Pt"]
["2016-03-27","Wielkanoc","N"]
["2016-03-28","Poniedziałek Wielkanocny","Pn"]
["2016-05-01","Święto Pracy","N"]
["2016-05-02","Dzień Flagi Rzeczypospolitej Polskiej","Pn"]
["2016-05-03","Święto Narodowe Trzeciego Maja","Wt"]
["2016-05-26","Boże Ciało","Cz"]
["2016-08-15","Wniebowzięcie N.M. Panny","Pn"]
["2016-11-01","Wszystkich Świętych","Wt"]
["2016-11-11","Narodowe Święto Niepodległości","Pt"]
["2016-12-25","pierwszy dzień Świąt Bożego Narodzenia","N"]
["2016-12-26","drugi dzień Świąt Bożego Narodzenia","Pn"]
["2017-01-01","Nowy Rok","N"]
["2017-04-16","Wielkanoc","N"]
["2017-04-17","Poniedziałek Wielkanocny","Pn"]
["2017-05-01","Święto Pracy","Pn"]
["2017-05-02","Dzień Flagi Rzeczypospolitej Polskiej","Wt"]
["2017-05-03","Święto Narodowe Trzeciego Maja","Śr"]
["2017-06-15","Boże Ciało","Cz"]
["2017-08-15","Wniebowzięcie N.M. Panny","Wt"]
["2017-11-01","Wszystkich Świętych","Śr"]
["2017-11-11","Narodowe Święto Niepodległości","So"]
["2017-12-25","pierwszy dzień Świąt Bożego Narodzenia","Pn"]
["2017-12-26","drugi dzień Świąt Bożego Narodzenia","Wt"]
["2018-01-01","Nowy Rok","Pn"]
["2018-04-01","Wielkanoc","N"]
["2018-04-02","Poniedziałek Wielkanocny","Pn"]
["2018-05-01","Święto Pracy","Wt"]
["2018-05-02","Dzień Flagi Rzeczypospolitej Polskiej","Śr"]
["2018-05-03","Święto Narodowe Trzeciego Maja","Cz"]
["2018-05-31","Boże Ciało","Cz"]
["2018-08-15","Wniebowzięcie N.M. Panny","Śr"]
["2018-11-01","Wszystkich Świętych","Cz"]
["2018-11-11","Narodowe Święto Niepodległości","N"]
["2018-12-25","pierwszy dzień Świąt Bożego Narodzenia","Wt"]
["2018-12-26","drugi dzień Świąt Bożego Narodzenia","Śr"]
["2019-01-01","Nowy Rok","Wt"]
["2019-04-21","Wielkanoc","N"]
["2019-04-22","Poniedziałek Wielkanocny","Pn"]
["2019-05-01","Święto Pracy","Śr"]
["2019-05-02","Dzień Flagi Rzeczypospolitej Polskiej","Cz"]
["2019-05-03","Święto Narodowe Trzeciego Maja","Pt"]
["2019-06-20","Boże Ciało","Cz"]
["2019-08-15","Wniebowzięcie N.M. Panny","Cz"]
["2019-11-01","Wszystkich Świętych","Pt"]
["2019-11-11","Narodowe Święto Niepodległości","Pn"]
["2019-12-25","pierwszy dzień Świąt Bożego Narodzenia","Śr"]
["2019-12-26","drugi dzień Świąt Bożego Narodzenia","Cz"]
["2020-01-01","Nowy Rok","Śr"]
["2020-04-12","Wielkanoc","N"]
["2020-04-13","Poniedziałek Wielkanocny","Pn"]
["2020-05-01","Święto Pracy","Pt"]
["2020-05-02","Dzień Flagi Rzeczypospolitej Polskiej","So"]
["2020-05-03","Święto Narodowe Trzeciego Maja","N"]
["2020-06-11","Boże Ciało","Cz"]
["2020-08-15","Wniebowzięcie N.M. Panny","So"]
["2020-11-01","Wszystkich Świętych","N"]
["2020-11-11","Narodowe Święto Niepodległości","Śr"]
["2020-12-25","pierwszy dzień Świąt Bożego Narodzenia","Pt"]
["2020-12-26","drugi dzień Świąt Bożego Narodzenia","So"]
["2021-01-01","Nowy Rok","Pt"]
["2021-05-01","Święto Pracy","So"]
["2021-05-02","Dzień Flagi Rzeczypospolitej Polskiej","N"]
["2021-05-03","Święto Narodowe Trzeciego Maja","Pn"]
["2021-08-15","Wniebowzięcie N.M. Panny","N"]
["2021-11-01","Wszystkich Świętych","Pn"]
["2021-11-11","Narodowe Święto Niepodległości","Cz"]
["2021-12-25","pierwszy dzień Świąt Bożego Narodzenia","So"]
["2021-12-26","drugi dzień Świąt Bożego Narodzenia","N"]
["2022-01-01","Nowy Rok","So"]
["2022-05-01","Święto Pracy","N"]
["2022-05-02","Dzień Flagi Rzeczypospolitej Polskiej","Pn"]
["2022-05-03","Święto Narodowe Trzeciego Maja","Wt"]
["2022-08-15","Wniebowzięcie N.M. Panny","Pn"]
["2022-11-01","Wszystkich Świętych","Wt"]
["2022-11-11","Narodowe Święto Niepodległości","Pt"]
["2022-12-25","pierwszy dzień Świąt Bożego Narodzenia","N"]
["2022-12-26","drugi dzień Świąt Bożego Narodzenia","Pn"]
["2023-01-01","Nowy Rok","N"]
["2023-05-01","Święto Pracy","Pn"]
["2023-05-02","Dzień Flagi Rzeczypospolitej Polskiej","Wt"]
["2023-05-03","Święto Narodowe Trzeciego Maja","Śr"]
["2023-08-15","Wniebowzięcie N.M. Panny","Wt"]
["2023-11-01","Wszystkich Świętych","Śr"]
["2023-11-11","Narodowe Święto Niepodległości","So"]
["2023-12-25","pierwszy dzień Świąt Bożego Narodzenia","Pn"]
["2023-12-26","drugi dzień Świąt Bożego Narodzenia","Wt"]
["2024-01-01","Nowy Rok","Pn"]
["2024-05-01","Święto Pracy","Śr"]
["2024-05-02","Dzień Flagi Rzeczypospolitej Polskiej","Cz"]
["2024-05-03","Święto Narodowe Trzeciego Maja","Pt"]
["2024-08-15","Wniebowzięcie N.M. Panny","Cz"]
["2024-11-01","Wszystkich Świętych","Pt"]
["2024-11-11","Narodowe Święto Niepodległości","Pn"]
["2024-12-25","pierwszy dzień Świąt Bożego Narodzenia","Śr"]
["2024-12-26","drugi dzień Świąt Bożego Narodzenia","Cz"]
["2025-01-01","Nowy Rok","Śr"]
["2025-05-01","Święto Pracy","Cz"]
["2025-05-02","Dzień Flagi Rzeczypospolitej Polskiej","Pt"]
["2025-05-03","Święto Narodowe Trzeciego Maja","So"]
["2025-08-15","Wniebowzięcie N.M. Panny","Pt"]
["2025-11-01","Wszystkich Świętych","So"]
["2025-11-11","Narodowe Święto Niepodległości","Wt"]
["2025-12-25","pierwszy dzień Świąt Bożego Narodzenia","Cz"]
["2025-12-26","drugi dzień Świąt Bożego Narodzenia","Pt"]
["2026-01-01","Nowy Rok","Cz"]
["2026-05-01","Święto Pracy","Pt"]
["2026-05-02","Dzień Flagi Rzeczypospolitej Polskiej","So"]
["2026-05-03","Święto Narodowe Trzeciego Maja","N"]
["2026-08-15","Wniebowzięcie N.M. Panny","So"]
["2026-11-01","Wszystkich Świętych","N"]
["2026-11-11","Narodowe Święto Niepodległości","Śr"]
["2026-12-25","pierwszy dzień Świąt Bożego Narodzenia","Pt"]
["2026-12-26","drugi dzień Świąt Bożego Narodzenia","So"]
["2027-01-01","Nowy Rok","Pt"]
["2027-05-01","Święto Pracy","So"]
["2027-05-02","Dzień Flagi Rzeczypospolitej Polskiej","N"]
["2027-05-03","Święto Narodowe Trzeciego Maja","Pn"]
["2027-08-15","Wniebowzięcie N.M. Panny","N"]
["2027-11-01","Wszystkich Świętych","Pn"]
["2027-11-11","Narodowe Święto Niepodległości","Cz"]
["2027-12-25","pierwszy dzień Świąt Bożego Narodzenia","So"]
["2027-12-26","drugi dzień Świąt Bożego Narodzenia","N"]
["2028-01-01","Nowy Rok","So"]
["2028-05-01","Święto Pracy","Pn"]
["2028-05-02","Dzień Flagi Rzeczypospolitej Polskiej","Wt"]
["2028-05-03","Święto Narodowe Trzeciego Maja","Śr"]
["2028-08-15","Wniebowzięcie N.M. Panny","Wt"]
["2028-11-01","Wszystkich Świętych","Śr"]
["2028-11-11","Narodowe Święto Niepodległości","So"]
["2028-12-25","pierwszy dzień Świąt Bożego Narodzenia","Pn"]
["2028-12-26","drugi dzień Świąt Bożego Narodzenia","Wt"]
["2015-12-24","Wigilia","Wt"]
["2016-12-24","Wigilia","Wt"]
["2017-12-24","Wigilia","Wt"]
["2018-12-24","Wigilia","Wt"]
["2019-12-24","Wigilia","Wt"]
["2020-12-24","Wigilia","Wt"]
["2021-12-24","Wigilia","Wt"]
["2022-12-24","Wigilia","Wt"]
["2023-12-24","Wigilia","Wt"]
["2024-12-24","Wigilia","Wt"]
["2025-12-24","Wigilia","Wt"]
["2026-12-24","Wigilia","Wt"]
["2015-12-31","Sylwester","Wt"]
["2016-12-31","Sylwester","Wt"]
["2017-12-31","Sylwester","Wt"]
["2018-12-31","Sylwester","Wt"]
["2019-12-31","Sylwester","Wt"]
["2020-12-31","Sylwester","Wt"]
["2021-12-31","Sylwester","Wt"]
["2022-12-31","Sylwester","Wt"]
["2023-12-31","Sylwester","Wt"]
["2024-12-31","Sylwester","Wt"]
["2025-12-31","Sylwester","Wt"]
["2026-12-31","Sylwester","Wt"]